Workbook

Sheet 区別の表彰候補者一覧表
B2: 令和８年度 美化運動功労者及び資源集団回収活動功労団体表彰受賞者数
C4: 美化運動功労者表彰受賞者（環境局） | O4: 美化運動功労者表彰受賞者（建設局 道路・河川） | AA4: 美化運動功労者表彰受賞者（建設局 公園） | AM4: 資源集団回収活動功労団体表彰 （環境局） | AQ4: 最終合計
B5: 区名 | C5: 個人 | F5: 団体 | I5: 団体の長・役員 | L5: 合計 | O5: 個人 | R5: 団体 | U5: 団体の長・役員 | X5: 合計 | AA5: 個人 | AD5: 団体 | AG5: 団体の長 | AJ5: 合計 | AM5: 団体 | AO5: 合計 | AP5: 区名 | AQ5: 合計
A6: センター順 | C6: 市長 | D6: 区長 | E6: 計 | F6: 市長 | G6: 区長 | H6: 計 | I6: 市長 | J6: 区長 | K6: 計 | L6: 市長 | M6: 区長 | N6: 計 | O6: 市長 | P6: 区長 | Q6: 計 | R6: 市長 | S6: 区長 | T6: 計 | U6: 市長 | V6: 区長 | W6: 計 | X6: 市長 | Y6: 区長 | Z6: 計 | AA6: 市長 | AB6: 区長 | AC6: 計 | AD6: 市長 | AE6: 区長 | AF6: 計 | AG6: 市長 | AH6: 区長 | AI6: 計 | AJ6: 市長 | AK6: 区長 | AL6: 計 | AM6: 市長 | AN6: 区長 | AO6: 計 | AQ6: 市長 | AR6: 区長 | AS6: 計
A7: 1 | B7: 北区 | C7: 0 | D7: 5 | E7: =SUM($C$7:$D$7) -> 5 | F7: 1 | G7: 3 | H7: =SUM($F$7:$G$7) -> 4 | I7: 0 | J7: 0 | K7: =SUM($I$7:$J$7) -> 0 | L7: =$C$7+$F$7+$I$7 -> 1 | M7: =$D$7+$G$7+$J$7 -> 8 | N7: =SUM($L$7:$M$7) -> 9 | O7: =[1]表彰候補とりまとめ表からのコピー!$Q$218 -> 0 | P7: =[1]表彰候補とりまとめ表からのコピー!$R$218 -> 0 | Q7: =SUM(O7:P7) -> 0 | R7: =[1]表彰候補とりまとめ表からのコピー!$S$218 -> 0 | S7: =[1]表彰候補とりまとめ表からのコピー!$T$218 -> 1 | T7: =SUM(R7:S7) -> 1 | U7: =[1]表彰候補とりまとめ表からのコピー!$W$219 -> 0 | V7: =[1]表彰候補とりまとめ表からのコピー!$X$219 -> 0 | W7: =SUM(U7:V7) -> 0 | X7: =O7+R7+U7 -> 0 | Y7: =P7+S7+V7 -> 1 | Z7: =SUM(X7:Y7) -> 1 | AA7: 0 | AB7: 2 | AC7: 2 | AD7: 0 | AE7: 1 | AF7: 1 | AG7: 1 | AH7: 1 | AI7: 2 | AJ7: 1 | AK7: 4 | AL7: 5 | AM7: 1 | AN7: 8 | AO7: =SUM(AM7:AN7) -> 9 | AP7: 北区 | AQ7: =L7+X7+AJ7+AM7 -> 3 | AR7: =+M7+Y7+AK7+AN7 -> 21 | AS7: =+N7+Z7+AL7+AO7 -> 24
A8: 2 | B8: 都島区 | C8: 0 | D8: 0 | E8: =SUM($C$8:$D$8) -> 0 | F8: 0 | G8: 0 | H8: =SUM($F$8:$G$8) -> 0 | I8: 0 | J8: 0 | K8: =SUM($I$8:$J$8) -> 0 | L8: =$C$8+$F$8+$I$8 -> 0 | M8: =$D$8+$G$8+$J$8 -> 0 | N8: =SUM($L$8:$M$8) -> 0 | O8: =[1]表彰候補とりまとめ表からのコピー!$Y$218 -> 0 | P8: =[1]表彰候補とりまとめ表からのコピー!$Z$218 -> 0 | Q8: =SUM(O8:P8) -> 0 | R8: =[1]表彰候補とりまとめ表からのコピー!$AA$218 -> 0 | S8: =[1]表彰候補とりまとめ表からのコピー!$AB$218 -> 0 | T8: =SUM(R8:S8) -> 0 | U8: =[1]表彰候補とりまとめ表からのコピー!$AE$219 -> 0 | V8: =[1]表彰候補とりまとめ表からのコピー!$AF$219 -> 1 | W8: =SUM(U8:V8) -> 1 | X8: =O8+R8+U8 -> 0 | Y8: =P8+S8+V8 -> 1 | Z8: =SUM(X8:Y8) -> 1 | AA8: 0 | AB8: 5 | AC8: 5 | AD8: 0 | AE8: 0 | AF8: 0 | AG8: 1 | AH8: 2 | AI8: 3 | AJ8: 1 | AK8: 7 | AL8: 8 | AM8: 2 | AN8: 2 | AO8: =SUM(AM8:AN8) -> 4 | AP8: 都島区 | AQ8: =L8+X8+AJ8+AM8 -> 3 | AR8: =+M8+Y8+AK8+AN8 -> 10 | AS8: =+N8+Z8+AL8+AO8 -> 13
A9: 8 | B9: 福島区 | C9: 0 | D9: 1 | E9: =SUM($C$9:$D$9) -> 1 | F9: 0 | G9: 1 | H9: =SUM($F$9:$G$9) -> 1 | I9: 0 | J9: 0 | K9: =SUM($I$9:$J$9) -> 0 | L9: =$C$9+$F$9+$I$9 -> 0 | M9: =$D$9+$G$9+$J$9 -> 2 | N9: =SUM($L$9:$M$9) -> 2 | O9: =[1]表彰候補とりまとめ表からのコピー!$AG$218 -> 0 | P9: =[1]表彰候補とりまとめ表からのコピー!$AH$218 -> 0 | Q9: =SUM(O9:P9) -> 0 | R9: =[1]表彰候補とりまとめ表からのコピー!$AI$218 -> 1 | S9: =[1]表彰候補とりまとめ表からのコピー!$AJ$218 -> 0 | T9: =SUM(R9:S9) -> 1 | U9: =[1]表彰候補とりまとめ表からのコピー!$AM$219 -> 0 | V9: =[1]表彰候補とりまとめ表からのコピー!$AN$219 -> 0 | W9: =SUM(U9:V9) -> 0 | X9: =O9+R9+U9 -> 1 | Y9: =P9+S9+V9 -> 0 | Z9: =SUM(X9:Y9) -> 1 | AA9: 2 | AB9: 8 | AC9: 10 | AD9: 0 | AE9: 0 | AF9: 0 | AG9: 0 | AH9: 0 | AI9: 0 | AJ9: 2 | AK9: 8 | AL9: 10 | AM9: 1 | AN9: 3 | AO9: =SUM(AM9:AN9) -> 4 | AP9: 福島区 | AQ9: =L9+X9+AJ9+AM9 -> 4 | AR9: =+M9+Y9+AK9+AN9 -> 13 | AS9: =+N9+Z9+AL9+AO9 -> 17
A10: 9 | B10: 此花区 | C10: 0 | D10: 2 | E10: =SUM($C$10:$D$10) -> 2 | F10: 1 | G10: 0 | H10: =SUM($F$10:$G$10) -> 1 | I10: 0 | J10: 0 | K10: =SUM($I$10:$J$10) -> 0 | L10: =$C$10+$F$10+$I$10 -> 1 | M10: =$D$10+$G$10+$J$10 -> 2 | N10: =SUM($L$10:$M$10) -> 3 | O10: =[1]表彰候補とりまとめ表からのコピー!$AO$218 -> 0 | P10: =[1]表彰候補とりまとめ表からのコピー!$AP$218 -> 0 | Q10: =SUM(O10:P10) -> 0 | R10: =[1]表彰候補とりまとめ表からのコピー!$AQ$218 -> 0 | S10: =[1]表彰候補とりまとめ表からのコピー!$AR$218 -> 0 | T10: =SUM(R10:S10) -> 0 | U10: =[1]表彰候補とりまとめ表からのコピー!$AU$219 -> 0 | V10: =[1]表彰候補とりまとめ表からのコピー!$AV$219 -> 0 | W10: =SUM(U10:V10) -> 0 | X10: =O10+R10+U10 -> 0 | Y10: =P10+S10+V10 -> 0 | Z10: =SUM(X10:Y10) -> 0 | AA10: 5 | AB10: 3 | AC10: 8 | AD10: 8 | AE10: 0 | AF10: 8 | AG10: 1 | AH10: 1 | AI10: 2 | AJ10: 14 | AK10: 4 | AL10: 18 | AM10: 1 | AN10: 2 | AO10: =SUM(AM10:AN10) -> 3 | AP10: 此花区 | AQ10: =L10+X10+AJ10+AM10 -> 16 | AR10: =+M10+Y10+AK10+AN10 -> 8 | AS10: =+N10+Z10+AL10+AO10 -> 24
A11: 13 | B11: 中央区 | C11: 1 | D11: 0 | E11: =SUM($C$11:$D$11) -> 1 | F11: 2 | G11: 0 | H11: =SUM($F$11:$G$11) -> 2 | I11: 0 | J11: 0 | K11: =SUM($I$11:$J$11) -> 0 | L11: =$C$11+$F$11+$I$11 -> 3 | M11: =$D$11+$G$11+$J$11 -> 0 | N11: =SUM($L$11:$M$11) -> 3 | O11: =[1]表彰候補とりまとめ表からのコピー!$AW$218 -> 0 | P11: =[1]表彰候補とりまとめ表からのコピー!$AX$218 -> 0 | Q11: =SUM(O11:P11) -> 0 | R11: =[1]表彰候補とりまとめ表からのコピー!$AY$218 -> 0 | S11: =[1]表彰候補とりまとめ表からのコピー!$AZ$218 -> 0 | T11: =SUM(R11:S11) -> 0 | U11: =[1]表彰候補とりまとめ表からのコピー!$BC$219 -> 0 | V11: =[1]表彰候補とりまとめ表からのコピー!$BD$219 -> 0 | W11: =SUM(U11:V11) -> 0 | X11: =O11+R11+U11 -> 0 | Y11: =P11+S11+V11 -> 0 | Z11: =SUM(X11:Y11) -> 0 | AA11: 0 | AB11: 1 | AC11: 1 | AD11: 0 | AE11: 0 | AF11: 0 | AG11: 1 | AH11: 1 | AI11: 2 | AJ11: 1 | AK11: 2 | AL11: 3 | AM11: 0 | AN11: 6 | AO11: =SUM(AM11:AN11) -> 6 | AP11: 中央区 | AQ11: =L11+X11+AJ11+AM11 -> 4 | AR11: =+M11+Y11+AK11+AN11 -> 8 | AS11: =+N11+Z11+AL11+AO11 -> 12
A12: 15 | B12: 西区 | C12: 0 | D12: 1 | E12: =SUM($C$12:$D$12) -> 1 | F12: 1 | G12: 0 | H12: =SUM($F$12:$G$12) -> 1 | I12: 0 | J12: 0 | K12: =SUM($I$12:$J$12) -> 0 | L12: =$C$12+$F$12+$I$12 -> 1 | M12: =$D$12+$G$12+$J$12 -> 1 | N12: =SUM($L$12:$M$12) -> 2 | O12: =[1]表彰候補とりまとめ表からのコピー!$BE$218 -> 0 | P12: =[1]表彰候補とりまとめ表からのコピー!$BF$218 -> 0 | Q12: =SUM(O12:P12) -> 0 | R12: =[1]表彰候補とりまとめ表からのコピー!$BG$218 -> 0 | S12: =[1]表彰候補とりまとめ表からのコピー!$BH$218 -> 1 | T12: =SUM(R12:S12) -> 1 | U12: =[1]表彰候補とりまとめ表からのコピー!$BK$219 -> 0 | V12: =[1]表彰候補とりまとめ表からのコピー!$BL$219 -> 0 | W12: =SUM(U12:V12) -> 0 | X12: =O12+R12+U12 -> 0 | Y12: =P12+S12+V12 -> 1 | Z12: =SUM(X12:Y12) -> 1 | AA12: 10 | AB12: 0 | AC12: 10 | AD12: 1 | AE12: 0 | AF12: 1 | AG12: 2 | AH12: 0 | AI12: 2 | AJ12: 13 | AK12: 0 | AL12: 13 | AM12: 1 | AN12: 6 | AO12: =SUM(AM12:AN12) -> 7 | AP12: 西区 | AQ12: =L12+X12+AJ12+AM12 -> 15 | AR12: =+M12+Y12+AK12+AN12 -> 8 | AS12: =+N12+Z12+AL12+AO12 -> 23
A13: 16 | B13: 港区 | C13: 0 | D13: 1 | E13: =SUM($C$13:$D$13) -> 1 | F13: 0 | G13: 0 | H13: =SUM($F$13:$G$13) -> 0 | I13: 0 | J13: 0 | K13: =SUM($I$13:$J$13) -> 0 | L13: =$C$13+$F$13+$I$13 -> 0 | M13: =$D$13+$G$13+$J$13 -> 1 | N13: =SUM($L$13:$M$13) -> 1 | O13: =[1]表彰候補とりまとめ表からのコピー!$BM$218 -> 0 | P13: =[1]表彰候補とりまとめ表からのコピー!$BN$218 -> 0 | Q13: =SUM(O13:P13) -> 0 | R13: =[1]表彰候補とりまとめ表からのコピー!$BO$218 -> 0 | S13: =[1]表彰候補とりまとめ表からのコピー!$BP$218 -> 0 | T13: =SUM(R13:S13) -> 0 | U13: =[1]表彰候補とりまとめ表からのコピー!$BS$219 -> 0 | V13: =[1]表彰候補とりまとめ表からのコピー!$BT$219 -> 0 | W13: =SUM(U13:V13) -> 0 | X13: =O13+R13+U13 -> 0 | Y13: =P13+S13+V13 -> 0 | Z13: =SUM(X13:Y13) -> 0 | AA13: 1 | AB13: 2 | AC13: 3 | AD13: 0 | AE13: 0 | AF13: 0 | AG13: 1 | AH13: 1 | AI13: 2 | AJ13: 2 | AK13: 3 | AL13: 5 | AM13: 1 | AN13: 2 | AO13: =SUM(AM13:AN13) -> 3 | AP13: 港区 | AQ13: =L13+X13+AJ13+AM13 -> 3 | AR13: =+M13+Y13+AK13+AN13 -> 6 | AS13: =+N13+Z13+AL13+AO13 -> 9
A14: 17 | B14: 大正区 | C14: 1 | D14: 0 | E14: =SUM($C$14:$D$14) -> 1 | F14: 0 | G14: 0 | H14: =SUM($F$14:$G$14) -> 0 | I14: 0 | J14: 0 | K14: =SUM($I$14:$J$14) -> 0 | L14: =$C$14+$F$14+$I$14 -> 1 | M14: =$D$14+$G$14+$J$14 -> 0 | N14: =SUM($L$14:$M$14) -> 1 | O14: =[1]表彰候補とりまとめ表からのコピー!$BU$218 -> 0 | P14: =[1]表彰候補とりまとめ表からのコピー!$BV$218 -> 0 | Q14: =SUM(O14:P14) -> 0 | R14: =[1]表彰候補とりまとめ表からのコピー!$BW$218 -> 0 | S14: =[1]表彰候補とりまとめ表からのコピー!$BX$218 -> 0 | T14: =SUM(R14:S14) -> 0 | U14: =[1]表彰候補とりまとめ表からのコピー!$CA$219 -> 0 | V14: =[1]表彰候補とりまとめ表からのコピー!$CB$219 -> 0 | W14: =SUM(U14:V14) -> 0 | X14: =O14+R14+U14 -> 0 | Y14: =P14+S14+V14 -> 0 | Z14: =SUM(X14:Y14) -> 0 | AA14: 0 | AB14: 0 | AC14: 0 | AD14: 0 | AE14: 0 | AF14: 0 | AG14: 0 | AH14: 0 | AI14: 0 | AJ14: 0 | AK14: 0 | AL14: 0 | AM14: 0 | AN14: 2 | AO14: =SUM(AM14:AN14) -> 2 | AP14: 大正区 | AQ14: =L14+X14+AJ14+AM14 -> 1 | AR14: =+M14+Y14+AK14+AN14 -> 2 | AS14: =+N14+Z14+AL14+AO14 -> 3
A15: 11 | B15: 天王寺区 | C15: 2 | D15: 1 | E15: =SUM($C$15:$D$15) -> 3 | F15: 0 | G15: 0 | H15: =SUM($F$15:$G$15) -> 0 | I15: 0 | J15: 1 | K15: =SUM($I$15:$J$15) -> 1 | L15: =$C$15+$F$15+$I$15 -> 2 | M15: =$D$15+$G$15+$J$15 -> 2 | N15: =SUM($L$15:$M$15) -> 4 | O15: =[1]表彰候補とりまとめ表からのコピー!$CC$218 -> 0 | P15: =[1]表彰候補とりまとめ表からのコピー!$CD$218 -> 0 | Q15: =SUM(O15:P15) -> 0 | R15: =[1]表彰候補とりまとめ表からのコピー!$CE$218 -> 0 | S15: =[1]表彰候補とりまとめ表からのコピー!$CF$218 -> 0 | T15: =SUM(R15:S15) -> 0 | U15: =[1]表彰候補とりまとめ表からのコピー!$CI$219 -> 0 | V15: =[1]表彰候補とりまとめ表からのコピー!$CJ$219 -> 0 | W15: =SUM(U15:V15) -> 0 | X15: =O15+R15+U15 -> 0 | Y15: =P15+S15+V15 -> 0 | Z15: =SUM(X15:Y15) -> 0 | AA15: 5 | AB15: 0 | AC15: 5 | AD15: 0 | AE15: 0 | AF15: 0 | AG15: 1 | AH15: 0 | AI15: 1 | AJ15: 6 | AK15: 0 | AL15: 6 | AM15: 0 | AN15: 5 | AO15: =SUM(AM15:AN15) -> 5 | AP15: 天王寺区 | AQ15: =L15+X15+AJ15+AM15 -> 8 | AR15: =+M15+Y15+AK15+AN15 -> 7 | AS15: =+N15+Z15+AL15+AO15 -> 15
A16: 14 | B16: 浪速区 | C16: 5 | D16: 2 | E16: =SUM($C$16:$D$16) -> 7 | F16: 0 | G16: 0 | H16: =SUM($F$16:$G$16) -> 0 | I16: 0 | J16: 0 | K16: =SUM($I$16:$J$16) -> 0 | L16: =$C$16+$F$16+$I$16 -> 5 | M16: =$D$16+$G$16+$J$16 -> 2 | N16: =SUM($L$16:$M$16) -> 7 | O16: =[1]表彰候補とりまとめ表からのコピー!$CK$218 -> 0 | P16: =[1]表彰候補とりまとめ表からのコピー!$CL$218 -> 0 | Q16: =SUM(O16:P16) -> 0 | R16: =[1]表彰候補とりまとめ表からのコピー!$CM$218 -> 0 | S16: =[1]表彰候補とりまとめ表からのコピー!$CN$218 -> 0 | T16: =SUM(R16:S16) -> 0 | U16: =[1]表彰候補とりまとめ表からのコピー!$CQ$219 -> 0 | V16: =[1]表彰候補とりまとめ表からのコピー!$CR$219 -> 0 | W16: =SUM(U16:V16) -> 0 | X16: =O16+R16+U16 -> 0 | Y16: =P16+S16+V16 -> 0 | Z16: =SUM(X16:Y16) -> 0 | AA16: 2 | AB16: 0 | AC16: 2 | AD16: 0 | AE16: 0 | AF16: 0 | AG16: 0 | AH16: 0 | AI16: 0 | AJ16: 2 | AK16: 0 | AL16: 2 | AM16: 0 | AN16: 1 | AO16: =SUM(AM16:AN16) -> 1 | AP16: 浪速区 | AQ16: =L16+X16+AJ16+AM16 -> 7 | AR16: =+M16+Y16+AK16+AN16 -> 3 | AS16: =+N16+Z16+AL16+AO16 -> 10
A17: 10 | B17: 西淀川区 | C17: 0 | D17: 4 | E17: =SUM($C$17:$D$17) -> 4 | F17: 2 | G17: 1 | H17: =SUM($F$17:$G$17) -> 3 | I17: 0 | J17: 0 | K17: =SUM($I$17:$J$17) -> 0 | L17: =$C$17+$F$17+$I$17 -> 2 | M17: =$D$17+$G$17+$J$17 -> 5 | N17: =$L$17+$M$17 -> 7 | O17: =[1]表彰候補とりまとめ表からのコピー!$CS$218 -> 0 | P17: =[1]表彰候補とりまとめ表からのコピー!$CT$218 -> 0 | Q17: =SUM(O17:P17) -> 0 | R17: =[1]表彰候補とりまとめ表からのコピー!$CU$218 -> 0 | S17: =[1]表彰候補とりまとめ表からのコピー!$CV$218 -> 0 | T17: =SUM(R17:S17) -> 0 | U17: =[1]表彰候補とりまとめ表からのコピー!$CY$219 -> 0 | V17: =[1]表彰候補とりまとめ表からのコピー!$CZ$219 -> 0 | W17: =SUM(U17:V17) -> 0 | X17: =O17+R17+U17 -> 0 | Y17: =P17+S17+V17 -> 0 | Z17: =SUM(X17:Y17) -> 0 | AA17: 1 | AB17: 0 | AC17: 1 | AD17: 1 | AE17: 0 | AF17: 1 | AG17: 3 | AH17: 0 | AI17: 3 | AJ17: 5 | AK17: 0 | AL17: 5 | AM17: 1 | AN17: 3 | AO17: =SUM(AM17:AN17) -> 4 | AP17: 西淀川区 | AQ17: =L17+X17+AJ17+AM17 -> 8 | AR17: =+M17+Y17+AK17+AN17 -> 8 | AS17: =+N17+Z17+AL17+AO17 -> 16
A18: 3 | B18: 淀川区 | C18: 1 | D18: 0 | E18: =SUM($C$18:$D$18) -> 1 | F18: 0 | G18: 0 | H18: =SUM($F$18:$G$18) -> 0 | I18: 0 | J18: 0 | K18: =SUM($I$18:$J$18) -> 0 | L18: =$C$18+$F$18+$I$18 -> 1 | M18: =$D$18+$G$18+$J$18 -> 0 | N18: =$L$18+$M$18 -> 1 | O18: =[1]表彰候補とりまとめ表からのコピー!$DA$218 -> 0 | P18: =[1]表彰候補とりまとめ表からのコピー!$DB$218 -> 0 | Q18: =SUM(O18:P18) -> 0 | R18: =[1]表彰候補とりまとめ表からのコピー!$DC$218 -> 0 | S18: =[1]表彰候補とりまとめ表からのコピー!$DD$218 -> 0 | T18: =SUM(R18:S18) -> 0 | U18: =[1]表彰候補とりまとめ表からのコピー!$DG$219 -> 0 | V18: =[1]表彰候補とりまとめ表からのコピー!$DH$219 -> 0 | W18: =SUM(U18:V18) -> 0 | X18: =O18+R18+U18 -> 0 | Y18: =P18+S18+V18 -> 0 | Z18: =SUM(X18:Y18) -> 0 | AA18: 5 | AB18: 2 | AC18: 7 | AD18: 2 | AE18: 0 | AF18: 2 | AG18: 5 | AH18: 0 | AI18: 5 | AJ18: 12 | AK18: 2 | AL18: 14 | AM18: 1 | AN18: 6 | AO18: =SUM(AM18:AN18) -> 7 | AP18: 淀川区 | AQ18: =L18+X18+AJ18+AM18 -> 14 | AR18: =+M18+Y18+AK18+AN18 -> 8 | AS18: =+N18+Z18+AL18+AO18 -> 22
A19: 4 | B19: 東淀川区 | C19: 1 | D19: 0 | E19: =SUM($C$19:$D$19) -> 1 | F19: 0 | G19: 0 | H19: =SUM($F$19:$G$19) -> 0 | I19: 0 | J19: 0 | K19: =SUM($I$19:$J$19) -> 0 | L19: =$C$19+$F$19+$I$19 -> 1 | M19: =$D$19+$G$19+$J$19 -> 0 | N19: =$L$19+$M$19 -> 1 | O19: =[1]表彰候補とりまとめ表からのコピー!$DI$218 -> 0 | P19: =[1]表彰候補とりまとめ表からのコピー!$DJ$218 -> 0 | Q19: =SUM(O19:P19) -> 0 | R19: =[1]表彰候補とりまとめ表からのコピー!$DK$218 -> 0 | S19: =[1]表彰候補とりまとめ表からのコピー!$DL$218 -> 0 | T19: =SUM(R19:S19) -> 0 | U19: =[1]表彰候補とりまとめ表からのコピー!$DO$219 -> 1 | V19: =[1]表彰候補とりまとめ表からのコピー!$DP$219 -> 0 | W19: =SUM(U19:V19) -> 1 | X19: =O19+R19+U19 -> 1 | Y19: =P19+S19+V19 -> 0 | Z19: =SUM(X19:Y19) -> 1 | AA19: 11 | AB19: 17 | AC19: 28 | AD19: 0 | AE19: 1 | AF19: 1 | AG19: 1 | AH19: 4 | AI19: 5 | AJ19: 12 | AK19: 22 | AL19: 34 | AM19: 2 | AN19: 5 | AO19: =SUM(AM19:AN19) -> 7 | AP19: 東淀川区 | AQ19: =L19+X19+AJ19+AM19 -> 16 | AR19: =+M19+Y19+AK19+AN19 -> 27 | AS19: =+N19+Z19+AL19+AO19 -> 43
A20: 18 | B20: 東成区 | C20: 0 | D20: 0 | E20: =SUM($C$20:$D$20) -> 0 | F20: 0 | G20: 0 | H20: =SUM($F$20:$G$20) -> 0 | I20: 0 | J20: 0 | K20: =SUM($I$20:$J$20) -> 0 | L20: =$C$20+$F$20+$I$20 -> 0 | M20: =$D$20+$G$20+$J$20 -> 0 | N20: =$L$20+$M$20 -> 0 | O20: =[1]表彰候補とりまとめ表からのコピー!$DQ$218 -> 0 | P20: =[1]表彰候補とりまとめ表からのコピー!$DR$218 -> 0 | Q20: =SUM(O20:P20) -> 0 | R20: =[1]表彰候補とりまとめ表からのコピー!$DS$218 -> 0 | S20: =[1]表彰候補とりまとめ表からのコピー!$DT$218 -> 0 | T20: =SUM(R20:S20) -> 0 | U20: =[1]表彰候補とりまとめ表からのコピー!$DW$219 -> 0 | V20: =[1]表彰候補とりまとめ表からのコピー!$DX$219 -> 0 | W20: =SUM(U20:V20) -> 0 | X20: =O20+R20+U20 -> 0 | Y20: =P20+S20+V20 -> 0 | Z20: =SUM(X20:Y20) -> 0 | AA20: 1 | AB20: 0 | AC20: 1 | AD20: 0 | AE20: 0 | AF20: 0 | AG20: 0 | AH20: 2 | AI20: 2 | AJ20: 1 | AK20: 2 | AL20: 3 | AM20: 1 | AN20: 3 | AO20: =SUM(AM20:AN20) -> 4 | AP20: 東成区 | AQ20: =L20+X20+AJ20+AM20 -> 2 | AR20: =+M20+Y20+AK20+AN20 -> 5 | AS20: =+N20+Z20+AL20+AO20 -> 7
A21: 19 | B21: 生野区 | C21: 0 | D21: 0 | E21: =SUM($C$21:$D$21) -> 0 | F21: 0 | G21: 0 | H21: =SUM($F$21:$G$21) -> 0 | I21: 0 | J21: 0 | K21: =SUM($I$21:$J$21) -> 0 | L21: =$C$21+$F$21+$I$21 -> 0 | M21: =$D$21+$G$21+$J$21 -> 0 | N21: =$L$21+$M$21 -> 0 | O21: =[1]表彰候補とりまとめ表からのコピー!$DY$218 -> 0 | P21: =[1]表彰候補とりまとめ表からのコピー!$DZ$218 -> 0 | Q21: =SUM(O21:P21) -> 0 | R21: =[1]表彰候補とりまとめ表からのコピー!$EA$218 -> 0 | S21: =[1]表彰候補とりまとめ表からのコピー!$EB$218 -> 0 | T21: =SUM(R21:S21) -> 0 | U21: =[1]表彰候補とりまとめ表からのコピー!$EE$219 -> 0 | V21: =[1]表彰候補とりまとめ表からのコピー!$EF$219 -> 0 | W21: =SUM(U21:V21) -> 0 | X21: =O21+R21+U21 -> 0 | Y21: =P21+S21+V21 -> 0 | Z21: =SUM(X21:Y21) -> 0 | AA21: 5 | AB21: 4 | AC21: 9 | AD21: 0 | AE21: 0 | AF21: 0 | AG21: 4 | AH21: 2 | AI21: 6 | AJ21: 9 | AK21: 6 | AL21: 15 | AM21: 1 | AN21: 1 | AO21: =SUM(AM21:AN21) -> 2 | AP21: 生野区 | AQ21: =L21+X21+AJ21+AM21 -> 10 | AR21: =+M21+Y21+AK21+AN21 -> 7 | AS21: =+N21+Z21+AL21+AO21 -> 17
A22: 5 | B22: 旭区 | C22: 1 | D22: 1 | E22: =SUM($C$22:$D$22) -> 2 | F22: 0 | G22: 2 | H22: =SUM($F$22:$G$22) -> 2 | I22: 0 | J22: 0 | K22: =SUM($I$22:$J$22) -> 0 | L22: =$C$22+$F$22+$I$22 -> 1 | M22: =$D$22+$G$22+$J$22 -> 3 | N22: =$L$22+$M$22 -> 4 | O22: =[1]表彰候補とりまとめ表からのコピー!$EG$218 -> 0 | P22: =[1]表彰候補とりまとめ表からのコピー!$EH$218 -> 0 | Q22: =SUM(O22:P22) -> 0 | R22: =[1]表彰候補とりまとめ表からのコピー!$EI$218 -> 0 | S22: =[1]表彰候補とりまとめ表からのコピー!$EJ$218 -> 0 | T22: =SUM(R22:S22) -> 0 | U22: =[1]表彰候補とりまとめ表からのコピー!$EM$219 -> 6 | V22: =[1]表彰候補とりまとめ表からのコピー!$EN$219 -> 4 | W22: =SUM(U22:V22) -> 10 | X22: =O22+R22+U22 -> 6 | Y22: =P22+S22+V22 -> 4 | Z22: =SUM(X22:Y22) -> 10 | AA22: 0 | AB22: 0 | AC22: 0 | AD22: 0 | AE22: 0 | AF22: 0 | AG22: 1 | AH22: 0 | AI22: 1 | AJ22: 1 | AK22: 0 | AL22: 1 | AM22: 1 | AN22: 3 | AO22: =SUM(AM22:AN22) -> 4 | AP22: 旭区 | AQ22: =L22+X22+AJ22+AM22 -> 9 | AR22: =+M22+Y22+AK22+AN22 -> 10 | AS22: =+N22+Z22+AL22+AO22 -> 19
A23: 6 | B23: 城東区 | C23: 0 | D23: 0 | E23: =SUM($C$23:$D$23) -> 0 | F23: 0 | G23: 0 | H23: =SUM($F$23:$G$23) -> 0 | I23: 0 | J23: 0 | K23: =SUM($I$23:$J$23) -> 0 | L23: =$C$23+$F$23+$I$23 -> 0 | M23: =$D$23+$G$23+$J$23 -> 0 | N23: =$L$23+$M$23 -> 0 | O23: =[1]表彰候補とりまとめ表からのコピー!$EO$218 -> 0 | P23: =[1]表彰候補とりまとめ表からのコピー!$EP$218 -> 0 | Q23: =SUM(O23:P23) -> 0 | R23: =[1]表彰候補とりまとめ表からのコピー!$EQ$218 -> 0 | S23: =[1]表彰候補とりまとめ表からのコピー!$ER$218 -> 0 | T23: =SUM(R23:S23) -> 0 | U23: =[1]表彰候補とりまとめ表からのコピー!$EU$219 -> 1 | V23: =[1]表彰候補とりまとめ表からのコピー!$EV$219 -> 0 | W23: =SUM(U23:V23) -> 1 | X23: =O23+R23+U23 -> 1 | Y23: =P23+S23+V23 -> 0 | Z23: =SUM(X23:Y23) -> 1 | AA23: 0 | AB23: 0 | AC23: 0 | AD23: 0 | AE23: 1 | AF23: 1 | AG23: 0 | AH23: 1 | AI23: 1 | AJ23: 0 | AK23: 2 | AL23: 2 | AM23: 2 | AN23: 6 | AO23: =SUM(AM23:AN23) -> 8 | AP23: 城東区 | AQ23: =L23+X23+AJ23+AM23 -> 3 | AR23: =+M23+Y23+AK23+AN23 -> 8 | AS23: =+N23+Z23+AL23+AO23 -> 11
A24: 7 | B24: 鶴見区 | C24: 4 | D24: 2 | E24: =SUM($C$24:$D$24) -> 6 | F24: 1 | G24: 0 | H24: =SUM($F$24:$G$24) -> 1 | I24: 0 | J24: 1 | K24: =SUM($I$24:$J$24) -> 1 | L24: =$C$24+$F$24+$I$24 -> 5 | M24: =$D$24+$G$24+$J$24 -> 3 | N24: =$L$24+$M$24 -> 8 | O24: =[1]表彰候補とりまとめ表からのコピー!$EW$218 -> 0 | P24: =[1]表彰候補とりまとめ表からのコピー!$EX$218 -> 0 | Q24: =SUM(O24:P24) -> 0 | R24: =[1]表彰候補とりまとめ表からのコピー!$EY$218 -> 0 | S24: =[1]表彰候補とりまとめ表からのコピー!$EZ$218 -> 0 | T24: =SUM(R24:S24) -> 0 | U24: =[1]表彰候補とりまとめ表からのコピー!$FC$219 -> 0 | V24: =[1]表彰候補とりまとめ表からのコピー!$FD$219 -> 0 | W24: =SUM(U24:V24) -> 0 | X24: =O24+R24+U24 -> 0 | Y24: =P24+S24+V24 -> 0 | Z24: =SUM(X24:Y24) -> 0 | AA24: 3 | AB24: 0 | AC24: 3 | AD24: 0 | AE24: 1 | AF24: 1 | AG24: 2 | AH24: 1 | AI24: 3 | AJ24: 5 | AK24: 2 | AL24: 7 | AM24: 1 | AN24: 4 | AO24: =SUM(AM24:AN24) -> 5 | AP24: 鶴見区 | AQ24: =L24+X24+AJ24+AM24 -> 11 | AR24: =+M24+Y24+AK24+AN24 -> 9 | AS24: =+N24+Z24+AL24+AO24 -> 20
A25: 22 | B25: 阿倍野区 | C25: 1 | D25: 1 | E25: =SUM($C$25:$D$25) -> 2 | F25: 1 | G25: 0 | H25: =SUM($F$25:$G$25) -> 1 | I25: 0 | J25: 0 | K25: =SUM($I$25:$J$25) -> 0 | L25: =$C$25+$F$25+$I$25 -> 2 | M25: =$D$25+$G$25+$J$25 -> 1 | N25: =$L$25+$M$25 -> 3 | O25: =[1]表彰候補とりまとめ表からのコピー!$FE$218 -> 0 | P25: =[1]表彰候補とりまとめ表からのコピー!$FF$218 -> 0 | Q25: =SUM(O25:P25) -> 0 | R25: =[1]表彰候補とりまとめ表からのコピー!$FG$218 -> 0 | S25: =[1]表彰候補とりまとめ表からのコピー!$FH$218 -> 0 | T25: =SUM(R25:S25) -> 0 | U25: =[1]表彰候補とりまとめ表からのコピー!$FK$219 -> 0 | V25: =[1]表彰候補とりまとめ表からのコピー!$FL$219 -> 1 | W25: =SUM(U25:V25) -> 1 | X25: =O25+R25+U25 -> 0 | Y25: =P25+S25+V25 -> 1 | Z25: =SUM(X25:Y25) -> 1 | AA25: 2 | AB25: 0 | AC25: 2 | AD25: 0 | AE25: 0 | AF25: 0 | AG25: 0 | AH25: 1 | AI25: 1 | AJ25: 2 | AK25: 1 | AL25: 3 | AM25: 1 | AN25: 6 | AO25: =SUM(AM25:AN25) -> 7 | AP25: 阿倍野区 | AQ25: =L25+X25+AJ25+AM25 -> 5 | AR25: =+M25+Y25+AK25+AN25 -> 9 | AS25: =+N25+Z25+AL25+AO25 -> 14
A26: 20 | B26: 住之江区 | C26: 0 | D26: 0 | E26: =SUM($C$26:$D$26) -> 0 | F26: 0 | G26: 0 | H26: =SUM($F$26:$G$26) -> 0 | I26: 0 | J26: 0 | K26: =SUM($I$26:$J$26) -> 0 | L26: =$C$26+$F$26+$I$26 -> 0 | M26: =$D$26+$G$26+$J$26 -> 0 | N26: =$L$26+$M$26 -> 0 | O26: =[1]表彰候補とりまとめ表からのコピー!$FM$218 -> 0 | P26: =[1]表彰候補とりまとめ表からのコピー!$FN$218 -> 1 | Q26: =SUM(O26:P26) -> 1 | R26: =[1]表彰候補とりまとめ表からのコピー!$FO$218 -> 0 | S26: =[1]表彰候補とりまとめ表からのコピー!$FP$218 -> 1 | T26: =SUM(R26:S26) -> 1 | U26: =[1]表彰候補とりまとめ表からのコピー!$FS$219 -> 0 | V26: =[1]表彰候補とりまとめ表からのコピー!$FT$219 -> 2 | W26: =SUM(U26:V26) -> 2 | X26: =O26+R26+U26 -> 0 | Y26: =P26+S26+V26 -> 4 | Z26: =SUM(X26:Y26) -> 4 | AA26: 0 | AB26: 3 | AC26: 3 | AD26: 0 | AE26: 0 | AF26: 0 | AG26: 0 | AH26: 0 | AI26: 0 | AJ26: 0 | AK26: 3 | AL26: 3 | AM26: 1 | AN26: 2 | AO26: =SUM(AM26:AN26) -> 3 | AP26: 住之江区 | AQ26: =L26+X26+AJ26+AM26 -> 1 | AR26: =+M26+Y26+AK26+AN26 -> 9 | AS26: =+N26+Z26+AL26+AO26 -> 10
A27: 21 | B27: 住吉区 | C27: 1 | D27: 2 | E27: =SUM($C$27:$D$27) -> 3 | F27: 1 | G27: 0 | H27: =SUM($F$27:$G$27) -> 1 | I27: 0 | J27: 0 | K27: =SUM($I$27:$J$27) -> 0 | L27: =$C$27+$F$27+$I$27 -> 2 | M27: =$D$27+$G$27+$J$27 -> 2 | N27: =$L$27+$M$27 -> 4 | O27: =[1]表彰候補とりまとめ表からのコピー!$FU$218 -> 0 | P27: =[1]表彰候補とりまとめ表からのコピー!$FV$218 -> 0 | Q27: =SUM(O27:P27) -> 0 | R27: =[1]表彰候補とりまとめ表からのコピー!$FW$218 -> 0 | S27: =[1]表彰候補とりまとめ表からのコピー!$FX$218 -> 0 | T27: =SUM(R27:S27) -> 0 | U27: =[1]表彰候補とりまとめ表からのコピー!$GA$219 -> 0 | V27: =[1]表彰候補とりまとめ表からのコピー!$GB$219 -> 0 | W27: =SUM(U27:V27) -> 0 | X27: =O27+R27+U27 -> 0 | Y27: =P27+S27+V27 -> 0 | Z27: =SUM(X27:Y27) -> 0 | AA27: 4 | AB27: 4 | AC27: 8 | AD27: 1 | AE27: 2 | AF27: 3 | AG27: 3 | AH27: 3 | AI27: 6 | AJ27: 8 | AK27: 9 | AL27: 17 | AM27: 1 | AN27: 4 | AO27: =SUM(AM27:AN27) -> 5 | AP27: 住吉区 | AQ27: =L27+X27+AJ27+AM27 -> 11 | AR27: =+M27+Y27+AK27+AN27 -> 15 | AS27: =+N27+Z27+AL27+AO27 -> 26
A28: 12 | B28: 東住吉区 | C28: 0 | D28: 1 | E28: =SUM($C$28:$D$28) -> 1 | F28: 0 | G28: 0 | H28: =SUM($F$28:$G$28) -> 0 | I28: 0 | J28: 0 | K28: =SUM($I$28:$J$28) -> 0 | L28: =$C$28+$F$28+$I$28 -> 0 | M28: =$D$28+$G$28+$J$28 -> 1 | N28: =$L$28+$M$28 -> 1 | O28: =[1]表彰候補とりまとめ表からのコピー!$GC$218 -> 0 | P28: =[1]表彰候補とりまとめ表からのコピー!$GD$218 -> 0 | Q28: =SUM(O28:P28) -> 0 | R28: =[1]表彰候補とりまとめ表からのコピー!$GE$218 -> 0 | S28: =[1]表彰候補とりまとめ表からのコピー!$GF$218 -> 0 | T28: =SUM(R28:S28) -> 0 | U28: =[1]表彰候補とりまとめ表からのコピー!$GI$219 -> 0 | V28: =[1]表彰候補とりまとめ表からのコピー!$GJ$219 -> 0 | W28: =SUM(U28:V28) -> 0 | X28: =O28+R28+U28 -> 0 | Y28: =P28+S28+V28 -> 0 | Z28: =SUM(X28:Y28) -> 0 | AA28: 2 | AB28: 2 | AC28: 4 | AD28: 0 | AE28: 1 | AF28: 1 | AG28: 3 | AH28: 0 | AI28: 3 | AJ28: 5 | AK28: 3 | AL28: 8 | AM28: 1 | AN28: 2 | AO28: =SUM(AM28:AN28) -> 3 | AP28: 東住吉区 | AQ28: =L28+X28+AJ28+AM28 -> 6 | AR28: =+M28+Y28+AK28+AN28 -> 6 | AS28: =+N28+Z28+AL28+AO28 -> 12
A29: 24 | B29: 平野区 | C29: 0 | D29: 1 | E29: =SUM($C$29:$D$29) -> 1 | F29: 0 | G29: 0 | H29: =SUM($F$29:$G$29) -> 0 | I29: 0 | J29: 0 | K29: =SUM($I$29:$J$29) -> 0 | L29: =$C$29+$F$29+$I$29 -> 0 | M29: =$D$29+$G$29+$J$29 -> 1 | N29: =$L$29+$M$29 -> 1 | O29: =[1]表彰候補とりまとめ表からのコピー!$GK$218 -> 0 | P29: =[1]表彰候補とりまとめ表からのコピー!$GL$218 -> 0 | Q29: =SUM(O29:P29) -> 0 | R29: =[1]表彰候補とりまとめ表からのコピー!$GM$218 -> 0 | S29: =[1]表彰候補とりまとめ表からのコピー!$GN$218 -> 0 | T29: =SUM(R29:S29) -> 0 | U29: =[1]表彰候補とりまとめ表からのコピー!$GQ$219 -> 0 | V29: =[1]表彰候補とりまとめ表からのコピー!$GR$219 -> 0 | W29: =SUM(U29:V29) -> 0 | X29: =O29+R29+U29 -> 0 | Y29: =P29+S29+V29 -> 0 | Z29: =SUM(X29:Y29) -> 0 | AA29: 0 | AB29: 1 | AC29: 1 | AD29: 0 | AE29: 0 | AF29: 0 | AG29: 0 | AH29: 3 | AI29: 3 | AJ29: 0 | AK29: 4 | AL29: 4 | AM29: 2 | AN29: 7 | AO29: =SUM(AM29:AN29) -> 9 | AP29: 平野区 | AQ29: =L29+X29+AJ29+AM29 -> 2 | AR29: =+M29+Y29+AK29+AN29 -> 12 | AS29: =+N29+Z29+AL29+AO29 -> 14
A30: 23 | B30: 西成区 | C30: 0 | D30: 0 | E30: =SUM($C$30:$D$30) -> 0 | F30: 0 | G30: 0 | H30: =SUM($F$30:$G$30) -> 0 | I30: 0 | J30: 0 | K30: =SUM($I$30:$J$30) -> 0 | L30: =$C$30+$F$30+$I$30 -> 0 | M30: =$D$30+$G$30+$J$30 -> 0 | N30: =$L$30+$M$30 -> 0 | O30: =[1]表彰候補とりまとめ表からのコピー!$GS$218 -> 0 | P30: =[1]表彰候補とりまとめ表からのコピー!$GT$218 -> 0 | Q30: =SUM(O30:P30) -> 0 | R30: =[1]表彰候補とりまとめ表からのコピー!$GU$218 -> 0 | S30: =[1]表彰候補とりまとめ表からのコピー!$GV$218 -> 0 | T30: =SUM(R30:S30) -> 0 | U30: =[1]表彰候補とりまとめ表からのコピー!$GY$219 -> 0 | V30: =[1]表彰候補とりまとめ表からのコピー!$GZ$219 -> 0 | W30: =SUM(U30:V30) -> 0 | X30: =O30+R30+U30 -> 0 | Y30: =P30+S30+V30 -> 0 | Z30: =SUM(X30:Y30) -> 0 | AA30: 0 | AB30: 0 | AC30: 0 | AD30: 1 | AE30: 0 | AF30: 1 | AG30: 1 | AH30: 0 | AI30: 1 | AJ30: 2 | AK30: 0 | AL30: 2 | AM30: 1 | AN30: 1 | AO30: =SUM(AM30:AN30) -> 2 | AP30: 西成区 | AQ30: =L30+X30+AJ30+AM30 -> 3 | AR30: =+M30+Y30+AK30+AN30 -> 1 | AS30: =+N30+Z30+AL30+AO30 -> 4
B31: 合計 | C31: =SUM($C$7:$C$30) -> 18 | D31: =SUM($D$7:$D$30) -> 25 | E31: =SUM($C$31:$D$31) -> 43 | F31: =SUM($F$7:$F$30) -> 10 | G31: =SUM($G$7:$G$30) -> 7 | H31: =SUM($F$31:$G$31) -> 17 | I31: =SUM($I$7:$I$30) -> 0 | J31: =SUM($J$7:$J$30) -> 2 | K31: =SUM($I$31:$J$31) -> 2 | L31: =SUM($L$7:$L$30) -> 28 | M31: =SUM($M$7:$M$30) -> 34 | N31: =SUM($L$31:$M$31) -> 62 | O31: =SUM(O7:O30) -> 0 | P31: =SUM(P7:P30) -> 1 | Q31: =SUM(Q7:Q30) -> 1 | R31: =SUM(R7:R30) -> 1 | S31: =SUM(S7:S30) -> 3 | T31: =SUM(T7:T30) -> 4 | U31: =SUM(U7:U30) -> 8 | V31: =SUM(V7:V30) -> 8 | ... Y31: =SUM(Y7:Y30) -> 12 | Z31: =SUM(X31:Y31) -> 21 | AA31: =SUM(AA7:AA30) -> 59 | AB31: =SUM(AB7:AB30) -> 54 | AC31: =SUM(AC7:AC30) -> 113 | AD31: =SUM(AD7:AD30) -> 14 | AE31: =SUM(AE7:AE30) -> 7 | AF31: =SUM(AF7:AF30) -> 21 | AG31: =SUM(AG7:AG30) -> 31 | AH31: =SUM(AH7:AH30) -> 23 | ... AK31: =SUM(AK7:AK30) -> 84 | AL31: =SUM(AJ31:AK31) -> 188 | AM31: =SUM(AM7:AM30) -> 24 | AN31: =SUM(AN7:AN30) -> 90 | AO31: =SUM(AO7:AO30) -> 114 | AP31: 合計 | AQ31: =SUM(AQ7:AQ30) -> 165 | AR31: =SUM(AR7:AR30) -> 220 | AS31: =SUM(AQ31:AR31) -> 385
