Workbook

Sheet 目次
A2: 参考資料 比較財務諸表
A3: (令和７年度 大阪市一般会計・特別会計財務諸表)
B6: 〇目次
I7: 頁
B8: 一般会計
C9: 貸借対照表 | H9: ・・・・・・・・・・・・・・・・・・・・ | I9: 1
C10: 行政コスト計算書 | H10: ・・・・・・・・・・・・・・・・・・ | I10: 2
C11: キャッシュ・フロー計算書 | H11: ・・・・・・・・・・・・・・ | I11: 3
B13: 食肉市場事業会計
C14: 貸借対照表 | H14: ・・・・・・・・・・・・・・・・・・・・ | I14: 4
C15: 行政コスト計算書 | H15: ・・・・・・・・・・・・・・・・・・ | I15: 5
C16: キャッシュ・フロー計算書 | H16: ・・・・・・・・・・・・・・ | I16: 6
B18: 駐車場事業会計
C19: 貸借対照表 | H19: ・・・・・・・・・・・・・・・・・・・・ | I19: 7
C20: 行政コスト計算書 | H20: ・・・・・・・・・・・・・・・・・・ | I20: 8
C21: キャッシュ・フロー計算書 | H21: ・・・・・・・・・・・・・・ | I21: 9
B23: 母子父子寡婦福祉貸付資金会計
C24: 貸借対照表 | H24: ・・・・・・・・・・・・・・・・・・・・ | I24: 10
C25: 行政コスト計算書 | H25: ・・・・・・・・・・・・・・・・・・ | I25: 11
C26: キャッシュ・フロー計算書 | H26: ・・・・・・・・・・・・・・ | I26: 12
B28: 国民健康保険事業会計
C29: 貸借対照表 | H29: ・・・・・・・・・・・・・・・・・・・・ | I29: 13
C30: 行政コスト計算書 | H30: ・・・・・・・・・・・・・・・・・・ | I30: 14
C31: キャッシュ・フロー計算書 | H31: ・・・・・・・・・・・・・・ | I31: 15
B33: 心身障害者扶養共済事業会計
C34: 貸借対照表 | H34: ・・・・・・・・・・・・・・・・・・・・ | I34: 16
C35: 行政コスト計算書 | H35: ・・・・・・・・・・・・・・・・・・ | I35: 17
C36: キャッシュ・フロー計算書 | H36: ・・・・・・・・・・・・・・ | I36: 18
B38: 介護保険事業会計
C39: 貸借対照表 | H39: ・・・・・・・・・・・・・・・・・・・・ | I39: 19
C40: 行政コスト計算書 | H40: ・・・・・・・・・・・・・・・・・・ | I40: 20
C41: キャッシュ・フロー計算書 | H41: ・・・・・・・・・・・・・・ | I41: 21
B43: 後期高齢者医療事業会計
C44: 貸借対照表 | H44: ・・・・・・・・・・・・・・・・・・・・ | I44: 22
C45: 行政コスト計算書 | H45: ・・・・・・・・・・・・・・・・・・ | I45: 23
C46: キャッシュ・フロー計算書 | H46: ・・・・・・・・・・・・・・ | I46: 24
B48: 公債費会計
C49: 貸借対照表 | H49: ・・・・・・・・・・・・・・・・・・・・ | I49: 25
C50: 行政コスト計算書 | H50: ・・・・・・・・・・・・・・・・・・ | I50: 26
C51: キャッシュ・フロー計算書 | H51: ・・・・・・・・・・・・・・ | I51: 27
...

Sheet 貸借対照表（一般会計）
A1: 比較貸借対照表（一般会計） | Q1: （単位：円）
F2: 令和７年度 | H2: 令和６年度 | I2: 令和５年度 | N2: =F2 -> 令和７年度 | P2: =H2 -> 令和６年度 | Q2: =I2 -> 令和５年度
F3: 金額 | G3: 対前年度 増減額 | H3: 金額 | I3: 金額 | N3: 金額 | O3: 対前年度 増減額 | P3: 金額 | Q3: 金額
A4: 資産の部 | J4: 負債の部
B5: 流動資産 | F5: 482624154941 | G5: =F5-H5 -> 38568997883 | H5: 444055157058 | I5: 428265761815 | K5: 流動負債 | N5: 223494993097 | O5: =N5-P5 -> 20352130056 | P5: 203142863041 | Q5: 210255605522
C6: 現金預金 | F6: 79041039826 | G6: =F6-H6 -> 2862802916 | H6: 76178236910 | I6: 73044692376 | L6: 地方債 | N6: 129837247713 | O6: =N6-P6 -> 285562340 | P6: 129551685373 | Q6: 143819472808
D7: 歳計現金 | F7: 26836064137 | G7: =F7-H7 -> 2336031727 | H7: 24500032410 | I7: 23182566142 | L7: 短期借入金 | N7: 0 | O7: =N7-P7 -> 0 | P7: 0 | Q7: 0
D8: 歳入歳出外現金 | F8: 52204975689 | G8: =F8-H8 -> 526771189 | H8: 51678204500 | I8: 49862126234 | M8: 他会計借入金 | N8: 0 | O8: =N8-P8 -> 0 | P8: 0 | Q8: 0
C9: 未収金 | F9: 32660362972 | G9: =F9-H9 -> 12094569199 | H9: 20565793773 | I9: 21552485203 | M9: その他短期借入金 | N9: 0 | O9: =N9-P9 -> 0 | P9: 0 | Q9: 0
C10: 貸倒引当金 | F10: -12140771271 | G10: =F10-H10 -> -1282692232 | H10: -10858079039 | I10: -11297622768 | L10: 賞与引当金 | N10: 24872511526 | O10: =N10-P10 -> 1562333805 | P10: 23310177721 | Q10: 22309090282
C11: 基金 | F11: 309939913246 | G11: =F11-H11 -> 22990640645 | H11: 286949272601 | I11: 268796272587 | L11: 未払金 | N11: 30154454373 | O11: =N11-P11 -> 26129801679 | P11: 4024652694 | Q11: 3559701386
D12: 財政調整基金 | F12: 309939913246 | G12: =F12-H12 -> 22990640645 | H12: 286949272601 | I12: 268796272587 | L12: 還付未済金 | N12: 0 | O12: =N12-P12 -> 0 | P12: 0 | Q12: 0
D13: 公債償還基金 | F13: 0 | G13: =F13-H13 -> 0 | H13: 0 | I13: 0 | L13: リース債務 | N13: 4475204666 | O13: =N13-P13 -> 803380666 | P13: 3671824000 | Q13: 2417351777
C14: 貸倒引当金 | F14: 0 | G14: =F14-H14 -> 0 | H14: 0 | I14: 0 | L14: その他流動負債 | N14: 34155574819 | O14: =N14-P14 -> -8428948434 | P14: 42584523253 | Q14: 38149989269
C15: 短期貸付金 | F15: 5666890792 | G15: =F15-H15 -> 1042927825 | H15: 4623962967 | I15: 9620967566 | K15: 固定負債 | N15: 1531315133511 | O15: =N15-P15 -> -103633052110 | P15: 1634948185621 | Q15: 1687615521161
C16: 貸倒引当金 | F16: -671526096 | G16: =F16-H16 -> 1403765 | H16: -672929861 | I16: -673473306 | L16: 地方債 | N16: 1220354755991 | O16: =N16-P16 -> -112550264587 | P16: 1332905020578 | Q16: 1385952764992
C17: その他流動資産 | F17: 68128245472 | G17: =F17-H17 -> 859345765 | H17: 67268899707 | I17: 67222440157 | L17: 長期借入金 | N17: 0 | O17: =N17-P17 -> 0 | P17: 0 | Q17: 0
B18: 固定資産 | F18: 14759938466885 | G18: =F18-H18 -> 55072681149 | H18: 14704865785736 | I18: 14725891066350 | M18: 他会計借入金 | N18: 0 | O18: =N18-P18 -> 0 | P18: 0 | Q18: 0
C19: 事業用資産 | F19: 6098254131771 | G19: =F19-H19 -> -45009630932 | H19: 6143263762703 | I19: 6163281831320 | M19: その他長期借入金 | N19: 0 | O19: =N19-P19 -> 0 | P19: 0 | Q19: 0
D20: 有形事業用固定資産 | F20: 6098109461916 | G20: =F20-H20 -> -45009794652 | H20: 6143119256568 | I20: 6163137600949 | L20: 退職手当引当金 | N20: 222918910854 | O20: =N20-P20 -> 11298693852 | P20: 211620217002 | Q20: 209951625567
E21: 土地 | F21: 5147688401694 | G21: =F21-H21 -> -20152374208 | H21: 5167840775902 | I21: 5172779723552 | L21: 損失補償等引当金 | N21: 16842082464 | O21: =N21-P21 -> -1748398276 | P21: 18590480740 | Q21: 20933434923
E22: 建物 | F22: 920129574806 | G22: =F22-H22 -> -25608683148 | H22: 945738257954 | I22: 963284625800 | L22: 長期未払金 | N22: 40971273738 | O22: =N22-P22 -> -1343058860 | P22: 42314332598 | Q22: 46312737486
E23: 工作物 | F23: 27438280639 | G23: =F23-H23 -> 1352325164 | H23: 26085955475 | I23: 25445514386 | L23: リース債務 | N23: 8469403843 | O23: =N23-P23 -> 312312842 | P23: 8157091001 | Q23: 3886792262
E24: 立木竹 | F24: 0 | G24: =F24-H24 -> 0 | H24: 0 | I24: 0 | L24: その他固定負債 | N24: 21758706621 | O24: =N24-P24 -> 397662919 | P24: 21361043702 | Q24: 20578165931
E25: 船舶 | F25: 2358269440 | G25: =F25-H25 -> -179795724 | H25: 2538065164 | I25: 283122065 | J25: 負債の部合計 | N25: 1754810126608 | O25: =N25-P25 -> -83280922054 | P25: 1838091048662 | Q25: 1897871126683
E26: 浮標等 | F26: 348415336 | G26: =F26-H26 -> 18293264 | H26: 330122072 | I26: 318975145 | J26: 純資産の部
E27: 航空機 | F27: 146520001 | G27: =F27-H27 -> -439560000 | H27: 586080001 | I27: 1025640001 | K27: 累積余剰 | N27: 13342815319808 | O27: =N27-P27 -> 121473654526 | P27: 13221341665282 | Q27: 13137980409272
D28: 無形事業用固定資産 | F28: 144669855 | G28: =F28-H28 -> 163720 | H28: 144506135 | I28: 144230371 | K28: 評価・換算差額等 | N28: 144937175410 | O28: =N28-P28 -> 55448946560 | P28: 89488228850 | Q28: 118305292210
E29: 地上権等 | F29: 144093957 | G29: =F29-H29 -> 0 | H29: 144093957 | I29: 144093957 | L29: その他有価証券評価差額金 | N29: 144937175410 | O29: =N29-P29 -> 55448946560 | P29: 89488228850 | Q29: 118305292210
E30: 特許権等 | F30: 575898 | G30: =F30-H30 -> 163720 | H30: 412178 | I30: 136414
C31: インフラ資産 | F31: 6771145524338 | G31: =F31-H31 -> 8531409111 | H31: 6762614115227 | I31: 6781364222302
D32: 有形インフラ固定資産 | F32: 6770290762634 | G32: =F32-H32 -> 8531409111 | H32: 6761759353523 | I32: 6780509460598
E33: 土地 | F33: 6089661163714 | G33: =F33-H33 -> 3776786074 | H33: 6085884377640 | I33: 6092980486590
E34: 建物 | F34: 14414039708 | G34: =F34-H34 -> 3839860283 | H34: 10574179425 | I34: 2158952919
E35: 工作物 | F35: 666215559212 | G35: =F35-H35 -> 914762754 | H35: 665300796458 | I35: 685370021089
D36: 無形インフラ固定資産 | F36: 854761704 | G36: =F36-H36 -> 0 | H36: 854761704 | I36: 854761704
E37: 地上権等 | F37: 854761704 | G37: =F37-H37 -> 0 | H37: 854761704 | I37: 854761704
E38: 特許権等 | F38: 0 | G38: =F38-H38 -> 0 | H38: 0 | I38: 0
C39: 重要物品 | F39: 14050234349 | G39: =F39-H39 -> -630582727 | H39: 14680817076 | I39: 11274385609
C40: リース資産 | F40: 13060671714 | G40: =F40-H40 -> 981582734 | H40: 12079088980 | I40: 6359870226
...

Sheet 行政コスト計算書（一般会計）
A1: 比較行政コスト計算書（一般会計） | I1: （単位：円）
E2: ='貸借対照表（一般会計）'!F2 -> 令和７年度 | G2: ='貸借対照表（一般会計）'!H2 -> 令和６年度 | H2: ='貸借対照表（一般会計）'!I2 -> 令和５年度
E3: 金額 | F3: 対前年度 増減額 | G3: 金額 | H3: 金額
A4: 経常収益 | E4: 1951473128082 | F4: =E4-G4 -> 61083011801 | G4: 1890390116281 | H4: 1794458384679
B5: 市税 | E5: 898035574770 | F5: =E5-G5 -> 66994013378 | G5: 831041561392 | H5: 805068348563
B6: 地方譲与税 | E6: 6073206333 | F6: =E6-G6 -> 2010888 | G6: 6071195445 | H6: 6112176555
B7: 交付金 | E7: 136662490542 | F7: =E7-G7 -> 10196207704 | G7: 126466282838 | H7: 116360890735
B8: 地方特例交付金 | E8: 2627981000 | F8: =E8-G8 -> -15363341000 | G8: 17991322000 | H8: 3009529000
B9: 地方交付税 | E9: 43540980000 | F9: =E9-G9 -> -2992810000 | G9: 46533790000 | H9: 45700755000
B10: 保険料 | E10: 0 | F10: =E10-G10 -> 0 | G10: 0 | H10: 0
B11: 分担金及び負担金 | E11: 885303622 | F11: =E11-G11 -> -499661439 | G11: 1384965061 | H11: 3971428416
B12: 使用料及び手数料 | E12: 73145960875 | F12: =E12-G12 -> 3672490456 | G12: 69473470419 | H12: 67998164131
B13: 国・府支出金 | E13: 679393888751 | F13: =E13-G13 -> 5918656611 | G13: 673475232140 | H13: 658094935980
B14: 他会計からの繰入金 | E14: 2819369242 | F14: =E14-G14 -> 858673540 | G14: 1960695702 | H14: 2353989546
C15: 一般会計からの繰入金 | E15: 0 | F15: =E15-G15 -> 0 | G15: 0 | H15: 0
C16: 特別会計からの繰入金 | E16: 1933369242 | F16: =E16-G16 -> 717673540 | G16: 1215695702 | H16: 1540989546
C17: 公営企業からの繰入金 | E17: 886000000 | F17: =E17-G17 -> 141000000 | G17: 745000000 | H17: 813000000
B18: 棚卸資産売却収入 | E18: 0 | F18: =E18-G18 -> 0 | G18: 0 | H18: 0
B19: 受取利息及び配当金 | E19: 15044548127 | F19: =E19-G19 -> 3575348327 | G19: 11469199800 | H19: 7369195735
B20: その他経常収益 | E20: 93243824820 | F20: =E20-G20 -> -11278576664 | G20: 104522401484 | H20: 78418971018
A21: 経常費用 | E21: 1816788248049 | F21: =E21-G21 -> 24878112618 | G21: 1791910135431 | H21: 1662939700967
B22: 給与関係費 | E22: 304377177270 | F22: =E22-G22 -> 9698869066 | G22: 294678308204 | H22: 274809574538
B23: 賞与引当金繰入額 | E23: 24418744238 | F23: =E23-G23 -> 1527419826 | G23: 22891324412 | H23: 21741861756
B24: 退職手当引当金繰入額 | E24: 19824739836 | F24: =E24-G24 -> 5574930301 | G24: 14249809535 | H24: 16656911807
B25: 物件費 | E25: 209284447823 | F25: =E25-G25 -> 16803594360 | G25: 192480853463 | H25: 182972670801
B26: 維持補修費 | E26: 71776552256 | F26: =E26-G26 -> -3531748707 | G26: 75308300963 | H26: 66519477614
B27: 減価償却費 | E27: 99870031330 | F27: =E27-G27 -> 1385095857 | G27: 98484935473 | H27: 97755364737
B28: 支払利息及び手数料 | E28: 12558372779 | F28: =E28-G28 -> 2595780502 | G28: 9962592277 | H28: 9991360197
B29: 貸倒損失 | E29: 12502195 | F29: =E29-G29 -> -22762142 | G29: 35264337 | H29: 5068819
B30: 貸倒引当金繰入額 | E30: 2686376100 | F30: =E30-G30 -> 1515461381 | G30: 1170914719 | H30: 1449665873
B31: 損失補償等引当金繰入額 | E31: -1748398276 | F31: =E31-G31 -> 594555907 | G31: -2342954183 | H31: -1151877658
B32: 棚卸資産売却原価 | E32: 0 | F32: =E32-G32 -> 0 | G32: 0 | H32: 0
B33: 扶助費 | E33: 756120784161 | F33: =E33-G33 -> 62476642541 | G33: 693644141620 | H33: 641339572508
... B35: 他会計への繰出金 | E35: 130886951656 | F35: =E35-G35 -> 677996721 | G35: 130208954935 | H35: 126243725663
C36: 一般会計への繰出金 | E36: 0 | F36: =E36-G36 -> 0 | G36: 0 | H36: 0
C37: 特別会計への繰出金 | E37: 106270222086 | F37: =E37-G37 -> 863349033 | G37: 105406873053 | H37: 101685222066
C38: 公営企業への繰出金 | E38: 24616729570 | F38: =E38-G38 -> -185352312 | G38: 24802081882 | H38: 24558503597
B39: その他経常費用 | E39: 0 | F39: =E39-G39 -> -96857000 | G39: 96857000 | H39: 15669000
A40: 経常収支差額 | E40: 134684880033 | F40: =E40-G40 -> 36204899183 | G40: 98479980850 | H40: 131518683712
A41: 特別利益 | E41: 24226570165 | F41: =E41-G41 -> -5837443118 | G41: 30064013283 | H41: 51945097058
...

Sheet キャッシュ・フロー計算書（一般会計）
A1: 比較キャッシュ・フロー計算書（一般会計） | J1: （単位：円）
F2: ='貸借対照表（一般会計）'!F2 -> 令和７年度 | H2: ='貸借対照表（一般会計）'!H2 -> 令和６年度 | I2: ='貸借対照表（一般会計）'!I2 -> 令和５年度
F3: 金額 | G3: 対前年度 増減額 | H3: 金額 | I3: 金額
A4: 行政サービス活動
B5: 行政サービス活動収入 | F5: 1937634174401 | G5: =F5-H5 -> 47833226594 | H5: 1889800947807 | I5: 1793404925968
C6: 市税収入 | F6: 896737530844 | G6: =F6-H6 -> 66269064853 | H6: 830468465991 | I6: 804353304619
C7: 地方譲与税収入 | F7: 6073206333 | G7: =F7-H7 -> 2010888 | H7: 6071195445 | I7: 6112176555
C8: 交付金収入 | F8: 136662490542 | G8: =F8-H8 -> 10196207704 | H8: 126466282838 | I8: 116360890735
C9: 地方特例交付金収入 | F9: 2627981000 | G9: =F9-H9 -> -15363341000 | H9: 17991322000 | I9: 3009529000
C10: 地方交付税収入 | F10: 43540980000 | G10: =F10-H10 -> -2992810000 | H10: 46533790000 | I10: 45700755000
C11: 保険料収入 | F11: 0 | G11: =F11-H11 -> 0 | H11: 0 | I11: 0
C12: 分担金及び負担金収入 | F12: 885303622 | G12: =F12-H12 -> -499661439 | H12: 1384965061 | I12: 3971428416
C13: 使用料及び手数料収入 | F13: 73112711190 | G13: =F13-H13 -> 3651383039 | H13: 69461328151 | I13: 67965142531
C14: 国・府支出金収入 | F14: 679393888751 | G14: =F14-H14 -> 5918656611 | H14: 673475232140 | I14: 658094935980
C15: 他会計からの繰入金収入 | F15: 2819369242 | G15: =F15-H15 -> 858673540 | H15: 1960695702 | I15: 2353989546
D16: 一般会計からの繰入金収入 | F16: 0 | G16: =F16-H16 -> 0 | H16: 0 | I16: 0
D17: 特別会計からの繰入金収入 | F17: 1933369242 | G17: =F17-H17 -> 717673540 | H17: 1215695702 | I17: 1540989546
D18: 公営企業会計からの繰入金収入 | F18: 886000000 | G18: =F18-H18 -> 141000000 | H18: 745000000 | I18: 813000000
C19: 棚卸資産売却収入 | F19: 0 | G19: =F19-H19 -> -17850416 | H19: 17850416 | I19: 17850416
C20: 受取利息及び配当金収入 | F20: 15045780498 | G20: =F20-H20 -> 3576752071 | H20: 11469028427 | I20: 7369032035
C21: その他行政収入 | F21: 80734932379 | G21: =F21-H21 -> -23765859257 | H21: 104500791636 | I21: 78095891135
B22: 行政サービス活動支出 | F22: 1721251842290 | G22: =F22-H22 -> 6918816769 | H22: 1714333025521 | I22: 1586439861747
C23: 給与関係費支出 | F23: 335759633687 | G23: =F23-H23 -> 6609870410 | H23: 329149763277 | I23: 303646018135
C24: 物件費支出 | F24: 209284447823 | G24: =F24-H24 -> 16803595020 | H24: 192480852803 | I24: 182972670801
C25: 維持補修費支出 | F25: 71772248456 | G25: =F25-H25 -> -3536011807 | H25: 75308260263 | I25: 66519356614
C26: 支払利息及び手数料支出 | F26: 12558372779 | G26: =F26-H26 -> 2595780502 | H26: 9962592277 | I26: 9991360197
C27: 扶助費支出 | F27: 756120784161 | G27: =F27-H27 -> 62476642541 | H27: 693644141620 | I27: 641339572508
C28: 負担金・補助金・交付金等支出 | F28: 195917116242 | G28: =F28-H28 -> -75245675944 | H28: 271162792186 | I28: 244309828833
C29: 他会計への繰出金支出 | F29: 130886951656 | G29: =F29-H29 -> 677996721 | H29: 130208954935 | I29: 126243725663
D30: 一般会計への繰出金支出 | F30: 0 | G30: =F30-H30 -> 0 | H30: 0 | I30: 0
D31: 特別会計への繰出金支出 | F31: 106270222086 | G31: =F31-H31 -> 863349033 | H31: 105406873053 | I31: 101685222066
D32: 公営企業会計への繰出金支出 | F32: 24616729570 | G32: =F32-H32 -> -185352312 | H32: 24802081882 | I32: 24558503597
C33: その他行政支出 | F33: 8952287486 | G33: =F33-H33 -> -3463380674 | H33: 12415668160 | I33: 11417328996
A34: 行政サービス活動収支差額 | F34: 216382332111 | G34: =F34-H34 -> 40914409825 | H34: 175467922286 | I34: 206965064221
A35: 投資活動
B36: 投資活動収入 | F36: 22241601188 | G36: =F36-H36 -> -24429532421 | H36: 46671133609 | I36: 43932827532
C37: 資産売却収入 | F37: 11333383737 | G37: =F37-H37 -> -16536629781 | H37: 27870013518 | I37: 32791019056
C38: 基金繰入金（取崩額） | F38: 3161683028 | G38: =F38-H38 -> -106651024 | H38: 3268334052 | I38: 6243982541
D39: 財政調整基金（取崩額） | F39: 0 | G39: =F39-H39 -> -15409800 | H39: 15409800 | I39: 3036770984
D40: その他の基金（取崩額） | F40: 3161683028 | G40: =F40-H40 -> -91241224 | H40: 3252924252 | I40: 3207211557
...

Sheet 貸借対照表（食肉市場事業会計）
A1: 比較貸借対照表（食肉市場事業会計） | Q1: （単位：円）
F2: ='貸借対照表（一般会計）'!F2 -> 令和７年度 | H2: ='貸借対照表（一般会計）'!H2 -> 令和６年度 | I2: ='貸借対照表（一般会計）'!I2 -> 令和５年度 | N2: ='貸借対照表（一般会計）'!F2 -> 令和７年度 | P2: ='貸借対照表（一般会計）'!H2 -> 令和６年度 | Q2: ='貸借対照表（一般会計）'!I2 -> 令和５年度
F3: 金額 | G3: 対前年度 増減額 | H3: 金額 | I3: 金額 | N3: 金額 | O3: 対前年度 増減額 | P3: 金額 | Q3: 金額
A4: 資産の部 | J4: 負債の部
B5: 流動資産 | F5: 50121934 | G5: =F5-H5 -> 121934 | H5: 50000000 | I5: 50000000 | K5: 流動負債 | N5: 398880693 | O5: =N5-P5 -> 59881104 | P5: 338999589 | Q5: 136859559
C6: 現金預金 | F6: 0 | G6: =F6-H6 -> 0 | H6: 0 | I6: 0 | L6: 地方債 | N6: 275596503 | O6: =N6-P6 -> 55270336 | P6: 220326167 | Q6: 29771417
D7: 歳計現金 | F7: 0 | G7: =F7-H7 -> 0 | H7: 0 | I7: 0 | L7: 短期借入金 | N7: 51738800 | O7: =N7-P7 -> 0 | P7: 51738800 | Q7: 51738800
D8: 歳入歳出外現金 | F8: 0 | G8: =F8-H8 -> 0 | H8: 0 | I8: 0 | M8: 他会計借入金 | N8: 51738800 | O8: =N8-P8 -> 0 | P8: 51738800 | Q8: 51738800
C9: 未収金 | F9: 121934 | G9: =F9-H9 -> 121934 | H9: 0 | I9: 0 | M9: その他短期借入金 | N9: 0 | O9: =N9-P9 -> 0 | P9: 0 | Q9: 0
C10: 貸倒引当金 | F10: 0 | G10: =F10-H10 -> 0 | H10: 0 | I10: 0 | L10: 賞与引当金 | N10: 71545390 | O10: =N10-P10 -> 4610768 | P10: 66934622 | Q10: 55349342
C11: 基金 | F11: 0 | G11: =F11-H11 -> 0 | H11: 0 | I11: 0 | L11: 未払金 | N11: 0 | O11: =N11-P11 -> 0 | P11: 0 | Q11: 0
D12: 財政調整基金 | F12: 0 | G12: =F12-H12 -> 0 | H12: 0 | I12: 0 | L12: 還付未済金 | N12: 0 | O12: =N12-P12 -> 0 | P12: 0 | Q12: 0
D13: 公債償還基金 | F13: 0 | G13: =F13-H13 -> 0 | H13: 0 | I13: 0 | L13: リース債務 | N13: 0 | O13: =N13-P13 -> 0 | P13: 0 | Q13: 0
C14: 貸倒引当金 | F14: 0 | G14: =F14-H14 -> 0 | H14: 0 | I14: 0 | L14: その他流動負債 | N14: 0 | O14: =N14-P14 -> 0 | P14: 0 | Q14: 0
C15: 短期貸付金 | F15: 50000000 | G15: =F15-H15 -> 0 | H15: 50000000 | I15: 50000000 | K15: 固定負債 | N15: 36512665097 | O15: =N15-P15 -> 2111122209 | P15: 34401542888 | Q15: 24516119385
C16: 貸倒引当金 | F16: 0 | G16: =F16-H16 -> 0 | H16: 0 | I16: 0 | L16: 地方債 | N16: 22516591031 | O16: =N16-P16 -> 2097403497 | P16: 20419187534 | Q16: 10523513701
C17: その他流動資産 | F17: 0 | G17: =F17-H17 -> 0 | H17: 0 | I17: 0 | L17: 長期借入金 | N17: 13284186798 | O17: =N17-P17 -> -51738800 | P17: 13335925598 | Q17: 13387664398
B18: 固定資産 | F18: 39932239314 | G18: =F18-H18 -> 3530071841 | H18: 36402167473 | I18: 24914905949 | M18: 他会計借入金 | N18: 13284186798 | O18: =N18-P18 -> -51738800 | P18: 13335925598 | Q18: 13387664398
C19: 事業用資産 | F19: 9363750034 | G19: =F19-H19 -> -169251172 | H19: 9533001206 | I19: 9702253274 | M19: その他長期借入金 | N19: 0 | O19: =N19-P19 -> 0 | P19: 0 | Q19: 0
D20: 有形事業用固定資産 | F20: 9363750034 | G20: =F20-H20 -> -169251172 | H20: 9533001206 | I20: 9702253274 | L20: 退職手当引当金 | N20: 711887268 | O20: =N20-P20 -> 65457512 | P20: 646429756 | Q20: 604941286
E21: 土地 | F21: 8050071183 | G21: =F21-H21 -> 0 | H21: 8050071183 | I21: 8050071183 | L21: 損失補償等引当金 | N21: 0 | O21: =N21-P21 -> 0 | P21: 0 | Q21: 0
E22: 建物 | F22: 1268465356 | G22: =F22-H22 -> -165578784 | H22: 1434044140 | I22: 1599622924 | L22: 長期未払金 | N22: 0 | O22: =N22-P22 -> 0 | P22: 0 | Q22: 0
E23: 工作物 | F23: 45213495 | G23: =F23-H23 -> -3672388 | H23: 48885883 | I23: 52559167 | L23: リース債務 | N23: 0 | O23: =N23-P23 -> 0 | P23: 0 | Q23: 0
E24: 立木竹 | F24: 0 | G24: =F24-H24 -> 0 | H24: 0 | I24: 0 | L24: その他固定負債 | N24: 0 | O24: =N24-P24 -> 0 | P24: 0 | Q24: 0
E25: 船舶 | F25: 0 | G25: =F25-H25 -> 0 | H25: 0 | I25: 0 | J25: 負債の部合計 | N25: 36911545790 | O25: =N25-P25 -> 2171003313 | P25: 34740542477 | Q25: 24652978944
E26: 浮標等 | F26: 0 | G26: =F26-H26 -> 0 | H26: 0 | I26: 0 | J26: 純資産の部
E27: 航空機 | F27: 0 | G27: =F27-H27 -> 0 | H27: 0 | I27: 0 | K27: 累積余剰 | N27: 3070815458 | O27: =N27-P27 -> 1359190462 | P27: 1711624996 | Q27: 311927005
D28: 無形事業用固定資産 | F28: 0 | G28: =F28-H28 -> 0 | H28: 0 | I28: 0 | K28: 評価・換算差額等 | N28: 0 | O28: =N28-P28 -> 0 | P28: 0 | Q28: 0
E29: 地上権等 | F29: 0 | G29: =F29-H29 -> 0 | H29: 0 | I29: 0 | L29: その他有価証券評価差額金 | N29: 0 | O29: =N29-P29 -> 0 | P29: 0 | Q29: 0
E30: 特許権等 | F30: 0 | G30: =F30-H30 -> 0 | H30: 0 | I30: 0
C31: インフラ資産 | F31: 0 | G31: =F31-H31 -> 0 | H31: 0 | I31: 0
D32: 有形インフラ固定資産 | F32: 0 | G32: =F32-H32 -> 0 | H32: 0 | I32: 0
E33: 土地 | F33: 0 | G33: =F33-H33 -> 0 | H33: 0 | I33: 0
E34: 建物 | F34: 0 | G34: =F34-H34 -> 0 | H34: 0 | I34: 0
E35: 工作物 | F35: 0 | G35: =F35-H35 -> 0 | H35: 0 | I35: 0
D36: 無形インフラ固定資産 | F36: 0 | G36: =F36-H36 -> 0 | H36: 0 | I36: 0
E37: 地上権等 | F37: 0 | G37: =F37-H37 -> 0 | H37: 0 | I37: 0
E38: 特許権等 | F38: 0 | G38: =F38-H38 -> 0 | H38: 0 | I38: 0
C39: 重要物品 | F39: 94883241 | G39: =F39-H39 -> 93086574 | H39: 1796667 | I39: 2412675
C40: リース資産 | F40: 0 | G40: =F40-H40 -> 0 | H40: 0 | I40: 0
...

Sheet 行政コスト計算書（食肉市場事業会計）
A1: 比較行政コスト計算書（食肉市場事業会計） | I1: （単位：円）
E2: ='貸借対照表（一般会計）'!F2 -> 令和７年度 | G2: ='貸借対照表（一般会計）'!H2 -> 令和６年度 | H2: ='貸借対照表（一般会計）'!I2 -> 令和５年度
E3: 金額 | F3: 対前年度 増減額 | G3: 金額 | H3: 金額
A4: 経常収益 | E4: 4099390232 | F4: =E4-G4 -> 289290226 | G4: 3810100006 | H4: 4301257589
B5: 市税 | E5: 0 | F5: =E5-G5 -> 0 | G5: 0 | H5: 0
B6: 地方譲与税 | E6: 0 | F6: =E6-G6 -> 0 | G6: 0 | H6: 0
B7: 交付金 | E7: 0 | F7: =E7-G7 -> 0 | G7: 0 | H7: 0
B8: 地方特例交付金 | E8: 0 | F8: =E8-G8 -> 0 | G8: 0 | H8: 0
B9: 地方交付税 | E9: 0 | F9: =E9-G9 -> 0 | G9: 0 | H9: 0
B10: 保険料 | E10: 0 | F10: =E10-G10 -> 0 | G10: 0 | H10: 0
B11: 分担金及び負担金 | E11: 0 | F11: =E11-G11 -> 0 | G11: 0 | H11: 0
B12: 使用料及び手数料 | E12: 397863769 | F12: =E12-G12 -> -11958758 | G12: 409822527 | H12: 433012524
B13: 国・府支出金 | E13: 450262000 | F13: =E13-G13 -> -858991000 | G13: 1309253000 | H13: 2182171000
B14: 他会計からの繰入金 | E14: 2147469020 | F14: =E14-G14 -> 654497974 | G14: 1492971046 | H14: 1052895554
C15: 一般会計からの繰入金 | E15: 2147469020 | F15: =E15-G15 -> 654497974 | G15: 1492971046 | H15: 1052895554
C16: 特別会計からの繰入金 | E16: 0 | F16: =E16-G16 -> 0 | G16: 0 | H16: 0
C17: 公営企業からの繰入金 | E17: 0 | F17: =E17-G17 -> 0 | G17: 0 | H17: 0
B18: 棚卸資産売却収入 | E18: 0 | F18: =E18-G18 -> 0 | G18: 0 | H18: 0
B19: 受取利息及び配当金 | E19: 627039 | F19: =E19-G19 -> -385500 | G19: 1012539 | H19: 2690784
B20: その他経常収益 | E20: 1103168404 | F20: =E20-G20 -> 506127510 | G20: 597040894 | H20: 630487727
A21: 経常費用 | E21: 2740199770 | F21: =E21-G21 -> 329797755 | G21: 2410402015 | H21: 2040456922
B22: 給与関係費 | E22: 757289652 | F22: =E22-G22 -> 14356378 | G22: 742933274 | H22: 638864351
B23: 賞与引当金繰入額 | E23: 71545390 | F23: =E23-G23 -> 4610768 | G23: 66934622 | H23: 55349342
B24: 退職手当引当金繰入額 | E24: 65457512 | F24: =E24-G24 -> 23969042 | G24: 41488470 | H24: 14135271
B25: 物件費 | E25: 1380608527 | F25: =E25-G25 -> 188401183 | G25: 1192207344 | H25: 1103001744
B26: 維持補修費 | E26: 98847980 | F26: =E26-G26 -> 17520113 | G26: 81327867 | H26: 32041697
B27: 減価償却費 | E27: 170654598 | F27: =E27-G27 -> 786522 | G27: 169868076 | H27: 169903025
B28: 支払利息及び手数料 | E28: 192086429 | F28: =E28-G28 -> 109461730 | G28: 82624699 | H28: 26370596
B29: 貸倒損失 | E29: 0 | F29: =E29-G29 -> 0 | G29: 0 | H29: 0
B30: 貸倒引当金繰入額 | E30: 0 | F30: =E30-G30 -> 0 | G30: 0 | H30: 0
B31: 損失補償等引当金繰入額 | E31: 0 | F31: =E31-G31 -> 0 | G31: 0 | H31: 0
B32: 棚卸資産売却原価 | E32: 0 | F32: =E32-G32 -> 0 | G32: 0 | H32: 0
B33: 扶助費 | E33: 0 | F33: =E33-G33 -> 0 | G33: 0 | H33: 0
... B35: 他会計への繰出金 | E35: 1908893 | F35: =E35-G35 -> -29453676 | G35: 31362569 | H35: 364496
C36: 一般会計への繰出金 | E36: 0 | F36: =E36-G36 -> 0 | G36: 0 | H36: 0
C37: 特別会計への繰出金 | E37: 1908893 | F37: =E37-G37 -> -29453676 | G37: 31362569 | H37: 364496
C38: 公営企業への繰出金 | E38: 0 | F38: =E38-G38 -> 0 | G38: 0 | H38: 0
B39: その他経常費用 | E39: 0 | F39: =E39-G39 -> 0 | G39: 0 | H39: 0
A40: 経常収支差額 | E40: 1359190462 | F40: =E40-G40 -> -40507529 | G40: 1399697991 | H40: 2260800667
A41: 特別利益 | E41: 0 | F41: =E41-G41 -> 0 | G41: 0 | H41: 0
...

Sheet キャッシュ・フロー計算書（食肉市場事業会計）
A1: 比較キャッシュ・フロー計算書（食肉市場事業会計） | J1: （単位：円）
F2: ='貸借対照表（一般会計）'!F2 -> 令和７年度 | H2: ='貸借対照表（一般会計）'!H2 -> 令和６年度 | I2: ='貸借対照表（一般会計）'!I2 -> 令和５年度
F3: 金額 | G3: 対前年度 増減額 | H3: 金額 | I3: 金額
A4: 行政サービス活動
B5: 行政サービス活動収入 | F5: 4099268298 | G5: =F5-H5 -> 289168292 | H5: 3810100006 | I5: 4301257589
C6: 市税収入 | F6: 0 | G6: =F6-H6 -> 0 | H6: 0 | I6: 0
C7: 地方譲与税収入 | F7: 0 | G7: =F7-H7 -> 0 | H7: 0 | I7: 0
C8: 交付金収入 | F8: 0 | G8: =F8-H8 -> 0 | H8: 0 | I8: 0
C9: 地方特例交付金収入 | F9: 0 | G9: =F9-H9 -> 0 | H9: 0 | I9: 0
C10: 地方交付税収入 | F10: 0 | G10: =F10-H10 -> 0 | H10: 0 | I10: 0
C11: 保険料収入 | F11: 0 | G11: =F11-H11 -> 0 | H11: 0 | I11: 0
C12: 分担金及び負担金収入 | F12: 0 | G12: =F12-H12 -> 0 | H12: 0 | I12: 0
C13: 使用料及び手数料収入 | F13: 397863769 | G13: =F13-H13 -> -11958758 | H13: 409822527 | I13: 433012524
C14: 国・府支出金収入 | F14: 450262000 | G14: =F14-H14 -> -858991000 | H14: 1309253000 | I14: 2182171000
C15: 他会計からの繰入金収入 | F15: 2147469020 | G15: =F15-H15 -> 654497974 | H15: 1492971046 | I15: 1052895554
D16: 一般会計からの繰入金収入 | F16: 2147469020 | G16: =F16-H16 -> 654497974 | H16: 1492971046 | I16: 1052895554
D17: 特別会計からの繰入金収入 | F17: 0 | G17: =F17-H17 -> 0 | H17: 0 | I17: 0
D18: 公営企業会計からの繰入金収入 | F18: 0 | G18: =F18-H18 -> 0 | H18: 0 | I18: 0
C19: 棚卸資産売却収入 | F19: 0 | G19: =F19-H19 -> 0 | H19: 0 | I19: 0
C20: 受取利息及び配当金収入 | F20: 627039 | G20: =F20-H20 -> -385500 | H20: 1012539 | I20: 2690784
C21: その他行政収入 | F21: 1103046470 | G21: =F21-H21 -> 506005576 | H21: 597040894 | I21: 630487727
B22: 行政サービス活動支出 | F22: 2499476892 | G22: =F22-H22 -> 312016703 | H22: 2187460189 | I22: 1856969747
C23: 給与関係費支出 | F23: 824224274 | G23: =F23-H23 -> 25941658 | H23: 798282616 | I23: 694764814
C24: 物件費支出 | F24: 1380608527 | G24: =F24-H24 -> 188401183 | H24: 1192207344 | I24: 1103001744
C25: 維持補修費支出 | F25: 98847980 | G25: =F25-H25 -> 17520113 | H25: 81327867 | I25: 32041697
C26: 支払利息及び手数料支出 | F26: 192086429 | G26: =F26-H26 -> 109461730 | H26: 82624699 | I26: 26370596
C27: 扶助費支出 | F27: 0 | G27: =F27-H27 -> 0 | H27: 0 | I27: 0
C28: 負担金・補助金・交付金等支出 | F28: 1800789 | G28: =F28-H28 -> 145695 | H28: 1655094 | I28: 426400
C29: 他会計への繰出金支出 | F29: 1908893 | G29: =F29-H29 -> -29453676 | H29: 31362569 | I29: 364496
D30: 一般会計への繰出金支出 | F30: 0 | G30: =F30-H30 -> 0 | H30: 0 | I30: 0
D31: 特別会計への繰出金支出 | F31: 1908893 | G31: =F31-H31 -> -29453676 | H31: 31362569 | I31: 364496
D32: 公営企業会計への繰出金支出 | F32: 0 | G32: =F32-H32 -> 0 | H32: 0 | I32: 0
C33: その他行政支出 | F33: 0 | G33: =F33-H33 -> 0 | H33: 0 | I33: 0
A34: 行政サービス活動収支差額 | F34: 1599791406 | G34: =F34-H34 -> -22848411 | H34: 1622639817 | I34: 2444287842
A35: 投資活動
B36: 投資活動収入 | F36: 50000000 | G36: =F36-H36 -> 0 | H36: 50000000 | I36: 250000000
C37: 資産売却収入 | F37: 0 | G37: =F37-H37 -> 0 | H37: 0 | I37: 0
C38: 基金繰入金（取崩額） | F38: 0 | G38: =F38-H38 -> 0 | H38: 0 | I38: 0
D39: 財政調整基金（取崩額） | F39: 0 | G39: =F39-H39 -> 0 | H39: 0 | I39: 0
D40: その他の基金（取崩額） | F40: 0 | G40: =F40-H40 -> 0 | H40: 0 | I40: 0
...

Sheet 貸借対照表（駐車場事業会計）
A1: 比較貸借対照表（駐車場事業会計） | Q1: （単位：円）
F2: ='貸借対照表（一般会計）'!F2 -> 令和７年度 | H2: ='貸借対照表（一般会計）'!H2 -> 令和６年度 | I2: ='貸借対照表（一般会計）'!I2 -> 令和５年度 | N2: ='貸借対照表（一般会計）'!F2 -> 令和７年度 | P2: ='貸借対照表（一般会計）'!H2 -> 令和６年度 | Q2: ='貸借対照表（一般会計）'!I2 -> 令和５年度
F3: 金額 | G3: 対前年度 増減額 | H3: 金額 | I3: 金額 | N3: 金額 | O3: 対前年度 増減額 | P3: 金額 | Q3: 金額
A4: 資産の部 | J4: 負債の部
B5: 流動資産 | F5: 280851026 | G5: =F5-H5 -> -136981684 | H5: 417832710 | I5: 422280888 | K5: 流動負債 | N5: 2067408 | O5: =N5-P5 -> 328134 | P5: 1739274 | Q5: 1764369
C6: 現金預金 | F6: 280851026 | G6: =F6-H6 -> -136981684 | H6: 417832710 | I6: 422280888 | L6: 地方債 | N6: 0 | O6: =N6-P6 -> 0 | P6: 0 | Q6: 0
D7: 歳計現金 | F7: 280851026 | G7: =F7-H7 -> -136981684 | H7: 417832710 | I7: 422280888 | L7: 短期借入金 | N7: 0 | O7: =N7-P7 -> 0 | P7: 0 | Q7: 0
D8: 歳入歳出外現金 | F8: 0 | G8: =F8-H8 -> 0 | H8: 0 | I8: 0 | M8: 他会計借入金 | N8: 0 | O8: =N8-P8 -> 0 | P8: 0 | Q8: 0
C9: 未収金 | F9: 0 | G9: =F9-H9 -> 0 | H9: 0 | I9: 0 | M9: その他短期借入金 | N9: 0 | O9: =N9-P9 -> 0 | P9: 0 | Q9: 0
C10: 貸倒引当金 | F10: 0 | G10: =F10-H10 -> 0 | H10: 0 | I10: 0 | L10: 賞与引当金 | N10: 2067408 | O10: =N10-P10 -> 328134 | P10: 1739274 | Q10: 1764369
C11: 基金 | F11: 0 | G11: =F11-H11 -> 0 | H11: 0 | I11: 0 | L11: 未払金 | N11: 0 | O11: =N11-P11 -> 0 | P11: 0 | Q11: 0
D12: 財政調整基金 | F12: 0 | G12: =F12-H12 -> 0 | H12: 0 | I12: 0 | L12: 還付未済金 | N12: 0 | O12: =N12-P12 -> 0 | P12: 0 | Q12: 0
D13: 公債償還基金 | F13: 0 | G13: =F13-H13 -> 0 | H13: 0 | I13: 0 | L13: リース債務 | N13: 0 | O13: =N13-P13 -> 0 | P13: 0 | Q13: 0
C14: 貸倒引当金 | F14: 0 | G14: =F14-H14 -> 0 | H14: 0 | I14: 0 | L14: その他流動負債 | N14: 0 | O14: =N14-P14 -> 0 | P14: 0 | Q14: 0
C15: 短期貸付金 | F15: 0 | G15: =F15-H15 -> 0 | H15: 0 | I15: 0 | K15: 固定負債 | N15: 19634046 | O15: =N15-P15 -> 1321839 | P15: 18312207 | Q15: 15781071
C16: 貸倒引当金 | F16: 0 | G16: =F16-H16 -> 0 | H16: 0 | I16: 0 | L16: 地方債 | N16: 0 | O16: =N16-P16 -> 0 | P16: 0 | Q16: 0
C17: その他流動資産 | F17: 0 | G17: =F17-H17 -> 0 | H17: 0 | I17: 0 | L17: 長期借入金 | N17: 0 | O17: =N17-P17 -> 0 | P17: 0 | Q17: 0
B18: 固定資産 | F18: 21423596030 | G18: =F18-H18 -> -1110938751 | H18: 22534534781 | I18: 23599386431 | M18: 他会計借入金 | N18: 0 | O18: =N18-P18 -> 0 | P18: 0 | Q18: 0
C19: 事業用資産 | F19: 20878303834 | G19: =F19-H19 -> -1274378628 | H19: 22152682462 | I19: 23427061090 | M19: その他長期借入金 | N19: 0 | O19: =N19-P19 -> 0 | P19: 0 | Q19: 0
D20: 有形事業用固定資産 | F20: 20878303834 | G20: =F20-H20 -> -1274378628 | H20: 22152682462 | I20: 23427061090 | L20: 退職手当引当金 | N20: 19634046 | O20: =N20-P20 -> 1321839 | P20: 18312207 | Q20: 15781071
E21: 土地 | F21: 3691035860 | G21: =F21-H21 -> 0 | H21: 3691035860 | I21: 3691035860 | L21: 損失補償等引当金 | N21: 0 | O21: =N21-P21 -> 0 | P21: 0 | Q21: 0
E22: 建物 | F22: 17096305685 | G22: =F22-H22 -> -1252051572 | H22: 18348357257 | I22: 19600408829 | L22: 長期未払金 | N22: 0 | O22: =N22-P22 -> 0 | P22: 0 | Q22: 0
E23: 工作物 | F23: 90962289 | G23: =F23-H23 -> -22327056 | H23: 113289345 | I23: 135616401 | L23: リース債務 | N23: 0 | O23: =N23-P23 -> 0 | P23: 0 | Q23: 0
E24: 立木竹 | F24: 0 | G24: =F24-H24 -> 0 | H24: 0 | I24: 0 | L24: その他固定負債 | N24: 0 | O24: =N24-P24 -> 0 | P24: 0 | Q24: 0
E25: 船舶 | F25: 0 | G25: =F25-H25 -> 0 | H25: 0 | I25: 0 | J25: 負債の部合計 | N25: 21701454 | O25: =N25-P25 -> 1649973 | P25: 20051481 | Q25: 17545440
E26: 浮標等 | F26: 0 | G26: =F26-H26 -> 0 | H26: 0 | I26: 0 | J26: 純資産の部
E27: 航空機 | F27: 0 | G27: =F27-H27 -> 0 | H27: 0 | I27: 0 | K27: 累積余剰 | N27: 21682745602 | O27: =N27-P27 -> -1249570408 | P27: 22932316010 | Q27: 24004121879
D28: 無形事業用固定資産 | F28: 0 | G28: =F28-H28 -> 0 | H28: 0 | I28: 0 | K28: 評価・換算差額等 | N28: 0 | O28: =N28-P28 -> 0 | P28: 0 | Q28: 0
E29: 地上権等 | F29: 0 | G29: =F29-H29 -> 0 | H29: 0 | I29: 0 | L29: その他有価証券評価差額金 | N29: 0 | O29: =N29-P29 -> 0 | P29: 0 | Q29: 0
E30: 特許権等 | F30: 0 | G30: =F30-H30 -> 0 | H30: 0 | I30: 0
C31: インフラ資産 | F31: 0 | G31: =F31-H31 -> 0 | H31: 0 | I31: 0
D32: 有形インフラ固定資産 | F32: 0 | G32: =F32-H32 -> 0 | H32: 0 | I32: 0
E33: 土地 | F33: 0 | G33: =F33-H33 -> 0 | H33: 0 | I33: 0
E34: 建物 | F34: 0 | G34: =F34-H34 -> 0 | H34: 0 | I34: 0
E35: 工作物 | F35: 0 | G35: =F35-H35 -> 0 | H35: 0 | I35: 0
D36: 無形インフラ固定資産 | F36: 0 | G36: =F36-H36 -> 0 | H36: 0 | I36: 0
E37: 地上権等 | F37: 0 | G37: =F37-H37 -> 0 | H37: 0 | I37: 0
E38: 特許権等 | F38: 0 | G38: =F38-H38 -> 0 | H38: 0 | I38: 0
C39: 重要物品 | F39: 522514 | G39: =F39-H39 -> -714706 | H39: 1237220 | I39: 3122135
C40: リース資産 | F40: 0 | G40: =F40-H40 -> 0 | H40: 0 | I40: 0
...

Sheet 行政コスト計算書（駐車場事業会計）
A1: 比較行政コスト計算書（駐車場事業会計） | I1: （単位：円）
E2: ='貸借対照表（一般会計）'!F2 -> 令和７年度 | G2: ='貸借対照表（一般会計）'!H2 -> 令和６年度 | H2: ='貸借対照表（一般会計）'!I2 -> 令和５年度
E3: 金額 | F3: 対前年度 増減額 | G3: 金額 | H3: 金額
A4: 経常収益 | E4: 2826243390 | F4: =E4-G4 -> 47980614 | G4: 2778262776 | H4: 2796557951
B5: 市税 | E5: 0 | F5: =E5-G5 -> 0 | G5: 0 | H5: 0
B6: 地方譲与税 | E6: 0 | F6: =E6-G6 -> 0 | G6: 0 | H6: 0
B7: 交付金 | E7: 0 | F7: =E7-G7 -> 0 | G7: 0 | H7: 0
B8: 地方特例交付金 | E8: 0 | F8: =E8-G8 -> 0 | G8: 0 | H8: 0
B9: 地方交付税 | E9: 0 | F9: =E9-G9 -> 0 | G9: 0 | H9: 0
B10: 保険料 | E10: 0 | F10: =E10-G10 -> 0 | G10: 0 | H10: 0
B11: 分担金及び負担金 | E11: 0 | F11: =E11-G11 -> 0 | G11: 0 | H11: 0
B12: 使用料及び手数料 | E12: 264214384 | F12: =E12-G12 -> -9778469 | G12: 273992853 | H12: 288293406
B13: 国・府支出金 | E13: 0 | F13: =E13-G13 -> 0 | G13: 0 | H13: 0
B14: 他会計からの繰入金 | E14: 0 | F14: =E14-G14 -> 0 | G14: 0 | H14: 0
C15: 一般会計からの繰入金 | E15: 0 | F15: =E15-G15 -> 0 | G15: 0 | H15: 0
C16: 特別会計からの繰入金 | E16: 0 | F16: =E16-G16 -> 0 | G16: 0 | H16: 0
C17: 公営企業からの繰入金 | E17: 0 | F17: =E17-G17 -> 0 | G17: 0 | H17: 0
B18: 棚卸資産売却収入 | E18: 0 | F18: =E18-G18 -> 0 | G18: 0 | H18: 0
B19: 受取利息及び配当金 | E19: 2144778 | F19: =E19-G19 -> 1873329 | G19: 271449 | H19: 7120
B20: その他経常収益 | E20: 2559884228 | F20: =E20-G20 -> 55885754 | G20: 2503998474 | H20: 2508257425
A21: 経常費用 | E21: 4075813798 | F21: =E21-G21 -> 225745153 | G21: 3850068645 | H21: 3866058849
B22: 給与関係費 | E22: 24882739 | F22: =E22-G22 -> 552476 | G22: 24330263 | H22: 24777066
B23: 賞与引当金繰入額 | E23: 2067408 | F23: =E23-G23 -> 328134 | G23: 1739274 | H23: 1764369
B24: 退職手当引当金繰入額 | E24: 1321839 | F24: =E24-G24 -> -1209297 | G24: 2531136 | H24: -477807
B25: 物件費 | E25: 66983672 | F25: =E25-G25 -> -191393221 | G25: 258376893 | H25: 156104041
B26: 維持補修費 | E26: 366812310 | F26: =E26-G26 -> -153068000 | G26: 519880310 | H26: 348179300
B27: 減価償却費 | E27: 1275093334 | F27: =E27-G27 -> -1170209 | G27: 1276263543 | H27: 1276709214
B28: 支払利息及び手数料 | E28: 0 | F28: =E28-G28 -> 0 | G28: 0 | H28: 0
B29: 貸倒損失 | E29: 0 | F29: =E29-G29 -> 0 | G29: 0 | H29: 0
B30: 貸倒引当金繰入額 | E30: 0 | F30: =E30-G30 -> 0 | G30: 0 | H30: 0
B31: 損失補償等引当金繰入額 | E31: 0 | F31: =E31-G31 -> 0 | G31: 0 | H31: 0
B32: 棚卸資産売却原価 | E32: 0 | F32: =E32-G32 -> 0 | G32: 0 | H32: 0
B33: 扶助費 | E33: 0 | F33: =E33-G33 -> 0 | G33: 0 | H33: 0
... B35: 他会計への繰出金 | E35: 1832026015 | F35: =E35-G35 -> 670967055 | G35: 1161058960 | H35: 1541041055
C36: 一般会計への繰出金 | E36: 1831973805 | F36: =E36-G36 -> 670966361 | G36: 1161007444 | H36: 1540989546
C37: 特別会計への繰出金 | E37: 52210 | F37: =E37-G37 -> 694 | G37: 51516 | H37: 51509
C38: 公営企業への繰出金 | E38: 0 | F38: =E38-G38 -> 0 | G38: 0 | H38: 0
B39: その他経常費用 | E39: 0 | F39: =E39-G39 -> 0 | G39: 0 | H39: 0
A40: 経常収支差額 | E40: -1249570408 | F40: =E40-G40 -> -177764539 | G40: -1071805869 | H40: -1069500898
A41: 特別利益 | E41: 0 | F41: =E41-G41 -> 0 | G41: 0 | H41: 0
...

Sheet キャッシュ・フロー計算書（駐車場事業会計）
A1: 比較キャッシュ・フロー計算書（駐車場事業会計） | J1: （単位：円）
F2: ='貸借対照表（一般会計）'!F2 -> 令和７年度 | H2: ='貸借対照表（一般会計）'!H2 -> 令和６年度 | I2: ='貸借対照表（一般会計）'!I2 -> 令和５年度
F3: 金額 | G3: 対前年度 増減額 | H3: 金額 | I3: 金額
A4: 行政サービス活動
B5: 行政サービス活動収入 | F5: 2826243390 | G5: =F5-H5 -> 47980614 | H5: 2778262776 | I5: 2796557951
C6: 市税収入 | F6: 0 | G6: =F6-H6 -> 0 | H6: 0 | I6: 0
C7: 地方譲与税収入 | F7: 0 | G7: =F7-H7 -> 0 | H7: 0 | I7: 0
C8: 交付金収入 | F8: 0 | G8: =F8-H8 -> 0 | H8: 0 | I8: 0
C9: 地方特例交付金収入 | F9: 0 | G9: =F9-H9 -> 0 | H9: 0 | I9: 0
C10: 地方交付税収入 | F10: 0 | G10: =F10-H10 -> 0 | H10: 0 | I10: 0
C11: 保険料収入 | F11: 0 | G11: =F11-H11 -> 0 | H11: 0 | I11: 0
C12: 分担金及び負担金収入 | F12: 0 | G12: =F12-H12 -> 0 | H12: 0 | I12: 0
C13: 使用料及び手数料収入 | F13: 264214384 | G13: =F13-H13 -> -9778469 | H13: 273992853 | I13: 288293406
C14: 国・府支出金収入 | F14: 0 | G14: =F14-H14 -> 0 | H14: 0 | I14: 0
C15: 他会計からの繰入金収入 | F15: 0 | G15: =F15-H15 -> 0 | H15: 0 | I15: 0
D16: 一般会計からの繰入金収入 | F16: 0 | G16: =F16-H16 -> 0 | H16: 0 | I16: 0
D17: 特別会計からの繰入金収入 | F17: 0 | G17: =F17-H17 -> 0 | H17: 0 | I17: 0
D18: 公営企業会計からの繰入金収入 | F18: 0 | G18: =F18-H18 -> 0 | H18: 0 | I18: 0
C19: 棚卸資産売却収入 | F19: 0 | G19: =F19-H19 -> 0 | H19: 0 | I19: 0
C20: 受取利息及び配当金収入 | F20: 2144778 | G20: =F20-H20 -> 1873329 | H20: 271449 | I20: 7120
C21: その他行政収入 | F21: 2559884228 | G21: =F21-H21 -> 55885754 | H21: 2503998474 | I21: 2508257425
B22: 行政サービス活動支出 | F22: 967096686 | G22: =F22-H22 -> -443194931 | H22: 1410291617 | I22: 1048679943
C23: 給与関係費支出 | F23: 26622013 | G23: =F23-H23 -> 527381 | H23: 26094632 | I23: 26383482
C24: 物件費支出 | F24: 66983672 | G24: =F24-H24 -> -191393221 | H24: 258376893 | I24: 156104041
C25: 維持補修費支出 | F25: 366812310 | G25: =F25-H25 -> -153068000 | H25: 519880310 | I25: 348179300
C26: 支払利息及び手数料支出 | F26: 0 | G26: =F26-H26 -> 0 | H26: 0 | I26: 0
C27: 扶助費支出 | F27: 0 | G27: =F27-H27 -> 0 | H27: 0 | I27: 0
C28: 負担金・補助金・交付金等支出 | F28: 506626481 | G28: =F28-H28 -> -99261785 | H28: 605888266 | I28: 517961611
C29: 他会計への繰出金支出 | F29: 52210 | G29: =F29-H29 -> 694 | H29: 51516 | I29: 51509
D30: 一般会計への繰出金支出 | F30: 0 | G30: =F30-H30 -> 0 | H30: 0 | I30: 0
D31: 特別会計への繰出金支出 | F31: 52210 | G31: =F31-H31 -> 694 | H31: 51516 | I31: 51509
D32: 公営企業会計への繰出金支出 | F32: 0 | G32: =F32-H32 -> 0 | H32: 0 | I32: 0
C33: その他行政支出 | F33: 0 | G33: =F33-H33 -> 0 | H33: 0 | I33: 0
A34: 行政サービス活動収支差額 | F34: 1859146704 | G34: =F34-H34 -> 491175545 | H34: 1367971159 | I34: 1747878008
A35: 投資活動
B36: 投資活動収入 | F36: 0 | G36: =F36-H36 -> 0 | H36: 0 | I36: 0
C37: 資産売却収入 | F37: 0 | G37: =F37-H37 -> 0 | H37: 0 | I37: 0
C38: 基金繰入金（取崩額） | F38: 0 | G38: =F38-H38 -> 0 | H38: 0 | I38: 0
D39: 財政調整基金（取崩額） | F39: 0 | G39: =F39-H39 -> 0 | H39: 0 | I39: 0
D40: その他の基金（取崩額） | F40: 0 | G40: =F40-H40 -> 0 | H40: 0 | I40: 0
...

Sheet 貸借対照表（母子父子寡婦福祉貸付資金会計）
A1: 比較貸借対照表（母子父子寡婦福祉貸付資金会計） | Q1: （単位：円）
F2: ='貸借対照表（一般会計）'!F2 -> 令和７年度 | H2: ='貸借対照表（一般会計）'!H2 -> 令和６年度 | I2: ='貸借対照表（一般会計）'!I2 -> 令和５年度 | N2: ='貸借対照表（一般会計）'!F2 -> 令和７年度 | P2: ='貸借対照表（一般会計）'!H2 -> 令和６年度 | Q2: ='貸借対照表（一般会計）'!I2 -> 令和５年度
F3: 金額 | G3: 対前年度 増減額 | H3: 金額 | I3: 金額 | N3: 金額 | O3: 対前年度 増減額 | P3: 金額 | Q3: 金額
A4: 資産の部 | J4: 負債の部
B5: 流動資産 | F5: 678576590 | G5: =F5-H5 -> 64062612 | H5: 614513978 | I5: 639216363 | K5: 流動負債 | N5: 177548691 | O5: =N5-P5 -> -25242184 | P5: 202790875 | Q5: 109376515
C6: 現金預金 | F6: 259390362 | G6: =F6-H6 -> -201845864 | H6: 461236226 | I6: 513594688 | L6: 地方債 | N6: 177548691 | O6: =N6-P6 -> -25242184 | P6: 202790875 | Q6: 109376515
D7: 歳計現金 | F7: 259390362 | G7: =F7-H7 -> -201845864 | H7: 461236226 | I7: 513594688 | L7: 短期借入金 | N7: 0 | O7: =N7-P7 -> 0 | P7: 0 | Q7: 0
D8: 歳入歳出外現金 | F8: 0 | G8: =F8-H8 -> 0 | H8: 0 | I8: 0 | M8: 他会計借入金 | N8: 0 | O8: =N8-P8 -> 0 | P8: 0 | Q8: 0
C9: 未収金 | F9: 556195193 | G9: =F9-H9 -> -17195361 | H9: 573390554 | I9: 595645582 | M9: その他短期借入金 | N9: 0 | O9: =N9-P9 -> 0 | P9: 0 | Q9: 0
C10: 貸倒引当金 | F10: -298783897 | G10: =F10-H10 -> 262259161 | H10: -561043058 | I10: -584255389 | L10: 賞与引当金 | N10: 0 | O10: =N10-P10 -> 0 | P10: 0 | Q10: 0
C11: 基金 | F11: 0 | G11: =F11-H11 -> 0 | H11: 0 | I11: 0 | L11: 未払金 | N11: 0 | O11: =N11-P11 -> 0 | P11: 0 | Q11: 0
D12: 財政調整基金 | F12: 0 | G12: =F12-H12 -> 0 | H12: 0 | I12: 0 | L12: 還付未済金 | N12: 0 | O12: =N12-P12 -> 0 | P12: 0 | Q12: 0
D13: 公債償還基金 | F13: 0 | G13: =F13-H13 -> 0 | H13: 0 | I13: 0 | L13: リース債務 | N13: 0 | O13: =N13-P13 -> 0 | P13: 0 | Q13: 0
C14: 貸倒引当金 | F14: 0 | G14: =F14-H14 -> 0 | H14: 0 | I14: 0 | L14: その他流動負債 | N14: 0 | O14: =N14-P14 -> 0 | P14: 0 | Q14: 0
C15: 短期貸付金 | F15: 177748164 | G15: =F15-H15 -> -33192429 | H15: 210940593 | I15: 184272064 | K15: 固定負債 | N15: 1498758656 | O15: =N15-P15 -> -177548691 | P15: 1676307347 | Q15: 1879098222
C16: 貸倒引当金 | F16: -15973232 | G16: =F16-H16 -> 54037105 | H16: -70010337 | I16: -70040582 | L16: 地方債 | N16: 1498758656 | O16: =N16-P16 -> -177548691 | P16: 1676307347 | Q16: 1879098222
C17: その他流動資産 | F17: 0 | G17: =F17-H17 -> 0 | H17: 0 | I17: 0 | L17: 長期借入金 | N17: 0 | O17: =N17-P17 -> 0 | P17: 0 | Q17: 0
B18: 固定資産 | F18: 1555495741 | G18: =F18-H18 -> -39181613 | H18: 1594677354 | I18: 1653699870 | M18: 他会計借入金 | N18: 0 | O18: =N18-P18 -> 0 | P18: 0 | Q18: 0
C19: 事業用資産 | F19: 0 | G19: =F19-H19 -> 0 | H19: 0 | I19: 0 | M19: その他長期借入金 | N19: 0 | O19: =N19-P19 -> 0 | P19: 0 | Q19: 0
D20: 有形事業用固定資産 | F20: 0 | G20: =F20-H20 -> 0 | H20: 0 | I20: 0 | L20: 退職手当引当金 | N20: 0 | O20: =N20-P20 -> 0 | P20: 0 | Q20: 0
E21: 土地 | F21: 0 | G21: =F21-H21 -> 0 | H21: 0 | I21: 0 | L21: 損失補償等引当金 | N21: 0 | O21: =N21-P21 -> 0 | P21: 0 | Q21: 0
E22: 建物 | F22: 0 | G22: =F22-H22 -> 0 | H22: 0 | I22: 0 | L22: 長期未払金 | N22: 0 | O22: =N22-P22 -> 0 | P22: 0 | Q22: 0
E23: 工作物 | F23: 0 | G23: =F23-H23 -> 0 | H23: 0 | I23: 0 | L23: リース債務 | N23: 0 | O23: =N23-P23 -> 0 | P23: 0 | Q23: 0
E24: 立木竹 | F24: 0 | G24: =F24-H24 -> 0 | H24: 0 | I24: 0 | L24: その他固定負債 | N24: 0 | O24: =N24-P24 -> 0 | P24: 0 | Q24: 0
E25: 船舶 | F25: 0 | G25: =F25-H25 -> 0 | H25: 0 | I25: 0 | J25: 負債の部合計 | N25: 1676307347 | O25: =N25-P25 -> -202790875 | P25: 1879098222 | Q25: 1988474737
E26: 浮標等 | F26: 0 | G26: =F26-H26 -> 0 | H26: 0 | I26: 0 | J26: 純資産の部
E27: 航空機 | F27: 0 | G27: =F27-H27 -> 0 | H27: 0 | I27: 0 | K27: 累積余剰 | N27: 557764984 | O27: =N27-P27 -> 227671874 | P27: 330093110 | Q27: 304441496
D28: 無形事業用固定資産 | F28: 0 | G28: =F28-H28 -> 0 | H28: 0 | I28: 0 | K28: 評価・換算差額等 | N28: 0 | O28: =N28-P28 -> 0 | P28: 0 | Q28: 0
E29: 地上権等 | F29: 0 | G29: =F29-H29 -> 0 | H29: 0 | I29: 0 | L29: その他有価証券評価差額金 | N29: 0 | O29: =N29-P29 -> 0 | P29: 0 | Q29: 0
E30: 特許権等 | F30: 0 | G30: =F30-H30 -> 0 | H30: 0 | I30: 0
C31: インフラ資産 | F31: 0 | G31: =F31-H31 -> 0 | H31: 0 | I31: 0
D32: 有形インフラ固定資産 | F32: 0 | G32: =F32-H32 -> 0 | H32: 0 | I32: 0
E33: 土地 | F33: 0 | G33: =F33-H33 -> 0 | H33: 0 | I33: 0
E34: 建物 | F34: 0 | G34: =F34-H34 -> 0 | H34: 0 | I34: 0
E35: 工作物 | F35: 0 | G35: =F35-H35 -> 0 | H35: 0 | I35: 0
D36: 無形インフラ固定資産 | F36: 0 | G36: =F36-H36 -> 0 | H36: 0 | I36: 0
E37: 地上権等 | F37: 0 | G37: =F37-H37 -> 0 | H37: 0 | I37: 0
E38: 特許権等 | F38: 0 | G38: =F38-H38 -> 0 | H38: 0 | I38: 0
C39: 重要物品 | F39: 0 | G39: =F39-H39 -> 0 | H39: 0 | I39: 0
C40: リース資産 | F40: 0 | G40: =F40-H40 -> 0 | H40: 0 | I40: 0
...

Sheet 行政コスト計算書（母子父子寡婦福祉貸付資金会計）
A1: 比較行政コスト計算書（母子父子寡婦福祉貸付資金会計） | I1: （単位：円）
E2: ='貸借対照表（一般会計）'!F2 -> 令和７年度 | G2: ='貸借対照表（一般会計）'!H2 -> 令和６年度 | H2: ='貸借対照表（一般会計）'!I2 -> 令和５年度
E3: 金額 | F3: 対前年度 増減額 | G3: 金額 | H3: 金額
A4: 経常収益 | E4: 15768131 | F4: =E4-G4 -> 2619432 | G4: 13148699 | H4: 10615717
B5: 市税 | E5: 0 | F5: =E5-G5 -> 0 | G5: 0 | H5: 0
B6: 地方譲与税 | E6: 0 | F6: =E6-G6 -> 0 | G6: 0 | H6: 0
B7: 交付金 | E7: 0 | F7: =E7-G7 -> 0 | G7: 0 | H7: 0
B8: 地方特例交付金 | E8: 0 | F8: =E8-G8 -> 0 | G8: 0 | H8: 0
B9: 地方交付税 | E9: 0 | F9: =E9-G9 -> 0 | G9: 0 | H9: 0
B10: 保険料 | E10: 0 | F10: =E10-G10 -> 0 | G10: 0 | H10: 0
B11: 分担金及び負担金 | E11: 0 | F11: =E11-G11 -> 0 | G11: 0 | H11: 0
B12: 使用料及び手数料 | E12: 0 | F12: =E12-G12 -> 0 | G12: 0 | H12: 0
B13: 国・府支出金 | E13: 0 | F13: =E13-G13 -> 0 | G13: 0 | H13: 0
B14: 他会計からの繰入金 | E14: 9088957 | F14: =E14-G14 -> 965067 | G14: 8123890 | H14: 6542769
C15: 一般会計からの繰入金 | E15: 9088957 | F15: =E15-G15 -> 965067 | G15: 8123890 | H15: 6542769
C16: 特別会計からの繰入金 | E16: 0 | F16: =E16-G16 -> 0 | G16: 0 | H16: 0
C17: 公営企業からの繰入金 | E17: 0 | F17: =E17-G17 -> 0 | G17: 0 | H17: 0
B18: 棚卸資産売却収入 | E18: 0 | F18: =E18-G18 -> 0 | G18: 0 | H18: 0
B19: 受取利息及び配当金 | E19: 61619 | F19: =E19-G19 -> 6510 | G19: 55109 | H19: 61846
B20: その他経常収益 | E20: 6617555 | F20: =E20-G20 -> 1647855 | G20: 4969700 | H20: 4011102
A21: 経常費用 | E21: -211903743 | F21: =E21-G21 -> -199400828 | G21: -12502915 | H21: -30623756
B22: 給与関係費 | E22: 6204572 | F22: =E22-G22 -> 1317854 | G22: 4886718 | H22: 4271607
B23: 賞与引当金繰入額 | E23: 0 | F23: =E23-G23 -> 0 | G23: 0 | H23: 0
B24: 退職手当引当金繰入額 | E24: 0 | F24: =E24-G24 -> 0 | G24: 0 | H24: 0
B25: 物件費 | E25: 9497064 | F25: =E25-G25 -> 1325693 | G25: 8171371 | H25: 6266527
B26: 維持補修費 | E26: 0 | F26: =E26-G26 -> 0 | G26: 0 | H26: 0
B27: 減価償却費 | E27: 0 | F27: =E27-G27 -> 0 | G27: 0 | H27: 0
B28: 支払利息及び手数料 | E28: 0 | F28: =E28-G28 -> 0 | G28: 0 | H28: 0
B29: 貸倒損失 | E29: 0 | F29: =E29-G29 -> 0 | G29: 0 | H29: 0
B30: 貸倒引当金繰入額 | E30: -329158400 | F30: =E30-G30 -> -248768251 | G30: -80390149 | H30: -41304169
B31: 損失補償等引当金繰入額 | E31: 0 | F31: =E31-G31 -> 0 | G31: 0 | H31: 0
B32: 棚卸資産売却原価 | E32: 0 | F32: =E32-G32 -> 0 | G32: 0 | H32: 0
B33: 扶助費 | E33: 0 | F33: =E33-G33 -> 0 | G33: 0 | H33: 0
... B35: 他会計への繰出金 | E35: 101553021 | F35: =E35-G35 -> 46723876 | G35: 54829145 | H35: 142279
C36: 一般会計への繰出金 | E36: 101395437 | F36: =E36-G36 -> 46707179 | G36: 54688258 | H36: 0
C37: 特別会計への繰出金 | E37: 157584 | F37: =E37-G37 -> 16697 | G37: 140887 | H37: 142279
C38: 公営企業への繰出金 | E38: 0 | F38: =E38-G38 -> 0 | G38: 0 | H38: 0
B39: その他経常費用 | E39: 0 | F39: =E39-G39 -> 0 | G39: 0 | H39: 0
A40: 経常収支差額 | E40: 227671874 | F40: =E40-G40 -> 202020260 | G40: 25651614 | H40: 41239473
A41: 特別利益 | E41: 0 | F41: =E41-G41 -> 0 | G41: 0 | H41: 0
...

Sheet キャッシュ・フロー計算書（母子父子寡婦福祉貸付資金会計)
A1: 比較キャッシュ・フロー計算書（母子父子寡婦福祉貸付資金会計） | J1: （単位：円）
F2: ='貸借対照表（一般会計）'!F2 -> 令和７年度 | H2: ='貸借対照表（一般会計）'!H2 -> 令和６年度 | I2: ='貸借対照表（一般会計）'!I2 -> 令和５年度
F3: 金額 | G3: 対前年度 増減額 | H3: 金額 | I3: 金額
A4: 行政サービス活動
B5: 行政サービス活動収入 | F5: 15859220 | G5: =F5-H5 -> 2660244 | H5: 13198976 | I5: 10680413
C6: 市税収入 | F6: 0 | G6: =F6-H6 -> 0 | H6: 0 | I6: 0
C7: 地方譲与税収入 | F7: 0 | G7: =F7-H7 -> 0 | H7: 0 | I7: 0
C8: 交付金収入 | F8: 0 | G8: =F8-H8 -> 0 | H8: 0 | I8: 0
C9: 地方特例交付金収入 | F9: 0 | G9: =F9-H9 -> 0 | H9: 0 | I9: 0
C10: 地方交付税収入 | F10: 0 | G10: =F10-H10 -> 0 | H10: 0 | I10: 0
C11: 保険料収入 | F11: 0 | G11: =F11-H11 -> 0 | H11: 0 | I11: 0
C12: 分担金及び負担金収入 | F12: 0 | G12: =F12-H12 -> 0 | H12: 0 | I12: 0
C13: 使用料及び手数料収入 | F13: 0 | G13: =F13-H13 -> 0 | H13: 0 | I13: 0
C14: 国・府支出金収入 | F14: 0 | G14: =F14-H14 -> 0 | H14: 0 | I14: 0
C15: 他会計からの繰入金収入 | F15: 9088957 | G15: =F15-H15 -> 965067 | H15: 8123890 | I15: 6542769
D16: 一般会計からの繰入金収入 | F16: 9088957 | G16: =F16-H16 -> 965067 | H16: 8123890 | I16: 6542769
D17: 特別会計からの繰入金収入 | F17: 0 | G17: =F17-H17 -> 0 | H17: 0 | I17: 0
D18: 公営企業会計からの繰入金収入 | F18: 0 | G18: =F18-H18 -> 0 | H18: 0 | I18: 0
C19: 棚卸資産売却収入 | F19: 0 | G19: =F19-H19 -> 0 | H19: 0 | I19: 0
C20: 受取利息及び配当金収入 | F20: 152708 | G20: =F20-H20 -> 47322 | H20: 105386 | I20: 126542
C21: その他行政収入 | F21: 6617555 | G21: =F21-H21 -> 1647855 | H21: 4969700 | I21: 4011102
B22: 行政サービス活動支出 | F22: 15859220 | G22: =F22-H22 -> 2660244 | H22: 13198976 | I22: 10680413
C23: 給与関係費支出 | F23: 6204572 | G23: =F23-H23 -> 1317854 | H23: 4886718 | I23: 4271607
C24: 物件費支出 | F24: 9497064 | G24: =F24-H24 -> 1325693 | H24: 8171371 | I24: 6266527
C25: 維持補修費支出 | F25: 0 | G25: =F25-H25 -> 0 | H25: 0 | I25: 0
C26: 支払利息及び手数料支出 | F26: 0 | G26: =F26-H26 -> 0 | H26: 0 | I26: 0
C27: 扶助費支出 | F27: 0 | G27: =F27-H27 -> 0 | H27: 0 | I27: 0
C28: 負担金・補助金・交付金等支出 | F28: 0 | G28: =F28-H28 -> 0 | H28: 0 | I28: 0
C29: 他会計への繰出金支出 | F29: 157584 | G29: =F29-H29 -> 16697 | H29: 140887 | I29: 142279
D30: 一般会計への繰出金支出 | F30: 0 | G30: =F30-H30 -> 0 | H30: 0 | I30: 0
D31: 特別会計への繰出金支出 | F31: 157584 | G31: =F31-H31 -> 16697 | H31: 140887 | I31: 142279
D32: 公営企業会計への繰出金支出 | F32: 0 | G32: =F32-H32 -> 0 | H32: 0 | I32: 0
C33: その他行政支出 | F33: 0 | G33: =F33-H33 -> 0 | H33: 0 | I33: 0
A34: 行政サービス活動収支差額 | F34: 0 | G34: =F34-H34 -> 0 | H34: 0 | I34: 0
A35: 投資活動
B36: 投資活動収入 | F36: 208169592 | G36: =F36-H36 -> -4534627 | H36: 212704219 | I36: 236331272
C37: 資産売却収入 | F37: 0 | G37: =F37-H37 -> 0 | H37: 0 | I37: 0
C38: 基金繰入金（取崩額） | F38: 0 | G38: =F38-H38 -> 0 | H38: 0 | I38: 0
D39: 財政調整基金（取崩額） | F39: 0 | G39: =F39-H39 -> 0 | H39: 0 | I39: 0
D40: その他の基金（取崩額） | F40: 0 | G40: =F40-H40 -> 0 | H40: 0 | I40: 0
...

Sheet 貸借対照表（国民健康保険事業会計）
A1: 比較貸借対照表（国民健康保険事業会計） | Q1: （単位：円）
F2: ='貸借対照表（一般会計）'!F2 -> 令和７年度 | H2: ='貸借対照表（一般会計）'!H2 -> 令和６年度 | I2: ='貸借対照表（一般会計）'!I2 -> 令和５年度 | N2: ='貸借対照表（一般会計）'!F2 -> 令和７年度 | P2: ='貸借対照表（一般会計）'!H2 -> 令和６年度 | Q2: ='貸借対照表（一般会計）'!I2 -> 令和５年度
F3: 金額 | G3: 対前年度 増減額 | H3: 金額 | I3: 金額 | N3: 金額 | O3: 対前年度 増減額 | P3: 金額 | Q3: 金額
A4: 資産の部 | J4: 負債の部
B5: 流動資産 | F5: 6373914386 | G5: =F5-H5 -> 1389092052 | H5: 4984822334 | I5: 6089120486 | K5: 流動負債 | N5: 279610554 | O5: =N5-P5 -> 51067911 | P5: 228542643 | Q5: 225313620
C6: 現金預金 | F6: 993042860 | G6: =F6-H6 -> 993042860 | H6: 0 | I6: 0 | L6: 地方債 | N6: 0 | O6: =N6-P6 -> 0 | P6: 0 | Q6: 0
D7: 歳計現金 | F7: 993042860 | G7: =F7-H7 -> 993042860 | H7: 0 | I7: 0 | L7: 短期借入金 | N7: 0 | O7: =N7-P7 -> 0 | P7: 0 | Q7: 0
D8: 歳入歳出外現金 | F8: 0 | G8: =F8-H8 -> 0 | H8: 0 | I8: 0 | M8: 他会計借入金 | N8: 0 | O8: =N8-P8 -> 0 | P8: 0 | Q8: 0
C9: 未収金 | F9: 12608056333 | G9: =F9-H9 -> 531692491 | H9: 12076363842 | I9: 10654223984 | M9: その他短期借入金 | N9: 0 | O9: =N9-P9 -> 0 | P9: 0 | Q9: 0
C10: 貸倒引当金 | F10: -7227184807 | G10: =F10-H10 -> -135643299 | H10: -7091541508 | I10: -4565103498 | L10: 賞与引当金 | N10: 231704862 | O10: =N10-P10 -> 7046574 | P10: 224658288 | Q10: 220134480
C11: 基金 | F11: 0 | G11: =F11-H11 -> 0 | H11: 0 | I11: 0 | L11: 未払金 | N11: 0 | O11: =N11-P11 -> 0 | P11: 0 | Q11: 0
D12: 財政調整基金 | F12: 0 | G12: =F12-H12 -> 0 | H12: 0 | I12: 0 | L12: 還付未済金 | N12: 0 | O12: =N12-P12 -> 0 | P12: 0 | Q12: 0
D13: 公債償還基金 | F13: 0 | G13: =F13-H13 -> 0 | H13: 0 | I13: 0 | L13: リース債務 | N13: 47905692 | O13: =N13-P13 -> 44021337 | P13: 3884355 | Q13: 5179140
C14: 貸倒引当金 | F14: 0 | G14: =F14-H14 -> 0 | H14: 0 | I14: 0 | L14: その他流動負債 | N14: 0 | O14: =N14-P14 -> 0 | P14: 0 | Q14: 0
C15: 短期貸付金 | F15: 0 | G15: =F15-H15 -> 0 | H15: 0 | I15: 0 | K15: 固定負債 | N15: 2577819351 | O15: =N15-P15 -> 187027379 | P15: 2390791972 | Q15: 2495228691
C16: 貸倒引当金 | F16: 0 | G16: =F16-H16 -> 0 | H16: 0 | I16: 0 | L16: 地方債 | N16: 0 | O16: =N16-P16 -> 0 | P16: 0 | Q16: 0
C17: その他流動資産 | F17: 0 | G17: =F17-H17 -> 0 | H17: 0 | I17: 0 | L17: 長期借入金 | N17: 0 | O17: =N17-P17 -> 0 | P17: 0 | Q17: 0
B18: 固定資産 | F18: 11306521227 | G18: =F18-H18 -> -610452765 | H18: 11916973992 | I18: 12685854590 | M18: 他会計借入金 | N18: 0 | O18: =N18-P18 -> 0 | P18: 0 | Q18: 0
C19: 事業用資産 | F19: 995097813 | G19: =F19-H19 -> -4615572 | H19: 999713385 | I19: 1004328957 | M19: その他長期借入金 | N19: 0 | O19: =N19-P19 -> 0 | P19: 0 | Q19: 0
D20: 有形事業用固定資産 | F20: 995097813 | G20: =F20-H20 -> -4615572 | H20: 999713385 | I20: 1004328957 | L20: 退職手当引当金 | N20: 2493984390 | O20: =N20-P20 -> 103192418 | P20: 2390791972 | Q20: 2491344336
E21: 土地 | F21: 792781972 | G21: =F21-H21 -> 0 | H21: 792781972 | I21: 792781972 | L21: 損失補償等引当金 | N21: 0 | O21: =N21-P21 -> 0 | P21: 0 | Q21: 0
E22: 建物 | F22: 202315841 | G22: =F22-H22 -> -4615572 | H22: 206931413 | I22: 211546985 | L22: 長期未払金 | N22: 0 | O22: =N22-P22 -> 0 | P22: 0 | Q22: 0
E23: 工作物 | F23: 0 | G23: =F23-H23 -> 0 | H23: 0 | I23: 0 | L23: リース債務 | N23: 83834961 | O23: =N23-P23 -> 83834961 | P23: 0 | Q23: 3884355
E24: 立木竹 | F24: 0 | G24: =F24-H24 -> 0 | H24: 0 | I24: 0 | L24: その他固定負債 | N24: 0 | O24: =N24-P24 -> 0 | P24: 0 | Q24: 0
E25: 船舶 | F25: 0 | G25: =F25-H25 -> 0 | H25: 0 | I25: 0 | J25: 負債の部合計 | N25: 2857429905 | O25: =N25-P25 -> 238095290 | P25: 2619334615 | Q25: 2720542311
E26: 浮標等 | F26: 0 | G26: =F26-H26 -> 0 | H26: 0 | I26: 0 | J26: 純資産の部
E27: 航空機 | F27: 0 | G27: =F27-H27 -> 0 | H27: 0 | I27: 0 | K27: 累積余剰 | N27: 14823005708 | O27: =N27-P27 -> 540543997 | P27: 14282461711 | Q27: 16054432765
D28: 無形事業用固定資産 | F28: 0 | G28: =F28-H28 -> 0 | H28: 0 | I28: 0 | K28: 評価・換算差額等 | N28: 0 | O28: =N28-P28 -> 0 | P28: 0 | Q28: 0
E29: 地上権等 | F29: 0 | G29: =F29-H29 -> 0 | H29: 0 | I29: 0 | L29: その他有価証券評価差額金 | N29: 0 | O29: =N29-P29 -> 0 | P29: 0 | Q29: 0
E30: 特許権等 | F30: 0 | G30: =F30-H30 -> 0 | H30: 0 | I30: 0
C31: インフラ資産 | F31: 0 | G31: =F31-H31 -> 0 | H31: 0 | I31: 0
D32: 有形インフラ固定資産 | F32: 0 | G32: =F32-H32 -> 0 | H32: 0 | I32: 0
E33: 土地 | F33: 0 | G33: =F33-H33 -> 0 | H33: 0 | I33: 0
E34: 建物 | F34: 0 | G34: =F34-H34 -> 0 | H34: 0 | I34: 0
E35: 工作物 | F35: 0 | G35: =F35-H35 -> 0 | H35: 0 | I35: 0
D36: 無形インフラ固定資産 | F36: 0 | G36: =F36-H36 -> 0 | H36: 0 | I36: 0
E37: 地上権等 | F37: 0 | G37: =F37-H37 -> 0 | H37: 0 | I37: 0
E38: 特許権等 | F38: 0 | G38: =F38-H38 -> 0 | H38: 0 | I38: 0
C39: 重要物品 | F39: 549389 | G39: =F39-H39 -> -286656 | H39: 836045 | I39: 1122702
C40: リース資産 | F40: 123506850 | G40: =F40-H40 -> 119453374 | H40: 4053476 | I40: 9458132
...

Sheet 行政コスト計算書（国民健康保険事業会計）
A1: 比較行政コスト計算書（国民健康保険事業会計） | I1: （単位：円）
E2: ='貸借対照表（一般会計）'!F2 -> 令和７年度 | G2: ='貸借対照表（一般会計）'!H2 -> 令和６年度 | H2: ='貸借対照表（一般会計）'!I2 -> 令和５年度
E3: 金額 | F3: 対前年度 増減額 | G3: 金額 | H3: 金額
A4: 経常収益 | E4: 287435901225 | F4: =E4-G4 -> -4959649162 | G4: 292395550387 | H4: 295903844870
B5: 市税 | E5: 0 | F5: =E5-G5 -> 0 | G5: 0 | H5: 0
B6: 地方譲与税 | E6: 0 | F6: =E6-G6 -> 0 | G6: 0 | H6: 0
B7: 交付金 | E7: 0 | F7: =E7-G7 -> 0 | G7: 0 | H7: 0
B8: 地方特例交付金 | E8: 0 | F8: =E8-G8 -> 0 | G8: 0 | H8: 0
B9: 地方交付税 | E9: 0 | F9: =E9-G9 -> 0 | G9: 0 | H9: 0
B10: 保険料 | E10: 59845419874 | F10: =E10-G10 -> -822449972 | G10: 60667869846 | H10: 56988162715
B11: 分担金及び負担金 | E11: 0 | F11: =E11-G11 -> 0 | G11: 0 | H11: 0
B12: 使用料及び手数料 | E12: 501910 | F12: =E12-G12 -> 60310 | G12: 441600 | H12: 474120
B13: 国・府支出金 | E13: 189921251423 | F13: =E13-G13 -> -3694586875 | G13: 193615838298 | H13: 202378132943
B14: 他会計からの繰入金 | E14: 36845770754 | F14: =E14-G14 -> -435027920 | G14: 37280798674 | H14: 35761626901
C15: 一般会計からの繰入金 | E15: 36845770754 | F15: =E15-G15 -> -435027920 | G15: 37280798674 | H15: 35761626901
C16: 特別会計からの繰入金 | E16: 0 | F16: =E16-G16 -> 0 | G16: 0 | H16: 0
C17: 公営企業からの繰入金 | E17: 0 | F17: =E17-G17 -> 0 | G17: 0 | H17: 0
B18: 棚卸資産売却収入 | E18: 0 | F18: =E18-G18 -> 0 | G18: 0 | H18: 0
B19: 受取利息及び配当金 | E19: 58314623 | F19: =E19-G19 -> 41591829 | G19: 16722794 | H19: 400416
B20: その他経常収益 | E20: 764642641 | F20: =E20-G20 -> -49236534 | G20: 813879175 | H20: 775047775
A21: 経常費用 | E21: 285306018428 | F21: =E21-G21 -> -8207332502 | G21: 293513350930 | H21: 298021929498
B22: 給与関係費 | E22: 3119487511 | F22: =E22-G22 -> 77257438 | G22: 3042230073 | H22: 2873371301
B23: 賞与引当金繰入額 | E23: 231704862 | F23: =E23-G23 -> 7635606 | G23: 224069256 | H23: 220134480
B24: 退職手当引当金繰入額 | E24: 103192418 | F24: =E24-G24 -> 203744782 | G24: -100552364 | H24: 8038026
B25: 物件費 | E25: 3611551338 | F25: =E25-G25 -> 186641786 | G25: 3424909552 | H25: 3433055481
B26: 維持補修費 | E26: 6408270 | F26: =E26-G26 -> 3924246 | G26: 2484024 | H26: 270330
B27: 減価償却費 | E27: 512521551 | F27: =E27-G27 -> -115092746 | G27: 627614297 | H27: 665046097
B28: 支払利息及び手数料 | E28: 0 | F28: =E28-G28 -> 0 | G28: 0 | H28: 0
B29: 貸倒損失 | E29: 0 | F29: =E29-G29 -> 0 | G29: 0 | H29: 0
B30: 貸倒引当金繰入額 | E30: 2942686921 | F30: =E30-G30 -> -1987853899 | G30: 4930540820 | H30: 1827891221
B31: 損失補償等引当金繰入額 | E31: 0 | F31: =E31-G31 -> 0 | G31: 0 | H31: 0
B32: 棚卸資産売却原価 | E32: 0 | F32: =E32-G32 -> 0 | G32: 0 | H32: 0
B33: 扶助費 | E33: 0 | F33: =E33-G33 -> 0 | G33: 0 | H33: 0
... B35: 他会計への繰出金 | E35: 0 | F35: =E35-G35 -> 0 | G35: 0 | H35: 0
C36: 一般会計への繰出金 | E36: 0 | F36: =E36-G36 -> 0 | G36: 0 | H36: 0
C37: 特別会計への繰出金 | E37: 0 | F37: =E37-G37 -> 0 | G37: 0 | H37: 0
C38: 公営企業への繰出金 | E38: 0 | F38: =E38-G38 -> 0 | G38: 0 | H38: 0
B39: その他経常費用 | E39: 0 | F39: =E39-G39 -> 0 | G39: 0 | H39: 0
A40: 経常収支差額 | E40: 2129882797 | F40: =E40-G40 -> 3247683340 | G40: -1117800543 | H40: -2118084628
A41: 特別利益 | E41: 0 | F41: =E41-G41 -> 0 | G41: 0 | H41: 0
...

Sheet キャッシュ・フロー計算書（国民健康保険事業会計）
A1: 比較キャッシュ・フロー計算書（国民健康保険事業会計） | J1: （単位：円）
F2: ='貸借対照表（一般会計）'!F2 -> 令和７年度 | H2: ='貸借対照表（一般会計）'!H2 -> 令和６年度 | I2: ='貸借対照表（一般会計）'!I2 -> 令和５年度
F3: 金額 | G3: 対前年度 増減額 | H3: 金額 | I3: 金額
A4: 行政サービス活動
B5: 行政サービス活動収入 | F5: 283691560482 | G5: =F5-H5 -> -4577607305 | H5: 288269167787 | I5: 292979585261
C6: 市税収入 | F6: 0 | G6: =F6-H6 -> 0 | H6: 0 | I6: 0
C7: 地方譲与税収入 | F7: 0 | G7: =F7-H7 -> 0 | H7: 0 | I7: 0
C8: 交付金収入 | F8: 0 | G8: =F8-H8 -> 0 | H8: 0 | I8: 0
C9: 地方特例交付金収入 | F9: 0 | G9: =F9-H9 -> 0 | H9: 0 | I9: 0
C10: 地方交付税収入 | F10: 0 | G10: =F10-H10 -> 0 | H10: 0 | I10: 0
C11: 保険料収入 | F11: 56252606419 | G11: =F11-H11 -> -437991086 | H11: 56690597505 | I11: 54208967292
C12: 分担金及び負担金収入 | F12: 0 | G12: =F12-H12 -> 0 | H12: 0 | I12: 0
C13: 使用料及び手数料収入 | F13: 496970 | G13: =F13-H13 -> 66730 | H13: 430240 | I13: 437040
C14: 国・府支出金収入 | F14: 189921251423 | G14: =F14-H14 -> -3694586875 | H14: 193615838298 | I14: 202378132943
C15: 他会計からの繰入金収入 | F15: 36845770754 | G15: =F15-H15 -> -435027920 | H15: 37280798674 | I15: 35761626901
D16: 一般会計からの繰入金収入 | F16: 36845770754 | G16: =F16-H16 -> -435027920 | H16: 37280798674 | I16: 35761626901
D17: 特別会計からの繰入金収入 | F17: 0 | G17: =F17-H17 -> 0 | H17: 0 | I17: 0
D18: 公営企業会計からの繰入金収入 | F18: 0 | G18: =F18-H18 -> 0 | H18: 0 | I18: 0
C19: 棚卸資産売却収入 | F19: 0 | G19: =F19-H19 -> 0 | H19: 0 | I19: 0
C20: 受取利息及び配当金収入 | F20: 58314623 | G20: =F20-H20 -> 41591829 | H20: 16722794 | I20: 400416
C21: その他行政収入 | F21: 613120293 | G21: =F21-H21 -> -51659983 | H21: 664780276 | I21: 630020669
B22: 行政サービス活動支出 | F22: 282719894190 | G22: =F22-H22 -> -5685360757 | H22: 288405254947 | I22: 295989063151
C23: 給与関係費支出 | F23: 3344145799 | G23: =F23-H23 -> 82370278 | H23: 3261775521 | I23: 3083953678
C24: 物件費支出 | F24: 3611551338 | G24: =F24-H24 -> 186641786 | H24: 3424909552 | I24: 3433055481
C25: 維持補修費支出 | F25: 6408270 | G25: =F25-H25 -> 3924246 | H25: 2484024 | I25: 270330
C26: 支払利息及び手数料支出 | F26: 0 | G26: =F26-H26 -> 0 | H26: 0 | I26: 0
C27: 扶助費支出 | F27: 0 | G27: =F27-H27 -> 0 | H27: 0 | I27: 0
C28: 負担金・補助金・交付金等支出 | F28: 275757788783 | G28: =F28-H28 -> -5958297067 | H28: 281716085850 | I28: 289471783662
C29: 他会計への繰出金支出 | F29: 0 | G29: =F29-H29 -> 0 | H29: 0 | I29: 0
D30: 一般会計への繰出金支出 | F30: 0 | G30: =F30-H30 -> 0 | H30: 0 | I30: 0
D31: 特別会計への繰出金支出 | F31: 0 | G31: =F31-H31 -> 0 | H31: 0 | I31: 0
D32: 公営企業会計への繰出金支出 | F32: 0 | G32: =F32-H32 -> 0 | H32: 0 | I32: 0
C33: その他行政支出 | F33: 0 | G33: =F33-H33 -> 0 | H33: 0 | I33: 0
A34: 行政サービス活動収支差額 | F34: 971666292 | G34: =F34-H34 -> 1107753452 | H34: -136087160 | I34: -3009477890
A35: 投資活動
B36: 投資活動収入 | F36: 1021364720 | G36: =F36-H36 -> -256531287 | H36: 1277896007 | I36: 3339497182
C37: 資産売却収入 | F37: 0 | G37: =F37-H37 -> 0 | H37: 0 | I37: 0
C38: 基金繰入金（取崩額） | F38: 1021364720 | G38: =F38-H38 -> -256531287 | H38: 1277896007 | I38: 3339497182
D39: 財政調整基金（取崩額） | F39: 0 | G39: =F39-H39 -> 0 | H39: 0 | I39: 0
D40: その他の基金（取崩額） | F40: 1021364720 | G40: =F40-H40 -> -256531287 | H40: 1277896007 | I40: 3339497182
...

Sheet 貸借対照表（心身障害者扶養共済事業会計）
A1: 比較貸借対照表（心身障害者扶養共済事業会計） | Q1: （単位：円）
F2: ='貸借対照表（一般会計）'!F2 -> 令和７年度 | H2: ='貸借対照表（一般会計）'!H2 -> 令和６年度 | I2: ='貸借対照表（一般会計）'!I2 -> 令和５年度 | N2: ='貸借対照表（一般会計）'!F2 -> 令和７年度 | P2: ='貸借対照表（一般会計）'!H2 -> 令和６年度 | Q2: ='貸借対照表（一般会計）'!I2 -> 令和５年度
F3: 金額 | G3: 対前年度 増減額 | H3: 金額 | I3: 金額 | N3: 金額 | O3: 対前年度 増減額 | P3: 金額 | Q3: 金額
A4: 資産の部 | J4: 負債の部
B5: 流動資産 | F5: 1120890 | G5: =F5-H5 -> -150341 | H5: 1271231 | I5: 1201228 | K5: 流動負債 | N5: 0 | O5: =N5-P5 -> 0 | P5: 0 | Q5: 0
C6: 現金預金 | F6: 0 | G6: =F6-H6 -> 0 | H6: 0 | I6: 0 | L6: 地方債 | N6: 0 | O6: =N6-P6 -> 0 | P6: 0 | Q6: 0
D7: 歳計現金 | F7: 0 | G7: =F7-H7 -> 0 | H7: 0 | I7: 0 | L7: 短期借入金 | N7: 0 | O7: =N7-P7 -> 0 | P7: 0 | Q7: 0
D8: 歳入歳出外現金 | F8: 0 | G8: =F8-H8 -> 0 | H8: 0 | I8: 0 | M8: 他会計借入金 | N8: 0 | O8: =N8-P8 -> 0 | P8: 0 | Q8: 0
C9: 未収金 | F9: 3081810 | G9: =F9-H9 -> -259130 | H9: 3340940 | I9: 3223120 | M9: その他短期借入金 | N9: 0 | O9: =N9-P9 -> 0 | P9: 0 | Q9: 0
C10: 貸倒引当金 | F10: -1960920 | G10: =F10-H10 -> 108789 | H10: -2069709 | I10: -2021892 | L10: 賞与引当金 | N10: 0 | O10: =N10-P10 -> 0 | P10: 0 | Q10: 0
C11: 基金 | F11: 0 | G11: =F11-H11 -> 0 | H11: 0 | I11: 0 | L11: 未払金 | N11: 0 | O11: =N11-P11 -> 0 | P11: 0 | Q11: 0
D12: 財政調整基金 | F12: 0 | G12: =F12-H12 -> 0 | H12: 0 | I12: 0 | L12: 還付未済金 | N12: 0 | O12: =N12-P12 -> 0 | P12: 0 | Q12: 0
D13: 公債償還基金 | F13: 0 | G13: =F13-H13 -> 0 | H13: 0 | I13: 0 | L13: リース債務 | N13: 0 | O13: =N13-P13 -> 0 | P13: 0 | Q13: 0
C14: 貸倒引当金 | F14: 0 | G14: =F14-H14 -> 0 | H14: 0 | I14: 0 | L14: その他流動負債 | N14: 0 | O14: =N14-P14 -> 0 | P14: 0 | Q14: 0
C15: 短期貸付金 | F15: 0 | G15: =F15-H15 -> 0 | H15: 0 | I15: 0 | K15: 固定負債 | N15: 0 | O15: =N15-P15 -> 0 | P15: 0 | Q15: 0
C16: 貸倒引当金 | F16: 0 | G16: =F16-H16 -> 0 | H16: 0 | I16: 0 | L16: 地方債 | N16: 0 | O16: =N16-P16 -> 0 | P16: 0 | Q16: 0
C17: その他流動資産 | F17: 0 | G17: =F17-H17 -> 0 | H17: 0 | I17: 0 | L17: 長期借入金 | N17: 0 | O17: =N17-P17 -> 0 | P17: 0 | Q17: 0
B18: 固定資産 | F18: 23735244 | G18: =F18-H18 -> 3490605 | H18: 20244639 | I18: 18337524 | M18: 他会計借入金 | N18: 0 | O18: =N18-P18 -> 0 | P18: 0 | Q18: 0
C19: 事業用資産 | F19: 0 | G19: =F19-H19 -> 0 | H19: 0 | I19: 0 | M19: その他長期借入金 | N19: 0 | O19: =N19-P19 -> 0 | P19: 0 | Q19: 0
D20: 有形事業用固定資産 | F20: 0 | G20: =F20-H20 -> 0 | H20: 0 | I20: 0 | L20: 退職手当引当金 | N20: 0 | O20: =N20-P20 -> 0 | P20: 0 | Q20: 0
E21: 土地 | F21: 0 | G21: =F21-H21 -> 0 | H21: 0 | I21: 0 | L21: 損失補償等引当金 | N21: 0 | O21: =N21-P21 -> 0 | P21: 0 | Q21: 0
E22: 建物 | F22: 0 | G22: =F22-H22 -> 0 | H22: 0 | I22: 0 | L22: 長期未払金 | N22: 0 | O22: =N22-P22 -> 0 | P22: 0 | Q22: 0
E23: 工作物 | F23: 0 | G23: =F23-H23 -> 0 | H23: 0 | I23: 0 | L23: リース債務 | N23: 0 | O23: =N23-P23 -> 0 | P23: 0 | Q23: 0
E24: 立木竹 | F24: 0 | G24: =F24-H24 -> 0 | H24: 0 | I24: 0 | L24: その他固定負債 | N24: 0 | O24: =N24-P24 -> 0 | P24: 0 | Q24: 0
E25: 船舶 | F25: 0 | G25: =F25-H25 -> 0 | H25: 0 | I25: 0 | J25: 負債の部合計 | N25: 0 | O25: =N25-P25 -> 0 | P25: 0 | Q25: 0
E26: 浮標等 | F26: 0 | G26: =F26-H26 -> 0 | H26: 0 | I26: 0 | J26: 純資産の部
E27: 航空機 | F27: 0 | G27: =F27-H27 -> 0 | H27: 0 | I27: 0 | K27: 累積余剰 | N27: 24856134 | O27: =N27-P27 -> 3340264 | P27: 21515870 | Q27: 19538752
D28: 無形事業用固定資産 | F28: 0 | G28: =F28-H28 -> 0 | H28: 0 | I28: 0 | K28: 評価・換算差額等 | N28: 0 | O28: =N28-P28 -> 0 | P28: 0 | Q28: 0
E29: 地上権等 | F29: 0 | G29: =F29-H29 -> 0 | H29: 0 | I29: 0 | L29: その他有価証券評価差額金 | N29: 0 | O29: =N29-P29 -> 0 | P29: 0 | Q29: 0
E30: 特許権等 | F30: 0 | G30: =F30-H30 -> 0 | H30: 0 | I30: 0
C31: インフラ資産 | F31: 0 | G31: =F31-H31 -> 0 | H31: 0 | I31: 0
D32: 有形インフラ固定資産 | F32: 0 | G32: =F32-H32 -> 0 | H32: 0 | I32: 0
E33: 土地 | F33: 0 | G33: =F33-H33 -> 0 | H33: 0 | I33: 0
E34: 建物 | F34: 0 | G34: =F34-H34 -> 0 | H34: 0 | I34: 0
E35: 工作物 | F35: 0 | G35: =F35-H35 -> 0 | H35: 0 | I35: 0
D36: 無形インフラ固定資産 | F36: 0 | G36: =F36-H36 -> 0 | H36: 0 | I36: 0
E37: 地上権等 | F37: 0 | G37: =F37-H37 -> 0 | H37: 0 | I37: 0
E38: 特許権等 | F38: 0 | G38: =F38-H38 -> 0 | H38: 0 | I38: 0
C39: 重要物品 | F39: 0 | G39: =F39-H39 -> 0 | H39: 0 | I39: 0
C40: リース資産 | F40: 0 | G40: =F40-H40 -> 0 | H40: 0 | I40: 0
...

Sheet 行政コスト計算書（心身障害者扶養共済事業会計）
A1: 比較行政コスト計算書（心身障害者扶養共済事業会計） | I1: （単位：円）
E2: ='貸借対照表（一般会計）'!F2 -> 令和７年度 | G2: ='貸借対照表（一般会計）'!H2 -> 令和６年度 | H2: ='貸借対照表（一般会計）'!I2 -> 令和５年度
E3: 金額 | F3: 対前年度 増減額 | G3: 金額 | H3: 金額
A4: 経常収益 | E4: 513653930 | F4: =E4-G4 -> -8501050 | G4: 522154980 | H4: 518329046
B5: 市税 | E5: 0 | F5: =E5-G5 -> 0 | G5: 0 | H5: 0
B6: 地方譲与税 | E6: 0 | F6: =E6-G6 -> 0 | G6: 0 | H6: 0
B7: 交付金 | E7: 0 | F7: =E7-G7 -> 0 | G7: 0 | H7: 0
B8: 地方特例交付金 | E8: 0 | F8: =E8-G8 -> 0 | G8: 0 | H8: 0
B9: 地方交付税 | E9: 0 | F9: =E9-G9 -> 0 | G9: 0 | H9: 0
