{"text_format":"1","workbook":"xlsx","n_sheets":5,"sheets":["表 (Excel提出用)","裏 (Excel提出用)","記入例 表 (Excel提出用)","記入例 裏 (Excel提出用)","データ転記用"],"not_rendered":{"charts":0,"images":13,"macros":0,"external_links":0,"defined_names":4,"comments":2,"pivot_tables":0},"unopened":[],"bounds":{"document_bytes":16777216,"sheet_cells":100000,"rows_first":2000,"rows_last":500,"rows_between":2000,"halvings":0,"cell_chars":16384,"cell_head_chars":4096},"cells_cut":0,"cells_raw":0,"read":"whole","date_system":"1900"}

{"sheet":"表 (Excel提出用)","index":0,"n_rows":58,"n_cols":67,"rows_kept":58,"cut":false,"hidden":false,"merged":[[1,25,1,26],[46,1,46,4],[46,5,46,6],[46,23,46,24],[45,2,45,6],[45,7,45,8],[45,9,45,10],[45,11,45,12],[45,14,45,16],[43,14,43,16],[43,17,43,18],[43,19,43,20],[43,21,43,22],[35,13,35,15],[34,2,34,4],[34,5,34,6],[34,7,34,8],[34,9,34,10],[34,11,34,12],[32,17,32,24],[33,2,33,4],[33,5,33,6],[33,7,33,8],[42,1,45,1],[42,2,42,6],[42,7,42,8],[42,9,42,10],[42,11,42,12],[43,2,44,6],[43,7,44,8],[43,9,44,10],[43,11,44,12],[47,5,47,19],[48,23,48,24],[49,7,49,9],[49,10,49,11],[45,19,45,20],[45,21,45,22],[45,23,45,24],[47,21,47,23],[49,17,49,22],[49,23,49,24],[46,8,46,21],[50,16,50,17],[51,22,51,24],[35,5,35,6],[35,7,35,8],[35,9,35,10],[35,11,35,12],[45,17,45,18],[43,23,43,24],[44,14,44,16],[44,17,44,18],[44,19,44,20],[44,21,44,22],[44,23,44,24],[42,13,45,13],[42,14,42,16],[42,17,42,18],[42,19,42,20],[48,1,50,6],[48,7,48,13],[48,14,48,15],[48,17,48,22],[42,21,42,22],[42,23,42,24],[47,1,47,4],[30,2,30,4],[30,5,30,6],[30,7,30,8],[30,9,30,10],[30,11,30,12],[30,14,30,16],[28,13,32,13],[28,14,28,16],[28,17,28,24],[29,5,29,6],[29,7,29,8],[29,9,29,10],[32,2,32,4],[32,5,32,6],[32,7,32,8],[32,9,32,10],[32,11,32,12],[32,14,32,16],[34,13,34,19],[34,21,34,23],[35,2,35,4],[31,2,31,4],[31,5,31,6],[31,7,31,8],[31,9,31,10],[31,11,31,12],[31,14,31,16],[31,17,31,24],[33,9,33,10],[33,11,33,12],[33,13,33,15],[33,16,33,24],[35,16,36,24],[23,1,27,2],[23,3,26,3],[27,3,27,5],[27,6,27,7],[29,17,29,24],[27,11,27,12],[27,13,27,19],[27,21,27,23],[28,2,29,4],[28,5,28,8],[28,9,28,12],[25,9,26,12],[23,11,23,12],[23,13,23,16],[23,17,23,18],[23,19,23,22],[23,23,23,24],[24,4,24,5],[24,6,24,7],[24,9,24,10],[24,11,24,12],[24,13,25,16],[23,4,23,5],[23,6,23,7],[23,8,26,8],[23,9,23,10],[24,17,24,18],[24,19,24,20],[24,21,24,22],[24,23,24,24],[21,8,22,9],[25,4,25,5],[25,6,25,7],[25,17,25,18],[25,19,25,20],[25,21,25,22],[25,23,25,24],[26,18,26,24],[26,4,26,5],[26,6,26,7],[1,1,1,11],[1,15,1,16],[1,18,1,19],[2,1,2,2],[2,3,2,12],[2,13,2,17],[2,18,2,24],[3,1,5,2],[3,3,5,4],[3,5,5,6],[3,7,5,8],[3,9,5,12],[19,10,20,10],[19,11,20,12],[19,17,19,18],[19,19,19,22],[19,23,19,24],[21,2,22,3],[21,4,22,5],[21,6,22,7],[21,10,22,10],[20,13,20,16],[19,4,20,5],[19,6,20,7],[19,8,20,9],[21,11,22,12],[21,13,21,16],[21,17,21,18],[21,19,21,22],[21,23,21,24],[22,13,22,16],[22,17,22,18],[22,19,22,22],[22,23,22,24],[41,1,41,4],[40,10,40,12],[40,1,40,9],[38,1,38,4],[38,5,38,6],[38,11,38,12],[38,21,38,23],[39,23,39,24],[40,13,40,16],[39,13,39,16],[39,17,39,18],[39,19,39,22],[13,18,17,18],[13,19,17,19],[13,20,17,21],[13,22,17,22],[13,23,17,24],[27,9,27,10],[40,19,40,23],[29,11,29,12],[29,14,29,16],[39,1,39,9],[39,10,39,12],[19,13,19,16],[36,2,36,4],[36,5,36,6],[36,7,36,8],[36,9,36,10],[36,11,36,12],[28,1,36,1],[18,1,18,24],[19,1,22,1],[19,2,20,3],[20,17,20,18],[20,19,20,22],[20,23,20,24],[15,1,17,2],[15,3,17,12],[30,17,30,18],[30,20,30,21],[30,23,30,24],[3,13,7,17],[3,18,7,24],[6,1,8,2],[6,3,8,12],[8,13,12,17],[8,18,12,24],[9,1,11,2],[9,3,11,4],[9,5,11,6],[9,7,11,8],[9,9,11,10],[9,11,11,12],[12,1,14,2],[12,3,14,4],[12,5,14,6],[12,7,14,8],[12,9,14,10],[12,11,14,12],[13,13,17,17]]}
[]
[null,"病院栄養管理報告書",null,null,null,null,null,null,null,null,null,null,"（","令","和",null,null,"年",null,null,"月","分","）"]
[null,"施設名",null,null,null,null,null,null,null,null,null,null,null,"設置者の代表者（職・氏名）"]
[null,"郵便番号",null,null,null,"-",null,null,null,null,null,null,null,"給食責任者（職・氏名）"]
[]
[]
[null,"所在地"]
[]
[null,null,null,null,null,null,null,null,null,null,null,null,null,"作成者（職・氏名）"]
[null,"電話番号",null,null,null,"-",null,null,null,"-"]
[]
[]
[null,"FAX番号",null,null,null,"-",null,null,null,"-"]
[null,null,null,null,null,null,null,null,null,null,null,null,null,"連絡先電話番号",null,null,null,null,null,"-",null,null,"-"]
[]
[null,"e-mail"]
[null,null,null,null,null,null,null,null,null,null,null,null,null,null,null,null,null,null,null,null,null,null,null,null,null,null,null,null,null,null,null,null,null,null,null,null,null,null,null,null,null,null,null,null,null,null,null,null,null,null,null,null,null,null,null,null,null,null,null,null,null,null,null,null,null,null,{"$f":"IF(AND('表 (Excel提出用)'!F39=\"有\",'表 (Excel提出用)'!AI40=\"\",'表 (Excel提出用)'!AI41=\"\",'表 (Excel提出用)'!AI42=\"\"),\"\",IF(AND('表 (Excel提出用)'!F39=\"有\",'表 (Excel提出用)'!AI40=\"1\"),\"1\",IF(AND('表 (Excel提出用)'!F39=\"有\",'表 (Excel提出用)'!AI41=\"1\"),\"2\",IF(AND('表 (Excel提出用)'!F39=\"有\",'表 (Excel提出用)'!AI42=\"1\"),\"\"))))","v":false}]
[]
[]
[null,"許可病床数","一　般",null,"療　養",null,"結　核",null,"感染症",null,"精　神","合　計",null,"【入院時食事療養】",null,null,null,null,null,"【 食堂加算 】"]
[null,null,null,null,null,null,null,null,null,null,null,null,null,"【特別食加算】",null,null,null,null,null,"【特別ﾒﾆｭｰの提供】"]
[null,null,null,null,null,null,null,null,null,null,null,{"$f":"SUM(C22:K22)","v":0},null,"【栄養ｻﾎﾟｰﾄﾁｰﾑ加算】",null,null,null,null,null,"【栄養情報連携料】"]
[]
[null,"１回当た\nりの食数",null,"一般食","(      )",null,null,null,"特別食","加　算"]
[null,null,null,null,"(      )",null,null,null,null,"非加算",null,null,null,"【配膳時間】",null,null,null,"朝　食",null,"昼　食",null,"間　食",null,"夕　食"]
[null,null,null,null,"(      )",null,null,null,null,null,null,null,null,null,null,null,null,"：",null,"：",null,"：",null,"："]
[null,null,null,null,"(      )",null,null,null,null,null,null,null,null,"【適温給食の実施方法】 ",null,null,null,null,null,null,null,null,null,null,null,null,null,null,"【配膳時間】",null,"【適温給食】"]
[null,null,null,"職員食等",null,null,null,null,"その他","(      )",null,null,null,null,null,null,null,null,null,null,"（",null,null,null,"）",null,null,null,"朝食",{"$f":"IF(R26=\"：\",\"\",VALUE(TEXT(R26,\"hhmm\")))","v":""},"保温保冷配膳車",false,{"$f":"IF(AF28=TRUE,1,0)","v":0}]
[null,"給食従事者数（人）",null,null,null,"施　設",null,null,null,"委託業者",null,null,null,"委託業者","名　　称",null,null,null,null,null,null,null,null,null,null,null,null,null,"昼食",{"$f":"IF(T26=\"：\",\"\",VALUE(TEXT(T26,\"hhmm\")))","v":""},"保冷配膳車",false,{"$f":"IF(AF29=TRUE,2,0)","v":0}]
[null,null,null,null,null,"常　勤",null,"常勤以外",null,"常　勤",null,"常勤以外",null,null,"所 在 地",null,null,null,null,null,null,null,null,null,null,null,null,null,"間食",{"$f":"IF(V26=\"：\",\"\",VALUE(TEXT(V26,\"hhmm\")))","v":""},"保温トレイ",false,{"$f":"IF(AF30=TRUE,3,0)","v":0}]
[null,null,"管理栄養士",null,null,null,null,null,null,null,null,null,null,null,"電話番号",null,null,null,null,"-",null,null,"-",null,null,null,null,null,"夕食",{"$f":"IF(X26=\"：\",\"\",VALUE(TEXT(X26,\"hhmm\")))","v":""},"保温食器",false,{"$f":"IF(AF31=TRUE,4,0)","v":0}]
[null,null,"栄　養　士",null,null,null,null,null,null,null,null,null,null,null,"代 表 者",null,null,null,null,null,null,null,null,null,null,null,null,null,null,null,"その他",false,{"$f":"IF(AF32=TRUE,5,0)","v":0}]
[null,null,"調　理　師",null,null,null,null,null,null,null,null,null,null,null,"施設の責任者",null,null,null,null,null,null,null,null,null,null,null,null,null,null,null,"複数回答 →　その他で集計",null,{"$f":"IF(COUNTIF($AF$28:$AF$32,$AE$34)>1,5,0)","v":0}]
[null,null,"調　理　員",null,null,null,null,null,null,null,null,null,null,"【委託内容】 ",null,null,null,null,null,null,null,null,null,null,null,null,null,null,null,null,true,null,{"$f":"MAX(AG28:AG33)","v":0}]
[null,null,"事　務　職　員",null,null,null,null,null,null,null,null,null,null,null,null,null,null,null,null,null,"（",null,null,null,"）"]
[null,null,null,null,null,null,null,null,null,null,null,null,null,"【院外調理】"]
[null,null,"合　　　計",null,null,{"$f":"SUM(F31:F36)","v":0},null,{"$f":"SUM(H31:H36)","v":0},null,{"$f":"SUM(J31:J36)","v":0},null,{"$f":"SUM(L31:L36)","v":0}]
[]
[null,"【食事せん規約】",null,null,null,null,null,"（",null,"年",null,"月作成）",null,"[",null,null,null,null,null,null,"（",null,null,null,"）]",null,null,null,"【委託内容】",null,"【院外調理】",null,"【食事せん規約】"]
[null,"【給食利用者の身体活動レベルの把握】",null,null,null,null,null,null,null,null,null,null,null,"【身長の把握】",null,null,null,null,null,"【体重の把握】",null,null,null,null,null,null,null,null,"献立作成",false,"クックチル",false,"病態別",false,{"$f":"IF(AH40=TRUE,\"1\",\"\")","v":""}]
[null,"【体格指数（ＢＭＩ）の把握】",null,null,null,null,null,null,null,null,null,null,null,"【喫食調査】",null,null,null,null,"（",null,null,null,null,null,"）",null,null,null,"食材調達",false,"クックチルフリーズ",false,"栄養成分別",false,{"$f":"IF(AH41=TRUE,\"1\",\"\")","v":""}]
[null," 栄養食事指導状況",null,null,null,null,null,null,null,null,null,null,null,null,null,null,null,null,null,null,null,null,null,null,null,null,null,null,"下処理",false,"クックサーブ",false,"その他",false,""]
[null,"個　別",null,null,null,null,null,"入　院",null,"外　来",null,"在　宅",null,"集　団","教室名\n（または内容）",null,null,"所要時間",null,"回　数",null,"人　数",null,"指導料",null,null,null,null,"調理",false,"真空調理",false,"無",null,{"$f":"IF(F39=\"無\",\"4\",\"\")","v":""}]
[null,null,"総指導件数",null,null,null,null,null,null,null,null,null,null,null,null,null,null,null,null,null,null,null,null,null,null,null,null,null,"盛付",false,true]
[null,null,null,null,null,null,null,null,null,null,null,null,null,null,null,null,null,null,null,null,null,null,null,null,null,null,null,null,"配膳",false]
[null,null,"指導料算定件数（再掲）",null,null,null,null,null,null,null,null,null,null,null,null,null,null,null,null,null,null,null,null,null,null,null,null,null,"下膳",false]
[null,"【チーム医療】",null,null,null,null,null,"（",null,null,null,null,null,null,null,null,null,null,null,null,null,null,"）",null,null,null,null,null,"食器洗浄",false]
[null,"構成職種　",null,null,null,null,null,null,null,null,null,null,null,null,null,null,null,null,null,null,"　（",null,null,null,"）",null,null,null,"その他",false]
[null,"【非常時危機管理対策】\n（食関連）",null,null,null,null,null,"食中毒発生時マニュアルの整備",null,null,null,null,null,null,null,null,null," 災害時等マニュアルの整備",null,null,null,null,null,null,null,null,null,null,null,true]
[null,null,null,null,null,null,null,"食品等の備蓄",null,null,null,null,"(",null,"日分)",null,null," 災害時の具体的な献立  "]
[null,null,null,null,null,null,null,"災害時の食事提供に関する研修・訓練等 ",null,null,null,null,null,null,null,null,null,null,null,null,null,null,null,null,null,null,null,null,"【構成職種】"]
[null,null,null,null,null,null,null,null,null,null,null,null,null,null,null,null,null,null,null,null,null,null,"（Ｒ８.３）",null,null,null,null,null,"管理栄養士",false]
[null,null,null,null,null,null,null,null,null,null,null,null,null,null,null,null,null,null,null,null,null,null,null,null,null,null,null,null,"栄養士",false]
[null,null,null,null,null,null,null,null,null,null,null,null,null,null,null,null,null,null,null,null,null,null,null,null,null,null,null,null,"医師",false]
[null,null,null,null,null,null,null,null,null,null,null,null,null,null,null,null,null,null,null,null,null,null,null,null,null,null,null,null,"薬剤師",false]
[null,null,null,null,null,null,null,null,null,null,null,null,null,null,null,null,null,null,null,null,null,null,null,null,null,null,null,null,"看護師",false]
[null,null,null,null,null,null,null,null,null,null,null,null,null,null,null,null,null,null,null,null,null,null,null,null,null,null,null,null,"臨床検査技師",false]
[null,null,null,null,null,null,null,null,null,null,null,null,null,null,null,null,null,null,null,null,null,null,null,null,null,null,null,null,"その他",false]

{"sheet":"裏 (Excel提出用)","index":1,"n_rows":38,"n_cols":21,"rows_kept":38,"cut":false,"hidden":false,"merged":[[35,1,37,12],[35,14,35,17],[36,14,36,17],[37,14,37,17],[31,1,33,12],[31,13,34,13],[31,14,34,14],[31,15,34,15],[34,1,34,12],[29,1,29,2],[29,3,29,5],[29,13,30,13],[29,14,30,14],[29,15,30,15],[27,1,27,2],[27,3,27,5],[27,13,28,13],[27,14,28,14],[27,15,28,15],[28,1,28,6],[27,7,27,10],[28,7,28,10],[29,7,29,10],[26,1,26,6],[26,14,26,17],[21,15,23,15],[22,1,22,6],[22,7,22,12],[23,1,23,6],[23,7,23,12],[24,1,24,6],[24,13,25,13],[24,14,25,14],[24,15,25,15],[26,7,26,10],[20,1,20,6],[20,7,21,12],[20,14,20,17],[21,1,21,6],[21,13,23,13],[21,14,23,14],[25,1,25,2],[25,3,25,5],[24,7,24,10],[25,7,25,10],[17,14,18,14],[17,15,18,15],[18,4,18,6],[18,7,18,9],[18,10,18,12],[19,2,19,6],[19,7,19,9],[19,10,19,12],[19,14,19,17],[13,2,13,4],[13,5,13,6],[13,7,13,9],[13,10,13,12],[13,14,13,17],[14,2,14,4],[14,5,14,6],[14,7,14,9],[14,10,14,12],[14,13,16,13],[14,14,16,14],[14,15,16,15],[15,2,15,4],[15,5,15,6],[15,7,15,9],[15,10,15,12],[16,1,18,3],[16,4,16,6],[16,7,16,9],[16,10,16,12],[17,4,17,6],[17,7,17,9],[17,10,17,12],[17,13,18,13],[11,14,12,14],[11,15,12,15],[12,2,12,4],[12,5,12,6],[12,7,12,9],[12,10,12,12],[10,2,10,4],[10,5,10,6],[10,7,10,9],[10,10,10,12],[10,14,10,17],[11,2,11,4],[11,5,11,6],[11,7,11,9],[11,10,11,12],[11,13,12,13],[8,13,9,13],[8,14,9,14],[8,15,9,15],[9,2,9,4],[9,5,9,6],[9,7,9,9],[9,10,9,12],[7,2,7,4],[7,5,7,6],[7,7,7,9],[7,10,7,12],[8,2,8,4],[8,5,8,6],[8,7,8,9],[8,10,8,12],[4,14,7,14],[4,15,7,15],[5,2,5,4],[5,5,5,6],[5,7,5,9],[5,10,5,12],[6,2,6,4],[6,5,6,6],[6,7,6,9],[0,1,0,20],[1,13,1,18],[2,13,2,18],[6,10,6,12],[3,2,3,4],[3,5,3,6],[3,7,3,9],[3,10,3,12],[3,14,3,17],[4,2,4,4],[4,5,4,6],[4,7,4,9],[4,10,4,12],[4,13,7,13],[1,1,2,6],[1,7,2,7],[1,12,2,12],[1,8,2,11]]}
[]
[null,"【食種】",null,null,null,null,null,"（",null,null,null,null,"）","【１人１日当たりの食材料費】",null,null,null,null,null,null,"円"]
[null,null,null,null,null,null,null,null,null,null,null,null,null,"【栄養価計算の基準】日本食品標準成分表",null,null,null,null,null,null,"年版"]
[null,null,"栄養素等名",null,null,"（単位）",null,"給与栄養目標量",null,null,"給与栄養量",null,null,null,"食品群名",null,null,null,null,"目標量 （g）","給与量 （g）"]
[null,null,"エネルギー",null,null,"（ kcal ）",null,null,null,null,null,null,null,null,"穀類",null,null,"米"]
[null,null,"たんぱく質",null,null,"（  g  ）",null,null,null,null,null,null,null,null,null,null,null,"パン類"]
[null,null,"脂質",null,null,"（  g  ）",null,null,null,null,null,null,null,null,null,null,null,"めん類"]
[null,null,"カルシウム",null,null,"（ mg ）",null,null,null,null,null,null,null,null,null,null,null,"その他の穀類"]
[null,null,"鉄",null,null,"（ mg ）",null,null,null,null,null,null,null,null,"いも及び\nでん粉類",null,null,"いも"]
[null,null,"ビタミンA\n（レチノール活性当量）",null,null,"（μgRAE）",null,null,null,null,null,null,null,null,null,null,null,"いも加工品"]
[null,null,"ビタミンB1",null,null,"（ mg ）",null,null,null,null,null,null,null,null,"砂糖及び甘味類"]
[null,null,"ビタミンB2",null,null,"（ mg ）",null,null,null,null,null,null,null,null,"豆類",null,null,"大豆製品"]
[null,null,"ビタミンC",null,null,"（ mg ）",null,null,null,null,null,null,null,null,null,null,null,"大豆、その他の豆類"]
[null,null,"食物繊維",null,null,"（  g  ）",null,null,null,null,null,null,null,null,"種実類"]
[null,null,"食塩相当量",null,null,"（  g  ）",null,null,null,null,null,null,null,null,"野菜類",null,null,"緑黄色野菜"]
[null,null,null,null,null,null,null,null,null,null,null,null,null,null,null,null,null,"その他の野菜"]
[null,"エネルギー\n産生栄養素\nバランス\n(%ｴﾈﾙｷﾞｰ)",null,null,"た ん ぱ く 質",null,null,null,null,null,null,null,null,null,null,null,null,"野菜漬物"]
[null,null,null,null,"脂　　　　　質",null,null,null,null,null,null,null,null,null,"果実類",null,null,"果実"]
[null,null,null,null,"炭　水　化　物",null,null,null,null,null,null,null,null,null,null,null,null,"果実加工品"]
[null,null," ",null,null,null,null,null,null,null,null,null,null,null,"きのこ類"]
[null,"【上記の食種における",null,null,null,null,null,null,null,null,null,null,null,null,"藻類"]
[null,"  栄養補助食品等の使用状況】",null,null,null,null,null,null,null,null,null,null,null,null,"魚介類",null,null,"魚介類(生)"]
[null,"栄養補助食品等の名称",null,null,null,null,null,"１日あたりの使用量(単位)/日",null,null,null,null,null,null,null,null,null,"干物､塩蔵､缶詰"]
[null,"（主な補給目的の栄養素等名）",null,null,null,null,null,"（１日あたりの給与栄養量(単位)/日）",null,null,null,null,null,null,null,null,null,"練製品"]
[null,null,null,null,null,null,null,null,null,null,null,null,"/日",null,"肉類",null,null,"肉類(生)"]
[null,"（",null,null,null,null,"）",null,null,null,null,null,"/日",null,null,null,null,"肉加工品"]
[null,null,null,null,null,null,null,null,null,null,null,null,"/日",null,"卵類"]
[null,"（",null,null,null,null,"）",null,null,null,null,null,"/日",null,"乳類",null,null,"牛乳"]
[null,null,null,null,null,null,null,null,null,null,null,null,"/日",null,null,null,null,"乳製品"]
[null,"（",null,null,null,null,"）",null,null,null,null,null,"/日",null,"油脂類",null,null,"植物性"]
[null,"【栄養管理における課題】",null,null,null,null,null,null,null,null,null,null,null,null,null,null,null,"動物性"]
[null,null,null,null,null,null,null,null,null,null,null,null,null,null,"調味料\n及び\n香辛料類",null,null,"食塩"]
[null,null,null,null,null,null,null,null,null,null,null,null,null,null,null,null,null,"しょうゆ"]
[null,null,null,null,null,null,null,null,null,null,null,null,null,null,null,null,null,"みそ"]
[null,"【課題に対する改善策、工夫事項】",null,null,null,null,null,null,null,null,null,null,null,null,null,null,null,"その他の調味料"]
[null,null,null,null,null,null,null,null,null,null,null,null,null,null,"調理済み流通食品類"]
[]
[null,null,null,null,null,null,null,null,null,null,null,null,null,null,"合計",null,null,null,null,{"$f":"SUM(T5:T37)","v":0},{"$f":"SUM(U5:U37)","v":0}]

{"sheet":"記入例 表 (Excel提出用)","index":2,"n_rows":61,"n_cols":67,"rows_kept":61,"cut":false,"hidden":false,"merged":[[4,1,4,11],[4,15,4,16],[4,18,4,19],[4,25,4,26],[5,1,5,2],[5,3,5,12],[5,13,5,17],[5,18,5,24],[12,11,14,12],[15,7,17,8],[15,9,17,10],[15,11,17,12],[6,18,10,24],[9,1,11,2],[9,3,11,12],[11,13,15,17],[11,18,15,24],[12,1,14,2],[12,3,14,4],[12,5,14,6],[12,7,14,8],[12,9,14,10],[6,1,8,2],[6,3,8,4],[6,5,8,6],[6,7,8,8],[6,9,8,12],[6,13,10,17],[22,23,22,24],[23,13,23,16],[23,17,23,18],[23,19,23,22],[23,23,23,24],[18,1,20,2],[18,3,20,12],[21,1,21,24],[22,1,25,1],[22,2,23,3],[22,4,23,5],[22,6,23,7],[22,8,23,9],[22,10,23,10],[22,11,23,12],[16,13,20,17],[16,18,20,18],[16,19,20,19],[16,20,20,21],[16,22,20,22],[16,23,20,24],[15,1,17,2],[15,3,17,4],[15,5,17,6],[24,2,25,3],[24,4,25,5],[24,6,25,7],[24,8,25,9],[24,10,25,10],[24,11,25,12],[22,13,22,16],[22,17,22,18],[22,19,22,22],[26,1,30,2],[26,3,29,3],[26,4,26,5],[26,6,26,7],[26,8,29,8],[26,9,26,10],[24,13,24,16],[24,17,24,18],[24,19,24,22],[26,11,26,12],[26,13,26,16],[26,17,26,18],[26,19,26,22],[30,3,30,5],[30,6,30,7],[30,9,30,10],[30,11,30,12],[30,13,30,19],[30,21,30,23],[24,23,24,24],[25,13,25,16],[25,17,25,18],[25,19,25,22],[25,23,25,24],[26,23,26,24],[27,4,27,5],[27,6,27,7],[27,9,27,10],[27,11,27,12],[27,13,28,16],[27,17,27,18],[27,19,27,20],[27,21,27,22],[27,23,27,24],[28,4,28,5],[28,6,28,7],[28,9,29,12],[28,17,28,18],[28,19,28,20],[28,21,28,22],[28,23,28,24],[29,4,29,5],[29,6,29,7],[29,18,29,24],[31,17,31,24],[32,5,32,6],[32,7,32,8],[32,9,32,10],[32,11,32,12],[32,14,32,16],[32,17,32,24],[31,1,39,1],[31,2,32,4],[31,5,31,8],[31,9,31,12],[31,13,35,13],[31,14,31,16],[33,2,33,4],[33,5,33,6],[33,7,33,8],[33,9,33,10],[33,11,33,12],[33,14,33,16],[33,17,33,18],[33,20,33,21],[33,23,33,24],[34,2,34,4],[34,5,34,6],[34,7,34,8],[34,9,34,10],[34,11,34,12],[34,14,34,16],[34,17,34,24],[35,2,35,4],[35,5,35,6],[35,7,35,8],[35,9,35,10],[35,11,35,12],[35,14,35,16],[35,17,35,24],[36,16,36,24],[37,2,37,4],[37,5,37,6],[37,7,37,8],[37,9,37,10],[37,11,37,12],[37,13,37,19],[37,21,37,23],[36,2,36,4],[36,5,36,6],[36,7,36,8],[36,9,36,10],[36,11,36,12],[36,13,36,15],[38,16,39,24],[39,2,39,4],[39,5,39,6],[39,7,39,8],[39,9,39,10],[39,11,39,12],[38,2,38,4],[38,5,38,6],[38,7,38,8],[38,9,38,10],[38,11,38,12],[38,13,38,15],[41,1,41,4],[41,5,41,6],[41,11,41,12],[41,21,41,23],[42,1,42,9],[42,10,42,12],[42,13,42,16],[42,17,42,18],[42,19,42,22],[42,23,42,24],[43,1,43,9],[43,10,43,12],[43,13,43,16],[43,19,43,23],[44,1,44,4],[45,1,48,1],[45,2,45,6],[45,7,45,8],[45,9,45,10],[45,11,45,12],[48,2,48,6],[48,7,48,8],[48,9,48,10],[48,11,48,12],[48,14,48,16],[48,17,48,18],[48,19,48,20],[48,21,48,22],[46,2,47,6],[46,11,47,12],[46,14,46,16],[46,17,46,18],[47,14,47,16],[47,17,47,18],[45,13,48,13],[45,14,45,16],[45,17,45,18],[45,23,45,24],[46,19,46,20],[46,21,46,22],[46,23,46,24],[47,19,47,20],[47,21,47,22],[47,23,47,24],[45,19,45,20],[45,21,45,22],[54,22,54,24],[1,4,1,6],[1,18,1,20],[2,4,2,6],[51,1,53,6],[51,7,51,13],[51,14,51,15],[51,17,51,22],[51,23,51,24],[52,7,52,9],[52,10,52,11],[52,17,52,22],[52,23,52,24],[53,16,53,17],[48,23,48,24],[49,1,49,4],[49,5,49,6],[49,8,49,21],[49,23,49,24],[50,1,50,4],[50,5,50,19],[50,21,50,23],[46,7,47,8],[46,9,47,10]]}
[]
[null,"セルの説明　",null,null,"【オレンジ】",null,null,"入力してください（入力すると白色に変わります）　",null,null,null,null,null,null,null,null,null,null,"【黄色】",null,null,"自動計算されます"]
[null,null,null,null,"【グレー】",null,null,"条件に合致すると、オレンジに変わります。オレンジになれば、入力してください。"]
[]
[null,"病院栄養管理報告書",null,null,null,null,null,null,null,null,null,null,"（","令","和",8,null,"年",11,null,"月","分","）"]
[null,"施設名",null,"○○病院",null,null,null,null,null,null,null,null,null,"設置者の代表者（職・氏名）",null,null,null,null,"理事長　○○　○○"]
[null,"郵便番号",null,"555",null,"-",null,"5555",null,null,null,null,null,"給食責任者（職・氏名）",null,null,null,null,"栄養管理課 課長　□□　□□"]
[]
[]
[null,"所在地",null,"大阪府大阪市阿倍野区○○町1-1-1"]
[]
[null,null,null,null,null,null,null,null,null,null,null,null,null,"作成者（職・氏名）",null,null,null,null,"管理栄養士　△△　△△"]
[null,"電話番号",null,"06",null,"-",null,"0000",null,"-",null,"0000"]
[]
[]
[null,"FAX番号",null,"06",null,"-",null,"0000",null,"-",null,"0000"]
[null,null,null,null,null,null,null,null,null,null,null,null,null,"連絡先電話番号",null,null,null,null,"06","-","0000",null,"-","0011"]
[]
[null,"e-mail",null,"xxx_xxx@abc.jp"]
[null,null,null,null,null,null,null,null,null,null,null,null,null,null,null,null,null,null,null,null,null,null,null,null,null,null,null,null,null,null,null,null,null,null,null,null,null,null,null,null,null,null,null,null,null,null,null,null,null,null,null,null,null,null,null,null,null,null,null,null,null,null,null,null,null,null,{"$f":"IF(AND('記入例 表 (Excel提出用)'!F42=\"有\",'記入例 表 (Excel提出用)'!AI43=\"\",'記入例 表 (Excel提出用)'!AI44=\"\",'記入例 表 (Excel提出用)'!AI45=\"\"),\"\",IF(AND('記入例 表 (Excel提出用)'!F42=\"有\",'記入例 表 (Excel提出用)'!AI43=\"1\"),\"1\",IF(AND('記入例 表 (Excel提出用)'!F42=\"有\",'記入例 表 (Excel提出用)'!AI44=\"1\"),\"2\",IF(AND('記入例 表 (Excel提出用)'!F42=\"有\",'記入例 表 (Excel提出用)'!AI45=\"1\"),\"\"))))","v":"1"}]
[]
[]
[null,"許可病床数","一　般",null,"療　養",null,"結　核",null,"感染症",null,"精　神","合　計",null,"【入院時食事療養】",null,null,null,"Ⅰ",null,"【 食堂加算 】",null,null,null,"有"]
[null,null,null,null,null,null,null,null,null,null,null,null,null,"【特別食加算】",null,null,null,"有",null,"【特別ﾒﾆｭｰの提供】",null,null,null,"無"]
[null,null,200,null,0,null,0,null,0,null,0,{"$f":"SUM(C25:K25)","v":200},null,"【栄養ｻﾎﾟｰﾄﾁｰﾑ加算】",null,null,null,"無",null,"【栄養情報連携料】",null,null,null,"有"]
[]
[null,"１回当た\nりの食数",null,"一般食","(  常食  )",null,90,null,"特別食","加　算",null,40]
[null,null,null,null,"(      )",null,null,null,null,"非加算",null,25,null,"【配膳時間】",null,null,null,"朝　食",null,"昼　食",null,"間　食",null,"夕　食"]
[null,null,null,null,"(      )",null,null,null,null,null,null,null,null,null,null,null,null,"08:00:00",null,"12:00:00",null,"15:00:00",null,"18:00:00"]
[null,null,null,null,"(      )",null,null,null,null,null,null,null,null,"【適温給食の実施方法】 ",null,null,null,null,null,null,null,null,null,null,null,null,null,null,"【配膳時間】",null,"【適温給食】"]
[null,null,null,"職員食等",null,null,10,null,"その他","(      )",null,null,null,null,null,null,null,null,null,null,"（","再加熱カート",null,null,"）",null,null,null,"朝食",{"$f":"IF(R29=\"：\",\"\",VALUE(TEXT(R29,\"hhmm\")))","v":800},"保温保冷配膳車",false,{"$f":"IF(AF31=TRUE,1,0)","v":0}]
[null,"給食従事者数（人）",null,null,null,"施　設",null,null,null,"委託業者",null,null,null,"委託業者","名　　称",null,null,"株式会社　○○",null,null,null,null,null,null,null,null,null,null,"昼食",{"$f":"IF(T29=\"：\",\"\",VALUE(TEXT(T29,\"hhmm\")))","v":1200},"保冷配膳車",false,{"$f":"IF(AF32=TRUE,2,0)","v":0}]
[null,null,null,null,null,"常　勤",null,"常勤以外",null,"常　勤",null,"常勤以外",null,null,"所 在 地",null,null,"大阪市北区○○町1-2-3",null,null,null,null,null,null,null,null,null,null,"間食",{"$f":"IF(V29=\"：\",\"\",VALUE(TEXT(V29,\"hhmm\")))","v":1500},"保温トレイ",false,{"$f":"IF(AF33=TRUE,3,0)","v":0}]
[null,null,"管理栄養士",null,null,7,null,0,null,2,null,0,null,null,"電話番号",null,null,"06",null,"-","0000",null,"-","0123",null,null,null,null,"夕食",{"$f":"IF(X29=\"：\",\"\",VALUE(TEXT(X29,\"hhmm\")))","v":1800},"保温食器",false,{"$f":"IF(AF34=TRUE,4,0)","v":0}]
[null,null,"栄　養　士",null,null,0,null,0,null,5,null,0,null,null,"代 表 者",null,null,"■■　■■",null,null,null,null,null,null,null,null,null,null,null,null,"その他",true,{"$f":"IF(AF35=TRUE,5,0)","v":5}]
[null,null,"調　理　師",null,null,0,null,0,null,4,null,0,null,null,"施設の責任者",null,null,"▲▲　▲▲",null,null,null,null,null,null,null,null,null,null,null,null,"複数回答 →　その他で集計",null,{"$f":"IF(COUNTIF($AF$31:$AF$35,$AE$37)>1,5,0)","v":0}]
[null,null,"調　理　員",null,null,0,null,0,null,15,null,0,null,"【委託内容】 ",null,null,null,null,null,null,null,null,null,null,null,null,null,null,null,null,true,null,{"$f":"MAX(AG31:AG36)","v":5}]
[null,null,"事　務　職　員",null,null,0,null,0,null,0,null,0,null,null,null,null,null,null,null,null,"（",null,null,null,"）"]
[null,null,null,null,null,null,null,null,null,null,null,null,null,"【院外調理】"]
[null,null,"合　　　計",null,null,{"$f":"SUM(F34:F39)","v":7},null,{"$f":"SUM(H34:H39)","v":0},null,{"$f":"SUM(J34:J39)","v":26},null,{"$f":"SUM(L34:L39)","v":0}]
[]
[null,"【食事せん規約】",null,null,null,"有",null,"（","R8","年",4,"月作成）",null,"[",null,null,null,null,null,null,"（",null,null,null,"）]",null,null,null,"【委託内容】",null,"【院外調理】",null,"【食事せん規約】"]
[null,"【給食利用者の身体活動レベルの把握】",null,null,null,null,null,null,null,null,"有",null,null,"【身長の把握】",null,null,null,"有",null,"【体重の把握】",null,null,null,"有",null,null,null,null,"献立作成",true,"クックチル",true,"病態別",true,{"$f":"IF(AH43=TRUE,\"1\",\"\")","v":"1"}]
[null,"【体格指数（ＢＭＩ）の把握】",null,null,null,null,null,null,null,null,"有",null,null,"【喫食調査】",null,null,null,"有","（","嗜好調査、残食調査",null,null,null,null,"）",null,null,null,"食材調達",true,"クックチルフリーズ",false,"栄養成分別",false,{"$f":"IF(AH44=TRUE,\"1\",\"\")","v":""}]
[null," 栄養食事指導状況",null,null,null,null,null,null,null,null,null,null,null,null,null,null,null,null,null,null,null,null,null,null,null,null,null,null,"下処理",true,"クックサーブ",false,"その他",false,""]
[null,"個　別",null,null,null,null,null,"入　院",null,"外　来",null,"在　宅",null,"集　団","教室名\n（または内容）",null,null,"所要時間",null,"回　数",null,"人　数",null,"指導料",null,null,null,null,"調理",true,"真空調理",false,"無",null,{"$f":"IF(F42=\"無\",\"4\",\"\")","v":""}]
[null,null,"総指導件数",null,null,null,null,150,null,290,null,0,null,null,"糖尿病教室",null,null,"40分",null,1,null,10,null,"有",null,null,null,null,"盛付",true,true]
[null,null,null,null,null,null,null,null,null,null,null,null,null,null,null,null,null,null,null,null,null,null,null,null,null,null,null,null,"配膳",true]
[null,null,"指導料算定件数（再掲）",null,null,null,null,90,null,280,null,0,null,null,null,null,null,null,null,null,null,null,null,null,null,null,null,null,"下膳",true]
[null,"【チーム医療】",null,null,null,"有",null,"（","NST委員会、褥瘡対策委員会",null,null,null,null,null,null,null,null,null,null,null,null,null,"）",null,null,null,null,null,"食器洗浄",true]
[null,"構成職種　",null,null,null,null,null,null,null,null,null,null,null,null,null,null,null,null,null,null,"　（","理学療法士",null,null,"）",null,null,null,"その他",false]
[null,"【非常時危機管理対策】\n（食関連）",null,null,null,null,null,"食中毒発生時マニュアルの整備",null,null,null,null,null,null,"有",null,null," 災害時等マニュアルの整備",null,null,null,null,null,"有",null,null,null,null,null,true]
[null,null,null,null,null,null,null,"食品等の備蓄",null,null,"有",null,"(",5,"日分)",null,null," 災害時の具体的な献立  ",null,null,null,null,null,"有"]
[null,null,null,null,null,null,null,"災害時の食事提供に関する研修・訓練等 ",null,null,null,null,null,null,null,null,"有",null,null,null,null,null,null,null,null,null,null,null,"【構成職種】"]
[null,null,null,null,null,null,null,null,null,null,null,null,null,null,null,null,null,null,null,null,null,null,"（Ｒ８.３）",null,null,null,null,null,"管理栄養士",true]
[null,null,null,null,null,null,null,null,null,null,null,null,null,null,null,null,null,null,null,null,null,null,null,null,null,null,null,null,"栄養士",false]
[null,null,null,null,null,null,null,null,null,null,null,null,null,null,null,null,null,null,null,null,null,null,null,null,null,null,null,null,"医師",true]
[null,null,null,null,null,null,null,null,null,null,null,null,null,null,null,null,null,null,null,null,null,null,null,null,null,null,null,null,"薬剤師",true]
[null,null,null,null,null,null,null,null,null,null,null,null,null,null,null,null,null,null,null,null,null,null,null,null,null,null,null,null,"看護師",true]
[null,null,null,null,null,null,null,null,null,null,null,null,null,null,null,null,null,null,null,null,null,null,null,null,null,null,null,null,"臨床検査技師",false]
[null,null,null,null,null,null,null,null,null,null,null,null,null,null,null,null,null,null,null,null,null,null,null,null,null,null,null,null,"その他",true]

{"sheet":"記入例 裏 (Excel提出用)","index":3,"n_rows":41,"n_cols":21,"rows_kept":41,"cut":false,"hidden":false,"merged":[[4,1,5,6],[4,7,5,7],[4,8,5,11],[4,12,5,12],[4,13,4,18],[5,13,5,18],[9,10,9,12],[6,2,6,4],[6,5,6,6],[6,7,6,9],[6,10,6,12],[6,14,6,17],[7,2,7,4],[7,5,7,6],[7,7,7,9],[7,10,7,12],[7,13,10,13],[11,13,12,13],[11,14,12,14],[11,15,12,15],[12,2,12,4],[12,5,12,6],[12,7,12,9],[12,10,12,12],[10,2,10,4],[10,5,10,6],[10,7,10,9],[10,10,10,12],[11,2,11,4],[11,5,11,6],[11,7,11,9],[11,10,11,12],[7,14,10,14],[7,15,10,15],[8,2,8,4],[8,5,8,6],[8,7,8,9],[8,10,8,12],[9,2,9,4],[9,5,9,6],[9,7,9,9],[14,14,15,14],[14,15,15,15],[15,2,15,4],[15,5,15,6],[15,7,15,9],[15,10,15,12],[13,2,13,4],[13,5,13,6],[13,7,13,9],[13,10,13,12],[13,14,13,17],[14,2,14,4],[14,5,14,6],[14,7,14,9],[14,10,14,12],[14,13,15,13],[16,2,16,4],[16,5,16,6],[16,7,16,9],[16,10,16,12],[16,14,16,17],[17,2,17,4],[17,5,17,6],[17,7,17,9],[17,10,17,12],[17,13,19,13],[17,14,19,14],[17,15,19,15],[18,2,18,4],[18,5,18,6],[18,7,18,9],[18,10,18,12],[19,1,21,3],[19,4,19,6],[19,7,19,9],[19,10,19,12],[20,4,20,6],[20,7,20,9],[20,10,20,12],[20,13,21,13],[20,14,21,14],[20,15,21,15],[21,4,21,6],[21,7,21,9],[21,10,21,12],[22,2,22,6],[22,7,22,9],[22,10,22,12],[22,14,22,17],[23,1,23,6],[23,7,24,12],[23,14,23,17],[24,1,24,6],[24,13,26,13],[24,14,26,14],[31,1,31,6],[31,7,31,10],[28,1,28,2],[28,3,28,5],[28,7,28,10],[29,1,29,6],[29,7,29,10],[29,14,29,17],[24,15,26,15],[25,1,25,6],[25,7,25,12],[26,1,26,6],[26,7,26,12],[27,1,27,6],[27,7,27,10],[27,13,28,13],[27,14,28,14],[27,15,28,15],[1,4,1,6],[1,18,1,20],[2,4,2,6],[34,1,36,12],[34,13,37,13],[34,14,37,14],[34,15,37,15],[37,1,37,12],[38,1,40,12],[38,14,38,17],[39,14,39,17],[40,14,40,17],[32,1,32,2],[32,3,32,5],[32,7,32,10],[32,13,33,13],[32,14,33,14],[32,15,33,15],[30,1,30,2],[30,3,30,5],[30,7,30,10],[30,13,31,13],[30,14,31,14],[30,15,31,15]]}
[]
[null,"セルの説明　",null,null,"【オレンジ】",null,null,"入力してください（入力すると白色に変わります）　"]
[null,null,null,null,"【黄色】",null,null,"自動計算されます"]
[]
[null,"【食種】",null,null,null,null,null,"（","常食1800kcal",null,null,null,"）","【１人１日当たりの食材料費】",null,null,null,null,null,825,"円"]
[null,null,null,null,null,null,null,null,null,null,null,null,null,"【栄養価計算の基準】日本食品標準成分表",null,null,null,null,null,2023,"年版"]
[null,null,"栄養素等名",null,null,"（単位）",null,"給与栄養目標量",null,null,"給与栄養量",null,null,null,"食品群名",null,null,null,null,"目標量 （g）","給与量 （g）"]
[null,null,"エネルギー",null,null,"（ kcal ）",null,1800,null,null,1807,null,null,null,"穀類",null,null,"米",null,185,190]
[null,null,"たんぱく質",null,null,"（  g  ）",null,60,null,null,64,null,null,null,null,null,null,"パン類",null,70,60]
[null,null,"脂質",null,null,"（  g  ）",null,48,null,null,46,null,null,null,null,null,null,"めん類",null,15,20]
[null,null,"カルシウム",null,null,"（ mg ）",null,700,null,null,711,null,null,null,null,null,null,"その他の穀類",null,7,3]
[null,null,"鉄",null,null,"（ mg ）",null,10.7,null,null,7.6,null,null,null,"いも及び\nでん粉類",null,null,"いも",null,35,38]
[null,null,"ビタミンA\n（レチノール活性当量）",null,null,"（μgRAE）",null,650,null,null,800,null,null,null,null,null,null,"いも加工品",null,8,8]
[null,null,"ビタミンB1",null,null,"（ mg ）",null,1,null,null,1.2,null,null,null,"砂糖及び甘味類",null,null,null,null,15,9]
[null,null,"ビタミンB2",null,null,"（ mg ）",null,1.1000000000000001,null,null,1.3,null,null,null,"豆類",null,null,"大豆製品",null,45,42]
[null,null,"ビタミンC",null,null,"（ mg ）",null,100,null,null,140,null,null,null,null,null,null,"大豆、その他の豆類",null,3,2]
[null,null,"食物繊維",null,null,"（  g  ）",null,19,null,null,19,null,null,null,"種実類",null,null,null,null,1,0]
[null,null,"食塩相当量",null,null,"（  g  ）",null,8,null,null,7.1,null,null,null,"野菜類",null,null,"緑黄色野菜",null,150,194]
[null,null,null,null,null,null,null,null,null,null,null,null,null,null,null,null,null,"その他の野菜",null,200,240]
[null,"エネルギー\n産生栄養素\nバランス\n(%ｴﾈﾙｷﾞｰ)",null,null,"た ん ぱ く 質",null,null,0.13,null,null,0.14000000000000001,null,null,null,null,null,null,"野菜漬物",null,8,2]
[null,null,null,null,"脂　　　　　質",null,null,0.24,null,null,0.23,null,null,null,"果実類",null,null,"果実",null,130,99]
[null,null,null,null,"炭　水　化　物",null,null,0.63,null,null,0.63,null,null,null,null,null,null,"果実加工品",null,1,26]
[null,null," ",null,null,null,null,null,null,null,null,null,null,null,"きのこ類",null,null,null,null,8,4]
[null,"【上記の食種における",null,null,null,null,null,"有",null,null,null,null,null,null,"藻類",null,null,null,null,4,2]
[null,"  栄養補助食品等の使用状況】",null,null,null,null,null,null,null,null,null,null,null,null,"魚介類",null,null,"魚介類(生)",null,45,44]
[null,"栄養補助食品等の名称",null,null,null,null,null,"１日あたりの使用量(単位)/日",null,null,null,null,null,null,null,null,null,"干物､塩蔵､缶詰",null,4,9]
[null,"（主な補給目的の栄養素等名）",null,null,null,null,null,"（１日あたりの給与栄養量(単位)/日）",null,null,null,null,null,null,null,null,null,"練製品",null,3,2]
[null,"Ca/Fe強化ヨーグルト",null,null,null,null,null,100,null,null,null,"g","/日",null,"肉類",null,null,"肉類(生)",null,45,53]
[null,"（",null,"カルシウム、鉄",null,null,"）","70、2.0",null,null,null,"mg","/日",null,null,null,null,"肉加工品",null,4,2]
[null,"ビタミンB1強化米",null,null,null,null,null,0.25,null,null,null,"g","/日",null,"卵類",null,null,null,null,30,28]
[null,"（",null,"ビタミンB1",null,null,"）",0.38,null,null,null,"mg","/日",null,"乳類",null,null,"牛乳",null,140,152]
[null,null,null,null,null,null,null,null,null,null,null,null,"/日",null,null,null,null,"乳製品",null,35,38]
[null,"（",null,null,null,null,"）",null,null,null,null,null,"/日",null,"油脂類",null,null,"植物性",null,18,11]
[null,"【栄養管理における課題】",null,null,null,null,null,null,null,null,null,null,null,null,null,null,null,"動物性",null,0,0]
[null,"・低栄養の早期発見と早期介入\n・非常時の危機管理対策が不十分",null,null,null,null,null,null,null,null,null,null,null,null,"調味料\n及び\n香辛料類",null,null,"食塩",null,1,1]
[null,null,null,null,null,null,null,null,null,null,null,null,null,null,null,null,null,"しょうゆ",null,15,14]
[null,null,null,null,null,null,null,null,null,null,null,null,null,null,null,null,null,"みそ",null,8,5]
[null,"【課題に対する改善策、工夫事項】",null,null,null,null,null,null,null,null,null,null,null,null,null,null,null,"その他の調味料",null,8,164]
[null,"・多職種の連携により適切な栄養管理を行う\n・災害時の備蓄について今年度中に３日分確保する",null,null,null,null,null,null,null,null,null,null,null,null,"調理済み流通食品類",null,null,null,null,0,0]
[]
[null,null,null,null,null,null,null,null,null,null,null,null,null,null,"合計",null,null,null,null,{"$f":"SUM(T8:T40)","v":1241},{"$f":"SUM(U8:U40)","v":1462}]

{"sheet":"データ転記用","index":4,"n_rows":5,"n_cols":275,"rows_kept":5,"cut":false,"hidden":true,"merged":[[1,39,1,40],[1,41,1,42],[1,43,1,44],[1,45,1,46],[1,47,1,48],[1,51,1,52],[1,53,1,54],[1,55,1,56],[1,57,1,58],[1,197,1,198],[1,200,1,201],[1,203,1,204],[1,59,1,60],[1,188,1,189],[1,191,1,192],[1,194,1,195]]}
["大項目","報告年月",null,"施設情報",null,null,null,null,null,null,null,null,null,null,null,null,null,null,null,null,null,null,null,null,"許可病床数",null,null,null,null,null,null,"１回あたりの食数",null,null,null,null,null,null,null,"給食従事者数【施設】",null,null,null,null,null,null,null,null,null,null,null,"給食従事者数【委託】",null,null,null,null,null,null,null,null,null,null,null,"常勤合計【施設＋委託】",null,null,"加算",null,null,null,null,null,"配膳時間",null,null,null,"適温給食の実施方法",null,null,null,null,null,"運営形態",null,null,null,null,null,"委託内容",null,null,null,null,null,null,null,null,null,null,null,null,null,null,"食事せん規約",null,null,null,null,null,null,"利用者の把握",null,null,null,"喫食調査",null," 栄養食事指導状況",null,null,null,null,null,null,null,null,null,null,null,null,null,null,null,null,null,null,null,null,null,null,null,"チーム医療",null,null,null,null,null,null,null,null,"非常時危機管理対策",null,null,null,null,null,"報告食種",null,"栄養価計算の基準","給与栄養目標量及び給与栄養給与量",null,null,null,null,null,null,null,null,null,null,null,null,null,null,null,null,null,null,null,null,null,"エ　ネ　ル　ギ　ー　比　率",null,null,null,null,null,"栄養補助食品",null,null,null,null,null,null,null,null,null,null,null,null,null,null,null,null,null,null,"食品群別",null,null,null,null,null,null,null,null,null,null,null,null,null,null,null,null,null,null,null,null,null,null,null,null,null,null,null,null,null,null,null,null,null,null,null,null,null,null,null,null,null,null,null,null,null,null,null,null,null,null,null,null,null,null,null,null,null,null,null,null,null,null,null,null,null,null,null,"栄養管理における課題","課題に対する改善策、工夫事項"]
["中項目",null,null,null,null,null,null,null,null,null,null,null,null,null,null,null,null,null,null,null,null,null,null,null,null,null,null,null,null,null,null,"一般食",null,null,null,"特別食",null,null,"その他","管理栄養士",null,"栄養士",null,"調理師",null,"調理員",null,"事務職員",null,{"$f":"IF('表 (Excel提出用)'!$C$36=\"\",\"\",'表 (Excel提出用)'!$C$36)","v":""},{"$f":"IF('表 (Excel提出用)'!$C$36=\"\",\"\",'表 (Excel提出用)'!$C$36)","v":""},"管理栄養士",null,"栄養士",null,"調理師",null,"調理員",null,"事務職員",null,{"$f":"IF('表 (Excel提出用)'!$C$36=\"\",\"\",'表 (Excel提出用)'!$C$36)","v":""},{"$f":"IF('表 (Excel提出用)'!$C$36=\"\",\"\",'表 (Excel提出用)'!$C$36)","v":""},null,null,null,null,null,null,null,null,null,null,null,null,null,null,null,null,null,null,null,null,"委託業者",null,null,null,null,null,null,null,null,null,null,null,null,null,null,null,null,null,null,null,null,null,null,null,null,null,null,null,null,null,null,null,null,"個別",null,null,null,null,null,null,null,null,"集団",null,null,null,null,null,null,null,null,null,null,null,null,null,null,null,"構成職種",null,null,null,null,null,null,null,null,null,null,null,null,null,null,null,null,"目標",null,null,null,null,null,null,null,null,null,null,"給与",null,null,null,null,null,null,null,null,null,null,"目標",null,null,"給与",null,null,null,null,"１日あたりの使用量①",null,null,"１日あたりの給与栄養量①",null,null,"１日あたりの使用量②",null,null,"１日あたりの給与栄養量②",null,null,"１日あたりの使用量③",null,null,"１日あたりの給与栄養量③",null,"目標",null,null,null,null,null,null,null,null,null,null,null,null,null,null,null,null,null,null,null,null,null,null,null,null,null,null,null,null,null,null,null,null,null,"給与"]
["小項目","年","月","施設名","施設郵便番号","施設所在地","電話番号①","電話番号②","電話番号③","電話番号(①＋②＋③)","電話番号(②＋③)","FAX①","FAX②","FAX③","FAX(①＋②＋③)","e-mail","設置者代表者","給食責任者","作成者","作成者tel①","作成者tel②","作成者tel③","作成者tel(①＋②＋③)","施設番号","一般","療養","結核","感染症","精神","合計","規模",{"$f":"IF('表 (Excel提出用)'!E24=\"(      )\",\"\",'表 (Excel提出用)'!E24)","v":""},{"$f":"IF('表 (Excel提出用)'!E25=\"(      )\",\"\",'表 (Excel提出用)'!E25)","v":""},{"$f":"IF('表 (Excel提出用)'!E26=\"(      )\",\"\",'表 (Excel提出用)'!E26)","v":""},{"$f":"IF('表 (Excel提出用)'!E27=\"(      )\",\"\",'表 (Excel提出用)'!E27)","v":""},"加算","非加算","職員食等",{"$f":"IF('表 (Excel提出用)'!J28=\"(      )\",\"\",'表 (Excel提出用)'!J28)","v":""},"常勤","非常勤","常勤","非常勤","常勤","非常勤","常勤","非常勤","常勤","非常勤","常勤","非常勤","常勤","非常勤","常勤","非常勤","常勤","非常勤","常勤","非常勤","常勤","非常勤","常勤","非常勤","管栄","栄養士","調理師","入院時食事療養","食堂","特別食","特別ﾒﾆｭｰ","NST","栄養情報連携料","朝食","昼食","間食","夕食","保温保冷配膳車","保冷配膳車","保温トレイ","保温食器","その他","その他内容","運営形態","名称","所在地","電話番号","代表者","施設の責任者","献立作成","食材調達","下処理","調理","盛付","配膳","下膳","食器洗浄","その他","その他内容","院外調理","クックチル","クックフリーズ","クックサーブ","真空調理","有無","年","月","病態別","栄養成分別","その他","その他内容","身体活動レベル","身長","体重","BMI","有無","内容","入院","入院算定（再掲）","外来","外来算定（再掲）","在宅","在宅算定（再掲）","個別合計","施設管理栄養士（常勤・非常勤の合計）","1人あたりの指導件数","教室名または内容（１）","所要時間（１）","回数（１）","人数（１）","指導料算定（１）","教室名または内容（２）","所要時間（２）","回数（２）","人数（２）","指導料算定（２）","教室名または内容（３）","所要時間（３）","回数（３）","人数（３）","指導料算定（３）","有無","管理栄養士","栄養士","医師","薬剤師","看護師","臨床検査技師","その他","その他内容","食中毒マニュアル","災害時マニュアル","備蓄","備蓄日数","献立","研修・訓練","食種","食材料費","年版","エネルギー","たんぱく質","脂質","カルシウム","鉄","ビタミンA","ビタミンB1","ビタミンB2","ビタミンC","食物繊維","食塩相当量","エネルギー","たんぱく質","脂質","カルシウム","鉄","ビタミンA","ビタミンB1","ビタミンB2","ビタミンC","食物繊維","食塩相当量","P","F","C","P","F","C","有無","栄養補助食品等の名称①","食品量①","単位①","栄養素名①","栄養素量①","単位①","栄養補助食品等の名称②","食品量②","単位②","栄養素名②","栄養素量②","単位②","栄養補助食品等の名称③","食品量③","単位③","栄養素名③","栄養素量③","単位③","米","パン類","めん類","その他穀類","いも類","いも加工品","砂糖甘味類","大豆製品","その他豆類","種実類","緑黄色野菜","その他野菜","野菜漬物","果実類","果実加工品","きのこ類","藻類","魚介類(生)","干物、缶詰","練製品","肉類（生）","肉加工品","卵類","牛乳","乳製品","植物性油脂","動物性油脂","食塩","しょうゆ","みそ","調味料","調理済食品",{"$f":"IF('裏 (Excel提出用)'!$O$37=\"\",\"\",'裏 (Excel提出用)'!$O$37)","v":""},"合計","米","パン類","めん類","その他穀類","いも類","いも加工品","砂糖甘味類","大豆製品","その他豆類","種実類","緑黄色野菜","その他野菜","野菜漬物","果実類","果実加工品","きのこ類","藻類","魚介類(生)","干物、缶詰","練製品","肉類（生）","肉加工品","卵類","牛乳","乳製品","植物性油脂","動物性油脂","食塩","しょうゆ","みそ","調味料","調理済食品",{"$f":"IF('裏 (Excel提出用)'!$O$37=\"\",\"\",'裏 (Excel提出用)'!$O$37)","v":""},"合計","内容","内容"]
["データ",{"$f":"IF('表 (Excel提出用)'!P2=\"\",\"\",'表 (Excel提出用)'!P2)","v":""},{"$f":"IF('表 (Excel提出用)'!S2=\"\",\"\",'表 (Excel提出用)'!S2)","v":""},{"$f":"'表 (Excel提出用)'!D3","v":0},{"$f":"'表 (Excel提出用)'!D4&\"-\"&'表 (Excel提出用)'!H4","v":"-"},{"$f":"'表 (Excel提出用)'!D7","v":0},{"$f":"'表 (Excel提出用)'!D10","v":0},{"$f":"'表 (Excel提出用)'!H10","v":0},{"$f":"'表 (Excel提出用)'!L10","v":0},{"$f":"G4&H4&I4","v":"000"},{"$f":"H4&\"-\"&I4","v":"0-0"},{"$f":"'表 (Excel提出用)'!D13","v":0},{"$f":"'表 (Excel提出用)'!H13","v":0},{"$f":"'表 (Excel提出用)'!L13","v":0},{"$f":"L4&M4&N4","v":"000"},{"$f":"'表 (Excel提出用)'!D16","v":0},{"$f":"'表 (Excel提出用)'!S3","v":0},{"$f":"'表 (Excel提出用)'!S4","v":0},{"$f":"'表 (Excel提出用)'!S9","v":0},{"$f":"'表 (Excel提出用)'!S14","v":0},{"$f":"'表 (Excel提出用)'!U14","v":0},{"$f":"'表 (Excel提出用)'!X14","v":0},{"$f":"T4&U4&V4","v":"000"},null,{"$f":"'表 (Excel提出用)'!C22","v":0},{"$f":"'表 (Excel提出用)'!E22","v":0},{"$f":"'表 (Excel提出用)'!G22","v":0},{"$f":"'表 (Excel提出用)'!I22","v":0},{"$f":"'表 (Excel提出用)'!K22","v":0},{"$f":"'表 (Excel提出用)'!L22","v":0},{"$f":"IF(AD4>499,5,IF(AD4>299,4,IF(AD4>99,3,IF(AD4>49,2,1))))","v":1},{"$f":"'表 (Excel提出用)'!G24","v":0},{"$f":"'表 (Excel提出用)'!G25","v":0},{"$f":"'表 (Excel提出用)'!G26","v":0},{"$f":"'表 (Excel提出用)'!G27","v":0},{"$f":"'表 (Excel提出用)'!L24","v":0},{"$f":"'表 (Excel提出用)'!L25","v":0},{"$f":"'表 (Excel提出用)'!G28","v":0},{"$f":"'表 (Excel提出用)'!L28","v":0},{"$f":"'表 (Excel提出用)'!F31","v":0},{"$f":"'表 (Excel提出用)'!H31","v":0},{"$f":"'表 (Excel提出用)'!F32","v":0},{"$f":"'表 (Excel提出用)'!H32","v":0},{"$f":"'表 (Excel提出用)'!F33","v":0},{"$f":"'表 (Excel提出用)'!H33","v":0},{"$f":"'表 (Excel提出用)'!F34","v":0},{"$f":"'表 (Excel提出用)'!H34","v":0},{"$f":"'表 (Excel提出用)'!F35","v":0},{"$f":"'表 (Excel提出用)'!H35","v":0},{"$f":"'表 (Excel提出用)'!F36","v":0},{"$f":"'表 (Excel提出用)'!H36","v":0},{"$f":"'表 (Excel提出用)'!J31","v":0},{"$f":"'表 (Excel提出用)'!L31","v":0},{"$f":"'表 (Excel提出用)'!J32","v":0},{"$f":"'表 (Excel提出用)'!L32","v":0},{"$f":"'表 (Excel提出用)'!J33","v":0},{"$f":"'表 (Excel提出用)'!L33","v":0},{"$f":"'表 (Excel提出用)'!J34","v":0},{"$f":"'表 (Excel提出用)'!L34","v":0},{"$f":"'表 (Excel提出用)'!J35","v":0},{"$f":"'表 (Excel提出用)'!L35","v":0},{"$f":"'表 (Excel提出用)'!J36","v":0},{"$f":"'表 (Excel提出用)'!L36","v":0},{"$f":"IF(AND(AN4=\"\",AZ4=\"\"),\"\",AN4+AZ4)","v":0},{"$f":"IF(AND(AP4=\"\",BB4=\"\"),\"\",AP4+BB4)","v":0},{"$f":"IF(AND(AR4=\"\",BD4=\"\"),\"\",AR4+BD4)","v":0},{"$f":"IF('表 (Excel提出用)'!R20=\"\",999,IF('表 (Excel提出用)'!R20=\"Ⅰ\",1,IF('表 (Excel提出用)'!R20=\"Ⅱ\",2,IF('表 (Excel提出用)'!R20=\"算定なし\",3))))","v":999},{"$f":"IF('表 (Excel提出用)'!X20=\"\",999,IF('表 (Excel提出用)'!X20=\"有\",1,IF('表 (Excel提出用)'!X20=\"無\",2)))","v":999},{"$f":"IF('表 (Excel提出用)'!R21=\"\",999,IF('表 (Excel提出用)'!R21=\"有\",1,IF('表 (Excel提出用)'!R21=\"無\",2)))","v":999},{"$f":"IF('表 (Excel提出用)'!X21=\"\",999,IF('表 (Excel提出用)'!X21=\"有\",1,IF('表 (Excel提出用)'!X21=\"無\",2)))","v":999},{"$f":"IF('表 (Excel提出用)'!R22=\"\",999,IF('表 (Excel提出用)'!R22=\"有\",1,IF('表 (Excel提出用)'!R22=\"無\",2)))","v":999},{"$f":"IF('表 (Excel提出用)'!X22=\"\",999,IF('表 (Excel提出用)'!X22=\"有\",1,IF('表 (Excel提出用)'!X22=\"無\",2)))","v":999},{"$f":"IF('表 (Excel提出用)'!AD28=\"\",\"\",IF('表 (Excel提出用)'!AD28>=900,5,IF('表 (Excel提出用)'!AD28>=830,4,IF('表 (Excel提出用)'!AD28>=800,3,IF('表 (Excel提出用)'!AD28>=730,2,IF('表 (Excel提出用)'!AD28>=700,1,999))))))","v":""},{"$f":"IF('表 (Excel提出用)'!AD29=\"\",\"\",IF('表 (Excel提出用)'!AD29>=1300,5,IF('表 (Excel提出用)'!AD29>=1230,4,IF('表 (Excel提出用)'!AD29>=1200,3,IF('表 (Excel提出用)'!AD29>=1130,2,IF('表 (Excel提出用)'!AD29>=1100,1,999))))))","v":""},{"$f":"IF('表 (Excel提出用)'!AD30=\"\",\"\",IF('表 (Excel提出用)'!AD30>=1530,5,IF('表 (Excel提出用)'!AD30>=1500,4,IF('表 (Excel提出用)'!AD30>=1430,3,IF('表 (Excel提出用)'!AD30>=1400,2,IF('表 (Excel提出用)'!AD30>=1330,1,999))))))","v":""},{"$f":"IF('表 (Excel提出用)'!AD31=\"\",\"\",IF('表 (Excel提出用)'!AD31>=1900,6,IF('表 (Excel提出用)'!AD31>=1830,5,IF('表 (Excel提出用)'!AD31>=1800,4,IF('表 (Excel提出用)'!AD31>=1730,3,IF('表 (Excel提出用)'!AD31>=1700,2,IF('表 (Excel提出用)'!AD31>=1630,1,999)))))))","v":""},{"$f":"IF(AND('表 (Excel提出用)'!$AF$28=FALSE,'表 (Excel提出用)'!$AF$29=FALSE,'表 (Excel提出用)'!$AF$30=FALSE,'表 (Excel提出用)'!$AF$31=FALSE,'表 (Excel提出用)'!$AF$32=FALSE),999,IF('表 (Excel提出用)'!AF28=TRUE,1,\"\"))","v":999},{"$f":"IF(AND('表 (Excel提出用)'!$AF$28=FALSE,'表 (Excel提出用)'!$AF$29=FALSE,'表 (Excel提出用)'!$AF$30=FALSE,'表 (Excel提出用)'!$AF$31=FALSE,'表 (Excel提出用)'!$AF$32=FALSE),999,IF('表 (Excel提出用)'!AF29=TRUE,1,\"\"))","v":999},{"$f":"IF(AND('表 (Excel提出用)'!$AF$28=FALSE,'表 (Excel提出用)'!$AF$29=FALSE,'表 (Excel提出用)'!$AF$30=FALSE,'表 (Excel提出用)'!$AF$31=FALSE,'表 (Excel提出用)'!$AF$32=FALSE),999,IF('表 (Excel提出用)'!AF30=TRUE,1,\"\"))","v":999},{"$f":"IF(AND('表 (Excel提出用)'!$AF$28=FALSE,'表 (Excel提出用)'!$AF$29=FALSE,'表 (Excel提出用)'!$AF$30=FALSE,'表 (Excel提出用)'!$AF$31=FALSE,'表 (Excel提出用)'!$AF$32=FALSE),999,IF('表 (Excel提出用)'!AF31=TRUE,1,\"\"))","v":999},{"$f":"IF(AND('表 (Excel提出用)'!$AF$28=FALSE,'表 (Excel提出用)'!$AF$29=FALSE,'表 (Excel提出用)'!$AF$30=FALSE,'表 (Excel提出用)'!$AF$31=FALSE,'表 (Excel提出用)'!$AF$32=FALSE),999,IF('表 (Excel提出用)'!AF32=TRUE,1,\"\"))","v":999},{"$f":"IF('表 (Excel提出用)'!V28=\"\",\"\",'表 (Excel提出用)'!V28)","v":""},{"$f":"IF('表 (Excel提出用)'!R29=\"\",1,2)","v":1},{"$f":"IF('表 (Excel提出用)'!R29=\"\",\"\",'表 (Excel提出用)'!R29)","v":""},{"$f":"IF('表 (Excel提出用)'!R30=\"\",\"\",'表 (Excel提出用)'!R30)","v":""},{"$f":"'表 (Excel提出用)'!R31&'表 (Excel提出用)'!U31&'表 (Excel提出用)'!X31","v":""},{"$f":"IF('表 (Excel提出用)'!R32=\"\",\"\",'表 (Excel提出用)'!R32)","v":""},{"$f":"IF('表 (Excel提出用)'!R33=\"\",\"\",'表 (Excel提出用)'!R33)","v":""},{"$f":"IF(AND('表 (Excel提出用)'!$R$29<>\"\",'表 (Excel提出用)'!$AD$40:$AD$48=FALSE,'表 (Excel提出用)'!$AF$40:$AF$43=FALSE),999,IF('表 (Excel提出用)'!AD40=TRUE,1,\"\"))","v":""},{"$f":"IF(AND('表 (Excel提出用)'!$R$29<>\"\",'表 (Excel提出用)'!$AD$40:$AD$48=FALSE,'表 (Excel提出用)'!$AF$40:$AF$43=FALSE),999,IF('表 (Excel提出用)'!AD41=TRUE,1,\"\"))","v":""},{"$f":"IF(AND('表 (Excel提出用)'!$R$29<>\"\",'表 (Excel提出用)'!$AD$40:$AD$48=FALSE,'表 (Excel提出用)'!$AF$40:$AF$43=FALSE),999,IF('表 (Excel提出用)'!AD42=TRUE,1,\"\"))","v":""},{"$f":"IF(AND('表 (Excel提出用)'!$R$29<>\"\",'表 (Excel提出用)'!$AD$40:$AD$48=FALSE,'表 (Excel提出用)'!$AF$40:$AF$43=FALSE),999,IF('表 (Excel提出用)'!AD43=TRUE,1,\"\"))","v":""},{"$f":"IF(AND('表 (Excel提出用)'!$R$29<>\"\",'表 (Excel提出用)'!$AD$40:$AD$48=FALSE,'表 (Excel提出用)'!$AF$40:$AF$43=FALSE),999,IF('表 (Excel提出用)'!AD44=TRUE,1,\"\"))","v":""},{"$f":"IF(AND('表 (Excel提出用)'!$R$29<>\"\",'表 (Excel提出用)'!$AD$40:$AD$48=FALSE,'表 (Excel提出用)'!$AF$40:$AF$43=FALSE),999,IF('表 (Excel提出用)'!AD45=TRUE,1,\"\"))","v":""},{"$f":"IF(AND('表 (Excel提出用)'!$R$29<>\"\",'表 (Excel提出用)'!$AD$40:$AD$48=FALSE,'表 (Excel提出用)'!$AF$40:$AF$43=FALSE),999,IF('表 (Excel提出用)'!AD46=TRUE,1,\"\"))","v":""},{"$f":"IF(AND('表 (Excel提出用)'!$R$29<>\"\",'表 (Excel提出用)'!$AD$40:$AD$48=FALSE,'表 (Excel提出用)'!$AF$40:$AF$43=FALSE),999,IF('表 (Excel提出用)'!AD47=TRUE,1,\"\"))","v":""},{"$f":"IF(AND('表 (Excel提出用)'!$R$29<>\"\",'表 (Excel提出用)'!$AD$40:$AD$48=FALSE,'表 (Excel提出用)'!$AF$40:$AF$43=FALSE),999,IF('表 (Excel提出用)'!AD48=TRUE,1,\"\"))","v":""},{"$f":"IF('表 (Excel提出用)'!V35=\"\",\"\",'表 (Excel提出用)'!V35)","v":""},{"$f":"IF(AND('表 (Excel提出用)'!$R$29<>\"\",'表 (Excel提出用)'!$AD$40:$AD$48=FALSE,'表 (Excel提出用)'!$AF$40:$AF$43=FALSE),999,IF(COUNTIF('表 (Excel提出用)'!$AF$40:$AF$43,'表 (Excel提出用)'!AE44)>=1,\"1\",\"\"))","v":""},{"$f":"IF(AND('表 (Excel提出用)'!$R$29<>\"\",'表 (Excel提出用)'!$AD$40:$AD$48=FALSE,'表 (Excel提出用)'!$AF$35:$AF$43=FALSE),999,IF('表 (Excel提出用)'!AF40=TRUE,1,\"\"))","v":""},{"$f":"IF(AND('表 (Excel提出用)'!$R$29<>\"\",'表 (Excel提出用)'!$AD$40:$AD$48=FALSE,'表 (Excel提出用)'!$AF$35:$AF$43=FALSE),999,IF('表 (Excel提出用)'!AF41=TRUE,1,\"\"))","v":""},{"$f":"IF(AND('表 (Excel提出用)'!$R$29<>\"\",'表 (Excel提出用)'!$AD$40:$AD$48=FALSE,'表 (Excel提出用)'!$AF$35:$AF$43=FALSE),999,IF('表 (Excel提出用)'!AF42=TRUE,1,\"\"))","v":""},{"$f":"IF(AND('表 (Excel提出用)'!$R$29<>\"\",'表 (Excel提出用)'!$AD$40:$AD$48=FALSE,'表 (Excel提出用)'!$AF$35:$AF$43=FALSE),999,IF('表 (Excel提出用)'!AF43=TRUE,1,\"\"))","v":""},{"$f":"IF('表 (Excel提出用)'!F39=\"無\",2,IF('表 (Excel提出用)'!F39=\"有\",1,IF(AND('表 (Excel提出用)'!F39=\"\",OR('表 (Excel提出用)'!AH40=TRUE,'表 (Excel提出用)'!AH41=TRUE,'表 (Excel提出用)'!AH42=TRUE)),1,999)))","v":999},{"$f":"IF('表 (Excel提出用)'!I39=\"\",\"\",'表 (Excel提出用)'!I39)","v":""},{"$f":"IF('表 (Excel提出用)'!K39=\"\",\"\",'表 (Excel提出用)'!K39)","v":""},{"$f":"IF(OR(AND('表 (Excel提出用)'!$F$39=\"\",'表 (Excel提出用)'!$AH$40:$AH$42=FALSE),AND('表 (Excel提出用)'!$F$39=\"有\",'表 (Excel提出用)'!$AH$40:$AH$42=FALSE)),999,IF('表 (Excel提出用)'!AH40=TRUE,1,\"\"))","v":999},{"$f":"IF(OR(AND('表 (Excel提出用)'!$F$39=\"\",'表 (Excel提出用)'!$AH$40:$AH$42=FALSE),AND('表 (Excel提出用)'!$F$39=\"有\",'表 (Excel提出用)'!$AH$40:$AH$42=FALSE)),999,IF('表 (Excel提出用)'!AH41=TRUE,1,\"\"))","v":999},{"$f":"IF(OR(AND('表 (Excel提出用)'!$F$39=\"\",'表 (Excel提出用)'!$AH$40:$AH$42=FALSE),AND('表 (Excel提出用)'!$F$39=\"有\",'表 (Excel提出用)'!$AH$40:$AH$42=FALSE)),999,IF('表 (Excel提出用)'!AH42=TRUE,1,\"\"))","v":999},{"$f":"IF('表 (Excel提出用)'!V39=\"\",\"\",'表 (Excel提出用)'!V39)","v":""},{"$f":"IF('表 (Excel提出用)'!K40=\"\",999,IF('表 (Excel提出用)'!K40=\"有\",1,IF('表 (Excel提出用)'!K40=\"無\",2)))","v":999},{"$f":"IF('表 (Excel提出用)'!R40=\"\",999,IF('表 (Excel提出用)'!R40=\"有\",1,IF('表 (Excel提出用)'!R40=\"無\",2)))","v":999},{"$f":"IF('表 (Excel提出用)'!X40=\"\",999,IF('表 (Excel提出用)'!X40=\"有\",1,IF('表 (Excel提出用)'!X40=\"無\",2)))","v":999},{"$f":"IF('表 (Excel提出用)'!K41=\"\",999,IF('表 (Excel提出用)'!K41=\"有\",1,IF('表 (Excel提出用)'!K41=\"無\",2)))","v":999},{"$f":"IF('表 (Excel提出用)'!R41=\"\",999,IF('表 (Excel提出用)'!R41=\"有\",1,IF('表 (Excel提出用)'!R41=\"無\",2)))","v":999},{"$f":"IF('表 (Excel提出用)'!T41=\"\",\"\",'表 (Excel提出用)'!T41)","v":""},{"$f":"IF('表 (Excel提出用)'!H44=\"\",\"\",'表 (Excel提出用)'!H44)","v":""},{"$f":"IF('表 (Excel提出用)'!H46=\"\",\"\",'表 (Excel提出用)'!H46)","v":""},{"$f":"IF('表 (Excel提出用)'!J44=\"\",\"\",'表 (Excel提出用)'!J44)","v":""},{"$f":"IF('表 (Excel提出用)'!J46=\"\",\"\",'表 (Excel提出用)'!J46)","v":""},{"$f":"IF('表 (Excel提出用)'!L44=\"\",\"\",'表 (Excel提出用)'!L44)","v":""},{"$f":"IF('表 (Excel提出用)'!L46=\"\",\"\",'表 (Excel提出用)'!L46)","v":""},{"$f":"IF(SUM(DM4,DO4,DQ4)=0,\"\",SUM(DM4,DO4,DQ4))","v":""},{"$f":"$AN4+$AO4","v":0},{"$f":"IF(DS4=\"\",\"\",$DS4/(DT4))","v":""},{"$f":"IF('表 (Excel提出用)'!O44=\"\",\"\",'表 (Excel提出用)'!O44)","v":""},{"$f":"IF('表 (Excel提出用)'!R44=\"\",\"\",'表 (Excel提出用)'!R44)","v":""},{"$f":"IF('表 (Excel提出用)'!T44=\"\",\"\",'表 (Excel提出用)'!T44)","v":""},{"$f":"IF('表 (Excel提出用)'!V44=\"\",\"\",'表 (Excel提出用)'!V44)","v":""},{"$f":"IF('表 (Excel提出用)'!X44=\"\",\"\",IF('表 (Excel提出用)'!X44=\"有\",1,IF('表 (Excel提出用)'!X44=\"無\",2)))","v":""},{"$f":"IF('表 (Excel提出用)'!O45=\"\",\"\",'表 (Excel提出用)'!O45)","v":""},{"$f":"IF('表 (Excel提出用)'!R45=\"\",\"\",'表 (Excel提出用)'!R45)","v":""},{"$f":"IF('表 (Excel提出用)'!T45=\"\",\"\",'表 (Excel提出用)'!T45)","v":""},{"$f":"IF('表 (Excel提出用)'!V45=\"\",\"\",'表 (Excel提出用)'!V45)","v":""},{"$f":"IF('表 (Excel提出用)'!X45=\"\",\"\",IF('表 (Excel提出用)'!X45=\"有\",1,IF('表 (Excel提出用)'!X45=\"無\",2)))","v":""},{"$f":"IF('表 (Excel提出用)'!O46=\"\",\"\",'表 (Excel提出用)'!O46)","v":""},{"$f":"IF('表 (Excel提出用)'!R46=\"\",\"\",'表 (Excel提出用)'!R46)","v":""},{"$f":"IF('表 (Excel提出用)'!T46=\"\",\"\",'表 (Excel提出用)'!T46)","v":""},{"$f":"IF('表 (Excel提出用)'!V46=\"\",\"\",'表 (Excel提出用)'!V46)","v":""},{"$f":"IF('表 (Excel提出用)'!X46=\"\",\"\",IF('表 (Excel提出用)'!X46=\"有\",1,IF('表 (Excel提出用)'!X46=\"無\",2)))","v":""},{"$f":"IF('表 (Excel提出用)'!F47=\"\",999,IF('表 (Excel提出用)'!F47=\"有\",1,IF('表 (Excel提出用)'!F47=\"無\",2)))","v":999},{"$f":"IF('表 (Excel提出用)'!AD52=TRUE,1,\"\")","v":""},{"$f":"IF('表 (Excel提出用)'!AD53=TRUE,1,\"\")","v":""},{"$f":"IF('表 (Excel提出用)'!AD54=TRUE,1,\"\")","v":""},{"$f":"IF('表 (Excel提出用)'!AD55=TRUE,1,\"\")","v":""},{"$f":"IF('表 (Excel提出用)'!AD56=TRUE,1,\"\")","v":""},{"$f":"IF('表 (Excel提出用)'!AD57=TRUE,1,\"\")","v":""},{"$f":"IF('表 (Excel提出用)'!AD58=TRUE,1,\"\")","v":""},{"$f":"IF('表 (Excel提出用)'!V48=\"\",\"\",'表 (Excel提出用)'!V48)","v":""},{"$f":"IF('表 (Excel提出用)'!O49=\"\",999,IF('表 (Excel提出用)'!O49=\"有\",1,IF('表 (Excel提出用)'!O49=\"無\",2)))","v":999},{"$f":"IF('表 (Excel提出用)'!X49=\"\",999,IF('表 (Excel提出用)'!X49=\"有\",1,IF('表 (Excel提出用)'!X49=\"無\",2)))","v":999},{"$f":"IF(AND('表 (Excel提出用)'!K50=\"\",'表 (Excel提出用)'!N50=\"\"),999,IF(OR('表 (Excel提出用)'!K50=\"有\",'表 (Excel提出用)'!N50<>\"\"),1,IF('表 (Excel提出用)'!K50=\"無\",2)))","v":999},{"$f":"IF(EV4=999,\"\",IF(AND('表 (Excel提出用)'!K50=\"有\",'表 (Excel提出用)'!N50=\"\"),\"記載なし\",'表 (Excel提出用)'!N50))","v":""},{"$f":"IF(EV4=2,2,IF('表 (Excel提出用)'!X50=\"\",999,IF('表 (Excel提出用)'!X50=\"有\",1,IF('表 (Excel提出用)'!X50=\"無\",2))))","v":999},{"$f":"IF('表 (Excel提出用)'!Q51=\"\",999,IF('表 (Excel提出用)'!Q51=\"有\",1,IF('表 (Excel提出用)'!Q51=\"無\",2)))","v":999},{"$f":"IF('裏 (Excel提出用)'!I2=\"\",\"\",'裏 (Excel提出用)'!I2)","v":""},{"$f":"IF('裏 (Excel提出用)'!T2=\"\",\"\",'裏 (Excel提出用)'!T2)","v":""},{"$f":"IF('裏 (Excel提出用)'!T3=\"\",\"\",'裏 (Excel提出用)'!T3)","v":""},{"$f":"IF('裏 (Excel提出用)'!H5=\"\",\"\",'裏 (Excel提出用)'!H5)","v":""},{"$f":"IF('裏 (Excel提出用)'!H6=\"\",\"\",'裏 (Excel提出用)'!H6)","v":""},{"$f":"IF('裏 (Excel提出用)'!H7=\"\",\"\",'裏 (Excel提出用)'!H7)","v":""},{"$f":"IF('裏 (Excel提出用)'!H8=\"\",\"\",'裏 (Excel提出用)'!H8)","v":""},{"$f":"IF('裏 (Excel提出用)'!H9=\"\",\"\",'裏 (Excel提出用)'!H9)","v":""},{"$f":"IF('裏 (Excel提出用)'!H10=\"\",\"\",'裏 (Excel提出用)'!H10)","v":""},{"$f":"IF('裏 (Excel提出用)'!H11=\"\",\"\",'裏 (Excel提出用)'!H11)","v":""},{"$f":"IF('裏 (Excel提出用)'!H12=\"\",\"\",'裏 (Excel提出用)'!H12)","v":""},{"$f":"IF('裏 (Excel提出用)'!H13=\"\",\"\",'裏 (Excel提出用)'!H13)","v":""},{"$f":"IF('裏 (Excel提出用)'!H14=\"\",\"\",'裏 (Excel提出用)'!H14)","v":""},{"$f":"IF('裏 (Excel提出用)'!H15=\"\",\"\",'裏 (Excel提出用)'!H15)","v":""},{"$f":"IF('裏 (Excel提出用)'!K5=\"\",\"\",'裏 (Excel提出用)'!K5)","v":""},{"$f":"IF('裏 (Excel提出用)'!K6=\"\",\"\",'裏 (Excel提出用)'!K6)","v":""},{"$f":"IF('裏 (Excel提出用)'!K7=\"\",\"\",'裏 (Excel提出用)'!K7)","v":""},{"$f":"IF('裏 (Excel提出用)'!K8=\"\",\"\",'裏 (Excel提出用)'!K8)","v":""},{"$f":"IF('裏 (Excel提出用)'!K9=\"\",\"\",'裏 (Excel提出用)'!K9)","v":""},{"$f":"IF('裏 (Excel提出用)'!K10=\"\",\"\",'裏 (Excel提出用)'!K10)","v":""},{"$f":"IF('裏 (Excel提出用)'!K11=\"\",\"\",'裏 (Excel提出用)'!K11)","v":""},{"$f":"IF('裏 (Excel提出用)'!K12=\"\",\"\",'裏 (Excel提出用)'!K12)","v":""},{"$f":"IF('裏 (Excel提出用)'!K13=\"\",\"\",'裏 (Excel提出用)'!K13)","v":""},{"$f":"IF('裏 (Excel提出用)'!K14=\"\",\"\",'裏 (Excel提出用)'!K14)","v":""},{"$f":"IF('裏 (Excel提出用)'!K15=\"\",\"\",'裏 (Excel提出用)'!K15)","v":""},{"$f":"IF('裏 (Excel提出用)'!H17=\"\",\"\",'裏 (Excel提出用)'!H17)","v":""},{"$f":"IF('裏 (Excel提出用)'!H18=\"\",\"\",'裏 (Excel提出用)'!H18)","v":""},{"$f":"IF('裏 (Excel提出用)'!H19=\"\",\"\",'裏 (Excel提出用)'!H19)","v":""},{"$f":"IF('裏 (Excel提出用)'!K17=\"\",\"\",'裏 (Excel提出用)'!K17)","v":""},{"$f":"IF('裏 (Excel提出用)'!K18=\"\",\"\",'裏 (Excel提出用)'!K18)","v":""},{"$f":"IF('裏 (Excel提出用)'!K19=\"\",\"\",'裏 (Excel提出用)'!K19)","v":""},{"$f":"IF('裏 (Excel提出用)'!H21=\"\",999,IF('裏 (Excel提出用)'!H21=\"有\",1,IF('裏 (Excel提出用)'!H21=\"無\",2)))","v":999},{"$f":"IF('裏 (Excel提出用)'!B25=\"\",\"\",'裏 (Excel提出用)'!B25)","v":""},{"$f":"IF('裏 (Excel提出用)'!H25=\"\",\"\",'裏 (Excel提出用)'!H25)","v":""},{"$f":"IF('裏 (Excel提出用)'!L25=\"\",\"\",'裏 (Excel提出用)'!L25)","v":""},{"$f":"IF('裏 (Excel提出用)'!D26=\"\",\"\",'裏 (Excel提出用)'!D26)","v":""},{"$f":"IF('裏 (Excel提出用)'!H26=\"\",\"\",'裏 (Excel提出用)'!H26)","v":""},{"$f":"IF('裏 (Excel提出用)'!L26=\"\",\"\",'裏 (Excel提出用)'!L26)","v":""},{"$f":"IF('裏 (Excel提出用)'!B27=\"\",\"\",'裏 (Excel提出用)'!B27)","v":""},{"$f":"IF('裏 (Excel提出用)'!H27=\"\",\"\",'裏 (Excel提出用)'!H27)","v":""},{"$f":"IF('裏 (Excel提出用)'!L27=\"\",\"\",'裏 (Excel提出用)'!L27)","v":""},{"$f":"IF('裏 (Excel提出用)'!D28=\"\",\"\",'裏 (Excel提出用)'!D28)","v":""},{"$f":"IF('裏 (Excel提出用)'!H28=\"\",\"\",'裏 (Excel提出用)'!H28)","v":""},{"$f":"IF('裏 (Excel提出用)'!L28=\"\",\"\",'裏 (Excel提出用)'!L28)","v":""},{"$f":"IF('裏 (Excel提出用)'!B29=\"\",\"\",'裏 (Excel提出用)'!B29)","v":""},{"$f":"IF('裏 (Excel提出用)'!H29=\"\",\"\",'裏 (Excel提出用)'!H29)","v":""},{"$f":"IF('裏 (Excel提出用)'!L29=\"\",\"\",'裏 (Excel提出用)'!L29)","v":""},{"$f":"IF('裏 (Excel提出用)'!D30=\"\",\"\",'裏 (Excel提出用)'!D30)","v":""},{"$f":"IF('裏 (Excel提出用)'!H30=\"\",\"\",'裏 (Excel提出用)'!H30)","v":""},{"$f":"IF('裏 (Excel提出用)'!L30=\"\",\"\",'裏 (Excel提出用)'!L30)","v":""},{"$f":"IF('裏 (Excel提出用)'!T5=\"\",0,'裏 (Excel提出用)'!T5)","v":0},{"$f":"IF('裏 (Excel提出用)'!T6=\"\",0,'裏 (Excel提出用)'!T6)","v":0},{"$f":"IF('裏 (Excel提出用)'!T7=\"\",0,'裏 (Excel提出用)'!T7)","v":0},{"$f":"IF('裏 (Excel提出用)'!T8=\"\",0,'裏 (Excel提出用)'!T8)","v":0},{"$f":"IF('裏 (Excel提出用)'!T9=\"\",0,'裏 (Excel提出用)'!T9)","v":0},{"$f":"IF('裏 (Excel提出用)'!T10=\"\",0,'裏 (Excel提出用)'!T10)","v":0},{"$f":"IF('裏 (Excel提出用)'!T11=\"\",0,'裏 (Excel提出用)'!T11)","v":0},{"$f":"IF('裏 (Excel提出用)'!T12=\"\",0,'裏 (Excel提出用)'!T12)","v":0},{"$f":"IF('裏 (Excel提出用)'!T13=\"\",0,'裏 (Excel提出用)'!T13)","v":0},{"$f":"IF('裏 (Excel提出用)'!T14=\"\",0,'裏 (Excel提出用)'!T14)","v":0},{"$f":"IF('裏 (Excel提出用)'!T15=\"\",0,'裏 (Excel提出用)'!T15)","v":0},{"$f":"IF('裏 (Excel提出用)'!T16=\"\",0,'裏 (Excel提出用)'!T16)","v":0},{"$f":"IF('裏 (Excel提出用)'!T17=\"\",0,'裏 (Excel提出用)'!T17)","v":0},{"$f":"IF('裏 (Excel提出用)'!T18=\"\",0,'裏 (Excel提出用)'!T18)","v":0},{"$f":"IF('裏 (Excel提出用)'!T19=\"\",0,'裏 (Excel提出用)'!T19)","v":0},{"$f":"IF('裏 (Excel提出用)'!T20=\"\",0,'裏 (Excel提出用)'!T20)","v":0},{"$f":"IF('裏 (Excel提出用)'!T21=\"\",0,'裏 (Excel提出用)'!T21)","v":0},{"$f":"IF('裏 (Excel提出用)'!T22=\"\",0,'裏 (Excel提出用)'!T22)","v":0},{"$f":"IF('裏 (Excel提出用)'!T23=\"\",0,'裏 (Excel提出用)'!T23)","v":0},{"$f":"IF('裏 (Excel提出用)'!T24=\"\",0,'裏 (Excel提出用)'!T24)","v":0},{"$f":"IF('裏 (Excel提出用)'!T25=\"\",0,'裏 (Excel提出用)'!T25)","v":0},{"$f":"IF('裏 (Excel提出用)'!T26=\"\",0,'裏 (Excel提出用)'!T26)","v":0},{"$f":"IF('裏 (Excel提出用)'!T27=\"\",0,'裏 (Excel提出用)'!T27)","v":0},{"$f":"IF('裏 (Excel提出用)'!T28=\"\",0,'裏 (Excel提出用)'!T28)","v":0},{"$f":"IF('裏 (Excel提出用)'!T29=\"\",0,'裏 (Excel提出用)'!T29)","v":0},{"$f":"IF('裏 (Excel提出用)'!T30=\"\",0,'裏 (Excel提出用)'!T30)","v":0},{"$f":"IF('裏 (Excel提出用)'!T31=\"\",0,'裏 (Excel提出用)'!T31)","v":0},{"$f":"IF('裏 (Excel提出用)'!T32=\"\",0,'裏 (Excel提出用)'!T32)","v":0},{"$f":"IF('裏 (Excel提出用)'!T33=\"\",0,'裏 (Excel提出用)'!T33)","v":0},{"$f":"IF('裏 (Excel提出用)'!T34=\"\",0,'裏 (Excel提出用)'!T34)","v":0},{"$f":"IF('裏 (Excel提出用)'!T35=\"\",0,'裏 (Excel提出用)'!T35)","v":0},{"$f":"IF('裏 (Excel提出用)'!T36=\"\",0,'裏 (Excel提出用)'!T36)","v":0},{"$f":"IF('裏 (Excel提出用)'!T37=\"\",0,'裏 (Excel提出用)'!T37)","v":0},{"$f":"'裏 (Excel提出用)'!T38","v":0},{"$f":"IF('裏 (Excel提出用)'!U5=\"\",0,'裏 (Excel提出用)'!U5)","v":0},{"$f":"IF('裏 (Excel提出用)'!U6=\"\",0,'裏 (Excel提出用)'!U6)","v":0},{"$f":"IF('裏 (Excel提出用)'!U7=\"\",0,'裏 (Excel提出用)'!U7)","v":0},{"$f":"IF('裏 (Excel提出用)'!U8=\"\",0,'裏 (Excel提出用)'!U8)","v":0},{"$f":"IF('裏 (Excel提出用)'!U9=\"\",0,'裏 (Excel提出用)'!U9)","v":0},{"$f":"IF('裏 (Excel提出用)'!U10=\"\",0,'裏 (Excel提出用)'!U10)","v":0},{"$f":"IF('裏 (Excel提出用)'!U11=\"\",0,'裏 (Excel提出用)'!U11)","v":0},{"$f":"IF('裏 (Excel提出用)'!U12=\"\",0,'裏 (Excel提出用)'!U12)","v":0},{"$f":"IF('裏 (Excel提出用)'!U13=\"\",0,'裏 (Excel提出用)'!U13)","v":0},{"$f":"IF('裏 (Excel提出用)'!U14=\"\",0,'裏 (Excel提出用)'!U14)","v":0},{"$f":"IF('裏 (Excel提出用)'!U15=\"\",0,'裏 (Excel提出用)'!U15)","v":0},{"$f":"IF('裏 (Excel提出用)'!U16=\"\",0,'裏 (Excel提出用)'!U16)","v":0},{"$f":"IF('裏 (Excel提出用)'!U17=\"\",0,'裏 (Excel提出用)'!U17)","v":0},{"$f":"IF('裏 (Excel提出用)'!U18=\"\",0,'裏 (Excel提出用)'!U18)","v":0},{"$f":"IF('裏 (Excel提出用)'!U19=\"\",0,'裏 (Excel提出用)'!U19)","v":0},{"$f":"IF('裏 (Excel提出用)'!U20=\"\",0,'裏 (Excel提出用)'!U20)","v":0},{"$f":"IF('裏 (Excel提出用)'!U21=\"\",0,'裏 (Excel提出用)'!U21)","v":0},{"$f":"IF('裏 (Excel提出用)'!U22=\"\",0,'裏 (Excel提出用)'!U22)","v":0},{"$f":"IF('裏 (Excel提出用)'!U23=\"\",0,'裏 (Excel提出用)'!U23)","v":0},{"$f":"IF('裏 (Excel提出用)'!U24=\"\",0,'裏 (Excel提出用)'!U24)","v":0},{"$f":"IF('裏 (Excel提出用)'!U25=\"\",0,'裏 (Excel提出用)'!U25)","v":0},{"$f":"IF('裏 (Excel提出用)'!U26=\"\",0,'裏 (Excel提出用)'!U26)","v":0},{"$f":"IF('裏 (Excel提出用)'!U27=\"\",0,'裏 (Excel提出用)'!U27)","v":0},{"$f":"IF('裏 (Excel提出用)'!U28=\"\",0,'裏 (Excel提出用)'!U28)","v":0},{"$f":"IF('裏 (Excel提出用)'!U29=\"\",0,'裏 (Excel提出用)'!U29)","v":0},{"$f":"IF('裏 (Excel提出用)'!U30=\"\",0,'裏 (Excel提出用)'!U30)","v":0},{"$f":"IF('裏 (Excel提出用)'!U31=\"\",0,'裏 (Excel提出用)'!U31)","v":0},{"$f":"IF('裏 (Excel提出用)'!U32=\"\",0,'裏 (Excel提出用)'!U32)","v":0},{"$f":"IF('裏 (Excel提出用)'!U33=\"\",0,'裏 (Excel提出用)'!U33)","v":0},{"$f":"IF('裏 (Excel提出用)'!U34=\"\",0,'裏 (Excel提出用)'!U34)","v":0},{"$f":"IF('裏 (Excel提出用)'!U35=\"\",0,'裏 (Excel提出用)'!U35)","v":0},{"$f":"IF('裏 (Excel提出用)'!U36=\"\",0,'裏 (Excel提出用)'!U36)","v":0},{"$f":"IF('裏 (Excel提出用)'!U37=\"\",0,'裏 (Excel提出用)'!U37)","v":0},{"$f":"'裏 (Excel提出用)'!U38","v":0},{"$f":"IF('裏 (Excel提出用)'!B32=\"\",\"\",'裏 (Excel提出用)'!B32)","v":""},{"$f":"IF('裏 (Excel提出用)'!B36=\"\",\"\",'裏 (Excel提出用)'!B36)","v":""}]
["補足",null,null,null,null,null,null,null,null,null,"Excel台帳とリンクさせるための鍵",null,null,null,null,null,null,null,null,null,null,null,null,"転記時等に使用するための空白列",null,null,null,null,null,null,"1:50床未満\n2:100床未満\n3:300床未満\n4:500床未満\n5:500床以上",null,null,null,null,null,null,null,null,null,null,null,null,null,null,null,null,null,null,"職種名欄にも数式あり","職種名欄にも数式あり",null,null,null,null,null,null,null,null,null,null,"職種名欄にも数式あり","職種名欄にも数式あり",null,null,null,"1：Ⅰ\n2：Ⅱ\n3：無\n999：不明","1：有\n2：無\n999：不明","1：有\n2：無\n999：不明","1：有\n2：無\n999：不明","1：有\n2：無\n999：不明","1：有\n2：無\n999：不明","1：7:00～7:29\n2：7:30～7:59\n3：8:00～8:29\n4：8:30～8:59\n5：9:00～\n999：不明","1：11:00～11:29\n2：11:30～11:59\n3：12:00～12:29\n4：12:30～12:59\n5：13:00～\n999：不明","1：13:30～13:59\n2：14:00～14:29\n3：14:30～14:59\n4：15:00～15:29\n5：15:30～\n999：不明","1：16:30～16:59\n2：17::00～17:29\n3：17:30～17::59\n4：18:00～18:29\n5：18:30～18:59\n6：19:00～\n999：不明","1：有\n999：不明","1：有\n999：不明","1：有\n999：不明","1：有\n999：不明","1：有\n999：不明",null,"1：直営\n2：委託",null,null,null,null,null,"1：有\n999：不明","1：有\n999：不明","1：有\n999：不明","1：有\n999：不明","1：有\n999：不明","1：有\n999：不明","1：有\n999：不明","1：有\n999：不明","1：有\n999：不明",null,"1：有\n999：不明","1：有\n999：不明","1：有\n999：不明","1：有\n999：不明","1：有\n999：不明","1：有\n2：無\n999：不明",null,null,"1：有\n2：無\n999：不明","1：有\n2：無\n999：不明","1：有\n2：無\n999：不明",null,"1：有\n2：無\n999：不明","1：有\n2：無\n999：不明","1：有\n2：無\n999：不明","1：有\n2：無\n999：不明","1：有\n2：無\n999：不明",null,null,null,null,null,null,null,null,null,null,null,null,null,null,"1：有\n2：無",null,null,null,null,"1：有\n2：無",null,null,null,null,"1：有\n2：無","1：有\n2：無\n999：不明","参加なら1","参加なら1","参加なら1","参加なら1","参加なら1","参加なら1","参加なら1",null,"1：有\n2：無\n999：不明","1：有\n2：無\n999：不明","1：有\n2：無\n999：不明","日数","1：有\n2：無\n999：不明","1：有\n2：無\n999：不明",null,null,null,null,null,null,null,null,null,null,null,null,null,null,null,null,null,null,null,null,null,null,null,null,null,null,null,null,null,null,null,"1：有\n2：無\n999：不明",null,null,null,null,null,null,null,null,null,null,null,null,null,null,null,null,null,null,null,null,null,null,null,null,null,null,null,null,null,null,null,null,null,null,null,null,null,null,null,null,null,null,null,null,null,null,null,null,null,null,"食品名欄にも数式あり",null,null,null,null,null,null,null,null,null,null,null,null,null,null,null,null,null,null,null,null,null,null,null,null,null,null,null,null,null,null,null,null,null,"食品名欄にも数式あり"]