{"text_format":"1","workbook":"xlsx","n_sheets":5,"sheets":["表 (Excel提出用)","裏 (Excel提出用)","記入例 表 (Excel提出用)","記入例 裏 (Excel提出用)","データ転記用"],"not_rendered":{"charts":0,"images":24,"macros":0,"external_links":0,"defined_names":5,"comments":2,"pivot_tables":0},"unopened":[],"bounds":{"document_bytes":16777216,"sheet_cells":100000,"rows_first":2000,"rows_last":500,"rows_between":2000,"halvings":0,"cell_chars":16384,"cell_head_chars":4096},"cells_cut":0,"cells_raw":0,"read":"whole","date_system":"1900"}

{"sheet":"表 (Excel提出用)","index":0,"n_rows":54,"n_cols":47,"rows_kept":54,"cut":false,"hidden":false,"merged":[[13,23,17,25],[13,26,17,27],[13,28,17,30],[13,31,17,32],[13,33,17,36],[15,1,17,2],[15,3,17,12],[22,19,22,22],[22,23,22,25],[22,26,22,29],[22,30,22,32],[22,33,22,36],[22,1,29,1],[28,34,28,36],[27,28,27,30],[27,31,27,33],[28,28,28,30],[28,31,28,33],[29,19,29,21],[29,22,29,24],[28,5,28,6],[28,7,28,8],[28,9,28,10],[28,11,28,12],[3,1,5,2],[3,3,5,4],[3,5,5,6],[3,7,5,8],[3,9,5,12],[3,13,7,22],[3,23,7,36],[6,1,8,2],[6,3,8,12],[8,13,12,22],[8,23,12,36],[9,1,11,2],[9,3,11,4],[9,5,11,6],[9,7,11,8],[9,9,11,10],[9,11,11,12],[12,1,14,2],[12,3,14,4],[12,5,14,6],[12,7,14,8],[12,9,14,10],[12,11,14,12],[13,13,17,22],[40,40,40,41],[40,42,40,43],[33,28,33,30],[33,31,33,33],[33,34,33,36],[42,29,42,35],[39,14,39,20],[32,34,32,36],[31,31,31,33],[32,28,32,30],[32,25,32,27],[41,22,41,23],[35,31,35,33],[35,34,35,36],[38,35,38,36],[39,35,39,36],[39,28,39,34],[40,31,40,35],[32,31,32,33],[34,38,34,39],[33,40,33,41],[37,22,37,24],[37,25,37,27],[34,25,34,27],[48,40,48,41],[46,6,46,9],[46,10,46,11],[38,12,38,34],[33,9,33,11],[34,9,34,11],[35,9,35,11],[36,9,36,11],[37,9,37,11],[36,22,36,24],[36,25,36,27],[36,28,36,30],[36,31,36,33],[36,34,36,36],[35,22,35,24],[33,25,33,27],[35,25,35,27],[35,28,35,30],[44,12,44,36],[43,12,43,36],[46,33,46,36],[45,33,45,36],[45,19,45,32],[45,12,45,14],[30,34,30,36],[29,34,29,36],[27,34,27,36],[29,25,29,27],[29,28,29,30],[29,31,29,33],[30,25,30,27],[30,28,30,30],[30,31,30,33],[42,1,42,4],[42,5,42,6],[42,7,42,27],[41,5,41,6],[41,18,41,21],[41,24,41,28],[29,7,29,8],[29,9,29,10],[31,25,31,27],[31,28,31,30],[30,22,30,24],[29,11,29,12],[30,1,30,4],[30,19,30,21],[31,19,31,21],[31,22,31,24],[29,13,29,18],[31,15,32,18],[29,2,29,4],[29,5,29,6],[32,19,32,21],[32,22,32,24],[30,8,30,11],[30,5,30,6],[48,1,48,12],[48,13,48,36],[46,1,46,5],[47,1,47,12],[47,13,47,36],[46,16,46,18],[44,4,44,5],[44,10,44,11],[45,1,45,5],[45,6,45,11],[43,1,44,1],[43,2,43,3],[43,4,43,5],[43,6,43,9],[43,10,43,11],[46,13,46,15],[46,19,46,32],[38,1,38,4],[38,5,38,10],[37,1,37,4],[37,15,37,21],[39,5,39,6],[39,22,39,26],[40,7,40,29],[41,1,41,4],[36,1,36,4],[36,19,36,21],[39,1,39,4],[40,1,40,4],[40,5,40,6],[34,28,34,30],[34,31,34,33],[34,34,34,36],[35,1,35,4],[35,15,36,18],[35,19,35,21],[34,3,34,4],[34,19,34,21],[34,22,34,24],[33,1,34,2],[33,3,33,4],[33,15,34,18],[33,19,33,21],[33,22,33,24],[30,13,37,14],[30,15,30,18],[37,28,37,30],[37,31,37,33],[37,34,37,36],[31,34,31,36],[31,1,31,5],[31,11,31,12],[32,1,32,6],[32,7,32,12],[28,13,28,18],[28,19,28,21],[28,22,28,24],[28,25,28,27],[27,2,27,4],[27,5,27,6],[27,7,27,8],[27,9,27,10],[27,11,27,12],[27,13,27,18],[27,19,27,21],[27,22,27,24],[27,25,27,27],[28,2,28,4],[24,15,25,18],[24,19,24,36],[25,2,25,4],[25,5,25,6],[25,7,25,8],[25,9,25,10],[25,11,25,12],[25,19,25,36],[24,2,24,4],[24,5,24,6],[24,7,24,8],[24,9,24,10],[24,11,24,12],[24,13,26,14],[26,2,26,4],[26,5,26,6],[26,7,26,8],[26,9,26,10],[26,11,26,12],[26,15,26,18],[26,19,26,36],[23,9,23,10],[23,11,23,12],[20,15,20,18],[20,19,20,36],[21,15,21,18],[21,19,21,36],[19,4,21,12],[23,33,23,36],[23,13,23,26],[23,30,23,32],[23,27,23,28],[22,2,23,4],[22,5,22,8],[22,9,22,12],[22,15,22,18],[19,1,21,3],[19,13,22,14],[19,15,19,18],[19,19,19,36],[23,5,23,6],[23,7,23,8],[1,25,1,26],[1,31,1,32],[1,33,1,34],[1,35,1,36],[2,1,2,2],[2,3,2,12],[2,13,2,22],[2,23,2,36],[1,21,1,22],[1,23,1,24],[1,1,1,16],[1,17,1,20]]}
[]
[null,"特定給食施設栄養管理報告書（老人福祉施設等）",null,null,null,null,null,null,null,null,null,null,null,null,null,null,null,"（令和",null,null,null,null,null,"年",null,null,null,"月分）"]
[null,"施設名",null,null,null,null,null,null,null,null,null,null,null,"設置者の代表者（職・氏名）"]
[null,"郵便番号",null,null,null,"-",null,null,null,null,null,null,null,"給食責任者（職・氏名）"]
[]
[]
[null,"所在地"]
[]
[null,null,null,null,null,null,null,null,null,null,null,null,null,"作成者（職・氏名）"]
[null,"電話番号",null,null,null,"-",null,null,null,"-"]
[]
[]
[null,"FAX番号",null,null,null,"-",null,null,null,"-"]
[null,null,null,null,null,null,null,null,null,null,null,null,null,"連絡先電話番号",null,null,null,null,null,null,null,null,null,null,null,null,"-",null,null,null,null,"-"]
[]
[null,"e-mail"]
[]
[]
[]
[null,"【施設種別】",null,null,null,null,null,null,null,null,null,null,null,"委託業者",null,"名　称"]
[null,null,null,null,null,null,null,null,null,null,null,null,null,null,null,"代表者"]
[null,null,null,null,null,null,null,null,null,null,null,null,null,null,null,"所在地"]
[null,"給食従事者数（人）",null,null,null,"施　設",null,null,null,"委託業者",null,null,null,null,null,"電話番号",null,null,null,null,null,null,null,"-",null,null,null,null,null,null,"-"]
[null,null,null,null,null,"常　勤",null,"常勤以外",null,"常　勤",null,"常勤以外",null,"【給食管理等について検討する会議】",null,null,null,null,null,null,null,null,null,null,null,null,null,null,null,"（",null,null,null,"回/年）"]
[null,null,"管理栄養士",null,null,null,null,null,null,null,null,null,null,"構成職種",null,"　施設"]
[null,null,"栄養士"]
[null,null,"調理師",null,null,null,null,null,null,null,null,null,null,null,null,"　委託\n　業者"]
[null,null,"調理員",null,null,null,null,null,null,null,null,null,null,null,null,null,null,null,null,"朝食",null,null,"昼食",null,null,"夕食",null,null,"間食",null,null,"その他",null,null,"合計"]
[null,null,"その他",null,null,null,null,null,null,null,null,null,null,"食数",null,null,null,null,null,null,null,null,null,null,null,null,null,null,null,null,null,null,null,null,{"$f":"SUM(T29:AF29)","v":0}]
[null,null,"合　計",null,null,{"$f":"SUM(F25:F29)","v":0},null,{"$f":"SUM(H25:H29)","v":0},null,{"$f":"SUM(J25:J29)","v":0},null,{"$f":"SUM(L25:L29)","v":0},null,"食材料費（円/人）",null,null,null,null,null,null,null,null,null,null,null,null,null,null,null,null,null,null,null,null,{"$f":"SUM(T30:AF30)","v":0}]
[null,"【施設外調理】",null,null,null,null,null,"（",null,null,null,null,"）","身体活動レベル・年齢区分・性別人数",null,"身体活動\nレベル",null,null,null,null,null,null,"18～29歳",null,null,"30～49歳",null,null,"50～64歳",null,null,"65～74歳",null,null,"75歳以上"]
[null,"【給食利用者の把握】",null,null,null,null,null,"（",null,"年",null,"月現在）",null,null,null,"低い",null,null,null,"男性"]
[null,"身体の状況",null,null,null,null,null,"献立への配慮",null,null,null,null,null,null,null,null,null,null,null,"女性"]
[null,"１.体格",null,"肥満",null,null,"％",null,"（",null,null,null,"）",null,null,"ふつう",null,null,null,"男性",null,null,null,null,null,null,null,null,null,null,null,null,null,null,null,null,null,null,null,null,"【献立の提示】"]
[null,null,null,"やせ",null,null,"％",null,"（",null,null,null,"）",null,null,null,null,null,null,"女性",null,null,null,null,null,null,null,null,null,null,null,null,null,null,null,null,null,null,"【食事の種類】",null,"献立表",false,null,null,"【構成職種】"]
[null,"２.高血圧",null,null,null,null,"％",null,"（",null,null,null,"）",null,null,"高い",null,null,null,"男性",null,null,null,null,null,null,null,null,null,null,null,null,null,null,null,null,null,null,"常食",false,"展示",false,null,null,"施設","施設長",false]
[null,"３.脂質異常症",null,null,null,null,"％",null,"（",null,null,null,"）",null,null,null,null,null,null,"女性",null,null,null,null,null,null,null,null,null,null,null,null,null,null,null,null,null,null,"軟食",false,"展示（実物）",false,null,null,null,"管理栄養士",false]
[null,"４.高血糖",null,null,null,null,"％",null,"（",null,null,null,"）",null,null,"合　計",null,null,null,null,null,null,{"$f":"SUM(W32:W37)","v":0},null,null,{"$f":"SUM(Z32:Z37)","v":0},null,null,{"$f":"SUM(AC32:AC37)","v":0},null,null,{"$f":"SUM(AF32:AF37)","v":0},null,null,{"$f":"SUM(AI32:AI37)","v":0},null,null,null,"その他",{"$f":"AN41","v":false},"展示（写真）",false,null,null,null,"栄養士",false]
[null,"【食事の種類】",null,null,null,null,null,null,null,null,null,"(",null,null,null,null,null,null,null,null,null,null,null,null,null,null,null,null,null,null,null,null,null,null,null,"）",null,null,null,null,"その他",{"$f":"AN42","v":false},null,null,null,"保健師",false]
[null,"【献立の提示】",null,null,null,null,null,null,"[",null,null,null,null,"(",null,null,null,null,null,null,null,")",null,null,null,null,null,"(",null,null,null,null,null,null,null,")]",null,null,null,null,null,null,null,null,null,"看護師",false]
[null,"【栄養成分表示】",null,null,null,null,null,null,null,null,null,null,null,null,null,null,null,null,null,null,null,null,null,null,null,null,null,null,null,null,"(",null,null,null,null,null,")",null,"【食事の種類】その他",false,"【栄養成分表示】",null,"【喫食調査】",null,null,"介護支援専門員",false]
[null,"【喫食調査】",null,null,null,null,null,null,null,"[",null,null,null,null,null,null,null,"(",null,null,null,null,")]",null,null,null,null,null,null,"(",null,null,null,null,null,null,")",null,"【献立の掲示】その他",false,"エネルギー",false,"嗜好調査",false,null,"事務職",false]
[null,"【栄養情報の提供】",null,null,null,null,null,null,null,null,null,null,null,null,null,null,null,null,null,null,null,null,null,null,null,null,null,null,"(",null,null,null,null,null,null,null,")",null,null,null,"たんぱく質",false,"アンケート",false,null,"調理師(員)",false]
[null,"栄養指導","個別指導",null,"内容",null,"集団指導",null,null,null,"方法",null,null,null,null,null,null,null,null,null,null,null,null,null,null,null,null,null,null,null,null,null,null,null,null,null,null,null,null,null,"脂質",false,"その他",false,null,"その他",false]
[null,null,null,"人",null,null,null,"回",null,"人","内容",null,null,null,null,null,null,null,null,null,null,null,null,null,null,null,null,null,null,null,null,null,null,null,null,null,null,null,null,null,"炭水化物",false,"残食調査",false,"委託業者","管理栄養士",false]
[null,"【非常時危機管理対策】",null,null,null,null," 食中毒マニュアルの整備",null,null,null,null,null,null,null,null,null,null,null,null," 災害時マニュアルの整備",null,null,null,null,null,null,null,null,null,null,null,null,null,null,null,null,null,null,null,null,"食塩相当量",false,"個別",false,null,"栄養士",false]
[null,"（食関連）",null,null,null,null," 食品等の備蓄",null,null,null,null,null,"（",null,null,null,"日分）",null,null," 災害時の食事提供に関する研修・訓練等",null,null,null,null,null,null,null,null,null,null,null,null,null,null,null,null,null,null,null,null,"その他",false,"集団",false,null,"調理師(員)",false]
[null,"【栄養管理における課題】",null,null,null,null,null,null,null,null,null,null,null,"【課題に対する改善策、工夫事項】",null,null,null,null,null,null,null,null,null,null,null,null,null,null,null,null,null,null,null,null,null,null,null,null,null,null,null,null,null,null,null,"事務職",false]
[null,null,null,null,null,null,null,null,null,null,null,null,null,null,null,null,null,null,null,null,null,null,null,null,null,null,null,null,null,null,null,null,null,null,null,null,null,null,null,null,"【栄養情報の提供】",null,null,null,null,"その他",false]
[null,null,null,null,null,null,null,null,null,null,null,null,null,null,null,null,null,null,null,null,null,null,null,null,null,null,null,null,null,null,null,null,null,null,null,null,"（Ｒ８.３）",null,null,null,"ポスター",false]
[null,null,null,null,null,null,null,null,null,null,null,null,null,null,null,null,null,null,null,null,null,null,null,null,null,null,null,null,null,null,null,null,null,null,null,null,null,null,null,null,"卓上メモ",false]
[null,null,null,null,null,null,null,null,null,null,null,null,null,null,null,null,null,null,null,null,null,null,null,null,null,null,null,null,null,null,null,null,null,null,null,null,null,null,null,null,"一口メモ",false]
[null,null,null,null,null,null,null,null,null,null,null,null,null,null,null,null,null,null,null,null,null,null,null,null,null,null,null,null,null,null,null,null,null,null,null,null,null,null,null,null,"ポップ",false]
[null,null,null,null,null,null,null,null,null,null,null,null,null,null,null,null,null,null,null,null,null,null,null,null,null,null,null,null,null,null,null,null,null,null,null,null,null,null,null,null,"その他",false]

{"sheet":"裏 (Excel提出用)","index":1,"n_rows":42,"n_cols":30,"rows_kept":42,"cut":false,"hidden":false,"merged":[[41,1,41,9],[41,10,41,13],[39,1,39,9],[39,10,39,13],[40,1,40,9],[40,10,40,13],[39,20,39,21],[40,20,40,21],[41,20,41,21],[32,4,32,6],[32,7,32,9],[32,10,32,12],[32,15,32,18],[32,19,32,21],[32,22,32,24],[36,1,37,12],[38,1,38,9],[38,10,38,13],[38,14,38,17],[34,13,34,18],[34,19,34,21],[34,22,34,24],[35,13,36,18],[35,19,36,21],[35,22,36,24],[38,18,38,21],[38,22,38,24],[29,1,30,4],[29,5,30,6],[29,7,30,9],[29,10,30,12],[29,13,32,14],[29,15,29,18],[29,19,29,21],[29,22,29,24],[30,15,30,18],[30,19,30,21],[30,22,30,24],[31,1,33,3],[31,4,31,6],[31,7,31,9],[31,10,31,12],[31,15,31,18],[31,19,31,21],[33,4,33,6],[33,7,33,9],[33,10,33,12],[33,13,33,18],[33,19,33,21],[33,22,33,24],[31,22,31,24],[24,19,24,21],[26,19,26,21],[26,22,26,24],[27,1,28,4],[27,5,28,6],[27,7,28,9],[27,10,28,12],[27,13,28,14],[27,15,27,18],[27,19,27,21],[27,22,27,24],[28,15,28,18],[28,19,28,21],[28,22,28,24],[22,22,22,24],[23,22,23,24],[19,19,19,21],[19,22,19,24],[20,15,20,18],[20,19,20,21],[20,22,20,24],[24,22,24,24],[25,1,26,4],[25,5,26,6],[25,7,26,9],[25,10,26,12],[25,13,26,14],[25,15,25,18],[25,19,25,21],[25,22,25,24],[26,15,26,18],[23,1,24,4],[23,5,24,6],[23,7,24,9],[23,10,24,12],[23,15,23,18],[23,19,23,21],[24,13,24,18],[17,22,17,24],[18,13,18,18],[18,19,18,21],[18,22,18,24],[19,1,20,4],[19,5,20,6],[19,7,20,9],[19,10,20,12],[19,13,21,14],[19,15,19,18],[21,19,21,21],[21,22,21,24],[17,1,18,4],[17,5,18,6],[17,7,18,9],[17,10,18,12],[17,13,17,18],[17,19,17,21],[21,1,22,4],[21,5,22,6],[21,7,22,9],[21,10,22,12],[21,15,21,18],[22,13,23,14],[22,15,22,18],[22,19,22,21],[15,1,16,4],[15,5,16,6],[15,7,16,9],[15,10,16,12],[15,13,16,14],[15,15,15,18],[15,19,15,21],[15,22,15,24],[16,15,16,18],[16,19,16,21],[16,22,16,24],[11,1,12,4],[11,5,12,6],[11,7,12,9],[11,10,12,12],[11,13,11,18],[11,19,11,21],[11,22,11,24],[12,13,14,14],[12,15,12,18],[12,19,12,21],[12,22,12,24],[13,1,14,4],[13,5,14,6],[13,7,14,9],[13,10,14,12],[13,15,13,18],[13,19,13,21],[13,22,13,24],[14,15,14,18],[14,19,14,21],[14,22,14,24],[8,1,8,4],[8,5,8,6],[8,7,8,9],[8,10,8,12],[8,13,8,18],[8,19,8,21],[8,22,8,24],[9,1,10,4],[9,5,10,6],[9,7,10,9],[9,10,10,12],[9,13,10,14],[9,15,9,18],[9,19,9,21],[9,22,9,24],[10,15,10,18],[10,19,10,21],[10,22,10,24],[2,10,2,11],[6,1,6,6],[6,13,7,14],[6,15,6,18],[6,19,6,21],[6,22,6,24],[7,15,7,18],[7,19,7,21],[7,22,7,24],[7,10,7,11],[1,4,1,5],[1,7,1,8],[1,9,1,10],[7,27,7,29],[2,8,2,9],[3,19,3,21],[3,22,3,24],[4,15,4,18],[4,19,4,21],[4,22,4,24],[1,13,1,18],[1,19,1,21],[1,22,1,24],[2,13,5,14],[2,15,2,18],[2,19,2,21],[2,22,2,24],[3,2,3,11],[3,15,3,18],[5,15,5,18],[5,19,5,21],[5,22,5,24],[1,2,1,3],[4,10,4,11]]}
[]
[null,"※1","男性 ",null,null,null,"歳","女性 ",null,null,null,"歳",null,"食品群",null,null,null,null,null,"目標量 （ｇ）",null,null,"給与量 （ｇ）"]
[null,"※2","1人[ ",null,null,null,null," ・(",null,null,")]当たり",null,null,"穀類",null,"米"]
[null,"※3","下記以外に食事基準の設定がある食事",null,null,null,null,null,null,null,null,null,null,null,null,"パ ン 類"]
[null,null,null,null,null,null,null,null,"（",null,"）種類",null,null,null,null,"め ん 類"]
[null,null,null,null,null,null,null,null,null,null,null,null,null,null,null,"その他の穀類"]
[null,"【基準設定】",null,null,null,null,null,"（",null,"年",null,"月","）","いも及び\nでん粉類",null,"い　　も"]
[null,"【栄養価計算の基準】 日本食品標準成分表",null,null,null,null,null,null,null,null,null,null,"年版",null,null,"いも加工品",null,null,null,null,null,null,null,null,null,null,null,"【設定回数】"]
[null,"栄養素等",null,null,null,"（単位）",null,"給与栄養目標量",null,null,"給与栄養量",null,null,"砂糖及び甘味類",null,null,null,null,null,null,null,null,null,null,null,null,null,"朝食",false,{"$f":"IF(AC9=TRUE,1,\"\")","v":""}]
[null,"エネルギー",null,null,null,"（ｋｃａｌ）",null,null,null,null,null,null,null,"豆類",null,"大豆製品",null,null,null,null,null,null,null,null,null,null,null,"昼食",false,{"$f":"IF(AC10=TRUE,1,\"\")","v":""}]
[null,null,null,null,null,null,null,null,null,null,null,null,null,null,null,"大豆、その他の豆類",null,null,null,null,null,null,null,null,null,null,null,"夕食",false,""]
[null,"たんぱく質",null,null,null,"（ｇ）",null,null,null,null,null,null,null,"種 実 類",null,null,null,null,null,null,null,null,null,null,null,null,null,"計",null,{"$f":"SUM(AD9:AD11)","v":0}]
[null,null,null,null,null,null,null,null,null,null,null,null,null,"野菜類",null,"緑黄色野菜"]
[null,"脂　　質",null,null,null,"（ｇ）",null,null,null,null,null,null,null,null,null,"その他の野菜"]
[null,null,null,null,null,null,null,null,null,null,null,null,null,null,null,"野菜漬物"]
[null,"カルシウム",null,null,null,"（ｍｇ）",null,null,null,null,null,null,null,"果実類",null,"果　　実"]
[null,null,null,null,null,null,null,null,null,null,null,null,null,null,null,"果実加工品"]
[null,"鉄",null,null,null,"（ｍｇ）",null,null,null,null,null,null,null,"きのこ類"]
[null,null,null,null,null,null,null,null,null,null,null,null,null,"藻　　類"]
[null,"ビタミンＡ\n（レチノール活性当量）",null,null,null,"（μｇＲＡＥ）",null,null,null,null,null,null,null,"魚介類",null,"魚介類（生）"]
[null,null,null,null,null,null,null,null,null,null,null,null,null,null,null,"干物、塩蔵、缶詰"]
[null,"ビタミンＢ1",null,null,null,"（ｍｇ）",null,null,null,null,null,null,null,null,null,"練 製 品"]
[null,null,null,null,null,null,null,null,null,null,null,null,null,"肉類",null,"肉類（生）"]
[null,"ビタミンＢ2",null,null,null,"（ｍｇ）",null,null,null,null,null,null,null,null,null,"肉加工品"]
[null,null,null,null,null,null,null,null,null,null,null,null,null,"卵　　類"]
[null,"ビタミンＣ",null,null,null,"（ｍｇ）",null,null,null,null,null,null,null,"乳類",null,"牛　　乳"]
[null,null,null,null,null,null,null,null,null,null,null,null,null,null,null,"乳 製 品"]
[null,"食物繊維",null,null,null,"（ｇ）",null,null,null,null,null,null,null,"油脂類",null,"植 物 性"]
[null,null,null,null,null,null,null,null,null,null,null,null,null,null,null,"動 物 性"]
[null,"食塩相当量",null,null,null,"（ｇ）",null,null,null,null,null,null,null,"調味料\n及び\n香辛料類",null,"食　　塩"]
[null,null,null,null,null,null,null,null,null,null,null,null,null,null,null,"しょうゆ"]
[null,"エネルギー\n産生栄養素\nバランス\n（％エネルギー）",null,null,"たんぱく質",null,null,null,null,null,null,null,null,null,null,"み　　そ"]
[null,null,null,null,"脂　　質",null,null,null,null,null,null,null,null,null,null,"その他の調味料"]
[null,null,null,null,"炭水化物",null,null,null,null,null,null,null,null,"調理済み流通食品類"]
[]
[null,null,null,null,null,null,null,null,null,null,null,null,null,"合　　計",null,null,null,null,null,{"$f":"SUM(T3:T35)","v":0},null,null,{"$f":"SUM(W3:W35)","v":0}]
[null,"上記の食種における栄養補助食品等の使用状況"]
[]
[null,"栄養補助食品等の名称",null,null,null,null,null,null,null,null,"栄養素名",null,null,null,"使用回数",null,null,null,"使用量",null,null,null,"給与量(単位)"]
[null,null,null,null,null,null,null,null,null,null,null,null,null,null,"(",null,")回/",null,"(",null,")g/回",null,"(",null,")/回"]
[null,null,null,null,null,null,null,null,null,null,null,null,null,null,"(",null,")回/",null,"(",null,")g/回",null,"(",null,")/回"]
[null,null,null,null,null,null,null,null,null,null,null,null,null,null,"(",null,")回/",null,"(",null,")g/回",null,"(",null,")/回"]

{"sheet":"記入例 表 (Excel提出用)","index":2,"n_rows":57,"n_cols":47,"rows_kept":57,"cut":false,"hidden":false,"merged":[[51,40,51,41],[1,4,1,6],[2,4,2,6],[49,19,49,32],[49,33,49,36],[50,1,50,12],[50,13,50,36],[51,1,51,12],[51,13,51,36],[48,1,48,5],[48,6,48,11],[48,12,48,14],[48,19,48,32],[48,33,48,36],[49,1,49,5],[49,6,49,9],[49,10,49,11],[49,13,49,15],[49,16,49,18],[45,29,45,35],[46,1,47,1],[46,2,46,3],[46,4,46,5],[46,6,46,9],[46,10,46,11],[46,12,46,36],[47,4,47,5],[47,10,47,11],[47,12,47,36],[44,1,44,4],[44,5,44,6],[44,18,44,21],[44,22,44,23],[44,24,44,28],[45,1,45,4],[45,5,45,6],[45,7,45,27],[43,1,43,4],[43,5,43,6],[43,7,43,29],[43,31,43,35],[43,40,43,41],[43,42,43,43],[41,1,41,4],[41,5,41,10],[41,12,41,34],[41,35,41,36],[42,1,42,4],[42,5,42,6],[42,14,42,20],[42,22,42,26],[42,28,42,34],[42,35,42,36],[39,31,39,33],[39,34,39,36],[38,1,38,4],[38,9,38,11],[38,15,39,18],[38,19,38,21],[38,22,38,24],[38,25,38,27],[40,1,40,4],[40,9,40,11],[40,15,40,21],[40,22,40,24],[40,25,40,27],[40,28,40,30],[40,31,40,33],[40,34,40,36],[38,31,38,33],[38,34,38,36],[36,31,36,33],[36,34,36,36],[36,40,36,41],[37,3,37,4],[37,9,37,11],[37,19,37,21],[37,22,37,24],[37,25,37,27],[36,3,36,4],[36,9,36,11],[36,15,37,18],[36,19,36,21],[36,22,36,24],[37,28,37,30],[37,31,37,33],[37,34,37,36],[37,38,37,39],[33,31,33,33],[33,34,33,36],[34,1,34,5],[34,11,34,12],[34,15,35,18],[34,19,34,21],[34,22,34,24],[34,25,34,27],[34,28,34,30],[34,31,34,33],[34,34,34,36],[35,1,35,6],[35,7,35,12],[35,19,35,21],[35,22,35,24],[35,25,35,27],[35,28,35,30],[35,31,35,33],[35,34,35,36],[33,1,33,4],[33,5,33,6],[33,8,33,11],[33,13,40,14],[33,15,33,18],[33,19,33,21],[33,22,33,24],[33,25,33,27],[33,28,33,30],[36,1,37,2],[38,28,38,30],[39,1,39,4],[39,9,39,11],[39,19,39,21],[39,22,39,24],[39,25,39,27],[39,28,39,30],[36,25,36,27],[36,28,36,30],[31,31,31,33],[31,34,31,36],[30,2,30,4],[30,5,30,6],[30,7,30,8],[30,9,30,10],[30,11,30,12],[30,13,30,18],[32,2,32,4],[32,5,32,6],[32,7,32,8],[32,9,32,10],[32,11,32,12],[32,34,32,36],[32,13,32,18],[32,19,32,21],[32,22,32,24],[32,25,32,27],[32,28,32,30],[32,31,32,33],[31,5,31,6],[31,7,31,8],[31,9,31,10],[31,11,31,12],[31,13,31,18],[31,19,31,21],[31,22,31,24],[31,25,31,27],[31,28,31,30],[18,3,20,12],[27,2,27,4],[27,5,27,6],[27,7,27,8],[27,9,27,10],[27,11,27,12],[27,13,29,14],[27,15,28,18],[29,19,29,36],[29,9,29,10],[29,11,29,12],[29,15,29,18],[29,5,29,6],[29,7,29,8],[16,28,20,30],[16,31,20,32],[16,33,20,36],[29,2,29,4],[22,1,24,3],[22,4,24,12],[22,13,25,14],[22,15,22,18],[16,13,20,22],[16,23,20,25],[26,9,26,10],[26,11,26,12],[26,13,26,26],[27,19,27,36],[16,26,20,27],[28,2,28,4],[28,5,28,6],[28,7,28,8],[28,9,28,10],[28,11,28,12],[28,19,28,36],[26,27,26,28],[26,30,26,32],[26,33,26,36],[18,1,20,2],[22,19,22,36],[23,15,23,18],[23,19,23,36],[24,15,24,18],[24,19,24,36],[25,1,32,1],[25,2,26,4],[25,5,25,8],[25,9,25,12],[25,15,25,18],[25,19,25,22],[25,23,25,25],[25,26,25,29],[25,30,25,32],[25,33,25,36],[26,5,26,6],[26,7,26,8],[30,19,30,21],[30,22,30,24],[30,25,30,27],[30,28,30,30],[30,31,30,33],[30,34,30,36],[31,2,31,4],[6,23,10,36],[9,1,11,2],[9,3,11,12],[11,13,15,22],[11,23,15,36],[12,1,14,2],[12,3,14,4],[12,5,14,6],[12,7,14,8],[12,9,14,10],[6,1,8,2],[6,3,8,4],[6,5,8,6],[6,7,8,8],[6,9,8,12],[6,13,10,22],[12,11,14,12],[15,1,17,2],[15,3,17,4],[15,5,17,6],[15,7,17,8],[15,9,17,10],[15,11,17,12],[4,33,4,34],[4,35,4,36],[5,1,5,2],[5,3,5,12],[5,13,5,22],[5,23,5,36],[4,1,4,16],[4,17,4,20],[4,21,4,22],[4,23,4,24],[4,25,4,26],[4,31,4,32]]}
[]
[null,"セルの説明　",null,null,"【オレンジ】",null,null,"入力してください（入力すると白色に変わります）　",null,null,null,null,null,null,null,null,null,null,null,null,null,null,null,null,"【黄色】",null,null,null,"自動計算されます"]
[null,null,null,null,"【グレー】",null,null,"条件に合致すると、オレンジに変わります。オレンジになれば、入力してください。"]
[]
[null,"特定給食施設栄養管理報告書（老人福祉施設等）",null,null,null,null,null,null,null,null,null,null,null,null,null,null,null,"（令和",null,null,null,8,null,"年",null,5,null,"月分）"]
[null,"施設名",null,"養護老人ホーム○○",null,null,null,null,null,null,null,null,null,"設置者の代表者（職・氏名）",null,null,null,null,null,null,null,null,null,"理事長　○○　○○"]
[null,"郵便番号",null,"555",null,"-",null,"5555",null,null,null,null,null,"給食責任者（職・氏名）",null,null,null,null,null,null,null,null,null,"管理栄養士　□□　□□"]
[]
[]
[null,"所在地",null,"大阪府大阪市阿倍野区○○町1-1-1"]
[]
[null,null,null,null,null,null,null,null,null,null,null,null,null,"作成者（職・氏名）",null,null,null,null,null,null,null,null,null,"管理栄養士　□□　□□"]
[null,"電話番号",null,"06",null,"-",null,"0000",null,"-",null,"0000"]
[]
[]
[null,"FAX番号",null,"06",null,"-",null,"0000",null,"-",null,"0000"]
[null,null,null,null,null,null,null,null,null,null,null,null,null,"連絡先電話番号",null,null,null,null,null,null,null,null,null,"06",null,null,"-",null,"0000",null,null,"-",null,"0001"]
[]
[null,"e-mail",null,"xxx_xxx@abc.jp"]
[]
[]
[]
[null,"【施設種別】",null,null,"1.老人福祉施設（特別養護老人ホーム除く）",null,null,null,null,null,null,null,null,"委託業者",null,"名　称",null,null,null,"株式会社　○○"]
[null,null,null,null,null,null,null,null,null,null,null,null,null,null,null,"代表者",null,null,null,"■■　■■"]
[null,null,null,null,null,null,null,null,null,null,null,null,null,null,null,"所在地",null,null,null,"大阪市北区○○町1-2-3"]
[null,"給食従事者数（人）",null,null,null,"施　設",null,null,null,"委託業者",null,null,null,null,null,"電話番号",null,null,null,"06",null,null,null,"-",null,null,"0000",null,null,null,"-",null,null,"0123"]
[null,null,null,null,null,"常　勤",null,"常勤以外",null,"常　勤",null,"常勤以外",null,"【給食管理等について検討する会議】",null,null,null,null,null,null,null,null,null,null,null,null,null,"有",null,"（",12,null,null,"回/年）"]
[null,null,"管理栄養士",null,null,1,null,null,null,null,null,null,null,"構成職種",null,"　施設"]
[null,null,"栄養士",null,null,null,null,null,null,1]
[null,null,"調理師",null,null,null,null,null,null,2,null,null,null,null,null,"　委託\n　業者"]
[null,null,"調理員",null,null,null,null,null,null,null,null,7,null,null,null,null,null,null,null,"朝食",null,null,"昼食",null,null,"夕食",null,null,"間食",null,null,"その他",null,null,"合計"]
[null,null,"その他",null,null,null,null,null,null,null,null,null,null,"食数",null,null,null,null,null,50,null,null,50,null,null,50,null,null,null,null,null,null,null,null,{"$f":"SUM(T32:AF32)","v":150}]
[null,null,"合　計",null,null,{"$f":"SUM(F28:F32)","v":1},null,{"$f":"SUM(H28:H32)","v":0},null,{"$f":"SUM(J28:J32)","v":3},null,{"$f":"SUM(L28:L32)","v":7},null,"食材料費（円/人）",null,null,null,null,null,130,null,null,240,null,null,290,null,null,null,null,null,null,null,null,{"$f":"SUM(T33:AF33)","v":660}]
[null,"【施設外調理】",null,null,null,"有",null,"（","クックチル",null,null,null,"）","身体活動レベル・年齢区分・性別人数",null,"身体活動\nレベル",null,null,null,null,null,null,"18～29歳",null,null,"30～49歳",null,null,"50～64歳",null,null,"65～74歳",null,null,"75歳以上"]
[null,"【給食利用者の把握】",null,null,null,null,"有","（","R8","年",4,"月現在）",null,null,null,"低い",null,null,null,"男性",null,null,0,null,null,0,null,null,0,null,null,10,null,null,15]
[null,"身体の状況",null,null,null,null,null,"献立への配慮",null,null,null,null,null,null,null,null,null,null,null,"女性",null,null,0,null,null,0,null,null,0,null,null,5,null,null,20]
[null,"１.体格",null,"肥満",null,15,"％","無","（",null,null,null,"）",null,null,"ふつう",null,null,null,"男性",null,null,null,null,null,null,null,null,null,null,null,null,null,null,null,null,null,null,null,null,"【献立の提示】"]
[null,null,null,"やせ",null,28,"％","有","（","補食の提案",null,null,"）",null,null,null,null,null,null,"女性",null,null,null,null,null,null,null,null,null,null,null,null,null,null,null,null,null,null,"【食事の種類】",null,"献立表",true,null,null,"【構成職種】"]
[null,"２.高血圧",null,null,null,45,"％","有","（","塩分量の調節",null,null,"）",null,null,"高い",null,null,null,"男性",null,null,null,null,null,null,null,null,null,null,null,null,null,null,null,null,null,null,"常食",true,"展示",false,null,null,"施設","施設長",true]
[null,"３.脂質異常症",null,null,null,30,"％","有","（","エネルギー調節",null,null,"）",null,null,null,null,null,null,"女性",null,null,null,null,null,null,null,null,null,null,null,null,null,null,null,null,null,null,"軟食",true,"展示（実物）",false,null,null,null,"管理栄養士",true]
[null,"４.高血糖",null,null,null,10,"％","有","（","主食の調節",null,null,"）",null,null,"合　計",null,null,null,null,null,null,{"$f":"SUM(W35:W40)","v":0},null,null,{"$f":"SUM(Z35:Z40)","v":0},null,null,{"$f":"SUM(AC35:AC40)","v":0},null,null,{"$f":"SUM(AF35:AF40)","v":15},null,null,{"$f":"SUM(AI35:AI40)","v":35},null,null,null,"その他",{"$f":"AN44","v":false},"展示（写真）",false,null,null,null,"栄養士",false]
[null,"【食事の種類】",null,null,null,null,null,null,null,null,null,"(",null,null,null,null,null,null,null,null,null,null,null,null,null,null,null,null,null,null,null,null,null,null,null,"）",null,null,null,null,"その他",{"$f":"AN45","v":false},null,null,null,"保健師",false]
[null,"【献立の提示】",null,null,null,"有",null,null,"[",null,null,null,null,"(",null,null,null,null,null,null,null,")",null,null,null,null,null,"(",null,null,null,null,null,null,null,")]",null,null,null,null,null,null,null,null,null,"看護師",true]
[null,"【栄養成分表示】",null,null,null,"有",null,null,null,null,null,null,null,null,null,null,null,null,null,null,null,null,null,null,null,null,null,null,null,null,"(","カルシウム",null,null,null,null,")",null,"【食事の種類】その他",false,"【栄養成分表示】",null,"【喫食調査】",null,null,"介護支援専門員",true]
[null,"【喫食調査】",null,null,null,"有",null,null,null,null,"[",null,null,null,null,null,null,"(",null,null,null,null,")]",null,null,null,null,null,null,"(",null,null,null,null,null,null,")",null,"【献立の掲示】その他",false,"エネルギー",true,"嗜好調査",true,null,"事務職",true]
[null,"【栄養情報の提供】",null,null,null,"有",null,null,null,null,null,null,null,null,null,null,null,null,null,null,null,null,null,null,null,null,null,null,"(","給食だより",null,null,null,null,null,null,")",null,null,null,"たんぱく質",true,"アンケート",true,null,"調理師(員)",false]
[null,"栄養指導","個別指導",null,"内容",null,"集団指導",null,null,null,"方法",null,null,null,null,null,null,null,null,null,null,null,null,null,null,null,null,null,null,null,null,null,null,null,null,null,null,null,null,null,"脂質",true,"その他",false,null,"その他",false]
[null,null,50,"人","塩分制限\n食欲不振等",null,null,"回",null,"人","内容",null,null,null,null,null,null,null,null,null,null,null,null,null,null,null,null,null,null,null,null,null,null,null,null,null,null,null,null,null,"炭水化物",true,"残食調査",true,"委託業者","管理栄養士",false]
[null,"【非常時危機管理対策】",null,null,null,null," 食中毒マニュアルの整備",null,null,null,null,null,"有",null,null,null,null,null,null," 災害時マニュアルの整備",null,null,null,null,null,null,null,null,null,null,null,null,null,"有",null,null,null,null,null,null,"食塩相当量",true,"個別",true,null,"栄養士",true]
[null,"（食関連）",null,null,null,null," 食品等の備蓄",null,null,null,"有",null,"（",3,null,null,"日分）",null,null," 災害時の食事提供に関する研修・訓練等",null,null,null,null,null,null,null,null,null,null,null,null,null,"有",null,null,null,null,null,null,"その他",true,"集団",false,null,"調理師(員)",true]
[null,"【栄養管理における課題】",null,null,null,null,null,null,null,null,null,null,null,"【課題に対する改善策、工夫事項】",null,null,null,null,null,null,null,null,null,null,null,null,null,null,null,null,null,null,null,null,null,null,null,null,null,null,null,null,null,null,null,"事務職",false]
[null,"食塩相当量が少ない献立のときに、残食量が多くなる傾向にある。",null,null,null,null,null,null,null,null,null,null,null,"味にメリハリをつけ、比較的少ない塩分であっても、喫食量の維持を図る。",null,null,null,null,null,null,null,null,null,null,null,null,null,null,null,null,null,null,null,null,null,null,null,null,null,null,"【栄養情報の提供】",null,null,null,null,"その他",false]
[null,null,null,null,null,null,null,null,null,null,null,null,null,null,null,null,null,null,null,null,null,null,null,null,null,null,null,null,null,null,null,null,null,null,null,null,"（Ｒ８.３）",null,null,null,"ポスター",true]
[null,null,null,null,null,null,null,null,null,null,null,null,null,null,null,null,null,null,null,null,null,null,null,null,null,null,null,null,null,null,null,null,null,null,null,null,null,null,null,null,"卓上メモ",false]
[null,null,null,null,null,null,null,null,null,null,null,null,null,null,null,null,null,null,null,null,null,null,null,null,null,null,null,null,null,null,null,null,null,null,null,null,null,null,null,null,"一口メモ",false]
[null,null,null,null,null,null,null,null,null,null,null,null,null,null,null,null,null,null,null,null,null,null,null,null,null,null,null,null,null,null,null,null,null,null,null,null,null,null,null,null,"ポップ",false]
[null,null,null,null,null,null,null,null,null,null,null,null,null,null,null,null,null,null,null,null,null,null,null,null,null,null,null,null,null,null,null,null,null,null,null,null,null,null,null,null,"その他",false]

{"sheet":"記入例 裏 (Excel提出用)","index":3,"n_rows":45,"n_cols":30,"rows_kept":45,"cut":false,"hidden":false,"merged":[[4,13,4,18],[4,19,4,21],[5,8,5,9],[5,10,5,11],[5,13,8,14],[5,15,5,18],[5,19,5,21],[8,15,8,18],[8,19,8,21],[8,22,8,24],[4,22,4,24],[9,1,9,6],[9,13,10,14],[9,15,9,18],[9,19,9,21],[9,22,9,24],[10,10,10,11],[10,15,10,18],[10,19,10,21],[10,22,10,24],[5,22,5,24],[6,2,6,11],[6,15,6,18],[6,19,6,21],[6,22,6,24],[7,10,7,11],[7,15,7,18],[7,19,7,21],[7,22,7,24],[4,2,4,3],[4,4,4,5],[4,7,4,8],[4,9,4,10],[12,1,13,4],[12,5,13,6],[12,7,13,9],[12,10,13,12],[12,13,13,14],[12,15,12,18],[10,27,10,29],[11,1,11,4],[11,5,11,6],[11,7,11,9],[11,10,11,12],[11,13,11,18],[11,19,11,21],[11,22,11,24],[14,22,14,24],[15,13,17,14],[15,15,15,18],[15,19,15,21],[15,22,15,24],[16,22,16,24],[17,22,17,24],[12,19,12,21],[12,22,12,24],[13,15,13,18],[13,19,13,21],[13,22,13,24],[14,13,14,18],[16,1,17,4],[16,5,17,6],[16,7,17,9],[16,10,17,12],[16,15,16,18],[16,19,16,21],[17,15,17,18],[17,19,17,21],[14,19,14,21],[14,1,15,4],[14,5,15,6],[14,7,15,9],[14,10,15,12],[22,1,23,4],[22,5,23,6],[22,7,23,9],[22,10,23,12],[22,13,24,14],[18,19,18,21],[18,22,18,24],[19,15,19,18],[19,19,19,21],[19,22,19,24],[20,1,21,4],[20,5,21,6],[20,7,21,9],[20,10,21,12],[20,13,20,18],[18,1,19,4],[18,5,19,6],[18,7,19,9],[18,10,19,12],[18,13,19,14],[18,15,18,18],[22,15,22,18],[22,19,22,21],[22,22,22,24],[23,15,23,18],[23,19,23,21],[23,22,23,24],[20,19,20,21],[20,22,20,24],[21,13,21,18],[21,19,21,21],[21,22,21,24],[24,22,24,24],[25,13,26,14],[25,15,25,18],[25,19,25,21],[25,22,25,24],[26,1,27,4],[26,5,27,6],[26,7,27,9],[26,10,27,12],[26,15,26,18],[24,1,25,4],[24,5,25,6],[24,7,25,9],[24,10,25,12],[24,15,24,18],[24,19,24,21],[26,19,26,21],[26,22,26,24],[27,13,27,18],[27,19,27,21],[27,22,27,24],[28,1,29,4],[28,5,29,6],[28,7,29,9],[28,10,29,12],[28,13,29,14],[30,5,31,6],[30,7,31,9],[30,10,31,12],[30,13,31,14],[30,15,30,18],[28,15,28,18],[28,19,28,21],[28,22,28,24],[29,15,29,18],[29,19,29,21],[29,22,29,24],[32,22,32,24],[33,15,33,18],[33,19,33,21],[33,22,33,24],[30,19,30,21],[30,22,30,24],[31,15,31,18],[31,19,31,21],[31,22,31,24],[34,22,34,24],[35,4,35,6],[35,7,35,9],[35,10,35,12],[35,15,35,18],[35,19,35,21],[35,22,35,24],[34,1,36,3],[34,4,34,6],[34,7,34,9],[34,10,34,12],[34,15,34,18],[34,19,34,21],[36,4,36,6],[36,7,36,9],[36,10,36,12],[36,13,36,18],[32,13,35,14],[41,22,41,24],[36,19,36,21],[36,22,36,24],[37,13,37,18],[37,19,37,21],[37,22,37,24],[38,13,39,18],[38,19,39,21],[38,22,39,24],[44,1,44,9],[44,10,44,13],[44,20,44,21],[1,4,1,6],[1,18,1,19],[2,4,2,6],[42,1,42,9],[42,10,42,13],[42,20,42,21],[43,1,43,9],[43,10,43,13],[43,20,43,21],[39,1,40,12],[41,1,41,9],[41,10,41,13],[41,14,41,17],[41,18,41,21],[32,15,32,18],[32,19,32,21],[32,1,33,4],[32,5,33,6],[32,7,33,9],[32,10,33,12],[30,1,31,4]]}
[]
[null,"セルの説明　",null,null,"【オレンジ】",null,null,"入力してください（入力すると白色に変わります）　",null,null,null,null,null,null,null,null,null,null,"【黄色】",null,"自動計算されます"]
[null,null,null,null,"【グレー】",null,null,"条件に合致すると、オレンジに変わります。オレンジになれば、入力してください。"]
[]
[null,"※1","男性 ",null,"75以上",null,"歳","女性 ",null,"75以上",null,"歳",null,"食品群",null,null,null,null,null,"目標量 （ｇ）",null,null,"給与量 （ｇ）"]
[null,"※2","1人[ ",null,null,null,null," ・(",null,null,")]当たり",null,null,"穀類",null,"米",null,null,null,170,null,null,188]
[null,"※3","下記以外に食事基準の設定がある食事",null,null,null,null,null,null,null,null,null,null,null,null,"パ ン 類",null,null,null,35,null,null,41]
[null,null,null,null,null,null,null,null,"（",2,"）種類",null,null,null,null,"め ん 類",null,null,null,15,null,null,6]
[null,null,null,null,null,null,null,null,null,null,null,null,null,null,null,"その他の穀類",null,null,null,5,null,null,3]
[null,"【基準設定】",null,null,null,null,null,"（","R8","年",4,"月","）","いも及び\nでん粉類",null,"い　　も",null,null,null,30,null,null,29]
[null,"【栄養価計算の基準】 日本食品標準成分表",null,null,null,null,null,null,null,null,2023,null,"年版",null,null,"いも加工品",null,null,null,4,null,null,1,null,null,null,null,"【設定回数】"]
[null,"栄養素等",null,null,null,"（単位）",null,"給与栄養目標量",null,null,"給与栄養量",null,null,"砂糖及び甘味類",null,null,null,null,null,13,null,null,6,null,null,null,null,"朝食",true,{"$f":"IF(AC12=TRUE,1,\"\")","v":1}]
[null,"エネルギー",null,null,null,"（ｋｃａｌ）",null,1600,null,null,1605,null,null,"豆類",null,"大豆製品",null,null,null,45,null,null,46,null,null,null,null,"昼食",true,{"$f":"IF(AC13=TRUE,1,\"\")","v":1}]
[null,null,null,null,null,null,null,null,null,null,null,null,null,null,null,"大豆、その他の豆類",null,null,null,5,null,null,5,null,null,null,null,"夕食",true,1]
[null,"たんぱく質",null,null,null,"（ｇ）",null,60,null,null,60,null,null,"種 実 類",null,null,null,null,null,1,null,null,1,null,null,null,null,"計",null,{"$f":"SUM(AD12:AD14)","v":3}]
[null,null,null,null,null,null,null,null,null,null,null,null,null,"野菜類",null,"緑黄色野菜",null,null,null,140,null,null,145]
[null,"脂　　質",null,null,null,"（ｇ）",null,37,null,null,38,null,null,null,null,"その他の野菜",null,null,null,210,null,null,202]
[null,null,null,null,null,null,null,null,null,null,null,null,null,null,null,"野菜漬物",null,null,null,5,null,null,2]
[null,"カルシウム",null,null,null,"（ｍｇ）",null,600,null,null,605,null,null,"果実類",null,"果　　実",null,null,null,60,null,null,55]
[null,null,null,null,null,null,null,null,null,null,null,null,null,null,null,"果実加工品",null,null,null,30,null,null,25]
[null,"鉄",null,null,null,"（ｍｇ）",null,7,null,null,7,null,null,"きのこ類",null,null,null,null,null,11,null,null,10]
[null,null,null,null,null,null,null,null,null,null,null,null,null,"藻　　類",null,null,null,null,null,5,null,null,5]
[null,"ビタミンＡ\n（レチノール活性当量）",null,null,null,"（μｇＲＡＥ）",null,650,null,null,635,null,null,"魚介類",null,"魚介類（生）",null,null,null,50,null,null,48]
[null,null,null,null,null,null,null,null,null,null,null,null,null,null,null,"干物、塩蔵、缶詰",null,null,null,3,null,null,3]
[null,"ビタミンＢ1",null,null,null,"（ｍｇ）",null,0.9,null,null,0.9,null,null,null,null,"練 製 品",null,null,null,8,null,null,9]
[null,null,null,null,null,null,null,null,null,null,null,null,null,"肉類",null,"肉類（生）",null,null,null,40,null,null,47]
[null,"ビタミンＢ2",null,null,null,"（ｍｇ）",null,1,null,null,1,null,null,null,null,"肉加工品",null,null,null,5,null,null,2]
[null,null,null,null,null,null,null,null,null,null,null,null,null,"卵　　類",null,null,null,null,null,30,null,null,31]
[null,"ビタミンＣ",null,null,null,"（ｍｇ）",null,100,null,null,95,null,null,"乳類",null,"牛　　乳",null,null,null,200,null,null,203]
[null,null,null,null,null,null,null,null,null,null,null,null,null,null,null,"乳 製 品",null,null,null,11,null,null,11]
[null,"食物繊維",null,null,null,"（ｇ）",null,25,null,null,15,null,null,"油脂類",null,"植 物 性",null,null,null,7,null,null,3]
[null,null,null,null,null,null,null,null,null,null,null,null,null,null,null,"動 物 性",null,null,null,6,null,null,1]
[null,"食塩相当量",null,null,null,"（ｇ）",null,7,null,null,6.5,null,null,"調味料\n及び\n香辛料類",null,"食　　塩",null,null,null,1,null,null,1]
[null,null,null,null,null,null,null,null,null,null,null,null,null,null,null,"しょうゆ",null,null,null,10,null,null,14]
[null,"エネルギー\n産生栄養素\nバランス\n（％エネルギー）",null,null,"たんぱく質",null,null,0.15,null,null,0.15,null,null,null,null,"み　　そ",null,null,null,13,null,null,8]
[null,null,null,null,"脂　　質",null,null,0.21,null,null,0.21,null,null,null,null,"その他の調味料",null,null,null,21,null,null,39]
[null,null,null,null,"炭水化物",null,null,0.64,null,null,0.64,null,null,"調理済み流通食品類",null,null,null,null,null,20,null,null,15]
[]
[null,null,null,null,null,null,null,null,null,null,null,null,null,"合　　計",null,null,null,null,null,{"$f":"SUM(T6:T38)","v":1209},null,null,{"$f":"SUM(W6:W38)","v":1205}]
[null,"上記の食種における栄養補助食品等の使用状況"]
[]
[null,"栄養補助食品等の名称",null,null,null,null,null,null,null,null,"栄養素名",null,null,null,"使用回数",null,null,null,"使用量",null,null,null,"給与量(単位)"]
[null,"ビタミンB1強化米",null,null,null,null,null,null,null,null,"ビタミンB1",null,null,null,"(",2,")回/","週","(",1,")g/回",null,"(","0.1mg",")/回"]
[null,null,null,null,null,null,null,null,null,null,null,null,null,null,"(",null,")回/",null,"(",null,")g/回",null,"(",null,")/回"]
[null,null,null,null,null,null,null,null,null,null,null,null,null,null,"(",null,")回/",null,"(",null,")g/回",null,"(",null,")/回"]

{"sheet":"データ転記用","index":4,"n_rows":5,"n_cols":307,"rows_kept":5,"cut":false,"hidden":true,"merged":[[1,171,1,172]]}
["大項目","報告年月",null,"施設情報",null,null,null,null,null,null,null,null,null,null,null,null,null,null,null,null,null,null,null,null,null,"給食従事者数【施設】",null,null,null,null,null,null,null,null,null,"給食従事者数【委託】",null,null,null,null,null,null,null,null,null,"常勤合計【施設＋委託】",null,null,"運営形態",null,null,null,null,"施設外調理",null,"会議",null,null,null,null,null,null,null,null,null,null,null,null,null,null,null,"給食回数","食数",null,null,null,null,null,"給食材料費",null,null,null,null,null,"給食利用者の把握",null,null,"給食利用者の把握(身体の状況）",null,null,null,null,null,null,null,null,null,null,null,null,null,null,null,null,"給食利用者の把握(身体活動レベル・年齢区分・性別人数）",null,null,null,null,null,null,null,null,null,null,null,null,null,null,null,null,null,null,null,null,null,null,null,null,null,null,null,null,null,"食事の種類",null,null,null,"献立提示",null,null,null,null,null,null,"栄養成分表示",null,null,null,null,null,null,null,"喫食調査",null,null,null,null,null,null,null,null,"栄養情報提供",null,null,null,null,null,null,"栄養指導",null,null,null,null,null,"非常時危機管理対策",null,null,null,null,"栄養管理における課題","課題に対する改善策、工夫事項","報告食種について",null,null,null,null,null,null,null,"給与栄養目標量及び給与栄養給与量",null,null,null,null,null,null,null,null,null,null,null,null,null,null,null,null,null,null,null,null,null,null,null,null,"エネルギー比率",null,null,null,null,null,"食品群別数量",null,null,null,null,null,null,null,null,null,null,null,null,null,null,null,null,null,null,null,null,null,null,null,null,null,null,null,null,null,null,null,null,null,null,null,null,null,null,null,null,null,null,null,null,null,null,null,null,null,null,null,null,null,null,null,null,null,null,null,null,null,null,null,null,null,null,null,"報告食種における栄養補助食品等の使用状況"]
["中項目",null,null,null,null,null,null,null,null,null,null,null,null,null,null,null,null,null,null,null,null,null,null,null,null,"管理栄養士",null,"栄養士",null,"調理師",null,"調理員",null,"その他",null,"管理栄養士",null,"栄養士",null,"調理師",null,"調理員",null,"その他",null,null,null,null,null,"委託業者",null,null,null,null,null,null,null,"構成職種(施設)",null,null,null,null,null,null,null,null,"構成職種(委託)",null,null,null,null,null,null,null,null,null,null,null,null,null,null,null,null,null,null,"把握年月",null,null,"肥満",null,null,"やせ",null,null,"高血圧",null,null,"脂質異常症",null,null,"高血糖",null,null,null,"低い男性",null,null,null,null,"低い女性",null,null,null,null,"ふつう男性",null,null,null,null,"ふつう女性",null,null,null,null,"高い男性",null,null,null,null,"高い女性",null,null,null,null,null,null,null,null,null,null,null,null,null,null,null,null,"表示項目",null,null,null,null,null,null,null,"嗜好調査",null,null,null,"残食調査",null,null,null,"栄養情報提供","提供方法",null,null,null,null,null,"個別指導",null,"集団指導",null,null,null,null,null,"備蓄",null,null,null,null,"対象年齢区分",null,"食事の種類",null,null,null,null,null,"基準設定年月",null,null,"目標量",null,null,null,null,null,null,null,null,null,null,"給与",null,null,null,null,null,null,null,null,null,null,"目標",null,null,"給与",null,null,"目標",null,null,null,null,null,null,null,null,null,null,null,null,null,null,null,null,null,null,null,null,null,null,null,null,null,null,null,null,null,null,null,"自由記載欄",null,"給与",null,null,null,null,null,null,null,null,null,null,null,null,null,null,null,null,null,null,null,null,null,null,null,null,null,null,null,null,null,null,null,"自由記載欄",null,"①",null,null,null,null,null,"②",null,null,null,null,null,"③"]
["小項目","年","月","施設名","施設郵便番号","施設所在地","電話番号①","電話番号②","電話番号③","電話番号(①＋②＋③)","電話番号(②＋③)","FAX①","FAX②","FAX③","FAX(①＋②＋③)","e-mail","設置者代表者","給食責任者","作成者","作成者tel①","作成者tel②","作成者tel③","作成者tel(①＋②＋③)","施設種別","施設番号","常勤","非常勤","常勤","非常勤","常勤","非常勤","常勤","非常勤","常勤","非常勤","常勤","非常勤","常勤","非常勤","常勤","非常勤","常勤","非常勤","常勤","非常勤","管栄","栄養士","調理師","運営形態","名称","代表者","所在地","電話番号","実施","内容","実施","会議回数","施設長","管理栄養士","栄養士","保健師","看護師","介護支援専門員","事務職","調理師(員)","その他","管理栄養士","栄養士","調理師(員)","事務職","その他","給食回数","朝食","昼食","夕食","間食","その他","朝昼夕合計","朝食","昼食","夕食","間食","その他","朝昼夕合計","把握の有無","年","月","把握の有無","割合(％）","献立への配慮","内容","割合(％）","献立への配慮","内容","割合(％）","献立への配慮","内容","割合(％）","献立への配慮","内容","割合(％）","献立への配慮","内容","身体活動レベル","18-29歳","30-49歳","50-64歳","65-74歳","75歳以上","18-29歳","30-49歳","50-64歳","65-74歳","75歳以上","18-29歳","30-49歳","50-64歳","65-74歳","75歳以上","18-29歳","30-49歳","50-64歳","65-74歳","75歳以上","18-29歳","30-49歳","50-64歳","65-74歳","75歳以上","18-29歳","30-49歳","50-64歳","65-74歳","75歳以上","常食","軟食","その他","その他内容","掲示の有無","献立表","展示","展示(実物)","展示(写真)","その他","その他内容","成分表示","表示E","表示P","表示F","表示C","表示Nacl","その他","その他内容","喫食調査有無","嗜好調査有無","アンケート","その他","その他内容","残食調査有無","個別","集団","喫食調査状況","情報提供","ポスター","卓上メモ","一口メモ","ポップ","その他","その他内容","人数","内容","回数","人数","方法","内容","食中毒マニュアル","災害時マニュアル","備蓄有無","備蓄日数","研修・訓練","内容","内容","男性","女性","朝食","昼食","夕食","その他","食事回数","報告食種以外に基準設定のある食種の数","年","月","日本食品標準成分表年版","エネルギー","たんぱく質","脂質","カルシウム","鉄","ビタミンA","ビタミンB1","ビタミンB2","ビタミンC","食物繊維","食塩相当量","エネルギー","たんぱく質","脂質","カルシウム","鉄","ビタミンA","ビタミンB1","ビタミンB2","ビタミンC","食物繊維","食塩相当量","P","F","C","P","F","C","米","パン類","めん類","その他穀類","いも類","いも加工品","砂糖甘味類","大豆製品","その他豆類","種実類","緑黄色野菜","その他野菜","野菜漬物","果実類","果実加工品","きのこ類","藻類","魚介類(生)","干物、缶詰","練製品","肉類（生）","肉加工品","卵類","牛乳","乳製品","植物性油脂","動物性油脂","食塩","しょうゆ","みそ","調味料","調理済食品",{"$f":"IF('裏 (Excel提出用)'!$N$35=\"\",\"\",'裏 (Excel提出用)'!N35)","v":""},"合計","米","パン類","めん類","その他穀類","いも類","いも加工品","砂糖甘味類","大豆製品","その他豆類","種実類","緑黄色野菜","その他野菜","野菜漬物","果実類","果実加工品","きのこ類","藻類","魚介類(生)","干物、缶詰","練製品","肉類（生）","肉加工品","卵類","牛乳","乳製品","植物性油脂","動物性油脂","食塩","しょうゆ","みそ","調味料","調理済食品",{"$f":"IF('裏 (Excel提出用)'!$N$35=\"\",\"\",'裏 (Excel提出用)'!AV35)","v":""},"合計","名称","栄養素名","使用回数(回数)","使用回数(期間)","使用量(g)","給与量","名称","栄養素名","使用回数(回数)","使用回数(期間)","使用量(g)","給与量","名称","栄養素名","使用回数(回数)","使用回数(期間)","使用量(g)","給与量"]
["データ",{"$f":"IF('表 (Excel提出用)'!V2=\"\",\"\",'表 (Excel提出用)'!V2)","v":""},{"$f":"IF('表 (Excel提出用)'!Z2=\"\",\"\",'表 (Excel提出用)'!Z2)","v":""},{"$f":"'表 (Excel提出用)'!D3","v":0},{"$f":"'表 (Excel提出用)'!D4&\"-\"&'表 (Excel提出用)'!H4","v":"-"},{"$f":"'表 (Excel提出用)'!D7","v":0},{"$f":"'表 (Excel提出用)'!D10","v":0},{"$f":"'表 (Excel提出用)'!H10","v":0},{"$f":"'表 (Excel提出用)'!L10","v":0},{"$f":"G4&H4&I4","v":"000"},{"$f":"H4&\"-\"&I4","v":"0-0"},{"$f":"'表 (Excel提出用)'!D13","v":0},{"$f":"'表 (Excel提出用)'!H13","v":0},{"$f":"'表 (Excel提出用)'!L13","v":0},{"$f":"L4&M4&N4","v":"000"},{"$f":"'表 (Excel提出用)'!D16","v":0},{"$f":"'表 (Excel提出用)'!X3","v":0},{"$f":"'表 (Excel提出用)'!X4","v":0},{"$f":"'表 (Excel提出用)'!X9","v":0},{"$f":"'表 (Excel提出用)'!X14","v":0},{"$f":"'表 (Excel提出用)'!AC14","v":0},{"$f":"'表 (Excel提出用)'!AH14","v":0},{"$f":"T4&U4&V4","v":"000"},{"$f":"IF('表 (Excel提出用)'!E20=\"\",999,IF('表 (Excel提出用)'!E20=\"1.老人福祉施設（特別養護老人ホーム除く）\",1,IF('表 (Excel提出用)'!E20=\"2.社会福祉施設（入所・通所）\",2,IF('表 (Excel提出用)'!E20=\"3.有料老人ホーム\",3,IF('表 (Excel提出用)'!E20=\"4.サ高住\",4)))))","v":999},null,{"$f":"'表 (Excel提出用)'!F25","v":0},{"$f":"'表 (Excel提出用)'!H25","v":0},{"$f":"'表 (Excel提出用)'!F26","v":0},{"$f":"'表 (Excel提出用)'!H26","v":0},{"$f":"'表 (Excel提出用)'!F27","v":0},{"$f":"'表 (Excel提出用)'!H27","v":0},{"$f":"'表 (Excel提出用)'!F28","v":0},{"$f":"'表 (Excel提出用)'!H28","v":0},{"$f":"'表 (Excel提出用)'!F29","v":0},{"$f":"'表 (Excel提出用)'!H29","v":0},{"$f":"'表 (Excel提出用)'!J25","v":0},{"$f":"'表 (Excel提出用)'!L25","v":0},{"$f":"'表 (Excel提出用)'!J26","v":0},{"$f":"'表 (Excel提出用)'!L26","v":0},{"$f":"'表 (Excel提出用)'!J27","v":0},{"$f":"'表 (Excel提出用)'!L27","v":0},{"$f":"'表 (Excel提出用)'!J28","v":0},{"$f":"'表 (Excel提出用)'!L28","v":0},{"$f":"'表 (Excel提出用)'!J29","v":0},{"$f":"'表 (Excel提出用)'!L29","v":0},{"$f":"IF(AND(Z4=\"\",AJ4=\"\"),\"\",Z4+AJ4)","v":0},{"$f":"IF(AND(AB4=\"\",AL4=\"\"),\"\",AB4+AL4)","v":0},{"$f":"IF(AND(AD4=\"\",AN4=\"\"),\"\",AD4+AN4)","v":0},{"$f":"IF('表 (Excel提出用)'!S20=\"\",1,IF('表 (Excel提出用)'!S20<>\"\",2))","v":1},{"$f":"IF('表 (Excel提出用)'!T20=\"\",\"\",'表 (Excel提出用)'!T20)","v":""},{"$f":"IF('表 (Excel提出用)'!T21=\"\",\"\",'表 (Excel提出用)'!T21)","v":""},{"$f":"IF('表 (Excel提出用)'!T22=\"\",\"\",'表 (Excel提出用)'!T22)","v":""},{"$f":"'表 (Excel提出用)'!T23&'表 (Excel提出用)'!AA23&'表 (Excel提出用)'!AH23","v":""},{"$f":"IF('表 (Excel提出用)'!F31=\"\",999,IF('表 (Excel提出用)'!F31=\"有\",1,IF('表 (Excel提出用)'!F31=\"無\",2)))","v":999},{"$f":"IF('表 (Excel提出用)'!I31=\"\",\"\",'表 (Excel提出用)'!I31)","v":""},{"$f":"IF('表 (Excel提出用)'!AB24=\"\",999,IF('表 (Excel提出用)'!AB24=\"有\",1,IF('表 (Excel提出用)'!AB24=\"無\",2)))","v":999},{"$f":"'表 (Excel提出用)'!AE24","v":0},{"$f":"IF('表 (Excel提出用)'!AU36=TRUE,1,\"\")","v":""},{"$f":"IF('表 (Excel提出用)'!AU37=TRUE,1,\"\")","v":""},{"$f":"IF('表 (Excel提出用)'!AU38=TRUE,1,\"\")","v":""},{"$f":"IF('表 (Excel提出用)'!AU39=TRUE,1,\"\")","v":""},{"$f":"IF('表 (Excel提出用)'!AU40=TRUE,1,\"\")","v":""},{"$f":"IF('表 (Excel提出用)'!AU41=TRUE,1,\"\")","v":""},{"$f":"IF('表 (Excel提出用)'!AU42=TRUE,1,\"\")","v":""},{"$f":"IF('表 (Excel提出用)'!AU43=TRUE,1,\"\")","v":""},{"$f":"IF('表 (Excel提出用)'!AU44=TRUE,1,\"\")","v":""},{"$f":"IF('表 (Excel提出用)'!AU45=TRUE,1,\"\")","v":""},{"$f":"IF('表 (Excel提出用)'!AU46=TRUE,1,\"\")","v":""},{"$f":"IF('表 (Excel提出用)'!AU47=TRUE,1,\"\")","v":""},{"$f":"IF('表 (Excel提出用)'!AU48=TRUE,1,\"\")","v":""},{"$f":"IF('表 (Excel提出用)'!AU49=TRUE,1,\"\")","v":""},{"$f":"IF(AND(BU4=\"\",BV4=\"\",BW4=\"\"),999,COUNTIFS(BU4:BW4,\">0\"))","v":0},{"$f":"IF('表 (Excel提出用)'!T29=\"\",0,'表 (Excel提出用)'!T29)","v":0},{"$f":"IF('表 (Excel提出用)'!W29=\"\",0,'表 (Excel提出用)'!W29)","v":0},{"$f":"IF('表 (Excel提出用)'!Z29=\"\",0,'表 (Excel提出用)'!Z29)","v":0},{"$f":"IF('表 (Excel提出用)'!AC29=\"\",0,'表 (Excel提出用)'!AC29)","v":0},{"$f":"IF('表 (Excel提出用)'!AF29=\"\",0,'表 (Excel提出用)'!AF29)","v":0},{"$f":"SUM(BU4:BW4)","v":0},{"$f":"IF('表 (Excel提出用)'!T30=\"\",0,'表 (Excel提出用)'!T30)","v":0},{"$f":"IF('表 (Excel提出用)'!W30=\"\",0,'表 (Excel提出用)'!W30)","v":0},{"$f":"IF('表 (Excel提出用)'!Z30=\"\",0,'表 (Excel提出用)'!Z30)","v":0},{"$f":"IF('表 (Excel提出用)'!AC30=\"\",0,'表 (Excel提出用)'!AC30)","v":0},{"$f":"IF('表 (Excel提出用)'!AF30=\"\",0,'表 (Excel提出用)'!AF30)","v":0},{"$f":"SUM(CA4:CC4)","v":0},{"$f":"IF(OR('表 (Excel提出用)'!G32=\"有\",'表 (Excel提出用)'!F34:F38<>\"\",'表 (Excel提出用)'!W32:AK37<>\"\"),1,IF('表 (Excel提出用)'!G32=\"無\",2,999))","v":999},{"$f":"IF('表 (Excel提出用)'!I32=\"\",\"\",'表 (Excel提出用)'!I32)","v":""},{"$f":"IF('表 (Excel提出用)'!K32=\"\",\"\",'表 (Excel提出用)'!K32)","v":""},{"$f":"IF(OR('表 (Excel提出用)'!F34<>\"\",'表 (Excel提出用)'!F35<>\"\",'表 (Excel提出用)'!F36<>\"\",'表 (Excel提出用)'!F37<>\"\",'表 (Excel提出用)'!F38<>\"\"),1,IF('表 (Excel提出用)'!I30=\"無\",2,999))","v":999},{"$f":"IF('表 (Excel提出用)'!F34=\"\",\"\",'表 (Excel提出用)'!F34)","v":""},{"$f":"IF('表 (Excel提出用)'!H34=\"有\",1,IF('表 (Excel提出用)'!H34=\"無\",2,IF(AND('表 (Excel提出用)'!F34<>\"\",'表 (Excel提出用)'!H34=\"\"),999,\"\")))","v":""},{"$f":"IF('表 (Excel提出用)'!J34=\"\",\"\",'表 (Excel提出用)'!J34)","v":""},{"$f":"IF('表 (Excel提出用)'!F35=\"\",\"\",'表 (Excel提出用)'!F35)","v":""},{"$f":"IF('表 (Excel提出用)'!H35=\"有\",1,IF('表 (Excel提出用)'!H35=\"無\",2,IF(AND('表 (Excel提出用)'!F35<>\"\",'表 (Excel提出用)'!H35=\"\"),999,\"\")))","v":""},{"$f":"IF('表 (Excel提出用)'!J35=\"\",\"\",'表 (Excel提出用)'!J35)","v":""},{"$f":"IF('表 (Excel提出用)'!F36=\"\",\"\",'表 (Excel提出用)'!F36)","v":""},{"$f":"IF('表 (Excel提出用)'!H36=\"有\",1,IF('表 (Excel提出用)'!H36=\"無\",2,IF(AND('表 (Excel提出用)'!F36<>\"\",'表 (Excel提出用)'!H36=\"\"),999,\"\")))","v":""},{"$f":"IF('表 (Excel提出用)'!J36=\"\",\"\",'表 (Excel提出用)'!J36)","v":""},{"$f":"IF('表 (Excel提出用)'!F37=\"\",\"\",'表 (Excel提出用)'!F37)","v":""},{"$f":"IF('表 (Excel提出用)'!H37=\"有\",1,IF('表 (Excel提出用)'!H37=\"無\",2,IF(AND('表 (Excel提出用)'!F37<>\"\",'表 (Excel提出用)'!H37=\"\"),999,\"\")))","v":""},{"$f":"IF('表 (Excel提出用)'!J37=\"\",\"\",'表 (Excel提出用)'!J37)","v":""},{"$f":"IF('表 (Excel提出用)'!F38=\"\",\"\",'表 (Excel提出用)'!F38)","v":""},{"$f":"IF('表 (Excel提出用)'!H38=\"有\",1,IF('表 (Excel提出用)'!H38=\"無\",2,IF(AND('表 (Excel提出用)'!F38<>\"\",'表 (Excel提出用)'!H38=\"\"),999,\"\")))","v":""},{"$f":"IF('表 (Excel提出用)'!J38=\"\",\"\",'表 (Excel提出用)'!J38)","v":""},{"$f":"IF(COUNTA('表 (Excel提出用)'!W32:AI37)>0,1,IF('表 (Excel提出用)'!G32=\"無\",2,999))","v":999},{"$f":"IF('表 (Excel提出用)'!$W$32=\"\",\"\",'表 (Excel提出用)'!$W$32)","v":""},{"$f":"IF('表 (Excel提出用)'!$Z$32=\"\",\"\",'表 (Excel提出用)'!$Z$32)","v":""},{"$f":"IF('表 (Excel提出用)'!$AC$32=\"\",\"\",'表 (Excel提出用)'!$AC$32)","v":""},{"$f":"IF('表 (Excel提出用)'!$AF$32=\"\",\"\",'表 (Excel提出用)'!$AF$32)","v":""},{"$f":"IF('表 (Excel提出用)'!$AI$32=\"\",\"\",'表 (Excel提出用)'!$AI$32)","v":""},{"$f":"IF('表 (Excel提出用)'!$W$33=\"\",\"\",'表 (Excel提出用)'!$W$33)","v":""},{"$f":"IF('表 (Excel提出用)'!$Z$33=\"\",\"\",'表 (Excel提出用)'!$Z$33)","v":""},{"$f":"IF('表 (Excel提出用)'!$AC$33=\"\",\"\",'表 (Excel提出用)'!$AC$33)","v":""},{"$f":"IF('表 (Excel提出用)'!$AF$33=\"\",\"\",'表 (Excel提出用)'!$AF$33)","v":""},{"$f":"IF('表 (Excel提出用)'!$AI$33=\"\",\"\",'表 (Excel提出用)'!$AI$33)","v":""},{"$f":"IF('表 (Excel提出用)'!$W$34=\"\",\"\",'表 (Excel提出用)'!$W$34)","v":""},{"$f":"IF('表 (Excel提出用)'!$Z$34=\"\",\"\",'表 (Excel提出用)'!$Z$34)","v":""},{"$f":"IF('表 (Excel提出用)'!$AC$34=\"\",\"\",'表 (Excel提出用)'!$AC$34)","v":""},{"$f":"IF('表 (Excel提出用)'!$AF$34=\"\",\"\",'表 (Excel提出用)'!$AF$34)","v":""},{"$f":"IF('表 (Excel提出用)'!$AI$34=\"\",\"\",'表 (Excel提出用)'!$AI$34)","v":""},{"$f":"IF('表 (Excel提出用)'!$W$35=\"\",\"\",'表 (Excel提出用)'!$W$35)","v":""},{"$f":"IF('表 (Excel提出用)'!$Z$35=\"\",\"\",'表 (Excel提出用)'!$Z$35)","v":""},{"$f":"IF('表 (Excel提出用)'!$AC$35=\"\",\"\",'表 (Excel提出用)'!$AC$35)","v":""},{"$f":"IF('表 (Excel提出用)'!$AF$35=\"\",\"\",'表 (Excel提出用)'!$AF$35)","v":""},{"$f":"IF('表 (Excel提出用)'!$AI$35=\"\",\"\",'表 (Excel提出用)'!$AI$35)","v":""},{"$f":"IF('表 (Excel提出用)'!$W$36=\"\",\"\",'表 (Excel提出用)'!$W$36)","v":""},{"$f":"IF('表 (Excel提出用)'!$Z$36=\"\",\"\",'表 (Excel提出用)'!$Z$36)","v":""},{"$f":"IF('表 (Excel提出用)'!$AC$36=\"\",\"\",'表 (Excel提出用)'!$AC$36)","v":""},{"$f":"IF('表 (Excel提出用)'!$AF$36=\"\",\"\",'表 (Excel提出用)'!$AF$36)","v":""},{"$f":"IF('表 (Excel提出用)'!$AI$36=\"\",\"\",'表 (Excel提出用)'!$AI$36)","v":""},{"$f":"IF('表 (Excel提出用)'!$W$37=\"\",\"\",'表 (Excel提出用)'!$W$37)","v":""},{"$f":"IF('表 (Excel提出用)'!$Z$37=\"\",\"\",'表 (Excel提出用)'!$Z$37)","v":""},{"$f":"IF('表 (Excel提出用)'!$AC$37=\"\",\"\",'表 (Excel提出用)'!$AC$37)","v":""},{"$f":"IF('表 (Excel提出用)'!$AF$37=\"\",\"\",'表 (Excel提出用)'!$AF$37)","v":""},{"$f":"IF('表 (Excel提出用)'!$AI$37=\"\",\"\",'表 (Excel提出用)'!$AI$37)","v":""},{"$f":"IF('表 (Excel提出用)'!AN36=TRUE,1,\"\")","v":""},{"$f":"IF('表 (Excel提出用)'!AN37=TRUE,1,\"\")","v":""},{"$f":"IF('表 (Excel提出用)'!AN38=TRUE,1,\"\")","v":""},{"$f":"IF('表 (Excel提出用)'!M39=\"\",\"\",'表 (Excel提出用)'!M39)","v":""},{"$f":"IF(OR('表 (Excel提出用)'!F40=\"有\",AND('表 (Excel提出用)'!F40=\"\",OR('表 (Excel提出用)'!AP35=TRUE,'表 (Excel提出用)'!AP36=TRUE,'表 (Excel提出用)'!AP37=TRUE,'表 (Excel提出用)'!AP38=TRUE,'表 (Excel提出用)'!AP39=TRUE))),1,IF('表 (Excel提出用)'!F40=\"無\",2,999))","v":999},{"$f":"IF('表 (Excel提出用)'!AP35=TRUE,1,\"\")","v":""},{"$f":"IF('表 (Excel提出用)'!AP36=TRUE,1,\"\")","v":""},{"$f":"IF('表 (Excel提出用)'!AP37=TRUE,1,\"\")","v":""},{"$f":"IF('表 (Excel提出用)'!AP38=TRUE,1,\"\")","v":""},{"$f":"IF('表 (Excel提出用)'!AP39=TRUE,1,\"\")","v":""},{"$f":"IF('表 (Excel提出用)'!AC40=\"\",\"\",'表 (Excel提出用)'!AC40)","v":""},{"$f":"IF(OR('表 (Excel提出用)'!F41=\"有\",'表 (Excel提出用)'!AP42=TRUE,'表 (Excel提出用)'!AP43=TRUE,'表 (Excel提出用)'!AP45=TRUE,'表 (Excel提出用)'!AP46=TRUE,'表 (Excel提出用)'!AP47=TRUE),1,IF('表 (Excel提出用)'!F41=\"無\",2,999))","v":999},{"$f":"IF('表 (Excel提出用)'!AP42=TRUE,1,\"\")","v":""},{"$f":"IF('表 (Excel提出用)'!AP43=TRUE,1,\"\")","v":""},{"$f":"IF('表 (Excel提出用)'!AP44=TRUE,1,\"\")","v":""},{"$f":"IF('表 (Excel提出用)'!AP45=TRUE,1,\"\")","v":""},{"$f":"IF('表 (Excel提出用)'!AP46=TRUE,1,\"\")","v":""},{"$f":"IF('表 (Excel提出用)'!AP47=TRUE,1,\"\")","v":""},{"$f":"IF('表 (Excel提出用)'!AF41=\"\",\"\",'表 (Excel提出用)'!AF41)","v":""},{"$f":"IF(OR('表 (Excel提出用)'!F42=\"有\",'表 (Excel提出用)'!AR42=TRUE,'表 (Excel提出用)'!AR43=TRUE,'表 (Excel提出用)'!AR44=TRUE,'表 (Excel提出用)'!AR45=TRUE,'表 (Excel提出用)'!AR46=TRUE,'表 (Excel提出用)'!AR47=TRUE),1,IF('表 (Excel提出用)'!F42=\"無\",2,999))","v":999},{"$f":"IF(OR('表 (Excel提出用)'!$AR$42=TRUE,'表 (Excel提出用)'!$AR$43=TRUE,'表 (Excel提出用)'!$AR$44=TRUE),1,IF(AND('表 (Excel提出用)'!$F$42=\"有\",'表 (Excel提出用)'!$AR$42=FALSE,'表 (Excel提出用)'!$AR$43=FALSE,'表 (Excel提出用)'!$AR$44=FALSE,OR('表 (Excel提出用)'!$AR$45=TRUE,'表 (Excel提出用)'!$AR$46=TRUE,'表 (Excel提出用)'!$AR$47=TRUE)),2,999))","v":999},{"$f":"IF('表 (Excel提出用)'!$AR$43=TRUE,1,IF(OR($EY$4=2,AND('表 (Excel提出用)'!$AR$42=TRUE,'表 (Excel提出用)'!$AR$44=TRUE),AND('表 (Excel提出用)'!$F$42=\"有\",'表 (Excel提出用)'!$AR$42=TRUE,'表 (Excel提出用)'!$AR$44=TRUE,$FC$4=1)),2,IF(OR(AND('表 (Excel提出用)'!$F$42=\"有\",'表 (Excel提出用)'!$AR$42:$AR$47=FALSE),AND('表 (Excel提出用)'!$AR$42=TRUE,'表 (Excel提出用)'!$AR$43=FALSE,'表 (Excel提出用)'!$AR$44=FALSE)),999,999)))","v":999},{"$f":"IF('表 (Excel提出用)'!$AR$44=TRUE,1,IF(OR($EY$4=2,AND('表 (Excel提出用)'!$AR$42=TRUE,'表 (Excel提出用)'!$AR$43=TRUE),AND('表 (Excel提出用)'!$F$42=\"有\",'表 (Excel提出用)'!$AR$42=TRUE,'表 (Excel提出用)'!$AR$43=TRUE,$FC$4=1)),2,IF(OR(AND('表 (Excel提出用)'!$F$42=\"有\",'表 (Excel提出用)'!$AR$42:$AR$47=FALSE),AND('表 (Excel提出用)'!$AR$42=TRUE,'表 (Excel提出用)'!$AR$43=FALSE,'表 (Excel提出用)'!$AR$44=FALSE)),999,999)))","v":999},{"$f":"IF('表 (Excel提出用)'!S42=\"\",\"\",'表 (Excel提出用)'!S42)","v":""},{"$f":"IF(OR('表 (Excel提出用)'!$AR$45=TRUE,'表 (Excel提出用)'!$AR$46=TRUE,'表 (Excel提出用)'!$AR$47=TRUE),1,IF(AND('表 (Excel提出用)'!$F$42=\"有\",'表 (Excel提出用)'!$AR$45=FALSE,'表 (Excel提出用)'!$AR$46=FALSE,'表 (Excel提出用)'!$AR$47=FALSE,OR('表 (Excel提出用)'!$AR$42=TRUE,'表 (Excel提出用)'!$AR$43=TRUE,'表 (Excel提出用)'!$AR$44=TRUE)),2,999))","v":999},{"$f":"IF('表 (Excel提出用)'!$AR$46=TRUE,1,IF(OR($FC$4=2,AND('表 (Excel提出用)'!$AR$45=TRUE,'表 (Excel提出用)'!$AR$47=TRUE),AND('表 (Excel提出用)'!$F$42=\"有\",'表 (Excel提出用)'!$AR$45=TRUE,'表 (Excel提出用)'!$AR$47=TRUE,$EY$4=1)),2,IF(OR(AND('表 (Excel提出用)'!$F$42=\"有\",'表 (Excel提出用)'!$AR$42:$AR$47=FALSE),AND('表 (Excel提出用)'!$AR$45=TRUE,'表 (Excel提出用)'!$AR$46=FALSE,'表 (Excel提出用)'!$AR$47=FALSE)),999,999)))","v":999},{"$f":"IF('表 (Excel提出用)'!$AR$47=TRUE,1,IF(OR($FC$4=2,AND('表 (Excel提出用)'!$AR$45=TRUE,'表 (Excel提出用)'!$AR$46=TRUE),AND('表 (Excel提出用)'!$F$42=\"有\",'表 (Excel提出用)'!$AR$45=TRUE,'表 (Excel提出用)'!$AR$46=TRUE,$EY$4=1)),2,IF(OR(AND('表 (Excel提出用)'!$F$42=\"有\",'表 (Excel提出用)'!$AR$42:$AR$47=FALSE),AND('表 (Excel提出用)'!$AR$45=TRUE,'表 (Excel提出用)'!$AR$46=FALSE,'表 (Excel提出用)'!$AR$47=FALSE)),999,999)))","v":999},{"$f":"IF(OR(EY4=\"\",FC4=\"\"),\"\",IF(AND(EY4=999,FC4=999),999,IF(AND($EY$4=1,$FC$4=2),1,IF(AND($EY$4=2,$FC$4=1),2,IF(AND($EY$4=1,$FC$4=1),3,IF(AND(EY4=2,FC4=2),4))))))","v":999},{"$f":"IF(OR('表 (Excel提出用)'!F43=\"有\",'表 (Excel提出用)'!AP50=TRUE,'表 (Excel提出用)'!AP51=TRUE,'表 (Excel提出用)'!AP52=TRUE,'表 (Excel提出用)'!AP53=TRUE,'表 (Excel提出用)'!AP54=TRUE),1,IF('表 (Excel提出用)'!F43=\"無\",2,999))","v":999},{"$f":"IF('表 (Excel提出用)'!AP50=TRUE,1,\"\")","v":""},{"$f":"IF('表 (Excel提出用)'!AP51=TRUE,1,\"\")","v":""},{"$f":"IF('表 (Excel提出用)'!AP52=TRUE,1,\"\")","v":""},{"$f":"IF('表 (Excel提出用)'!AP53=TRUE,1,\"\")","v":""},{"$f":"IF('表 (Excel提出用)'!AP54=TRUE,1,\"\")","v":""},{"$f":"IF('表 (Excel提出用)'!AD43=\"\",\"\",'表 (Excel提出用)'!AD43)","v":""},{"$f":"IF('表 (Excel提出用)'!C45=\"\",\"\",'表 (Excel提出用)'!C45)","v":""},{"$f":"IF('表 (Excel提出用)'!E45=\"\",\"\",'表 (Excel提出用)'!E45)","v":""},{"$f":"IF('表 (Excel提出用)'!G45=\"\",\"\",'表 (Excel提出用)'!G45)","v":""},{"$f":"IF('表 (Excel提出用)'!I45=\"\",\"\",'表 (Excel提出用)'!I45)","v":""},{"$f":"IF('表 (Excel提出用)'!M44=\"\",\"\",'表 (Excel提出用)'!M44)","v":""},{"$f":"IF('表 (Excel提出用)'!M45=\"\",\"\",'表 (Excel提出用)'!M45)","v":""},{"$f":"IF('表 (Excel提出用)'!M46=\"\",999,IF('表 (Excel提出用)'!M46=\"有\",1,IF('表 (Excel提出用)'!M46=\"無\",2)))","v":999},{"$f":"IF('表 (Excel提出用)'!AF46=\"\",999,IF('表 (Excel提出用)'!AF46=\"有\",1,IF('表 (Excel提出用)'!AF46=\"無\",2)))","v":999},{"$f":"IF(AND('表 (Excel提出用)'!K47=\"\",'表 (Excel提出用)'!N47=\"\"),999,IF('表 (Excel提出用)'!K47=\"有\",1,IF('表 (Excel提出用)'!K47=\"無\",2)))","v":999},{"$f":"IF(FV4=999,\"\",IF(AND('表 (Excel提出用)'!K47=\"有\",'表 (Excel提出用)'!N47=\"\"),\"記入なし\",'表 (Excel提出用)'!N47))","v":""},{"$f":"IF('表 (Excel提出用)'!AH47=\"\",999,IF('表 (Excel提出用)'!AH47=\"有\",1,IF('表 (Excel提出用)'!AH47=\"無\",2)))","v":999},{"$f":"IF('表 (Excel提出用)'!B49=\"\",\"\",'表 (Excel提出用)'!B49)","v":""},{"$f":"IF('表 (Excel提出用)'!N49=\"\",\"\",'表 (Excel提出用)'!N49)","v":""},{"$f":"IF('裏 (Excel提出用)'!E2=\"\",\"\",'裏 (Excel提出用)'!E2)","v":""},{"$f":"IF('裏 (Excel提出用)'!J2=\"\",\"\",'裏 (Excel提出用)'!J2)","v":""},{"$f":"IF('裏 (Excel提出用)'!AC9=TRUE,1,\"\")","v":""},{"$f":"IF('裏 (Excel提出用)'!AC10=TRUE,1,\"\")","v":""},{"$f":"IF('裏 (Excel提出用)'!AC11=TRUE,1,\"\")","v":""},{"$f":"IF('裏 (Excel提出用)'!I3=\"\",\"\",'裏 (Excel提出用)'!I3)","v":""},{"$f":"SUM(GC4:GE4)","v":0},{"$f":"IF('裏 (Excel提出用)'!J5=\"\",\"\",'裏 (Excel提出用)'!J5)","v":""},{"$f":"IF('裏 (Excel提出用)'!I7=\"\",\"\",'裏 (Excel提出用)'!I7)","v":""},{"$f":"IF('裏 (Excel提出用)'!K7=\"\",\"\",'裏 (Excel提出用)'!K7)","v":""},{"$f":"IF('裏 (Excel提出用)'!K8=\"\",\"\",'裏 (Excel提出用)'!K8)","v":""},{"$f":"IF('裏 (Excel提出用)'!H10=\"\",\"\",'裏 (Excel提出用)'!H10)","v":""},{"$f":"IF('裏 (Excel提出用)'!H12=\"\",\"\",'裏 (Excel提出用)'!H12)","v":""},{"$f":"IF('裏 (Excel提出用)'!H14=\"\",\"\",'裏 (Excel提出用)'!H14)","v":""},{"$f":"IF('裏 (Excel提出用)'!H16=\"\",\"\",'裏 (Excel提出用)'!H16)","v":""},{"$f":"IF('裏 (Excel提出用)'!H18=\"\",\"\",'裏 (Excel提出用)'!H18)","v":""},{"$f":"IF('裏 (Excel提出用)'!H20=\"\",\"\",'裏 (Excel提出用)'!H20)","v":""},{"$f":"IF('裏 (Excel提出用)'!H22=\"\",\"\",'裏 (Excel提出用)'!H22)","v":""},{"$f":"IF('裏 (Excel提出用)'!H24=\"\",\"\",'裏 (Excel提出用)'!H24)","v":""},{"$f":"IF('裏 (Excel提出用)'!H26=\"\",\"\",'裏 (Excel提出用)'!H26)","v":""},{"$f":"IF('裏 (Excel提出用)'!H28=\"\",\"\",'裏 (Excel提出用)'!H28)","v":""},{"$f":"IF('裏 (Excel提出用)'!H30=\"\",\"\",'裏 (Excel提出用)'!H30)","v":""},{"$f":"IF('裏 (Excel提出用)'!K10=\"\",\"\",'裏 (Excel提出用)'!K10)","v":""},{"$f":"IF('裏 (Excel提出用)'!K12=\"\",\"\",'裏 (Excel提出用)'!K12)","v":""},{"$f":"IF('裏 (Excel提出用)'!K14=\"\",\"\",'裏 (Excel提出用)'!K14)","v":""},{"$f":"IF('裏 (Excel提出用)'!K16=\"\",\"\",'裏 (Excel提出用)'!K16)","v":""},{"$f":"IF('裏 (Excel提出用)'!K18=\"\",\"\",'裏 (Excel提出用)'!K18)","v":""},{"$f":"IF('裏 (Excel提出用)'!K20=\"\",\"\",'裏 (Excel提出用)'!K20)","v":""},{"$f":"IF('裏 (Excel提出用)'!K22=\"\",\"\",'裏 (Excel提出用)'!K22)","v":""},{"$f":"IF('裏 (Excel提出用)'!K24=\"\",\"\",'裏 (Excel提出用)'!K24)","v":""},{"$f":"IF('裏 (Excel提出用)'!K26=\"\",\"\",'裏 (Excel提出用)'!K26)","v":""},{"$f":"IF('裏 (Excel提出用)'!K28=\"\",\"\",'裏 (Excel提出用)'!K28)","v":""},{"$f":"IF('裏 (Excel提出用)'!K30=\"\",\"\",'裏 (Excel提出用)'!K30)","v":""},{"$f":"IF('裏 (Excel提出用)'!H32=\"\",\"\",'裏 (Excel提出用)'!H32)","v":""},{"$f":"IF('裏 (Excel提出用)'!H33=\"\",\"\",'裏 (Excel提出用)'!H33)","v":""},{"$f":"IF('裏 (Excel提出用)'!H34=\"\",\"\",'裏 (Excel提出用)'!H34)","v":""},{"$f":"IF('裏 (Excel提出用)'!K32=\"\",\"\",'裏 (Excel提出用)'!K32)","v":""},{"$f":"IF('裏 (Excel提出用)'!K33=\"\",\"\",'裏 (Excel提出用)'!K33)","v":""},{"$f":"IF('裏 (Excel提出用)'!K34=\"\",\"\",'裏 (Excel提出用)'!K34)","v":""},{"$f":"IF('裏 (Excel提出用)'!T3=\"\",0,'裏 (Excel提出用)'!T3)","v":0},{"$f":"IF('裏 (Excel提出用)'!T4=\"\",0,'裏 (Excel提出用)'!T4)","v":0},{"$f":"IF('裏 (Excel提出用)'!T5=\"\",0,'裏 (Excel提出用)'!T5)","v":0},{"$f":"IF('裏 (Excel提出用)'!T6=\"\",0,'裏 (Excel提出用)'!T6)","v":0},{"$f":"IF('裏 (Excel提出用)'!T7=\"\",0,'裏 (Excel提出用)'!T7)","v":0},{"$f":"IF('裏 (Excel提出用)'!T8=\"\",0,'裏 (Excel提出用)'!T8)","v":0},{"$f":"IF('裏 (Excel提出用)'!T9=\"\",0,'裏 (Excel提出用)'!T9)","v":0},{"$f":"IF('裏 (Excel提出用)'!T10=\"\",0,'裏 (Excel提出用)'!T10)","v":0},{"$f":"IF('裏 (Excel提出用)'!T11=\"\",0,'裏 (Excel提出用)'!T11)","v":0},{"$f":"IF('裏 (Excel提出用)'!T12=\"\",0,'裏 (Excel提出用)'!T12)","v":0},{"$f":"IF('裏 (Excel提出用)'!T13=\"\",0,'裏 (Excel提出用)'!T13)","v":0},{"$f":"IF('裏 (Excel提出用)'!T14=\"\",0,'裏 (Excel提出用)'!T14)","v":0},{"$f":"IF('裏 (Excel提出用)'!T15=\"\",0,'裏 (Excel提出用)'!T15)","v":0},{"$f":"IF('裏 (Excel提出用)'!T16=\"\",0,'裏 (Excel提出用)'!T16)","v":0},{"$f":"IF('裏 (Excel提出用)'!T17=\"\",0,'裏 (Excel提出用)'!T17)","v":0},{"$f":"IF('裏 (Excel提出用)'!T18=\"\",0,'裏 (Excel提出用)'!T18)","v":0},{"$f":"IF('裏 (Excel提出用)'!T19=\"\",0,'裏 (Excel提出用)'!T19)","v":0},{"$f":"IF('裏 (Excel提出用)'!T20=\"\",0,'裏 (Excel提出用)'!T20)","v":0},{"$f":"IF('裏 (Excel提出用)'!T21=\"\",0,'裏 (Excel提出用)'!T21)","v":0},{"$f":"IF('裏 (Excel提出用)'!T22=\"\",0,'裏 (Excel提出用)'!T22)","v":0},{"$f":"IF('裏 (Excel提出用)'!T23=\"\",0,'裏 (Excel提出用)'!T23)","v":0},{"$f":"IF('裏 (Excel提出用)'!T24=\"\",0,'裏 (Excel提出用)'!T24)","v":0},{"$f":"IF('裏 (Excel提出用)'!T25=\"\",0,'裏 (Excel提出用)'!T25)","v":0},{"$f":"IF('裏 (Excel提出用)'!T26=\"\",0,'裏 (Excel提出用)'!T26)","v":0},{"$f":"IF('裏 (Excel提出用)'!T27=\"\",0,'裏 (Excel提出用)'!T27)","v":0},{"$f":"IF('裏 (Excel提出用)'!T28=\"\",0,'裏 (Excel提出用)'!T28)","v":0},{"$f":"IF('裏 (Excel提出用)'!T29=\"\",0,'裏 (Excel提出用)'!T29)","v":0},{"$f":"IF('裏 (Excel提出用)'!T30=\"\",0,'裏 (Excel提出用)'!T30)","v":0},{"$f":"IF('裏 (Excel提出用)'!T31=\"\",0,'裏 (Excel提出用)'!T31)","v":0},{"$f":"IF('裏 (Excel提出用)'!T32=\"\",0,'裏 (Excel提出用)'!T32)","v":0},{"$f":"IF('裏 (Excel提出用)'!T33=\"\",0,'裏 (Excel提出用)'!T33)","v":0},{"$f":"IF('裏 (Excel提出用)'!T34=\"\",0,'裏 (Excel提出用)'!T34)","v":0},{"$f":"IF('裏 (Excel提出用)'!T3=\"\",0,'裏 (Excel提出用)'!T35)","v":0},{"$f":"SUM(HN4:IT4)","v":0},{"$f":"IF('裏 (Excel提出用)'!W3=\"\",0,'裏 (Excel提出用)'!W3)","v":0},{"$f":"IF('裏 (Excel提出用)'!W4=\"\",0,'裏 (Excel提出用)'!W4)","v":0},{"$f":"IF('裏 (Excel提出用)'!W5=\"\",0,'裏 (Excel提出用)'!W5)","v":0},{"$f":"IF('裏 (Excel提出用)'!W6=\"\",0,'裏 (Excel提出用)'!W6)","v":0},{"$f":"IF('裏 (Excel提出用)'!W7=\"\",0,'裏 (Excel提出用)'!W7)","v":0},{"$f":"IF('裏 (Excel提出用)'!W8=\"\",0,'裏 (Excel提出用)'!W8)","v":0},{"$f":"IF('裏 (Excel提出用)'!W9=\"\",0,'裏 (Excel提出用)'!W9)","v":0},{"$f":"IF('裏 (Excel提出用)'!W10=\"\",0,'裏 (Excel提出用)'!W10)","v":0},{"$f":"IF('裏 (Excel提出用)'!W11=\"\",0,'裏 (Excel提出用)'!W11)","v":0},{"$f":"IF('裏 (Excel提出用)'!W12=\"\",0,'裏 (Excel提出用)'!W12)","v":0},{"$f":"IF('裏 (Excel提出用)'!W13=\"\",0,'裏 (Excel提出用)'!W13)","v":0},{"$f":"IF('裏 (Excel提出用)'!W14=\"\",0,'裏 (Excel提出用)'!W14)","v":0},{"$f":"IF('裏 (Excel提出用)'!W15=\"\",0,'裏 (Excel提出用)'!W15)","v":0},{"$f":"IF('裏 (Excel提出用)'!W16=\"\",0,'裏 (Excel提出用)'!W16)","v":0},{"$f":"IF('裏 (Excel提出用)'!W17=\"\",0,'裏 (Excel提出用)'!W17)","v":0},{"$f":"IF('裏 (Excel提出用)'!W18=\"\",0,'裏 (Excel提出用)'!W18)","v":0},{"$f":"IF('裏 (Excel提出用)'!W19=\"\",0,'裏 (Excel提出用)'!W19)","v":0},{"$f":"IF('裏 (Excel提出用)'!W20=\"\",0,'裏 (Excel提出用)'!W20)","v":0},{"$f":"IF('裏 (Excel提出用)'!W21=\"\",0,'裏 (Excel提出用)'!W21)","v":0},{"$f":"IF('裏 (Excel提出用)'!W22=\"\",0,'裏 (Excel提出用)'!W22)","v":0},{"$f":"IF('裏 (Excel提出用)'!W23=\"\",0,'裏 (Excel提出用)'!W23)","v":0},{"$f":"IF('裏 (Excel提出用)'!W24=\"\",0,'裏 (Excel提出用)'!W24)","v":0},{"$f":"IF('裏 (Excel提出用)'!W25=\"\",0,'裏 (Excel提出用)'!W25)","v":0},{"$f":"IF('裏 (Excel提出用)'!W26=\"\",0,'裏 (Excel提出用)'!W26)","v":0},{"$f":"IF('裏 (Excel提出用)'!W27=\"\",0,'裏 (Excel提出用)'!W27)","v":0},{"$f":"IF('裏 (Excel提出用)'!W28=\"\",0,'裏 (Excel提出用)'!W28)","v":0},{"$f":"IF('裏 (Excel提出用)'!W29=\"\",0,'裏 (Excel提出用)'!W29)","v":0},{"$f":"IF('裏 (Excel提出用)'!W30=\"\",0,'裏 (Excel提出用)'!W30)","v":0},{"$f":"IF('裏 (Excel提出用)'!W31=\"\",0,'裏 (Excel提出用)'!W31)","v":0},{"$f":"IF('裏 (Excel提出用)'!W32=\"\",0,'裏 (Excel提出用)'!W32)","v":0},{"$f":"IF('裏 (Excel提出用)'!W33=\"\",0,'裏 (Excel提出用)'!W33)","v":0},{"$f":"IF('裏 (Excel提出用)'!W34=\"\",0,'裏 (Excel提出用)'!W34)","v":0},{"$f":"IF('裏 (Excel提出用)'!W35=\"\",0,'裏 (Excel提出用)'!W35)","v":0},{"$f":"SUM(IV4:KB4)","v":0},{"$f":"IF('裏 (Excel提出用)'!B40=\"\",\"\",'裏 (Excel提出用)'!B40)","v":""},{"$f":"IF('裏 (Excel提出用)'!K40=\"\",\"\",'裏 (Excel提出用)'!K40)","v":""},{"$f":"IF('裏 (Excel提出用)'!P40=\"\",\"\",'裏 (Excel提出用)'!P40)","v":""},{"$f":"IF('裏 (Excel提出用)'!R40=\"\",\"\",'裏 (Excel提出用)'!R40)","v":""},{"$f":"IF('裏 (Excel提出用)'!T40=\"\",\"\",'裏 (Excel提出用)'!T40)","v":""},{"$f":"IF('裏 (Excel提出用)'!X40=\"\",\"\",'裏 (Excel提出用)'!X40)","v":""},{"$f":"IF('裏 (Excel提出用)'!B41=\"\",\"\",'裏 (Excel提出用)'!B41)","v":""},{"$f":"IF('裏 (Excel提出用)'!K41=\"\",\"\",'裏 (Excel提出用)'!K41)","v":""},{"$f":"IF('裏 (Excel提出用)'!P41=\"\",\"\",'裏 (Excel提出用)'!P41)","v":""},{"$f":"IF('裏 (Excel提出用)'!R41=\"\",\"\",'裏 (Excel提出用)'!R41)","v":""},{"$f":"IF('裏 (Excel提出用)'!T41=\"\",\"\",'裏 (Excel提出用)'!T41)","v":""},{"$f":"IF('裏 (Excel提出用)'!X41=\"\",\"\",'裏 (Excel提出用)'!X41)","v":""},{"$f":"IF('裏 (Excel提出用)'!B42=\"\",\"\",'裏 (Excel提出用)'!B42)","v":""},{"$f":"IF('裏 (Excel提出用)'!K42=\"\",\"\",'裏 (Excel提出用)'!K42)","v":""},{"$f":"IF('裏 (Excel提出用)'!P42=\"\",\"\",'裏 (Excel提出用)'!P42)","v":""},{"$f":"IF('裏 (Excel提出用)'!R42=\"\",\"\",'裏 (Excel提出用)'!R42)","v":""},{"$f":"IF('裏 (Excel提出用)'!T42=\"\",\"\",'裏 (Excel提出用)'!T42)","v":""},{"$f":"IF('裏 (Excel提出用)'!X42=\"\",\"\",'裏 (Excel提出用)'!X42)","v":""}]
["補足",null,null,null,null,null,null,null,null,null,"Excel台帳とリンクさせるための鍵",null,null,null,null,null,null,null,null,null,null,null,null,null,"転記時等に使用するための空白列",null,null,null,null,null,null,null,null,null,null,null,null,null,null,null,null,null,null,null,null,null,null,null,"1：直営\n2：委託",null,null,null,null,"1：有\n2：無\n999：不明",null,"1：有\n2：無\n999：不明",null,"参加なら1","参加なら1","参加なら1","参加なら1","参加なら1","参加なら1","参加なら1","参加なら1","参加なら1","参加なら1","参加なら1","参加なら1","参加なら1","参加なら1","1：1回\n2：2回\n3：3回\n999：不明",null,null,null,null,null,null,null,null,null,null,null,null,"1：有\n（身体の状況・身体活動レベル年齢性別人数のどちらかに入力がある場合を含む）\n2：無\n999:不明",null,null,"1：有\n2：無\n999：不明",null,"1：有\n2：無\n999：不明",null,null,"1：有\n2：無\n999：不明",null,null,"1：有\n2：無\n999：不明",null,null,"1：有\n2：無\n999：不明",null,null,"1：有\n2：無\n999：不明",null,"1：有\n2：無\n999：不明",null,null,null,null,null,null,null,null,null,null,null,null,null,null,null,null,null,null,null,null,null,null,null,null,null,null,null,null,null,null,"有れば1","有れば1","有れば1",null,"1：有\n2：無\n999：不明","有れば1","有れば1","有れば1","有れば1","有れば1",null,"1：有\n2：無\n999：不明","有れば1","有れば1","有れば1","有れば1","有れば1","有れば1",null,"1：有\n2：無\n999：不明","1：有\n2：無\n999：不明","1：有\n2：無\n999：不明","1：有\n2：無\n999：不明",null,"1：有\n2：無\n999：不明","1：有\n2：無\n999：不明","1：有\n2：無\n999：不明","入力不要\n1：嗜好調査のみ\n2：残食調査のみ\n3：両方\n4：どちらも無\n999：不明\n","1：有\n2：無\n999：不明","有れば1","有れば1","有れば1","有れば1","有れば1",null,null,null,null,null,null,null,"1：有\n2：無\n999：不明","1：有\n2：無\n999：不明","1：有\n2：無\n999：不明",null,"1：有\n2：無\n999：不明",null,null,null,null,"有れば1","有れば1","有れば1",null,"朝食・昼食・夕食のうち、提供回数",null,null,null,null,null,null,null,null,null,null,null,null,null,null,null,null,null,null,null,null,null,null,null,null,null,null,null,null,null,null,null,null,null,null,null,null,null,null,null,null,null,null,null,null,null,null,null,null,null,null,null,null,null,null,null,null,null,null,null,null,null,null,null,null,"食品群名欄にも数式あり",null,null,null,null,null,null,null,null,null,null,null,null,null,null,null,null,null,null,null,null,null,null,null,null,null,null,null,null,null,null,null,null,null,"食品群名欄にも数式あり"]