{"text_format":"1","workbook":"xlsx","n_sheets":3,"sheets":["Excel提出用","記入例 Excel提出用","データ転記用"],"not_rendered":{"charts":0,"images":11,"macros":0,"external_links":0,"defined_names":4,"comments":1,"pivot_tables":0},"unopened":[],"bounds":{"document_bytes":16777216,"sheet_cells":100000,"rows_first":2000,"rows_last":500,"rows_between":2000,"halvings":0,"cell_chars":16384,"cell_head_chars":4096},"cells_cut":0,"cells_raw":0,"read":"whole","date_system":"1900"}

{"sheet":"Excel提出用","index":0,"n_rows":60,"n_cols":130,"rows_kept":60,"cut":false,"hidden":false,"merged":[[13,31,17,32],[13,33,17,36],[15,1,17,2],[15,3,17,12],[3,3,5,4],[3,5,5,6],[3,9,5,12],[3,7,5,8],[3,1,5,2],[3,13,7,22],[3,23,7,36],[6,1,8,2],[6,3,8,12],[8,13,12,22],[8,23,12,36],[9,1,11,2],[9,3,11,4],[9,5,11,6],[9,7,11,8],[9,9,11,10],[9,11,11,12],[12,1,14,2],[12,3,14,4],[12,5,14,6],[12,7,14,8],[12,9,14,10],[12,11,14,12],[13,13,17,22],[13,23,17,25],[13,26,17,27],[13,28,17,30],[35,38,35,40],[44,38,44,40],[32,22,32,24],[32,25,32,27],[31,16,31,18],[31,19,31,21],[31,22,31,24],[33,34,33,36],[30,28,30,30],[30,31,30,33],[30,34,30,36],[31,25,31,27],[31,28,31,30],[31,31,31,33],[31,34,31,36],[37,7,37,29],[41,21,41,31],[44,34,44,36],[32,13,33,15],[28,34,29,36],[27,7,27,8],[27,9,27,10],[30,16,30,18],[44,42,44,43],[23,25,23,34],[24,13,24,26],[24,27,24,28],[39,21,39,28],[35,34,35,36],[34,31,34,32],[34,34,34,35],[33,31,33,33],[43,34,43,36],[36,28,36,30],[36,31,36,33],[36,34,36,36],[35,28,35,30],[35,31,35,33],[34,28,34,29],[32,28,32,30],[32,31,32,33],[32,34,32,36],[33,28,33,30],[32,16,32,18],[32,19,32,21],[56,1,56,4],[56,5,56,6],[46,1,46,3],[46,4,46,6],[46,8,46,11],[45,7,45,10],[40,31,40,32],[40,33,40,36],[42,16,42,17],[42,19,42,20],[45,25,45,30],[45,31,45,33],[45,34,45,36],[46,13,46,18],[46,19,46,21],[46,22,46,24],[45,22,45,24],[43,1,43,6],[43,13,44,18],[43,19,43,21],[43,22,43,24],[55,1,55,4],[51,22,51,24],[51,28,51,30],[41,1,41,5],[41,15,41,20],[41,32,41,36],[42,32,42,36],[42,21,42,31],[42,12,42,14],[41,12,41,14],[41,6,41,11],[42,6,42,11],[46,25,46,30],[46,31,46,33],[45,13,45,18],[45,19,45,21],[43,25,44,30],[43,31,43,33],[44,1,44,6],[42,1,42,5],[44,22,44,24],[44,31,44,33],[45,3,45,4],[51,31,51,33],[51,34,51,36],[49,22,49,24],[49,25,49,30],[49,31,49,33],[49,34,49,36],[51,1,51,4],[51,5,51,6],[51,7,51,9],[51,10,51,12],[51,16,51,18],[51,19,51,21],[50,19,50,21],[50,22,50,24],[50,25,51,27],[50,1,50,4],[50,5,50,6],[50,7,50,9],[50,10,50,12],[50,13,51,15],[50,16,50,18],[49,1,49,4],[49,5,49,6],[49,7,49,9],[58,5,58,6],[58,7,58,9],[58,10,58,12],[58,13,58,24],[57,1,57,4],[57,5,57,6],[57,7,57,9],[57,10,57,12],[57,13,57,24],[56,10,56,12],[56,13,56,24],[53,22,53,24],[58,31,58,36],[35,5,36,6],[54,1,54,4],[54,5,54,6],[55,5,55,6],[53,1,53,4],[53,5,53,6],[53,7,53,9],[53,10,53,12],[53,13,53,18],[53,19,53,21],[52,1,52,4],[52,5,52,6],[52,7,52,9],[52,10,52,12],[52,13,52,18],[46,34,46,36],[44,19,44,21],[58,25,58,30],[56,25,56,30],[58,1,58,4],[56,31,56,36],[57,25,57,30],[57,31,57,36],[54,31,55,36],[37,31,37,35],[29,11,30,12],[36,10,36,11],[35,7,35,12],[35,25,35,27],[54,7,54,9],[54,10,54,12],[54,13,55,24],[54,25,55,30],[55,7,55,9],[55,10,55,12],[52,22,52,24],[52,25,52,30],[52,31,52,33],[52,34,52,36],[52,19,52,21],[53,25,53,30],[53,31,53,33],[53,34,53,36],[56,7,56,9],[49,10,49,12],[49,13,49,18],[49,19,49,21],[50,28,50,30],[50,31,50,33],[50,34,50,36],[47,22,47,24],[47,25,47,30],[47,31,47,33],[47,34,47,36],[48,22,48,24],[48,25,48,30],[48,31,48,33],[48,34,48,36],[48,1,48,4],[48,5,48,6],[48,7,48,9],[48,10,48,12],[48,13,48,18],[48,19,48,21],[47,1,47,4],[47,5,47,6],[47,7,47,9],[47,10,47,12],[47,13,47,18],[47,19,47,21],[40,1,40,4],[40,5,40,12],[40,13,40,20],[40,21,40,24],[40,25,40,30],[39,19,39,20],[38,1,38,4],[39,1,39,4],[39,5,39,6],[39,7,39,12],[39,13,39,18],[38,5,38,6],[38,7,38,19],[38,21,38,35],[37,1,37,4],[37,5,37,6],[36,16,36,18],[36,19,36,21],[36,22,36,24],[36,25,36,27],[35,2,36,4],[35,16,35,18],[35,19,35,21],[35,22,35,24],[31,1,36,1],[34,2,34,4],[34,13,34,18],[34,19,34,20],[34,22,34,23],[34,25,34,26],[33,2,33,4],[33,16,33,18],[33,19,33,21],[33,22,33,24],[33,25,33,27],[31,2,32,6],[31,7,31,12],[30,13,31,15],[30,19,30,21],[30,22,30,24],[30,25,30,27],[29,10,30,10],[28,19,29,21],[28,22,29,24],[28,25,29,27],[29,1,30,5],[29,6,30,6],[21,1,28,1],[21,2,22,4],[21,5,21,8],[21,9,21,12],[24,2,24,4],[28,2,28,4],[27,11,27,12],[27,15,27,18],[29,7,30,7],[29,8,30,8],[29,9,30,9],[28,7,28,8],[28,9,28,10],[28,11,28,12],[28,13,29,18],[28,28,29,30],[28,31,29,33],[25,7,25,8],[25,9,25,10],[25,11,25,12],[21,19,21,36],[22,5,22,6],[23,13,23,18],[23,19,23,22],[24,5,24,6],[24,7,24,8],[24,9,24,10],[24,11,24,12],[21,15,21,18],[26,9,26,10],[26,11,26,12],[22,11,22,12],[22,15,22,18],[28,5,28,6],[22,23,22,25],[22,26,22,29],[22,30,22,32],[22,33,22,36],[19,19,19,36],[24,30,24,32],[24,33,24,36],[26,2,26,4],[26,5,26,6],[26,7,26,8],[26,19,26,36],[25,2,25,4],[25,5,25,6],[25,13,27,14],[25,15,26,18],[25,19,25,36],[27,19,27,36],[23,2,23,4],[23,5,23,6],[23,7,23,8],[23,9,23,10],[23,11,23,12],[27,2,27,4],[27,5,27,6],[22,19,22,22],[1,19,1,22],[1,25,1,26],[1,29,1,34],[51,38,51,40],[34,8,34,11],[1,27,1,28],[1,35,1,36],[2,1,2,2],[2,3,2,12],[2,13,2,22],[2,23,2,36],[1,1,1,18],[1,23,1,24],[19,1,20,3],[19,13,22,14],[19,15,19,18],[33,10,33,11],[20,15,20,18],[20,19,20,36],[20,11,20,12],[20,7,20,10],[19,4,19,9],[22,7,22,8],[22,9,22,10]]}
[]
[null,"特定給食施設栄養管理報告書（児童福祉施設・幼稚園等）",null,null,null,null,null,null,null,null,null,null,null,null,null,null,null,null,null,"（令和",null,null,null,null,null,"年",null,null,null,"月分）"]
[null,"施設名",null,null,null,null,null,null,null,null,null,null,null,"設置者の代表者（職・氏名）"]
[null,"郵便番号",null,null,null,"-",null,null,null,null,null,null,null,"給食責任者（職・氏名）"]
[]
[]
[null,"所在地"]
[]
[null,null,null,null,null,null,null,null,null,null,null,null,null,"作成者（職・氏名）"]
[null,"電話番号",null,null,null,"-",null,null,null,"-"]
[]
[]
[null,"FAX番号",null,null,null,"-",null,null,null,"-"]
[null,null,null,null,null,null,null,null,null,null,null,null,null,"連絡先電話番号",null,null,null,null,null,null,null,null,null,null,null,null,"-",null,null,null,null,"-"]
[]
[null,"e-mail"]
[null,null,null,null,null,null,null,null,null,null,null,null,null,null,null,null,null,null,null,null,null,null,null,null,null,null,null,null,null,null,null,null,null,null,null,null,null,null,null,null,null,null,null,null,null,null,null,null,null,null,null,null,null,null,null,null,null,null,null,null,null,null,null,null,null,null,null,null,null,null,null,null,null,null,null,null,null,null,null,null,null,null,null,null,null,null,null,null,null,null,null,null,null,null,null,null,null,null,null,null,null,null,null,null,null,null,null,null,null,null,null,null,null,null,null,null,null,null,null,null,null,null,null,null,null,null,null,null,null,{"$f":"IF(Excel提出用!AF51=\"\",\"\",Excel提出用!AF51)","v":""}]
[]
[]
[null,"【施設種別】",null,null,null,null,null,null,null,null,null,null,null,"委託業者",null,"名　称"]
[null,null,null,null,null,null,"（",null,null,null,null,"）型",null,null,null,"代表者"]
[null,"給食従事者数（人）","　",null,null,"施  設",null,null,null,"委託業者",null,null,null,null,null,"所在地"]
[null,null,null,null,null,"常  勤",null,"常勤以外",null,"常  勤",null,"常勤以外",null,null,null,"電話番号",null,null,null,null,null,null,null,"-",null,null,null,null,null,null,"-"]
[null,null,"管理栄養士",null,null,null,null,null,null,null,null,null,null,"【施設外調理】",null,null,null,null,null,null,null,null,null,null,"（",null,null,null,null,null,null,null,null,null,null,"）"]
[null,null,"栄 養 士",null,null,null,null,null,null,null,null,null,null,"【給食管理等について検討する会議】",null,null,null,null,null,null,null,null,null,null,null,null,null,null,null,"（",null,null,null,"回/年）"]
[null,null,"調 理 師",null,null,null,null,null,null,null,null,null,null,"構成職種",null,"施設"]
[null,null,"調 理 員"]
[null,null,"そ の 他",null,null,null,null,null,null,null,null,null,null,null,null,"委託業者"]
[null,null,"合　　計",null,null,{"$f":"SUM(F24:F28)","v":0},null,{"$f":"SUM(H24:H28)","v":0},null,{"$f":"SUM(J24:J28)","v":0},null,{"$f":"SUM(L24:L28)","v":0},null,null,null,null,null,null,null,"朝食",null,null,"昼食",null,null,"夕食",null,null,"間食",null,null,"その他",null,null,"合計"]
[null,"【給食利用者の把握】",null,null,null,null,null,"（",null,"年",null,"月現在）"]
[null,null,null,null,null,null,null,null,null,null,null,null,null,"食数",null,null,"児童",null,null,null,null,null,null,null,null,null,null,null,null,null,null,null,null,null,{"$f":"SUM(T31:AF31)","v":0},null,null,null,"【給食回数】"]
[null,"身体の状況","３歳以上の肥満\nとやせの割合",null,null,null,null,"評価方法",null,null,null,null,null,null,null,null,"職員",null,null,null,null,null,null,null,null,null,null,null,null,null,null,null,null,null,{"$f":"SUM(T32:AF32)","v":0},null,null,null,"1回"]
[null,null,null,null,null,null,null,null,null,null,null,null,"年）","食材料費\n（円/人）",null,null,"児童",null,null,null,null,null,null,null,null,null,null,null,null,null,null,null,null,null,0,null,null,null,"2回"]
[null,null,"肥満",null,null,null,"％",null,null,null,null,null,null,null,null,null,"職員",null,null,null,null,null,null,null,null,null,null,null,null,null,null,null,null,null,0,null,null,null,"3回"]
[null,null,"やせ",null,null,null,"％","（",null,null,null,null,"）","年齢区分・性別人数",null,null,null,null,null,null,null,"歳",null,null,"歳",null,null,"歳",null,null,"歳",null,null,"歳",null,null,"歳"]
[null,null,"アレルギー",null,null,null,null,null,null,null,null,null,null,null,null,null,"男性",null,null,null,null,null,null,null,null,null,null,null,null,null,null,null,null,null,null,null,null,null,"【アレルギー】",null,null,null,"【栄養成分表示】",null,null,null,"【構成職種】"]
[null,null,null,null,null,null,null,null,null,"（",null,null,"）",null,null,null,"女性",null,null,null,null,null,null,null,null,null,null,null,null,null,null,null,null,null,null,null,null,null,"除去",false,{"$f":"IF(AN37=TRUE,1,0)","v":0},null,"エネルギー",false,null,null,"施設","施設長",false]
[null,"【栄養成分表示】",null,null,null,null,null,null,null,null,null,null,null,null,null,null,null,null,null,null,null,null,null,null,null,null,null,null,null,null,"(",null,null,null,null,null,")",null,"代替",false,{"$f":"IF(AN38=TRUE,2,0)","v":0},null,"たんぱく質",false,null,null,null,"管理栄養士",false]
[null,"【栄養情報の提供】",null,null,null,null,null,null,null,null,null,null,null,null,null,null,null,null,null,null,"(",null,null,null,null,null,null,null,null,null,null,null,null,null,null,null,")",null,"両方",null,{"$f":"IF(AND(AN37=TRUE,AN38=TRUE),3,0)","v":0},null,"脂質",false,null,null,null,"栄養士",false]
[null,"【食育の取組み】",null,null,null,"対象・内容",null,null,null,null,null,null,null,"【献立の提示】",null,null,null,null,null,null,null,null,null,null,null,null,null,null,null,"(",null,null,null,null,null,null,")",null,"その他",false,{"$f":"IF(AN40=TRUE,4,0)","v":0},null,"炭水化物",false,null,null,null,"保育士",false]
[null,"【栄養管理の評価】",null,null,null,null,null,null,null,null,null,null,null,"【手作りおやつ】",null,null,null,null,null,null,null,"頻度",null,null,null,null,null,null,null,null,null,"回",null,"／ 月",null,null,null,null,"無",null,{"$f":"IF(F36=\"無\",5,0)","v":0},null,"食塩相当量",false,null,null,null,"保健師",false]
[null,"【非常時危機管理対策】",null,null,null,null,"食中毒マニュアルの整備：",null,null,null,null,null,null,null,null,null,null,null,null,null,null,"災害時マニュアルの整備：",null,null,null,null,null,null,null,null,null,null,null,null,null,null,null,null,"集計",null,{"$f":"MAX(AO37:AO41)","v":0},null,"その他",false,null,null,null,"看護師",false]
[null,"（食関連）",null,null,null,null,"食品等の備蓄：",null,null,null,null,null,null,null,null,"(",null,null,")","回分",null,"災害時の食事提供に関する\n研修・訓練等：",null,null,null,null,null,null,null,null,null,null,null,null,null,null,null,null,null,null,null,null,null,null,null,null,null,"事務職",false]
[null,"【基準設定】　",null,null,null,null,null,"（",null,"年",null,"月","）","食品群",null,null,null,null,null,"目標量",null,null,"給与量",null,null,"食品群",null,null,null,null,null,"目標量",null,null,"給与量",null,null,null,null,null,null,null,null,null,null,null,null,"調理師(員)",false]
[null,"【栄養価計算の基準】",null,null,null,null,null,"日本食品標準成分表",null,null,null,null,"年版",null,null,null,null,null,null,"（ ｇ ）",null,null,"（ ｇ ）",null,null,null,null,null,null,null,null,"（ ｇ ）",null,null,"（ ｇ ）",null,null,null,"【栄養情報の提供】",null,null,null,"【献立の掲示】",null,null,null,null,"その他",false]
[null,"男性(",null,")歳 女性(",null,null,")歳","３歳以上児の主食の提供",null,null,null,null,null,"穀　類",null,null,null,null,null,null,null,null,null,null,null,"藻　類",null,null,null,null,null,null,null,null,null,null,null,null,"給食だより",false,null,null,"献立表",false,null,null,"委託業者","管理栄養士",false]
[null,"報告月の食事区分(",null,null,"昼食+間食",null,null,"（",null,null,null,null,"））","いも及びでん粉類",null,null,null,null,null,null,null,null,null,null,null,"魚介類",null,null,null,null,null,null,null,null,null,null,null,null,"試食会",false,null,null,"展示",false,null,null,null,"栄養士",false]
[null,"栄養素",null,null,null,"（単位）",null,"給与栄養目標量",null,null,"給与栄養量",null,null,"砂糖及び甘味類",null,null,null,null,null,null,null,null,null,null,null,"肉　類",null,null,null,null,null,null,null,null,null,null,null,null,"ポスター",false,null,null,"実物",false,null,null,null,"事務職",false]
[null,"エネルギー",null,null,null,"（ｋｃａｌ）",null,null,null,null,null,null,null,"豆　類",null,null,null,null,null,null,null,null,null,null,null,"卵　類",null,null,null,null,null,null,null,null,null,null,null,null,"その他",false,null,null,"写真",false,null,null,null,"調理師(員)",false]
[null,"たんぱく質",null,null,null,"（ ｇ ）",null,null,null,null,null,null,null,"種実類",null,null,null,null,null,null,null,null,null,null,null,"乳　類",null,null,null,null,null,null,null,null,null,null,null,null,null,null,null,null,null,null,null,null,null,"その他",false]
[null,"脂　　　質",null,null,null,"（ ｇ ）",null,null,null,null,null,null,null,"野菜類",null,null,"緑黄色",null,null,null,null,null,null,null,null,"油脂類",null,null,"植物性"]
[null,"カルシウム",null,null,null,"（ｍｇ）",null,null,null,null,null,null,null,null,null,null,"その他",null,null,null,null,null,null,null,null,null,null,null,"動物性",null,null,null,null,null,null,null,null,null,"肥満とやせの評価方法"]
[null,"鉄",null,null,null,"（ｍｇ）",null,null,null,null,null,null,null,"果実類",null,null,null,null,null,null,null,null,null,null,null,"菓子類",null,null,null,null,null,null,null,null,null,null,null,null,"幼児身長体重曲線",false]
[null,"ビタミンＡ\n（レチノール活性当量）",null,null,null,"（μｇＲＡＥ）",null,null,null,null,null,null,null,"きのこ類",null,null,null,null,null,null,null,null,null,null,null,null,null,null,null,null,null,null,null,null,null,null,null,null,"その他",false]
[null,"ビタミンＢ1",null,null,null,"（ｍｇ）",null,null,null,null,null,null,null,"エネルギー産生栄養素バランス\n（％エネルギー）",null,null,null,null,null,null,null,null,null,null,null,"目標率",null,null,null,null,null,"給与率"]
[null,"ビタミンＢ2",null,null,null,"（ｍｇ）"]
[null,"ビタミンＣ",null,null,null,"（ｍｇ）",null,null,null,null,null,null,null,"たんぱく質"]
[null,"食物繊維",null,null,null,"（ ｇ ）",null,null,null,null,null,null,null,"脂　　質"]
[null,"食塩相当量",null,null,null,"（ ｇ ）",null,null,null,null,null,null,null,"炭水化物"]
[null,null,null,null,null,null,null,null,null,null,null,null,null,null,null,null,null,null,null,null,null,null,null,null,null,null,null,null,null,null,null,null,null,null,null,null,"（Ｒ８.３）"]

{"sheet":"記入例 Excel提出用","index":1,"n_rows":63,"n_cols":130,"rows_kept":63,"cut":false,"hidden":false,"merged":[[61,31,61,36],[2,4,2,6],[1,4,1,6],[61,1,61,4],[61,5,61,6],[61,7,61,9],[61,10,61,12],[61,13,61,24],[61,25,61,30],[59,31,59,36],[60,1,60,4],[60,5,60,6],[60,7,60,9],[60,10,60,12],[60,13,60,24],[60,25,60,30],[60,31,60,36],[59,1,59,4],[59,5,59,6],[59,7,59,9],[59,10,59,12],[59,13,59,24],[59,25,59,30],[57,25,58,30],[56,1,56,4],[56,5,56,6],[56,7,56,9],[56,10,56,12],[56,13,56,18],[57,31,58,36],[58,1,58,4],[58,5,58,6],[58,7,58,9],[58,10,58,12],[56,19,56,21],[56,22,56,24],[56,25,56,30],[56,31,56,33],[56,34,56,36],[57,1,57,4],[57,5,57,6],[57,7,57,9],[57,10,57,12],[57,13,58,24],[54,38,54,40],[55,1,55,4],[55,5,55,6],[55,7,55,9],[55,10,55,12],[55,13,55,18],[53,25,54,27],[53,28,53,30],[53,31,53,33],[53,34,53,36],[54,1,54,4],[54,5,54,6],[54,7,54,9],[54,10,54,12],[54,16,54,18],[54,19,54,21],[55,19,55,21],[55,22,55,24],[55,25,55,30],[55,31,55,33],[55,34,55,36],[52,34,52,36],[53,1,53,4],[53,5,53,6],[53,7,53,9],[53,10,53,12],[53,13,54,15],[53,16,53,18],[53,19,53,21],[53,22,53,24],[54,22,54,24],[54,28,54,30],[54,31,54,33],[54,34,54,36],[52,1,52,4],[52,5,52,6],[52,7,52,9],[52,10,52,12],[52,13,52,18],[52,19,52,21],[52,22,52,24],[52,25,52,30],[52,31,52,33],[50,34,50,36],[51,1,51,4],[51,5,51,6],[51,7,51,9],[51,10,51,12],[51,13,51,18],[51,19,51,21],[51,22,51,24],[51,25,51,30],[51,31,51,33],[51,34,51,36],[50,1,50,4],[50,5,50,6],[50,7,50,9],[50,10,50,12],[50,13,50,18],[50,19,50,21],[50,22,50,24],[50,25,50,30],[50,31,50,33],[49,1,49,3],[49,4,49,6],[49,8,49,11],[49,13,49,18],[49,19,49,21],[49,22,49,24],[49,25,49,30],[49,31,49,33],[49,34,49,36],[47,38,47,40],[47,42,47,43],[48,3,48,4],[48,7,48,10],[48,13,48,18],[48,19,48,21],[48,22,48,24],[48,25,48,30],[48,31,48,33],[48,34,48,36],[45,32,45,36],[46,1,46,6],[46,13,47,18],[46,19,46,21],[46,22,46,24],[46,25,47,30],[46,31,46,33],[46,34,46,36],[47,1,47,6],[47,19,47,21],[45,1,45,5],[45,6,45,11],[45,12,45,14],[45,16,45,17],[45,19,45,20],[45,21,45,31],[47,22,47,24],[47,31,47,33],[47,34,47,36],[43,33,43,36],[44,1,44,5],[44,6,44,11],[44,12,44,14],[44,15,44,20],[44,21,44,31],[44,32,44,36],[43,1,43,4],[43,5,43,12],[43,13,43,20],[43,21,43,24],[43,25,43,30],[43,31,43,32],[38,38,38,40],[39,10,39,11],[39,16,39,18],[39,19,39,21],[39,22,39,24],[39,25,39,27],[39,28,39,30],[39,31,39,33],[42,1,42,4],[42,5,42,6],[42,7,42,12],[42,13,42,18],[42,19,42,20],[42,21,42,28],[39,34,39,36],[40,1,40,4],[40,5,40,6],[40,7,40,29],[40,31,40,35],[41,1,41,4],[41,5,41,6],[41,7,41,19],[41,21,41,35],[34,1,39,1],[37,31,37,32],[37,34,37,35],[38,2,39,4],[38,5,39,6],[38,7,38,12],[38,16,38,18],[38,19,38,21],[38,22,38,24],[38,25,38,27],[38,28,38,30],[38,31,38,33],[38,34,38,36],[37,2,37,4],[37,8,37,11],[37,13,37,18],[37,19,37,20],[37,22,37,23],[37,25,37,26],[37,28,37,29],[34,31,34,33],[34,34,34,36],[35,13,36,15],[35,16,35,18],[35,19,35,21],[35,22,35,24],[35,25,35,27],[35,28,35,30],[35,31,35,33],[35,34,35,36],[36,28,36,30],[36,31,36,33],[36,34,36,36],[36,16,36,18],[36,19,36,21],[36,22,36,24],[36,25,36,27],[36,2,36,4],[36,10,36,11],[30,2,30,4],[30,5,30,6],[30,7,30,8],[30,9,30,10],[30,11,30,12],[30,15,30,18],[31,28,32,30],[34,2,35,6],[34,7,34,12],[34,16,34,18],[34,19,34,21],[34,22,34,24],[34,25,34,27],[34,28,34,30],[33,13,34,15],[33,16,33,18],[33,19,33,21],[33,22,33,24],[33,25,33,27],[33,28,33,30],[31,31,32,33],[31,34,32,36],[32,1,33,5],[32,6,33,6],[32,7,33,7],[32,8,33,8],[32,9,33,9],[32,10,33,10],[32,11,33,12],[33,31,33,33],[33,34,33,36],[31,2,31,4],[31,5,31,6],[31,7,31,8],[31,9,31,10],[31,11,31,12],[31,13,32,18],[31,19,32,21],[31,22,32,24],[31,25,32,27],[28,19,28,36],[29,2,29,4],[29,5,29,6],[29,7,29,8],[29,9,29,10],[29,11,29,12],[29,19,29,36],[27,27,27,28],[27,30,27,32],[27,33,27,36],[28,2,28,4],[28,5,28,6],[28,7,28,8],[28,9,28,10],[28,11,28,12],[28,13,30,14],[28,15,29,18],[27,2,27,4],[27,5,27,6],[27,7,27,8],[27,9,27,10],[27,11,27,12],[27,13,27,26],[30,19,30,36],[25,23,25,25],[25,26,25,29],[25,30,25,32],[25,33,25,36],[26,2,26,4],[26,5,26,6],[26,7,26,8],[26,9,26,10],[26,11,26,12],[26,13,26,18],[26,19,26,22],[26,25,26,34],[22,1,23,3],[22,4,22,9],[22,13,25,14],[22,15,22,18],[16,13,20,22],[16,23,20,25],[16,26,20,27],[22,19,22,36],[23,7,23,10],[23,11,23,12],[23,15,23,18],[23,19,23,36],[24,1,31,1],[24,2,25,4],[24,5,24,8],[24,9,24,12],[24,15,24,18],[24,19,24,36],[25,5,25,6],[25,7,25,8],[25,9,25,10],[25,11,25,12],[25,15,25,18],[25,19,25,22],[12,5,14,6],[12,7,14,8],[16,28,20,30],[16,31,20,32],[16,33,20,36],[12,9,14,10],[12,11,14,12],[15,1,17,2],[15,3,17,4],[15,5,17,6],[15,7,17,8],[15,9,17,10],[15,11,17,12],[18,1,20,2],[18,3,20,12],[4,35,4,36],[5,1,5,2],[5,3,5,12],[5,13,5,22],[5,23,5,36],[6,1,8,2],[6,3,8,4],[6,5,8,6],[6,7,8,8],[6,9,8,12],[4,1,4,18],[4,19,4,22],[4,23,4,24],[4,25,4,26],[4,27,4,28],[4,29,4,34],[6,13,10,22],[6,23,10,36],[9,1,11,2],[9,3,11,12],[11,13,15,22],[11,23,15,36],[12,1,14,2],[12,3,14,4]]}
[]
[null,"セルの説明　",null,null,"【オレンジ】",null,null,"入力してください（入力すると白色に変わります）　",null,null,null,null,null,null,null,null,null,null,null,null,null,null,null,"【黄色】",null,null,null,"自動計算されます。"]
[null,null,null,null,"【グレー】",null,null,"条件に合致すると、オレンジに変わります。オレンジになれば、入力してください。"]
[]
[null,"特定給食施設栄養管理報告書（児童福祉施設・幼稚園等）",null,null,null,null,null,null,null,null,null,null,null,null,null,null,null,null,null,"（令和",null,null,null,8,null,"年",null,5,null,"月分）"]
[null,"施設名",null,"○○保育園",null,null,null,null,null,null,null,null,null,"設置者の代表者（職・氏名）",null,null,null,null,null,null,null,null,null,"理事長○○　○○"]
[null,"郵便番号",null,"555",null,"-",null,"5555",null,null,null,null,null,"給食責任者（職・氏名）",null,null,null,null,null,null,null,null,null,"管理栄養士○○　○○"]
[]
[]
[null,"所在地",null,"大阪府大阪市阿倍野区○○町1-1-1"]
[]
[null,null,null,null,null,null,null,null,null,null,null,null,null,"作成者（職・氏名）",null,null,null,null,null,null,null,null,null,"栄養士○○　○○"]
[null,"電話番号",null,"06",null,"-",null,"0000",null,"-",null,"0000"]
[]
[]
[null,"FAX番号",null,"06",null,"-",null,"0000",null,"-",null,"0000"]
[null,null,null,null,null,null,null,null,null,null,null,null,null,"連絡先電話番号",null,null,null,null,null,null,null,null,null,"06",null,null,"-",null,"0000",null,null,"-",null,"0001"]
[]
[null,"e-mail",null,"xxx_xxx@abc.jp"]
[null,null,null,null,null,null,null,null,null,null,null,null,null,null,null,null,null,null,null,null,null,null,null,null,null,null,null,null,null,null,null,null,null,null,null,null,null,null,null,null,null,null,null,null,null,null,null,null,null,null,null,null,null,null,null,null,null,null,null,null,null,null,null,null,null,null,null,null,null,null,null,null,null,null,null,null,null,null,null,null,null,null,null,null,null,null,null,null,null,null,null,null,null,null,null,null,null,null,null,null,null,null,null,null,null,null,null,null,null,null,null,null,null,null,null,null,null,null,null,null,null,null,null,null,null,null,null,null,null,{"$f":"IF('記入例 Excel提出用'!AF54=\"\",\"\",'記入例 Excel提出用'!AF54)","v":3}]
[]
[]
[null,"【施設種別】",null,null,"3.認定こども園",null,null,null,null,null,null,null,null,"委託業者",null,"名　称",null,null,null,"株式会社　○○"]
[null,null,null,null,null,null,"（","幼保連携",null,null,null,"）型",null,null,null,"代表者",null,null,null,"■■　■■"]
[null,"給食従事者数（人）","　",null,null,"施  設",null,null,null,"委託業者",null,null,null,null,null,"所在地",null,null,null,"大阪市北区○○町1-2-3"]
[null,null,null,null,null,"常  勤",null,"常勤以外",null,"常  勤",null,"常勤以外",null,null,null,"電話番号",null,null,null,"06",null,null,null,"-",null,null,"0000",null,null,null,"-",null,null,"0123"]
[null,null,"管理栄養士",null,null,1,null,null,null,null,null,null,null,"【施設外調理】",null,null,null,null,null,"有",null,null,null,null,"（","弁当",null,null,null,null,null,null,null,null,null,"）"]
[null,null,"栄 養 士",null,null,null,null,null,null,1,null,null,null,"【給食管理等について検討する会議】",null,null,null,null,null,null,null,null,null,null,null,null,null,"有",null,"（",12,null,null,"回/年）"]
[null,null,"調 理 師",null,null,null,null,null,null,1,null,null,null,"構成職種",null,"施設"]
[null,null,"調 理 員",null,null,null,null,null,null,1,null,2]
[null,null,"そ の 他",null,null,null,null,null,null,null,null,null,null,null,null,"委託業者"]
[null,null,"合　　計",null,null,{"$f":"SUM(F27:F31)","v":1},null,{"$f":"SUM(H27:H31)","v":0},null,{"$f":"SUM(J27:J31)","v":3},null,{"$f":"SUM(L27:L31)","v":2},null,null,null,null,null,null,null,"朝食",null,null,"昼食",null,null,"夕食",null,null,"間食",null,null,"その他",null,null,"合計"]
[null,"【給食利用者の把握】",null,null,null,null,"有","（",null,"年",null,"月現在）"]
[null,null,null,null,null,null,null,null,null,null,null,null,null,"食数",null,null,"児童",null,null,null,null,null,120,null,null,null,null,null,120,null,null,null,null,null,{"$f":"SUM(T34:AF34)","v":240},null,null,null,"【給食回数】"]
[null,"身体の状況","３歳以上の肥満\nとやせの割合",null,null,null,null,"評価方法",null,null,null,null,null,null,null,null,"職員",null,null,null,null,null,23,null,null,null,null,null,null,null,null,null,null,null,{"$f":"SUM(T35:AF35)","v":23},null,null,null,"1回"]
[null,null,null,null,null,null,null,null,null,null,null,"平成22","年）","食材料費\n（円/人）",null,null,"児童",null,null,null,null,null,250,null,null,null,null,null,70,null,null,null,null,null,320,null,null,null,"2回"]
[null,null,"肥満",null,null,2,"％",null,null,null,null,null,null,null,null,null,"職員",null,null,null,null,null,300,null,null,null,null,null,null,null,null,null,null,null,300,null,null,null,"3回"]
[null,null,"やせ",null,null,1,"％","（",null,null,null,null,"）","年齢区分・性別人数",null,null,null,null,null,0,null,"歳",1,null,"歳",2,null,"歳",3,null,"歳",4,null,"歳",5,null,"歳"]
[null,null,"アレルギー",null,null,"有",null,null,null,null,null,null,null,null,null,null,"男性",null,null,6,null,null,10,null,null,14,null,null,12,null,null,10,null,null,8,null,null,null,"【アレルギー】",null,null,null,"【栄養成分表示】",null,null,null,"【構成職種】"]
[null,null,null,null,null,null,null,null,null,"（",null,null,"）",null,null,null,"女性",null,null,4,null,null,11,null,null,10,null,null,13,null,null,12,null,null,10,null,null,null,"除去",true,{"$f":"IF(AN40=TRUE,1,0)","v":1},null,"エネルギー",true,null,null,"施設","施設長",true]
[null,"【栄養成分表示】",null,null,null,"有",null,null,null,null,null,null,null,null,null,null,null,null,null,null,null,null,null,null,null,null,null,null,null,null,"(","カルシウム",null,null,null,null,")",null,"代替",true,{"$f":"IF(AN41=TRUE,2,0)","v":2},null,"たんぱく質",true,null,null,null,"管理栄養士",true]
[null,"【栄養情報の提供】",null,null,null,"有",null,null,null,null,null,null,null,null,null,null,null,null,null,null,"(",null,null,null,null,null,null,null,null,null,null,null,null,null,null,null,")",null,"両方",null,{"$f":"IF(AND(AN40=TRUE,AN41=TRUE),3,0)","v":3},null,"脂質",true,null,null,null,"栄養士",false]
[null,"【食育の取組み】",null,null,null,"対象・内容",null,"クッキング、栽培",null,null,null,null,null,"【献立の提示】",null,null,null,null,null,"有",null,null,null,null,null,null,null,null,null,"(",null,null,null,null,null,null,")",null,"その他",false,{"$f":"IF(AN43=TRUE,4,0)","v":0},null,"炭水化物",true,null,null,null,"保育士",true]
[null,"【栄養管理の評価】",null,null,null,"カルシウム摂取量を改善する必要がある。",null,null,null,null,null,null,null,"【手作りおやつ】",null,null,null,null,null,null,null,"頻度",null,null,null,20,null,null,null,null,null,"回",null,"／ 月",null,null,null,null,"無",null,{"$f":"IF(F39=\"無\",5,0)","v":0},null,"食塩相当量",true,null,null,null,"保健師",false]
[null,"【非常時危機管理対策】",null,null,null,null,"食中毒マニュアルの整備：",null,null,null,null,null,"有",null,null,null,null,null,null,null,null,"災害時マニュアルの整備：",null,null,null,null,null,null,null,null,null,null,"有",null,null,null,null,null,"集計",null,{"$f":"MAX(AO40:AO44)","v":3},null,"その他",true,null,null,null,"看護師",false]
[null,"（食関連）",null,null,null,null,"食品等の備蓄：",null,null,null,null,null,"有",null,null,"(",2,null,")","回分",null,"災害時の食事提供に関する\n研修・訓練等：",null,null,null,null,null,null,null,null,null,null,"有",null,null,null,null,null,null,null,null,null,null,null,null,null,null,"事務職",false]
[null,"【基準設定】　",null,null,null,null,null,"（","R8","年",4,"月","）","食品群",null,null,null,null,null,"目標量",null,null,"給与量",null,null,"食品群",null,null,null,null,null,"目標量",null,null,"給与量",null,null,null,null,null,null,null,null,null,null,null,null,"調理師(員)",false]
[null,"【栄養価計算の基準】",null,null,null,null,null,"日本食品標準成分表",null,null,null,2023,"年版",null,null,null,null,null,null,"（ ｇ ）",null,null,"（ ｇ ）",null,null,null,null,null,null,null,null,"（ ｇ ）",null,null,"（ ｇ ）",null,null,null,"【栄養情報の提供】",null,null,null,"【献立の掲示】",null,null,null,null,"その他",false]
[null,"男性(","3～5",")歳 女性(",null,"3～5",")歳","３歳以上児の主食の提供",null,null,null,"有",null,"穀　類",null,null,null,null,null,70,null,null,61,null,null,"藻　類",null,null,null,null,null,1,null,null,1,null,null,null,"給食だより",true,null,null,"献立表",true,null,null,"委託業者","管理栄養士",false]
[null,"報告月の食事区分(",null,null,"昼食+間食",null,null,"（",null,null,null,null,"））","いも及びでん粉類",null,null,null,null,null,14,null,null,14,null,null,"魚介類",null,null,null,null,null,17,null,null,16,null,null,null,"試食会",false,null,null,"展示",true,null,null,null,"栄養士",true]
[null,"栄養素",null,null,null,"（単位）",null,"給与栄養目標量",null,null,"給与栄養量",null,null,"砂糖及び甘味類",null,null,null,null,null,2,null,null,2,null,null,"肉　類",null,null,null,null,null,26,null,null,24,null,null,null,"ポスター",false,null,null,"実物",true,null,null,null,"事務職",false]
[null,"エネルギー",null,null,null,"（ｋｃａｌ）",null,573,null,null,544,null,null,"豆　類",null,null,null,null,null,11,null,null,10,null,null,"卵　類",null,null,null,null,null,3,null,null,3,null,null,null,"その他",false,null,null,"写真",false,null,null,null,"調理師(員)",false]
[null,"たんぱく質",null,null,null,"（ ｇ ）",null,23,null,null,20,null,null,"種実類",null,null,null,null,null,1,null,null,1,null,null,"乳　類",null,null,null,null,null,120,null,null,117,null,null,null,null,null,null,null,null,null,null,null,null,"その他",false]
[null,"脂　　　質",null,null,null,"（ ｇ ）",null,17,null,null,15,null,null,"野菜類",null,null,"緑黄色",null,null,18,null,null,15,null,null,"油脂類",null,null,"植物性",null,null,3,null,null,2]
[null,"カルシウム",null,null,null,"（ｍｇ）",null,258,null,null,287,null,null,null,null,null,"その他",null,null,67,null,null,65,null,null,null,null,null,"動物性",null,null,1,null,null,1,null,null,null,"肥満とやせの評価方法"]
[null,"鉄",null,null,null,"（ｍｇ）",null,2.5,null,null,2.6,null,null,"果実類",null,null,null,null,null,19,null,null,12,null,null,"菓子類",null,null,null,null,null,12,null,null,14,null,null,null,"幼児身長体重曲線",true]
[null,"ビタミンＡ\n（レチノール活性当量）",null,null,null,"（μｇＲＡＥ）",null,202,null,null,184,null,null,"きのこ類",null,null,null,null,null,4,null,null,3,null,null,null,null,null,null,null,null,null,null,null,null,null,null,null,"その他",false]
[null,"ビタミンＢ1",null,null,null,"（ｍｇ）",null,0.3,null,null,0.3,null,null,"エネルギー産生栄養素バランス\n（％エネルギー）",null,null,null,null,null,null,null,null,null,null,null,"目標率",null,null,null,null,null,"給与率"]
[null,"ビタミンＢ2",null,null,null,"（ｍｇ）",null,0.4,null,null,0.4]
[null,"ビタミンＣ",null,null,null,"（ｍｇ）",null,20,null,null,19,null,null,"たんぱく質",null,null,null,null,null,null,null,null,null,null,null,0.16,null,null,null,null,null,0.15]
[null,"食物繊維",null,null,null,"（ ｇ ）",null,4,null,null,3,null,null,"脂　　質",null,null,null,null,null,null,null,null,null,null,null,0.27,null,null,null,null,null,0.25]
[null,"食塩相当量",null,null,null,"（ ｇ ）",null,2.2000000000000002,null,null,2.5,null,null,"炭水化物",null,null,null,null,null,null,null,null,null,null,null,0.56999999999999995,null,null,null,null,null,0.6]
[null,null,null,null,null,null,null,null,null,null,null,null,null,null,null,null,null,null,null,null,null,null,null,null,null,null,null,null,null,null,null,null,null,null,null,null,"（Ｒ８.３）"]

{"sheet":"データ転記用","index":2,"n_rows":5,"n_cols":213,"rows_kept":5,"cut":false,"hidden":true,"merged":[]}
["大項目","報告年月",null,"施設情報",null,null,null,null,null,null,null,null,null,null,null,null,null,null,null,null,null,null,null,null,null,null,"給食従事者数【施設側】",null,null,null,null,null,null,null,null,null,"給食従事者数【委託側】",null,null,null,null,null,null,null,null,null,"常勤合計【施設＋委託】",null,null,"資格者配置状況","運営形態",null,null,null,null,"施設外調理",null,"会議",null,null,null,null,null,null,null,null,null,null,null,null,null,null,null,"給食回数","食数",null,null,null,null,null,null,null,null,null,null,null,null,null,"給食材料費",null,null,null,null,null,null,null,null,null,null,null,"給食利用者の把握",null,null,null,null,null,null,null,null,null,null,null,null,null,null,"栄養成分表示",null,null,null,null,null,null,null,"栄養情報提供",null,null,null,null,null,"献立提示",null,null,null,"食育の取組","栄養管理の評価","手作りおやつ","非常時危機管理対策",null,null,null,null,"給与栄養目標量及び給与栄養給与量",null,null,null,null,null,null,null,null,null,null,null,null,null,null,null,null,null,null,null,null,null,null,null,null,null,null,null,null,null,"エネルギー比率",null,null,null,null,null,"食品群別数量",null,null,null,null,null,null,null,null,null,null,null,null,null,null,null,null,null,"食品群別給与量"]
["中項目",null,null,null,null,null,null,null,null,null,null,null,null,null,null,null,null,null,null,null,null,null,null,null,null,null,"管理栄養士",null,"栄養士",null,"調理師",null,"調理員",null,"その他",null,"管理栄養士",null,"栄養士",null,"調理師",null,"調理員",null,"その他",null,null,null,null,null,null,"委託業者",null,null,null,null,null,null,null,"構成職種(施設)",null,null,null,null,null,null,null,null,"構成職種(委託)",null,null,null,null,null,"児童",null,null,null,null,"職員",null,null,null,null,"食事合計",null,null,null,"児童",null,null,null,null,null,"職員",null,null,null,null,null,null,"把握年月",null,null,null,"肥満やせの割合",null,null,null,null,"アレルギー",null,null,null,null,null,"表示項目",null,null,null,null,null,null,null,"提供方法",null,null,null,null,null,null,null,null,null,null,null,"マニュアル",null,"備蓄",null,null,"基準設定年月",null,null,"最も提供の多い職種について",null,null,null,null,"目標量",null,null,null,null,null,null,null,null,null,null,"給与",null,null,null,null,null,null,null,null,null,null,"目標",null,null,"給与",null,null,"目標",null,null,null,null,null,null,null,null,null,null,null,null,null,null,null,null,null,"給与"]
["小項目","年","月","施設名","施設郵便番号","施設所在地","電話番号①","電話番号②","電話番号③","電話番号(①＋②＋③)","電話番号(②＋③)","FAX①","FAX②","FAX③","FAX(①＋②＋③)","e-mail","設置者代表者","給食責任者","作成者","作成者tel①","作成者tel②","作成者tel③","作成者tel(①＋②＋③)","施設種別","認定こども園類型","施設番号","常勤","非常勤","常勤","非常勤","常勤","非常勤","常勤","非常勤","常勤","非常勤","常勤","非常勤","常勤","非常勤","常勤","非常勤","常勤","非常勤","常勤","非常勤","管栄","栄養士","調理師","配置状況","運営形態","名称","代表者","所在地","電話番号","実施","内容","実施","会議回数","施設長","管理栄養士","栄養士","保育士","保健師","看護師","事務職","調理師(員)","その他","管理栄養士","栄養士","事務職","調理師(員)","その他","回数","朝","昼","夕","間食","その他","朝","昼","夕","間食","その他","朝","昼","夕","1日","朝","昼","夕","間食","その他","合計","朝","昼","夕","間食","その他","合計","把握の有無","年","月","肥満やせの把握","年齢区分・性別人数の把握","肥満","やせ","評価方法","幼児身長体重曲線年版","その他内容","有無","除去","代替","その他","その他内容","成分表示","E","P","F","C","Nacl","その他","その他内容","情報提供","給食だより","試食会","ポスター","その他","その他内容","献立提示","献立表","展示","献立提示状況","対象・内容","内容","回数","食中毒","災害時","備蓄","備蓄回数","研修・訓練","年","月","日本食品標準成分表年版","男性","女性","主食提供","設定回数","その他内容","エネルギー","たんぱく質","脂質","カルシウム","鉄","ビタミンA","ビタミンB1","ビタミンB2","ビタミンC","食物繊維","食塩相当量","エネルギー","たんぱく質","脂質","カルシウム","鉄","ビタミンA","ビタミンB1","ビタミンB2","ビタミンC","食物繊維","食塩相当量","P","F","C","P","F","C","穀類","いも類","砂糖甘味類","豆類","種実類","緑黄色野菜","その他野菜","果実類","きのこ類","藻類","魚介類","肉類","卵類","乳類","植物性油脂","動物性油脂","菓子類","合計","穀類","いも類","砂糖甘味類","豆類","種実類","緑黄色野菜","その他野菜","果実類","きのこ類","藻類","魚介類","肉類","卵類","乳類","植物性油脂","動物性油脂","菓子類","合計"]
["データ",{"$f":"IF(Excel提出用!X2=\"\",\"\",Excel提出用!X2)","v":""},{"$f":"IF(Excel提出用!AB2=\"\",\"\",Excel提出用!AB2)","v":""},{"$f":"Excel提出用!D3","v":0},{"$f":"Excel提出用!D4&\"-\"&Excel提出用!H4","v":"-"},{"$f":"Excel提出用!D7","v":0},{"$f":"Excel提出用!D10","v":0},{"$f":"Excel提出用!H10","v":0},{"$f":"Excel提出用!L10","v":0},{"$f":"G4&H4&I4","v":"000"},{"$f":"データ転記用!H4&\"-\"&データ転記用!I4","v":"0-0"},{"$f":"Excel提出用!D13","v":0},{"$f":"Excel提出用!H13","v":0},{"$f":"Excel提出用!L13","v":0},{"$f":"L4&M4&N4","v":"000"},{"$f":"Excel提出用!D16","v":0},{"$f":"Excel提出用!X3","v":0},{"$f":"Excel提出用!X4","v":0},{"$f":"Excel提出用!X9","v":0},{"$f":"Excel提出用!X14","v":0},{"$f":"Excel提出用!AC14","v":0},{"$f":"Excel提出用!AH14","v":0},{"$f":"T4&U4&V4","v":"000"},{"$f":"IF(Excel提出用!E20=\"\",\"\",IF(Excel提出用!E20=\"1.児童福祉施設\",1,IF(Excel提出用!E20=\"2.幼稚園\",2,IF(Excel提出用!E20=\"3.認定こども園\",3))))","v":""},{"$f":"+IF(Excel提出用!H21=\"\",\"\",IF(Excel提出用!H21=\"幼保連携型\",1,IF(Excel提出用!H21=\"幼稚園型\",2,IF(Excel提出用!H21=\"保育園型\",3))))","v":""},null,{"$f":"Excel提出用!F24","v":0},{"$f":"Excel提出用!H24","v":0},{"$f":"Excel提出用!F25","v":0},{"$f":"Excel提出用!H25","v":0},{"$f":"Excel提出用!F26","v":0},{"$f":"Excel提出用!H26","v":0},{"$f":"Excel提出用!F27","v":0},{"$f":"Excel提出用!H27","v":0},{"$f":"Excel提出用!F28","v":0},{"$f":"Excel提出用!H28","v":0},{"$f":"Excel提出用!J24","v":0},{"$f":"Excel提出用!L24","v":0},{"$f":"Excel提出用!J25","v":0},{"$f":"Excel提出用!L25","v":0},{"$f":"Excel提出用!J26","v":0},{"$f":"Excel提出用!L26","v":0},{"$f":"Excel提出用!J27","v":0},{"$f":"Excel提出用!L27","v":0},{"$f":"Excel提出用!J28","v":0},{"$f":"Excel提出用!L28","v":0},{"$f":"IF(AND(AA4=\"\",AK4=\"\"),\"\",AA4+AK4)","v":0},{"$f":"IF(AND(AC4=\"\",AM4=\"\"),\"\",AC4+AM4)","v":0},{"$f":"IF(AND(AE4=\"\",AO4=\"\"),\"\",AE4+AO4)","v":0},{"$f":"IF(AND(AU4>0,AV4=0),1,IF(AND(AU4>0,AV4>0),2,IF(AND(AU4=0,AV4>0),3,4)))","v":4},{"$f":"IF(Excel提出用!T20=\"\",1,IF(Excel提出用!T20<>\"\",2))","v":1},{"$f":"IF(Excel提出用!T20=\"\",\"\",Excel提出用!T20)","v":""},{"$f":"IF(Excel提出用!T21=\"\",\"\",Excel提出用!T21)","v":""},{"$f":"IF(Excel提出用!T22=\"\",\"\",Excel提出用!T22)","v":""},{"$f":"Excel提出用!T23&Excel提出用!AA23&Excel提出用!AH23","v":""},{"$f":"IF(Excel提出用!T24=\"\",999,IF(Excel提出用!T24=\"有\",1,IF(Excel提出用!T24=\"無\",2)))","v":999},{"$f":"IF(Excel提出用!Z24=\"\",\"\",Excel提出用!Z24)","v":""},{"$f":"IF(Excel提出用!AB25=\"\",999,IF(Excel提出用!AB25=\"有\",1,IF(Excel提出用!AB25=\"無\",2)))","v":999},{"$f":"Excel提出用!AE25","v":0},{"$f":"IF(Excel提出用!AW37=TRUE,1,\"\")","v":""},{"$f":"IF(Excel提出用!AW38=TRUE,1,\"\")","v":""},{"$f":"IF(Excel提出用!AW39=TRUE,1,\"\")","v":""},{"$f":"IF(Excel提出用!AW40=TRUE,1,\"\")","v":""},{"$f":"IF(Excel提出用!AW41=TRUE,1,\"\")","v":""},{"$f":"IF(Excel提出用!AW42=TRUE,1,\"\")","v":""},{"$f":"IF(Excel提出用!AW43=TRUE,1,\"\")","v":""},{"$f":"IF(Excel提出用!AW44=TRUE,1,\"\")","v":""},{"$f":"IF(Excel提出用!AW45=TRUE,1,\"\")","v":""},{"$f":"IF(Excel提出用!AW46=TRUE,1,\"\")","v":""},{"$f":"IF(Excel提出用!AW47=TRUE,1,\"\")","v":""},{"$f":"IF(Excel提出用!AW48=TRUE,1,\"\")","v":""},{"$f":"IF(Excel提出用!AW49=TRUE,1,\"\")","v":""},{"$f":"IF(Excel提出用!AW50=TRUE,1,\"\")","v":""},{"$f":"IF(AND(BW4=0,BX4=0,BY4=0),999,COUNTIF(BW4:BY4,\"<>0\"))","v":999},{"$f":"IF(Excel提出用!T31=\"\",0,Excel提出用!T31)","v":0},{"$f":"IF(Excel提出用!W31=\"\",0,Excel提出用!W31)","v":0},{"$f":"IF(Excel提出用!Z31=\"\",0,Excel提出用!Z31)","v":0},{"$f":"IF(Excel提出用!AC31=\"\",0,Excel提出用!AC31)","v":0},{"$f":"IF(Excel提出用!AF31=\"\",0,Excel提出用!AF31)","v":0},{"$f":"IF(Excel提出用!T32=\"\",0,Excel提出用!T32)","v":0},{"$f":"IF(Excel提出用!W32=\"\",0,Excel提出用!W32)","v":0},{"$f":"IF(Excel提出用!Z32=\"\",0,Excel提出用!Z32)","v":0},{"$f":"IF(Excel提出用!AC32=\"\",0,Excel提出用!AC32)","v":0},{"$f":"IF(Excel提出用!AF32=\"\",0,Excel提出用!AF32)","v":0},{"$f":"BW4+CB4","v":0},{"$f":"BX4+CC4","v":0},{"$f":"BY4+CD4","v":0},{"$f":"SUM(CG4:CI4)","v":0},{"$f":"IF(OR(Excel提出用!T33=\"\",Excel提出用!T33=0),0,Excel提出用!T33)","v":0},{"$f":"IF(OR(Excel提出用!W33=\"\",Excel提出用!W33=0),0,Excel提出用!W33)","v":0},{"$f":"IF(OR(Excel提出用!Z33=\"\",Excel提出用!Z33=0),0,Excel提出用!Z33)","v":0},{"$f":"IF(OR(Excel提出用!AC33=\"\",Excel提出用!AC33=0),0,Excel提出用!AC33)","v":0},{"$f":"IF(OR(Excel提出用!AF33=\"\",Excel提出用!AF33=0),0,Excel提出用!AF33)","v":0},{"$f":"SUM(CK4:CO4)","v":0},{"$f":"IF(OR(Excel提出用!T34=\"\",Excel提出用!T34=0),0,Excel提出用!T34)","v":0},{"$f":"IF(OR(Excel提出用!W34=\"\",Excel提出用!W34=0),0,Excel提出用!W34)","v":0},{"$f":"IF(OR(Excel提出用!Z34=\"\",Excel提出用!Z34=0),0,Excel提出用!Z34)","v":0},{"$f":"IF(OR(Excel提出用!AC34=\"\",Excel提出用!AC34=0),0,Excel提出用!AC34)","v":0},{"$f":"IF(OR(Excel提出用!AF34=\"\",Excel提出用!AF34=0),0,Excel提出用!AF34)","v":0},{"$f":"SUM(CQ4:CU4)","v":0},{"$f":"IF(OR(Excel提出用!G30=\"有\",Excel提出用!F34<>\"\",Excel提出用!F35<>\"\",Excel提出用!F36:G37=\"有\",Excel提出用!T36:AK37<>\"\"),1,IF(Excel提出用!G30=\"無\",2,999))","v":999},{"$f":"IF(Excel提出用!I30=\"\",\"\",Excel提出用!I30)","v":""},{"$f":"IF(Excel提出用!K30=\"\",\"\",Excel提出用!K30)","v":""},{"$f":"IF(AND(Excel提出用!G30=\"有\",Excel提出用!F34=\"\",Excel提出用!F35=\"\"),2,IF(AND(Excel提出用!G30=\"\",Excel提出用!F34=\"\",Excel提出用!F35=\"\"),999,1))","v":999},{"$f":"IF(AND(Excel提出用!G30=\"有\",Excel提出用!T36=\"\",Excel提出用!W36=\"\",Excel提出用!Z36=\"\",Excel提出用!AC36=\"\",Excel提出用!AF36=\"\",Excel提出用!AI36=\"\",Excel提出用!T37=\"\",Excel提出用!W37=\"\",Excel提出用!Z37=\"\",Excel提出用!AC37=\"\",Excel提出用!AF37=\"\",Excel提出用!AI37=\"\"),2,IF(AND(Excel提出用!G30=\"\",Excel提出用!T36=\"\",Excel提出用!W36=\"\",Excel提出用!Z36=\"\",Excel提出用!AC36=\"\",Excel提出用!AF36=\"\",Excel提出用!AI36=\"\",Excel提出用!T37=\"\",Excel提出用!W37=\"\",Excel提出用!Z37=\"\",Excel提出用!AC37=\"\",Excel提出用!AF37=\"\",Excel提出用!AI37=\"\"),999,1))","v":999},{"$f":"IF(Excel提出用!F34=\"\",\"\",Excel提出用!F34)","v":""},{"$f":"IF(Excel提出用!F35=\"\",\"\",Excel提出用!F35)","v":""},{"$f":"IF(Excel提出用!AN53=TRUE,1,IF(Excel提出用!AN54=TRUE,2,IF(AND(OR(Excel提出用!F34<>\"\",Excel提出用!F35<>\"\"),Excel提出用!AN53=FALSE,Excel提出用!AN54=FALSE),999,\"\")))","v":""},{"$f":"IF(Excel提出用!L33=\"\",\"\",Excel提出用!L33)","v":""},{"$f":"IF(Excel提出用!I35<>\"\",Excel提出用!I35,\"\")","v":""},{"$f":"IF(OR(Excel提出用!F36:G37=\"有\",OR(Excel提出用!AN37=TRUE,Excel提出用!AN38=TRUE,Excel提出用!AN40=TRUE)),1,IF(Excel提出用!F36=\"無\",2,999))","v":999},{"$f":"IF(Excel提出用!AN37=TRUE,1,\"\")","v":""},{"$f":"IF(Excel提出用!AN38=TRUE,1,\"\")","v":""},{"$f":"IF(Excel提出用!AN40=TRUE,1,\"\")","v":""},{"$f":"IF(Excel提出用!K37=\"\",\"\",Excel提出用!K37)","v":""},{"$f":"IF(OR(Excel提出用!F38=\"有\",OR(Excel提出用!AR37=TRUE,Excel提出用!AR38=TRUE,Excel提出用!AR39=TRUE,Excel提出用!AR40=TRUE,Excel提出用!AR41=TRUE,Excel提出用!AR42=TRUE)),1,IF(Excel提出用!F38=\"無\",2,999))","v":999},{"$f":"IF(Excel提出用!AR37=TRUE,1,\"\")","v":""},{"$f":"IF(Excel提出用!AR38=TRUE,1,\"\")","v":""},{"$f":"IF(Excel提出用!AR39=TRUE,1,\"\")","v":""},{"$f":"IF(Excel提出用!AR40=TRUE,1,\"\")","v":""},{"$f":"IF(Excel提出用!AR41=TRUE,1,\"\")","v":""},{"$f":"IF(Excel提出用!AR42=TRUE,1,\"\")","v":""},{"$f":"IF(Excel提出用!AF38=\"\",\"\",Excel提出用!AF38)","v":""},{"$f":"IF(OR(Excel提出用!F39=\"有\",OR(Excel提出用!AN46=TRUE,Excel提出用!AN47=TRUE,Excel提出用!AN48=TRUE,Excel提出用!AN49=TRUE)),1,IF(Excel提出用!F39=\"無\",2,999))","v":999},{"$f":"IF(Excel提出用!AN46=TRUE,1,\"\")","v":""},{"$f":"IF(Excel提出用!AN47=TRUE,1,\"\")","v":""},{"$f":"IF(Excel提出用!AN48=TRUE,1,\"\")","v":""},{"$f":"IF(Excel提出用!AN49=TRUE,1,\"\")","v":""},{"$f":"IF(Excel提出用!AF38=\"\",\"\",Excel提出用!AF38)","v":""},{"$f":"IF(OR(Excel提出用!T40=\"有\",OR(Excel提出用!AR46=TRUE,Excel提出用!AR47=TRUE,Excel提出用!AR48=TRUE,Excel提出用!AR49=TRUE)),1,IF(Excel提出用!T40=\"無\",2,999))","v":999},{"$f":"IF(Excel提出用!AR46=TRUE,1,IF(OR(AND(Excel提出用!$T$40=\"\",Excel提出用!$AR$46=FALSE,Excel提出用!$AR$47=FALSE,Excel提出用!$AR$48=FALSE,Excel提出用!$AR$49=FALSE),AND(Excel提出用!$T$40=\"有\",Excel提出用!$AR$46=FALSE,Excel提出用!$AR$47=FALSE,Excel提出用!$AR$48=FALSE,Excel提出用!$AR$49=FALSE)),999,2))","v":999},{"$f":"IF(Excel提出用!AR47=TRUE,1,IF(OR(AND(Excel提出用!$T$40=\"\",Excel提出用!$AR$46=FALSE,Excel提出用!$AR$47=FALSE,Excel提出用!$AR$48=FALSE,Excel提出用!$AR$49=FALSE),AND(Excel提出用!$T$40=\"有\",Excel提出用!$AR$46=FALSE,Excel提出用!$AR$47=FALSE,Excel提出用!$AR$48=FALSE,Excel提出用!$AR$49=FALSE)),999,2))","v":999},{"$f":"IF(AND(EA4=\"\",EB4=\"\"),\"\",IF(AND(EA4=1,EB4=2),1,IF(AND(EA4=2,EB4=1),2,IF(AND(EA4=1,EB4=1),3,IF(AND(EA4=2,EB4=2),4,IF(AND(EA4=999,EB4=999),999))))))","v":999},{"$f":"IF(Excel提出用!H40=\"\",\"\",Excel提出用!H40)","v":""},{"$f":"IF(Excel提出用!F41=\"\",\"\",Excel提出用!F41)","v":""},{"$f":"IF(Excel提出用!Z41=\"\",999,Excel提出用!Z41)","v":999},{"$f":"IF(Excel提出用!M42=\"\",999,IF(Excel提出用!M42=\"有\",1,IF(Excel提出用!M42=\"無\",2)))","v":999},{"$f":"IF(Excel提出用!AG42=\"\",999,IF(Excel提出用!AG42=\"有\",1,IF(Excel提出用!AG42=\"無\",2)))","v":999},{"$f":"IF(AND(Excel提出用!M43=\"\",Excel提出用!Q43=\"\"),999,IF(OR(Excel提出用!M43=\"有\",Excel提出用!Q43<>\"\"),1,IF(Excel提出用!M43=\"無\",2)))","v":999},{"$f":"IF(EI4=999,\"\",IF(AND(Excel提出用!M43=\"有\",Excel提出用!Q43=\"\"),\"記入なし\",Excel提出用!Q43))","v":""},{"$f":"IF(Excel提出用!AG43=\"\",999,IF(Excel提出用!AG43=\"有\",1,IF(Excel提出用!AG43=\"無\",2)))","v":999},{"$f":"IF(Excel提出用!I44=\"\",\"\",Excel提出用!I44)","v":""},{"$f":"IF(Excel提出用!K44=\"\",\"\",Excel提出用!K44)","v":""},{"$f":"IF(Excel提出用!L45=\"\",\"\",Excel提出用!L45)","v":""},{"$f":"IF(Excel提出用!C46=\"\",\"\",Excel提出用!C46)","v":""},{"$f":"IF(Excel提出用!F46=\"\",\"\",Excel提出用!F46)","v":""},{"$f":"IF(Excel提出用!L46=\"\",999,IF(Excel提出用!L46=\"有\",1,IF(Excel提出用!L46=\"無\",2)))","v":999},{"$f":"IF(Excel提出用!E47=\"\",999,IF(Excel提出用!E47=\"昼食+間食\",1,IF(Excel提出用!E47=\"1日\",2,IF(Excel提出用!E47=\"その他\",3))))","v":1},{"$f":"IF(Excel提出用!I47=\"\",\"\",Excel提出用!I47)","v":""},{"$f":"IF(Excel提出用!H49=\"\",\"\",Excel提出用!H49)","v":""},{"$f":"IF(Excel提出用!H50=\"\",\"\",Excel提出用!H50)","v":""},{"$f":"IF(Excel提出用!H51=\"\",\"\",Excel提出用!H51)","v":""},{"$f":"IF(Excel提出用!H52=\"\",\"\",Excel提出用!H52)","v":""},{"$f":"IF(Excel提出用!H53=\"\",\"\",Excel提出用!H53)","v":""},{"$f":"IF(Excel提出用!H54=\"\",\"\",Excel提出用!H54)","v":""},{"$f":"IF(Excel提出用!H55=\"\",\"\",Excel提出用!H55)","v":""},{"$f":"IF(Excel提出用!H56=\"\",\"\",Excel提出用!H56)","v":""},{"$f":"IF(Excel提出用!H57=\"\",\"\",Excel提出用!H57)","v":""},{"$f":"IF(Excel提出用!H58=\"\",\"\",Excel提出用!H58)","v":""},{"$f":"IF(Excel提出用!H59=\"\",\"\",Excel提出用!H59)","v":""},{"$f":"IF(Excel提出用!K49=\"\",\"\",Excel提出用!K49)","v":""},{"$f":"IF(Excel提出用!K50=\"\",\"\",Excel提出用!K50)","v":""},{"$f":"IF(Excel提出用!K51=\"\",\"\",Excel提出用!K51)","v":""},{"$f":"IF(Excel提出用!K52=\"\",\"\",Excel提出用!K52)","v":""},{"$f":"IF(Excel提出用!K53=\"\",\"\",Excel提出用!K53)","v":""},{"$f":"IF(Excel提出用!K54=\"\",\"\",Excel提出用!K54)","v":""},{"$f":"IF(Excel提出用!K55=\"\",\"\",Excel提出用!K55)","v":""},{"$f":"IF(Excel提出用!K56=\"\",\"\",Excel提出用!K56)","v":""},{"$f":"IF(Excel提出用!K57=\"\",\"\",Excel提出用!K57)","v":""},{"$f":"IF(Excel提出用!K58=\"\",\"\",Excel提出用!K58)","v":""},{"$f":"IF(Excel提出用!K59=\"\",\"\",Excel提出用!K59)","v":""},{"$f":"IF(Excel提出用!Z57=\"\",\"\",Excel提出用!Z57)","v":""},{"$f":"IF(Excel提出用!Z58=\"\",\"\",Excel提出用!Z58)","v":""},{"$f":"IF(Excel提出用!Z59=\"\",\"\",Excel提出用!Z59)","v":""},{"$f":"IF(Excel提出用!AF57=\"\",\"\",Excel提出用!AF57)","v":""},{"$f":"IF(Excel提出用!AF58=\"\",\"\",Excel提出用!AF58)","v":""},{"$f":"IF(Excel提出用!AF59=\"\",\"\",Excel提出用!AF59)","v":""},{"$f":"IF(Excel提出用!T46=\"\",0,Excel提出用!T46)","v":0},{"$f":"IF(Excel提出用!T47=\"\",0,Excel提出用!T47)","v":0},{"$f":"IF(Excel提出用!T48=\"\",0,Excel提出用!T48)","v":0},{"$f":"IF(Excel提出用!T49=\"\",0,Excel提出用!T49)","v":0},{"$f":"IF(Excel提出用!T50=\"\",0,Excel提出用!T50)","v":0},{"$f":"IF(Excel提出用!T51=\"\",0,Excel提出用!T51)","v":0},{"$f":"IF(Excel提出用!T52=\"\",0,Excel提出用!T52)","v":0},{"$f":"IF(Excel提出用!T53=\"\",0,Excel提出用!T53)","v":0},{"$f":"IF(Excel提出用!T54=\"\",0,Excel提出用!T54)","v":0},{"$f":"IF(Excel提出用!AF46=\"\",0,Excel提出用!AF46)","v":0},{"$f":"IF(Excel提出用!AF47=\"\",0,Excel提出用!AF47)","v":0},{"$f":"IF(Excel提出用!AF48=\"\",0,Excel提出用!AF48)","v":0},{"$f":"IF(Excel提出用!AF49=\"\",0,Excel提出用!AF49)","v":0},{"$f":"IF(Excel提出用!AF50=\"\",0,Excel提出用!AF50)","v":0},{"$f":"IF(Excel提出用!AF51=\"\",0,Excel提出用!AF51)","v":0},{"$f":"IF(Excel提出用!AF52=\"\",0,Excel提出用!AF52)","v":0},{"$f":"IF(Excel提出用!AF53=\"\",0,Excel提出用!AF53)","v":0},{"$f":"SUM(FV4:GL4)","v":0},{"$f":"IF(Excel提出用!W46=\"\",0,Excel提出用!W46)","v":0},{"$f":"IF(Excel提出用!W47=\"\",0,Excel提出用!W47)","v":0},{"$f":"IF(Excel提出用!W48=\"\",0,Excel提出用!W48)","v":0},{"$f":"IF(Excel提出用!W49=\"\",0,Excel提出用!W49)","v":0},{"$f":"IF(Excel提出用!W50=\"\",0,Excel提出用!W50)","v":0},{"$f":"IF(Excel提出用!W51=\"\",0,Excel提出用!W51)","v":0},{"$f":"IF(Excel提出用!W52=\"\",0,Excel提出用!W52)","v":0},{"$f":"IF(Excel提出用!W53=\"\",0,Excel提出用!W53)","v":0},{"$f":"IF(Excel提出用!W54=\"\",0,Excel提出用!W54)","v":0},{"$f":"IF(Excel提出用!AI46=\"\",0,Excel提出用!AI46)","v":0},{"$f":"IF(Excel提出用!AI47=\"\",0,Excel提出用!AI47)","v":0},{"$f":"IF(Excel提出用!AI48=\"\",0,Excel提出用!AI48)","v":0},{"$f":"IF(Excel提出用!AI49=\"\",0,Excel提出用!AI49)","v":0},{"$f":"IF(Excel提出用!AI50=\"\",0,Excel提出用!AI50)","v":0},{"$f":"IF(Excel提出用!AI51=\"\",0,Excel提出用!AI51)","v":0},{"$f":"IF(Excel提出用!AI52=\"\",0,Excel提出用!AI52)","v":0},{"$f":"IF(Excel提出用!AI53=\"\",0,Excel提出用!AI53)","v":0},{"$f":"SUM(GN4:HD4)","v":0}]
["補足",null,null,null,null,null,null,null,null,null,"Excel台帳とリンクさせるための鍵",null,null,null,null,null,null,null,null,null,null,null,null,"1：児童福祉\n2：幼稚園\n3：認定こども園","1：幼保連携型\n2：幼稚園型\n3：保育園型","転記時等に使用するための空白列",null,null,null,null,null,null,null,null,null,null,null,null,null,null,null,null,null,null,null,null,null,null,null,"1：管栄のみ\n2：管栄・栄両方\n3：栄のみ\n4：両方なし","1：直営\n2：委託",null,null,null,null,"1：有\n2：無\n999：不明",null,"1：有\n2：無\n999：不明",null,"参加なら1","参加なら1","参加なら1","参加なら1","参加なら1","参加なら1","参加なら1","参加なら1","参加なら1","参加なら1","参加なら1","参加なら1","参加なら1","参加なら1","1：1回\n2：2回\n3：3回\n999：不明",null,null,null,null,null,null,null,null,null,null,null,null,null,null,null,null,null,null,null,null,null,null,null,null,null,null,"1：有\n（肥満やせ・アレルギー・年齢性別人数のいずれかに入力がある場合を含む）\n2：無\n999:不明",null,null,"1：有\n2：無\n999:不明","1：有\n2：無\n999:不明",null,null,"1：幼児身長体重曲線あり\n2：その他のみ\n999：不明",null,null,"1：有\n2：無\n999:不明","有れば1","有れば1","有れば1",null,"1：有\n2：無\n999：不明","有れば1","有れば1","有れば1","有れば1","有れば1","有れば1",null,"1：有\n2：無\n999：不明","有れば1","有れば1","有れば1","有れば1",null,"1：有\n2：無\n999：不明","1：有\n2：無\n999：不明","1：有\n2：無\n999：不明","入力不要\n1：献立表のみ\n2：展示のみ\n3：両方\n4：どちらも無\n999：不明\n",null,null,"999：不明","1：有\n2：無\n999：不明","1：有\n2：無\n999：不明","1：有\n2：無\n999：不明",null,"1：有\n2：無\n999：不明",null,null,null,null,null,"1：有\n2：無\n999：不明","1：昼食＋間食\n2：1日\n3：その他"]