{"text_format":"1","workbook":"xlsx","n_sheets":3,"sheets":["陽性者一覧 (記載例)","陽性者一覧","施設聞き取り票"],"not_rendered":{"charts":0,"images":0,"macros":1,"external_links":0,"defined_names":3,"comments":0,"pivot_tables":0},"unopened":[],"bounds":{"document_bytes":16777216,"sheet_cells":100000,"rows_first":2000,"rows_last":500,"rows_between":2000,"halvings":0,"cell_chars":16384,"cell_head_chars":4096},"cells_cut":0,"cells_raw":0,"read":"whole","date_system":"1900"}

{"sheet":"陽性者一覧 (記載例)","index":0,"n_rows":50,"n_cols":11,"rows_kept":50,"cut":false,"hidden":false,"merged":[[4,8,4,9],[0,8,0,9],[1,1,1,9],[3,8,3,9],[3,3,3,6],[14,0,15,0],[14,1,15,1],[14,2,15,2],[14,3,15,3],[14,4,15,4],[14,10,15,10],[14,7,15,7],[6,8,6,9],[14,5,15,5],[14,6,15,6],[10,5,10,9]]}
[null,null,"メール送信先：","syuudan@city.osaka.lg.jp",null,null,null,null,"2022-05-02"]
[null,"陽性者一覧"]
[]
[null,null,"施設名：","特別養護老人ホーム　オオサカ",null,null,null,"施設種別：","特別養護老人ホーム"]
[null,null,null,null,null,null,null,"所在地："]
[]
[null,null,"施設担当者氏名：","大阪　太朗",null,"職名／部署名：","施設長","電話："]
[]
[null,null,"発生範囲（フロア等）：","１０階",null,"施設定員数：",300,"職員総数：",100]
[]
[null,null,"協力医療機関：","大阪〇〇病院",null,"施設内で対応できる医療提供"]
[null,null,null,"〇〇病院",null,"点滴","酸素投与","ステロイド","抗ウイルス剤","中和抗体"]
[null,null,null,null,null,"可","可","可","不可","不可"]
[]
["報告日","番号","氏名","フリガナ","入所者/\n職員別","発症日\n(無症状の場合は検体採取日)","発症時  \n症状等","療養終了\n予定日","療養終了\n(事由)","療養終了\n(日付)","療養終了予定日\n延長(変更)理由"]
[null,null,null,null,null,null,null,null,"事由","日付"]
[null,"番号","氏名","フリガナ","職員・入所者の別","発症日・検体採取日","発症時症状等","療養解除予定日","解除事由","解除日"]
["2023-05-08",1,"大阪　花子",{"$f":"PHONETIC(C18)","v":"オオサカ　ハナコ"},"入所者","2023-05-08","発熱",{"$f":"IF(F18=\"\",\"\",F18+6)","v":"2023-05-14"},"入院","2023-05-08"]
["2023-05-11",2,"大阪　次郎","オオサカ　ジロウ","入所者","2023-05-10","発熱","2023-05-16"]
[null,3,null,"",null,null,null,""]
[null,4,null,"",null,null,null,""]
[null,5,null,"",null,null,null,""]
[null,6,null,"",null,null,null,""]
[null,7,null,"",null,null,null,""]
[null,8,null,"",null,null,null,""]
[null,9,null,"",null,null,null,""]
[null,10,null,"",null,null,null,""]
[null,11,null,"",null,null,null,""]
[null,12,null,"",null,null,null,""]
[null,13,null,"",null,null,null,""]
[null,14,null,"",null,null,null,""]
[null,15,null,"",null,null,null,""]
[null,16,null,"",null,null,null,""]
[null,17,null,"",null,null,null,""]
[null,18,null,"",null,null,null,""]
[null,19,null,"",null,null,null,""]
[null,20,null,"",null,null,null,""]
[null,21,null,"",null,null,null,""]
[null,22,null,"",null,null,null,""]
[null,23,null,"",null,null,null,""]
[null,24,null,"",null,null,null,""]
[null,25,null,"",null,null,null,""]
[null,26,null,"",null,null,null,""]
[null,27,null,"",null,null,null,""]
[null,28,null,"",null,null,null,""]
[null,29,null,"",null,null,null,""]
[null,30,null,"",null,null,null,""]
[null,31,null,{"$f":"PHONETIC(C48)","v":""},null,null,null,""]
[null,32,null,"",null,null,null,""]
[null,33,null,"",null,null,null,""]

{"sheet":"陽性者一覧","index":1,"n_rows":100,"n_cols":14,"rows_kept":100,"cut":false,"hidden":false,"merged":[[0,8,0,9],[7,4,7,5],[5,8,5,9],[4,8,4,9],[1,1,1,9],[3,3,3,6],[3,8,3,9],[9,5,9,9],[13,11,14,11],[13,10,14,10],[13,7,14,7],[13,0,14,0],[13,1,14,1],[13,2,14,2],[13,3,14,3],[13,4,14,4],[13,5,14,5],[13,6,14,6]]}
[null,null,"メール送信先：","syuudan@city.osaka.lg.jp",null,null,null,null,{"$f":"TODAY()","v":"2023-05-29"}]
[null,"陽性者一覧"]
[]
[null,null,"施設名：",null,null,null,null,"施設種別："]
[null,null,null,null,null,null,null,"所在地："]
[null,null,"施設担当者氏名：",null,null,"職名／部署名：",null,"電話："]
[]
[null,null,"発生範囲（フロア等）：",null,"施設定員数：",null,null,"職員総数："]
[]
[null,null,"協力医療機関：",null,null,"施設内で対応できる医療提供"]
[null,null,null,null,null,"点滴","酸素投与","ステロイド","抗ウイルス剤","中和抗体"]
[]
[]
["報告日","番号","氏名","フリガナ","入所者/\n職員別","発症日\n（無症状の場合は検体採取日）","発症時\n症状等","療養終了予定日","療養終了\n(事由)","療養終了\n(日付)","療養終了予定日\n延長(変更)理由"," 終了時記入\n日付/確認者"]
[null,null,null,null,null,null,null,null,"事由","日付"]
[null,"例","大阪　太郎","オオサカ　タロウ","入所者","2023-05-08","発熱","2023-05-14","入院","2023-05-08",null,null,"その他","ステータス"]
[null,"番号","氏名","フリガナ","職員・入所者の別","発症日・検体採取日","発症時症状等","療養解除予定日","解除事由","解除日","列1"]
[null,1,null,{"$f":"PHONETIC(C18)","v":""},null,null,null,{"$f":"IF(陽性者一覧4[[#This Row],[発症日・検体採取日]]=\"\",\"\",陽性者一覧4[[#This Row],[発症日・検体採取日]]+6)","v":""},null,null,null,null,{"$f":"IF(陽性者一覧4[[#This Row],[発症日・検体採取日]]=\"\",\"\",陽性者一覧4[[#This Row],[発症日・検体採取日]]+6)","v":""},{"$f":"IF(陽性者一覧4[[#This Row],[療養解除予定日]]=M18,\"問題なし\",\"齟齬\")","v":"問題なし"}]
[null,2,null,"",null,null,null,{"$f":"IF(陽性者一覧4[[#This Row],[発症日・検体採取日]]=\"\",\"\",陽性者一覧4[[#This Row],[発症日・検体採取日]]+6)","v":""},null,null,null,null,{"$f":"IF(陽性者一覧4[[#This Row],[発症日・検体採取日]]=\"\",\"\",陽性者一覧4[[#This Row],[発症日・検体採取日]]+6)","v":""},{"$f":"IF(陽性者一覧4[[#This Row],[療養解除予定日]]=M19,\"問題なし\",\"齟齬\")","v":"問題なし"}]
[null,3,null,"",null,null,null,{"$f":"IF(陽性者一覧4[[#This Row],[発症日・検体採取日]]=\"\",\"\",陽性者一覧4[[#This Row],[発症日・検体採取日]]+6)","v":""},null,null,null,null,{"$f":"IF(陽性者一覧4[[#This Row],[発症日・検体採取日]]=\"\",\"\",陽性者一覧4[[#This Row],[発症日・検体採取日]]+6)","v":""},{"$f":"IF(陽性者一覧4[[#This Row],[療養解除予定日]]=M20,\"問題なし\",\"齟齬\")","v":"問題なし"}]
[null,4,null,"",null,null,null,{"$f":"IF(陽性者一覧4[[#This Row],[発症日・検体採取日]]=\"\",\"\",陽性者一覧4[[#This Row],[発症日・検体採取日]]+6)","v":""},null,null,null,null,{"$f":"IF(陽性者一覧4[[#This Row],[発症日・検体採取日]]=\"\",\"\",陽性者一覧4[[#This Row],[発症日・検体採取日]]+6)","v":""},{"$f":"IF(陽性者一覧4[[#This Row],[療養解除予定日]]=M21,\"問題なし\",\"齟齬\")","v":"問題なし"}]
[null,5,null,"",null,null,null,{"$f":"IF(陽性者一覧4[[#This Row],[発症日・検体採取日]]=\"\",\"\",陽性者一覧4[[#This Row],[発症日・検体採取日]]+6)","v":""},null,null,null,null,{"$f":"IF(陽性者一覧4[[#This Row],[発症日・検体採取日]]=\"\",\"\",陽性者一覧4[[#This Row],[発症日・検体採取日]]+6)","v":""},{"$f":"IF(陽性者一覧4[[#This Row],[療養解除予定日]]=M22,\"問題なし\",\"齟齬\")","v":"問題なし"}]
[null,6,null,"",null,null,null,{"$f":"IF(陽性者一覧4[[#This Row],[発症日・検体採取日]]=\"\",\"\",陽性者一覧4[[#This Row],[発症日・検体採取日]]+6)","v":""},null,null,null,null,{"$f":"IF(陽性者一覧4[[#This Row],[発症日・検体採取日]]=\"\",\"\",陽性者一覧4[[#This Row],[発症日・検体採取日]]+6)","v":""},{"$f":"IF(陽性者一覧4[[#This Row],[療養解除予定日]]=M23,\"問題なし\",\"齟齬\")","v":"問題なし"}]
[null,7,null,"",null,null,null,{"$f":"IF(陽性者一覧4[[#This Row],[発症日・検体採取日]]=\"\",\"\",陽性者一覧4[[#This Row],[発症日・検体採取日]]+6)","v":""},null,null,null,null,{"$f":"IF(陽性者一覧4[[#This Row],[発症日・検体採取日]]=\"\",\"\",陽性者一覧4[[#This Row],[発症日・検体採取日]]+6)","v":""},{"$f":"IF(陽性者一覧4[[#This Row],[療養解除予定日]]=M24,\"問題なし\",\"齟齬\")","v":"問題なし"}]
[null,8,null,"",null,null,null,{"$f":"IF(陽性者一覧4[[#This Row],[発症日・検体採取日]]=\"\",\"\",陽性者一覧4[[#This Row],[発症日・検体採取日]]+6)","v":""},null,null,null,null,{"$f":"IF(陽性者一覧4[[#This Row],[発症日・検体採取日]]=\"\",\"\",陽性者一覧4[[#This Row],[発症日・検体採取日]]+6)","v":""},{"$f":"IF(陽性者一覧4[[#This Row],[療養解除予定日]]=M25,\"問題なし\",\"齟齬\")","v":"問題なし"}]
[null,9,null,"",null,null,null,{"$f":"IF(陽性者一覧4[[#This Row],[発症日・検体採取日]]=\"\",\"\",陽性者一覧4[[#This Row],[発症日・検体採取日]]+6)","v":""},null,null,null,null,{"$f":"IF(陽性者一覧4[[#This Row],[発症日・検体採取日]]=\"\",\"\",陽性者一覧4[[#This Row],[発症日・検体採取日]]+6)","v":""},{"$f":"IF(陽性者一覧4[[#This Row],[療養解除予定日]]=M26,\"問題なし\",\"齟齬\")","v":"問題なし"}]
[null,10,null,"",null,null,null,{"$f":"IF(陽性者一覧4[[#This Row],[発症日・検体採取日]]=\"\",\"\",陽性者一覧4[[#This Row],[発症日・検体採取日]]+6)","v":""},null,null,null,null,{"$f":"IF(陽性者一覧4[[#This Row],[発症日・検体採取日]]=\"\",\"\",陽性者一覧4[[#This Row],[発症日・検体採取日]]+6)","v":""},{"$f":"IF(陽性者一覧4[[#This Row],[療養解除予定日]]=M27,\"問題なし\",\"齟齬\")","v":"問題なし"}]
[null,11,null,"",null,null,null,{"$f":"IF(陽性者一覧4[[#This Row],[発症日・検体採取日]]=\"\",\"\",陽性者一覧4[[#This Row],[発症日・検体採取日]]+6)","v":""},null,null,null,null,{"$f":"IF(陽性者一覧4[[#This Row],[発症日・検体採取日]]=\"\",\"\",陽性者一覧4[[#This Row],[発症日・検体採取日]]+6)","v":""},{"$f":"IF(陽性者一覧4[[#This Row],[療養解除予定日]]=M28,\"問題なし\",\"齟齬\")","v":"問題なし"}]
[null,12,null,"",null,null,null,{"$f":"IF(陽性者一覧4[[#This Row],[発症日・検体採取日]]=\"\",\"\",陽性者一覧4[[#This Row],[発症日・検体採取日]]+6)","v":""},null,null,null,null,{"$f":"IF(陽性者一覧4[[#This Row],[発症日・検体採取日]]=\"\",\"\",陽性者一覧4[[#This Row],[発症日・検体採取日]]+6)","v":""},{"$f":"IF(陽性者一覧4[[#This Row],[療養解除予定日]]=M29,\"問題なし\",\"齟齬\")","v":"問題なし"}]
[null,13,null,"",null,null,null,{"$f":"IF(陽性者一覧4[[#This Row],[発症日・検体採取日]]=\"\",\"\",陽性者一覧4[[#This Row],[発症日・検体採取日]]+6)","v":""},null,null,null,null,{"$f":"IF(陽性者一覧4[[#This Row],[発症日・検体採取日]]=\"\",\"\",陽性者一覧4[[#This Row],[発症日・検体採取日]]+6)","v":""},{"$f":"IF(陽性者一覧4[[#This Row],[療養解除予定日]]=M30,\"問題なし\",\"齟齬\")","v":"問題なし"}]
[null,14,null,"",null,null,null,{"$f":"IF(陽性者一覧4[[#This Row],[発症日・検体採取日]]=\"\",\"\",陽性者一覧4[[#This Row],[発症日・検体採取日]]+6)","v":""},null,null,null,null,{"$f":"IF(陽性者一覧4[[#This Row],[発症日・検体採取日]]=\"\",\"\",陽性者一覧4[[#This Row],[発症日・検体採取日]]+6)","v":""},{"$f":"IF(陽性者一覧4[[#This Row],[療養解除予定日]]=M31,\"問題なし\",\"齟齬\")","v":"問題なし"}]
[null,15,null,"",null,null,null,{"$f":"IF(陽性者一覧4[[#This Row],[発症日・検体採取日]]=\"\",\"\",陽性者一覧4[[#This Row],[発症日・検体採取日]]+6)","v":""},null,null,null,null,{"$f":"IF(陽性者一覧4[[#This Row],[発症日・検体採取日]]=\"\",\"\",陽性者一覧4[[#This Row],[発症日・検体採取日]]+6)","v":""},{"$f":"IF(陽性者一覧4[[#This Row],[療養解除予定日]]=M32,\"問題なし\",\"齟齬\")","v":"問題なし"}]
[null,16,null,"",null,null,null,{"$f":"IF(陽性者一覧4[[#This Row],[発症日・検体採取日]]=\"\",\"\",陽性者一覧4[[#This Row],[発症日・検体採取日]]+6)","v":""},null,null,null,null,{"$f":"IF(陽性者一覧4[[#This Row],[発症日・検体採取日]]=\"\",\"\",陽性者一覧4[[#This Row],[発症日・検体採取日]]+6)","v":""},{"$f":"IF(陽性者一覧4[[#This Row],[療養解除予定日]]=M33,\"問題なし\",\"齟齬\")","v":"問題なし"}]
[null,17,null,"",null,null,null,{"$f":"IF(陽性者一覧4[[#This Row],[発症日・検体採取日]]=\"\",\"\",陽性者一覧4[[#This Row],[発症日・検体採取日]]+6)","v":""},null,null,null,null,{"$f":"IF(陽性者一覧4[[#This Row],[発症日・検体採取日]]=\"\",\"\",陽性者一覧4[[#This Row],[発症日・検体採取日]]+6)","v":""},{"$f":"IF(陽性者一覧4[[#This Row],[療養解除予定日]]=M34,\"問題なし\",\"齟齬\")","v":"問題なし"}]
[null,18,null,"",null,null,null,{"$f":"IF(陽性者一覧4[[#This Row],[発症日・検体採取日]]=\"\",\"\",陽性者一覧4[[#This Row],[発症日・検体採取日]]+6)","v":""},null,null,null,null,{"$f":"IF(陽性者一覧4[[#This Row],[発症日・検体採取日]]=\"\",\"\",陽性者一覧4[[#This Row],[発症日・検体採取日]]+6)","v":""},{"$f":"IF(陽性者一覧4[[#This Row],[療養解除予定日]]=M35,\"問題なし\",\"齟齬\")","v":"問題なし"}]
[null,19,null,"",null,null,null,{"$f":"IF(陽性者一覧4[[#This Row],[発症日・検体採取日]]=\"\",\"\",陽性者一覧4[[#This Row],[発症日・検体採取日]]+6)","v":""},null,null,null,null,{"$f":"IF(陽性者一覧4[[#This Row],[発症日・検体採取日]]=\"\",\"\",陽性者一覧4[[#This Row],[発症日・検体採取日]]+6)","v":""},{"$f":"IF(陽性者一覧4[[#This Row],[療養解除予定日]]=M36,\"問題なし\",\"齟齬\")","v":"問題なし"}]
[null,20,null,"",null,null,null,{"$f":"IF(陽性者一覧4[[#This Row],[発症日・検体採取日]]=\"\",\"\",陽性者一覧4[[#This Row],[発症日・検体採取日]]+6)","v":""},null,null,null,null,{"$f":"IF(陽性者一覧4[[#This Row],[発症日・検体採取日]]=\"\",\"\",陽性者一覧4[[#This Row],[発症日・検体採取日]]+6)","v":""},{"$f":"IF(陽性者一覧4[[#This Row],[療養解除予定日]]=M37,\"問題なし\",\"齟齬\")","v":"問題なし"}]
[null,21,null,"",null,null,null,{"$f":"IF(陽性者一覧4[[#This Row],[発症日・検体採取日]]=\"\",\"\",陽性者一覧4[[#This Row],[発症日・検体採取日]]+6)","v":""},null,null,null,null,{"$f":"IF(陽性者一覧4[[#This Row],[発症日・検体採取日]]=\"\",\"\",陽性者一覧4[[#This Row],[発症日・検体採取日]]+6)","v":""},{"$f":"IF(陽性者一覧4[[#This Row],[療養解除予定日]]=M38,\"問題なし\",\"齟齬\")","v":"問題なし"}]
[null,22,null,"",null,null,null,{"$f":"IF(陽性者一覧4[[#This Row],[発症日・検体採取日]]=\"\",\"\",陽性者一覧4[[#This Row],[発症日・検体採取日]]+6)","v":""},null,null,null,null,{"$f":"IF(陽性者一覧4[[#This Row],[発症日・検体採取日]]=\"\",\"\",陽性者一覧4[[#This Row],[発症日・検体採取日]]+6)","v":""},{"$f":"IF(陽性者一覧4[[#This Row],[療養解除予定日]]=M39,\"問題なし\",\"齟齬\")","v":"問題なし"}]
[null,23,null,"",null,null,null,{"$f":"IF(陽性者一覧4[[#This Row],[発症日・検体採取日]]=\"\",\"\",陽性者一覧4[[#This Row],[発症日・検体採取日]]+6)","v":""},null,null,null,null,{"$f":"IF(陽性者一覧4[[#This Row],[発症日・検体採取日]]=\"\",\"\",陽性者一覧4[[#This Row],[発症日・検体採取日]]+6)","v":""},{"$f":"IF(陽性者一覧4[[#This Row],[療養解除予定日]]=M40,\"問題なし\",\"齟齬\")","v":"問題なし"}]
[null,24,null,"",null,null,null,{"$f":"IF(陽性者一覧4[[#This Row],[発症日・検体採取日]]=\"\",\"\",陽性者一覧4[[#This Row],[発症日・検体採取日]]+6)","v":""},null,null,null,null,{"$f":"IF(陽性者一覧4[[#This Row],[発症日・検体採取日]]=\"\",\"\",陽性者一覧4[[#This Row],[発症日・検体採取日]]+6)","v":""},{"$f":"IF(陽性者一覧4[[#This Row],[療養解除予定日]]=M41,\"問題なし\",\"齟齬\")","v":"問題なし"}]
[null,25,null,"",null,null,null,{"$f":"IF(陽性者一覧4[[#This Row],[発症日・検体採取日]]=\"\",\"\",陽性者一覧4[[#This Row],[発症日・検体採取日]]+6)","v":""},null,null,null,null,{"$f":"IF(陽性者一覧4[[#This Row],[発症日・検体採取日]]=\"\",\"\",陽性者一覧4[[#This Row],[発症日・検体採取日]]+6)","v":""},{"$f":"IF(陽性者一覧4[[#This Row],[療養解除予定日]]=M42,\"問題なし\",\"齟齬\")","v":"問題なし"}]
[null,26,null,"",null,null,null,{"$f":"IF(陽性者一覧4[[#This Row],[発症日・検体採取日]]=\"\",\"\",陽性者一覧4[[#This Row],[発症日・検体採取日]]+6)","v":""},null,null,null,null,{"$f":"IF(陽性者一覧4[[#This Row],[発症日・検体採取日]]=\"\",\"\",陽性者一覧4[[#This Row],[発症日・検体採取日]]+6)","v":""},{"$f":"IF(陽性者一覧4[[#This Row],[療養解除予定日]]=M43,\"問題なし\",\"齟齬\")","v":"問題なし"}]
[null,27,null,"",null,null,null,{"$f":"IF(陽性者一覧4[[#This Row],[発症日・検体採取日]]=\"\",\"\",陽性者一覧4[[#This Row],[発症日・検体採取日]]+6)","v":""},null,null,null,null,{"$f":"IF(陽性者一覧4[[#This Row],[発症日・検体採取日]]=\"\",\"\",陽性者一覧4[[#This Row],[発症日・検体採取日]]+6)","v":""},{"$f":"IF(陽性者一覧4[[#This Row],[療養解除予定日]]=M44,\"問題なし\",\"齟齬\")","v":"問題なし"}]
[null,28,null,"",null,null,null,{"$f":"IF(陽性者一覧4[[#This Row],[発症日・検体採取日]]=\"\",\"\",陽性者一覧4[[#This Row],[発症日・検体採取日]]+6)","v":""},null,null,null,null,{"$f":"IF(陽性者一覧4[[#This Row],[発症日・検体採取日]]=\"\",\"\",陽性者一覧4[[#This Row],[発症日・検体採取日]]+6)","v":""},{"$f":"IF(陽性者一覧4[[#This Row],[療養解除予定日]]=M45,\"問題なし\",\"齟齬\")","v":"問題なし"}]
[null,29,null,"",null,null,null,{"$f":"IF(陽性者一覧4[[#This Row],[発症日・検体採取日]]=\"\",\"\",陽性者一覧4[[#This Row],[発症日・検体採取日]]+6)","v":""},null,null,null,null,{"$f":"IF(陽性者一覧4[[#This Row],[発症日・検体採取日]]=\"\",\"\",陽性者一覧4[[#This Row],[発症日・検体採取日]]+6)","v":""},{"$f":"IF(陽性者一覧4[[#This Row],[療養解除予定日]]=M46,\"問題なし\",\"齟齬\")","v":"問題なし"}]
[null,30,null,"",null,null,null,{"$f":"IF(陽性者一覧4[[#This Row],[発症日・検体採取日]]=\"\",\"\",陽性者一覧4[[#This Row],[発症日・検体採取日]]+6)","v":""},null,null,null,null,{"$f":"IF(陽性者一覧4[[#This Row],[発症日・検体採取日]]=\"\",\"\",陽性者一覧4[[#This Row],[発症日・検体採取日]]+6)","v":""},{"$f":"IF(陽性者一覧4[[#This Row],[療養解除予定日]]=M47,\"問題なし\",\"齟齬\")","v":"問題なし"}]
[null,31,null,{"$f":"PHONETIC(C48)","v":""},null,null,null,{"$f":"IF(陽性者一覧4[[#This Row],[発症日・検体採取日]]=\"\",\"\",陽性者一覧4[[#This Row],[発症日・検体採取日]]+6)","v":""},null,null,null,null,{"$f":"IF(陽性者一覧4[[#This Row],[発症日・検体採取日]]=\"\",\"\",陽性者一覧4[[#This Row],[発症日・検体採取日]]+6)","v":""},{"$f":"IF(陽性者一覧4[[#This Row],[療養解除予定日]]=M48,\"問題なし\",\"齟齬\")","v":"問題なし"}]
[null,32,null,"",null,null,null,{"$f":"IF(陽性者一覧4[[#This Row],[発症日・検体採取日]]=\"\",\"\",陽性者一覧4[[#This Row],[発症日・検体採取日]]+6)","v":""},null,null,null,null,{"$f":"IF(陽性者一覧4[[#This Row],[発症日・検体採取日]]=\"\",\"\",陽性者一覧4[[#This Row],[発症日・検体採取日]]+6)","v":""},{"$f":"IF(陽性者一覧4[[#This Row],[療養解除予定日]]=M49,\"問題なし\",\"齟齬\")","v":"問題なし"}]
[null,33,null,"",null,null,null,{"$f":"IF(陽性者一覧4[[#This Row],[発症日・検体採取日]]=\"\",\"\",陽性者一覧4[[#This Row],[発症日・検体採取日]]+6)","v":""},null,null,null,null,{"$f":"IF(陽性者一覧4[[#This Row],[発症日・検体採取日]]=\"\",\"\",陽性者一覧4[[#This Row],[発症日・検体採取日]]+6)","v":""},{"$f":"IF(陽性者一覧4[[#This Row],[療養解除予定日]]=M50,\"問題なし\",\"齟齬\")","v":"問題なし"}]
[null,34,null,"",null,null,null,{"$f":"IF(陽性者一覧4[[#This Row],[発症日・検体採取日]]=\"\",\"\",陽性者一覧4[[#This Row],[発症日・検体採取日]]+6)","v":""},null,null,null,null,{"$f":"IF(陽性者一覧4[[#This Row],[発症日・検体採取日]]=\"\",\"\",陽性者一覧4[[#This Row],[発症日・検体採取日]]+6)","v":""},{"$f":"IF(陽性者一覧4[[#This Row],[療養解除予定日]]=M51,\"問題なし\",\"齟齬\")","v":"問題なし"}]
[null,35,null,"",null,null,null,{"$f":"IF(陽性者一覧4[[#This Row],[発症日・検体採取日]]=\"\",\"\",陽性者一覧4[[#This Row],[発症日・検体採取日]]+6)","v":""},null,null,null,null,{"$f":"IF(陽性者一覧4[[#This Row],[発症日・検体採取日]]=\"\",\"\",陽性者一覧4[[#This Row],[発症日・検体採取日]]+6)","v":""},{"$f":"IF(陽性者一覧4[[#This Row],[療養解除予定日]]=M52,\"問題なし\",\"齟齬\")","v":"問題なし"}]
[null,36,null,"",null,null,null,{"$f":"IF(陽性者一覧4[[#This Row],[発症日・検体採取日]]=\"\",\"\",陽性者一覧4[[#This Row],[発症日・検体採取日]]+6)","v":""},null,null,null,null,{"$f":"IF(陽性者一覧4[[#This Row],[発症日・検体採取日]]=\"\",\"\",陽性者一覧4[[#This Row],[発症日・検体採取日]]+6)","v":""},{"$f":"IF(陽性者一覧4[[#This Row],[療養解除予定日]]=M53,\"問題なし\",\"齟齬\")","v":"問題なし"}]
[null,37,null,"",null,null,null,{"$f":"IF(陽性者一覧4[[#This Row],[発症日・検体採取日]]=\"\",\"\",陽性者一覧4[[#This Row],[発症日・検体採取日]]+6)","v":""},null,null,null,null,{"$f":"IF(陽性者一覧4[[#This Row],[発症日・検体採取日]]=\"\",\"\",陽性者一覧4[[#This Row],[発症日・検体採取日]]+6)","v":""},{"$f":"IF(陽性者一覧4[[#This Row],[療養解除予定日]]=M54,\"問題なし\",\"齟齬\")","v":"問題なし"}]
[null,38,null,"",null,null,null,{"$f":"IF(陽性者一覧4[[#This Row],[発症日・検体採取日]]=\"\",\"\",陽性者一覧4[[#This Row],[発症日・検体採取日]]+6)","v":""},null,null,null,null,{"$f":"IF(陽性者一覧4[[#This Row],[発症日・検体採取日]]=\"\",\"\",陽性者一覧4[[#This Row],[発症日・検体採取日]]+6)","v":""},{"$f":"IF(陽性者一覧4[[#This Row],[療養解除予定日]]=M55,\"問題なし\",\"齟齬\")","v":"問題なし"}]
[null,39,null,"",null,null,null,{"$f":"IF(陽性者一覧4[[#This Row],[発症日・検体採取日]]=\"\",\"\",陽性者一覧4[[#This Row],[発症日・検体採取日]]+6)","v":""},null,null,null,null,{"$f":"IF(陽性者一覧4[[#This Row],[発症日・検体採取日]]=\"\",\"\",陽性者一覧4[[#This Row],[発症日・検体採取日]]+6)","v":""},{"$f":"IF(陽性者一覧4[[#This Row],[療養解除予定日]]=M56,\"問題なし\",\"齟齬\")","v":"問題なし"}]
[null,40,null,"",null,null,null,{"$f":"IF(陽性者一覧4[[#This Row],[発症日・検体採取日]]=\"\",\"\",陽性者一覧4[[#This Row],[発症日・検体採取日]]+6)","v":""},null,null,null,null,{"$f":"IF(陽性者一覧4[[#This Row],[発症日・検体採取日]]=\"\",\"\",陽性者一覧4[[#This Row],[発症日・検体採取日]]+6)","v":""},{"$f":"IF(陽性者一覧4[[#This Row],[療養解除予定日]]=M57,\"問題なし\",\"齟齬\")","v":"問題なし"}]
[null,41,null,"",null,null,null,{"$f":"IF(陽性者一覧4[[#This Row],[発症日・検体採取日]]=\"\",\"\",陽性者一覧4[[#This Row],[発症日・検体採取日]]+6)","v":""},null,null,null,null,{"$f":"IF(陽性者一覧4[[#This Row],[発症日・検体採取日]]=\"\",\"\",陽性者一覧4[[#This Row],[発症日・検体採取日]]+6)","v":""},{"$f":"IF(陽性者一覧4[[#This Row],[療養解除予定日]]=M58,\"問題なし\",\"齟齬\")","v":"問題なし"}]
[null,42,null,"",null,null,null,{"$f":"IF(陽性者一覧4[[#This Row],[発症日・検体採取日]]=\"\",\"\",陽性者一覧4[[#This Row],[発症日・検体採取日]]+6)","v":""},null,null,null,null,{"$f":"IF(陽性者一覧4[[#This Row],[発症日・検体採取日]]=\"\",\"\",陽性者一覧4[[#This Row],[発症日・検体採取日]]+6)","v":""},{"$f":"IF(陽性者一覧4[[#This Row],[療養解除予定日]]=M59,\"問題なし\",\"齟齬\")","v":"問題なし"}]
[null,43,null,"",null,null,null,{"$f":"IF(陽性者一覧4[[#This Row],[発症日・検体採取日]]=\"\",\"\",陽性者一覧4[[#This Row],[発症日・検体採取日]]+6)","v":""},null,null,null,null,{"$f":"IF(陽性者一覧4[[#This Row],[発症日・検体採取日]]=\"\",\"\",陽性者一覧4[[#This Row],[発症日・検体採取日]]+6)","v":""},{"$f":"IF(陽性者一覧4[[#This Row],[療養解除予定日]]=M60,\"問題なし\",\"齟齬\")","v":"問題なし"}]
[null,44,null,"",null,null,null,{"$f":"IF(陽性者一覧4[[#This Row],[発症日・検体採取日]]=\"\",\"\",陽性者一覧4[[#This Row],[発症日・検体採取日]]+6)","v":""},null,null,null,null,{"$f":"IF(陽性者一覧4[[#This Row],[発症日・検体採取日]]=\"\",\"\",陽性者一覧4[[#This Row],[発症日・検体採取日]]+6)","v":""},{"$f":"IF(陽性者一覧4[[#This Row],[療養解除予定日]]=M61,\"問題なし\",\"齟齬\")","v":"問題なし"}]
[null,45,null,"",null,null,null,{"$f":"IF(陽性者一覧4[[#This Row],[発症日・検体採取日]]=\"\",\"\",陽性者一覧4[[#This Row],[発症日・検体採取日]]+6)","v":""},null,null,null,null,{"$f":"IF(陽性者一覧4[[#This Row],[発症日・検体採取日]]=\"\",\"\",陽性者一覧4[[#This Row],[発症日・検体採取日]]+6)","v":""},{"$f":"IF(陽性者一覧4[[#This Row],[療養解除予定日]]=M62,\"問題なし\",\"齟齬\")","v":"問題なし"}]
[null,46,null,"",null,null,null,{"$f":"IF(陽性者一覧4[[#This Row],[発症日・検体採取日]]=\"\",\"\",陽性者一覧4[[#This Row],[発症日・検体採取日]]+6)","v":""},null,null,null,null,{"$f":"IF(陽性者一覧4[[#This Row],[発症日・検体採取日]]=\"\",\"\",陽性者一覧4[[#This Row],[発症日・検体採取日]]+6)","v":""},{"$f":"IF(陽性者一覧4[[#This Row],[療養解除予定日]]=M63,\"問題なし\",\"齟齬\")","v":"問題なし"}]
[null,47,null,"",null,null,null,{"$f":"IF(陽性者一覧4[[#This Row],[発症日・検体採取日]]=\"\",\"\",陽性者一覧4[[#This Row],[発症日・検体採取日]]+6)","v":""},null,null,null,null,{"$f":"IF(陽性者一覧4[[#This Row],[発症日・検体採取日]]=\"\",\"\",陽性者一覧4[[#This Row],[発症日・検体採取日]]+6)","v":""},{"$f":"IF(陽性者一覧4[[#This Row],[療養解除予定日]]=M64,\"問題なし\",\"齟齬\")","v":"問題なし"}]
[null,48,null,"",null,null,null,{"$f":"IF(陽性者一覧4[[#This Row],[発症日・検体採取日]]=\"\",\"\",陽性者一覧4[[#This Row],[発症日・検体採取日]]+6)","v":""},null,null,null,null,{"$f":"IF(陽性者一覧4[[#This Row],[発症日・検体採取日]]=\"\",\"\",陽性者一覧4[[#This Row],[発症日・検体採取日]]+6)","v":""},{"$f":"IF(陽性者一覧4[[#This Row],[療養解除予定日]]=M65,\"問題なし\",\"齟齬\")","v":"問題なし"}]
[null,49,null,"",null,null,null,{"$f":"IF(陽性者一覧4[[#This Row],[発症日・検体採取日]]=\"\",\"\",陽性者一覧4[[#This Row],[発症日・検体採取日]]+6)","v":""},null,null,null,null,{"$f":"IF(陽性者一覧4[[#This Row],[発症日・検体採取日]]=\"\",\"\",陽性者一覧4[[#This Row],[発症日・検体採取日]]+6)","v":""},{"$f":"IF(陽性者一覧4[[#This Row],[療養解除予定日]]=M66,\"問題なし\",\"齟齬\")","v":"問題なし"}]
[null,50,null,"",null,null,null,{"$f":"IF(陽性者一覧4[[#This Row],[発症日・検体採取日]]=\"\",\"\",陽性者一覧4[[#This Row],[発症日・検体採取日]]+6)","v":""},null,null,null,null,{"$f":"IF(陽性者一覧4[[#This Row],[発症日・検体採取日]]=\"\",\"\",陽性者一覧4[[#This Row],[発症日・検体採取日]]+6)","v":""},{"$f":"IF(陽性者一覧4[[#This Row],[療養解除予定日]]=M67,\"問題なし\",\"齟齬\")","v":"問題なし"}]
[null,51,null,{"$f":"PHONETIC(C68)","v":""},null,null,null,{"$f":"IF(陽性者一覧4[[#This Row],[発症日・検体採取日]]=\"\",\"\",陽性者一覧4[[#This Row],[発症日・検体採取日]]+6)","v":""},null,null,null,null,{"$f":"IF(陽性者一覧4[[#This Row],[発症日・検体採取日]]=\"\",\"\",陽性者一覧4[[#This Row],[発症日・検体採取日]]+6)","v":""},{"$f":"IF(陽性者一覧4[[#This Row],[療養解除予定日]]=M68,\"問題なし\",\"齟齬\")","v":"問題なし"}]
[null,52,null,"",null,null,null,{"$f":"IF(陽性者一覧4[[#This Row],[発症日・検体採取日]]=\"\",\"\",陽性者一覧4[[#This Row],[発症日・検体採取日]]+6)","v":""},null,null,null,null,{"$f":"IF(陽性者一覧4[[#This Row],[発症日・検体採取日]]=\"\",\"\",陽性者一覧4[[#This Row],[発症日・検体採取日]]+6)","v":""},{"$f":"IF(陽性者一覧4[[#This Row],[療養解除予定日]]=M69,\"問題なし\",\"齟齬\")","v":"問題なし"}]
[null,53,null,"",null,null,null,{"$f":"IF(陽性者一覧4[[#This Row],[発症日・検体採取日]]=\"\",\"\",陽性者一覧4[[#This Row],[発症日・検体採取日]]+6)","v":""},null,null,null,null,{"$f":"IF(陽性者一覧4[[#This Row],[発症日・検体採取日]]=\"\",\"\",陽性者一覧4[[#This Row],[発症日・検体採取日]]+6)","v":""},{"$f":"IF(陽性者一覧4[[#This Row],[療養解除予定日]]=M70,\"問題なし\",\"齟齬\")","v":"問題なし"}]
[null,54,null,"",null,null,null,{"$f":"IF(陽性者一覧4[[#This Row],[発症日・検体採取日]]=\"\",\"\",陽性者一覧4[[#This Row],[発症日・検体採取日]]+6)","v":""},null,null,null,null,{"$f":"IF(陽性者一覧4[[#This Row],[発症日・検体採取日]]=\"\",\"\",陽性者一覧4[[#This Row],[発症日・検体採取日]]+6)","v":""},{"$f":"IF(陽性者一覧4[[#This Row],[療養解除予定日]]=M71,\"問題なし\",\"齟齬\")","v":"問題なし"}]
[null,55,null,"",null,null,null,{"$f":"IF(陽性者一覧4[[#This Row],[発症日・検体採取日]]=\"\",\"\",陽性者一覧4[[#This Row],[発症日・検体採取日]]+6)","v":""},null,null,null,null,{"$f":"IF(陽性者一覧4[[#This Row],[発症日・検体採取日]]=\"\",\"\",陽性者一覧4[[#This Row],[発症日・検体採取日]]+6)","v":""},{"$f":"IF(陽性者一覧4[[#This Row],[療養解除予定日]]=M72,\"問題なし\",\"齟齬\")","v":"問題なし"}]
[null,56,null,"",null,null,null,{"$f":"IF(陽性者一覧4[[#This Row],[発症日・検体採取日]]=\"\",\"\",陽性者一覧4[[#This Row],[発症日・検体採取日]]+6)","v":""},null,null,null,null,{"$f":"IF(陽性者一覧4[[#This Row],[発症日・検体採取日]]=\"\",\"\",陽性者一覧4[[#This Row],[発症日・検体採取日]]+6)","v":""},{"$f":"IF(陽性者一覧4[[#This Row],[療養解除予定日]]=M73,\"問題なし\",\"齟齬\")","v":"問題なし"}]
[null,57,null,"",null,null,null,{"$f":"IF(陽性者一覧4[[#This Row],[発症日・検体採取日]]=\"\",\"\",陽性者一覧4[[#This Row],[発症日・検体採取日]]+6)","v":""},null,null,null,null,{"$f":"IF(陽性者一覧4[[#This Row],[発症日・検体採取日]]=\"\",\"\",陽性者一覧4[[#This Row],[発症日・検体採取日]]+6)","v":""},{"$f":"IF(陽性者一覧4[[#This Row],[療養解除予定日]]=M74,\"問題なし\",\"齟齬\")","v":"問題なし"}]
[null,58,null,"",null,null,null,{"$f":"IF(陽性者一覧4[[#This Row],[発症日・検体採取日]]=\"\",\"\",陽性者一覧4[[#This Row],[発症日・検体採取日]]+6)","v":""},null,null,null,null,{"$f":"IF(陽性者一覧4[[#This Row],[発症日・検体採取日]]=\"\",\"\",陽性者一覧4[[#This Row],[発症日・検体採取日]]+6)","v":""},{"$f":"IF(陽性者一覧4[[#This Row],[療養解除予定日]]=M75,\"問題なし\",\"齟齬\")","v":"問題なし"}]
[null,59,null,"",null,null,null,{"$f":"IF(陽性者一覧4[[#This Row],[発症日・検体採取日]]=\"\",\"\",陽性者一覧4[[#This Row],[発症日・検体採取日]]+6)","v":""},null,null,null,null,{"$f":"IF(陽性者一覧4[[#This Row],[発症日・検体採取日]]=\"\",\"\",陽性者一覧4[[#This Row],[発症日・検体採取日]]+6)","v":""},{"$f":"IF(陽性者一覧4[[#This Row],[療養解除予定日]]=M76,\"問題なし\",\"齟齬\")","v":"問題なし"}]
[null,60,null,"",null,null,null,{"$f":"IF(陽性者一覧4[[#This Row],[発症日・検体採取日]]=\"\",\"\",陽性者一覧4[[#This Row],[発症日・検体採取日]]+6)","v":""},null,null,null,null,{"$f":"IF(陽性者一覧4[[#This Row],[発症日・検体採取日]]=\"\",\"\",陽性者一覧4[[#This Row],[発症日・検体採取日]]+6)","v":""},{"$f":"IF(陽性者一覧4[[#This Row],[療養解除予定日]]=M77,\"問題なし\",\"齟齬\")","v":"問題なし"}]
[null,61,null,"",null,null,null,{"$f":"IF(陽性者一覧4[[#This Row],[発症日・検体採取日]]=\"\",\"\",陽性者一覧4[[#This Row],[発症日・検体採取日]]+6)","v":""},null,null,null,null,{"$f":"IF(陽性者一覧4[[#This Row],[発症日・検体採取日]]=\"\",\"\",陽性者一覧4[[#This Row],[発症日・検体採取日]]+6)","v":""},{"$f":"IF(陽性者一覧4[[#This Row],[療養解除予定日]]=M78,\"問題なし\",\"齟齬\")","v":"問題なし"}]
[null,62,null,"",null,null,null,{"$f":"IF(陽性者一覧4[[#This Row],[発症日・検体採取日]]=\"\",\"\",陽性者一覧4[[#This Row],[発症日・検体採取日]]+6)","v":""},null,null,null,null,{"$f":"IF(陽性者一覧4[[#This Row],[発症日・検体採取日]]=\"\",\"\",陽性者一覧4[[#This Row],[発症日・検体採取日]]+6)","v":""},{"$f":"IF(陽性者一覧4[[#This Row],[療養解除予定日]]=M79,\"問題なし\",\"齟齬\")","v":"問題なし"}]
[null,63,null,"",null,null,null,{"$f":"IF(陽性者一覧4[[#This Row],[発症日・検体採取日]]=\"\",\"\",陽性者一覧4[[#This Row],[発症日・検体採取日]]+6)","v":""},null,null,null,null,{"$f":"IF(陽性者一覧4[[#This Row],[発症日・検体採取日]]=\"\",\"\",陽性者一覧4[[#This Row],[発症日・検体採取日]]+6)","v":""},{"$f":"IF(陽性者一覧4[[#This Row],[療養解除予定日]]=M80,\"問題なし\",\"齟齬\")","v":"問題なし"}]
[null,64,null,"",null,null,null,{"$f":"IF(陽性者一覧4[[#This Row],[発症日・検体採取日]]=\"\",\"\",陽性者一覧4[[#This Row],[発症日・検体採取日]]+6)","v":""},null,null,null,null,{"$f":"IF(陽性者一覧4[[#This Row],[発症日・検体採取日]]=\"\",\"\",陽性者一覧4[[#This Row],[発症日・検体採取日]]+6)","v":""},{"$f":"IF(陽性者一覧4[[#This Row],[療養解除予定日]]=M81,\"問題なし\",\"齟齬\")","v":"問題なし"}]
[null,65,null,"",null,null,null,{"$f":"IF(陽性者一覧4[[#This Row],[発症日・検体採取日]]=\"\",\"\",陽性者一覧4[[#This Row],[発症日・検体採取日]]+6)","v":""},null,null,null,null,{"$f":"IF(陽性者一覧4[[#This Row],[発症日・検体採取日]]=\"\",\"\",陽性者一覧4[[#This Row],[発症日・検体採取日]]+6)","v":""},{"$f":"IF(陽性者一覧4[[#This Row],[療養解除予定日]]=M82,\"問題なし\",\"齟齬\")","v":"問題なし"}]
[null,66,null,"",null,null,null,{"$f":"IF(陽性者一覧4[[#This Row],[発症日・検体採取日]]=\"\",\"\",陽性者一覧4[[#This Row],[発症日・検体採取日]]+6)","v":""},null,null,null,null,{"$f":"IF(陽性者一覧4[[#This Row],[発症日・検体採取日]]=\"\",\"\",陽性者一覧4[[#This Row],[発症日・検体採取日]]+6)","v":""},{"$f":"IF(陽性者一覧4[[#This Row],[療養解除予定日]]=M83,\"問題なし\",\"齟齬\")","v":"問題なし"}]
[null,67,null,"",null,null,null,{"$f":"IF(陽性者一覧4[[#This Row],[発症日・検体採取日]]=\"\",\"\",陽性者一覧4[[#This Row],[発症日・検体採取日]]+6)","v":""},null,null,null,null,{"$f":"IF(陽性者一覧4[[#This Row],[発症日・検体採取日]]=\"\",\"\",陽性者一覧4[[#This Row],[発症日・検体採取日]]+6)","v":""},{"$f":"IF(陽性者一覧4[[#This Row],[療養解除予定日]]=M84,\"問題なし\",\"齟齬\")","v":"問題なし"}]
[null,68,null,"",null,null,null,{"$f":"IF(陽性者一覧4[[#This Row],[発症日・検体採取日]]=\"\",\"\",陽性者一覧4[[#This Row],[発症日・検体採取日]]+6)","v":""},null,null,null,null,{"$f":"IF(陽性者一覧4[[#This Row],[発症日・検体採取日]]=\"\",\"\",陽性者一覧4[[#This Row],[発症日・検体採取日]]+6)","v":""},{"$f":"IF(陽性者一覧4[[#This Row],[療養解除予定日]]=M85,\"問題なし\",\"齟齬\")","v":"問題なし"}]
[null,69,null,"",null,null,null,{"$f":"IF(陽性者一覧4[[#This Row],[発症日・検体採取日]]=\"\",\"\",陽性者一覧4[[#This Row],[発症日・検体採取日]]+6)","v":""},null,null,null,null,{"$f":"IF(陽性者一覧4[[#This Row],[発症日・検体採取日]]=\"\",\"\",陽性者一覧4[[#This Row],[発症日・検体採取日]]+6)","v":""},{"$f":"IF(陽性者一覧4[[#This Row],[療養解除予定日]]=M86,\"問題なし\",\"齟齬\")","v":"問題なし"}]
[null,70,null,"",null,null,null,{"$f":"IF(陽性者一覧4[[#This Row],[発症日・検体採取日]]=\"\",\"\",陽性者一覧4[[#This Row],[発症日・検体採取日]]+6)","v":""},null,null,null,null,{"$f":"IF(陽性者一覧4[[#This Row],[発症日・検体採取日]]=\"\",\"\",陽性者一覧4[[#This Row],[発症日・検体採取日]]+6)","v":""},{"$f":"IF(陽性者一覧4[[#This Row],[療養解除予定日]]=M87,\"問題なし\",\"齟齬\")","v":"問題なし"}]
[null,71,null,{"$f":"PHONETIC(C88)","v":""},null,null,null,{"$f":"IF(陽性者一覧4[[#This Row],[発症日・検体採取日]]=\"\",\"\",陽性者一覧4[[#This Row],[発症日・検体採取日]]+6)","v":""},null,null,null,null,{"$f":"IF(陽性者一覧4[[#This Row],[発症日・検体採取日]]=\"\",\"\",陽性者一覧4[[#This Row],[発症日・検体採取日]]+6)","v":""},{"$f":"IF(陽性者一覧4[[#This Row],[療養解除予定日]]=M88,\"問題なし\",\"齟齬\")","v":"問題なし"}]
[null,72,null,"",null,null,null,{"$f":"IF(陽性者一覧4[[#This Row],[発症日・検体採取日]]=\"\",\"\",陽性者一覧4[[#This Row],[発症日・検体採取日]]+6)","v":""},null,null,null,null,{"$f":"IF(陽性者一覧4[[#This Row],[発症日・検体採取日]]=\"\",\"\",陽性者一覧4[[#This Row],[発症日・検体採取日]]+6)","v":""},{"$f":"IF(陽性者一覧4[[#This Row],[療養解除予定日]]=M89,\"問題なし\",\"齟齬\")","v":"問題なし"}]
[null,73,null,"",null,null,null,{"$f":"IF(陽性者一覧4[[#This Row],[発症日・検体採取日]]=\"\",\"\",陽性者一覧4[[#This Row],[発症日・検体採取日]]+6)","v":""},null,null,null,null,{"$f":"IF(陽性者一覧4[[#This Row],[発症日・検体採取日]]=\"\",\"\",陽性者一覧4[[#This Row],[発症日・検体採取日]]+6)","v":""},{"$f":"IF(陽性者一覧4[[#This Row],[療養解除予定日]]=M90,\"問題なし\",\"齟齬\")","v":"問題なし"}]
[null,74,null,"",null,null,null,{"$f":"IF(陽性者一覧4[[#This Row],[発症日・検体採取日]]=\"\",\"\",陽性者一覧4[[#This Row],[発症日・検体採取日]]+6)","v":""},null,null,null,null,{"$f":"IF(陽性者一覧4[[#This Row],[発症日・検体採取日]]=\"\",\"\",陽性者一覧4[[#This Row],[発症日・検体採取日]]+6)","v":""},{"$f":"IF(陽性者一覧4[[#This Row],[療養解除予定日]]=M91,\"問題なし\",\"齟齬\")","v":"問題なし"}]
[null,75,null,"",null,null,null,{"$f":"IF(陽性者一覧4[[#This Row],[発症日・検体採取日]]=\"\",\"\",陽性者一覧4[[#This Row],[発症日・検体採取日]]+6)","v":""},null,null,null,null,{"$f":"IF(陽性者一覧4[[#This Row],[発症日・検体採取日]]=\"\",\"\",陽性者一覧4[[#This Row],[発症日・検体採取日]]+6)","v":""},{"$f":"IF(陽性者一覧4[[#This Row],[療養解除予定日]]=M92,\"問題なし\",\"齟齬\")","v":"問題なし"}]
[null,76,null,"",null,null,null,{"$f":"IF(陽性者一覧4[[#This Row],[発症日・検体採取日]]=\"\",\"\",陽性者一覧4[[#This Row],[発症日・検体採取日]]+6)","v":""},null,null,null,null,{"$f":"IF(陽性者一覧4[[#This Row],[発症日・検体採取日]]=\"\",\"\",陽性者一覧4[[#This Row],[発症日・検体採取日]]+6)","v":""},{"$f":"IF(陽性者一覧4[[#This Row],[療養解除予定日]]=M93,\"問題なし\",\"齟齬\")","v":"問題なし"}]
[null,77,null,"",null,null,null,{"$f":"IF(陽性者一覧4[[#This Row],[発症日・検体採取日]]=\"\",\"\",陽性者一覧4[[#This Row],[発症日・検体採取日]]+6)","v":""},null,null,null,null,{"$f":"IF(陽性者一覧4[[#This Row],[発症日・検体採取日]]=\"\",\"\",陽性者一覧4[[#This Row],[発症日・検体採取日]]+6)","v":""},{"$f":"IF(陽性者一覧4[[#This Row],[療養解除予定日]]=M94,\"問題なし\",\"齟齬\")","v":"問題なし"}]
[null,78,null,"",null,null,null,{"$f":"IF(陽性者一覧4[[#This Row],[発症日・検体採取日]]=\"\",\"\",陽性者一覧4[[#This Row],[発症日・検体採取日]]+6)","v":""},null,null,null,null,{"$f":"IF(陽性者一覧4[[#This Row],[発症日・検体採取日]]=\"\",\"\",陽性者一覧4[[#This Row],[発症日・検体採取日]]+6)","v":""},{"$f":"IF(陽性者一覧4[[#This Row],[療養解除予定日]]=M95,\"問題なし\",\"齟齬\")","v":"問題なし"}]
[null,79,null,"",null,null,null,{"$f":"IF(陽性者一覧4[[#This Row],[発症日・検体採取日]]=\"\",\"\",陽性者一覧4[[#This Row],[発症日・検体採取日]]+6)","v":""},null,null,null,null,{"$f":"IF(陽性者一覧4[[#This Row],[発症日・検体採取日]]=\"\",\"\",陽性者一覧4[[#This Row],[発症日・検体採取日]]+6)","v":""},{"$f":"IF(陽性者一覧4[[#This Row],[療養解除予定日]]=M96,\"問題なし\",\"齟齬\")","v":"問題なし"}]
[null,80,null,"",null,null,null,{"$f":"IF(陽性者一覧4[[#This Row],[発症日・検体採取日]]=\"\",\"\",陽性者一覧4[[#This Row],[発症日・検体採取日]]+6)","v":""},null,null,null,null,{"$f":"IF(陽性者一覧4[[#This Row],[発症日・検体採取日]]=\"\",\"\",陽性者一覧4[[#This Row],[発症日・検体採取日]]+6)","v":""},{"$f":"IF(陽性者一覧4[[#This Row],[療養解除予定日]]=M97,\"問題なし\",\"齟齬\")","v":"問題なし"}]
[null,null,null,"",null,null,null,{"$f":"IF(陽性者一覧4[[#This Row],[発症日・検体採取日]]=\"\",\"\",陽性者一覧4[[#This Row],[発症日・検体採取日]]+6)","v":""},null,null,null,null,{"$f":"IF(陽性者一覧4[[#This Row],[発症日・検体採取日]]=\"\",\"\",陽性者一覧4[[#This Row],[発症日・検体採取日]]+6)","v":""},{"$f":"IF(陽性者一覧4[[#This Row],[療養解除予定日]]=M98,\"問題なし\",\"齟齬\")","v":"問題なし"}]
[null,null,null,"",null,null,null,{"$f":"IF(陽性者一覧4[[#This Row],[発症日・検体採取日]]=\"\",\"\",陽性者一覧4[[#This Row],[発症日・検体採取日]]+6)","v":""},null,null,null,null,{"$f":"IF(陽性者一覧4[[#This Row],[発症日・検体採取日]]=\"\",\"\",陽性者一覧4[[#This Row],[発症日・検体採取日]]+6)","v":""},{"$f":"IF(陽性者一覧4[[#This Row],[療養解除予定日]]=M99,\"問題なし\",\"齟齬\")","v":"問題なし"}]
[null,null,null,{"$f":"PHONETIC(C100)","v":""},null,null,null,{"$f":"IF(陽性者一覧4[[#This Row],[発症日・検体採取日]]=\"\",\"\",陽性者一覧4[[#This Row],[発症日・検体採取日]]+6)","v":""},null,null,null,null,{"$f":"IF(陽性者一覧4[[#This Row],[発症日・検体採取日]]=\"\",\"\",陽性者一覧4[[#This Row],[発症日・検体採取日]]+6)","v":""},{"$f":"IF(陽性者一覧4[[#This Row],[療養解除予定日]]=M100,\"問題なし\",\"齟齬\")","v":"問題なし"}]

{"sheet":"施設聞き取り票","index":2,"n_rows":44,"n_cols":26,"rows_kept":44,"cut":false,"hidden":true,"merged":[[41,7,41,8],[42,7,42,8],[36,2,36,3],[37,0,37,1],[37,2,37,4],[37,5,37,9],[38,2,38,3],[38,7,38,8],[39,2,39,3],[39,7,39,8],[40,2,40,3],[40,7,40,8],[41,0,41,4],[32,0,33,1],[32,2,33,2],[32,5,33,5],[32,8,33,9],[34,0,35,1],[34,2,35,9],[27,0,28,1],[27,4,27,9],[28,4,28,9],[29,0,31,1],[29,4,29,9],[30,4,30,9],[31,4,31,9],[25,0,26,1],[25,2,26,2],[25,4,25,5],[25,7,25,9],[26,3,26,9],[15,0,15,1],[16,0,17,1],[16,2,17,2],[16,5,17,5],[18,0,21,1],[18,2,18,3],[18,5,18,9],[19,2,19,3],[19,5,19,9],[20,2,20,3],[20,5,20,9],[21,2,21,3],[21,5,21,9],[8,0,14,1],[8,2,8,3],[9,2,9,3],[9,5,9,9],[10,2,10,3],[11,2,11,3],[12,2,12,3],[13,2,13,3],[14,2,14,3],[12,5,12,9],[11,5,11,7],[13,5,14,9],[3,0,3,1],[3,2,3,9],[4,0,5,1],[6,0,7,1],[6,3,6,5],[7,3,7,5],[0,1,0,3],[1,1,1,2],[1,4,1,9],[2,0,2,1],[2,5,2,6],[2,7,2,9],[2,3,2,4],[22,5,22,9],[23,5,23,9],[24,5,24,9],[22,0,22,1],[22,2,22,3],[23,2,23,3],[24,2,24,3],[23,0,24,1]]}
[{"$f":"IF(陽性者一覧!A1=\"\",\"\",\"福\"&陽性者一覧!A1)","v":""},"施設調査聞き取り票",null,null," 調査日",null," 対応者",null,null,"MT：　　要　　不要"]
["施設種別",{"$f":"IF(陽性者一覧!I4=\"\",\"\",陽性者一覧!I4)","v":""},null,"施設名",{"$f":"IF(陽性者一覧!D4=\"\",\"\",陽性者一覧!D4)","v":""},null,null,null,null,null,null,null,null,"体調不良有","体調不良無","入院要","入院否","濃厚入","濃厚職","過去訪問","訪問希望","点滴","酸素","ステロイド","抗ウイルス剤","中和抗体"]
["担当者職名・氏名",null,{"$f":"IF(陽性者一覧!G6=\"\",\"\",陽性者一覧!G6)","v":""},{"$f":"IF(陽性者一覧!D6=\"\",\"\",陽性者一覧!D6)","v":""},null,"担当者連絡先",null,{"$f":"IF(陽性者一覧!I6=\"\",\"\",陽性者一覧!I6)","v":""},null,null,null,null,null,false,false,false,false,false,false,false,false,false,false,false,false,false]
["施設住所",null,null,null,null,null,null,null,null,null,null,null,null,null,null,null,null,null,null,null,null,"協力","協力","協力","協力","協力"]
["定員及び状況",null,"施設定員数","現入居者数","現入居陽性者数","累計\n入居陽性者数","現職員数","現職員陽性者数","累計\n職員陽性者数",null,null,null,null,null,null,null,null,null,null,null,null,false,false,false,false,false]
[null,null,{"$f":"IF(陽性者一覧!G8=\"\",\"\",陽性者一覧!G8)","v":""},null,null,null,{"$f":"IF(陽性者一覧!I8=\"\",\"\",陽性者一覧!I8)","v":""},null,null,null,null,null,null,null,null,null,null,null,null,null,null,"その他","その他","その他","その他","その他"]
["陽性者(入居者)の体調不良の有無",null,null,null,null,null,null,"　　　　　　提出予定（HP　　　　　）","　",null,null,null,null,null,null,null,null,null,null,null,null,false,false,false,false,false]
[]
["施設内で対応できる\n医療提供\n可：〇　不可：×",null,"協力医療機関",null,{"$f":"\"①\"&陽性者一覧!D10&\"②\"&陽性者一覧!D11&\"③\"&陽性者一覧!D12","v":"①②③"}]
[null,null,null,null,"可否","要入院時、協力医療機関が入院対応や相談に乗ってくれるか"]
[null,null,"点滴",null,{"$f":"IF(陽性者一覧!F12=\"可\",\"〇\",IF(陽性者一覧!F12=\"不可\",\"×\",\"\"))","v":""}]
[null,null,"酸素投与",null,{"$f":"IF(陽性者一覧!G12=\"可\",\"〇\",IF(陽性者一覧!G12=\"不可\",\"×\",\"\"))","v":""},"協力医療機関からの感染防御指導の可否"]
[null,null,"ステロイド",null,{"$f":"IF(陽性者一覧!H12=\"可\",\"〇\",IF(陽性者一覧!H12=\"不可\",\"×\",\"\"))","v":""},"自機関で対応できない場合や施設の意向等あれば記載"]
[null,null,"抗ウイルス剤",null,{"$f":"IF(陽性者一覧!I12=\"可\",\"〇\",IF(陽性者一覧!I12=\"不可\",\"×\",\"\"))","v":""}]
[null,null,"中和抗体",null,{"$f":"IF(陽性者一覧!J12=\"可\",\"〇\",IF(陽性者一覧!J12=\"不可\",\"×\",\"\"))","v":""}]
["往診実施",null,"　"]
["濃厚接触者の有無",null,"入居者",null,null,"職員"]
[]
["感染管理の状況\n陽性者または濃接あり➡（〇×）\n陽性者と濃接なし➡（ー）　",null,"種別",null,"状況","問題点"]
[null,null,"ゾーニング"]
[null,null,"PPE"]
[null,null,"職員の固定"]
["平時の感染対策",null,"フェイスシールド"]
["できている・できていない➡(○×）\n×の場合、助言内容と施設の反応を\n別紙に記録",null,"換気"]
[null,null,"手洗い・消毒"]
["過去の訪問状況",null,"                                        保健所同行の有無　","時期",null,null,"実施機関"]
[null,null,null,"保健所同行の有無"]
["施設訪問の希望",null,null,"希望日時"]
[null,null,null,"理由"]
["物的・人的資源の状況\n〇:資源あり×資源なし",null,"種別","状況","問題点"]
[null,null,"物的資源"]
[null,null,"人的資源"]
["直近の\nワクチン接種状況",null,"入居者","(　　)回目","(　　)回目","職員","(　　)回目","(　　)回目"]
[]
["備考"]
[]
["解除時確認","　月　　日　","対応者(　　　　　　)"]
["陽性者累計",null,"現状",null,null,"施設内療養者に対する治療の有無"]
["総計(A+B)",{"$f":"IF(OR(B40>=1,B41>=1),B40+B41,\"\")","v":""},"陽性の入居者",null,null,"点滴",null,"　　　　",null,"(　　　　   )"]
["A 入居者",null,"施設解除日",null,null,"酸素投与",null,"　　　　",null,"(　　　　   )"]
["B 職員",null,"対応終了日",null,null,"ステロイド",null,"　　　　",null,"(　　　　   )"]
["入居者再掲",null,null,null,null,"抗ｳｲﾙｽ剤",null,"　　　　",null,"(　　　　   )"]
["C 入院者",null,"E 死亡者",null,null,"中和抗体",null,"　　　　",null,"(　　　　   )"]
["D 宿泊者",null,"自宅へ帰宅",null,null,"入院"]