{"text_format":"1","workbook":"xlsx","n_sheets":5,"sheets":["陽性者一覧 (記載例)","陽性者一覧（高齢者入所施設）","陽性者一覧（その他入所施設）","施設聞き取り票（高齢者入所施設）","施設聞き取り票（その他入所施設）"],"not_rendered":{"charts":0,"images":0,"macros":1,"external_links":0,"defined_names":5,"comments":0,"pivot_tables":0},"unopened":[],"bounds":{"document_bytes":16777216,"sheet_cells":100000,"rows_first":2000,"rows_last":500,"rows_between":2000,"halvings":0,"cell_chars":16384,"cell_head_chars":4096},"cells_cut":0,"cells_raw":0,"read":"whole","date_system":"1900"}

{"sheet":"陽性者一覧 (記載例)","index":0,"n_rows":50,"n_cols":11,"rows_kept":50,"cut":false,"hidden":false,"merged":[[14,10,15,10],[14,7,15,7],[6,6,6,7],[6,8,6,9],[8,6,8,7],[14,5,15,5],[14,6,15,6],[10,5,10,9],[14,0,15,0],[14,1,15,1],[14,2,15,2],[14,3,15,3],[14,4,15,4],[4,6,4,7],[4,8,4,9],[0,8,0,9],[1,1,1,9],[3,3,3,5],[3,6,3,7],[3,8,3,9]]}
[null,null,"メール送信先：","syuudan@city.osaka.lg.jp",null,null,null,null,"2022-05-02"]
[null,"陽性者一覧（高齢者入所施設）"]
[]
[null,null,"施設名：","特別養護老人ホーム　オオサカ",null,null,"施設種別："]
[null,null,null,null,null,null,"所在地："]
[]
[null,null,"施設担当者氏名：","大阪　太朗","職名／部署名：","施設長","電話："]
[]
[null,null,"発生範囲（フロア等）：","１０階","施設定員数：",300,"職員総数：",null,100]
[]
[null,null,"協力医療機関：","大阪〇〇病院",null,"施設内で対応できる医療提供"]
[null,null,null,"〇〇病院",null,"点滴","酸素投与","ステロイド","抗ウイルス剤","中和抗体"]
[null,null,null,null,null,"可","可","可","不可","不可"]
[]
["報告日","番号","氏名","フリガナ","入所者/\n職員別","発症日\n(無症状の場合は検体採取日)","発症時  \n症状等","療養解除\n予定日","療養解除\n(事由)","療養解除\n(日付)","療養解除予定日\n延長(変更)理由"]
[null,null,null,null,null,null,null,null,"事由","日付"]
[null,"番号","氏名","フリガナ","職員・入所者の別","発症日・検体採取日","発症時症状等","療養解除予定日","解除事由","解除日"]
["2022-04-30",1,"大阪　花子",{"$f":"PHONETIC(C18)","v":"オオサカ　ハナコ"},"入所者","2022-04-29","発熱",{"$f":"IF(F18=\"\",\"\",IF(G18=\"無症状\",F18+8,F18+11))","v":"2022-05-10"},"入院","2022-05-01"]
["2022-05-02",2,"大阪　次郎","オオサカ　ジロウ","入所者","2022-05-01","発熱","2022-05-12"]
[null,3,null,"",null,null,null,""]
[null,4,null,"",null,null,null,""]
[null,5,null,"",null,null,null,""]
[null,6,null,"",null,null,null,""]
[null,7,null,"",null,null,null,""]
[null,8,null,"",null,null,null,""]
[null,9,null,"",null,null,null,""]
[null,10,null,"",null,null,null,""]
[null,11,null,"",null,null,null,""]
[null,12,null,"",null,null,null,""]
[null,13,null,"",null,null,null,""]
[null,14,null,"",null,null,null,""]
[null,15,null,"",null,null,null,""]
[null,16,null,"",null,null,null,""]
[null,17,null,"",null,null,null,""]
[null,18,null,"",null,null,null,""]
[null,19,null,"",null,null,null,""]
[null,20,null,"",null,null,null,""]
[null,21,null,"",null,null,null,""]
[null,22,null,"",null,null,null,""]
[null,23,null,"",null,null,null,""]
[null,24,null,"",null,null,null,""]
[null,25,null,"",null,null,null,""]
[null,26,null,"",null,null,null,""]
[null,27,null,"",null,null,null,""]
[null,28,null,"",null,null,null,""]
[null,29,null,"",null,null,null,""]
[null,30,null,"",null,null,null,""]
[null,31,null,{"$f":"PHONETIC(C48)","v":""},null,null,null,{"$f":"IF(F48=\"\",\"\",IF(G48=\"無症状\",F48+8,F48+11))","v":""}]
[null,32,null,"",null,null,null,""]
[null,33,null,"",null,null,null,""]

{"sheet":"陽性者一覧（高齢者入所施設）","index":1,"n_rows":100,"n_cols":15,"rows_kept":100,"cut":false,"hidden":false,"merged":[[9,5,9,9],[13,11,14,11],[13,10,14,10],[13,7,14,7],[13,0,14,0],[13,1,14,1],[13,2,14,2],[13,3,14,3],[13,4,14,4],[13,5,14,5],[13,6,14,6],[0,8,0,9],[7,4,7,5],[5,8,5,9],[4,8,4,9],[1,1,1,9],[3,3,3,6],[3,8,3,9]]}
[null,null,"メール送信先：","syuudan@city.osaka.lg.jp",null,null,null,null,{"$f":"TODAY()","v":"2022-11-14"}]
[null,"陽性者一覧（高齢者入所施設）"]
[]
[null,null,"施設名：",null,null,null,null,"施設種別："]
[null,null,null,null,null,null,null,"所在地："]
[null,null,"施設担当者氏名：",null,null,"職名／部署名：",null,"電話："]
[]
[null,null,"発生範囲（フロア等）：",null,"施設定員数：",null,null,"職員総数："]
[]
[null,null,"協力医療機関：",null,null,"施設内で対応できる医療提供"]
[null,null,null,null,null,"点滴","酸素投与","ステロイド","抗ウイルス剤","中和抗体"]
[]
[]
["報告日","番号","氏名","フリガナ","入所者/\n職員別","発症日\n（無症状の場合は検体採取日）","発症時\n症状等","療養解除予定日","療養解除\n(事由)","療養解除\n(日付)","療養解除予定日\n延長(変更)理由"," 終了時記入\n日付/確認者"]
[null,null,null,null,null,null,null,null,"事由","日付"]
[null,"例","大阪　太郎","オオサカ　タロウ","入所者","2022-03-31","発熱","2022-04-11","入院","2022-04-01",null,null,"その他","無症状","ステータス"]
[null,"番号","氏名","フリガナ","職員・入所者の別","発症日・検体採取日","発症時症状等","療養解除予定日","解除事由","解除日","列1"]
[null,1,null,{"$f":"PHONETIC(C18)","v":""},null,null,null,{"$f":"IF(陽性者一覧4[[#This Row],[職員・入所者の別]]=\"職員\",N18,IF(陽性者一覧4[[#This Row],[職員・入所者の別]]=\"入所者\",IF(陽性者一覧4[[#This Row],[発症時症状等]]=\"無症状\",N18,M18),\"\"))","v":""},null,null,null,null,{"$f":"IF(陽性者一覧4[[#This Row],[発症日・検体採取日]]=\"\",\"\",陽性者一覧4[[#This Row],[発症日・検体採取日]]+11)","v":""},{"$f":"IF(陽性者一覧4[[#This Row],[発症日・検体採取日]]=\"\",\"\",陽性者一覧4[[#This Row],[発症日・検体採取日]]+8)","v":""},{"$f":"IF(OR(陽性者一覧4[[#This Row],[療養解除予定日]]=M18,陽性者一覧4[[#This Row],[療養解除予定日]]=N18),\"問題なし\",\"齟齬\")","v":"問題なし"}]
[null,2,null,"",null,null,null,{"$f":"IF(陽性者一覧4[[#This Row],[職員・入所者の別]]=\"職員\",N19,IF(陽性者一覧4[[#This Row],[職員・入所者の別]]=\"入所者\",IF(陽性者一覧4[[#This Row],[発症時症状等]]=\"無症状\",N19,M19),\"\"))","v":""},null,null,null,null,{"$f":"IF(陽性者一覧4[[#This Row],[発症日・検体採取日]]=\"\",\"\",陽性者一覧4[[#This Row],[発症日・検体採取日]]+11)","v":""},{"$f":"IF(陽性者一覧4[[#This Row],[発症日・検体採取日]]=\"\",\"\",陽性者一覧4[[#This Row],[発症日・検体採取日]]+8)","v":""},{"$f":"IF(OR(陽性者一覧4[[#This Row],[療養解除予定日]]=M19,陽性者一覧4[[#This Row],[療養解除予定日]]=N19),\"問題なし\",\"齟齬\")","v":"問題なし"}]
[null,3,null,"",null,null,null,{"$f":"IF(陽性者一覧4[[#This Row],[職員・入所者の別]]=\"職員\",N20,IF(陽性者一覧4[[#This Row],[職員・入所者の別]]=\"入所者\",IF(陽性者一覧4[[#This Row],[発症時症状等]]=\"無症状\",N20,M20),\"\"))","v":""},null,null,null,null,{"$f":"IF(陽性者一覧4[[#This Row],[発症日・検体採取日]]=\"\",\"\",陽性者一覧4[[#This Row],[発症日・検体採取日]]+11)","v":""},{"$f":"IF(陽性者一覧4[[#This Row],[発症日・検体採取日]]=\"\",\"\",陽性者一覧4[[#This Row],[発症日・検体採取日]]+8)","v":""},{"$f":"IF(OR(陽性者一覧4[[#This Row],[療養解除予定日]]=M20,陽性者一覧4[[#This Row],[療養解除予定日]]=N20),\"問題なし\",\"齟齬\")","v":"問題なし"}]
[null,4,null,"",null,null,null,{"$f":"IF(陽性者一覧4[[#This Row],[職員・入所者の別]]=\"職員\",N21,IF(陽性者一覧4[[#This Row],[職員・入所者の別]]=\"入所者\",IF(陽性者一覧4[[#This Row],[発症時症状等]]=\"無症状\",N21,M21),\"\"))","v":""},null,null,null,null,{"$f":"IF(陽性者一覧4[[#This Row],[発症日・検体採取日]]=\"\",\"\",陽性者一覧4[[#This Row],[発症日・検体採取日]]+11)","v":""},{"$f":"IF(陽性者一覧4[[#This Row],[発症日・検体採取日]]=\"\",\"\",陽性者一覧4[[#This Row],[発症日・検体採取日]]+8)","v":""},{"$f":"IF(OR(陽性者一覧4[[#This Row],[療養解除予定日]]=M21,陽性者一覧4[[#This Row],[療養解除予定日]]=N21),\"問題なし\",\"齟齬\")","v":"問題なし"}]
[null,5,null,"",null,null,null,{"$f":"IF(陽性者一覧4[[#This Row],[職員・入所者の別]]=\"職員\",N22,IF(陽性者一覧4[[#This Row],[職員・入所者の別]]=\"入所者\",IF(陽性者一覧4[[#This Row],[発症時症状等]]=\"無症状\",N22,M22),\"\"))","v":""},null,null,null,null,{"$f":"IF(陽性者一覧4[[#This Row],[発症日・検体採取日]]=\"\",\"\",陽性者一覧4[[#This Row],[発症日・検体採取日]]+11)","v":""},{"$f":"IF(陽性者一覧4[[#This Row],[発症日・検体採取日]]=\"\",\"\",陽性者一覧4[[#This Row],[発症日・検体採取日]]+8)","v":""},{"$f":"IF(OR(陽性者一覧4[[#This Row],[療養解除予定日]]=M22,陽性者一覧4[[#This Row],[療養解除予定日]]=N22),\"問題なし\",\"齟齬\")","v":"問題なし"}]
[null,6,null,"",null,null,null,{"$f":"IF(陽性者一覧4[[#This Row],[職員・入所者の別]]=\"職員\",N23,IF(陽性者一覧4[[#This Row],[職員・入所者の別]]=\"入所者\",IF(陽性者一覧4[[#This Row],[発症時症状等]]=\"無症状\",N23,M23),\"\"))","v":""},null,null,null,null,{"$f":"IF(陽性者一覧4[[#This Row],[発症日・検体採取日]]=\"\",\"\",陽性者一覧4[[#This Row],[発症日・検体採取日]]+11)","v":""},{"$f":"IF(陽性者一覧4[[#This Row],[発症日・検体採取日]]=\"\",\"\",陽性者一覧4[[#This Row],[発症日・検体採取日]]+8)","v":""},{"$f":"IF(OR(陽性者一覧4[[#This Row],[療養解除予定日]]=M23,陽性者一覧4[[#This Row],[療養解除予定日]]=N23),\"問題なし\",\"齟齬\")","v":"問題なし"}]
[null,7,null,"",null,null,null,{"$f":"IF(陽性者一覧4[[#This Row],[職員・入所者の別]]=\"職員\",N24,IF(陽性者一覧4[[#This Row],[職員・入所者の別]]=\"入所者\",IF(陽性者一覧4[[#This Row],[発症時症状等]]=\"無症状\",N24,M24),\"\"))","v":""},null,null,null,null,{"$f":"IF(陽性者一覧4[[#This Row],[発症日・検体採取日]]=\"\",\"\",陽性者一覧4[[#This Row],[発症日・検体採取日]]+11)","v":""},{"$f":"IF(陽性者一覧4[[#This Row],[発症日・検体採取日]]=\"\",\"\",陽性者一覧4[[#This Row],[発症日・検体採取日]]+8)","v":""},{"$f":"IF(OR(陽性者一覧4[[#This Row],[療養解除予定日]]=M24,陽性者一覧4[[#This Row],[療養解除予定日]]=N24),\"問題なし\",\"齟齬\")","v":"問題なし"}]
[null,8,null,"",null,null,null,{"$f":"IF(陽性者一覧4[[#This Row],[職員・入所者の別]]=\"職員\",N25,IF(陽性者一覧4[[#This Row],[職員・入所者の別]]=\"入所者\",IF(陽性者一覧4[[#This Row],[発症時症状等]]=\"無症状\",N25,M25),\"\"))","v":""},null,null,null,null,{"$f":"IF(陽性者一覧4[[#This Row],[発症日・検体採取日]]=\"\",\"\",陽性者一覧4[[#This Row],[発症日・検体採取日]]+11)","v":""},{"$f":"IF(陽性者一覧4[[#This Row],[発症日・検体採取日]]=\"\",\"\",陽性者一覧4[[#This Row],[発症日・検体採取日]]+8)","v":""},{"$f":"IF(OR(陽性者一覧4[[#This Row],[療養解除予定日]]=M25,陽性者一覧4[[#This Row],[療養解除予定日]]=N25),\"問題なし\",\"齟齬\")","v":"問題なし"}]
[null,9,null,"",null,null,null,{"$f":"IF(陽性者一覧4[[#This Row],[職員・入所者の別]]=\"職員\",N26,IF(陽性者一覧4[[#This Row],[職員・入所者の別]]=\"入所者\",IF(陽性者一覧4[[#This Row],[発症時症状等]]=\"無症状\",N26,M26),\"\"))","v":""},null,null,null,null,{"$f":"IF(陽性者一覧4[[#This Row],[発症日・検体採取日]]=\"\",\"\",陽性者一覧4[[#This Row],[発症日・検体採取日]]+11)","v":""},{"$f":"IF(陽性者一覧4[[#This Row],[発症日・検体採取日]]=\"\",\"\",陽性者一覧4[[#This Row],[発症日・検体採取日]]+8)","v":""},{"$f":"IF(OR(陽性者一覧4[[#This Row],[療養解除予定日]]=M26,陽性者一覧4[[#This Row],[療養解除予定日]]=N26),\"問題なし\",\"齟齬\")","v":"問題なし"}]
[null,10,null,"",null,null,null,{"$f":"IF(陽性者一覧4[[#This Row],[職員・入所者の別]]=\"職員\",N27,IF(陽性者一覧4[[#This Row],[職員・入所者の別]]=\"入所者\",IF(陽性者一覧4[[#This Row],[発症時症状等]]=\"無症状\",N27,M27),\"\"))","v":""},null,null,null,null,{"$f":"IF(陽性者一覧4[[#This Row],[発症日・検体採取日]]=\"\",\"\",陽性者一覧4[[#This Row],[発症日・検体採取日]]+11)","v":""},{"$f":"IF(陽性者一覧4[[#This Row],[発症日・検体採取日]]=\"\",\"\",陽性者一覧4[[#This Row],[発症日・検体採取日]]+8)","v":""},{"$f":"IF(OR(陽性者一覧4[[#This Row],[療養解除予定日]]=M27,陽性者一覧4[[#This Row],[療養解除予定日]]=N27),\"問題なし\",\"齟齬\")","v":"問題なし"}]
[null,11,null,"",null,null,null,{"$f":"IF(陽性者一覧4[[#This Row],[職員・入所者の別]]=\"職員\",N28,IF(陽性者一覧4[[#This Row],[職員・入所者の別]]=\"入所者\",IF(陽性者一覧4[[#This Row],[発症時症状等]]=\"無症状\",N28,M28),\"\"))","v":""},null,null,null,null,{"$f":"IF(陽性者一覧4[[#This Row],[発症日・検体採取日]]=\"\",\"\",陽性者一覧4[[#This Row],[発症日・検体採取日]]+11)","v":""},{"$f":"IF(陽性者一覧4[[#This Row],[発症日・検体採取日]]=\"\",\"\",陽性者一覧4[[#This Row],[発症日・検体採取日]]+8)","v":""},{"$f":"IF(OR(陽性者一覧4[[#This Row],[療養解除予定日]]=M28,陽性者一覧4[[#This Row],[療養解除予定日]]=N28),\"問題なし\",\"齟齬\")","v":"問題なし"}]
[null,12,null,"",null,null,null,{"$f":"IF(陽性者一覧4[[#This Row],[職員・入所者の別]]=\"職員\",N29,IF(陽性者一覧4[[#This Row],[職員・入所者の別]]=\"入所者\",IF(陽性者一覧4[[#This Row],[発症時症状等]]=\"無症状\",N29,M29),\"\"))","v":""},null,null,null,null,{"$f":"IF(陽性者一覧4[[#This Row],[発症日・検体採取日]]=\"\",\"\",陽性者一覧4[[#This Row],[発症日・検体採取日]]+11)","v":""},{"$f":"IF(陽性者一覧4[[#This Row],[発症日・検体採取日]]=\"\",\"\",陽性者一覧4[[#This Row],[発症日・検体採取日]]+8)","v":""},{"$f":"IF(OR(陽性者一覧4[[#This Row],[療養解除予定日]]=M29,陽性者一覧4[[#This Row],[療養解除予定日]]=N29),\"問題なし\",\"齟齬\")","v":"問題なし"}]
[null,13,null,"",null,null,null,{"$f":"IF(陽性者一覧4[[#This Row],[職員・入所者の別]]=\"職員\",N30,IF(陽性者一覧4[[#This Row],[職員・入所者の別]]=\"入所者\",IF(陽性者一覧4[[#This Row],[発症時症状等]]=\"無症状\",N30,M30),\"\"))","v":""},null,null,null,null,{"$f":"IF(陽性者一覧4[[#This Row],[発症日・検体採取日]]=\"\",\"\",陽性者一覧4[[#This Row],[発症日・検体採取日]]+11)","v":""},{"$f":"IF(陽性者一覧4[[#This Row],[発症日・検体採取日]]=\"\",\"\",陽性者一覧4[[#This Row],[発症日・検体採取日]]+8)","v":""},{"$f":"IF(OR(陽性者一覧4[[#This Row],[療養解除予定日]]=M30,陽性者一覧4[[#This Row],[療養解除予定日]]=N30),\"問題なし\",\"齟齬\")","v":"問題なし"}]
[null,14,null,"",null,null,null,{"$f":"IF(陽性者一覧4[[#This Row],[職員・入所者の別]]=\"職員\",N31,IF(陽性者一覧4[[#This Row],[職員・入所者の別]]=\"入所者\",IF(陽性者一覧4[[#This Row],[発症時症状等]]=\"無症状\",N31,M31),\"\"))","v":""},null,null,null,null,{"$f":"IF(陽性者一覧4[[#This Row],[発症日・検体採取日]]=\"\",\"\",陽性者一覧4[[#This Row],[発症日・検体採取日]]+11)","v":""},{"$f":"IF(陽性者一覧4[[#This Row],[発症日・検体採取日]]=\"\",\"\",陽性者一覧4[[#This Row],[発症日・検体採取日]]+8)","v":""},{"$f":"IF(OR(陽性者一覧4[[#This Row],[療養解除予定日]]=M31,陽性者一覧4[[#This Row],[療養解除予定日]]=N31),\"問題なし\",\"齟齬\")","v":"問題なし"}]
[null,15,null,"",null,null,null,{"$f":"IF(陽性者一覧4[[#This Row],[職員・入所者の別]]=\"職員\",N32,IF(陽性者一覧4[[#This Row],[職員・入所者の別]]=\"入所者\",IF(陽性者一覧4[[#This Row],[発症時症状等]]=\"無症状\",N32,M32),\"\"))","v":""},null,null,null,null,{"$f":"IF(陽性者一覧4[[#This Row],[発症日・検体採取日]]=\"\",\"\",陽性者一覧4[[#This Row],[発症日・検体採取日]]+11)","v":""},{"$f":"IF(陽性者一覧4[[#This Row],[発症日・検体採取日]]=\"\",\"\",陽性者一覧4[[#This Row],[発症日・検体採取日]]+8)","v":""},{"$f":"IF(OR(陽性者一覧4[[#This Row],[療養解除予定日]]=M32,陽性者一覧4[[#This Row],[療養解除予定日]]=N32),\"問題なし\",\"齟齬\")","v":"問題なし"}]
[null,16,null,"",null,null,null,{"$f":"IF(陽性者一覧4[[#This Row],[職員・入所者の別]]=\"職員\",N33,IF(陽性者一覧4[[#This Row],[職員・入所者の別]]=\"入所者\",IF(陽性者一覧4[[#This Row],[発症時症状等]]=\"無症状\",N33,M33),\"\"))","v":""},null,null,null,null,{"$f":"IF(陽性者一覧4[[#This Row],[発症日・検体採取日]]=\"\",\"\",陽性者一覧4[[#This Row],[発症日・検体採取日]]+11)","v":""},{"$f":"IF(陽性者一覧4[[#This Row],[発症日・検体採取日]]=\"\",\"\",陽性者一覧4[[#This Row],[発症日・検体採取日]]+8)","v":""},{"$f":"IF(OR(陽性者一覧4[[#This Row],[療養解除予定日]]=M33,陽性者一覧4[[#This Row],[療養解除予定日]]=N33),\"問題なし\",\"齟齬\")","v":"問題なし"}]
[null,17,null,"",null,null,null,{"$f":"IF(陽性者一覧4[[#This Row],[職員・入所者の別]]=\"職員\",N34,IF(陽性者一覧4[[#This Row],[職員・入所者の別]]=\"入所者\",IF(陽性者一覧4[[#This Row],[発症時症状等]]=\"無症状\",N34,M34),\"\"))","v":""},null,null,null,null,{"$f":"IF(陽性者一覧4[[#This Row],[発症日・検体採取日]]=\"\",\"\",陽性者一覧4[[#This Row],[発症日・検体採取日]]+11)","v":""},{"$f":"IF(陽性者一覧4[[#This Row],[発症日・検体採取日]]=\"\",\"\",陽性者一覧4[[#This Row],[発症日・検体採取日]]+8)","v":""},{"$f":"IF(OR(陽性者一覧4[[#This Row],[療養解除予定日]]=M34,陽性者一覧4[[#This Row],[療養解除予定日]]=N34),\"問題なし\",\"齟齬\")","v":"問題なし"}]
[null,18,null,"",null,null,null,{"$f":"IF(陽性者一覧4[[#This Row],[職員・入所者の別]]=\"職員\",N35,IF(陽性者一覧4[[#This Row],[職員・入所者の別]]=\"入所者\",IF(陽性者一覧4[[#This Row],[発症時症状等]]=\"無症状\",N35,M35),\"\"))","v":""},null,null,null,null,{"$f":"IF(陽性者一覧4[[#This Row],[発症日・検体採取日]]=\"\",\"\",陽性者一覧4[[#This Row],[発症日・検体採取日]]+11)","v":""},{"$f":"IF(陽性者一覧4[[#This Row],[発症日・検体採取日]]=\"\",\"\",陽性者一覧4[[#This Row],[発症日・検体採取日]]+8)","v":""},{"$f":"IF(OR(陽性者一覧4[[#This Row],[療養解除予定日]]=M35,陽性者一覧4[[#This Row],[療養解除予定日]]=N35),\"問題なし\",\"齟齬\")","v":"問題なし"}]
[null,19,null,"",null,null,null,{"$f":"IF(陽性者一覧4[[#This Row],[職員・入所者の別]]=\"職員\",N36,IF(陽性者一覧4[[#This Row],[職員・入所者の別]]=\"入所者\",IF(陽性者一覧4[[#This Row],[発症時症状等]]=\"無症状\",N36,M36),\"\"))","v":""},null,null,null,null,{"$f":"IF(陽性者一覧4[[#This Row],[発症日・検体採取日]]=\"\",\"\",陽性者一覧4[[#This Row],[発症日・検体採取日]]+11)","v":""},{"$f":"IF(陽性者一覧4[[#This Row],[発症日・検体採取日]]=\"\",\"\",陽性者一覧4[[#This Row],[発症日・検体採取日]]+8)","v":""},{"$f":"IF(OR(陽性者一覧4[[#This Row],[療養解除予定日]]=M36,陽性者一覧4[[#This Row],[療養解除予定日]]=N36),\"問題なし\",\"齟齬\")","v":"問題なし"}]
[null,20,null,"",null,null,null,{"$f":"IF(陽性者一覧4[[#This Row],[職員・入所者の別]]=\"職員\",N37,IF(陽性者一覧4[[#This Row],[職員・入所者の別]]=\"入所者\",IF(陽性者一覧4[[#This Row],[発症時症状等]]=\"無症状\",N37,M37),\"\"))","v":""},null,null,null,null,{"$f":"IF(陽性者一覧4[[#This Row],[発症日・検体採取日]]=\"\",\"\",陽性者一覧4[[#This Row],[発症日・検体採取日]]+11)","v":""},{"$f":"IF(陽性者一覧4[[#This Row],[発症日・検体採取日]]=\"\",\"\",陽性者一覧4[[#This Row],[発症日・検体採取日]]+8)","v":""},{"$f":"IF(OR(陽性者一覧4[[#This Row],[療養解除予定日]]=M37,陽性者一覧4[[#This Row],[療養解除予定日]]=N37),\"問題なし\",\"齟齬\")","v":"問題なし"}]
[null,21,null,"",null,null,null,{"$f":"IF(陽性者一覧4[[#This Row],[職員・入所者の別]]=\"職員\",N38,IF(陽性者一覧4[[#This Row],[職員・入所者の別]]=\"入所者\",IF(陽性者一覧4[[#This Row],[発症時症状等]]=\"無症状\",N38,M38),\"\"))","v":""},null,null,null,null,{"$f":"IF(陽性者一覧4[[#This Row],[発症日・検体採取日]]=\"\",\"\",陽性者一覧4[[#This Row],[発症日・検体採取日]]+11)","v":""},{"$f":"IF(陽性者一覧4[[#This Row],[発症日・検体採取日]]=\"\",\"\",陽性者一覧4[[#This Row],[発症日・検体採取日]]+8)","v":""},{"$f":"IF(OR(陽性者一覧4[[#This Row],[療養解除予定日]]=M38,陽性者一覧4[[#This Row],[療養解除予定日]]=N38),\"問題なし\",\"齟齬\")","v":"問題なし"}]
[null,22,null,"",null,null,null,{"$f":"IF(陽性者一覧4[[#This Row],[職員・入所者の別]]=\"職員\",N39,IF(陽性者一覧4[[#This Row],[職員・入所者の別]]=\"入所者\",IF(陽性者一覧4[[#This Row],[発症時症状等]]=\"無症状\",N39,M39),\"\"))","v":""},null,null,null,null,{"$f":"IF(陽性者一覧4[[#This Row],[発症日・検体採取日]]=\"\",\"\",陽性者一覧4[[#This Row],[発症日・検体採取日]]+11)","v":""},{"$f":"IF(陽性者一覧4[[#This Row],[発症日・検体採取日]]=\"\",\"\",陽性者一覧4[[#This Row],[発症日・検体採取日]]+8)","v":""},{"$f":"IF(OR(陽性者一覧4[[#This Row],[療養解除予定日]]=M39,陽性者一覧4[[#This Row],[療養解除予定日]]=N39),\"問題なし\",\"齟齬\")","v":"問題なし"}]
[null,23,null,"",null,null,null,{"$f":"IF(陽性者一覧4[[#This Row],[職員・入所者の別]]=\"職員\",N40,IF(陽性者一覧4[[#This Row],[職員・入所者の別]]=\"入所者\",IF(陽性者一覧4[[#This Row],[発症時症状等]]=\"無症状\",N40,M40),\"\"))","v":""},null,null,null,null,{"$f":"IF(陽性者一覧4[[#This Row],[発症日・検体採取日]]=\"\",\"\",陽性者一覧4[[#This Row],[発症日・検体採取日]]+11)","v":""},{"$f":"IF(陽性者一覧4[[#This Row],[発症日・検体採取日]]=\"\",\"\",陽性者一覧4[[#This Row],[発症日・検体採取日]]+8)","v":""},{"$f":"IF(OR(陽性者一覧4[[#This Row],[療養解除予定日]]=M40,陽性者一覧4[[#This Row],[療養解除予定日]]=N40),\"問題なし\",\"齟齬\")","v":"問題なし"}]
[null,24,null,"",null,null,null,{"$f":"IF(陽性者一覧4[[#This Row],[職員・入所者の別]]=\"職員\",N41,IF(陽性者一覧4[[#This Row],[職員・入所者の別]]=\"入所者\",IF(陽性者一覧4[[#This Row],[発症時症状等]]=\"無症状\",N41,M41),\"\"))","v":""},null,null,null,null,{"$f":"IF(陽性者一覧4[[#This Row],[発症日・検体採取日]]=\"\",\"\",陽性者一覧4[[#This Row],[発症日・検体採取日]]+11)","v":""},{"$f":"IF(陽性者一覧4[[#This Row],[発症日・検体採取日]]=\"\",\"\",陽性者一覧4[[#This Row],[発症日・検体採取日]]+8)","v":""},{"$f":"IF(OR(陽性者一覧4[[#This Row],[療養解除予定日]]=M41,陽性者一覧4[[#This Row],[療養解除予定日]]=N41),\"問題なし\",\"齟齬\")","v":"問題なし"}]
[null,25,null,"",null,null,null,{"$f":"IF(陽性者一覧4[[#This Row],[職員・入所者の別]]=\"職員\",N42,IF(陽性者一覧4[[#This Row],[職員・入所者の別]]=\"入所者\",IF(陽性者一覧4[[#This Row],[発症時症状等]]=\"無症状\",N42,M42),\"\"))","v":""},null,null,null,null,{"$f":"IF(陽性者一覧4[[#This Row],[発症日・検体採取日]]=\"\",\"\",陽性者一覧4[[#This Row],[発症日・検体採取日]]+11)","v":""},{"$f":"IF(陽性者一覧4[[#This Row],[発症日・検体採取日]]=\"\",\"\",陽性者一覧4[[#This Row],[発症日・検体採取日]]+8)","v":""},{"$f":"IF(OR(陽性者一覧4[[#This Row],[療養解除予定日]]=M42,陽性者一覧4[[#This Row],[療養解除予定日]]=N42),\"問題なし\",\"齟齬\")","v":"問題なし"}]
[null,26,null,"",null,null,null,{"$f":"IF(陽性者一覧4[[#This Row],[職員・入所者の別]]=\"職員\",N43,IF(陽性者一覧4[[#This Row],[職員・入所者の別]]=\"入所者\",IF(陽性者一覧4[[#This Row],[発症時症状等]]=\"無症状\",N43,M43),\"\"))","v":""},null,null,null,null,{"$f":"IF(陽性者一覧4[[#This Row],[発症日・検体採取日]]=\"\",\"\",陽性者一覧4[[#This Row],[発症日・検体採取日]]+11)","v":""},{"$f":"IF(陽性者一覧4[[#This Row],[発症日・検体採取日]]=\"\",\"\",陽性者一覧4[[#This Row],[発症日・検体採取日]]+8)","v":""},{"$f":"IF(OR(陽性者一覧4[[#This Row],[療養解除予定日]]=M43,陽性者一覧4[[#This Row],[療養解除予定日]]=N43),\"問題なし\",\"齟齬\")","v":"問題なし"}]
[null,27,null,"",null,null,null,{"$f":"IF(陽性者一覧4[[#This Row],[職員・入所者の別]]=\"職員\",N44,IF(陽性者一覧4[[#This Row],[職員・入所者の別]]=\"入所者\",IF(陽性者一覧4[[#This Row],[発症時症状等]]=\"無症状\",N44,M44),\"\"))","v":""},null,null,null,null,{"$f":"IF(陽性者一覧4[[#This Row],[発症日・検体採取日]]=\"\",\"\",陽性者一覧4[[#This Row],[発症日・検体採取日]]+11)","v":""},{"$f":"IF(陽性者一覧4[[#This Row],[発症日・検体採取日]]=\"\",\"\",陽性者一覧4[[#This Row],[発症日・検体採取日]]+8)","v":""},{"$f":"IF(OR(陽性者一覧4[[#This Row],[療養解除予定日]]=M44,陽性者一覧4[[#This Row],[療養解除予定日]]=N44),\"問題なし\",\"齟齬\")","v":"問題なし"}]
[null,28,null,"",null,null,null,{"$f":"IF(陽性者一覧4[[#This Row],[職員・入所者の別]]=\"職員\",N45,IF(陽性者一覧4[[#This Row],[職員・入所者の別]]=\"入所者\",IF(陽性者一覧4[[#This Row],[発症時症状等]]=\"無症状\",N45,M45),\"\"))","v":""},null,null,null,null,{"$f":"IF(陽性者一覧4[[#This Row],[発症日・検体採取日]]=\"\",\"\",陽性者一覧4[[#This Row],[発症日・検体採取日]]+11)","v":""},{"$f":"IF(陽性者一覧4[[#This Row],[発症日・検体採取日]]=\"\",\"\",陽性者一覧4[[#This Row],[発症日・検体採取日]]+8)","v":""},{"$f":"IF(OR(陽性者一覧4[[#This Row],[療養解除予定日]]=M45,陽性者一覧4[[#This Row],[療養解除予定日]]=N45),\"問題なし\",\"齟齬\")","v":"問題なし"}]
[null,29,null,"",null,null,null,{"$f":"IF(陽性者一覧4[[#This Row],[職員・入所者の別]]=\"職員\",N46,IF(陽性者一覧4[[#This Row],[職員・入所者の別]]=\"入所者\",IF(陽性者一覧4[[#This Row],[発症時症状等]]=\"無症状\",N46,M46),\"\"))","v":""},null,null,null,null,{"$f":"IF(陽性者一覧4[[#This Row],[発症日・検体採取日]]=\"\",\"\",陽性者一覧4[[#This Row],[発症日・検体採取日]]+11)","v":""},{"$f":"IF(陽性者一覧4[[#This Row],[発症日・検体採取日]]=\"\",\"\",陽性者一覧4[[#This Row],[発症日・検体採取日]]+8)","v":""},{"$f":"IF(OR(陽性者一覧4[[#This Row],[療養解除予定日]]=M46,陽性者一覧4[[#This Row],[療養解除予定日]]=N46),\"問題なし\",\"齟齬\")","v":"問題なし"}]
[null,30,null,"",null,null,null,{"$f":"IF(陽性者一覧4[[#This Row],[職員・入所者の別]]=\"職員\",N47,IF(陽性者一覧4[[#This Row],[職員・入所者の別]]=\"入所者\",IF(陽性者一覧4[[#This Row],[発症時症状等]]=\"無症状\",N47,M47),\"\"))","v":""},null,null,null,null,{"$f":"IF(陽性者一覧4[[#This Row],[発症日・検体採取日]]=\"\",\"\",陽性者一覧4[[#This Row],[発症日・検体採取日]]+11)","v":""},{"$f":"IF(陽性者一覧4[[#This Row],[発症日・検体採取日]]=\"\",\"\",陽性者一覧4[[#This Row],[発症日・検体採取日]]+8)","v":""},{"$f":"IF(OR(陽性者一覧4[[#This Row],[療養解除予定日]]=M47,陽性者一覧4[[#This Row],[療養解除予定日]]=N47),\"問題なし\",\"齟齬\")","v":"問題なし"}]
[null,31,null,{"$f":"PHONETIC(C48)","v":""},null,null,null,{"$f":"IF(陽性者一覧4[[#This Row],[職員・入所者の別]]=\"職員\",N48,IF(陽性者一覧4[[#This Row],[職員・入所者の別]]=\"入所者\",IF(陽性者一覧4[[#This Row],[発症時症状等]]=\"無症状\",N48,M48),\"\"))","v":""},null,null,null,null,{"$f":"IF(陽性者一覧4[[#This Row],[発症日・検体採取日]]=\"\",\"\",陽性者一覧4[[#This Row],[発症日・検体採取日]]+11)","v":""},{"$f":"IF(陽性者一覧4[[#This Row],[発症日・検体採取日]]=\"\",\"\",陽性者一覧4[[#This Row],[発症日・検体採取日]]+8)","v":""},{"$f":"IF(OR(陽性者一覧4[[#This Row],[療養解除予定日]]=M48,陽性者一覧4[[#This Row],[療養解除予定日]]=N48),\"問題なし\",\"齟齬\")","v":"問題なし"}]
[null,32,null,"",null,null,null,{"$f":"IF(陽性者一覧4[[#This Row],[職員・入所者の別]]=\"職員\",N49,IF(陽性者一覧4[[#This Row],[職員・入所者の別]]=\"入所者\",IF(陽性者一覧4[[#This Row],[発症時症状等]]=\"無症状\",N49,M49),\"\"))","v":""},null,null,null,null,{"$f":"IF(陽性者一覧4[[#This Row],[発症日・検体採取日]]=\"\",\"\",陽性者一覧4[[#This Row],[発症日・検体採取日]]+11)","v":""},{"$f":"IF(陽性者一覧4[[#This Row],[発症日・検体採取日]]=\"\",\"\",陽性者一覧4[[#This Row],[発症日・検体採取日]]+8)","v":""},{"$f":"IF(OR(陽性者一覧4[[#This Row],[療養解除予定日]]=M49,陽性者一覧4[[#This Row],[療養解除予定日]]=N49),\"問題なし\",\"齟齬\")","v":"問題なし"}]
[null,33,null,"",null,null,null,{"$f":"IF(陽性者一覧4[[#This Row],[職員・入所者の別]]=\"職員\",N50,IF(陽性者一覧4[[#This Row],[職員・入所者の別]]=\"入所者\",IF(陽性者一覧4[[#This Row],[発症時症状等]]=\"無症状\",N50,M50),\"\"))","v":""},null,null,null,null,{"$f":"IF(陽性者一覧4[[#This Row],[発症日・検体採取日]]=\"\",\"\",陽性者一覧4[[#This Row],[発症日・検体採取日]]+11)","v":""},{"$f":"IF(陽性者一覧4[[#This Row],[発症日・検体採取日]]=\"\",\"\",陽性者一覧4[[#This Row],[発症日・検体採取日]]+8)","v":""},{"$f":"IF(OR(陽性者一覧4[[#This Row],[療養解除予定日]]=M50,陽性者一覧4[[#This Row],[療養解除予定日]]=N50),\"問題なし\",\"齟齬\")","v":"問題なし"}]
[null,34,null,"",null,null,null,{"$f":"IF(陽性者一覧4[[#This Row],[職員・入所者の別]]=\"職員\",N51,IF(陽性者一覧4[[#This Row],[職員・入所者の別]]=\"入所者\",IF(陽性者一覧4[[#This Row],[発症時症状等]]=\"無症状\",N51,M51),\"\"))","v":""},null,null,null,null,{"$f":"IF(陽性者一覧4[[#This Row],[発症日・検体採取日]]=\"\",\"\",陽性者一覧4[[#This Row],[発症日・検体採取日]]+11)","v":""},{"$f":"IF(陽性者一覧4[[#This Row],[発症日・検体採取日]]=\"\",\"\",陽性者一覧4[[#This Row],[発症日・検体採取日]]+8)","v":""},{"$f":"IF(OR(陽性者一覧4[[#This Row],[療養解除予定日]]=M51,陽性者一覧4[[#This Row],[療養解除予定日]]=N51),\"問題なし\",\"齟齬\")","v":"問題なし"}]
[null,35,null,"",null,null,null,{"$f":"IF(陽性者一覧4[[#This Row],[職員・入所者の別]]=\"職員\",N52,IF(陽性者一覧4[[#This Row],[職員・入所者の別]]=\"入所者\",IF(陽性者一覧4[[#This Row],[発症時症状等]]=\"無症状\",N52,M52),\"\"))","v":""},null,null,null,null,{"$f":"IF(陽性者一覧4[[#This Row],[発症日・検体採取日]]=\"\",\"\",陽性者一覧4[[#This Row],[発症日・検体採取日]]+11)","v":""},{"$f":"IF(陽性者一覧4[[#This Row],[発症日・検体採取日]]=\"\",\"\",陽性者一覧4[[#This Row],[発症日・検体採取日]]+8)","v":""},{"$f":"IF(OR(陽性者一覧4[[#This Row],[療養解除予定日]]=M52,陽性者一覧4[[#This Row],[療養解除予定日]]=N52),\"問題なし\",\"齟齬\")","v":"問題なし"}]
[null,36,null,"",null,null,null,{"$f":"IF(陽性者一覧4[[#This Row],[職員・入所者の別]]=\"職員\",N53,IF(陽性者一覧4[[#This Row],[職員・入所者の別]]=\"入所者\",IF(陽性者一覧4[[#This Row],[発症時症状等]]=\"無症状\",N53,M53),\"\"))","v":""},null,null,null,null,{"$f":"IF(陽性者一覧4[[#This Row],[発症日・検体採取日]]=\"\",\"\",陽性者一覧4[[#This Row],[発症日・検体採取日]]+11)","v":""},{"$f":"IF(陽性者一覧4[[#This Row],[発症日・検体採取日]]=\"\",\"\",陽性者一覧4[[#This Row],[発症日・検体採取日]]+8)","v":""},{"$f":"IF(OR(陽性者一覧4[[#This Row],[療養解除予定日]]=M53,陽性者一覧4[[#This Row],[療養解除予定日]]=N53),\"問題なし\",\"齟齬\")","v":"問題なし"}]
[null,37,null,"",null,null,null,{"$f":"IF(陽性者一覧4[[#This Row],[職員・入所者の別]]=\"職員\",N54,IF(陽性者一覧4[[#This Row],[職員・入所者の別]]=\"入所者\",IF(陽性者一覧4[[#This Row],[発症時症状等]]=\"無症状\",N54,M54),\"\"))","v":""},null,null,null,null,{"$f":"IF(陽性者一覧4[[#This Row],[発症日・検体採取日]]=\"\",\"\",陽性者一覧4[[#This Row],[発症日・検体採取日]]+11)","v":""},{"$f":"IF(陽性者一覧4[[#This Row],[発症日・検体採取日]]=\"\",\"\",陽性者一覧4[[#This Row],[発症日・検体採取日]]+8)","v":""},{"$f":"IF(OR(陽性者一覧4[[#This Row],[療養解除予定日]]=M54,陽性者一覧4[[#This Row],[療養解除予定日]]=N54),\"問題なし\",\"齟齬\")","v":"問題なし"}]
[null,38,null,"",null,null,null,{"$f":"IF(陽性者一覧4[[#This Row],[職員・入所者の別]]=\"職員\",N55,IF(陽性者一覧4[[#This Row],[職員・入所者の別]]=\"入所者\",IF(陽性者一覧4[[#This Row],[発症時症状等]]=\"無症状\",N55,M55),\"\"))","v":""},null,null,null,null,{"$f":"IF(陽性者一覧4[[#This Row],[発症日・検体採取日]]=\"\",\"\",陽性者一覧4[[#This Row],[発症日・検体採取日]]+11)","v":""},{"$f":"IF(陽性者一覧4[[#This Row],[発症日・検体採取日]]=\"\",\"\",陽性者一覧4[[#This Row],[発症日・検体採取日]]+8)","v":""},{"$f":"IF(OR(陽性者一覧4[[#This Row],[療養解除予定日]]=M55,陽性者一覧4[[#This Row],[療養解除予定日]]=N55),\"問題なし\",\"齟齬\")","v":"問題なし"}]
[null,39,null,"",null,null,null,{"$f":"IF(陽性者一覧4[[#This Row],[職員・入所者の別]]=\"職員\",N56,IF(陽性者一覧4[[#This Row],[職員・入所者の別]]=\"入所者\",IF(陽性者一覧4[[#This Row],[発症時症状等]]=\"無症状\",N56,M56),\"\"))","v":""},null,null,null,null,{"$f":"IF(陽性者一覧4[[#This Row],[発症日・検体採取日]]=\"\",\"\",陽性者一覧4[[#This Row],[発症日・検体採取日]]+11)","v":""},{"$f":"IF(陽性者一覧4[[#This Row],[発症日・検体採取日]]=\"\",\"\",陽性者一覧4[[#This Row],[発症日・検体採取日]]+8)","v":""},{"$f":"IF(OR(陽性者一覧4[[#This Row],[療養解除予定日]]=M56,陽性者一覧4[[#This Row],[療養解除予定日]]=N56),\"問題なし\",\"齟齬\")","v":"問題なし"}]
[null,40,null,"",null,null,null,{"$f":"IF(陽性者一覧4[[#This Row],[職員・入所者の別]]=\"職員\",N57,IF(陽性者一覧4[[#This Row],[職員・入所者の別]]=\"入所者\",IF(陽性者一覧4[[#This Row],[発症時症状等]]=\"無症状\",N57,M57),\"\"))","v":""},null,null,null,null,{"$f":"IF(陽性者一覧4[[#This Row],[発症日・検体採取日]]=\"\",\"\",陽性者一覧4[[#This Row],[発症日・検体採取日]]+11)","v":""},{"$f":"IF(陽性者一覧4[[#This Row],[発症日・検体採取日]]=\"\",\"\",陽性者一覧4[[#This Row],[発症日・検体採取日]]+8)","v":""},{"$f":"IF(OR(陽性者一覧4[[#This Row],[療養解除予定日]]=M57,陽性者一覧4[[#This Row],[療養解除予定日]]=N57),\"問題なし\",\"齟齬\")","v":"問題なし"}]
[null,41,null,"",null,null,null,{"$f":"IF(陽性者一覧4[[#This Row],[職員・入所者の別]]=\"職員\",N58,IF(陽性者一覧4[[#This Row],[職員・入所者の別]]=\"入所者\",IF(陽性者一覧4[[#This Row],[発症時症状等]]=\"無症状\",N58,M58),\"\"))","v":""},null,null,null,null,{"$f":"IF(陽性者一覧4[[#This Row],[発症日・検体採取日]]=\"\",\"\",陽性者一覧4[[#This Row],[発症日・検体採取日]]+11)","v":""},{"$f":"IF(陽性者一覧4[[#This Row],[発症日・検体採取日]]=\"\",\"\",陽性者一覧4[[#This Row],[発症日・検体採取日]]+8)","v":""},{"$f":"IF(OR(陽性者一覧4[[#This Row],[療養解除予定日]]=M58,陽性者一覧4[[#This Row],[療養解除予定日]]=N58),\"問題なし\",\"齟齬\")","v":"問題なし"}]
[null,42,null,"",null,null,null,{"$f":"IF(陽性者一覧4[[#This Row],[職員・入所者の別]]=\"職員\",N59,IF(陽性者一覧4[[#This Row],[職員・入所者の別]]=\"入所者\",IF(陽性者一覧4[[#This Row],[発症時症状等]]=\"無症状\",N59,M59),\"\"))","v":""},null,null,null,null,{"$f":"IF(陽性者一覧4[[#This Row],[発症日・検体採取日]]=\"\",\"\",陽性者一覧4[[#This Row],[発症日・検体採取日]]+11)","v":""},{"$f":"IF(陽性者一覧4[[#This Row],[発症日・検体採取日]]=\"\",\"\",陽性者一覧4[[#This Row],[発症日・検体採取日]]+8)","v":""},{"$f":"IF(OR(陽性者一覧4[[#This Row],[療養解除予定日]]=M59,陽性者一覧4[[#This Row],[療養解除予定日]]=N59),\"問題なし\",\"齟齬\")","v":"問題なし"}]
[null,43,null,"",null,null,null,{"$f":"IF(陽性者一覧4[[#This Row],[職員・入所者の別]]=\"職員\",N60,IF(陽性者一覧4[[#This Row],[職員・入所者の別]]=\"入所者\",IF(陽性者一覧4[[#This Row],[発症時症状等]]=\"無症状\",N60,M60),\"\"))","v":""},null,null,null,null,{"$f":"IF(陽性者一覧4[[#This Row],[発症日・検体採取日]]=\"\",\"\",陽性者一覧4[[#This Row],[発症日・検体採取日]]+11)","v":""},{"$f":"IF(陽性者一覧4[[#This Row],[発症日・検体採取日]]=\"\",\"\",陽性者一覧4[[#This Row],[発症日・検体採取日]]+8)","v":""},{"$f":"IF(OR(陽性者一覧4[[#This Row],[療養解除予定日]]=M60,陽性者一覧4[[#This Row],[療養解除予定日]]=N60),\"問題なし\",\"齟齬\")","v":"問題なし"}]
[null,44,null,"",null,null,null,{"$f":"IF(陽性者一覧4[[#This Row],[職員・入所者の別]]=\"職員\",N61,IF(陽性者一覧4[[#This Row],[職員・入所者の別]]=\"入所者\",IF(陽性者一覧4[[#This Row],[発症時症状等]]=\"無症状\",N61,M61),\"\"))","v":""},null,null,null,null,{"$f":"IF(陽性者一覧4[[#This Row],[発症日・検体採取日]]=\"\",\"\",陽性者一覧4[[#This Row],[発症日・検体採取日]]+11)","v":""},{"$f":"IF(陽性者一覧4[[#This Row],[発症日・検体採取日]]=\"\",\"\",陽性者一覧4[[#This Row],[発症日・検体採取日]]+8)","v":""},{"$f":"IF(OR(陽性者一覧4[[#This Row],[療養解除予定日]]=M61,陽性者一覧4[[#This Row],[療養解除予定日]]=N61),\"問題なし\",\"齟齬\")","v":"問題なし"}]
[null,45,null,"",null,null,null,{"$f":"IF(陽性者一覧4[[#This Row],[職員・入所者の別]]=\"職員\",N62,IF(陽性者一覧4[[#This Row],[職員・入所者の別]]=\"入所者\",IF(陽性者一覧4[[#This Row],[発症時症状等]]=\"無症状\",N62,M62),\"\"))","v":""},null,null,null,null,{"$f":"IF(陽性者一覧4[[#This Row],[発症日・検体採取日]]=\"\",\"\",陽性者一覧4[[#This Row],[発症日・検体採取日]]+11)","v":""},{"$f":"IF(陽性者一覧4[[#This Row],[発症日・検体採取日]]=\"\",\"\",陽性者一覧4[[#This Row],[発症日・検体採取日]]+8)","v":""},{"$f":"IF(OR(陽性者一覧4[[#This Row],[療養解除予定日]]=M62,陽性者一覧4[[#This Row],[療養解除予定日]]=N62),\"問題なし\",\"齟齬\")","v":"問題なし"}]
[null,46,null,"",null,null,null,{"$f":"IF(陽性者一覧4[[#This Row],[職員・入所者の別]]=\"職員\",N63,IF(陽性者一覧4[[#This Row],[職員・入所者の別]]=\"入所者\",IF(陽性者一覧4[[#This Row],[発症時症状等]]=\"無症状\",N63,M63),\"\"))","v":""},null,null,null,null,{"$f":"IF(陽性者一覧4[[#This Row],[発症日・検体採取日]]=\"\",\"\",陽性者一覧4[[#This Row],[発症日・検体採取日]]+11)","v":""},{"$f":"IF(陽性者一覧4[[#This Row],[発症日・検体採取日]]=\"\",\"\",陽性者一覧4[[#This Row],[発症日・検体採取日]]+8)","v":""},{"$f":"IF(OR(陽性者一覧4[[#This Row],[療養解除予定日]]=M63,陽性者一覧4[[#This Row],[療養解除予定日]]=N63),\"問題なし\",\"齟齬\")","v":"問題なし"}]
[null,47,null,"",null,null,null,{"$f":"IF(陽性者一覧4[[#This Row],[職員・入所者の別]]=\"職員\",N64,IF(陽性者一覧4[[#This Row],[職員・入所者の別]]=\"入所者\",IF(陽性者一覧4[[#This Row],[発症時症状等]]=\"無症状\",N64,M64),\"\"))","v":""},null,null,null,null,{"$f":"IF(陽性者一覧4[[#This Row],[発症日・検体採取日]]=\"\",\"\",陽性者一覧4[[#This Row],[発症日・検体採取日]]+11)","v":""},{"$f":"IF(陽性者一覧4[[#This Row],[発症日・検体採取日]]=\"\",\"\",陽性者一覧4[[#This Row],[発症日・検体採取日]]+8)","v":""},{"$f":"IF(OR(陽性者一覧4[[#This Row],[療養解除予定日]]=M64,陽性者一覧4[[#This Row],[療養解除予定日]]=N64),\"問題なし\",\"齟齬\")","v":"問題なし"}]
[null,48,null,"",null,null,null,{"$f":"IF(陽性者一覧4[[#This Row],[職員・入所者の別]]=\"職員\",N65,IF(陽性者一覧4[[#This Row],[職員・入所者の別]]=\"入所者\",IF(陽性者一覧4[[#This Row],[発症時症状等]]=\"無症状\",N65,M65),\"\"))","v":""},null,null,null,null,{"$f":"IF(陽性者一覧4[[#This Row],[発症日・検体採取日]]=\"\",\"\",陽性者一覧4[[#This Row],[発症日・検体採取日]]+11)","v":""},{"$f":"IF(陽性者一覧4[[#This Row],[発症日・検体採取日]]=\"\",\"\",陽性者一覧4[[#This Row],[発症日・検体採取日]]+8)","v":""},{"$f":"IF(OR(陽性者一覧4[[#This Row],[療養解除予定日]]=M65,陽性者一覧4[[#This Row],[療養解除予定日]]=N65),\"問題なし\",\"齟齬\")","v":"問題なし"}]
[null,49,null,"",null,null,null,{"$f":"IF(陽性者一覧4[[#This Row],[職員・入所者の別]]=\"職員\",N66,IF(陽性者一覧4[[#This Row],[職員・入所者の別]]=\"入所者\",IF(陽性者一覧4[[#This Row],[発症時症状等]]=\"無症状\",N66,M66),\"\"))","v":""},null,null,null,null,{"$f":"IF(陽性者一覧4[[#This Row],[発症日・検体採取日]]=\"\",\"\",陽性者一覧4[[#This Row],[発症日・検体採取日]]+11)","v":""},{"$f":"IF(陽性者一覧4[[#This Row],[発症日・検体採取日]]=\"\",\"\",陽性者一覧4[[#This Row],[発症日・検体採取日]]+8)","v":""},{"$f":"IF(OR(陽性者一覧4[[#This Row],[療養解除予定日]]=M66,陽性者一覧4[[#This Row],[療養解除予定日]]=N66),\"問題なし\",\"齟齬\")","v":"問題なし"}]
[null,50,null,"",null,null,null,{"$f":"IF(陽性者一覧4[[#This Row],[職員・入所者の別]]=\"職員\",N67,IF(陽性者一覧4[[#This Row],[職員・入所者の別]]=\"入所者\",IF(陽性者一覧4[[#This Row],[発症時症状等]]=\"無症状\",N67,M67),\"\"))","v":""},null,null,null,null,{"$f":"IF(陽性者一覧4[[#This Row],[発症日・検体採取日]]=\"\",\"\",陽性者一覧4[[#This Row],[発症日・検体採取日]]+11)","v":""},{"$f":"IF(陽性者一覧4[[#This Row],[発症日・検体採取日]]=\"\",\"\",陽性者一覧4[[#This Row],[発症日・検体採取日]]+8)","v":""},{"$f":"IF(OR(陽性者一覧4[[#This Row],[療養解除予定日]]=M67,陽性者一覧4[[#This Row],[療養解除予定日]]=N67),\"問題なし\",\"齟齬\")","v":"問題なし"}]
[null,51,null,{"$f":"PHONETIC(C68)","v":""},null,null,null,{"$f":"IF(陽性者一覧4[[#This Row],[職員・入所者の別]]=\"職員\",N68,IF(陽性者一覧4[[#This Row],[職員・入所者の別]]=\"入所者\",IF(陽性者一覧4[[#This Row],[発症時症状等]]=\"無症状\",N68,M68),\"\"))","v":""},null,null,null,null,{"$f":"IF(陽性者一覧4[[#This Row],[発症日・検体採取日]]=\"\",\"\",陽性者一覧4[[#This Row],[発症日・検体採取日]]+11)","v":""},{"$f":"IF(陽性者一覧4[[#This Row],[発症日・検体採取日]]=\"\",\"\",陽性者一覧4[[#This Row],[発症日・検体採取日]]+8)","v":""},{"$f":"IF(OR(陽性者一覧4[[#This Row],[療養解除予定日]]=M68,陽性者一覧4[[#This Row],[療養解除予定日]]=N68),\"問題なし\",\"齟齬\")","v":"問題なし"}]
[null,52,null,"",null,null,null,{"$f":"IF(陽性者一覧4[[#This Row],[職員・入所者の別]]=\"職員\",N69,IF(陽性者一覧4[[#This Row],[職員・入所者の別]]=\"入所者\",IF(陽性者一覧4[[#This Row],[発症時症状等]]=\"無症状\",N69,M69),\"\"))","v":""},null,null,null,null,{"$f":"IF(陽性者一覧4[[#This Row],[発症日・検体採取日]]=\"\",\"\",陽性者一覧4[[#This Row],[発症日・検体採取日]]+11)","v":""},{"$f":"IF(陽性者一覧4[[#This Row],[発症日・検体採取日]]=\"\",\"\",陽性者一覧4[[#This Row],[発症日・検体採取日]]+8)","v":""},{"$f":"IF(OR(陽性者一覧4[[#This Row],[療養解除予定日]]=M69,陽性者一覧4[[#This Row],[療養解除予定日]]=N69),\"問題なし\",\"齟齬\")","v":"問題なし"}]
[null,53,null,"",null,null,null,{"$f":"IF(陽性者一覧4[[#This Row],[職員・入所者の別]]=\"職員\",N70,IF(陽性者一覧4[[#This Row],[職員・入所者の別]]=\"入所者\",IF(陽性者一覧4[[#This Row],[発症時症状等]]=\"無症状\",N70,M70),\"\"))","v":""},null,null,null,null,{"$f":"IF(陽性者一覧4[[#This Row],[発症日・検体採取日]]=\"\",\"\",陽性者一覧4[[#This Row],[発症日・検体採取日]]+11)","v":""},{"$f":"IF(陽性者一覧4[[#This Row],[発症日・検体採取日]]=\"\",\"\",陽性者一覧4[[#This Row],[発症日・検体採取日]]+8)","v":""},{"$f":"IF(OR(陽性者一覧4[[#This Row],[療養解除予定日]]=M70,陽性者一覧4[[#This Row],[療養解除予定日]]=N70),\"問題なし\",\"齟齬\")","v":"問題なし"}]
[null,54,null,"",null,null,null,{"$f":"IF(陽性者一覧4[[#This Row],[職員・入所者の別]]=\"職員\",N71,IF(陽性者一覧4[[#This Row],[職員・入所者の別]]=\"入所者\",IF(陽性者一覧4[[#This Row],[発症時症状等]]=\"無症状\",N71,M71),\"\"))","v":""},null,null,null,null,{"$f":"IF(陽性者一覧4[[#This Row],[発症日・検体採取日]]=\"\",\"\",陽性者一覧4[[#This Row],[発症日・検体採取日]]+11)","v":""},{"$f":"IF(陽性者一覧4[[#This Row],[発症日・検体採取日]]=\"\",\"\",陽性者一覧4[[#This Row],[発症日・検体採取日]]+8)","v":""},{"$f":"IF(OR(陽性者一覧4[[#This Row],[療養解除予定日]]=M71,陽性者一覧4[[#This Row],[療養解除予定日]]=N71),\"問題なし\",\"齟齬\")","v":"問題なし"}]
[null,55,null,"",null,null,null,{"$f":"IF(陽性者一覧4[[#This Row],[職員・入所者の別]]=\"職員\",N72,IF(陽性者一覧4[[#This Row],[職員・入所者の別]]=\"入所者\",IF(陽性者一覧4[[#This Row],[発症時症状等]]=\"無症状\",N72,M72),\"\"))","v":""},null,null,null,null,{"$f":"IF(陽性者一覧4[[#This Row],[発症日・検体採取日]]=\"\",\"\",陽性者一覧4[[#This Row],[発症日・検体採取日]]+11)","v":""},{"$f":"IF(陽性者一覧4[[#This Row],[発症日・検体採取日]]=\"\",\"\",陽性者一覧4[[#This Row],[発症日・検体採取日]]+8)","v":""},{"$f":"IF(OR(陽性者一覧4[[#This Row],[療養解除予定日]]=M72,陽性者一覧4[[#This Row],[療養解除予定日]]=N72),\"問題なし\",\"齟齬\")","v":"問題なし"}]
[null,56,null,"",null,null,null,{"$f":"IF(陽性者一覧4[[#This Row],[職員・入所者の別]]=\"職員\",N73,IF(陽性者一覧4[[#This Row],[職員・入所者の別]]=\"入所者\",IF(陽性者一覧4[[#This Row],[発症時症状等]]=\"無症状\",N73,M73),\"\"))","v":""},null,null,null,null,{"$f":"IF(陽性者一覧4[[#This Row],[発症日・検体採取日]]=\"\",\"\",陽性者一覧4[[#This Row],[発症日・検体採取日]]+11)","v":""},{"$f":"IF(陽性者一覧4[[#This Row],[発症日・検体採取日]]=\"\",\"\",陽性者一覧4[[#This Row],[発症日・検体採取日]]+8)","v":""},{"$f":"IF(OR(陽性者一覧4[[#This Row],[療養解除予定日]]=M73,陽性者一覧4[[#This Row],[療養解除予定日]]=N73),\"問題なし\",\"齟齬\")","v":"問題なし"}]
[null,57,null,"",null,null,null,{"$f":"IF(陽性者一覧4[[#This Row],[職員・入所者の別]]=\"職員\",N74,IF(陽性者一覧4[[#This Row],[職員・入所者の別]]=\"入所者\",IF(陽性者一覧4[[#This Row],[発症時症状等]]=\"無症状\",N74,M74),\"\"))","v":""},null,null,null,null,{"$f":"IF(陽性者一覧4[[#This Row],[発症日・検体採取日]]=\"\",\"\",陽性者一覧4[[#This Row],[発症日・検体採取日]]+11)","v":""},{"$f":"IF(陽性者一覧4[[#This Row],[発症日・検体採取日]]=\"\",\"\",陽性者一覧4[[#This Row],[発症日・検体採取日]]+8)","v":""},{"$f":"IF(OR(陽性者一覧4[[#This Row],[療養解除予定日]]=M74,陽性者一覧4[[#This Row],[療養解除予定日]]=N74),\"問題なし\",\"齟齬\")","v":"問題なし"}]
[null,58,null,"",null,null,null,{"$f":"IF(陽性者一覧4[[#This Row],[職員・入所者の別]]=\"職員\",N75,IF(陽性者一覧4[[#This Row],[職員・入所者の別]]=\"入所者\",IF(陽性者一覧4[[#This Row],[発症時症状等]]=\"無症状\",N75,M75),\"\"))","v":""},null,null,null,null,{"$f":"IF(陽性者一覧4[[#This Row],[発症日・検体採取日]]=\"\",\"\",陽性者一覧4[[#This Row],[発症日・検体採取日]]+11)","v":""},{"$f":"IF(陽性者一覧4[[#This Row],[発症日・検体採取日]]=\"\",\"\",陽性者一覧4[[#This Row],[発症日・検体採取日]]+8)","v":""},{"$f":"IF(OR(陽性者一覧4[[#This Row],[療養解除予定日]]=M75,陽性者一覧4[[#This Row],[療養解除予定日]]=N75),\"問題なし\",\"齟齬\")","v":"問題なし"}]
[null,59,null,"",null,null,null,{"$f":"IF(陽性者一覧4[[#This Row],[職員・入所者の別]]=\"職員\",N76,IF(陽性者一覧4[[#This Row],[職員・入所者の別]]=\"入所者\",IF(陽性者一覧4[[#This Row],[発症時症状等]]=\"無症状\",N76,M76),\"\"))","v":""},null,null,null,null,{"$f":"IF(陽性者一覧4[[#This Row],[発症日・検体採取日]]=\"\",\"\",陽性者一覧4[[#This Row],[発症日・検体採取日]]+11)","v":""},{"$f":"IF(陽性者一覧4[[#This Row],[発症日・検体採取日]]=\"\",\"\",陽性者一覧4[[#This Row],[発症日・検体採取日]]+8)","v":""},{"$f":"IF(OR(陽性者一覧4[[#This Row],[療養解除予定日]]=M76,陽性者一覧4[[#This Row],[療養解除予定日]]=N76),\"問題なし\",\"齟齬\")","v":"問題なし"}]
[null,60,null,"",null,null,null,{"$f":"IF(陽性者一覧4[[#This Row],[職員・入所者の別]]=\"職員\",N77,IF(陽性者一覧4[[#This Row],[職員・入所者の別]]=\"入所者\",IF(陽性者一覧4[[#This Row],[発症時症状等]]=\"無症状\",N77,M77),\"\"))","v":""},null,null,null,null,{"$f":"IF(陽性者一覧4[[#This Row],[発症日・検体採取日]]=\"\",\"\",陽性者一覧4[[#This Row],[発症日・検体採取日]]+11)","v":""},{"$f":"IF(陽性者一覧4[[#This Row],[発症日・検体採取日]]=\"\",\"\",陽性者一覧4[[#This Row],[発症日・検体採取日]]+8)","v":""},{"$f":"IF(OR(陽性者一覧4[[#This Row],[療養解除予定日]]=M77,陽性者一覧4[[#This Row],[療養解除予定日]]=N77),\"問題なし\",\"齟齬\")","v":"問題なし"}]
[null,61,null,"",null,null,null,{"$f":"IF(陽性者一覧4[[#This Row],[職員・入所者の別]]=\"職員\",N78,IF(陽性者一覧4[[#This Row],[職員・入所者の別]]=\"入所者\",IF(陽性者一覧4[[#This Row],[発症時症状等]]=\"無症状\",N78,M78),\"\"))","v":""},null,null,null,null,{"$f":"IF(陽性者一覧4[[#This Row],[発症日・検体採取日]]=\"\",\"\",陽性者一覧4[[#This Row],[発症日・検体採取日]]+11)","v":""},{"$f":"IF(陽性者一覧4[[#This Row],[発症日・検体採取日]]=\"\",\"\",陽性者一覧4[[#This Row],[発症日・検体採取日]]+8)","v":""},{"$f":"IF(OR(陽性者一覧4[[#This Row],[療養解除予定日]]=M78,陽性者一覧4[[#This Row],[療養解除予定日]]=N78),\"問題なし\",\"齟齬\")","v":"問題なし"}]
[null,62,null,"",null,null,null,{"$f":"IF(陽性者一覧4[[#This Row],[職員・入所者の別]]=\"職員\",N79,IF(陽性者一覧4[[#This Row],[職員・入所者の別]]=\"入所者\",IF(陽性者一覧4[[#This Row],[発症時症状等]]=\"無症状\",N79,M79),\"\"))","v":""},null,null,null,null,{"$f":"IF(陽性者一覧4[[#This Row],[発症日・検体採取日]]=\"\",\"\",陽性者一覧4[[#This Row],[発症日・検体採取日]]+11)","v":""},{"$f":"IF(陽性者一覧4[[#This Row],[発症日・検体採取日]]=\"\",\"\",陽性者一覧4[[#This Row],[発症日・検体採取日]]+8)","v":""},{"$f":"IF(OR(陽性者一覧4[[#This Row],[療養解除予定日]]=M79,陽性者一覧4[[#This Row],[療養解除予定日]]=N79),\"問題なし\",\"齟齬\")","v":"問題なし"}]
[null,63,null,"",null,null,null,{"$f":"IF(陽性者一覧4[[#This Row],[職員・入所者の別]]=\"職員\",N80,IF(陽性者一覧4[[#This Row],[職員・入所者の別]]=\"入所者\",IF(陽性者一覧4[[#This Row],[発症時症状等]]=\"無症状\",N80,M80),\"\"))","v":""},null,null,null,null,{"$f":"IF(陽性者一覧4[[#This Row],[発症日・検体採取日]]=\"\",\"\",陽性者一覧4[[#This Row],[発症日・検体採取日]]+11)","v":""},{"$f":"IF(陽性者一覧4[[#This Row],[発症日・検体採取日]]=\"\",\"\",陽性者一覧4[[#This Row],[発症日・検体採取日]]+8)","v":""},{"$f":"IF(OR(陽性者一覧4[[#This Row],[療養解除予定日]]=M80,陽性者一覧4[[#This Row],[療養解除予定日]]=N80),\"問題なし\",\"齟齬\")","v":"問題なし"}]
[null,64,null,"",null,null,null,{"$f":"IF(陽性者一覧4[[#This Row],[職員・入所者の別]]=\"職員\",N81,IF(陽性者一覧4[[#This Row],[職員・入所者の別]]=\"入所者\",IF(陽性者一覧4[[#This Row],[発症時症状等]]=\"無症状\",N81,M81),\"\"))","v":""},null,null,null,null,{"$f":"IF(陽性者一覧4[[#This Row],[発症日・検体採取日]]=\"\",\"\",陽性者一覧4[[#This Row],[発症日・検体採取日]]+11)","v":""},{"$f":"IF(陽性者一覧4[[#This Row],[発症日・検体採取日]]=\"\",\"\",陽性者一覧4[[#This Row],[発症日・検体採取日]]+8)","v":""},{"$f":"IF(OR(陽性者一覧4[[#This Row],[療養解除予定日]]=M81,陽性者一覧4[[#This Row],[療養解除予定日]]=N81),\"問題なし\",\"齟齬\")","v":"問題なし"}]
[null,65,null,"",null,null,null,{"$f":"IF(陽性者一覧4[[#This Row],[職員・入所者の別]]=\"職員\",N82,IF(陽性者一覧4[[#This Row],[職員・入所者の別]]=\"入所者\",IF(陽性者一覧4[[#This Row],[発症時症状等]]=\"無症状\",N82,M82),\"\"))","v":""},null,null,null,null,{"$f":"IF(陽性者一覧4[[#This Row],[発症日・検体採取日]]=\"\",\"\",陽性者一覧4[[#This Row],[発症日・検体採取日]]+11)","v":""},{"$f":"IF(陽性者一覧4[[#This Row],[発症日・検体採取日]]=\"\",\"\",陽性者一覧4[[#This Row],[発症日・検体採取日]]+8)","v":""},{"$f":"IF(OR(陽性者一覧4[[#This Row],[療養解除予定日]]=M82,陽性者一覧4[[#This Row],[療養解除予定日]]=N82),\"問題なし\",\"齟齬\")","v":"問題なし"}]
[null,66,null,"",null,null,null,{"$f":"IF(陽性者一覧4[[#This Row],[職員・入所者の別]]=\"職員\",N83,IF(陽性者一覧4[[#This Row],[職員・入所者の別]]=\"入所者\",IF(陽性者一覧4[[#This Row],[発症時症状等]]=\"無症状\",N83,M83),\"\"))","v":""},null,null,null,null,{"$f":"IF(陽性者一覧4[[#This Row],[発症日・検体採取日]]=\"\",\"\",陽性者一覧4[[#This Row],[発症日・検体採取日]]+11)","v":""},{"$f":"IF(陽性者一覧4[[#This Row],[発症日・検体採取日]]=\"\",\"\",陽性者一覧4[[#This Row],[発症日・検体採取日]]+8)","v":""},{"$f":"IF(OR(陽性者一覧4[[#This Row],[療養解除予定日]]=M83,陽性者一覧4[[#This Row],[療養解除予定日]]=N83),\"問題なし\",\"齟齬\")","v":"問題なし"}]
[null,67,null,"",null,null,null,{"$f":"IF(陽性者一覧4[[#This Row],[職員・入所者の別]]=\"職員\",N84,IF(陽性者一覧4[[#This Row],[職員・入所者の別]]=\"入所者\",IF(陽性者一覧4[[#This Row],[発症時症状等]]=\"無症状\",N84,M84),\"\"))","v":""},null,null,null,null,{"$f":"IF(陽性者一覧4[[#This Row],[発症日・検体採取日]]=\"\",\"\",陽性者一覧4[[#This Row],[発症日・検体採取日]]+11)","v":""},{"$f":"IF(陽性者一覧4[[#This Row],[発症日・検体採取日]]=\"\",\"\",陽性者一覧4[[#This Row],[発症日・検体採取日]]+8)","v":""},{"$f":"IF(OR(陽性者一覧4[[#This Row],[療養解除予定日]]=M84,陽性者一覧4[[#This Row],[療養解除予定日]]=N84),\"問題なし\",\"齟齬\")","v":"問題なし"}]
[null,68,null,"",null,null,null,{"$f":"IF(陽性者一覧4[[#This Row],[職員・入所者の別]]=\"職員\",N85,IF(陽性者一覧4[[#This Row],[職員・入所者の別]]=\"入所者\",IF(陽性者一覧4[[#This Row],[発症時症状等]]=\"無症状\",N85,M85),\"\"))","v":""},null,null,null,null,{"$f":"IF(陽性者一覧4[[#This Row],[発症日・検体採取日]]=\"\",\"\",陽性者一覧4[[#This Row],[発症日・検体採取日]]+11)","v":""},{"$f":"IF(陽性者一覧4[[#This Row],[発症日・検体採取日]]=\"\",\"\",陽性者一覧4[[#This Row],[発症日・検体採取日]]+8)","v":""},{"$f":"IF(OR(陽性者一覧4[[#This Row],[療養解除予定日]]=M85,陽性者一覧4[[#This Row],[療養解除予定日]]=N85),\"問題なし\",\"齟齬\")","v":"問題なし"}]
[null,69,null,"",null,null,null,{"$f":"IF(陽性者一覧4[[#This Row],[職員・入所者の別]]=\"職員\",N86,IF(陽性者一覧4[[#This Row],[職員・入所者の別]]=\"入所者\",IF(陽性者一覧4[[#This Row],[発症時症状等]]=\"無症状\",N86,M86),\"\"))","v":""},null,null,null,null,{"$f":"IF(陽性者一覧4[[#This Row],[発症日・検体採取日]]=\"\",\"\",陽性者一覧4[[#This Row],[発症日・検体採取日]]+11)","v":""},{"$f":"IF(陽性者一覧4[[#This Row],[発症日・検体採取日]]=\"\",\"\",陽性者一覧4[[#This Row],[発症日・検体採取日]]+8)","v":""},{"$f":"IF(OR(陽性者一覧4[[#This Row],[療養解除予定日]]=M86,陽性者一覧4[[#This Row],[療養解除予定日]]=N86),\"問題なし\",\"齟齬\")","v":"問題なし"}]
[null,70,null,"",null,null,null,{"$f":"IF(陽性者一覧4[[#This Row],[職員・入所者の別]]=\"職員\",N87,IF(陽性者一覧4[[#This Row],[職員・入所者の別]]=\"入所者\",IF(陽性者一覧4[[#This Row],[発症時症状等]]=\"無症状\",N87,M87),\"\"))","v":""},null,null,null,null,{"$f":"IF(陽性者一覧4[[#This Row],[発症日・検体採取日]]=\"\",\"\",陽性者一覧4[[#This Row],[発症日・検体採取日]]+11)","v":""},{"$f":"IF(陽性者一覧4[[#This Row],[発症日・検体採取日]]=\"\",\"\",陽性者一覧4[[#This Row],[発症日・検体採取日]]+8)","v":""},{"$f":"IF(OR(陽性者一覧4[[#This Row],[療養解除予定日]]=M87,陽性者一覧4[[#This Row],[療養解除予定日]]=N87),\"問題なし\",\"齟齬\")","v":"問題なし"}]
[null,71,null,{"$f":"PHONETIC(C88)","v":""},null,null,null,{"$f":"IF(陽性者一覧4[[#This Row],[職員・入所者の別]]=\"職員\",N88,IF(陽性者一覧4[[#This Row],[職員・入所者の別]]=\"入所者\",IF(陽性者一覧4[[#This Row],[発症時症状等]]=\"無症状\",N88,M88),\"\"))","v":""},null,null,null,null,{"$f":"IF(陽性者一覧4[[#This Row],[発症日・検体採取日]]=\"\",\"\",陽性者一覧4[[#This Row],[発症日・検体採取日]]+11)","v":""},{"$f":"IF(陽性者一覧4[[#This Row],[発症日・検体採取日]]=\"\",\"\",陽性者一覧4[[#This Row],[発症日・検体採取日]]+8)","v":""},{"$f":"IF(OR(陽性者一覧4[[#This Row],[療養解除予定日]]=M88,陽性者一覧4[[#This Row],[療養解除予定日]]=N88),\"問題なし\",\"齟齬\")","v":"問題なし"}]
[null,72,null,"",null,null,null,{"$f":"IF(陽性者一覧4[[#This Row],[職員・入所者の別]]=\"職員\",N89,IF(陽性者一覧4[[#This Row],[職員・入所者の別]]=\"入所者\",IF(陽性者一覧4[[#This Row],[発症時症状等]]=\"無症状\",N89,M89),\"\"))","v":""},null,null,null,null,{"$f":"IF(陽性者一覧4[[#This Row],[発症日・検体採取日]]=\"\",\"\",陽性者一覧4[[#This Row],[発症日・検体採取日]]+11)","v":""},{"$f":"IF(陽性者一覧4[[#This Row],[発症日・検体採取日]]=\"\",\"\",陽性者一覧4[[#This Row],[発症日・検体採取日]]+8)","v":""},{"$f":"IF(OR(陽性者一覧4[[#This Row],[療養解除予定日]]=M89,陽性者一覧4[[#This Row],[療養解除予定日]]=N89),\"問題なし\",\"齟齬\")","v":"問題なし"}]
[null,73,null,"",null,null,null,{"$f":"IF(陽性者一覧4[[#This Row],[職員・入所者の別]]=\"職員\",N90,IF(陽性者一覧4[[#This Row],[職員・入所者の別]]=\"入所者\",IF(陽性者一覧4[[#This Row],[発症時症状等]]=\"無症状\",N90,M90),\"\"))","v":""},null,null,null,null,{"$f":"IF(陽性者一覧4[[#This Row],[発症日・検体採取日]]=\"\",\"\",陽性者一覧4[[#This Row],[発症日・検体採取日]]+11)","v":""},{"$f":"IF(陽性者一覧4[[#This Row],[発症日・検体採取日]]=\"\",\"\",陽性者一覧4[[#This Row],[発症日・検体採取日]]+8)","v":""},{"$f":"IF(OR(陽性者一覧4[[#This Row],[療養解除予定日]]=M90,陽性者一覧4[[#This Row],[療養解除予定日]]=N90),\"問題なし\",\"齟齬\")","v":"問題なし"}]
[null,74,null,"",null,null,null,{"$f":"IF(陽性者一覧4[[#This Row],[職員・入所者の別]]=\"職員\",N91,IF(陽性者一覧4[[#This Row],[職員・入所者の別]]=\"入所者\",IF(陽性者一覧4[[#This Row],[発症時症状等]]=\"無症状\",N91,M91),\"\"))","v":""},null,null,null,null,{"$f":"IF(陽性者一覧4[[#This Row],[発症日・検体採取日]]=\"\",\"\",陽性者一覧4[[#This Row],[発症日・検体採取日]]+11)","v":""},{"$f":"IF(陽性者一覧4[[#This Row],[発症日・検体採取日]]=\"\",\"\",陽性者一覧4[[#This Row],[発症日・検体採取日]]+8)","v":""},{"$f":"IF(OR(陽性者一覧4[[#This Row],[療養解除予定日]]=M91,陽性者一覧4[[#This Row],[療養解除予定日]]=N91),\"問題なし\",\"齟齬\")","v":"問題なし"}]
[null,75,null,"",null,null,null,{"$f":"IF(陽性者一覧4[[#This Row],[職員・入所者の別]]=\"職員\",N92,IF(陽性者一覧4[[#This Row],[職員・入所者の別]]=\"入所者\",IF(陽性者一覧4[[#This Row],[発症時症状等]]=\"無症状\",N92,M92),\"\"))","v":""},null,null,null,null,{"$f":"IF(陽性者一覧4[[#This Row],[発症日・検体採取日]]=\"\",\"\",陽性者一覧4[[#This Row],[発症日・検体採取日]]+11)","v":""},{"$f":"IF(陽性者一覧4[[#This Row],[発症日・検体採取日]]=\"\",\"\",陽性者一覧4[[#This Row],[発症日・検体採取日]]+8)","v":""},{"$f":"IF(OR(陽性者一覧4[[#This Row],[療養解除予定日]]=M92,陽性者一覧4[[#This Row],[療養解除予定日]]=N92),\"問題なし\",\"齟齬\")","v":"問題なし"}]
[null,76,null,"",null,null,null,{"$f":"IF(陽性者一覧4[[#This Row],[職員・入所者の別]]=\"職員\",N93,IF(陽性者一覧4[[#This Row],[職員・入所者の別]]=\"入所者\",IF(陽性者一覧4[[#This Row],[発症時症状等]]=\"無症状\",N93,M93),\"\"))","v":""},null,null,null,null,{"$f":"IF(陽性者一覧4[[#This Row],[発症日・検体採取日]]=\"\",\"\",陽性者一覧4[[#This Row],[発症日・検体採取日]]+11)","v":""},{"$f":"IF(陽性者一覧4[[#This Row],[発症日・検体採取日]]=\"\",\"\",陽性者一覧4[[#This Row],[発症日・検体採取日]]+8)","v":""},{"$f":"IF(OR(陽性者一覧4[[#This Row],[療養解除予定日]]=M93,陽性者一覧4[[#This Row],[療養解除予定日]]=N93),\"問題なし\",\"齟齬\")","v":"問題なし"}]
[null,77,null,"",null,null,null,{"$f":"IF(陽性者一覧4[[#This Row],[職員・入所者の別]]=\"職員\",N94,IF(陽性者一覧4[[#This Row],[職員・入所者の別]]=\"入所者\",IF(陽性者一覧4[[#This Row],[発症時症状等]]=\"無症状\",N94,M94),\"\"))","v":""},null,null,null,null,{"$f":"IF(陽性者一覧4[[#This Row],[発症日・検体採取日]]=\"\",\"\",陽性者一覧4[[#This Row],[発症日・検体採取日]]+11)","v":""},{"$f":"IF(陽性者一覧4[[#This Row],[発症日・検体採取日]]=\"\",\"\",陽性者一覧4[[#This Row],[発症日・検体採取日]]+8)","v":""},{"$f":"IF(OR(陽性者一覧4[[#This Row],[療養解除予定日]]=M94,陽性者一覧4[[#This Row],[療養解除予定日]]=N94),\"問題なし\",\"齟齬\")","v":"問題なし"}]
[null,78,null,"",null,null,null,{"$f":"IF(陽性者一覧4[[#This Row],[職員・入所者の別]]=\"職員\",N95,IF(陽性者一覧4[[#This Row],[職員・入所者の別]]=\"入所者\",IF(陽性者一覧4[[#This Row],[発症時症状等]]=\"無症状\",N95,M95),\"\"))","v":""},null,null,null,null,{"$f":"IF(陽性者一覧4[[#This Row],[発症日・検体採取日]]=\"\",\"\",陽性者一覧4[[#This Row],[発症日・検体採取日]]+11)","v":""},{"$f":"IF(陽性者一覧4[[#This Row],[発症日・検体採取日]]=\"\",\"\",陽性者一覧4[[#This Row],[発症日・検体採取日]]+8)","v":""},{"$f":"IF(OR(陽性者一覧4[[#This Row],[療養解除予定日]]=M95,陽性者一覧4[[#This Row],[療養解除予定日]]=N95),\"問題なし\",\"齟齬\")","v":"問題なし"}]
[null,79,null,"",null,null,null,{"$f":"IF(陽性者一覧4[[#This Row],[職員・入所者の別]]=\"職員\",N96,IF(陽性者一覧4[[#This Row],[職員・入所者の別]]=\"入所者\",IF(陽性者一覧4[[#This Row],[発症時症状等]]=\"無症状\",N96,M96),\"\"))","v":""},null,null,null,null,{"$f":"IF(陽性者一覧4[[#This Row],[発症日・検体採取日]]=\"\",\"\",陽性者一覧4[[#This Row],[発症日・検体採取日]]+11)","v":""},{"$f":"IF(陽性者一覧4[[#This Row],[発症日・検体採取日]]=\"\",\"\",陽性者一覧4[[#This Row],[発症日・検体採取日]]+8)","v":""},{"$f":"IF(OR(陽性者一覧4[[#This Row],[療養解除予定日]]=M96,陽性者一覧4[[#This Row],[療養解除予定日]]=N96),\"問題なし\",\"齟齬\")","v":"問題なし"}]
[null,80,null,"",null,null,null,{"$f":"IF(陽性者一覧4[[#This Row],[職員・入所者の別]]=\"職員\",N97,IF(陽性者一覧4[[#This Row],[職員・入所者の別]]=\"入所者\",IF(陽性者一覧4[[#This Row],[発症時症状等]]=\"無症状\",N97,M97),\"\"))","v":""},null,null,null,null,{"$f":"IF(陽性者一覧4[[#This Row],[発症日・検体採取日]]=\"\",\"\",陽性者一覧4[[#This Row],[発症日・検体採取日]]+11)","v":""},{"$f":"IF(陽性者一覧4[[#This Row],[発症日・検体採取日]]=\"\",\"\",陽性者一覧4[[#This Row],[発症日・検体採取日]]+8)","v":""},{"$f":"IF(OR(陽性者一覧4[[#This Row],[療養解除予定日]]=M97,陽性者一覧4[[#This Row],[療養解除予定日]]=N97),\"問題なし\",\"齟齬\")","v":"問題なし"}]
[null,null,null,"",null,null,null,{"$f":"IF(陽性者一覧4[[#This Row],[職員・入所者の別]]=\"職員\",N98,IF(陽性者一覧4[[#This Row],[職員・入所者の別]]=\"入所者\",IF(陽性者一覧4[[#This Row],[発症時症状等]]=\"無症状\",N98,M98),\"\"))","v":""},null,null,null,null,{"$f":"IF(陽性者一覧4[[#This Row],[発症日・検体採取日]]=\"\",\"\",陽性者一覧4[[#This Row],[発症日・検体採取日]]+11)","v":""},{"$f":"IF(陽性者一覧4[[#This Row],[発症日・検体採取日]]=\"\",\"\",陽性者一覧4[[#This Row],[発症日・検体採取日]]+8)","v":""},{"$f":"IF(OR(陽性者一覧4[[#This Row],[療養解除予定日]]=M98,陽性者一覧4[[#This Row],[療養解除予定日]]=N98),\"問題なし\",\"齟齬\")","v":"問題なし"}]
[null,null,null,"",null,null,null,{"$f":"IF(陽性者一覧4[[#This Row],[職員・入所者の別]]=\"職員\",N99,IF(陽性者一覧4[[#This Row],[職員・入所者の別]]=\"入所者\",IF(陽性者一覧4[[#This Row],[発症時症状等]]=\"無症状\",N99,M99),\"\"))","v":""},null,null,null,null,{"$f":"IF(陽性者一覧4[[#This Row],[発症日・検体採取日]]=\"\",\"\",陽性者一覧4[[#This Row],[発症日・検体採取日]]+11)","v":""},{"$f":"IF(陽性者一覧4[[#This Row],[発症日・検体採取日]]=\"\",\"\",陽性者一覧4[[#This Row],[発症日・検体採取日]]+8)","v":""},{"$f":"IF(OR(陽性者一覧4[[#This Row],[療養解除予定日]]=M99,陽性者一覧4[[#This Row],[療養解除予定日]]=N99),\"問題なし\",\"齟齬\")","v":"問題なし"}]
[null,null,null,{"$f":"PHONETIC(C100)","v":""},null,null,null,{"$f":"IF(陽性者一覧4[[#This Row],[職員・入所者の別]]=\"職員\",N100,IF(陽性者一覧4[[#This Row],[職員・入所者の別]]=\"入所者\",IF(陽性者一覧4[[#This Row],[発症時症状等]]=\"無症状\",N100,M100),\"\"))","v":""},null,null,null,null,{"$f":"IF(陽性者一覧4[[#This Row],[発症日・検体採取日]]=\"\",\"\",陽性者一覧4[[#This Row],[発症日・検体採取日]]+11)","v":""},{"$f":"IF(陽性者一覧4[[#This Row],[発症日・検体採取日]]=\"\",\"\",陽性者一覧4[[#This Row],[発症日・検体採取日]]+8)","v":""},{"$f":"IF(OR(陽性者一覧4[[#This Row],[療養解除予定日]]=M100,陽性者一覧4[[#This Row],[療養解除予定日]]=N100),\"問題なし\",\"齟齬\")","v":"問題なし"}]

{"sheet":"陽性者一覧（その他入所施設）","index":2,"n_rows":100,"n_cols":15,"rows_kept":100,"cut":false,"hidden":false,"merged":[[7,4,7,5],[13,5,14,5],[13,6,14,6],[9,5,9,9],[13,11,14,11],[13,7,14,7],[13,10,14,10],[13,0,14,0],[13,1,14,1],[13,2,14,2],[13,3,14,3],[13,4,14,4],[5,8,5,9],[0,8,0,9],[1,1,1,9],[3,3,3,6],[3,8,3,9],[4,8,4,9]]}
[null,null,"メール送信先：","syuudan@city.osaka.lg.jp",null,null,null,null,{"$f":"TODAY()","v":"2022-11-14"}]
[null,"陽性者一覧（その他入所施設）"]
[]
[null,null,"施設名：",null,null,null,null,"施設種別："]
[null,null,null,null,null,null,null,"所在地："]
[null,null,"施設担当者氏名：",null,null,"職名／部署名：",null,"電話："]
[]
[null,null,"発生範囲（フロア等）：",null,"施設定員数：",null,null,"職員総数："]
[]
[null,null,"協力医療機関：",null,null,"施設内で対応できる医療提供"]
[null,null,null,null,null,"点滴","酸素投与","ステロイド","抗ウイルス剤","中和抗体"]
[]
[]
["報告日","番号","氏名","フリガナ","入所者/\n職員別","発症日\n（無症状の場合は検体採取日）","発症時症状等","療養解除予定日","療養解除\n(事由)","療養解除\n(日付)","療養解除予定日\n延長(変更)理由"," 終了時記入\n日付/確認者"]
[null,null,null,null,null,null,null,null,"事由","日付"]
[null,"例","大阪　太郎","オオサカ　タロウ","入所者","2022-03-31","発熱","2022-04-11","入院","2022-04-01",null,null,"無症状","その他","ステータス"]
[null,"番号","氏名","フリガナ","職員・入所者の別","発症日・検体採取日","発症時症状等","療養解除予定日","解除事由","解除日","列1"]
[null,1,null,{"$f":"PHONETIC(C18)","v":""},null,null,null,{"$f":"IF(陽性者一覧42[[#This Row],[発症日・検体採取日]]=\"\",\"\",M18)","v":""},null,null,null,null,{"$f":"IF(陽性者一覧42[[#This Row],[発症日・検体採取日]]=\"\",\"\",陽性者一覧42[[#This Row],[発症日・検体採取日]]+8)","v":""},{"$f":"IF(陽性者一覧42[[#This Row],[発症日・検体採取日]]=\"\",\"\",陽性者一覧42[[#This Row],[発症日・検体採取日]]+11)","v":""},{"$f":"IF(OR(陽性者一覧42[[#This Row],[療養解除予定日]]=M18,陽性者一覧42[[#This Row],[療養解除予定日]]=N18),\"問題なし\",\"齟齬\")","v":"問題なし"}]
[null,2,null,{"$f":"PHONETIC(C19)","v":""},null,null,null,{"$f":"IF(陽性者一覧42[[#This Row],[発症日・検体採取日]]=\"\",\"\",M19)","v":""},null,null,null,null,{"$f":"IF(陽性者一覧42[[#This Row],[発症日・検体採取日]]=\"\",\"\",陽性者一覧42[[#This Row],[発症日・検体採取日]]+8)","v":""},{"$f":"IF(陽性者一覧42[[#This Row],[発症日・検体採取日]]=\"\",\"\",陽性者一覧42[[#This Row],[発症日・検体採取日]]+11)","v":""},{"$f":"IF(OR(陽性者一覧42[[#This Row],[療養解除予定日]]=M19,陽性者一覧42[[#This Row],[療養解除予定日]]=N19),\"問題なし\",\"齟齬\")","v":"問題なし"}]
[null,3,null,"",null,null,null,{"$f":"IF(陽性者一覧42[[#This Row],[発症日・検体採取日]]=\"\",\"\",M20)","v":""},null,null,null,null,{"$f":"IF(陽性者一覧42[[#This Row],[発症日・検体採取日]]=\"\",\"\",陽性者一覧42[[#This Row],[発症日・検体採取日]]+8)","v":""},{"$f":"IF(陽性者一覧42[[#This Row],[発症日・検体採取日]]=\"\",\"\",陽性者一覧42[[#This Row],[発症日・検体採取日]]+11)","v":""},{"$f":"IF(OR(陽性者一覧42[[#This Row],[療養解除予定日]]=M20,陽性者一覧42[[#This Row],[療養解除予定日]]=N20),\"問題なし\",\"齟齬\")","v":"問題なし"}]
[null,4,null,"",null,null,null,{"$f":"IF(陽性者一覧42[[#This Row],[発症日・検体採取日]]=\"\",\"\",M21)","v":""},null,null,null,null,{"$f":"IF(陽性者一覧42[[#This Row],[発症日・検体採取日]]=\"\",\"\",陽性者一覧42[[#This Row],[発症日・検体採取日]]+8)","v":""},{"$f":"IF(陽性者一覧42[[#This Row],[発症日・検体採取日]]=\"\",\"\",陽性者一覧42[[#This Row],[発症日・検体採取日]]+11)","v":""},{"$f":"IF(OR(陽性者一覧42[[#This Row],[療養解除予定日]]=M21,陽性者一覧42[[#This Row],[療養解除予定日]]=N21),\"問題なし\",\"齟齬\")","v":"問題なし"}]
[null,5,null,"",null,null,null,{"$f":"IF(陽性者一覧42[[#This Row],[発症日・検体採取日]]=\"\",\"\",M22)","v":""},null,null,null,null,{"$f":"IF(陽性者一覧42[[#This Row],[発症日・検体採取日]]=\"\",\"\",陽性者一覧42[[#This Row],[発症日・検体採取日]]+8)","v":""},{"$f":"IF(陽性者一覧42[[#This Row],[発症日・検体採取日]]=\"\",\"\",陽性者一覧42[[#This Row],[発症日・検体採取日]]+11)","v":""},{"$f":"IF(OR(陽性者一覧42[[#This Row],[療養解除予定日]]=M22,陽性者一覧42[[#This Row],[療養解除予定日]]=N22),\"問題なし\",\"齟齬\")","v":"問題なし"}]
[null,6,null,"",null,null,null,{"$f":"IF(陽性者一覧42[[#This Row],[発症日・検体採取日]]=\"\",\"\",M23)","v":""},null,null,null,null,{"$f":"IF(陽性者一覧42[[#This Row],[発症日・検体採取日]]=\"\",\"\",陽性者一覧42[[#This Row],[発症日・検体採取日]]+8)","v":""},{"$f":"IF(陽性者一覧42[[#This Row],[発症日・検体採取日]]=\"\",\"\",陽性者一覧42[[#This Row],[発症日・検体採取日]]+11)","v":""},{"$f":"IF(OR(陽性者一覧42[[#This Row],[療養解除予定日]]=M23,陽性者一覧42[[#This Row],[療養解除予定日]]=N23),\"問題なし\",\"齟齬\")","v":"問題なし"}]
[null,7,null,"",null,null,null,{"$f":"IF(陽性者一覧42[[#This Row],[発症日・検体採取日]]=\"\",\"\",M24)","v":""},null,null,null,null,{"$f":"IF(陽性者一覧42[[#This Row],[発症日・検体採取日]]=\"\",\"\",陽性者一覧42[[#This Row],[発症日・検体採取日]]+8)","v":""},{"$f":"IF(陽性者一覧42[[#This Row],[発症日・検体採取日]]=\"\",\"\",陽性者一覧42[[#This Row],[発症日・検体採取日]]+11)","v":""},{"$f":"IF(OR(陽性者一覧42[[#This Row],[療養解除予定日]]=M24,陽性者一覧42[[#This Row],[療養解除予定日]]=N24),\"問題なし\",\"齟齬\")","v":"問題なし"}]
[null,8,null,"",null,null,null,{"$f":"IF(陽性者一覧42[[#This Row],[発症日・検体採取日]]=\"\",\"\",M25)","v":""},null,null,null,null,{"$f":"IF(陽性者一覧42[[#This Row],[発症日・検体採取日]]=\"\",\"\",陽性者一覧42[[#This Row],[発症日・検体採取日]]+8)","v":""},{"$f":"IF(陽性者一覧42[[#This Row],[発症日・検体採取日]]=\"\",\"\",陽性者一覧42[[#This Row],[発症日・検体採取日]]+11)","v":""},{"$f":"IF(OR(陽性者一覧42[[#This Row],[療養解除予定日]]=M25,陽性者一覧42[[#This Row],[療養解除予定日]]=N25),\"問題なし\",\"齟齬\")","v":"問題なし"}]
[null,9,null,"",null,null,null,{"$f":"IF(陽性者一覧42[[#This Row],[発症日・検体採取日]]=\"\",\"\",M26)","v":""},null,null,null,null,{"$f":"IF(陽性者一覧42[[#This Row],[発症日・検体採取日]]=\"\",\"\",陽性者一覧42[[#This Row],[発症日・検体採取日]]+8)","v":""},{"$f":"IF(陽性者一覧42[[#This Row],[発症日・検体採取日]]=\"\",\"\",陽性者一覧42[[#This Row],[発症日・検体採取日]]+11)","v":""},{"$f":"IF(OR(陽性者一覧42[[#This Row],[療養解除予定日]]=M26,陽性者一覧42[[#This Row],[療養解除予定日]]=N26),\"問題なし\",\"齟齬\")","v":"問題なし"}]
[null,10,null,"",null,null,null,{"$f":"IF(陽性者一覧42[[#This Row],[発症日・検体採取日]]=\"\",\"\",M27)","v":""},null,null,null,null,{"$f":"IF(陽性者一覧42[[#This Row],[発症日・検体採取日]]=\"\",\"\",陽性者一覧42[[#This Row],[発症日・検体採取日]]+8)","v":""},{"$f":"IF(陽性者一覧42[[#This Row],[発症日・検体採取日]]=\"\",\"\",陽性者一覧42[[#This Row],[発症日・検体採取日]]+11)","v":""},{"$f":"IF(OR(陽性者一覧42[[#This Row],[療養解除予定日]]=M27,陽性者一覧42[[#This Row],[療養解除予定日]]=N27),\"問題なし\",\"齟齬\")","v":"問題なし"}]
[null,11,null,"",null,null,null,{"$f":"IF(陽性者一覧42[[#This Row],[発症日・検体採取日]]=\"\",\"\",M28)","v":""},null,null,null,null,{"$f":"IF(陽性者一覧42[[#This Row],[発症日・検体採取日]]=\"\",\"\",陽性者一覧42[[#This Row],[発症日・検体採取日]]+8)","v":""},{"$f":"IF(陽性者一覧42[[#This Row],[発症日・検体採取日]]=\"\",\"\",陽性者一覧42[[#This Row],[発症日・検体採取日]]+11)","v":""},{"$f":"IF(OR(陽性者一覧42[[#This Row],[療養解除予定日]]=M28,陽性者一覧42[[#This Row],[療養解除予定日]]=N28),\"問題なし\",\"齟齬\")","v":"問題なし"}]
[null,12,null,"",null,null,null,{"$f":"IF(陽性者一覧42[[#This Row],[発症日・検体採取日]]=\"\",\"\",M29)","v":""},null,null,null,null,{"$f":"IF(陽性者一覧42[[#This Row],[発症日・検体採取日]]=\"\",\"\",陽性者一覧42[[#This Row],[発症日・検体採取日]]+8)","v":""},{"$f":"IF(陽性者一覧42[[#This Row],[発症日・検体採取日]]=\"\",\"\",陽性者一覧42[[#This Row],[発症日・検体採取日]]+11)","v":""},{"$f":"IF(OR(陽性者一覧42[[#This Row],[療養解除予定日]]=M29,陽性者一覧42[[#This Row],[療養解除予定日]]=N29),\"問題なし\",\"齟齬\")","v":"問題なし"}]
[null,13,null,"",null,null,null,{"$f":"IF(陽性者一覧42[[#This Row],[発症日・検体採取日]]=\"\",\"\",M30)","v":""},null,null,null,null,{"$f":"IF(陽性者一覧42[[#This Row],[発症日・検体採取日]]=\"\",\"\",陽性者一覧42[[#This Row],[発症日・検体採取日]]+8)","v":""},{"$f":"IF(陽性者一覧42[[#This Row],[発症日・検体採取日]]=\"\",\"\",陽性者一覧42[[#This Row],[発症日・検体採取日]]+11)","v":""},{"$f":"IF(OR(陽性者一覧42[[#This Row],[療養解除予定日]]=M30,陽性者一覧42[[#This Row],[療養解除予定日]]=N30),\"問題なし\",\"齟齬\")","v":"問題なし"}]
[null,14,null,"",null,null,null,{"$f":"IF(陽性者一覧42[[#This Row],[発症日・検体採取日]]=\"\",\"\",M31)","v":""},null,null,null,null,{"$f":"IF(陽性者一覧42[[#This Row],[発症日・検体採取日]]=\"\",\"\",陽性者一覧42[[#This Row],[発症日・検体採取日]]+8)","v":""},{"$f":"IF(陽性者一覧42[[#This Row],[発症日・検体採取日]]=\"\",\"\",陽性者一覧42[[#This Row],[発症日・検体採取日]]+11)","v":""},{"$f":"IF(OR(陽性者一覧42[[#This Row],[療養解除予定日]]=M31,陽性者一覧42[[#This Row],[療養解除予定日]]=N31),\"問題なし\",\"齟齬\")","v":"問題なし"}]
[null,15,null,"",null,null,null,{"$f":"IF(陽性者一覧42[[#This Row],[発症日・検体採取日]]=\"\",\"\",M32)","v":""},null,null,null,null,{"$f":"IF(陽性者一覧42[[#This Row],[発症日・検体採取日]]=\"\",\"\",陽性者一覧42[[#This Row],[発症日・検体採取日]]+8)","v":""},{"$f":"IF(陽性者一覧42[[#This Row],[発症日・検体採取日]]=\"\",\"\",陽性者一覧42[[#This Row],[発症日・検体採取日]]+11)","v":""},{"$f":"IF(OR(陽性者一覧42[[#This Row],[療養解除予定日]]=M32,陽性者一覧42[[#This Row],[療養解除予定日]]=N32),\"問題なし\",\"齟齬\")","v":"問題なし"}]
[null,16,null,"",null,null,null,{"$f":"IF(陽性者一覧42[[#This Row],[発症日・検体採取日]]=\"\",\"\",M33)","v":""},null,null,null,null,{"$f":"IF(陽性者一覧42[[#This Row],[発症日・検体採取日]]=\"\",\"\",陽性者一覧42[[#This Row],[発症日・検体採取日]]+8)","v":""},{"$f":"IF(陽性者一覧42[[#This Row],[発症日・検体採取日]]=\"\",\"\",陽性者一覧42[[#This Row],[発症日・検体採取日]]+11)","v":""},{"$f":"IF(OR(陽性者一覧42[[#This Row],[療養解除予定日]]=M33,陽性者一覧42[[#This Row],[療養解除予定日]]=N33),\"問題なし\",\"齟齬\")","v":"問題なし"}]
[null,17,null,"",null,null,null,{"$f":"IF(陽性者一覧42[[#This Row],[発症日・検体採取日]]=\"\",\"\",M34)","v":""},null,null,null,null,{"$f":"IF(陽性者一覧42[[#This Row],[発症日・検体採取日]]=\"\",\"\",陽性者一覧42[[#This Row],[発症日・検体採取日]]+8)","v":""},{"$f":"IF(陽性者一覧42[[#This Row],[発症日・検体採取日]]=\"\",\"\",陽性者一覧42[[#This Row],[発症日・検体採取日]]+11)","v":""},{"$f":"IF(OR(陽性者一覧42[[#This Row],[療養解除予定日]]=M34,陽性者一覧42[[#This Row],[療養解除予定日]]=N34),\"問題なし\",\"齟齬\")","v":"問題なし"}]
[null,18,null,"",null,null,null,{"$f":"IF(陽性者一覧42[[#This Row],[発症日・検体採取日]]=\"\",\"\",M35)","v":""},null,null,null,null,{"$f":"IF(陽性者一覧42[[#This Row],[発症日・検体採取日]]=\"\",\"\",陽性者一覧42[[#This Row],[発症日・検体採取日]]+8)","v":""},{"$f":"IF(陽性者一覧42[[#This Row],[発症日・検体採取日]]=\"\",\"\",陽性者一覧42[[#This Row],[発症日・検体採取日]]+11)","v":""},{"$f":"IF(OR(陽性者一覧42[[#This Row],[療養解除予定日]]=M35,陽性者一覧42[[#This Row],[療養解除予定日]]=N35),\"問題なし\",\"齟齬\")","v":"問題なし"}]
[null,19,null,"",null,null,null,{"$f":"IF(陽性者一覧42[[#This Row],[発症日・検体採取日]]=\"\",\"\",M36)","v":""},null,null,null,null,{"$f":"IF(陽性者一覧42[[#This Row],[発症日・検体採取日]]=\"\",\"\",陽性者一覧42[[#This Row],[発症日・検体採取日]]+8)","v":""},{"$f":"IF(陽性者一覧42[[#This Row],[発症日・検体採取日]]=\"\",\"\",陽性者一覧42[[#This Row],[発症日・検体採取日]]+11)","v":""},{"$f":"IF(OR(陽性者一覧42[[#This Row],[療養解除予定日]]=M36,陽性者一覧42[[#This Row],[療養解除予定日]]=N36),\"問題なし\",\"齟齬\")","v":"問題なし"}]
[null,20,null,"",null,null,null,{"$f":"IF(陽性者一覧42[[#This Row],[発症日・検体採取日]]=\"\",\"\",M37)","v":""},null,null,null,null,{"$f":"IF(陽性者一覧42[[#This Row],[発症日・検体採取日]]=\"\",\"\",陽性者一覧42[[#This Row],[発症日・検体採取日]]+8)","v":""},{"$f":"IF(陽性者一覧42[[#This Row],[発症日・検体採取日]]=\"\",\"\",陽性者一覧42[[#This Row],[発症日・検体採取日]]+11)","v":""},{"$f":"IF(OR(陽性者一覧42[[#This Row],[療養解除予定日]]=M37,陽性者一覧42[[#This Row],[療養解除予定日]]=N37),\"問題なし\",\"齟齬\")","v":"問題なし"}]
[null,21,null,"",null,null,null,{"$f":"IF(陽性者一覧42[[#This Row],[発症日・検体採取日]]=\"\",\"\",M38)","v":""},null,null,null,null,{"$f":"IF(陽性者一覧42[[#This Row],[発症日・検体採取日]]=\"\",\"\",陽性者一覧42[[#This Row],[発症日・検体採取日]]+8)","v":""},{"$f":"IF(陽性者一覧42[[#This Row],[発症日・検体採取日]]=\"\",\"\",陽性者一覧42[[#This Row],[発症日・検体採取日]]+11)","v":""},{"$f":"IF(OR(陽性者一覧42[[#This Row],[療養解除予定日]]=M38,陽性者一覧42[[#This Row],[療養解除予定日]]=N38),\"問題なし\",\"齟齬\")","v":"問題なし"}]
[null,22,null,"",null,null,null,{"$f":"IF(陽性者一覧42[[#This Row],[発症日・検体採取日]]=\"\",\"\",M39)","v":""},null,null,null,null,{"$f":"IF(陽性者一覧42[[#This Row],[発症日・検体採取日]]=\"\",\"\",陽性者一覧42[[#This Row],[発症日・検体採取日]]+8)","v":""},{"$f":"IF(陽性者一覧42[[#This Row],[発症日・検体採取日]]=\"\",\"\",陽性者一覧42[[#This Row],[発症日・検体採取日]]+11)","v":""},{"$f":"IF(OR(陽性者一覧42[[#This Row],[療養解除予定日]]=M39,陽性者一覧42[[#This Row],[療養解除予定日]]=N39),\"問題なし\",\"齟齬\")","v":"問題なし"}]
[null,23,null,"",null,null,null,{"$f":"IF(陽性者一覧42[[#This Row],[発症日・検体採取日]]=\"\",\"\",M40)","v":""},null,null,null,null,{"$f":"IF(陽性者一覧42[[#This Row],[発症日・検体採取日]]=\"\",\"\",陽性者一覧42[[#This Row],[発症日・検体採取日]]+8)","v":""},{"$f":"IF(陽性者一覧42[[#This Row],[発症日・検体採取日]]=\"\",\"\",陽性者一覧42[[#This Row],[発症日・検体採取日]]+11)","v":""},{"$f":"IF(OR(陽性者一覧42[[#This Row],[療養解除予定日]]=M40,陽性者一覧42[[#This Row],[療養解除予定日]]=N40),\"問題なし\",\"齟齬\")","v":"問題なし"}]
[null,24,null,"",null,null,null,{"$f":"IF(陽性者一覧42[[#This Row],[発症日・検体採取日]]=\"\",\"\",M41)","v":""},null,null,null,null,{"$f":"IF(陽性者一覧42[[#This Row],[発症日・検体採取日]]=\"\",\"\",陽性者一覧42[[#This Row],[発症日・検体採取日]]+8)","v":""},{"$f":"IF(陽性者一覧42[[#This Row],[発症日・検体採取日]]=\"\",\"\",陽性者一覧42[[#This Row],[発症日・検体採取日]]+11)","v":""},{"$f":"IF(OR(陽性者一覧42[[#This Row],[療養解除予定日]]=M41,陽性者一覧42[[#This Row],[療養解除予定日]]=N41),\"問題なし\",\"齟齬\")","v":"問題なし"}]
[null,25,null,"",null,null,null,{"$f":"IF(陽性者一覧42[[#This Row],[発症日・検体採取日]]=\"\",\"\",M42)","v":""},null,null,null,null,{"$f":"IF(陽性者一覧42[[#This Row],[発症日・検体採取日]]=\"\",\"\",陽性者一覧42[[#This Row],[発症日・検体採取日]]+8)","v":""},{"$f":"IF(陽性者一覧42[[#This Row],[発症日・検体採取日]]=\"\",\"\",陽性者一覧42[[#This Row],[発症日・検体採取日]]+11)","v":""},{"$f":"IF(OR(陽性者一覧42[[#This Row],[療養解除予定日]]=M42,陽性者一覧42[[#This Row],[療養解除予定日]]=N42),\"問題なし\",\"齟齬\")","v":"問題なし"}]
[null,26,null,"",null,null,null,{"$f":"IF(陽性者一覧42[[#This Row],[発症日・検体採取日]]=\"\",\"\",M43)","v":""},null,null,null,null,{"$f":"IF(陽性者一覧42[[#This Row],[発症日・検体採取日]]=\"\",\"\",陽性者一覧42[[#This Row],[発症日・検体採取日]]+8)","v":""},{"$f":"IF(陽性者一覧42[[#This Row],[発症日・検体採取日]]=\"\",\"\",陽性者一覧42[[#This Row],[発症日・検体採取日]]+11)","v":""},{"$f":"IF(OR(陽性者一覧42[[#This Row],[療養解除予定日]]=M43,陽性者一覧42[[#This Row],[療養解除予定日]]=N43),\"問題なし\",\"齟齬\")","v":"問題なし"}]
[null,27,null,"",null,null,null,{"$f":"IF(陽性者一覧42[[#This Row],[発症日・検体採取日]]=\"\",\"\",M44)","v":""},null,null,null,null,{"$f":"IF(陽性者一覧42[[#This Row],[発症日・検体採取日]]=\"\",\"\",陽性者一覧42[[#This Row],[発症日・検体採取日]]+8)","v":""},{"$f":"IF(陽性者一覧42[[#This Row],[発症日・検体採取日]]=\"\",\"\",陽性者一覧42[[#This Row],[発症日・検体採取日]]+11)","v":""},{"$f":"IF(OR(陽性者一覧42[[#This Row],[療養解除予定日]]=M44,陽性者一覧42[[#This Row],[療養解除予定日]]=N44),\"問題なし\",\"齟齬\")","v":"問題なし"}]
[null,28,null,"",null,null,null,{"$f":"IF(陽性者一覧42[[#This Row],[発症日・検体採取日]]=\"\",\"\",M45)","v":""},null,null,null,null,{"$f":"IF(陽性者一覧42[[#This Row],[発症日・検体採取日]]=\"\",\"\",陽性者一覧42[[#This Row],[発症日・検体採取日]]+8)","v":""},{"$f":"IF(陽性者一覧42[[#This Row],[発症日・検体採取日]]=\"\",\"\",陽性者一覧42[[#This Row],[発症日・検体採取日]]+11)","v":""},{"$f":"IF(OR(陽性者一覧42[[#This Row],[療養解除予定日]]=M45,陽性者一覧42[[#This Row],[療養解除予定日]]=N45),\"問題なし\",\"齟齬\")","v":"問題なし"}]
[null,29,null,"",null,null,null,{"$f":"IF(陽性者一覧42[[#This Row],[発症日・検体採取日]]=\"\",\"\",M46)","v":""},null,null,null,null,{"$f":"IF(陽性者一覧42[[#This Row],[発症日・検体採取日]]=\"\",\"\",陽性者一覧42[[#This Row],[発症日・検体採取日]]+8)","v":""},{"$f":"IF(陽性者一覧42[[#This Row],[発症日・検体採取日]]=\"\",\"\",陽性者一覧42[[#This Row],[発症日・検体採取日]]+11)","v":""},{"$f":"IF(OR(陽性者一覧42[[#This Row],[療養解除予定日]]=M46,陽性者一覧42[[#This Row],[療養解除予定日]]=N46),\"問題なし\",\"齟齬\")","v":"問題なし"}]
[null,30,null,"",null,null,null,{"$f":"IF(陽性者一覧42[[#This Row],[発症日・検体採取日]]=\"\",\"\",M47)","v":""},null,null,null,null,{"$f":"IF(陽性者一覧42[[#This Row],[発症日・検体採取日]]=\"\",\"\",陽性者一覧42[[#This Row],[発症日・検体採取日]]+8)","v":""},{"$f":"IF(陽性者一覧42[[#This Row],[発症日・検体採取日]]=\"\",\"\",陽性者一覧42[[#This Row],[発症日・検体採取日]]+11)","v":""},{"$f":"IF(OR(陽性者一覧42[[#This Row],[療養解除予定日]]=M47,陽性者一覧42[[#This Row],[療養解除予定日]]=N47),\"問題なし\",\"齟齬\")","v":"問題なし"}]
[null,31,null,"",null,null,null,{"$f":"IF(陽性者一覧42[[#This Row],[発症日・検体採取日]]=\"\",\"\",M48)","v":""},null,null,null,null,{"$f":"IF(陽性者一覧42[[#This Row],[発症日・検体採取日]]=\"\",\"\",陽性者一覧42[[#This Row],[発症日・検体採取日]]+8)","v":""},{"$f":"IF(陽性者一覧42[[#This Row],[発症日・検体採取日]]=\"\",\"\",陽性者一覧42[[#This Row],[発症日・検体採取日]]+11)","v":""},{"$f":"IF(OR(陽性者一覧42[[#This Row],[療養解除予定日]]=M48,陽性者一覧42[[#This Row],[療養解除予定日]]=N48),\"問題なし\",\"齟齬\")","v":"問題なし"}]
[null,32,null,"",null,null,null,{"$f":"IF(陽性者一覧42[[#This Row],[発症日・検体採取日]]=\"\",\"\",M49)","v":""},null,null,null,null,{"$f":"IF(陽性者一覧42[[#This Row],[発症日・検体採取日]]=\"\",\"\",陽性者一覧42[[#This Row],[発症日・検体採取日]]+8)","v":""},{"$f":"IF(陽性者一覧42[[#This Row],[発症日・検体採取日]]=\"\",\"\",陽性者一覧42[[#This Row],[発症日・検体採取日]]+11)","v":""},{"$f":"IF(OR(陽性者一覧42[[#This Row],[療養解除予定日]]=M49,陽性者一覧42[[#This Row],[療養解除予定日]]=N49),\"問題なし\",\"齟齬\")","v":"問題なし"}]
[null,33,null,"",null,null,null,{"$f":"IF(陽性者一覧42[[#This Row],[発症日・検体採取日]]=\"\",\"\",M50)","v":""},null,null,null,null,{"$f":"IF(陽性者一覧42[[#This Row],[発症日・検体採取日]]=\"\",\"\",陽性者一覧42[[#This Row],[発症日・検体採取日]]+8)","v":""},{"$f":"IF(陽性者一覧42[[#This Row],[発症日・検体採取日]]=\"\",\"\",陽性者一覧42[[#This Row],[発症日・検体採取日]]+11)","v":""},{"$f":"IF(OR(陽性者一覧42[[#This Row],[療養解除予定日]]=M50,陽性者一覧42[[#This Row],[療養解除予定日]]=N50),\"問題なし\",\"齟齬\")","v":"問題なし"}]
[null,34,null,"",null,null,null,{"$f":"IF(陽性者一覧42[[#This Row],[発症日・検体採取日]]=\"\",\"\",M51)","v":""},null,null,null,null,{"$f":"IF(陽性者一覧42[[#This Row],[発症日・検体採取日]]=\"\",\"\",陽性者一覧42[[#This Row],[発症日・検体採取日]]+8)","v":""},{"$f":"IF(陽性者一覧42[[#This Row],[発症日・検体採取日]]=\"\",\"\",陽性者一覧42[[#This Row],[発症日・検体採取日]]+11)","v":""},{"$f":"IF(OR(陽性者一覧42[[#This Row],[療養解除予定日]]=M51,陽性者一覧42[[#This Row],[療養解除予定日]]=N51),\"問題なし\",\"齟齬\")","v":"問題なし"}]
[null,35,null,"",null,null,null,{"$f":"IF(陽性者一覧42[[#This Row],[発症日・検体採取日]]=\"\",\"\",M52)","v":""},null,null,null,null,{"$f":"IF(陽性者一覧42[[#This Row],[発症日・検体採取日]]=\"\",\"\",陽性者一覧42[[#This Row],[発症日・検体採取日]]+8)","v":""},{"$f":"IF(陽性者一覧42[[#This Row],[発症日・検体採取日]]=\"\",\"\",陽性者一覧42[[#This Row],[発症日・検体採取日]]+11)","v":""},{"$f":"IF(OR(陽性者一覧42[[#This Row],[療養解除予定日]]=M52,陽性者一覧42[[#This Row],[療養解除予定日]]=N52),\"問題なし\",\"齟齬\")","v":"問題なし"}]
[null,36,null,"",null,null,null,{"$f":"IF(陽性者一覧42[[#This Row],[発症日・検体採取日]]=\"\",\"\",M53)","v":""},null,null,null,null,{"$f":"IF(陽性者一覧42[[#This Row],[発症日・検体採取日]]=\"\",\"\",陽性者一覧42[[#This Row],[発症日・検体採取日]]+8)","v":""},{"$f":"IF(陽性者一覧42[[#This Row],[発症日・検体採取日]]=\"\",\"\",陽性者一覧42[[#This Row],[発症日・検体採取日]]+11)","v":""},{"$f":"IF(OR(陽性者一覧42[[#This Row],[療養解除予定日]]=M53,陽性者一覧42[[#This Row],[療養解除予定日]]=N53),\"問題なし\",\"齟齬\")","v":"問題なし"}]
[null,37,null,"",null,null,null,{"$f":"IF(陽性者一覧42[[#This Row],[発症日・検体採取日]]=\"\",\"\",M54)","v":""},null,null,null,null,{"$f":"IF(陽性者一覧42[[#This Row],[発症日・検体採取日]]=\"\",\"\",陽性者一覧42[[#This Row],[発症日・検体採取日]]+8)","v":""},{"$f":"IF(陽性者一覧42[[#This Row],[発症日・検体採取日]]=\"\",\"\",陽性者一覧42[[#This Row],[発症日・検体採取日]]+11)","v":""},{"$f":"IF(OR(陽性者一覧42[[#This Row],[療養解除予定日]]=M54,陽性者一覧42[[#This Row],[療養解除予定日]]=N54),\"問題なし\",\"齟齬\")","v":"問題なし"}]
[null,38,null,"",null,null,null,{"$f":"IF(陽性者一覧42[[#This Row],[発症日・検体採取日]]=\"\",\"\",M55)","v":""},null,null,null,null,{"$f":"IF(陽性者一覧42[[#This Row],[発症日・検体採取日]]=\"\",\"\",陽性者一覧42[[#This Row],[発症日・検体採取日]]+8)","v":""},{"$f":"IF(陽性者一覧42[[#This Row],[発症日・検体採取日]]=\"\",\"\",陽性者一覧42[[#This Row],[発症日・検体採取日]]+11)","v":""},{"$f":"IF(OR(陽性者一覧42[[#This Row],[療養解除予定日]]=M55,陽性者一覧42[[#This Row],[療養解除予定日]]=N55),\"問題なし\",\"齟齬\")","v":"問題なし"}]
[null,39,null,"",null,null,null,{"$f":"IF(陽性者一覧42[[#This Row],[発症日・検体採取日]]=\"\",\"\",M56)","v":""},null,null,null,null,{"$f":"IF(陽性者一覧42[[#This Row],[発症日・検体採取日]]=\"\",\"\",陽性者一覧42[[#This Row],[発症日・検体採取日]]+8)","v":""},{"$f":"IF(陽性者一覧42[[#This Row],[発症日・検体採取日]]=\"\",\"\",陽性者一覧42[[#This Row],[発症日・検体採取日]]+11)","v":""},{"$f":"IF(OR(陽性者一覧42[[#This Row],[療養解除予定日]]=M56,陽性者一覧42[[#This Row],[療養解除予定日]]=N56),\"問題なし\",\"齟齬\")","v":"問題なし"}]
[null,40,null,"",null,null,null,{"$f":"IF(陽性者一覧42[[#This Row],[発症日・検体採取日]]=\"\",\"\",M57)","v":""},null,null,null,null,{"$f":"IF(陽性者一覧42[[#This Row],[発症日・検体採取日]]=\"\",\"\",陽性者一覧42[[#This Row],[発症日・検体採取日]]+8)","v":""},{"$f":"IF(陽性者一覧42[[#This Row],[発症日・検体採取日]]=\"\",\"\",陽性者一覧42[[#This Row],[発症日・検体採取日]]+11)","v":""},{"$f":"IF(OR(陽性者一覧42[[#This Row],[療養解除予定日]]=M57,陽性者一覧42[[#This Row],[療養解除予定日]]=N57),\"問題なし\",\"齟齬\")","v":"問題なし"}]
[null,41,null,"",null,null,null,{"$f":"IF(陽性者一覧42[[#This Row],[発症日・検体採取日]]=\"\",\"\",M58)","v":""},null,null,null,null,{"$f":"IF(陽性者一覧42[[#This Row],[発症日・検体採取日]]=\"\",\"\",陽性者一覧42[[#This Row],[発症日・検体採取日]]+8)","v":""},{"$f":"IF(陽性者一覧42[[#This Row],[発症日・検体採取日]]=\"\",\"\",陽性者一覧42[[#This Row],[発症日・検体採取日]]+11)","v":""},{"$f":"IF(OR(陽性者一覧42[[#This Row],[療養解除予定日]]=M58,陽性者一覧42[[#This Row],[療養解除予定日]]=N58),\"問題なし\",\"齟齬\")","v":"問題なし"}]
[null,42,null,"",null,null,null,{"$f":"IF(陽性者一覧42[[#This Row],[発症日・検体採取日]]=\"\",\"\",M59)","v":""},null,null,null,null,{"$f":"IF(陽性者一覧42[[#This Row],[発症日・検体採取日]]=\"\",\"\",陽性者一覧42[[#This Row],[発症日・検体採取日]]+8)","v":""},{"$f":"IF(陽性者一覧42[[#This Row],[発症日・検体採取日]]=\"\",\"\",陽性者一覧42[[#This Row],[発症日・検体採取日]]+11)","v":""},{"$f":"IF(OR(陽性者一覧42[[#This Row],[療養解除予定日]]=M59,陽性者一覧42[[#This Row],[療養解除予定日]]=N59),\"問題なし\",\"齟齬\")","v":"問題なし"}]
[null,43,null,"",null,null,null,{"$f":"IF(陽性者一覧42[[#This Row],[発症日・検体採取日]]=\"\",\"\",M60)","v":""},null,null,null,null,{"$f":"IF(陽性者一覧42[[#This Row],[発症日・検体採取日]]=\"\",\"\",陽性者一覧42[[#This Row],[発症日・検体採取日]]+8)","v":""},{"$f":"IF(陽性者一覧42[[#This Row],[発症日・検体採取日]]=\"\",\"\",陽性者一覧42[[#This Row],[発症日・検体採取日]]+11)","v":""},{"$f":"IF(OR(陽性者一覧42[[#This Row],[療養解除予定日]]=M60,陽性者一覧42[[#This Row],[療養解除予定日]]=N60),\"問題なし\",\"齟齬\")","v":"問題なし"}]
[null,44,null,"",null,null,null,{"$f":"IF(陽性者一覧42[[#This Row],[発症日・検体採取日]]=\"\",\"\",M61)","v":""},null,null,null,null,{"$f":"IF(陽性者一覧42[[#This Row],[発症日・検体採取日]]=\"\",\"\",陽性者一覧42[[#This Row],[発症日・検体採取日]]+8)","v":""},{"$f":"IF(陽性者一覧42[[#This Row],[発症日・検体採取日]]=\"\",\"\",陽性者一覧42[[#This Row],[発症日・検体採取日]]+11)","v":""},{"$f":"IF(OR(陽性者一覧42[[#This Row],[療養解除予定日]]=M61,陽性者一覧42[[#This Row],[療養解除予定日]]=N61),\"問題なし\",\"齟齬\")","v":"問題なし"}]
[null,45,null,"",null,null,null,{"$f":"IF(陽性者一覧42[[#This Row],[発症日・検体採取日]]=\"\",\"\",M62)","v":""},null,null,null,null,{"$f":"IF(陽性者一覧42[[#This Row],[発症日・検体採取日]]=\"\",\"\",陽性者一覧42[[#This Row],[発症日・検体採取日]]+8)","v":""},{"$f":"IF(陽性者一覧42[[#This Row],[発症日・検体採取日]]=\"\",\"\",陽性者一覧42[[#This Row],[発症日・検体採取日]]+11)","v":""},{"$f":"IF(OR(陽性者一覧42[[#This Row],[療養解除予定日]]=M62,陽性者一覧42[[#This Row],[療養解除予定日]]=N62),\"問題なし\",\"齟齬\")","v":"問題なし"}]
[null,46,null,"",null,null,null,{"$f":"IF(陽性者一覧42[[#This Row],[発症日・検体採取日]]=\"\",\"\",M63)","v":""},null,null,null,null,{"$f":"IF(陽性者一覧42[[#This Row],[発症日・検体採取日]]=\"\",\"\",陽性者一覧42[[#This Row],[発症日・検体採取日]]+8)","v":""},{"$f":"IF(陽性者一覧42[[#This Row],[発症日・検体採取日]]=\"\",\"\",陽性者一覧42[[#This Row],[発症日・検体採取日]]+11)","v":""},{"$f":"IF(OR(陽性者一覧42[[#This Row],[療養解除予定日]]=M63,陽性者一覧42[[#This Row],[療養解除予定日]]=N63),\"問題なし\",\"齟齬\")","v":"問題なし"}]
[null,47,null,"",null,null,null,{"$f":"IF(陽性者一覧42[[#This Row],[発症日・検体採取日]]=\"\",\"\",M64)","v":""},null,null,null,null,{"$f":"IF(陽性者一覧42[[#This Row],[発症日・検体採取日]]=\"\",\"\",陽性者一覧42[[#This Row],[発症日・検体採取日]]+8)","v":""},{"$f":"IF(陽性者一覧42[[#This Row],[発症日・検体採取日]]=\"\",\"\",陽性者一覧42[[#This Row],[発症日・検体採取日]]+11)","v":""},{"$f":"IF(OR(陽性者一覧42[[#This Row],[療養解除予定日]]=M64,陽性者一覧42[[#This Row],[療養解除予定日]]=N64),\"問題なし\",\"齟齬\")","v":"問題なし"}]
[null,48,null,"",null,null,null,{"$f":"IF(陽性者一覧42[[#This Row],[発症日・検体採取日]]=\"\",\"\",M65)","v":""},null,null,null,null,{"$f":"IF(陽性者一覧42[[#This Row],[発症日・検体採取日]]=\"\",\"\",陽性者一覧42[[#This Row],[発症日・検体採取日]]+8)","v":""},{"$f":"IF(陽性者一覧42[[#This Row],[発症日・検体採取日]]=\"\",\"\",陽性者一覧42[[#This Row],[発症日・検体採取日]]+11)","v":""},{"$f":"IF(OR(陽性者一覧42[[#This Row],[療養解除予定日]]=M65,陽性者一覧42[[#This Row],[療養解除予定日]]=N65),\"問題なし\",\"齟齬\")","v":"問題なし"}]
[null,49,null,"",null,null,null,{"$f":"IF(陽性者一覧42[[#This Row],[発症日・検体採取日]]=\"\",\"\",M66)","v":""},null,null,null,null,{"$f":"IF(陽性者一覧42[[#This Row],[発症日・検体採取日]]=\"\",\"\",陽性者一覧42[[#This Row],[発症日・検体採取日]]+8)","v":""},{"$f":"IF(陽性者一覧42[[#This Row],[発症日・検体採取日]]=\"\",\"\",陽性者一覧42[[#This Row],[発症日・検体採取日]]+11)","v":""},{"$f":"IF(OR(陽性者一覧42[[#This Row],[療養解除予定日]]=M66,陽性者一覧42[[#This Row],[療養解除予定日]]=N66),\"問題なし\",\"齟齬\")","v":"問題なし"}]
[null,50,null,"",null,null,null,{"$f":"IF(陽性者一覧42[[#This Row],[発症日・検体採取日]]=\"\",\"\",M67)","v":""},null,null,null,null,{"$f":"IF(陽性者一覧42[[#This Row],[発症日・検体採取日]]=\"\",\"\",陽性者一覧42[[#This Row],[発症日・検体採取日]]+8)","v":""},{"$f":"IF(陽性者一覧42[[#This Row],[発症日・検体採取日]]=\"\",\"\",陽性者一覧42[[#This Row],[発症日・検体採取日]]+11)","v":""},{"$f":"IF(OR(陽性者一覧42[[#This Row],[療養解除予定日]]=M67,陽性者一覧42[[#This Row],[療養解除予定日]]=N67),\"問題なし\",\"齟齬\")","v":"問題なし"}]
[null,51,null,"",null,null,null,{"$f":"IF(陽性者一覧42[[#This Row],[発症日・検体採取日]]=\"\",\"\",M68)","v":""},null,null,null,null,{"$f":"IF(陽性者一覧42[[#This Row],[発症日・検体採取日]]=\"\",\"\",陽性者一覧42[[#This Row],[発症日・検体採取日]]+8)","v":""},{"$f":"IF(陽性者一覧42[[#This Row],[発症日・検体採取日]]=\"\",\"\",陽性者一覧42[[#This Row],[発症日・検体採取日]]+11)","v":""},{"$f":"IF(OR(陽性者一覧42[[#This Row],[療養解除予定日]]=M68,陽性者一覧42[[#This Row],[療養解除予定日]]=N68),\"問題なし\",\"齟齬\")","v":"問題なし"}]
[null,52,null,"",null,null,null,{"$f":"IF(陽性者一覧42[[#This Row],[発症日・検体採取日]]=\"\",\"\",M69)","v":""},null,null,null,null,{"$f":"IF(陽性者一覧42[[#This Row],[発症日・検体採取日]]=\"\",\"\",陽性者一覧42[[#This Row],[発症日・検体採取日]]+8)","v":""},{"$f":"IF(陽性者一覧42[[#This Row],[発症日・検体採取日]]=\"\",\"\",陽性者一覧42[[#This Row],[発症日・検体採取日]]+11)","v":""},{"$f":"IF(OR(陽性者一覧42[[#This Row],[療養解除予定日]]=M69,陽性者一覧42[[#This Row],[療養解除予定日]]=N69),\"問題なし\",\"齟齬\")","v":"問題なし"}]
[null,53,null,"",null,null,null,{"$f":"IF(陽性者一覧42[[#This Row],[発症日・検体採取日]]=\"\",\"\",M70)","v":""},null,null,null,null,{"$f":"IF(陽性者一覧42[[#This Row],[発症日・検体採取日]]=\"\",\"\",陽性者一覧42[[#This Row],[発症日・検体採取日]]+8)","v":""},{"$f":"IF(陽性者一覧42[[#This Row],[発症日・検体採取日]]=\"\",\"\",陽性者一覧42[[#This Row],[発症日・検体採取日]]+11)","v":""},{"$f":"IF(OR(陽性者一覧42[[#This Row],[療養解除予定日]]=M70,陽性者一覧42[[#This Row],[療養解除予定日]]=N70),\"問題なし\",\"齟齬\")","v":"問題なし"}]
[null,54,null,"",null,null,null,{"$f":"IF(陽性者一覧42[[#This Row],[発症日・検体採取日]]=\"\",\"\",M71)","v":""},null,null,null,null,{"$f":"IF(陽性者一覧42[[#This Row],[発症日・検体採取日]]=\"\",\"\",陽性者一覧42[[#This Row],[発症日・検体採取日]]+8)","v":""},{"$f":"IF(陽性者一覧42[[#This Row],[発症日・検体採取日]]=\"\",\"\",陽性者一覧42[[#This Row],[発症日・検体採取日]]+11)","v":""},{"$f":"IF(OR(陽性者一覧42[[#This Row],[療養解除予定日]]=M71,陽性者一覧42[[#This Row],[療養解除予定日]]=N71),\"問題なし\",\"齟齬\")","v":"問題なし"}]
[null,55,null,"",null,null,null,{"$f":"IF(陽性者一覧42[[#This Row],[発症日・検体採取日]]=\"\",\"\",M72)","v":""},null,null,null,null,{"$f":"IF(陽性者一覧42[[#This Row],[発症日・検体採取日]]=\"\",\"\",陽性者一覧42[[#This Row],[発症日・検体採取日]]+8)","v":""},{"$f":"IF(陽性者一覧42[[#This Row],[発症日・検体採取日]]=\"\",\"\",陽性者一覧42[[#This Row],[発症日・検体採取日]]+11)","v":""},{"$f":"IF(OR(陽性者一覧42[[#This Row],[療養解除予定日]]=M72,陽性者一覧42[[#This Row],[療養解除予定日]]=N72),\"問題なし\",\"齟齬\")","v":"問題なし"}]
[null,56,null,"",null,null,null,{"$f":"IF(陽性者一覧42[[#This Row],[発症日・検体採取日]]=\"\",\"\",M73)","v":""},null,null,null,null,{"$f":"IF(陽性者一覧42[[#This Row],[発症日・検体採取日]]=\"\",\"\",陽性者一覧42[[#This Row],[発症日・検体採取日]]+8)","v":""},{"$f":"IF(陽性者一覧42[[#This Row],[発症日・検体採取日]]=\"\",\"\",陽性者一覧42[[#This Row],[発症日・検体採取日]]+11)","v":""},{"$f":"IF(OR(陽性者一覧42[[#This Row],[療養解除予定日]]=M73,陽性者一覧42[[#This Row],[療養解除予定日]]=N73),\"問題なし\",\"齟齬\")","v":"問題なし"}]
[null,57,null,"",null,null,null,{"$f":"IF(陽性者一覧42[[#This Row],[発症日・検体採取日]]=\"\",\"\",M74)","v":""},null,null,null,null,{"$f":"IF(陽性者一覧42[[#This Row],[発症日・検体採取日]]=\"\",\"\",陽性者一覧42[[#This Row],[発症日・検体採取日]]+8)","v":""},{"$f":"IF(陽性者一覧42[[#This Row],[発症日・検体採取日]]=\"\",\"\",陽性者一覧42[[#This Row],[発症日・検体採取日]]+11)","v":""},{"$f":"IF(OR(陽性者一覧42[[#This Row],[療養解除予定日]]=M74,陽性者一覧42[[#This Row],[療養解除予定日]]=N74),\"問題なし\",\"齟齬\")","v":"問題なし"}]
[null,58,null,"",null,null,null,{"$f":"IF(陽性者一覧42[[#This Row],[発症日・検体採取日]]=\"\",\"\",M75)","v":""},null,null,null,null,{"$f":"IF(陽性者一覧42[[#This Row],[発症日・検体採取日]]=\"\",\"\",陽性者一覧42[[#This Row],[発症日・検体採取日]]+8)","v":""},{"$f":"IF(陽性者一覧42[[#This Row],[発症日・検体採取日]]=\"\",\"\",陽性者一覧42[[#This Row],[発症日・検体採取日]]+11)","v":""},{"$f":"IF(OR(陽性者一覧42[[#This Row],[療養解除予定日]]=M75,陽性者一覧42[[#This Row],[療養解除予定日]]=N75),\"問題なし\",\"齟齬\")","v":"問題なし"}]
[null,59,null,"",null,null,null,{"$f":"IF(陽性者一覧42[[#This Row],[発症日・検体採取日]]=\"\",\"\",M76)","v":""},null,null,null,null,{"$f":"IF(陽性者一覧42[[#This Row],[発症日・検体採取日]]=\"\",\"\",陽性者一覧42[[#This Row],[発症日・検体採取日]]+8)","v":""},{"$f":"IF(陽性者一覧42[[#This Row],[発症日・検体採取日]]=\"\",\"\",陽性者一覧42[[#This Row],[発症日・検体採取日]]+11)","v":""},{"$f":"IF(OR(陽性者一覧42[[#This Row],[療養解除予定日]]=M76,陽性者一覧42[[#This Row],[療養解除予定日]]=N76),\"問題なし\",\"齟齬\")","v":"問題なし"}]
[null,60,null,"",null,null,null,{"$f":"IF(陽性者一覧42[[#This Row],[発症日・検体採取日]]=\"\",\"\",M77)","v":""},null,null,null,null,{"$f":"IF(陽性者一覧42[[#This Row],[発症日・検体採取日]]=\"\",\"\",陽性者一覧42[[#This Row],[発症日・検体採取日]]+8)","v":""},{"$f":"IF(陽性者一覧42[[#This Row],[発症日・検体採取日]]=\"\",\"\",陽性者一覧42[[#This Row],[発症日・検体採取日]]+11)","v":""},{"$f":"IF(OR(陽性者一覧42[[#This Row],[療養解除予定日]]=M77,陽性者一覧42[[#This Row],[療養解除予定日]]=N77),\"問題なし\",\"齟齬\")","v":"問題なし"}]
[null,61,null,"",null,null,null,{"$f":"IF(陽性者一覧42[[#This Row],[発症日・検体採取日]]=\"\",\"\",M78)","v":""},null,null,null,null,{"$f":"IF(陽性者一覧42[[#This Row],[発症日・検体採取日]]=\"\",\"\",陽性者一覧42[[#This Row],[発症日・検体採取日]]+8)","v":""},{"$f":"IF(陽性者一覧42[[#This Row],[発症日・検体採取日]]=\"\",\"\",陽性者一覧42[[#This Row],[発症日・検体採取日]]+11)","v":""},{"$f":"IF(OR(陽性者一覧42[[#This Row],[療養解除予定日]]=M78,陽性者一覧42[[#This Row],[療養解除予定日]]=N78),\"問題なし\",\"齟齬\")","v":"問題なし"}]
[null,62,null,"",null,null,null,{"$f":"IF(陽性者一覧42[[#This Row],[発症日・検体採取日]]=\"\",\"\",M79)","v":""},null,null,null,null,{"$f":"IF(陽性者一覧42[[#This Row],[発症日・検体採取日]]=\"\",\"\",陽性者一覧42[[#This Row],[発症日・検体採取日]]+8)","v":""},{"$f":"IF(陽性者一覧42[[#This Row],[発症日・検体採取日]]=\"\",\"\",陽性者一覧42[[#This Row],[発症日・検体採取日]]+11)","v":""},{"$f":"IF(OR(陽性者一覧42[[#This Row],[療養解除予定日]]=M79,陽性者一覧42[[#This Row],[療養解除予定日]]=N79),\"問題なし\",\"齟齬\")","v":"問題なし"}]
[null,63,null,"",null,null,null,{"$f":"IF(陽性者一覧42[[#This Row],[発症日・検体採取日]]=\"\",\"\",M80)","v":""},null,null,null,null,{"$f":"IF(陽性者一覧42[[#This Row],[発症日・検体採取日]]=\"\",\"\",陽性者一覧42[[#This Row],[発症日・検体採取日]]+8)","v":""},{"$f":"IF(陽性者一覧42[[#This Row],[発症日・検体採取日]]=\"\",\"\",陽性者一覧42[[#This Row],[発症日・検体採取日]]+11)","v":""},{"$f":"IF(OR(陽性者一覧42[[#This Row],[療養解除予定日]]=M80,陽性者一覧42[[#This Row],[療養解除予定日]]=N80),\"問題なし\",\"齟齬\")","v":"問題なし"}]
[null,64,null,"",null,null,null,{"$f":"IF(陽性者一覧42[[#This Row],[発症日・検体採取日]]=\"\",\"\",M81)","v":""},null,null,null,null,{"$f":"IF(陽性者一覧42[[#This Row],[発症日・検体採取日]]=\"\",\"\",陽性者一覧42[[#This Row],[発症日・検体採取日]]+8)","v":""},{"$f":"IF(陽性者一覧42[[#This Row],[発症日・検体採取日]]=\"\",\"\",陽性者一覧42[[#This Row],[発症日・検体採取日]]+11)","v":""},{"$f":"IF(OR(陽性者一覧42[[#This Row],[療養解除予定日]]=M81,陽性者一覧42[[#This Row],[療養解除予定日]]=N81),\"問題なし\",\"齟齬\")","v":"問題なし"}]
[null,65,null,{"$f":"PHONETIC(C82)","v":""},null,null,null,{"$f":"IF(陽性者一覧42[[#This Row],[発症日・検体採取日]]=\"\",\"\",M82)","v":""},null,null,null,null,{"$f":"IF(陽性者一覧42[[#This Row],[発症日・検体採取日]]=\"\",\"\",陽性者一覧42[[#This Row],[発症日・検体採取日]]+8)","v":""},{"$f":"IF(陽性者一覧42[[#This Row],[発症日・検体採取日]]=\"\",\"\",陽性者一覧42[[#This Row],[発症日・検体採取日]]+11)","v":""},{"$f":"IF(OR(陽性者一覧42[[#This Row],[療養解除予定日]]=M82,陽性者一覧42[[#This Row],[療養解除予定日]]=N82),\"問題なし\",\"齟齬\")","v":"問題なし"}]
[null,66,null,"",null,null,null,{"$f":"IF(陽性者一覧42[[#This Row],[発症日・検体採取日]]=\"\",\"\",M83)","v":""},null,null,null,null,{"$f":"IF(陽性者一覧42[[#This Row],[発症日・検体採取日]]=\"\",\"\",陽性者一覧42[[#This Row],[発症日・検体採取日]]+8)","v":""},{"$f":"IF(陽性者一覧42[[#This Row],[発症日・検体採取日]]=\"\",\"\",陽性者一覧42[[#This Row],[発症日・検体採取日]]+11)","v":""},{"$f":"IF(OR(陽性者一覧42[[#This Row],[療養解除予定日]]=M83,陽性者一覧42[[#This Row],[療養解除予定日]]=N83),\"問題なし\",\"齟齬\")","v":"問題なし"}]
[null,67,null,"",null,null,null,{"$f":"IF(陽性者一覧42[[#This Row],[発症日・検体採取日]]=\"\",\"\",M84)","v":""},null,null,null,null,{"$f":"IF(陽性者一覧42[[#This Row],[発症日・検体採取日]]=\"\",\"\",陽性者一覧42[[#This Row],[発症日・検体採取日]]+8)","v":""},{"$f":"IF(陽性者一覧42[[#This Row],[発症日・検体採取日]]=\"\",\"\",陽性者一覧42[[#This Row],[発症日・検体採取日]]+11)","v":""},{"$f":"IF(OR(陽性者一覧42[[#This Row],[療養解除予定日]]=M84,陽性者一覧42[[#This Row],[療養解除予定日]]=N84),\"問題なし\",\"齟齬\")","v":"問題なし"}]
[null,68,null,"",null,null,null,{"$f":"IF(陽性者一覧42[[#This Row],[発症日・検体採取日]]=\"\",\"\",M85)","v":""},null,null,null,null,{"$f":"IF(陽性者一覧42[[#This Row],[発症日・検体採取日]]=\"\",\"\",陽性者一覧42[[#This Row],[発症日・検体採取日]]+8)","v":""},{"$f":"IF(陽性者一覧42[[#This Row],[発症日・検体採取日]]=\"\",\"\",陽性者一覧42[[#This Row],[発症日・検体採取日]]+11)","v":""},{"$f":"IF(OR(陽性者一覧42[[#This Row],[療養解除予定日]]=M85,陽性者一覧42[[#This Row],[療養解除予定日]]=N85),\"問題なし\",\"齟齬\")","v":"問題なし"}]
[null,69,null,"",null,null,null,{"$f":"IF(陽性者一覧42[[#This Row],[発症日・検体採取日]]=\"\",\"\",M86)","v":""},null,null,null,null,{"$f":"IF(陽性者一覧42[[#This Row],[発症日・検体採取日]]=\"\",\"\",陽性者一覧42[[#This Row],[発症日・検体採取日]]+8)","v":""},{"$f":"IF(陽性者一覧42[[#This Row],[発症日・検体採取日]]=\"\",\"\",陽性者一覧42[[#This Row],[発症日・検体採取日]]+11)","v":""},{"$f":"IF(OR(陽性者一覧42[[#This Row],[療養解除予定日]]=M86,陽性者一覧42[[#This Row],[療養解除予定日]]=N86),\"問題なし\",\"齟齬\")","v":"問題なし"}]
[null,70,null,"",null,null,null,{"$f":"IF(陽性者一覧42[[#This Row],[発症日・検体採取日]]=\"\",\"\",M87)","v":""},null,null,null,null,{"$f":"IF(陽性者一覧42[[#This Row],[発症日・検体採取日]]=\"\",\"\",陽性者一覧42[[#This Row],[発症日・検体採取日]]+8)","v":""},{"$f":"IF(陽性者一覧42[[#This Row],[発症日・検体採取日]]=\"\",\"\",陽性者一覧42[[#This Row],[発症日・検体採取日]]+11)","v":""},{"$f":"IF(OR(陽性者一覧42[[#This Row],[療養解除予定日]]=M87,陽性者一覧42[[#This Row],[療養解除予定日]]=N87),\"問題なし\",\"齟齬\")","v":"問題なし"}]
[null,71,null,"",null,null,null,{"$f":"IF(陽性者一覧42[[#This Row],[発症日・検体採取日]]=\"\",\"\",M88)","v":""},null,null,null,null,{"$f":"IF(陽性者一覧42[[#This Row],[発症日・検体採取日]]=\"\",\"\",陽性者一覧42[[#This Row],[発症日・検体採取日]]+8)","v":""},{"$f":"IF(陽性者一覧42[[#This Row],[発症日・検体採取日]]=\"\",\"\",陽性者一覧42[[#This Row],[発症日・検体採取日]]+11)","v":""},{"$f":"IF(OR(陽性者一覧42[[#This Row],[療養解除予定日]]=M88,陽性者一覧42[[#This Row],[療養解除予定日]]=N88),\"問題なし\",\"齟齬\")","v":"問題なし"}]
[null,72,null,"",null,null,null,{"$f":"IF(陽性者一覧42[[#This Row],[発症日・検体採取日]]=\"\",\"\",M89)","v":""},null,null,null,null,{"$f":"IF(陽性者一覧42[[#This Row],[発症日・検体採取日]]=\"\",\"\",陽性者一覧42[[#This Row],[発症日・検体採取日]]+8)","v":""},{"$f":"IF(陽性者一覧42[[#This Row],[発症日・検体採取日]]=\"\",\"\",陽性者一覧42[[#This Row],[発症日・検体採取日]]+11)","v":""},{"$f":"IF(OR(陽性者一覧42[[#This Row],[療養解除予定日]]=M89,陽性者一覧42[[#This Row],[療養解除予定日]]=N89),\"問題なし\",\"齟齬\")","v":"問題なし"}]
[null,73,null,"",null,null,null,{"$f":"IF(陽性者一覧42[[#This Row],[発症日・検体採取日]]=\"\",\"\",M90)","v":""},null,null,null,null,{"$f":"IF(陽性者一覧42[[#This Row],[発症日・検体採取日]]=\"\",\"\",陽性者一覧42[[#This Row],[発症日・検体採取日]]+8)","v":""},{"$f":"IF(陽性者一覧42[[#This Row],[発症日・検体採取日]]=\"\",\"\",陽性者一覧42[[#This Row],[発症日・検体採取日]]+11)","v":""},{"$f":"IF(OR(陽性者一覧42[[#This Row],[療養解除予定日]]=M90,陽性者一覧42[[#This Row],[療養解除予定日]]=N90),\"問題なし\",\"齟齬\")","v":"問題なし"}]
[null,74,null,"",null,null,null,{"$f":"IF(陽性者一覧42[[#This Row],[発症日・検体採取日]]=\"\",\"\",M91)","v":""},null,null,null,null,{"$f":"IF(陽性者一覧42[[#This Row],[発症日・検体採取日]]=\"\",\"\",陽性者一覧42[[#This Row],[発症日・検体採取日]]+8)","v":""},{"$f":"IF(陽性者一覧42[[#This Row],[発症日・検体採取日]]=\"\",\"\",陽性者一覧42[[#This Row],[発症日・検体採取日]]+11)","v":""},{"$f":"IF(OR(陽性者一覧42[[#This Row],[療養解除予定日]]=M91,陽性者一覧42[[#This Row],[療養解除予定日]]=N91),\"問題なし\",\"齟齬\")","v":"問題なし"}]
[null,75,null,"",null,null,null,{"$f":"IF(陽性者一覧42[[#This Row],[発症日・検体採取日]]=\"\",\"\",M92)","v":""},null,null,null,null,{"$f":"IF(陽性者一覧42[[#This Row],[発症日・検体採取日]]=\"\",\"\",陽性者一覧42[[#This Row],[発症日・検体採取日]]+8)","v":""},{"$f":"IF(陽性者一覧42[[#This Row],[発症日・検体採取日]]=\"\",\"\",陽性者一覧42[[#This Row],[発症日・検体採取日]]+11)","v":""},{"$f":"IF(OR(陽性者一覧42[[#This Row],[療養解除予定日]]=M92,陽性者一覧42[[#This Row],[療養解除予定日]]=N92),\"問題なし\",\"齟齬\")","v":"問題なし"}]
[null,76,null,"",null,null,null,{"$f":"IF(陽性者一覧42[[#This Row],[発症日・検体採取日]]=\"\",\"\",M93)","v":""},null,null,null,null,{"$f":"IF(陽性者一覧42[[#This Row],[発症日・検体採取日]]=\"\",\"\",陽性者一覧42[[#This Row],[発症日・検体採取日]]+8)","v":""},{"$f":"IF(陽性者一覧42[[#This Row],[発症日・検体採取日]]=\"\",\"\",陽性者一覧42[[#This Row],[発症日・検体採取日]]+11)","v":""},{"$f":"IF(OR(陽性者一覧42[[#This Row],[療養解除予定日]]=M93,陽性者一覧42[[#This Row],[療養解除予定日]]=N93),\"問題なし\",\"齟齬\")","v":"問題なし"}]
[null,77,null,"",null,null,null,{"$f":"IF(陽性者一覧42[[#This Row],[発症日・検体採取日]]=\"\",\"\",M94)","v":""},null,null,null,null,{"$f":"IF(陽性者一覧42[[#This Row],[発症日・検体採取日]]=\"\",\"\",陽性者一覧42[[#This Row],[発症日・検体採取日]]+8)","v":""},{"$f":"IF(陽性者一覧42[[#This Row],[発症日・検体採取日]]=\"\",\"\",陽性者一覧42[[#This Row],[発症日・検体採取日]]+11)","v":""},{"$f":"IF(OR(陽性者一覧42[[#This Row],[療養解除予定日]]=M94,陽性者一覧42[[#This Row],[療養解除予定日]]=N94),\"問題なし\",\"齟齬\")","v":"問題なし"}]
[null,78,null,"",null,null,null,{"$f":"IF(陽性者一覧42[[#This Row],[発症日・検体採取日]]=\"\",\"\",M95)","v":""},null,null,null,null,{"$f":"IF(陽性者一覧42[[#This Row],[発症日・検体採取日]]=\"\",\"\",陽性者一覧42[[#This Row],[発症日・検体採取日]]+8)","v":""},{"$f":"IF(陽性者一覧42[[#This Row],[発症日・検体採取日]]=\"\",\"\",陽性者一覧42[[#This Row],[発症日・検体採取日]]+11)","v":""},{"$f":"IF(OR(陽性者一覧42[[#This Row],[療養解除予定日]]=M95,陽性者一覧42[[#This Row],[療養解除予定日]]=N95),\"問題なし\",\"齟齬\")","v":"問題なし"}]
[null,79,null,"",null,null,null,{"$f":"IF(陽性者一覧42[[#This Row],[発症日・検体採取日]]=\"\",\"\",M96)","v":""},null,null,null,null,{"$f":"IF(陽性者一覧42[[#This Row],[発症日・検体採取日]]=\"\",\"\",陽性者一覧42[[#This Row],[発症日・検体採取日]]+8)","v":""},{"$f":"IF(陽性者一覧42[[#This Row],[発症日・検体採取日]]=\"\",\"\",陽性者一覧42[[#This Row],[発症日・検体採取日]]+11)","v":""},{"$f":"IF(OR(陽性者一覧42[[#This Row],[療養解除予定日]]=M96,陽性者一覧42[[#This Row],[療養解除予定日]]=N96),\"問題なし\",\"齟齬\")","v":"問題なし"}]
[null,80,null,"",null,null,null,{"$f":"IF(陽性者一覧42[[#This Row],[発症日・検体採取日]]=\"\",\"\",M97)","v":""},null,null,null,null,{"$f":"IF(陽性者一覧42[[#This Row],[発症日・検体採取日]]=\"\",\"\",陽性者一覧42[[#This Row],[発症日・検体採取日]]+8)","v":""},{"$f":"IF(陽性者一覧42[[#This Row],[発症日・検体採取日]]=\"\",\"\",陽性者一覧42[[#This Row],[発症日・検体採取日]]+11)","v":""},{"$f":"IF(OR(陽性者一覧42[[#This Row],[療養解除予定日]]=M97,陽性者一覧42[[#This Row],[療養解除予定日]]=N97),\"問題なし\",\"齟齬\")","v":"問題なし"}]
[null,null,null,"",null,null,null,{"$f":"IF(陽性者一覧42[[#This Row],[発症日・検体採取日]]=\"\",\"\",M98)","v":""},null,null,null,null,{"$f":"IF(陽性者一覧42[[#This Row],[発症日・検体採取日]]=\"\",\"\",陽性者一覧42[[#This Row],[発症日・検体採取日]]+8)","v":""},{"$f":"IF(陽性者一覧42[[#This Row],[発症日・検体採取日]]=\"\",\"\",陽性者一覧42[[#This Row],[発症日・検体採取日]]+11)","v":""},{"$f":"IF(OR(陽性者一覧42[[#This Row],[療養解除予定日]]=M98,陽性者一覧42[[#This Row],[療養解除予定日]]=N98),\"問題なし\",\"齟齬\")","v":"問題なし"}]
[null,null,null,"",null,null,null,{"$f":"IF(陽性者一覧42[[#This Row],[発症日・検体採取日]]=\"\",\"\",M99)","v":""},null,null,null,null,{"$f":"IF(陽性者一覧42[[#This Row],[発症日・検体採取日]]=\"\",\"\",陽性者一覧42[[#This Row],[発症日・検体採取日]]+8)","v":""},{"$f":"IF(陽性者一覧42[[#This Row],[発症日・検体採取日]]=\"\",\"\",陽性者一覧42[[#This Row],[発症日・検体採取日]]+11)","v":""},{"$f":"IF(OR(陽性者一覧42[[#This Row],[療養解除予定日]]=M99,陽性者一覧42[[#This Row],[療養解除予定日]]=N99),\"問題なし\",\"齟齬\")","v":"問題なし"}]
[null,null,null,{"$f":"PHONETIC(C100)","v":""},null,null,null,{"$f":"IF(陽性者一覧42[[#This Row],[発症日・検体採取日]]=\"\",\"\",M100)","v":""},null,null,null,null,{"$f":"IF(陽性者一覧42[[#This Row],[発症日・検体採取日]]=\"\",\"\",陽性者一覧42[[#This Row],[発症日・検体採取日]]+8)","v":""},{"$f":"IF(陽性者一覧42[[#This Row],[発症日・検体採取日]]=\"\",\"\",陽性者一覧42[[#This Row],[発症日・検体採取日]]+11)","v":""},{"$f":"IF(OR(陽性者一覧42[[#This Row],[療養解除予定日]]=M100,陽性者一覧42[[#This Row],[療養解除予定日]]=N100),\"問題なし\",\"齟齬\")","v":"問題なし"}]

{"sheet":"施設聞き取り票（高齢者入所施設）","index":3,"n_rows":42,"n_cols":26,"rows_kept":42,"cut":false,"hidden":true,"merged":[[0,1,0,3],[1,1,1,2],[1,4,1,9],[2,0,2,1],[2,5,2,6],[2,7,2,9],[2,3,2,4],[3,0,3,1],[3,2,3,9],[4,0,5,1],[6,0,8,1],[6,3,6,5],[7,3,7,5],[9,0,15,1],[9,2,9,3],[10,2,10,3],[10,5,10,9],[11,2,11,3],[12,2,12,3],[13,2,13,3],[14,2,14,3],[15,2,15,3],[11,5,15,9],[16,0,16,1],[17,0,18,1],[17,2,18,2],[17,5,18,5],[19,0,22,1],[19,2,19,3],[19,5,19,9],[20,2,20,3],[20,5,20,9],[21,2,21,3],[21,5,21,9],[22,2,22,3],[22,5,22,9],[23,0,24,1],[23,2,24,2],[23,4,23,5],[23,7,23,9],[24,3,24,9],[25,0,26,1],[25,4,25,9],[26,4,26,9],[27,0,29,1],[27,4,27,9],[28,4,28,9],[29,4,29,9],[30,0,31,1],[30,2,31,2],[30,5,31,5],[30,8,31,9],[32,0,33,1],[32,2,33,9],[39,7,39,8],[40,7,40,8],[34,2,34,3],[35,0,35,1],[35,2,35,4],[35,5,35,9],[36,2,36,3],[36,7,36,8],[37,2,37,3],[37,7,37,8],[38,2,38,3],[38,7,38,8],[39,0,39,4]]}
[{"$f":"IF('陽性者一覧（高齢者入所施設）'!A1=\"\",\"\",'陽性者一覧（高齢者入所施設）'!A1)","v":""},"高齢者施設調査聞き取り票",null,null," 調査日",null," 対応者",null,null,"MT：　　要　　不要"]
["施設種別",{"$f":"IF('陽性者一覧（高齢者入所施設）'!I4=\"\",\"\",'陽性者一覧（高齢者入所施設）'!I4)","v":""},null,"施設名",{"$f":"IF('陽性者一覧（高齢者入所施設）'!D4=\"\",\"\",'陽性者一覧（高齢者入所施設）'!D4)","v":""},null,null,null,null,null,null,null,null,"体調不良有","体調不良無","入院要","入院否","濃厚入","濃厚職","過去訪問","訪問希望","点滴","酸素","ステロイド","抗ウイルス剤","中和抗体"]
["担当者職名・氏名",null,{"$f":"IF('陽性者一覧（高齢者入所施設）'!G6=\"\",\"\",'陽性者一覧（高齢者入所施設）'!G6)","v":""},{"$f":"IF('陽性者一覧（高齢者入所施設）'!D6=\"\",\"\",'陽性者一覧（高齢者入所施設）'!D6)","v":""},null,"担当者連絡先",null,{"$f":"IF('陽性者一覧（高齢者入所施設）'!I6=\"\",\"\",'陽性者一覧（高齢者入所施設）'!I6)","v":""},null,null,null,null,null,false,false,false,false,false,false,false,false,false,false,false,false,false]
["施設住所",null,null,null,null,null,null,null,null,null,null,null,null,null,null,null,null,null,null,null,null,"協力","協力","協力","協力","協力"]
["定員及び状況",null,"施設定員数","現入居者数","現入居陽性者数","累計　　　　　入居陽性者数","現職員数","現職員陽性者数","累計　　　　　　職員陽性者数",null,null,null,null,null,null,null,null,null,null,null,null,false,false,false,false,false]
[null,null,{"$f":"IF('陽性者一覧（高齢者入所施設）'!G8=\"\",\"\",'陽性者一覧（高齢者入所施設）'!G8)","v":""},null,null,null,{"$f":"IF('陽性者一覧（高齢者入所施設）'!I8=\"\",\"\",'陽性者一覧（高齢者入所施設）'!I8)","v":""},null,null,null,null,null,null,null,null,null,null,null,null,null,null,"その他","その他","その他","その他","その他"]
["陽性者(入居者)の体調不良の有無・発生届提出状況",null,null,null,null,null," 発生届","　　　　　　提出予定（HP　　　　　）","　",null,null,null,null,null,null,null,null,null,null,null,null,false,false,false,false,false]
[]
[]
["施設内で対応できる\n医療提供\n可：〇　不可：×",null,"協力医療機関",null,{"$f":"\"①\"&'陽性者一覧（高齢者入所施設）'!D10&\"②\"&'陽性者一覧（高齢者入所施設）'!D11&\"③\"&'陽性者一覧（高齢者入所施設）'!D12","v":"①②③"}]
[null,null,null,null,"可否","自機関で対応できない場合や施設の意向等あれば記載"]
[null,null,"点滴",null,{"$f":"IF('陽性者一覧（高齢者入所施設）'!F12=\"可\",\"〇\",IF('陽性者一覧（高齢者入所施設）'!F12=\"不可\",\"×\",\"\"))","v":""}]
[null,null,"酸素投与",null,{"$f":"IF('陽性者一覧（高齢者入所施設）'!G12=\"可\",\"〇\",IF('陽性者一覧（高齢者入所施設）'!G12=\"不可\",\"×\",\"\"))","v":""}]
[null,null,"ステロイド",null,{"$f":"IF('陽性者一覧（高齢者入所施設）'!H12=\"可\",\"〇\",IF('陽性者一覧（高齢者入所施設）'!H12=\"不可\",\"×\",\"\"))","v":""}]
[null,null,"抗ウイルス剤",null,{"$f":"IF('陽性者一覧（高齢者入所施設）'!I12=\"可\",\"〇\",IF('陽性者一覧（高齢者入所施設）'!I12=\"不可\",\"×\",\"\"))","v":""}]
[null,null,"中和抗体",null,{"$f":"IF('陽性者一覧（高齢者入所施設）'!J12=\"可\",\"〇\",IF('陽性者一覧（高齢者入所施設）'!J12=\"不可\",\"×\",\"\"))","v":""}]
["往診実施",null,"　"]
["濃厚接触者の有無",null,"入居者",null,null,"職員"]
[]
["感染管理の状況\n陽性者または濃接あり➡（〇×）\n陽性者と濃接なし➡（ー）　",null,"種別",null,"状況","問題点"]
[null,null,"ゾーニング"]
[null,null,"PPE"]
[null,null,"職員の固定"]
["過去の訪問状況",null,"                                        保健所同行の有無　","時期",null,null,"実施機関"]
[null,null,null,"保健所同行の有無"]
["施設訪問の希望",null,null,"希望日時"]
[null,null,null,"理由"]
["物的・人的資源の状況\n〇:資源あり×資源なし",null,"種別","状況","問題点"]
[null,null,"物的資源"]
[null,null,"人的資源"]
["直近の\nワクチン接種状況",null,"入居者","(　　)回目","(       )回目","職員","(　　)回目","(       )回目"]
[]
["備考"]
[]
["解除時確認","　月　　日　","対応者(        　　　　)"]
["陽性者累計",null,"現状",null,null,"施設内療養者に対する治療の有無"]
["総計(A+B)",{"$f":"B38+B39","v":0},"陽性の入居者",null,null,"点滴",null,"　　　　",null,"(　　　　   )"]
["A 入居者",null,"施設解除日",null,null,"酸素投与",null,"　　　　",null,"(　　　　   )"]
["B 職員",null,"対応終了日",null,null,"ステロイド",null,"　　　　",null,"(　　　　   )"]
["入居者再掲",null,null,null,null,"抗ｳｲﾙｽ剤",null,"　　　　",null,"(　　　　   )"]
["C 入院者",null,"E 死亡者",null,null,"中和抗体",null,"　　　　",null,"(　　　　   )"]
["D 宿泊者",null,"自宅へ帰宅"]

{"sheet":"施設聞き取り票（その他入所施設）","index":4,"n_rows":42,"n_cols":26,"rows_kept":42,"cut":false,"hidden":true,"merged":[[40,7,40,8],[34,2,34,3],[36,7,36,8],[37,7,37,8],[38,7,38,8],[39,7,39,8],[35,5,35,9],[37,2,37,3],[38,2,38,3],[39,0,39,4],[6,3,6,5],[7,3,7,5],[25,4,25,9],[26,4,26,9],[23,7,23,9],[23,4,23,5],[15,2,15,3],[19,2,19,3],[20,2,20,3],[21,2,21,3],[22,2,22,3],[11,5,15,9],[9,0,15,1],[17,2,18,2],[17,5,18,5],[30,8,31,9],[10,5,10,9],[30,5,31,5],[19,5,19,9],[20,5,20,9],[27,0,29,1],[28,4,28,9],[29,4,29,9],[27,4,27,9],[23,2,24,2],[24,3,24,9],[19,0,22,1],[3,2,3,9],[1,1,1,2],[1,4,1,9],[2,7,2,9],[2,0,2,1],[3,0,3,1],[2,3,2,4],[0,1,0,3],[2,5,2,6],[25,0,26,1],[4,0,5,1],[6,0,8,1],[9,2,9,3],[10,2,10,3],[11,2,11,3],[12,2,12,3],[13,2,13,3],[14,2,14,3],[23,0,24,1],[16,0,16,1],[17,0,18,1],[21,5,21,9],[22,5,22,9],[32,0,33,1],[35,2,35,4],[36,2,36,3],[30,0,31,1],[30,2,31,2],[32,2,33,9],[35,0,35,1]]}
[{"$f":"IF('陽性者一覧（その他入所施設）'!A1=\"\",\"\",'陽性者一覧（その他入所施設）'!A1)","v":""},"その他施設調査聞き取り票",null,null," 調査日",null," 対応者",null,null,"MT：　　要　　不要"]
["施設種別",{"$f":"IF('陽性者一覧（その他入所施設）'!I4=\"\",\"\",'陽性者一覧（その他入所施設）'!I4)","v":""},null,"施設名",{"$f":"IF('陽性者一覧（その他入所施設）'!D4=\"\",\"\",'陽性者一覧（その他入所施設）'!D4)","v":""},null,null,null,null,null,null,null,null,"体調不良有","体調不良無","入院要","入院否","濃厚入","濃厚職","過去訪問","訪問希望","点滴","酸素","ステロイド","抗ウイルス剤","中和抗体"]
["担当者職名・氏名",null,{"$f":"IF('陽性者一覧（その他入所施設）'!G6=\"\",\"\",'陽性者一覧（その他入所施設）'!G6)","v":""},{"$f":"IF('陽性者一覧（その他入所施設）'!D6=\"\",\"\",'陽性者一覧（その他入所施設）'!D6)","v":""},null,"担当者連絡先",null,{"$f":"IF('陽性者一覧（その他入所施設）'!I6=\"\",\"\",'陽性者一覧（その他入所施設）'!I6)","v":""},null,null,null,null,null,false,false,false,false,false,false,false,false,false,false,false,false,false]
["施設住所",null,null,null,null,null,null,null,null,null,null,null,null,null,null,null,null,null,null,null,null,"協力","協力","協力","協力","協力"]
["定員及び状況",null,"施設定員数","現入居者数","現入居陽性者数","累計　　　　　入居陽性者数","現職員数","現職員陽性者数","累計　　　　　　職員陽性者数",null,null,null,null,null,null,null,null,null,null,null,null,false,false,false,false,false]
[null,null,{"$f":"IF('陽性者一覧（その他入所施設）'!G8=\"\",\"\",'陽性者一覧（その他入所施設）'!G8)","v":""},null,null,null,{"$f":"IF('陽性者一覧（その他入所施設）'!I8=\"\",\"\",'陽性者一覧（その他入所施設）'!I8)","v":""},null,null,null,null,null,null,null,null,null,null,null,null,null,null,"その他","その他","その他","その他","その他"]
["陽性者(入居者)の体調不良の有無・発生届提出状況",null,null,null,null,null," 発生届","　　　　　　提出予定（HP　　　　　）","　",null,null,null,null,null,null,null,null,null,null,null,null,false,false,false,false,false]
[]
[]
["施設内で対応できる\n医療提供\n可：〇　不可：×",null,"協力医療機関",null,{"$f":"\"①\"&'陽性者一覧（その他入所施設）'!D10&\"②\"&'陽性者一覧（その他入所施設）'!D11&\"③\"&'陽性者一覧（その他入所施設）'!D12","v":"①②③"}]
[null,null,null,null,"可否","自機関で対応できない場合や施設の意向等あれば記載"]
[null,null,"点滴",null,{"$f":"IF('陽性者一覧（その他入所施設）'!F12=\"可\",\"〇\",IF('陽性者一覧（その他入所施設）'!F12=\"不可\",\"×\",\"\"))","v":""}]
[null,null,"酸素投与",null,{"$f":"IF('陽性者一覧（その他入所施設）'!G12=\"可\",\"〇\",IF('陽性者一覧（その他入所施設）'!G12=\"不可\",\"×\",\"\"))","v":""}]
[null,null,"ステロイド",null,{"$f":"IF('陽性者一覧（その他入所施設）'!H12=\"可\",\"〇\",IF('陽性者一覧（その他入所施設）'!H12=\"不可\",\"×\",\"\"))","v":""}]
[null,null,"抗ウイルス剤",null,{"$f":"IF('陽性者一覧（その他入所施設）'!I12=\"可\",\"〇\",IF('陽性者一覧（その他入所施設）'!I12=\"不可\",\"×\",\"\"))","v":""}]
[null,null,"中和抗体",null,{"$f":"IF('陽性者一覧（その他入所施設）'!J12=\"可\",\"〇\",IF('陽性者一覧（その他入所施設）'!J12=\"不可\",\"×\",\"\"))","v":""}]
["往診実施",null,"　"]
["濃厚接触者の有無",null,"入居者",null,null,"職員"]
[]
["感染管理の状況\n陽性者または濃接あり➡（〇×）\n陽性者と濃接なし➡（ー）　",null,"種別",null,"状況","問題点"]
[null,null,"ゾーニング"]
[null,null,"PPE"]
[null,null,"職員の固定"]
["過去の訪問状況",null,"                                        保健所同行の有無　","時期",null,null,"実施機関"]
[null,null,null,"保健所同行の有無"]
["施設訪問の希望",null,null,"希望日時"]
[null,null,null,"理由"]
["物的・人的資源の状況\n〇:資源あり×資源なし",null,"種別","状況","問題点"]
[null,null,"物的資源"]
[null,null,"人的資源"]
["直近の\nワクチン接種状況",null,"入居者","(　　)回目","(       )回目","職員","(　　)回目","(       )回目"]
[]
["備考"]
[]
["解除時確認","　月　　日　","対応者(        　　　　)"]
["陽性者累計",null,"現状",null,null,"施設内療養者に対する治療の有無"]
["総計(A+B)",{"$f":"B38+B39","v":0},"陽性の入居者",null,null,"点滴",null,"　　　　",null,"(　　　　   )"]
["A 入居者",null,"施設解除日",null,null,"酸素投与",null,"　　　　",null,"(　　　　   )"]
["B 職員",null,"対応終了日",null,null,"ステロイド",null,"　　　　",null,"(　　　　   )"]
["入居者再掲",null,null,null,null,"抗ｳｲﾙｽ剤",null,"　　　　",null,"(　　　　   )"]
["C 入院者",null,"E 死亡者",null,null,"中和抗体",null,"　　　　",null,"(　　　　   )"]
["D 宿泊者",null,"自宅へ帰宅"]