Workbook

Sheet 空き情報
A1: 北区 | C1: 12月途中入所空き情報 | G1: （令和8年11月1日現在）
B2: 施設名 | C2: 所在地 | D2: ０歳 | E2: １歳 | F2: ２歳 | G2: ３歳 | H2: ４歳 | I2: ５歳
A3: 民間 | B3: 大阪主婦之会保育園 | C3: 豊崎3丁目1番12号 | D3: =VLOOKUP(B3,[1]入力用!$A$2:$G$50,2,FALSE) -> 0 | E3: =VLOOKUP(B3,[1]入力用!$A$2:$G$50,3,FALSE) -> 0 | F3: =VLOOKUP(B3,[1]入力用!$A$2:$G$50,4,FALSE) -> 0 | G3: =VLOOKUP(B3,[1]入力用!$A$2:$G$50,5,FALSE) -> 0 | H3: =VLOOKUP(B3,[1]入力用!$A$2:$G$50,6,FALSE) -> 0 | I3: =VLOOKUP(B3,[1]入力用!$A$2:$G$50,7,FALSE) -> 0
B4: 鶴満寺保育所 | C4: 長柄中1丁目1番23号 | D4: =VLOOKUP(B4,[1]入力用!$A$2:$G$50,2,FALSE) -> 0 | E4: =VLOOKUP(B4,[1]入力用!$A$2:$G$50,3,FALSE) -> 0 | F4: =VLOOKUP(B4,[1]入力用!$A$2:$G$50,4,FALSE) -> 0 | G4: =VLOOKUP(B4,[1]入力用!$A$2:$G$50,5,FALSE) -> 5 | H4: =VLOOKUP(B4,[1]入力用!$A$2:$G$50,6,FALSE) -> 0 | I4: =VLOOKUP(B4,[1]入力用!$A$2:$G$50,7,FALSE) -> 0
B5: 中津保育園 | C5: 中津2丁目7番8-101号 | D5: =VLOOKUP(B5,[1]入力用!$A$2:$G$50,2,FALSE) -> 2 | E5: =VLOOKUP(B5,[1]入力用!$A$2:$G$50,3,FALSE) -> 0 | F5: =VLOOKUP(B5,[1]入力用!$A$2:$G$50,4,FALSE) -> 0 | G5: =VLOOKUP(B5,[1]入力用!$A$2:$G$50,5,FALSE) -> 3 | H5: =VLOOKUP(B5,[1]入力用!$A$2:$G$50,6,FALSE) -> 2 | I5: =VLOOKUP(B5,[1]入力用!$A$2:$G$50,7,FALSE) -> 0
B6: 長柄保育園 | C6: 長柄東3丁目2番3号 | D6: =VLOOKUP(B6,[1]入力用!$A$2:$G$50,2,FALSE) -> 0 | E6: =VLOOKUP(B6,[1]入力用!$A$2:$G$50,3,FALSE) -> 0 | F6: =VLOOKUP(B6,[1]入力用!$A$2:$G$50,4,FALSE) -> 0 | G6: =VLOOKUP(B6,[1]入力用!$A$2:$G$50,5,FALSE) -> 0 | H6: =VLOOKUP(B6,[1]入力用!$A$2:$G$50,6,FALSE) -> 0 | I6: =VLOOKUP(B6,[1]入力用!$A$2:$G$50,7,FALSE) -> 0
B7: 同心保育園 | C7: 同心1丁目5番27号 | D7: =VLOOKUP(B7,[1]入力用!$A$2:$G$50,2,FALSE) -> 0 | E7: =VLOOKUP(B7,[1]入力用!$A$2:$G$50,3,FALSE) -> 0 | F7: =VLOOKUP(B7,[1]入力用!$A$2:$G$50,4,FALSE) -> 2 | G7: =VLOOKUP(B7,[1]入力用!$A$2:$G$50,5,FALSE) -> 1 | H7: =VLOOKUP(B7,[1]入力用!$A$2:$G$50,6,FALSE) -> 0 | I7: =VLOOKUP(B7,[1]入力用!$A$2:$G$50,7,FALSE) -> 0
B8: 音色つばさ保育園 | C8: 本庄東1丁目24番9号 | D8: =VLOOKUP(B8,[1]入力用!$A$2:$G$50,2,FALSE) -> 0 | E8: =VLOOKUP(B8,[1]入力用!$A$2:$G$50,3,FALSE) -> 1 | F8: =VLOOKUP(B8,[1]入力用!$A$2:$G$50,4,FALSE) -> 0 | G8: =VLOOKUP(B8,[1]入力用!$A$2:$G$50,5,FALSE) -> 0 | H8: =VLOOKUP(B8,[1]入力用!$A$2:$G$50,6,FALSE) -> 1 | I8: =VLOOKUP(B8,[1]入力用!$A$2:$G$50,7,FALSE) -> 0
B9: さつき保育園 | C9: 本庄西3丁目13番5号 | D9: =VLOOKUP(B9,[1]入力用!$A$2:$G$50,2,FALSE) -> 0 | E9: =VLOOKUP(B9,[1]入力用!$A$2:$G$50,3,FALSE) -> 0 | F9: =VLOOKUP(B9,[1]入力用!$A$2:$G$50,4,FALSE) -> 0 | G9: =VLOOKUP(B9,[1]入力用!$A$2:$G$50,5,FALSE) -> 1 | H9: =VLOOKUP(B9,[1]入力用!$A$2:$G$50,6,FALSE) -> 0 | I9: =VLOOKUP(B9,[1]入力用!$A$2:$G$50,7,FALSE) -> 0
B10: クオリスキッズ北梅田保育園 | C10: 大淀中3丁目9番22号 | D10: =VLOOKUP(B10,[1]入力用!$A$2:$G$50,2,FALSE) -> 0 | E10: =VLOOKUP(B10,[1]入力用!$A$2:$G$50,3,FALSE) -> 0 | F10: =VLOOKUP(B10,[1]入力用!$A$2:$G$50,4,FALSE) -> 0 | G10: =VLOOKUP(B10,[1]入力用!$A$2:$G$50,5,FALSE) -> 1 | H10: =VLOOKUP(B10,[1]入力用!$A$2:$G$50,6,FALSE) -> 0 | I10: =VLOOKUP(B10,[1]入力用!$A$2:$G$50,7,FALSE) -> 0
B11: ちゃいれっく東天満保育園 | C11: 同心1丁目1番26号 ブリリアントタワー | D11: =VLOOKUP(B11,[1]入力用!$A$2:$G$50,2,FALSE) -> 0 | E11: =VLOOKUP(B11,[1]入力用!$A$2:$G$50,3,FALSE) -> 0 | F11: =VLOOKUP(B11,[1]入力用!$A$2:$G$50,4,FALSE) -> 2 | G11: =VLOOKUP(B11,[1]入力用!$A$2:$G$50,5,FALSE) -> 0 | H11: =VLOOKUP(B11,[1]入力用!$A$2:$G$50,6,FALSE) -> 3 | I11: =VLOOKUP(B11,[1]入力用!$A$2:$G$50,7,FALSE) -> 0
B12: マミーズアイ保育園おおさかきた園 | C12: 大淀中１丁目11番9号 | F12: =VLOOKUP(B12,[1]入力用!$A$2:$G$50,4,FALSE) -> 0 | G12: =VLOOKUP(B12,[1]入力用!$A$2:$G$50,5,FALSE) -> 0 | H12: =VLOOKUP(B12,[1]入力用!$A$2:$G$50,6,FALSE) -> 0 | I12: =VLOOKUP(B12,[1]入力用!$A$2:$G$50,7,FALSE) -> 0
B13: マミーズアイ保育園おおさかきた分園 | C13: 大淀南2丁目2 グランドメゾン | D13: =VLOOKUP(B13,[1]入力用!$A$2:$G$50,2,FALSE) -> 0 | E13: =VLOOKUP(B13,[1]入力用!$A$2:$G$50,3,FALSE) -> 0
B14: ポポラー大阪長柄園 | C14: 長柄中3丁目3番6号 | D14: =VLOOKUP(B14,[1]入力用!$A$2:$G$50,2,FALSE) -> 1 | E14: =VLOOKUP(B14,[1]入力用!$A$2:$G$50,3,FALSE) -> 0 | F14: =VLOOKUP(B14,[1]入力用!$A$2:$G$50,4,FALSE) -> 0 | G14: =VLOOKUP(B14,[1]入力用!$A$2:$G$50,5,FALSE) -> 0 | H14: =VLOOKUP(B14,[1]入力用!$A$2:$G$50,6,FALSE) -> 0 | I14: =VLOOKUP(B14,[1]入力用!$A$2:$G$50,7,FALSE) -> 1
B15: レイモンド梅田北保育園(分園） | C15: 中崎3丁目4番22号 グレンパーク梅田北１階 | D15: =VLOOKUP(B15,[1]入力用!$A$2:$G$50,2,FALSE) -> 0 | E15: =VLOOKUP(B15,[1]入力用!$A$2:$G$50,3,FALSE) -> 0 | F15: =VLOOKUP(B15,[1]入力用!$A$2:$G$50,4,FALSE) -> 0
B16: マザーシップ新梅田保育園 | C16: 大淀南3丁目12番12号 | D16: =VLOOKUP(B16,[1]入力用!$A$2:$G$50,2,FALSE) -> 0 | E16: =VLOOKUP(B16,[1]入力用!$A$2:$G$50,3,FALSE) -> 0 | F16: =VLOOKUP(B16,[1]入力用!$A$2:$G$50,4,FALSE) -> 0 | G16: =VLOOKUP(B16,[1]入力用!$A$2:$G$50,5,FALSE) -> 0 | H16: =VLOOKUP(B16,[1]入力用!$A$2:$G$50,6,FALSE) -> 0 | I16: =VLOOKUP(B16,[1]入力用!$A$2:$G$50,7,FALSE) -> 1
B17: 愛のめぐみ保育園 | C17: 天神橋8丁目4番16号 | D17: =VLOOKUP(B17,[1]入力用!$A$2:$G$50,2,FALSE) -> 0 | E17: =VLOOKUP(B17,[1]入力用!$A$2:$G$50,3,FALSE) -> 0 | F17: =VLOOKUP(B17,[1]入力用!$A$2:$G$50,4,FALSE) -> 0 | G17: =VLOOKUP(B17,[1]入力用!$A$2:$G$50,5,FALSE) -> 0 | H17: =VLOOKUP(B17,[1]入力用!$A$2:$G$50,6,FALSE) -> 0 | I17: =VLOOKUP(B17,[1]入力用!$A$2:$G$50,7,FALSE) -> 2
B18: 中崎町かいせい保育園 | C18: 中崎西1丁目7番39号 | D18: =VLOOKUP(B18,[1]入力用!$A$2:$G$50,2,FALSE) -> 0 | E18: =VLOOKUP(B18,[1]入力用!$A$2:$G$50,3,FALSE) -> 0 | F18: =VLOOKUP(B18,[1]入力用!$A$2:$G$50,4,FALSE) -> 0 | G18: =VLOOKUP(B18,[1]入力用!$A$2:$G$50,5,FALSE) -> 0 | H18: =VLOOKUP(B18,[1]入力用!$A$2:$G$50,6,FALSE) -> 2 | I18: =VLOOKUP(B18,[1]入力用!$A$2:$G$50,7,FALSE) -> 0
B19: 茶屋中津保育園 | C19: 中津3丁目3番3号 | D19: =VLOOKUP(B19,[1]入力用!$A$2:$G$50,2,FALSE) -> 0 | E19: =VLOOKUP(B19,[1]入力用!$A$2:$G$50,3,FALSE) -> 0 | F19: =VLOOKUP(B19,[1]入力用!$A$2:$G$50,4,FALSE) -> 0 | G19: =VLOOKUP(B19,[1]入力用!$A$2:$G$50,5,FALSE) -> 0 | H19: =VLOOKUP(B19,[1]入力用!$A$2:$G$50,6,FALSE) -> 0 | I19: =VLOOKUP(B19,[1]入力用!$A$2:$G$50,7,FALSE) -> 0
B20: えがおの森保育園・どうしん | C20: 同心1丁目6番27号 | D20: =VLOOKUP(B20,[1]入力用!$A$2:$G$50,2,FALSE) -> 0 | E20: =VLOOKUP(B20,[1]入力用!$A$2:$G$50,3,FALSE) -> 0 | F20: =VLOOKUP(B20,[1]入力用!$A$2:$G$50,4,FALSE) -> 0 | G20: =VLOOKUP(B20,[1]入力用!$A$2:$G$50,5,FALSE) -> 0 | H20: =VLOOKUP(B20,[1]入力用!$A$2:$G$50,6,FALSE) -> 0 | I20: =VLOOKUP(B20,[1]入力用!$A$2:$G$50,7,FALSE) -> 0
B21: 金蘭会保育園 | C21: 大淀南3丁目3番14号 | D21: =VLOOKUP(B21,[1]入力用!$A$2:$G$50,2,FALSE) -> 0 | E21: =VLOOKUP(B21,[1]入力用!$A$2:$G$50,3,FALSE) -> 0 | F21: =VLOOKUP(B21,[1]入力用!$A$2:$G$50,4,FALSE) -> 0 | G21: =VLOOKUP(B21,[1]入力用!$A$2:$G$50,5,FALSE) -> 0 | H21: =VLOOKUP(B21,[1]入力用!$A$2:$G$50,6,FALSE) -> 1 | I21: =VLOOKUP(B21,[1]入力用!$A$2:$G$50,7,FALSE) -> 2
B22: 天満ちとせ保育園 | C22: 天満1丁目18番24号 | D22: =VLOOKUP(B22,[1]入力用!$A$2:$G$50,2,FALSE) -> 0 | E22: =VLOOKUP(B22,[1]入力用!$A$2:$G$50,3,FALSE) -> 0 | F22: =VLOOKUP(B22,[1]入力用!$A$2:$G$50,4,FALSE) -> 0 | G22: =VLOOKUP(B22,[1]入力用!$A$2:$G$50,5,FALSE) -> 0 | H22: =VLOOKUP(B22,[1]入力用!$A$2:$G$50,6,FALSE) -> 2 | I22: =VLOOKUP(B22,[1]入力用!$A$2:$G$50,7,FALSE) -> 0
B23: 豊崎ちとせ保育園 | C23: 豊崎1丁目6番5号 | D23: =VLOOKUP(B23,[1]入力用!$A$2:$G$50,2,FALSE) -> 0 | E23: =VLOOKUP(B23,[1]入力用!$A$2:$G$50,3,FALSE) -> 0 | F23: =VLOOKUP(B23,[1]入力用!$A$2:$G$50,4,FALSE) -> 0 | G23: =VLOOKUP(B23,[1]入力用!$A$2:$G$50,5,FALSE) -> 0 | H23: =VLOOKUP(B23,[1]入力用!$A$2:$G$50,6,FALSE) -> 0 | I23: =VLOOKUP(B23,[1]入力用!$A$2:$G$50,7,FALSE) -> 0
B24: クオリスキッズ天六保育園 | C24: 長柄中2丁目5番35号 | D24: =VLOOKUP(B24,[1]入力用!$A$2:$G$50,2,FALSE) -> 0 | E24: =VLOOKUP(B24,[1]入力用!$A$2:$G$50,3,FALSE) -> 0 | F24: =VLOOKUP(B24,[1]入力用!$A$2:$G$50,4,FALSE) -> 0 | G24: =VLOOKUP(B24,[1]入力用!$A$2:$G$50,5,FALSE) -> 1 | H24: =VLOOKUP(B24,[1]入力用!$A$2:$G$50,6,FALSE) -> 0 | I24: =VLOOKUP(B24,[1]入力用!$A$2:$G$50,7,FALSE) -> 2
B25: 中崎はな保育園 | C25: 中崎2丁目4番29号 | D25: =VLOOKUP(B25,[1]入力用!$A$2:$G$50,2,FALSE) -> 0 | E25: =VLOOKUP(B25,[1]入力用!$A$2:$G$50,3,FALSE) -> 0 | F25: =VLOOKUP(B25,[1]入力用!$A$2:$G$50,4,FALSE) -> 1 | G25: =VLOOKUP(B25,[1]入力用!$A$2:$G$50,5,FALSE) -> 0 | H25: =VLOOKUP(B25,[1]入力用!$A$2:$G$50,6,FALSE) -> 0 | I25: =VLOOKUP(B25,[1]入力用!$A$2:$G$50,7,FALSE) -> 1
B26: ＡＩＡＩ ＮＵＲＳＥＲＹ 大淀中 | C26: 大淀中3丁目17番15号 | D26: =VLOOKUP(B26,[1]入力用!$A$2:$G$50,2,FALSE) -> 0 | E26: =VLOOKUP(B26,[1]入力用!$A$2:$G$50,3,FALSE) -> 0 | F26: =VLOOKUP(B26,[1]入力用!$A$2:$G$50,4,FALSE) -> 0 | G26: =VLOOKUP(B26,[1]入力用!$A$2:$G$50,5,FALSE) -> 0 | H26: =VLOOKUP(B26,[1]入力用!$A$2:$G$50,6,FALSE) -> 3 | I26: =VLOOKUP(B26,[1]入力用!$A$2:$G$50,7,FALSE) -> 1
B27: 天音つばさ保育園 | C27: 東天満1丁目4番5号 | D27: =VLOOKUP(B27,[1]入力用!$A$2:$G$50,2,FALSE) -> 0 | E27: =VLOOKUP(B27,[1]入力用!$A$2:$G$50,3,FALSE) -> 0 | F27: =VLOOKUP(B27,[1]入力用!$A$2:$G$50,4,FALSE) -> 0 | G27: =VLOOKUP(B27,[1]入力用!$A$2:$G$50,5,FALSE) -> 0 | H27: =VLOOKUP(B27,[1]入力用!$A$2:$G$50,6,FALSE) -> 0 | I27: =VLOOKUP(B27,[1]入力用!$A$2:$G$50,7,FALSE) -> 0
B28: トレジャーキッズほんじょう保育園 | C28: 本庄東2丁目7番9号 | D28: =VLOOKUP(B28,[1]入力用!$A$2:$G$59,2,FALSE) -> 0 | E28: =VLOOKUP(B28,[1]入力用!$A$2:$G$59,3,FALSE) -> 0 | F28: =VLOOKUP(B28,[1]入力用!$A$2:$G$59,4,FALSE) -> 0 | G28: =VLOOKUP(B28,[1]入力用!$A$2:$G$59,5,FALSE) -> 0 | H28: =VLOOKUP(B28,[1]入力用!$A$2:$G$59,6,FALSE) -> 0 | I28: =VLOOKUP(B28,[1]入力用!$A$2:$G$59,7,FALSE) -> 0
B29: アイグラン保育園天満 | C29: 天満3丁目10番4号 | D29: =VLOOKUP(B29,[1]入力用!$A$2:$G$59,2,FALSE) -> 0 | E29: =VLOOKUP(B29,[1]入力用!$A$2:$G$59,3,FALSE) -> 0 | F29: =VLOOKUP(B29,[1]入力用!$A$2:$G$59,4,FALSE) -> 0 | G29: =VLOOKUP(B29,[1]入力用!$A$2:$G$59,5,FALSE) -> 0 | H29: =VLOOKUP(B29,[1]入力用!$A$2:$G$59,6,FALSE) -> 4 | I29: =VLOOKUP(B29,[1]入力用!$A$2:$G$59,7,FALSE) -> 1
B30: フェアリー保育園本庄東 | C30: 本庄東1丁目2番 | D30: =VLOOKUP(B30,[1]入力用!$A$2:$G$59,2,FALSE) -> 0 | E30: =VLOOKUP(B30,[1]入力用!$A$2:$G$59,3,FALSE) -> 0 | F30: =VLOOKUP(B30,[1]入力用!$A$2:$G$59,4,FALSE) -> 0 | G30: =VLOOKUP(B30,[1]入力用!$A$2:$G$59,5,FALSE) -> 0 | H30: =VLOOKUP(B30,[1]入力用!$A$2:$G$59,6,FALSE) -> 0 | I30: =VLOOKUP(B30,[1]入力用!$A$2:$G$59,7,FALSE) -> 0
B31: ポピンズナーサリースクール扇町 | C31: 南扇町1番14号 関電労働組合会館1階 | D31: =VLOOKUP(B31,[1]入力用!$A$2:$G$59,2,FALSE) -> 0 | E31: =VLOOKUP(B31,[1]入力用!$A$2:$G$59,3,FALSE) -> 0 | F31: =VLOOKUP(B31,[1]入力用!$A$2:$G$59,4,FALSE) -> 0 | G31: =VLOOKUP(B31,[1]入力用!$A$2:$G$59,5,FALSE) -> 0 | H31: =VLOOKUP(B31,[1]入力用!$A$2:$G$59,6,FALSE) -> 0 | I31: =VLOOKUP(B31,[1]入力用!$A$2:$G$59,7,FALSE) -> 0
B32: にじいろ保育園うめきた | C32: 大深町5-54 グラングリーン大阪・パークタワー3階 | D32: =VLOOKUP(B32,[1]入力用!$A$2:$G$59,2,FALSE) -> 0 | E32: =VLOOKUP(B32,[1]入力用!$A$2:$G$59,3,FALSE) -> 0 | F32: =VLOOKUP(B32,[1]入力用!$A$2:$G$59,4,FALSE) -> 0 | G32: =VLOOKUP(B32,[1]入力用!$A$2:$G$59,5,FALSE) -> 0 | H32: =VLOOKUP(B32,[1]入力用!$A$2:$G$59,6,FALSE) -> 0 | I32: =VLOOKUP(B32,[1]入力用!$A$2:$G$59,7,FALSE) -> 7
A33: 公立 | B33: 大阪市立大淀保育所 | C33: 大淀中4丁目9番11号 | D33: =VLOOKUP(B33,[1]入力用!$A$2:$G$50,2,FALSE) -> 0 | E33: =VLOOKUP(B33,[1]入力用!$A$2:$G$50,3,FALSE) -> 0 | F33: =VLOOKUP(B33,[1]入力用!$A$2:$G$50,4,FALSE) -> 4 | G33: =VLOOKUP(B33,[1]入力用!$A$2:$G$50,5,FALSE) -> 6 | H33: =VLOOKUP(B33,[1]入力用!$A$2:$G$50,6,FALSE) -> 8 | I33: =VLOOKUP(B33,[1]入力用!$A$2:$G$50,7,FALSE) -> 14
B34: 大阪市立大淀保育所 (夜間） | C34: 大淀中4丁目9番11号 | D34: =VLOOKUP(B34,[1]入力用!$A$2:$G$50,2,FALSE) -> 2 | E34: =VLOOKUP(B34,[1]入力用!$A$2:$G$50,3,FALSE) -> 2 | F34: =VLOOKUP(B34,[1]入力用!$A$2:$G$50,4,FALSE) -> 0 | G34: =VLOOKUP(B34,[1]入力用!$A$2:$G$50,5,FALSE) -> 1 | H34: =VLOOKUP(B34,[1]入力用!$A$2:$G$50,6,FALSE) -> 3 | I34: =VLOOKUP(B34,[1]入力用!$A$2:$G$50,7,FALSE) -> 3
A35: 認定こども園 | B35: 認定こども園 中之島ちどり保育園 | C35: 天神西町3番16号 | D35: =VLOOKUP(B35,[1]入力用!$A$2:$G$50,2,FALSE) -> 0 | E35: =VLOOKUP(B35,[1]入力用!$A$2:$G$50,3,FALSE) -> 0 | F35: =VLOOKUP(B35,[1]入力用!$A$2:$G$50,4,FALSE) -> 0 | G35: =VLOOKUP(B35,[1]入力用!$A$2:$G$50,5,FALSE) -> 0 | H35: =VLOOKUP(B35,[1]入力用!$A$2:$G$50,6,FALSE) -> 0 | I35: =VLOOKUP(B35,[1]入力用!$A$2:$G$50,7,FALSE) -> 0
B36: きたの旭ヶ丘学園 | C36: 兎我野町3番10号 | D36: =VLOOKUP(B36,[1]入力用!$A$2:$G$50,2,FALSE) -> 0 | E36: =VLOOKUP(B36,[1]入力用!$A$2:$G$50,3,FALSE) -> 0 | F36: =VLOOKUP(B36,[1]入力用!$A$2:$G$50,4,FALSE) -> 0 | G36: =VLOOKUP(B36,[1]入力用!$A$2:$G$50,5,FALSE) -> 0 | H36: =VLOOKUP(B36,[1]入力用!$A$2:$G$50,6,FALSE) -> 0 | I36: =VLOOKUP(B36,[1]入力用!$A$2:$G$50,7,FALSE) -> 0
B37: 明の守なかざき園 | C37: 中崎1丁目7番8号 | D37: =VLOOKUP(B37,[1]入力用!$A$2:$G$50,2,FALSE) -> 1 | E37: =VLOOKUP(B37,[1]入力用!$A$2:$G$50,3,FALSE) -> 0 | F37: =VLOOKUP(B37,[1]入力用!$A$2:$G$50,4,FALSE) -> 0 | G37: =VLOOKUP(B37,[1]入力用!$A$2:$G$50,5,FALSE) -> 0 | H37: =VLOOKUP(B37,[1]入力用!$A$2:$G$50,6,FALSE) -> 0 | I37: =VLOOKUP(B37,[1]入力用!$A$2:$G$50,7,FALSE) -> 0
B38: ぴっころきっず新梅田園 | C38: 中津7丁目5番24号 1～3F | D38: =VLOOKUP(B38,[1]入力用!$A$2:$G$50,2,FALSE) -> 0 | E38: =VLOOKUP(B38,[1]入力用!$A$2:$G$50,3,FALSE) -> 0 | F38: =VLOOKUP(B38,[1]入力用!$A$2:$G$50,4,FALSE) -> 0 | G38: =VLOOKUP(B38,[1]入力用!$A$2:$G$50,5,FALSE) -> 0 | H38: =VLOOKUP(B38,[1]入力用!$A$2:$G$50,6,FALSE) -> 0 | I38: =VLOOKUP(B38,[1]入力用!$A$2:$G$50,7,FALSE) -> 0
B39: 太成学院 天満幼稚園 | C39: 与力町4番16号 | F39: =VLOOKUP(B39,[1]入力用!$A$2:$G$50,4,FALSE) -> 0 | G39: =VLOOKUP(B39,[1]入力用!$A$2:$G$50,5,FALSE) -> 0 | H39: =VLOOKUP(B39,[1]入力用!$A$2:$G$50,6,FALSE) -> 0 | I39: =VLOOKUP(B39,[1]入力用!$A$2:$G$50,7,FALSE) -> 0
A40: 地域型保育事業 | B40: さくらんぼルーム | C40: 長柄東3丁目2番1‐103号 | D40: =VLOOKUP(B40,[1]入力用!$A$2:$G$50,2,FALSE) -> 0 | E40: =VLOOKUP(B40,[1]入力用!$A$2:$G$50,3,FALSE) -> 0 | F40: =VLOOKUP(B40,[1]入力用!$A$2:$G$50,4,FALSE) -> 0
B41: フェアリールーム天六園 | C41: 本庄東2丁目2番30号 ウィッシュ大阪ビル ２B号 | D41: =VLOOKUP(B41,[1]入力用!$A$2:$G$50,2,FALSE) -> 0 | E41: =VLOOKUP(B41,[1]入力用!$A$2:$G$50,3,FALSE) -> 0 | F41: =VLOOKUP(B41,[1]入力用!$A$2:$G$50,4,FALSE) -> 0
B42: クオリスキッズ中津三丁目保育園 | C42: 中津3丁目25番2号 北梅田パークレジデンス１階 | D42: =VLOOKUP(B42,[1]入力用!$A$2:$G$50,2,FALSE) -> 0 | E42: =VLOOKUP(B42,[1]入力用!$A$2:$G$50,3,FALSE) -> 0 | F42: =VLOOKUP(B42,[1]入力用!$A$2:$G$50,4,FALSE) -> 0
B43: こぐまの森保育園 梅田園 | C43: 豊崎2丁目8番13号 ジョリーフローラ1階 | D43: =VLOOKUP(B43,[1]入力用!$A$2:$G$50,2,FALSE) -> 0 | E43: =VLOOKUP(B43,[1]入力用!$A$2:$G$50,3,FALSE) -> 0 | F43: =VLOOKUP(B43,[1]入力用!$A$2:$G$50,4,FALSE) -> 1
B44: ぬくもりのおうち保育 南森町園 | C44: 天神西町7番16号 藤井ビル1階12号室 | D44: =VLOOKUP(B44,[1]入力用!$A$2:$G$50,2,FALSE) -> 0 | E44: =VLOOKUP(B44,[1]入力用!$A$2:$G$50,3,FALSE) -> 0 | F44: =VLOOKUP(B44,[1]入力用!$A$2:$G$50,4,FALSE) -> 0
B45: 商店街の保育ママ 興学院 | C45: 黒崎町6番13号 | D45: =VLOOKUP(B45,[1]入力用!$A$2:$G$50,2,FALSE) -> 0 | E45: =VLOOKUP(B45,[1]入力用!$A$2:$G$50,3,FALSE) -> 0 | F45: =VLOOKUP(B45,[1]入力用!$A$2:$G$50,4,FALSE) -> 0
B46: かいせいプチ保育園 天満橋園 | C46: 天満2丁目1番11号 アルス天満橋1階 | D46: =VLOOKUP(B46,[1]入力用!$A$2:$G$50,2,FALSE) -> 0 | E46: =VLOOKUP(B46,[1]入力用!$A$2:$G$50,3,FALSE) -> 0 | F46: =VLOOKUP(B46,[1]入力用!$A$2:$G$50,4,FALSE) -> 0
B47: 中之島ちどりキッズ | C47: 西天満3丁目8番11号 レジデンス富貴屋101 | D47: =VLOOKUP(B47,[1]入力用!$A$2:$G$50,2,FALSE) -> 1 | E47: =VLOOKUP(B47,[1]入力用!$A$2:$G$50,3,FALSE) -> 0 | F47: =VLOOKUP(B47,[1]入力用!$A$2:$G$50,4,FALSE) -> 2
B48: ぴっころきっず中津園 | C48: 中津3丁目4番33号 明成中津ビル1階 | D48: =VLOOKUP(B48,[1]入力用!$A$2:$G$50,2,FALSE) -> 0 | E48: =VLOOKUP(B48,[1]入力用!$A$2:$G$50,3,FALSE) -> 1 | F48: =VLOOKUP(B48,[1]入力用!$A$2:$G$50,4,FALSE) -> 2
B49: ぴっころきっず北区役所園 | C49: 扇町2丁目１番27号 （北区役所内1F） | D49: =VLOOKUP(B49,[1]入力用!$A$2:$G$50,2,FALSE) -> 0 | E49: =VLOOKUP(B49,[1]入力用!$A$2:$G$50,3,FALSE) -> 0 | F49: =VLOOKUP(B49,[1]入力用!$A$2:$G$50,4,FALSE) -> 1
B50: キッズハーモニー・なかのしま | C50: 中之島１丁目3番20号 （大阪市役所本庁舎1F） | D50: =VLOOKUP(B50,[1]入力用!$A$2:$G$50,2,FALSE) -> 0 | E50: =VLOOKUP(B50,[1]入力用!$A$2:$G$50,3,FALSE) -> 0 | F50: =VLOOKUP(B50,[1]入力用!$A$2:$G$50,4,FALSE) -> 0
B51: コミニケ保育園 | C51: 天満4-1-2 コミニケ出版ﾋﾞﾙ2F | D51: =VLOOKUP(B51,[1]入力用!$A$2:$G$50,2,FALSE) -> 0 | E51: =VLOOKUP(B51,[1]入力用!$A$2:$G$50,3,FALSE) -> 0 | F51: =VLOOKUP(B51,[1]入力用!$A$2:$G$50,4,FALSE) -> 0
B52: ニチイキッズ大淀中保育園 | C52: 北区大淀中3-11-32 ドムール北３番館１F | D52: =VLOOKUP(B52,[1]入力用!$A$2:$G$50,2,FALSE) -> 0 | E52: =VLOOKUP(B52,[1]入力用!$A$2:$G$50,3,FALSE) -> 0 | F52: =VLOOKUP(B52,[1]入力用!$A$2:$G$50,4,FALSE) -> 0
B53: にじのとり保育園 | C53: 北区紅梅町1-2 アーデン南森町１F | D53: =VLOOKUP(B53,[1]入力用!$A$2:$G$50,2,FALSE) -> 0 | E53: =VLOOKUP(B53,[1]入力用!$A$2:$G$50,3,FALSE) -> 0 | F53: =VLOOKUP(B53,[1]入力用!$A$2:$G$50,4,FALSE) -> 0
B54: 輝け未来保育園 | C54: 本庄東1丁目9番5号 1F | D54: =VLOOKUP(B54,[1]入力用!$A$2:$G$58,2,FALSE) -> 0 | E54: =VLOOKUP(B54,[1]入力用!$A$2:$G$58,3,FALSE) -> 0 | F54: =VLOOKUP(B54,[1]入力用!$A$2:$G$58,4,FALSE) -> 1
B55: 医誠会国際総合病院 さくら保育園 | C55: 南扇町４番14号 | D55: =VLOOKUP(B55,[1]入力用!$A$2:$G$58,2,FALSE) -> 0 | E55: =VLOOKUP(B55,[1]入力用!$A$2:$G$58,3,FALSE) -> 0 | F55: =VLOOKUP(B55,[1]入力用!$A$2:$G$58,4,FALSE) -> 1
B56: この空き情報は、令和８年11月１日時点での情報です。
B57: 児童の入退所や保育施設の事情等により、変更となる場合があります。
