{"text_format":"1","workbook":"xlsx","n_sheets":11,"sheets":["食品成分表(一覧)","食品成分表（抜粋）","入力シート ","料理一覧","料理データ","月間献立（幼児）","月間献立（乳児）","献立表一覧","献立（印刷用）","印刷データ","献立データ"],"not_rendered":{"charts":0,"images":6,"macros":1,"external_links":0,"defined_names":17,"comments":0,"pivot_tables":0},"unopened":[],"bounds":{"document_bytes":16777216,"sheet_cells":100000,"rows_first":2000,"rows_last":500,"rows_between":2000,"halvings":0,"cell_chars":16384,"cell_head_chars":4096},"cells_cut":0,"cells_raw":0,"read":"whole","date_system":"1900"}

{"sheet":"食品成分表(一覧)","index":0,"n_rows":2483,"n_cols":15,"rows_kept":2483,"cut":false,"hidden":false,"merged":[[2,4,2,14]]}
[]
[null,"日本食品標準成分表2020年版（八訂）",null,null,null,"本表"]
[null,null,null,null,"単位"]
[null,null,null,null,"kcal/100 g","g/100 g","g/100 g","g/100 g","mg/100 g","mg/100 g","µg/100 g","mg/100 g","mg/100 g","mg/100 g","g/100 g"]
["食品分類","番号","通し番号","食品名","エネルギー","たんぱく質","脂質","食物繊維総量","カルシウム","鉄","レチノール活性当量","ビタミンＢ１","ビタミンB２","ビタミンC","食塩相当量"]
["穀類",1001,1,"アマランサス　玄穀",343,12.7,6,7.4,160,9.4,0,0.04,0.14000000000000001,0,0]
["穀類",1002,2,"あわ　精白粒",346,11.2,4.4000000000000004,3.3,14,4.8,0,0.56000000000000005,7.0000000000000007E-2,0,0]
["穀類",1003,3,"あわ　あわもち",210,5.0999999999999996,1.3,1.5,5,0.7,0,0.08,0.01,0,0]
["穀類",1004,4,"えんばく　オートミール",350,13.7,5.7,9.4,47,3.9,0,0.2,0.08,0,0]
["穀類",1005,5,"おおむぎ　七分つき押麦",343,10.9,2.1,10.3,23,1.3,0,0.22,7.0000000000000007E-2,0,0]
["穀類",1006,6,"おおむぎ　押麦　乾",329,6.7,1.5,12.2,21,1.1000000000000001,0,0.11,0.03,0,0]
["穀類",1170,7,"おおむぎ　押麦　めし",118,2.2000000000000002,0.5,4.2,6,0.4,0,0.02,0,0,0]
["穀類",1007,8,"おおむぎ　米粒麦",333,7,2.1,8.6999999999999993,17,1.2,0,0.19,0.05,0,0]
["穀類",1008,9,"おおむぎ　大麦めん　乾",343,12.9,1.7,6.3,27,2.1,0,0.21,0.04,0,2.8]
["穀類",1009,10,"おおむぎ　大麦めん　ゆで",121,4.8,0.6,2.5,12,0.9,0,0.04,0.01,0,0.2]
["穀類",1010,11,"おおむぎ　麦こがし",368,12.5,5,15.5,43,3.1,0,0.09,0.1,0,0]
["穀類",1167,12,"キヌア　玄穀",344,13.4,3.2,6.2,46,4.3,1,0.45,0.24,0,0.1]
["穀類",1011,13,"きび　精白粒",353,11.3,3.3,1.6,9,2.1,0,0.34,0.09,0,0]
["穀類",1012,14,"こむぎ　［玄穀］　国産　普通",329,10.8,3.1,14,26,3.2,0,0.41,0.09,0,0]
["穀類",1013,15,"こむぎ　［玄穀］　輸入　軟質",344,10.1,3.3,11.2,36,2.9,0,0.49,0.09,0,0]
["穀類",1014,16,"こむぎ　［玄穀］　輸入　硬質",332,13,3,11.4,26,3.2,0,0.35,0.09,0,0]
["穀類",1015,17,"こむぎ　［小麦粉］　薄力粉　1等",349,8.3000000000000007,1.5,2.5,20,0.5,0,0.11,0.03,0,0]
["穀類",1016,18,"こむぎ　［小麦粉］　薄力粉　2等",345,9.3000000000000007,1.9,2.6,23,0.9,0,0.21,0.04,0,0]
["穀類",1018,19,"こむぎ　［小麦粉］　中力粉　1等",337,9,1.6,2.8,17,0.5,0,0.1,0.03,0,0]
["穀類",1019,20,"こむぎ　［小麦粉］　中力粉　2等",346,9.6999999999999993,1.8,2.1,24,1.1000000000000001,0,0.22,0.04,0,0]
["穀類",1020,21,"こむぎ　［小麦粉］　強力粉　1等",337,11.8,1.5,2.7,17,0.9,0,0.09,0.04,0,0]
["穀類",1021,22,"こむぎ　［小麦粉］　強力粉　2等",343,12.6,1.7,2.1,21,1,0,0.13,0.04,0,0]
["穀類",1023,23,"こむぎ　［小麦粉］　強力粉　全粒粉",320,12.8,2.9,11.2,26,3.1,0,0.34,0.09,0,0]
["穀類",1146,24,"こむぎ　［小麦粉］　プレミックス粉　お好み焼き用",335,10.1,1.9,2.8,64,1,1,0.21,0.03,0,3.7]
["穀類",1024,25,"こむぎ　［小麦粉］　プレミックス粉　ホットケーキ用",360,7.8,4,1.8,100,0.5,9,0.1,0.08,0,1]
["穀類",1147,26,"こむぎ　［小麦粉］　プレミックス粉　から揚げ用",311,10.199999999999999,1.2,2.6,110,1.2,5,0.15,7.0000000000000007E-2,0,9.6999999999999993]
["穀類",1025,27,"こむぎ　［小麦粉］　プレミックス粉　天ぷら用",337,8.8000000000000007,1.3,2.5,140,0.6,1,0.12,0.99,0,0.5]
["穀類",1171,28,"こむぎ　［小麦粉］　プレミックス粉　天ぷら用　バッター",136,3.3,0.5,1,84,0.2,3,0.04,0.16,0,0.2]
["穀類",1172,29,"こむぎ　［小麦粉］　プレミックス粉　天ぷら用　バッター　揚げ",588,4.3,47.7,3.3,100,0.3,0,0.05,0.14000000000000001,0,0.2]
["穀類",1026,30,"こむぎ　［パン類］　角形食パン　食パン",248,8.9,4.0999999999999996,4.2,22,0.5,0,7.0000000000000007E-2,0.05,0,1.2]
["穀類",1174,31,"こむぎ　［パン類］　角形食パン　焼き",269,9.6999999999999993,4.5,4.5999999999999996,26,0.5,0,7.0000000000000007E-2,0.05,0,1.3]
["穀類",1175,32,"こむぎ　［パン類］　角形食パン　耳を除いたもの",226,8.1999999999999993,3.7,3.8,20,0.4,0,0.06,0.05,0,1.1000000000000001]
["穀類",1176,33,"こむぎ　［パン類］　角形食パン　耳",273,9.6999999999999993,4.5,4.7,23,0.5,1,0.06,0.06,0,1.3]
["穀類",1206,34,"こむぎ　［パン類］　食パン　リーンタイプ",246,7.8,3.5,1.8,18,0.6,0,0.08,0.06,0,1.3]
["穀類",1207,35,"こむぎ　［パン類］　食パン　リッチタイプ",255,8,3.7,2,12,0.6,0,0.1,0.05,0,1.3]
["穀類",1205,36,"こむぎ　［パン類］　山形食パン　食パン",255,7.8,5.9,1.7,25,0.6,28,0.09,0.09,0,1.1000000000000001]
["穀類",1028,37,"こむぎ　［パン類］　コッペパン",259,8.5,3.8,2,37,1,0,0.08,0.08,0,1.3]
["穀類",1030,38,"こむぎ　［パン類］　乾パン",386,9.5,4.4000000000000004,3.1,30,1.2,0,0.14000000000000001,0.06,0,1.2]
["穀類",1031,39,"こむぎ　［パン類］　フランスパン",289,9.4,1.3,2.7,16,0.9,0,0.08,0.05,0,1.6]
["穀類",1032,40,"こむぎ　［パン類］　ライ麦パン",252,8.4,2.2000000000000002,5.6,16,1.4,0,0.16,0.06,0,1.2]
["穀類",1208,41,"こむぎ　［パン類］　全粒粉パン",251,7.9,5.7,4.5,14,1.3,0,0.17,7.0000000000000007E-2,0,1]
["穀類",1033,42,"こむぎ　［パン類］　ぶどうパン",263,8.1999999999999993,3.5,2.2000000000000002,32,0.9,0,0.11,0.05,0,1]
["穀類",1034,43,"こむぎ　［パン類］　ロールパン",309,10.1,9,2,44,0.7,1,0.1,0.06,0,1.2]
["穀類",1209,44,"こむぎ　［パン類］　クロワッサン　レギュラータイプ",406,6.5,20.399999999999999,1.9,27,0.4,31,0.11,0.09,0,1.3]
["穀類",1035,45,"こむぎ　［パン類］　クロワッサン　リッチタイプ",438,7.9,26.8,1.8,21,0.6,6,0.08,0.03,0,1.2]
["穀類",1210,46,"こむぎ　［パン類］　くるみパン",292,8.1999999999999993,12.6,2.4,35,0.8,11,0.11,0.09,0,0.8]
["穀類",1036,47,"こむぎ　［パン類］　イングリッシュマフィン",224,8.1,3.6,1.2,53,0.9,0,0.15,0.08,0,1.2]
["穀類",1037,48,"こむぎ　［パン類］　ナン",257,10.3,3.4,2,11,0.8,0,0.13,0.06,0,1.3]
["穀類",1148,49,"こむぎ　［パン類］　ベーグル",270,9.6,2,2.5,24,1.3,0,0.19,0.08,0,1.2]
["穀類",1038,50,"こむぎ　［うどん・そうめん類］　うどん　生",249,6.1,0.6,3.6,18,0.3,0,0.09,0.03,0,2.5]
["穀類",1039,51,"こむぎ　［うどん・そうめん類］　うどん　ゆで",95,2.6,0.4,1.3,6,0.2,0,0.02,0.01,0,0.3]
["穀類",1186,52,"こむぎ　［うどん・そうめん類］　うどん　半生うどん",296,7.8,3.4,4.0999999999999996,22,0.6,0,0.1,0.03,0,3]
["穀類",1041,53,"こむぎ　［うどん・そうめん類］　干しうどん　乾",333,8.5,1.1000000000000001,2.4,17,0.6,0,0.08,0.02,0,4.3]
["穀類",1042,54,"こむぎ　［うどん・そうめん類］　干しうどん　ゆで",117,3.1,0.5,0.7,7,0.2,0,0.02,0.01,0,0.5]
["穀類",1043,55,"こむぎ　［うどん・そうめん類］　そうめん・ひやむぎ　乾",333,9.5,1.1000000000000001,2.5,17,0.6,0,0.08,0.02,0,3.8]
["穀類",1044,56,"こむぎ　［うどん・そうめん類］　そうめん・ひやむぎ　ゆで",114,3.5,0.4,0.9,6,0.2,0,0.02,0.01,0,0.2]
["穀類",1045,57,"こむぎ　［うどん・そうめん類］　手延そうめん・手延ひやむぎ　乾",312,9.3000000000000007,1.5,1.8,20,0.6,0,0.06,0.02,0,5.8]
["穀類",1046,58,"こむぎ　［うどん・そうめん類］　手延そうめん・手延ひやむぎ　ゆで",119,3.5,0.6,1,6,0.2,0,0.03,0.01,0,0.3]
["穀類",1047,59,"こむぎ　［中華めん類］　中華めん　生",249,8.6,1.2,5.4,21,0.5,0,0.02,0.02,0,1]
["穀類",1048,60,"こむぎ　［中華めん類］　中華めん　ゆで",133,4.9000000000000004,0.6,2.8,20,0.3,0,0.01,0.01,0,0.2]
["穀類",1187,61,"こむぎ　［中華めん類］　半生中華めん　",305,9.9,4,6.2,21,0.7,0,7.0000000000000007E-2,0.03,0,1.2]
["穀類",1049,62,"こむぎ　［中華めん類］　蒸し中華めん　蒸し中華めん",162,4.9000000000000004,1.7,3.1,10,0.4,0,0,0.16,0,0.3]
["穀類",1188,63,"こむぎ　［中華めん類］　蒸し中華めん  ソテー",211,5.2,4.9000000000000004,3.6,10,0.4,0,0,0,0,0.3]
["穀類",1050,64,"こむぎ　［中華めん類］　干し中華めん　乾",337,11.7,1.6,6,21,1.1000000000000001,0,0.02,0.03,0,1]
["穀類",1051,65,"こむぎ　［中華めん類］　干し中華めん　ゆで",132,4.9000000000000004,0.5,2.6,13,0.4,0,0,0,0,0.2]
["穀類",1052,66,"こむぎ　［中華めん類］　沖縄そば　生",266,9.1999999999999993,2,2.1,11,0.7,0,0.02,0.04,0,2.1]
["穀類",1053,67,"こむぎ　［中華めん類］　沖縄そば　ゆで",132,5.2,0.8,1.5,9,0.4,0,0.01,0.02,0,0.4]
["穀類",1054,68,"こむぎ　［中華めん類］　干し沖縄そば　乾",317,12,1.7,2.1,23,1.5,0,0.12,0.05,0,4.3]
["穀類",1055,69,"こむぎ　［中華めん類］　干し沖縄そば　ゆで",132,5.2,0.6,1.5,11,0.5,0,0.02,0.02,0,0.5]
["穀類",1056,70,"こむぎ　［即席めん類］　即席中華めん　油揚げ味付け",424,10.1,16.7,2.5,430,1,0,1.46,1.67,0,6.4]
["穀類",1057,71,"こむぎ　［即席めん類］　即席中華めん　油揚げ　乾　（添付調味料等を含むもの）",439,10.1,19.100000000000001,2.4,230,0.9,1,0.55000000000000004,0.83,0,5.6]
["穀類",1144,72,"こむぎ　［即席めん類］　即席中華めん　油揚げ　乾　（添付調味料等を含まないもの）",461,8.9,19.600000000000001,5.5,220,0.6,0,0.16,0.19,0,1.5]
["穀類",1198,73,"こむぎ　［即席めん類］　即席中華めん　油揚げ　調理後全体　（添付調味料等を含むもの）",100,2.2999999999999998,4.4000000000000004,0.5,28,0.2,0,0.02,0.13,0,1.1000000000000001]
["穀類",1189,74,"こむぎ　［即席めん類］　即席中華めん　油揚げ　ゆで　（添付調味料等を含まないもの）",189,3.9,7.7,2.6,95,0.2,0,0.05,0.06,0,0.4]
["穀類",1145,75,"こむぎ　［即席めん類］　即席中華めん　非油揚げ　乾　（添付調味料等を含まないもの）",337,8.5,1.9,6.5,230,0.6,5,0.01,0.01,0,3]
["穀類",1058,76,"こむぎ　［即席めん類］　即席中華めん　非油揚げ　乾　（添付調味料等を含むもの）",336,10.3,5.2,2.2999999999999998,110,0.8,1,0.21,0.04,0,6.9]
["穀類",1199,77,"こむぎ　［即席めん類］　即席中華めん　非油揚げ　調理後全体　（添付調味料等を含むもの）",93,3,0.8,0.6,6,0.2,0,0.01,0.01,0,1.1000000000000001]
["穀類",1190,78,"こむぎ　［即席めん類］　即席中華めん　非油揚げ　ゆで　（添付調味料等を含まないもの）",139,3.4,0.8,2.7,94,0.2,3,0,0,0,0.6]
["穀類",1193,79,"こむぎ　［即席めん類］　中華スタイル即席カップめん　油揚げ　塩味　乾　（添付調味料等を含むもの）",422,10.9,18.5,5.8,190,0.7,26,0.9,0.61,2,5.8]
["穀類",1201,80,"こむぎ　［即席めん類］　中華スタイル即席カップめん　油揚げ　塩味　調理後全体　（添付調味料等を含むもの）",92,2.5,4.2,1.3,43,0.2,6,0.2,0.14000000000000001,1,1.3]
["穀類",1194,81,"こむぎ　［即席めん類］　中華スタイル即席カップめん　油揚げ　塩味　調理後のめん　（スープを残したもの）",175,3.8,7.7,2.2000000000000002,76,0.3,6,0.19,0.14000000000000001,0,1.1000000000000001]
["穀類",1191,82,"こむぎ　［即席めん類］　中華スタイル即席カップめん　油揚げ　しょうゆ味　乾　（添付調味料等を含むもの）",417,10,19.100000000000001,6.1,200,0.8,12,0.61,0.52,2,6.3]
["穀類",1200,83,"こむぎ　［即席めん類］　中華スタイル即席カップめん　油揚げ　しょうゆ味　調理後全体　（添付調味料等を含むもの）",90,2.2999999999999998,4.5,1.4,46,0.2,3,0.14000000000000001,0.12,1,1.5]
["穀類",1192,84,"こむぎ　［即席めん類］　中華スタイル即席カップめん　油揚げ　しょうゆ味　調理後のめん　（スープを残したもの）",142,3,5.8,1.9,74,0.2,1,0.15,0.14000000000000001,0,1.1000000000000001]
["穀類",1060,85,"こむぎ　［即席めん類］　中華スタイル即席カップめん　油揚げ　焼きそば　乾　（添付調味料等を含むもの）",401,8.1999999999999993,18.600000000000001,5.7,180,1,4,0.48,0.66,1,3.8]
["穀類",1202,86,"こむぎ　［即席めん類］　中華スタイル即席カップめん　油揚げ　焼きそば　調理後全体　（添付調味料等含むもの）",222,5,11.3,3.3,94,0.4,2,0.28000000000000003,0.3,2,2.2999999999999998]
["穀類",1061,87,"こむぎ　［即席めん類］　中華スタイル即席カップめん　非油揚げ　乾　（添付調味料を含むもの）",314,9.1999999999999993,5.8,6.4,48,1.2,12,0.16,0.13,1,7.1]
["穀類",1203,88,"こむぎ　［即席めん類］　中華スタイル即席カップめん　非油揚げ　調理後全体　（添付調味料等を含むもの）",66,2.5,2.1,1.5,44,0.2,3,0.1,0.1,2,1.4]
["穀類",1195,89,"こむぎ　［即席めん類］　中華スタイル即席カップめん　非油揚げ　調理後のめん　（スープを残したもの）",121,3.4,1.3,2.5,76,0.3,0,0.05,0.06,0,1]
["穀類",1062,90,"こむぎ　［即席めん類］　和風スタイル即席カップめん　油揚げ　乾　（添付調味料等を含むもの）",439,10.9,19.8,6,170,1.3,4,0.11,0.05,1,6.7]
["穀類",1204,91,"こむぎ　［即席めん類］　和風スタイル即席カップめん　油揚げ　調理後全体　（添付調味料等を含むもの）",91,2.2000000000000002,4.7,1.4,41,0.2,0,0.19,0.08,2,1.4]
["穀類",1196,92,"こむぎ　［即席めん類］　和風スタイル即席カップめん　油揚げ　調理後のめん　（スープを残したもの）",163,2.7,7.2,2.4,78,0.2,0,0.15,0.06,1,1.1000000000000001]
["穀類",1063,93,"こむぎ　［マカロニ・スパゲッティ類］　マカロニ・スパゲッティ　乾",347,12.9,1.8,5.4,18,1.4,1,0.19,0.06,0,0]
["穀類",1064,94,"こむぎ　［マカロニ・スパゲッティ類］　マカロニ・スパゲッティ　ゆで",150,5.8,0.9,3,8,0.7,0,0.06,0.03,0,1.2]
["穀類",1173,95,"こむぎ　［マカロニ・スパゲッティ類］　マカロニ・スパゲッティ　ソテー",186,5.5,5.8,2.9,8,0.7,0,0.06,0.03,0,1.1000000000000001]
["穀類",1149,96,"こむぎ　［マカロニ・スパゲッティ類］　生パスタ　生",232,7.8,1.9,1.5,12,0.5,0,0.05,0.04,0,1.2]
["穀類",1065,97,"こむぎ　［ふ類］　生ふ",161,12.7,0.8,0.5,13,1.3,0,0.08,0.03,0,0]
["穀類",1066,98,"こむぎ　［ふ類］　焼きふ　釜焼きふ",357,28.5,2.7,3.7,33,3.3,0,0.16,7.0000000000000007E-2,0,0]
["穀類",1067,99,"こむぎ　［ふ類］　焼きふ　板ふ",351,25.6,3.3,3.8,31,4.9000000000000004,0,0.2,0.08,0,0.5]
["穀類",1068,100,"こむぎ　［ふ類］　焼きふ　車ふ",361,30.2,3.4,2.6,25,4.2,0,0.12,7.0000000000000007E-2,0,0.3]
["穀類",1177,101,"こむぎ　［ふ類］　油ふ",547,22.7,35.299999999999997,0,19,1.7,0,7.0000000000000007E-2,0.03,0,0.1]
["穀類",1070,102,"こむぎ　［その他］　小麦はいが",391,32,11.6,14.3,42,9.4,5,1.82,0.71,0,0]
["穀類",1071,103,"こむぎ　［その他］　小麦たんぱく　粉末状",398,72,9.6999999999999993,2.4,75,6.6,1,0.03,0.12,0,0.2]
["穀類",1072,104,"こむぎ　［その他］　小麦たんぱく　粒状",101,20,2,0.4,14,1.8,0,0.02,0.01,0,0.1]
["穀類",1073,105,"こむぎ　［その他］　小麦たんぱく　ペースト状",145,25,4.0999999999999996,0.5,30,3,1,0.2,0.03,0,0.6]
["穀類",1178,106,"こむぎ　［その他］　かやきせんべい",359,10.6,1.9,0,19,0.8,0,0.17,0.02,0,2.5]
["穀類",1074,107,"こむぎ　［その他］　ぎょうざの皮　生",275,9.3000000000000007,1.4,2.2000000000000002,16,0.8,0,0.08,0.04,0,0]
["穀類",1075,108,"こむぎ　［その他］　しゅうまいの皮　生",275,8.3000000000000007,1.4,2.2000000000000002,16,0.6,0,0.09,0.04,0,0]
["穀類",1179,109,"こむぎ　［その他］　春巻きの皮　生",288,8.3000000000000007,1.6,4.5,13,0.3,0,0.03,0.01,0,1.1000000000000001]
["穀類",1180,110,"こむぎ　［その他］　春巻きの皮　揚げ",512,7.2,30.7,4.2,11,0.3,0,0.02,0.01,0,0.9]
["穀類",1076,111,"こむぎ　［その他］　ピザ生地",265,9.1,3,2.2999999999999998,13,0.8,0,0.15,0.11,0,1.3]
["穀類",1069,112,"こむぎ　［その他］　ちくわぶ",160,7.1,1.2,1.5,8,0.5,0,0.01,0.02,0,0]
["穀類",1077,113,"こむぎ　［その他］　パン粉　生",277,11,5.0999999999999996,3,25,1.1000000000000001,0,0.11,0.02,0,0.9]
["穀類",1078,114,"こむぎ　［その他］　パン粉　半生",315,12.5,5.8,3.5,28,1.2,0,0.13,0.03,0,1]
["穀類",1079,115,"こむぎ　［その他］　パン粉　乾燥",369,14.6,6.8,4,33,1.4,0,0.15,0.03,0,1.2]
["穀類",1150,116,"こむぎ　［その他］　冷めん　生",249,3.9,0.7,1.1000000000000001,11,0.3,0,0.04,0,0,1.3]
["穀類",1080,117,"こめ　［水稲穀粒］　玄米",346,6.8,2.7,3,9,2.1,0,0.41,0.04,0,0]
["穀類",1081,118,"こめ　［水稲穀粒］　半つき米",345,6.5,1.8,1.4,7,1.5,0,0.3,0.03,0,0]
["穀類",1082,119,"こめ　［水稲穀粒］　七分つき米",348,6.3,1.5,0.9,6,1.3,0,0.24,0.03,0,0]
["穀類",1083,120,"こめ　［水稲穀粒］　精白米　うるち米",342,6.1,0.9,0.5,5,0.8,0,0.08,0.02,0,0]
["穀類",1151,121,"こめ　［水稲穀粒］　精白米　もち米",345,6.4,1.2,0.5,5,0.2,0,0.12,0.02,0,0]
["穀類",1152,122,"こめ　［水稲穀粒］　精白米　インディカ米",347,7.4,0.9,0.5,5,0.5,0,0.06,0.02,0,0]
["穀類",1084,123,"こめ　［水稲穀粒］　はいが精米",343,6.5,2,1.3,7,0.9,0,0.23,0.03,0,0]
["穀類",1153,124,"こめ　［水稲穀粒］　発芽玄米",339,6.5,3.3,3.1,13,1,0,0.35,0.02,0,0]
["穀類",1181,125,"こめ　［水稲穀粒］　赤米",344,8.5,3.3,6.5,12,1.2,0,0.38,0.05,0,0]
["穀類",1182,126,"こめ　［水稲穀粒］　黒米",341,7.8,3.2,5.6,15,0.9,3,0.39,0.1,0,0]
["穀類",1085,127,"こめ　［水稲めし］　玄米",152,2.8,1,1.4,7,0.6,0,0.16,0.02,0,0]
["穀類",1086,128,"こめ　［水稲めし］　半つき米",154,2.7,0.6,0.8,4,0.2,0,0.08,0.01,0,0]
["穀類",1087,129,"こめ　［水稲めし］　七分つき米",160,2.6,0.5,0.5,4,0.2,0,0.06,0.01,0,0]
["穀類",1168,130,"こめ　［水稲めし］　精白米　インディカ米",184,3.8,0.4,0.4,2,0.2,0,0.02,0,0,0]
["穀類",1088,131,"こめ　［水稲めし］　精白米　うるち米",156,2.5,0.3,1.5,3,0.1,0,0.02,0.01,0,0]
["穀類",1154,132,"こめ　［水稲めし］　精白米　もち米",186,3.5,0.5,0.4,2,0.1,0,0.03,0.01,0,0]
["穀類",1089,133,"こめ　［水稲めし］　はいが精米",159,2.7,0.6,0.8,5,0.2,0,0.08,0.01,0,0]
["穀類",1155,134,"こめ　［水稲めし］　発芽玄米",161,3,1.4,1.8,6,0.4,0,0.13,0.01,0,0]
["穀類",1183,135,"こめ　［水稲めし］　赤米",150,3.8,1.3,3.4,5,0.5,0,0.15,0.02,0,0]
["穀類",1184,136,"こめ　［水稲めし］　黒米",150,3.6,1.4,3.3,7,0.4,1,0.14000000000000001,0.04,0,0]
["穀類",1185,137,"こめ　［水稲軟めし］　精白米",113,1.8,0.3,1.1000000000000001,3,0.1,0,0.02,0.01,0,0]
["穀類",1090,138,"こめ　［水稲全かゆ］　玄米",64,1.2,0.4,0.6,3,0.2,0,7.0000000000000007E-2,0.01,0,0]
["穀類",1091,139,"こめ　［水稲全かゆ］　半つき米",65,1.1000000000000001,0.3,0.3,2,0.1,0,0.03,0,0,0]
["穀類",1092,140,"こめ　［水稲全かゆ］　七分つき米",68,1.1000000000000001,0.2,0.2,2,0.1,0,0.03,0,0,0]
["穀類",1093,141,"こめ　［水稲全かゆ］　精白米",65,1.1000000000000001,0.1,0.1,1,0,0,0.01,0,0,0]
["穀類",1094,142,"こめ　［水稲五分かゆ］　玄米",32,0.6,0.2,0.3,1,0.1,0,0.03,0,0,0]
["穀類",1095,143,"こめ　［水稲五分かゆ］　半つき米",32,0.6,0.1,0.1,1,0,0,0.02,0,0,0]
["穀類",1096,144,"こめ　［水稲五分かゆ］　七分つき米",32,0.6,0.1,0.1,1,0,0,0.01,0,0,0]
["穀類",1097,145,"こめ　［水稲五分かゆ］　精白米",33,0.5,0.1,0.1,1,0,0,0,0,0,0]
["穀類",1098,146,"こめ　［水稲おもゆ］　玄米",19,0.4,0.1,0.2,1,0.1,0,0.02,0,0,0]
["穀類",1099,147,"こめ　［水稲おもゆ］　半つき米",19,0.3,0.1,0.1,1,0,0,0.01,0,0,0]
["穀類",1100,148,"こめ　［水稲おもゆ］　七分つき米",20,0.3,0.1,0,1,0,0,0.01,0,0,0]
["穀類",1101,149,"こめ　［水稲おもゆ］　精白米",19,0.3,0,0,0,0,0,0,0,0,0]
["穀類",1102,150,"こめ　［陸稲穀粒］　玄米",357,10.1,2.7,3,9,2.1,0,0.41,0.04,0,0]
["穀類",1103,151,"こめ　［陸稲穀粒］　半つき米",356,9.6,1.8,1.4,7,1.5,0,0.3,0.03,0,0]
["穀類",1104,152,"こめ　［陸稲穀粒］　七分つき米",359,9.5,1.5,0.9,6,1.3,0,0.24,0.03,0,0]
["穀類",1105,153,"こめ　［陸稲穀粒］　精白米",331,9.3000000000000007,0.9,0.5,5,0.8,0,0.08,0.02,0,0]
["穀類",1106,154,"こめ　［陸稲めし］　玄米",156,4.0999999999999996,1,1.4,7,0.6,0,0.16,0.02,0,0]
["穀類",1107,155,"こめ　［陸稲めし］　半つき米",157,3.8,0.6,0.8,4,0.2,0,0.08,0.01,0,0]
["穀類",1108,156,"こめ　［陸稲めし］　七分つき米",155,3.6,0.5,0.5,4,0.2,0,0.06,0.01,0,0]
["穀類",1109,157,"こめ　［陸稲めし］　精白米",157,3.5,0.3,0.3,3,0.1,0,0.02,0.01,0,0]
["穀類",1110,158,"こめ　［うるち米製品］　アルファ化米　一般用",358,6,1,1.2,7,0.1,0,0.04,0,0,0]
["穀類",1156,159,"こめ　［うるち米製品］　アルファ化米　学校給食用強化品",358,6,1,1.2,7,0.1,0,0.41,0,0,0]
["穀類",1111,160,"こめ　［うるち米製品］　おにぎり",170,2.7,0.3,0.4,3,0.1,0,0.02,0.01,0,0.5]
["穀類",1112,161,"こめ　［うるち米製品］　焼きおにぎり",166,3.1,0.3,0.4,5,0.2,0,0.03,0.02,0,1]
["穀類",1113,162,"こめ　［うるち米製品］　きりたんぽ",200,3.2,0.4,0.4,4,0.1,0,0.03,0.01,0,0]
["穀類",1114,163,"こめ　［うるち米製品］　上新粉",343,6.2,0.9,0.6,5,0.8,0,0.09,0.02,0,0]
["穀類",1157,164,"こめ　［うるち米製品］　玄米粉",370,7.1,2.9,3.5,12,1.4,0,0,0.03,0,0]
["穀類",1158,165,"こめ　［うるち米製品］　米粉",356,6,0.7,0.6,6,0.1,0,0.03,0.01,0,0]
["穀類",1211,166,"こめ　［うるち米製品］　米粉パン　食パン",247,10.7,5.0999999999999996,0.7,22,0.8,0,0.05,0.06,0,1.1000000000000001]
["穀類",1212,167,"こめ　［うるち米製品］　米粉パン　ロールパン",256,8.8000000000000007,6.7,0.6,26,0.6,0,0.05,0.08,0,0.9]
["穀類",1159,168,"こめ　［うるち米製品］　米粉パン　小麦グルテン不使用のもの",247,3.4,3.1,0.9,4,0.2,0,0.05,0.03,0,0.9]
["穀類",1160,169,"こめ　［うるち米製品］　米粉めん",252,3.6,0.7,0.9,5,0.1,0,0.03,0,0,0.1]
["穀類",1115,170,"こめ　［うるち米製品］　ビーフン",360,7,1.6,0.9,14,0.7,0,0.06,0.02,0,0]
["穀類",1169,171,"こめ　［うるち米製品］　ライスペーパー",339,0.5,0.3,0.8,21,1.2,0,0.01,0,0,1.7]
["穀類",1116,172,"こめ　［うるち米製品］　米こうじ",260,5.8,1.7,1.4,5,0.3,0,0.11,0.13,0,0]
["穀類",1117,173,"こめ　［もち米製品］　もち",223,4,0.6,0.5,3,0.1,0,0.03,0.01,0,0]
["穀類",1118,174,"こめ　［もち米製品］　赤飯",186,4.3,0.6,1.6,6,0.4,0,0.05,0.01,0,0]
["穀類",1119,175,"こめ　［もち米製品］　あくまき",131,2.2999999999999998,1.8,0.2,6,0.1,0,0,0,0,0]
["穀類",1120,176,"こめ　［もち米製品］　白玉粉",347,6.3,1,0.5,5,1.1000000000000001,0,0.03,0.01,0,0]
["穀類",1121,177,"こめ　［もち米製品］　道明寺粉",349,7.1,0.7,0.7,6,0.4,0,0.04,0.01,0,0]
["穀類",1161,178,"こめ　［その他］　米ぬか",374,13.4,19.600000000000001,20.5,35,7.6,0,3.12,0.21,0,0]
["穀類",1122,179,"そば　そば粉　全層粉",339,12,3.1,4.3,17,2.8,0,0.46,0.11,0,0]
["穀類",1123,180,"そば　そば粉　内層粉",342,6,1.6,1.8,10,1.7,0,0.16,7.0000000000000007E-2,0,0]
["穀類",1124,181,"そば　そば粉　中層粉",334,10.199999999999999,2.7,4.4000000000000004,19,3,0,0.35,0.1,0,0]
["穀類",1125,182,"そば　そば粉　表層粉",337,15,3.6,7.1,32,4.2,0,0.5,0.14000000000000001,0,0]
["穀類",1126,183,"そば　そば米",347,9.6,2.5,3.7,12,1.6,0,0.42,0.1,0,0]
["穀類",1127,184,"そば　そば　生",271,9.8000000000000007,1.9,6,18,1.4,0,0.19,0.09,0,0]
["穀類",1128,185,"そば　そば　ゆで",130,4.8,1,2.9,9,0.8,0,0.05,0.02,0,0]
["穀類",1197,186,"そば　そば　半生そば",325,10.5,3.8,6.9,20,1.3,0,0.22,0.1,0,0]
["穀類",1129,187,"そば　干しそば　乾",344,14,2.2999999999999998,3.7,24,2.6,0,0.37,0.08,0,2.2000000000000002]
["穀類",1130,188,"そば　干しそば　ゆで",113,4.8,0.7,1.5,12,0.9,0,0.08,0.02,0,0.1]
["穀類",1131,189,"とうもろこし　玄穀　黄色種",341,8.6,5,9,5,1.9,13,0.3,0.1,0,0]
["穀類",1162,190,"とうもろこし　玄穀　白色種",341,8.6,5,9,5,1.9,0,0.3,0.1,0,0]
["穀類",1132,191,"とうもろこし　コーンミール　黄色種",375,8.3000000000000007,4,8,5,1.5,13,0.15,0.08,0,0]
["穀類",1163,192,"とうもろこし　コーンミール　白色種",375,8.3000000000000007,4,8,5,1.5,0,0.15,0.08,0,0]
["穀類",1133,193,"とうもろこし　コーングリッツ　黄色種",352,8.1999999999999993,1,2.4,2,0.3,15,0.06,0.05,0,0]
["穀類",1164,194,"とうもろこし　コーングリッツ　白色種",352,8.1999999999999993,1,2.4,2,0.3,0,0.06,0.05,0,0]
["穀類",1134,195,"とうもろこし　コーンフラワー　黄色種",347,6.6,2.8,1.7,3,0.6,11,0.14000000000000001,0.06,0,0]
["穀類",1165,196,"とうもろこし　コーンフラワー　白色種",347,6.6,2.8,1.7,3,0.6,0,0.14000000000000001,0.06,0,0]
["穀類",1135,197,"とうもろこし　ジャイアントコーン　フライ　味付け",409,5.7,11.8,10.5,8,1.3,0,0.08,0.02,0,1.1000000000000001]
["穀類",1136,198,"とうもろこし　ポップコーン",472,10.199999999999999,22.8,9.3000000000000007,7,4.3,15,0.13,0.08,0,1.4]
["穀類",1137,199,"とうもろこし　コーンフレーク",380,7.8,1.7,2.4,1,0.9,10,0.03,0.02,0,2.1]
["穀類",1138,200,"はとむぎ　精白粒",353,13.3,1.3,0.6,6,0.4,0,0.02,0.05,0,0]
["穀類",1139,201,"ひえ　精白粒",361,9.4,3.3,4.3,7,1.6,0,0.25,0.02,0,0]
["穀類",1140,202,"もろこし　玄穀",344,10.3,4.7,9.6999999999999993,16,3.3,0,0.35,0.1,0,0]
["穀類",1141,203,"もろこし　精白粒",348,9.5,2.6,4.4000000000000004,14,2.4,0,0.1,0.03,0,0]
["穀類",1142,204,"ライむぎ　全粒粉",317,12.7,2.7,13.3,31,3.5,0,0.47,0.2,0,0]
["穀類",1143,205,"ライむぎ　ライ麦粉",324,8.5,1.6,12.9,25,1.5,0,0.15,7.0000000000000007E-2,0,0]
["いも及びでん粉類",2068,206,"＜いも類＞　アメリカほどいも　塊根　生",146,5.9,0.6,11.1,73,1.1000000000000001,0,0.12,0.03,15,0]
["いも及びでん粉類",2069,207,"＜いも類＞　アメリカほどいも　塊根　ゆで",144,6,0.8,8.4,78,1,0,0.15,0.03,9,0]
["いも及びでん粉類",2001,208,"＜いも類＞　きくいも　塊茎　生",66,1.9,0.4,1.9,14,0.3,0,0.08,0.04,10,0]
["いも及びでん粉類",2041,209,"＜いも類＞　きくいも　塊茎　水煮",51,1.6,0.5,2.1,13,0.3,0,0.06,0.03,6,0]
["いも及びでん粉類",2002,210,"＜いも類＞　こんにゃく　精粉",194,3,0.1,79.900000000000006,57,2.1,0,0,0,0,0]
["いも及びでん粉類",2003,211,"＜いも類＞　こんにゃく　板こんにゃく　精粉こんにゃく",5,0.1,0,2.2000000000000002,43,0.4,0,0,0,0,0]
["いも及びでん粉類",2004,212,"＜いも類＞　こんにゃく　板こんにゃく　生いもこんにゃく",8,0.1,0.1,3,68,0.6,0,0,0,0,0]
["いも及びでん粉類",2042,213,"＜いも類＞　こんにゃく　赤こんにゃく",6,0.1,0,2.2999999999999998,46,78,0,0,0,0,0]
["いも及びでん粉類",2043,214,"＜いも類＞　こんにゃく　凍みこんにゃく　乾",192,3.3,1.4,71.3,1600,12,0,0,0,0,0.1]
["いも及びでん粉類",2044,215,"＜いも類＞　こんにゃく　凍みこんにゃく　ゆで",42,0.7,0.3,15.5,340,2.7,0,0,0,0,0]
["いも及びでん粉類",2005,216,"＜いも類＞　こんにゃく　しらたき",7,0.2,0,2.9,75,0.5,0,0,0,0,0]
["いも及びでん粉類",2045,217,"＜いも類＞　（さつまいも類）　さつまいも　塊根　皮つき　生",127,0.9,0.5,2.8,40,0.5,3,0.1,0.02,25,0.1]
["いも及びでん粉類",2046,218,"＜いも類＞　（さつまいも類）　さつまいも　塊根　皮つき　蒸し",129,0.9,0.2,3.8,40,0.5,4,0.1,0.02,20,0.1]
["いも及びでん粉類",2047,219,"＜いも類＞　（さつまいも類）　さつまいも　塊根　皮つき　天ぷら",205,1.4,6.8,3.1,51,0.5,5,0.11,0.04,21,0.1]
["いも及びでん粉類",2006,220,"＜いも類＞　（さつまいも類）　さつまいも　塊根　皮なし　生",126,1.2,0.2,2.2000000000000002,36,0.6,2,0.11,0.04,29,0]
["いも及びでん粉類",2007,221,"＜いも類＞　（さつまいも類）　さつまいも　塊根　皮なし　蒸し",131,1.2,0.2,2.2999999999999998,36,0.6,2,0.11,0.04,29,0]
["いも及びでん粉類",2008,222,"＜いも類＞　（さつまいも類）　さつまいも　塊根　皮なし　焼き",151,1.4,0.2,3.5,34,0.7,1,0.12,0.06,23,0]
["いも及びでん粉類",2009,223,"＜いも類＞　（さつまいも類）　さつまいも　蒸し切干",277,3.1,0.6,5.9,53,2.1,0,0.19,0.08,9,0]
["いも及びでん粉類",2048,224,"＜いも類＞　（さつまいも類）　むらさきいも　塊根　皮なし　生",123,1.2,0.3,2.5,24,0.6,0,0.12,0.02,29,0.1]
["いも及びでん粉類",2049,225,"＜いも類＞　（さつまいも類）　むらさきいも　塊根　皮なし　蒸し",122,1.2,0.3,3,34,0.6,0,0.13,0.03,24,0.1]
["いも及びでん粉類",2010,226,"＜いも類＞　（さといも類）　さといも　球茎　生",53,1.5,0.1,2.2999999999999998,10,0.5,0,7.0000000000000007E-2,0.02,6,0]
["いも及びでん粉類",2011,227,"＜いも類＞　（さといも類）　さといも　球茎　水煮",52,1.5,0.1,2.4,14,0.4,0,0.06,0.02,5,0]
["いも及びでん粉類",2012,228,"＜いも類＞　（さといも類）　さといも　球茎　冷凍",69,2.2000000000000002,0.1,2,20,0.6,0,7.0000000000000007E-2,0.01,5,0]
["いも及びでん粉類",2050,229,"＜いも類＞　（さといも類）　セレベス　球茎　生",80,2.2000000000000002,0.3,2.2999999999999998,18,0.6,1,0.1,0.03,6,0]
["いも及びでん粉類",2051,230,"＜いも類＞　（さといも類）　セレベス　球茎　水煮",77,2.1,0.3,2.2000000000000002,17,0.6,1,0.08,0.02,4,0]
["いも及びでん粉類",2052,231,"＜いも類＞　（さといも類）　たけのこいも　球茎　生",97,1.7,0.4,2.8,39,0.5,1,0.05,0.03,6,0]
["いも及びでん粉類",2053,232,"＜いも類＞　（さといも類）　たけのこいも　球茎　水煮",86,1.6,0.4,2.4,37,0.5,1,0.05,0.02,4,0]
["いも及びでん粉類",2013,233,"＜いも類＞　（さといも類）　みずいも　球茎　生",111,0.7,0.4,2.2000000000000002,46,1,1,0.16,0.02,7,0]
["いも及びでん粉類",2014,234,"＜いも類＞　（さといも類）　みずいも　球茎　水煮",101,0.7,0.4,2.5,79,1,0,0.16,0.02,4,0]
["いも及びでん粉類",2015,235,"＜いも類＞　（さといも類）　やつがしら　球茎　生",94,3,0.7,2.8,39,0.7,1,0.13,0.06,7,0]
["いも及びでん粉類",2016,236,"＜いも類＞　（さといも類）　やつがしら　球茎　水煮",92,2.7,0.6,2.8,34,0.6,0,0.11,0.04,5,0]
["いも及びでん粉類",2063,237,"＜いも類＞　じゃがいも　塊茎　皮つき　生",51,1.8,0.1,9.8000000000000007,4,1,0,0.08,0.03,28,0]
["いも及びでん粉類",2064,238,"＜いも類＞　じゃがいも　塊茎　皮つき　電子レンジ調理",78,2.1,0.2,3.9,4,0.9,1,7.0000000000000007E-2,0.02,13,0]
["いも及びでん粉類",2065,239,"＜いも類＞　じゃがいも　塊茎　皮つき　フライドポテト　（生を揚げたもの）",153,2.7,5.6,4.3,6,1.6,1,0.09,0.03,16,0]
["いも及びでん粉類",2017,240,"＜いも類＞　じゃがいも　塊茎　皮なし　生",59,1.8,0.1,8.9,4,0.4,0,0.09,0.03,28,0]
["いも及びでん粉類",2019,241,"＜いも類＞　じゃがいも　塊茎　皮なし　水煮",71,1.7,0.1,3.1,4,0.6,0,7.0000000000000007E-2,0.03,18,0]
["いも及びでん粉類",2018,242,"＜いも類＞　じゃがいも　塊茎　皮なし　蒸し",76,1.9,0.3,3.5,5,0.6,0,0.08,0.03,11,0]
["いも及びでん粉類",2066,243,"＜いも類＞　じゃがいも　塊茎　皮なし　電子レンジ調理",78,1.9,0.1,3.5,4,0.4,0,0.09,0.03,23,0]
["いも及びでん粉類",2067,244,"＜いも類＞　じゃがいも　塊茎　皮なし　フライドポテト　（生を揚げたもの）",159,2.7,5.9,3.9,5,0.5,1,0.1,0.02,16,0]
["いも及びでん粉類",2020,245,"＜いも類＞　じゃがいも　塊茎　皮なし　フライドポテト　（市販冷凍食品を揚げたもの）",229,2.9,10.6,3.1,4,0.8,0,0.12,0.06,40,0]
["いも及びでん粉類",2021,246,"＜いも類＞　じゃがいも　乾燥マッシュポテト",347,6.6,0.6,6.6,24,3.1,0,0.25,0.05,5,0.2]
["いも及びでん粉類",2054,247,"＜いも類＞　ヤーコン　塊根　生",52,0.6,0.3,1.1000000000000001,11,0.2,2,0.04,0.01,3,0]
["いも及びでん粉類",2055,248,"＜いも類＞　ヤーコン　塊根　水煮",42,0.6,0.3,1.2,11,0.2,2,0.03,0.01,2,0]
["いも及びでん粉類",2022,249,"＜いも類＞　（やまのいも類）　ながいも　いちょういも　塊根　生",108,4.5,0.5,1.4,12,0.6,0,0.15,0.05,7,0]
["いも及びでん粉類",2023,250,"＜いも類＞　（やまのいも類）　ながいも　ながいも　塊根　生",64,2.2000000000000002,0.3,1,17,0.4,0,0.1,0.02,6,0]
["いも及びでん粉類",2024,251,"＜いも類＞　（やまのいも類）　ながいも　ながいも　塊根　水煮",58,2,0.3,1.4,15,0.4,0,0.08,0.02,4,0]
["いも及びでん粉類",2025,252,"＜いも類＞　（やまのいも類）　ながいも　やまといも　塊根　生",119,4.5,0.2,2.5,16,0.5,1,0.13,0.02,5,0]
["いも及びでん粉類",2026,253,"＜いも類＞　（やまのいも類）　じねんじょ　塊根　生",118,2.8,0.7,2,10,0.8,0,0.11,0.04,15,0]
["いも及びでん粉類",2027,254,"＜いも類＞　（やまのいも類）　だいじょ　塊根　生",102,2.6,0.1,2.2000000000000002,14,0.7,0,0.1,0.02,17,0.1]
["いも及びでん粉類",2070,255,"＜でん粉・でん粉製品＞　（でん粉類）　おおうばゆりでん粉",328,0.1,0.1,0.8,5,0.1,0,0,0,0,0]
["いも及びでん粉類",2028,256,"＜でん粉・でん粉製品＞　（でん粉類）　キャッサバでん粉",354,0.1,0.2,0,28,0.3,0,0,0,0,0]
["いも及びでん粉類",2029,257,"＜でん粉・でん粉製品＞　（でん粉類）　くずでん粉",356,0.2,0.2,0,18,2,0,0,0,0,0]
["いも及びでん粉類",2030,258,"＜でん粉・でん粉製品＞　（でん粉類）　米でん粉",375,0.2,0.7,0,29,1.5,0,0,0,0,0]
["いも及びでん粉類",2031,259,"＜でん粉・でん粉製品＞　（でん粉類）　小麦でん粉",360,0.2,0.5,0,14,0.6,0,0,0,0,0]
["いも及びでん粉類",2032,260,"＜でん粉・でん粉製品＞　（でん粉類）　サゴでん粉",357,0.1,0.2,0,7,1.8,0,0,0,0,0]
["いも及びでん粉類",2033,261,"＜でん粉・でん粉製品＞　（でん粉類）　さつまいもでん粉",340,0.1,0.2,0,50,2.8,0,0,0,0,0]
["いも及びでん粉類",2034,262,"＜でん粉・でん粉製品＞　（でん粉類）　じゃがいもでん粉",338,0.1,0.1,0,10,0.6,0,0,0,0,0]
["いも及びでん粉類",2035,263,"＜でん粉・でん粉製品＞　（でん粉類）　とうもろこしでん粉",363,0.1,0.7,0,3,0.3,0,0,0,0,0]
["いも及びでん粉類",2036,264,"＜でん粉・でん粉製品＞　（でん粉製品）　くずきり　乾",341,0.2,0.2,0.9,19,1.4,0,0,0,0,0]
["いも及びでん粉類",2037,265,"＜でん粉・でん粉製品＞　（でん粉製品）　くずきり　ゆで",133,0.1,0.1,0.8,5,0.4,0,0,0,0,0]
["いも及びでん粉類",2056,266,"＜でん粉・でん粉製品＞　（でん粉製品）　ごま豆腐",75,1.5,4.3,1,6,0.6,0,0.1,0.01,0,0]
["いも及びでん粉類",2038,267,"＜でん粉・でん粉製品＞　（でん粉製品）　タピオカパール　乾",352,0,0.2,0.5,24,0.5,0,0,0,0,0]
["いも及びでん粉類",2057,268,"＜でん粉・でん粉製品＞　（でん粉製品）　タピオカパール　ゆで",61,0,0,0.2,4,0.1,0,0,0,0,0]
["いも及びでん粉類",2058,269,"＜でん粉・でん粉製品＞　（でん粉製品）　でん粉めん　生",129,0.1,0.2,0.8,1,0.1,0,0,0,0,0]
["いも及びでん粉類",2059,270,"＜でん粉・でん粉製品＞　（でん粉製品）　でん粉めん　乾",347,0.2,0.3,1.8,6,0.2,0,0,0,0,0.1]
["いも及びでん粉類",2060,271,"＜でん粉・でん粉製品＞　（でん粉製品）　でん粉めん　乾　ゆで",83,0,0.2,0.6,1,0.1,0,0,0,0,0]
["いも及びでん粉類",2039,272,"＜でん粉・でん粉製品＞　（でん粉製品）　はるさめ　緑豆はるさめ　乾",344,0.2,0.4,4.0999999999999996,20,0.5,0,0,0,0,0]
["いも及びでん粉類",2061,273,"＜でん粉・でん粉製品＞　（でん粉製品）　はるさめ　緑豆はるさめ　ゆで",78,0,0.1,1.5,3,0.1,0,0,0,0,0]
["いも及びでん粉類",2040,274,"＜でん粉・でん粉製品＞　（でん粉製品）　はるさめ　普通はるさめ　乾",346,0,0.2,1.2,41,0.4,0,0,0,0,0]
["いも及びでん粉類",2062,275,"＜でん粉・でん粉製品＞　（でん粉製品）　はるさめ　普通はるさめ　ゆで",76,0,0,0.8,10,0.1,0,0,0,0,0]
["砂糖及び甘味類",3001,276,"（砂糖類）　黒砂糖",352,1.7,0,0,240,4.7,1,0.05,7.0000000000000007E-2,0,0.1]
["砂糖及び甘味類",3030,277,"（砂糖類）　てんさい含蜜糖",357,0.9,0,8.3000000000000007,0,0.1,0,0,0,0,0.1]
["砂糖及び甘味類",3002,278,"（砂糖類）　和三盆糖",393,0.2,0,0,27,0.7,0,0.01,0.03,0,0]
["砂糖及び甘味類",3003,279,"（砂糖類）　車糖　上白糖",391,0,0,0,1,0,0,0,0,0,0]
["砂糖及び甘味類",3004,280,"（砂糖類）　車糖　三温糖",390,0,0,0,6,0.1,0,0,0.01,0,0]
["砂糖及び甘味類",3005,281,"（砂糖類）　ざらめ糖　グラニュー糖",393,0,0,0,0,0,0,0,0,0,0]
["砂糖及び甘味類",3006,282,"（砂糖類）　ざらめ糖　白ざら糖",393,0,0,0,0,0,0,0,0,0,0]
["砂糖及び甘味類",3007,283,"（砂糖類）　ざらめ糖　中ざら糖",393,0,0,0,0,0.1,0,0,0,0,0]
["砂糖及び甘味類",3008,284,"（砂糖類）　加工糖　角砂糖",394,0,0,0,0,0.1,0,0,0,0,0]
["砂糖及び甘味類",3009,285,"（砂糖類）　加工糖　氷砂糖",394,0,0,0,0,0.1,0,0,0,0,0]
["砂糖及び甘味類",3010,286,"（砂糖類）　加工糖　コーヒーシュガー",394,0.1,0,0,1,0.2,0,0,0,0,0]
["砂糖及び甘味類",3011,287,"（砂糖類）　加工糖　粉糖",393,0,0,0,0,0.2,0,0,0,0,0]
["砂糖及び甘味類",3012,288,"（砂糖類）　液糖　しょ糖型液糖",267,0,0,0,0,0,0,0,0,0,0]
["砂糖及び甘味類",3013,289,"（砂糖類）　液糖　転化型液糖",294,0,0,0,0,0,0,0,0,0,0]
["砂糖及び甘味類",3014,290,"（砂糖類）　氷糖みつ",274,0.2,0,0,0,0.7,0,0.01,0.02,0,0]
["砂糖及び甘味類",3031,291,"（でん粉糖類）　還元麦芽糖",208,0,0,0.3,0,0,0,0,0,0,0]
["砂糖及び甘味類",3032,292,"（でん粉糖類）　還元水あめ",210,0,0,14,0,0,0,0,0,0,0]
["砂糖及び甘味類",3015,293,"（でん粉糖類）　粉あめ",397,0,0,0,0,0.1,0,0,0,0,0]
["砂糖及び甘味類",3024,294,"（でん粉糖類）　水あめ　酵素糖化",342,0,0,0,0,0.1,0,0,0,0,0]
["砂糖及び甘味類",3025,295,"（でん粉糖類）　水あめ　酸糖化",341,0,0,0,0,0.1,0,0,0,0,0]
["砂糖及び甘味類",3017,296,"（でん粉糖類）　ぶどう糖　全糖",342,0,0,0,0,0.1,0,0,0,0,0]
["砂糖及び甘味類",3018,297,"（でん粉糖類）　ぶどう糖　含水結晶",342,0,0,0,0,0.1,0,0,0,0,0]
["砂糖及び甘味類",3019,298,"（でん粉糖類）　ぶどう糖　無水結晶",374,0,0,0,0,0.1,0,0,0,0,0]
["砂糖及び甘味類",3020,299,"（でん粉糖類）　果糖",375,0,0,0,0,0,0,0,0,0,0]
["砂糖及び甘味類",3026,300,"（でん粉糖類）　異性化液糖　ぶどう糖果糖液糖",283,0,0,0,0,0.1,0,0,0,0,0]
["砂糖及び甘味類",3027,301,"（でん粉糖類）　異性化液糖　果糖ぶどう糖液糖",283,0,0,0,0,0.1,0,0,0,0,0]
["砂糖及び甘味類",3028,302,"（でん粉糖類）　異性化液糖　高果糖液糖",282,0,0,0,0,0.1,0,0,0,0,0]
["砂糖及び甘味類",3029,303,"（その他）　黒蜜",199,1,0,0,140,2.6,0,0.03,0.04,0,0]
["砂糖及び甘味類",3022,304,"（その他）　はちみつ",329,0.3,0,0,4,0.2,0,0,0.01,0,0]
["砂糖及び甘味類",3023,305,"（その他）　メープルシロップ",266,0.1,0,0,75,0.4,0,0,0.02,0,0]
["豆類",4001,306,"あずき　全粒　乾",304,20.8,2,24.8,70,5.5,1,0.46,0.16,2,0]
["豆類",4002,307,"あずき　全粒　ゆで",122,8.6,0.8,12.1,27,1.6,0,0.15,0.04,0,0]
["豆類",4003,308,"あずき　ゆで小豆缶詰",202,4.4000000000000004,0.4,3.4,13,1.3,0,0.02,0.04,0,0.2]
["豆類",4004,309,"あずき　あん　こし生あん",147,9.8000000000000007,0.6,6.8,73,2.8,0,0.02,0.05,0,0]
["豆類",4005,310,"あずき　あん　さらしあん　（乾燥あん）",335,23.5,1,26.8,58,7.2,0,0.01,0.03,0,0]
["豆類",4101,311,"あずき　あん　こし練りあん　（並あん）",239,5.6,0.3,3.9,42,1.6,0,0.01,0.03,0,0]
["豆類",4102,312,"あずき　あん　こし練りあん　（中割りあん）",248,5.0999999999999996,0.3,3.5,38,1.5,0,0.01,0.03,0,0]
["豆類",4103,313,"あずき　あん　こし練りあん　（もなかあん）",277,5.0999999999999996,0.3,3.5,38,1.5,0,0.01,0.03,0,0]
["豆類",4006,314,"あずき　あん　つぶし練りあん",239,5.6,0.6,5.7,19,1.5,0,0.02,0.03,0,0.1]
["豆類",4007,315,"いんげんまめ　全粒　乾",280,22.1,2.5,19.600000000000001,140,5.9,0,0.64,0.16,0,0]
["豆類",4008,316,"いんげんまめ　全粒　ゆで",127,9.3000000000000007,1.2,13.6,62,2,0,0.22,7.0000000000000007E-2,0,0]
["豆類",4009,317,"いんげんまめ　うずら豆",214,6.7,1.3,5.9,41,2.2999999999999998,0,0.03,0.01,0,0.3]
["豆類",4010,318,"いんげんまめ　こし生あん",135,9.4,0.9,8.5,60,2.7,0,0.01,0.02,0,0]
["豆類",4011,319,"いんげんまめ　豆きんとん",238,4.9000000000000004,0.5,4.8,28,1,0,0.01,0.01,0,0.3]
["豆類",4012,320,"えんどう　全粒　青えんどう　乾",310,21.7,2.2999999999999998,17.399999999999999,65,5,8,0.72,0.15,0,0]
["豆類",4013,321,"えんどう　全粒　青えんどう　ゆで",129,9.1999999999999993,1,7.7,28,2.2000000000000002,4,0.27,0.06,0,0]
["豆類",4074,322,"えんどう　全粒　赤えんどう　乾",310,21.7,2.2999999999999998,17.399999999999999,65,5,1,0.72,0.15,0,0]
["豆類",4075,323,"えんどう　全粒　赤えんどう　ゆで",129,9.1999999999999993,1,7.7,28,2.2000000000000002,1,0.27,0.06,0,0]
["豆類",4014,324,"えんどう　グリンピース（揚げ豆）",375,20.8,11.6,19.600000000000001,88,5.4,2,0.52,0.16,0,0.9]
["豆類",4015,325,"えんどう　塩豆",321,23.3,2.4,17.899999999999999,1300,5.6,6,0.2,0.1,0,1.5]
["豆類",4016,326,"えんどう　うぐいす豆",228,5.6,0.7,5.3,18,2.5,0,0.02,0.01,0,0.4]
["豆類",4017,327,"ささげ　全粒　乾",280,23.9,2,18.399999999999999,75,5.6,2,0.5,0.1,0,0]
["豆類",4018,328,"ささげ　全粒　ゆで",130,10.199999999999999,0.9,10.7,32,2.6,1,0.2,0.05,0,0]
["豆類",4019,329,"そらまめ　全粒　乾",323,26,2,9.3000000000000007,100,5.7,0,0.5,0.2,0,0]
["豆類",4020,330,"そらまめ　フライビーンズ",436,24.7,20.8,14.9,90,7.5,2,0.1,0.05,0,1.8]
["豆類",4021,331,"そらまめ　おたふく豆",237,7.9,1.2,5.9,54,5.3,0,0.01,0.01,0,0.4]
["豆類",4022,332,"そらまめ　ふき豆",251,9.6,1.6,4.5,39,2.7,0,0.02,0.01,0,0.8]
["豆類",4076,333,"そらまめ　しょうゆ豆",173,9.8000000000000007,0.9,10.1,39,1.9,0,0.06,0.09,0,1.2]
["豆類",4104,334,"だいず　［全粒・全粒製品］　全粒　青大豆　国産　乾",354,33.5,19.3,20.100000000000001,160,6.5,1,0.74,0.24,2,0]
["豆類",4105,335,"だいず　［全粒・全粒製品］　全粒　青大豆　国産　ゆで",145,15,8.1999999999999993,8,69,1.8,0,0.13,0.05,0,0]
["豆類",4023,336,"だいず　［全粒・全粒製品］　全粒　黄大豆　国産　乾",372,33.799999999999997,19.7,21.5,180,6.8,1,0.71,0.26,3,0]
["豆類",4024,337,"だいず　［全粒・全粒製品］　全粒　黄大豆　国産　ゆで",163,14.8,9.8000000000000007,8.5,79,2.2000000000000002,0,0.17,0.08,0,0]
["豆類",4025,338,"だいず　［全粒・全粒製品］　全粒　黄大豆　米国産　乾",402,33,21.7,15.9,230,8.6,1,0.88,0.3,0,0]
["豆類",4026,339,"だいず　［全粒・全粒製品］　全粒　黄大豆　中国産　乾",391,32.799999999999997,19.5,15.6,170,8.9,1,0.84,0.3,0,0]
["豆類",4027,340,"だいず　［全粒・全粒製品］　全粒　黄大豆　ブラジル産　乾",414,33.6,22.6,17.3,250,9,1,0.77,0.28999999999999998,0,0]
["豆類",4077,341,"だいず　［全粒・全粒製品］　全粒　黒大豆　国産　乾",349,33.9,18.8,20.6,140,6.8,2,0.73,0.23,3,0]
["豆類",4106,342,"だいず　［全粒・全粒製品］　全粒　黒大豆　国産　ゆで",155,14.7,8.6,7.9,55,2.6,1,0.14000000000000001,0.05,0,0]
["豆類",4080,343,"だいず　［全粒・全粒製品］　いり大豆　青大豆",425,37.700000000000003,20.7,18.399999999999999,160,6.7,1,0.15,0.27,1,0]
["豆類",4078,344,"だいず　［全粒・全粒製品］　いり大豆　黄大豆",429,37.5,21.6,19.399999999999999,160,7.6,1,0.14000000000000001,0.26,1,0]
["豆類",4079,345,"だいず　［全粒・全粒製品］　いり大豆　黒大豆",431,36.4,22,19.2,120,7.2,1,0.12,0.27,1,0]
["豆類",4028,346,"だいず　［全粒・全粒製品］　水煮缶詰　黄大豆",124,12.9,6.7,6.8,100,1.8,0,0.01,0.02,0,0.5]
["豆類",4081,347,"だいず　［全粒・全粒製品］　蒸し大豆　黄大豆",186,16.600000000000001,9.8000000000000007,10.6,75,2.8,0,0.15,0.1,0,0.6]
["豆類",4082,348,"だいず　［全粒・全粒製品］　きな粉　青大豆　全粒大豆",424,37,22.8,16.899999999999999,160,7.9,4,0.28999999999999998,0.28999999999999998,1,0]
["豆類",4096,349,"だいず　［全粒・全粒製品］　きな粉　青大豆　脱皮大豆",418,36.6,24.6,20.8,190,6.7,6,0.48,0.27,0,0]
["豆類",4029,350,"だいず　［全粒・全粒製品］　きな粉　黄大豆　全粒大豆",451,36.700000000000003,25.7,18.100000000000001,190,8,0,7.0000000000000007E-2,0.24,1,0]
["豆類",4030,351,"だいず　［全粒・全粒製品］　きな粉　黄大豆　脱皮大豆",456,37.5,25.1,15.3,180,6.2,1,7.0000000000000007E-2,0.22,0,0]
["豆類",4109,352,"だいず　［全粒・全粒製品］　きな粉（砂糖入り）　青きな粉",392,18.5,11.4,8.4,80,3.9,2,0.14000000000000001,0.14000000000000001,0,0]
["豆類",4110,353,"だいず　［全粒・全粒製品］　きな粉（砂糖入り）　きな粉",406,18.3,12.9,9,97,4,0,0.04,0.12,0,0]
["豆類",4083,354,"だいず　［全粒・全粒製品］　大豆はいが",404,37.799999999999997,14.7,18.8,100,12,2,0.03,0.73,0,0]
["豆類",4031,355,"だいず　［全粒・全粒製品］　ぶどう豆",265,14.1,9.4,6.3,80,4.2,0,0.09,0.05,0,1.6]
["豆類",4032,356,"だいず　［豆腐・油揚げ類］　木綿豆腐",73,7,4.9000000000000004,1.1000000000000001,93,1.5,0,0.09,0.04,0,0]
["豆類",4097,357,"だいず　［豆腐・油揚げ類］　木綿豆腐　（凝固剤：塩化マグネシウム）",73,7,4.9000000000000004,1.1000000000000001,40,1.5,0,0.09,0.04,0,0.1]
["豆類",4098,358,"だいず　［豆腐・油揚げ類］　木綿豆腐　（凝固剤：硫酸カルシウム）",73,7,4.9000000000000004,1.1000000000000001,150,1.5,0,0.09,0.04,0,0]
["豆類",4033,359,"だいず　［豆腐・油揚げ類］　絹ごし豆腐",56,5.3,3.5,0.9,75,1.2,0,0.11,0.04,0,0]
["豆類",4099,360,"だいず　［豆腐・油揚げ類］　絹ごし豆腐　（凝固剤：塩化マグネシウム）",56,5.3,3.5,0.9,30,1.2,0,0.11,0.04,0,0]
["豆類",4100,361,"だいず　［豆腐・油揚げ類］　絹ごし豆腐　（凝固剤：硫酸カルシウム）",56,5.3,3.5,0.9,120,1.2,0,0.11,0.04,0,0]
["豆類",4034,362,"だいず　［豆腐・油揚げ類］　ソフト豆腐",56,5.0999999999999996,3.3,0.4,91,0.7,0,7.0000000000000007E-2,0.03,0,0]
["豆類",4035,363,"だいず　［豆腐・油揚げ類］　充てん豆腐",56,5,3.1,0.3,31,0.8,0,0.15,0.05,0,0]
["豆類",4036,364,"だいず　［豆腐・油揚げ類］　沖縄豆腐",99,9.1,7.2,0.5,120,1.7,0,0.1,0.04,0,0.4]
["豆類",4037,365,"だいず　［豆腐・油揚げ類］　ゆし豆腐",47,4.3,2.8,0.3,36,0.7,0,0.1,0.04,0,0.6]
["豆類",4038,366,"だいず　［豆腐・油揚げ類］　焼き豆腐",82,7.8,5.7,0.5,150,1.6,0,7.0000000000000007E-2,0.03,0,0]
["豆類",4039,367,"だいず　［豆腐・油揚げ類］　生揚げ",143,10.7,11.3,0.7,240,2.6,0,7.0000000000000007E-2,0.03,0,0]
["豆類",4040,368,"だいず　［豆腐・油揚げ類］　油揚げ　油揚げ",377,23.4,34.4,1.3,310,3.2,0,0.06,0.04,0,0]
["豆類",4084,369,"だいず　［豆腐・油揚げ類］　油揚げ　油抜き　油揚げ",266,18.2,23.4,0.9,230,2.5,0,0.04,0.02,0,0]
["豆類",4086,370,"だいず　［豆腐・油揚げ類］　油揚げ　油抜き　ゆで",164,12.4,13.8,0.6,140,1.6,0,0.01,0.01,0,0]
["豆類",4085,371,"だいず　［豆腐・油揚げ類］　油揚げ　油抜き　焼き",361,24.9,32.200000000000003,1.2,320,3.4,0,0.04,0.03,0,0]
["豆類",4095,372,"だいず　［豆腐・油揚げ類］　油揚げ　甘煮",231,11.2,13,0.5,120,1.5,0,0.01,0.02,0,1.2]
["豆類",4041,373,"だいず　［豆腐・油揚げ類］　がんもどき",223,15.3,17.8,1.4,270,3.6,0,0.03,0.04,0,0.5]
["豆類",4042,374,"だいず　［豆腐・油揚げ類］　凍り豆腐　乾",496,50.5,34.1,2.5,630,7.5,1,0.02,0.02,0,1.1000000000000001]
["豆類",4087,375,"だいず　［豆腐・油揚げ類］　凍り豆腐　水煮",104,10.7,7.3,0.5,150,1.7,0,0,0,0,0.7]
["豆類",4043,376,"だいず　［豆腐・油揚げ類］　豆腐よう",183,9.5,8.3000000000000007,0.8,160,1.7,0,0.02,7.0000000000000007E-2,0,1.9]
["豆類",4044,377,"だいず　［豆腐・油揚げ類］　豆腐竹輪　蒸し",121,14.9,4.4000000000000004,0.8,70,2,3,0.12,0.08,0,1.9]
["豆類",4045,378,"だいず　［豆腐・油揚げ類］　豆腐竹輪　焼き",133,16.100000000000001,4.9000000000000004,0.7,100,2.2999999999999998,0,0.13,0.08,0,2.2999999999999998]
["豆類",4088,379,"だいず　［豆腐・油揚げ類］　ろくじょう豆腐",332,34.700000000000003,21.5,3.2,660,6.1,0,0.1,0.06,0,11]
["豆類",4046,380,"だいず　［納豆類］　糸引き納豆",190,16.5,10,6.7,90,3.3,0,7.0000000000000007E-2,0.56000000000000005,0,0]
["豆類",4047,381,"だいず　［納豆類］　挽きわり納豆",185,16.600000000000001,10,5.9,59,2.6,0,0.14000000000000001,0.36,0,0]
["豆類",4048,382,"だいず　［納豆類］　五斗納豆",214,15.3,8.1,4.9000000000000004,49,2.2000000000000002,0,0.08,0.35,0,5.8]
["豆類",4049,383,"だいず　［納豆類］　寺納豆",248,18.600000000000001,8.1,7.6,110,5.9,0,0.04,0.35,0,14.2]
["豆類",4051,384,"だいず　［その他］　おから　生",88,6.1,3.6,11.5,81,1.3,0,0.11,0.03,0,0]
["豆類",4089,385,"だいず　［その他］　おから　乾燥",333,23.1,13.6,43.6,310,4.9000000000000004,0,0.42,0.11,0,0]
["豆類",4052,386,"だいず　［その他］　豆乳　豆乳",44,3.6,2,0.2,15,1.2,0,0.03,0.02,0,0]
["豆類",4053,387,"だいず　［その他］　豆乳　調製豆乳",63,3.2,3.6,0.3,31,1.2,0,7.0000000000000007E-2,0.02,0,0.1]
["豆類",4054,388,"だいず　［その他］　豆乳　豆乳飲料・麦芽コーヒー",59,2.2000000000000002,2.2000000000000002,0.1,20,0.3,0,0.01,0.01,0,0.1]
["豆類",4055,389,"だいず　［その他］　大豆たんぱく　粒状大豆たんぱく",318,46.3,3,17.8,270,7.7,0,0.67,0.3,0,0]
["豆類",4056,390,"だいず　［その他］　大豆たんぱく　濃縮大豆たんぱく",313,58.2,1.7,20.9,280,9.1999999999999993,0,0.37,0.11,0,1.4]
["豆類",4057,391,"だいず　［その他］　大豆たんぱく　分離大豆たんぱく　塩分無調整タイプ",335,79.099999999999994,3,4.2,57,9.4,0,0.11,0.14000000000000001,0,3.3]
["豆類",4090,392,"だいず　［その他］　大豆たんぱく　分離大豆たんぱく　塩分調整タイプ",335,79.099999999999994,3,4.2,890,9.4,0,0.11,0.14000000000000001,0,1.6]
["豆類",4058,393,"だいず　［その他］　大豆たんぱく　繊維状大豆たんぱく",365,59.3,5,5.6,70,8.1999999999999993,0,0.62,0.16,0,3.6]
["豆類",4059,394,"だいず　［その他］　湯葉　生",218,21.8,13.7,0.8,90,3.6,1,0.17,0.09,0,0]
["豆類",4060,395,"だいず　［その他］　湯葉　干し　乾",485,50.4,32.1,3,210,8.3000000000000007,1,0.35,0.12,0,0]
["豆類",4091,396,"だいず　［その他］　湯葉　干し　湯戻し",151,15.7,10.6,1.2,66,2.6,0,0.05,0.01,0,0]
["豆類",4061,397,"だいず　［その他］　金山寺みそ",247,6.9,3.2,3.2,33,1.7,0,0.12,0.18,0,5.0999999999999996]
["豆類",4062,398,"だいず　［その他］　ひしおみそ",198,6.5,2.7,2.8,56,1.9,0,0.11,0.27,0,4.8]
["豆類",4063,399,"だいず　［その他］　テンペ",180,15.8,9,10.199999999999999,70,2.4,0,7.0000000000000007E-2,0.09,0,0]
["豆類",4064,400,"つるあずき　全粒　乾",297,20.8,1.6,22,280,11,2,0.5,0.13,3,0]
["豆類",4092,401,"つるあずき　全粒　ゆで",132,9.6999999999999993,1,13.4,130,3.3,1,0.16,0.04,0,0]
["豆類",4065,402,"ひよこまめ　全粒　乾",336,20,5.2,16.3,100,2.6,2,0.37,0.15,0,0]
["豆類",4066,403,"ひよこまめ　全粒　ゆで",149,9.5,2.5,11.6,45,1.2,1,0.16,7.0000000000000007E-2,0,0]
["豆類",4067,404,"ひよこまめ　全粒　フライ　味付け",366,18.8,10.4,21,73,4.2,0,0.21,0.1,0,1.8]
["豆類",4068,405,"べにばないんげん　全粒　乾",273,17.2,1.7,26.7,78,5.4,0,0.67,0.15,0,0]
["豆類",4069,406,"べにばないんげん　全粒　ゆで",103,6.2,0.6,7.6,28,1.6,0,0.14000000000000001,0.05,0,0]
["豆類",4108,407,"やぶまめ　乾",383,23.4,10.1,0,55,2.4,0,0,0,0,0]
["豆類",4070,408,"らいまめ　全粒　乾",306,21.9,1.8,19.600000000000001,78,6.2,0,0.47,0.16,0,0]
["豆類",4093,409,"らいまめ　全粒　ゆで",122,9.6,0.9,10.9,27,2.2999999999999998,0,0.1,0.04,0,0]
["豆類",4071,410,"りょくとう　全粒　乾",319,25.1,1.5,14.6,100,5.9,13,0.7,0.22,0,0]
["豆類",4072,411,"りょくとう　全粒　ゆで",125,10.199999999999999,0.6,5.2,32,2.2000000000000002,7,0.19,0.06,0,0]
["豆類",4073,412,"レンズまめ　全粒　乾",313,23.2,1.5,16.7,57,9,3,0.52,0.17,1,0]
["豆類",4094,413,"レンズまめ　全粒　ゆで",149,11.2,0.8,9.4,27,4.3,1,0.2,0.06,0,0]
["種実類",5001,414,"アーモンド　乾",609,19.600000000000001,51.8,10.1,250,3.6,1,0.2,1.06,0,0]
["種実類",5002,415,"アーモンド　フライ　味付け",626,21.3,55.7,10.1,240,3.5,1,0.05,1.07,0,0.3]
["種実類",5040,416,"アーモンド　いり　無塩",608,20.3,54.1,11,260,3.7,1,0.03,1.04,0,0]
["種実類",5003,417,"あさ　乾",450,29.9,28.3,23,130,13,2,0.35,0.19,0,0]
["種実類",5041,418,"あまに　いり",540,21.8,43.3,23.8,210,9,1,0.01,0.17,0,0.2]
["種実類",5004,419,"えごま　乾",523,17.7,43.4,20.8,390,16,2,0.54,0.28999999999999998,0,0]
["種実類",5005,420,"カシューナッツ　フライ　味付け",591,19.8,47.6,6.7,38,4.8,1,0.54,0.18,0,0.6]
["種実類",5006,421,"かぼちゃ　いり　味付け",590,26.5,51.8,7.3,44,6.5,3,0.21,0.19,0,0.1]
["種実類",5007,422,"かや　いり",629,8.6999999999999993,64.900000000000006,18.2,58,3.3,6,0.02,0.04,2,0]
["種実類",5008,423,"ぎんなん　生",168,4.7,1.6,1.6,5,1,24,0.28000000000000003,0.08,23,0]
["種実類",5009,424,"ぎんなん　ゆで",169,4.5999999999999996,1.5,2.4,5,1.2,24,0.26,7.0000000000000007E-2,23,0]
["種実類",5010,425,"（くり類）　日本ぐり　生",147,2.8,0.5,4.2,23,0.8,3,0.21,7.0000000000000007E-2,33,0]
["種実類",5011,426,"（くり類）　日本ぐり　ゆで",152,3.5,0.6,6.6,23,0.7,3,0.17,0.08,26,0]
["種実類",5012,427,"（くり類）　日本ぐり　甘露煮",232,1.8,0.4,2.8,8,0.6,3,7.0000000000000007E-2,0.03,0,0]
["種実類",5013,428,"（くり類）　中国ぐり　甘ぐり",207,4.9000000000000004,0.9,8.5,30,2,6,0.2,0.18,2,0]
["種実類",5014,429,"くるみ　いり",713,14.6,68.8,7.5,85,2.6,2,0.26,0.15,0,0]
["種実類",5015,430,"けし　乾",555,19.3,49.1,16.5,1700,23,0,1.61,0.2,0,0]
["種実類",5016,431,"ココナッツ　ココナッツパウダー",676,6.1,65.8,14.1,15,2.8,0,0.03,0.03,0,0]
["種実類",5017,432,"ごま　乾",604,19.8,53.8,10.8,1200,9.6,1,0.95,0.25,0,0]
["種実類",5018,433,"ごま　いり",605,20.3,54.2,12.6,1200,9.9,1,0.49,0.23,0,0]
["種実類",5019,434,"ごま　むき",570,19.3,54.9,13,62,6,0,1.25,0.14000000000000001,0,0]
["種実類",5042,435,"ごま　ねり",646,19,61,11.2,590,5.8,1,0.32,0.15,0,0]
["種実類",5020,436,"しい　生",244,3.2,0.8,3.3,62,0.9,1,0.28000000000000003,0.09,110,0]
["種実類",5021,437,"すいか　いり　味付け",528,29.6,46.4,7.1,70,5.3,1,0.1,0.16,0,1.5]
["種実類",5046,438,"チアシード　乾",446,19.399999999999999,33.9,36.9,570,7.6,0,0.97,0.25,1,0]
["種実類",5022,439,"とち　蒸し",148,1.7,1.9,6.6,180,0.4,0,0,0,0,0.6]
["種実類",5023,440,"はす　未熟　生",81,5.9,0.5,2.6,53,0.6,0,0.18,0.09,27,0]
["種実類",5024,441,"はす　成熟　乾",327,18.3,2.2999999999999998,10.3,110,2.9,1,0.44,0.11,1,0]
["種実類",5043,442,"はす　成熟　ゆで",118,7.3,0.8,5,42,1.1000000000000001,0,0.08,0.02,0,0]
["種実類",5025,443,"（ひし類）　ひし　生",183,5.8,0.5,2.9,45,1.1000000000000001,1,0.42,0.08,12,0]
["種実類",5047,444,"（ひし類）　とうびし　生",122,2.7,0.4,8.1999999999999993,27,0.7,0,0.25,0.03,7,0]
["種実類",5048,445,"（ひし類）　とうびし　ゆで",121,2.7,0.3,5.0999999999999996,25,0.5,0,0.19,0.03,5,0]
["種実類",5026,446,"ピスタチオ　いり　味付け",617,17.399999999999999,56.1,9.1999999999999993,120,3,10,0.43,0.24,0,0.7]
["種実類",5027,447,"ひまわり　フライ　味付け",587,20.100000000000001,56.3,6.9,81,3.6,1,1.72,0.25,0,0.6]
["種実類",5028,449,"ブラジルナッツ　フライ　味付け",703,14.9,69.099999999999994,7.2,200,2.6,1,0.88,0.26,0,0.2]
["種実類",5029,450,"ヘーゼルナッツ　フライ　味付け",701,13.6,69.3,7.4,130,3,0,0.26,0.28000000000000003,0,0.1]
["種実類",5030,452,"ペカン　フライ　味付け",716,9.6,73.400000000000006,7.1,60,2.7,4,0.19,0.19,0,0.4]
["種実類",5031,453,"マカダミアナッツ　いり　味付け",751,8.3000000000000007,76.7,6.2,47,1.3,0,0.21,0.09,0,0.5]
["種実類",5032,454,"まつ　生",645,15.8,68.2,4.0999999999999996,14,5.6,0,0.63,0.13,0,0]
["種実類",5033,455,"まつ　いり",668,14.6,72.5,6.9,15,6.2,0,0.61,0.21,0,0]
["種実類",5034,456,"らっかせい　大粒種　乾",572,25.2,47,8.5,49,1.6,1,0.41,0.1,0,0]
["種実類",5035,457,"らっかせい　大粒種　いり",613,25,49.6,11.4,50,1.7,1,0.24,0.13,0,0]
["種実類",5044,458,"らっかせい　小粒種　乾",573,25.4,47.5,7.4,50,1.6,1,0.85,0.1,0,0]
["種実類",5045,459,"らっかせい　小粒種　いり",607,26.5,49.4,7.2,50,1.7,1,0.23,0.1,0,0]
["種実類",5036,460,"らっかせい　バターピーナッツ",609,23.3,53.2,9.5,50,2,0,0.2,0.1,0,0.3]
["種実類",5037,461,"らっかせい　ピーナッツバター",599,20.6,50.4,7.6,47,1.6,0,0.1,0.09,0,0.9]
["野菜類",6001,462,"アーティチョーク　花らい　生",39,2.2999999999999998,0.2,8.6999999999999993,52,0.8,1,0.08,0.1,15,0.1]
["野菜類",6002,463,"アーティチョーク　花らい　ゆで",35,2.1,0.1,8.6,47,0.7,0,7.0000000000000007E-2,0.08,11,0]
["野菜類",6003,464,"あさつき　葉　生",34,4.2,0.3,3.3,20,0.7,62,0.15,0.16,26,0]
["野菜類",6004,465,"あさつき　葉　ゆで",41,4.2,0.3,3.4,21,0.7,60,0.17,0.15,27,0]
["野菜類",6005,466,"あしたば　茎葉　生",30,3.3,0.1,5.6,65,1,440,0.1,0.24,41,0.2]
["野菜類",6006,467,"あしたば　茎葉　ゆで",28,2.9,0.1,5.3,58,0.5,440,7.0000000000000007E-2,0.16,23,0.1]
["野菜類",6007,468,"アスパラガス　若茎　生",21,2.6,0.2,1.8,19,0.7,31,0.14000000000000001,0.15,15,0]
["野菜類",6008,469,"アスパラガス　若茎　ゆで",25,2.6,0.1,2.1,19,0.6,30,0.14000000000000001,0.14000000000000001,16,0]
["野菜類",6327,470,"アスパラガス　若茎　油いため",54,2.9,3.9,2.1,21,0.7,31,0.15,0.17,14,0]
["野菜類",6009,471,"アスパラガス　水煮缶詰",24,2.4,0.1,1.7,21,0.9,1,7.0000000000000007E-2,0.06,11,0.9]
["野菜類",6328,472,"アロエ　葉　生",3,0,0.1,0.4,56,0,0,0,0,1,0]
["野菜類",6010,473,"いんげんまめ　さやいんげん　若ざや　生",23,1.8,0.1,2.4,48,0.7,49,0.06,0.11,8,0]
["野菜類",6011,474,"いんげんまめ　さやいんげん　若ざや　ゆで",25,1.8,0.2,2.6,57,0.7,48,0.06,0.1,6,0]
["野菜類",6363,475,"うるい　葉　生",19,1.9,0.4,3.3,40,0.5,160,0.09,0.12,50,0]
["野菜類",6012,476,"（うど類）　うど　茎　生",19,0.8,0.1,1.4,7,0.2,0,0.02,0.01,4,0]
["野菜類",6013,477,"（うど類）　うど　茎　水さらし",13,0.6,0,1.6,6,0.1,0,0.01,0.02,3,0]
["野菜類",6014,478,"（うど類）　やまうど　茎　生",19,1.1000000000000001,0.1,1.8,11,0.3,0,0.03,0.02,5,0]
["野菜類",6015,479,"えだまめ　生",125,11.7,6.2,5,58,2.7,22,0.31,0.15,27,0]
["野菜類",6016,480,"えだまめ　ゆで",118,11.5,6.1,4.5999999999999996,76,2.5,24,0.24,0.13,15,0]
["野菜類",6017,481,"えだまめ　冷凍",143,13,7.6,7.3,76,2.5,15,0.28000000000000003,0.13,27,0]
["野菜類",6018,482,"エンダイブ　葉　生",14,1.2,0.2,2.2000000000000002,51,0.6,140,0.06,0.08,7,0.1]
["野菜類",6019,483,"（えんどう類）　トウミョウ　茎葉　生",28,3.8,0.4,3.3,34,1,340,0.24,0.27,79,0]
["野菜類",6329,484,"（えんどう類）　トウミョウ　芽ばえ　生",27,3.8,0.4,2.2000000000000002,7,0.8,250,0.17,0.21,43,0]
["野菜類",6330,485,"（えんどう類）　トウミョウ　芽ばえ　ゆで",28,3.6,0.6,3.5,8,0.9,400,0.1,0.08,14,0]
["野菜類",6331,486,"（えんどう類）　トウミョウ　芽ばえ　油いため",84,5,5.9,3,8,1,370,0.21,0.26,30,0]
["野菜類",6020,487,"（えんどう類）　さやえんどう　若ざや　生",38,3.1,0.2,3,35,0.9,47,0.15,0.11,60,0]
["野菜類",6021,488,"（えんどう類）　さやえんどう　若ざや　ゆで",36,3.2,0.2,3.1,36,0.8,48,0.14000000000000001,0.1,44,0]
["野菜類",6022,489,"（えんどう類）　スナップえんどう　若ざや　生",47,2.9,0.1,2.5,32,0.6,34,0.13,0.09,43,0]
["野菜類",6023,490,"（えんどう類）　グリンピース　生",76,6.9,0.4,7.7,23,1.7,35,0.39,0.16,19,0]
["野菜類",6024,491,"（えんどう類）　グリンピース　ゆで",99,8.3000000000000007,0.2,8.6,32,2.2000000000000002,36,0.28999999999999998,0.14000000000000001,16,0]
["野菜類",6025,492,"（えんどう類）　グリンピース　冷凍",80,5.8,0.7,9.3000000000000007,27,1.6,36,0.28999999999999998,0.11,20,0]
["野菜類",6374,493,"（えんどう類）　グリンピース　冷凍　ゆで",82,6.2,0.7,10.3,29,1.7,41,0.27,0.09,13,0]
["野菜類",6375,494,"（えんどう類）　グリンピース　冷凍　油いため",114,6.3,4.5999999999999996,9.3000000000000007,28,1.7,39,0.31,0.12,16,0]
["野菜類",6026,495,"（えんどう類）　グリンピース　水煮缶詰",82,3.6,0.4,6.9,33,1.8,17,0.04,0.04,0,0.8]
["野菜類",6027,496,"おおさかしろな　葉　生",12,1.4,0.2,1.8,150,1.2,110,0.06,0.18,28,0.1]
["野菜類",6028,497,"おおさかしろな　葉　ゆで",16,1.6,0.3,2.2000000000000002,140,1,130,0.03,0.09,24,0.1]
["野菜類",6029,498,"おおさかしろな　塩漬",19,1.3,0.3,3.1,130,0.7,110,0.06,0.15,38,1.6]
["野菜類",6030,499,"おかひじき　茎葉　生",16,1.4,0.2,2.5,150,1.3,280,0.06,0.13,21,0.1]
["野菜類",6031,500,"おかひじき　茎葉　ゆで",16,1.2,0.1,2.7,150,0.9,260,0.04,0.1,15,0.2]
["野菜類",6032,501,"オクラ　果実　生",26,2.1,0.2,5,92,0.5,56,0.09,0.09,11,0]
["野菜類",6033,502,"オクラ　果実　ゆで",29,2.1,0.1,5.2,90,0.5,60,0.09,0.09,7,0]
["野菜類",6034,503,"かぶ　葉　生",20,2.2999999999999998,0.1,2.9,250,2.1,230,0.08,0.16,82,0.1]
["野菜類",6035,504,"かぶ　葉　ゆで",20,2.2999999999999998,0.1,3.7,190,1.5,270,0.02,0.05,47,0]
["野菜類",6036,505,"かぶ　根　皮つき　生",18,0.7,0.1,1.5,24,0.3,0,0.03,0.03,19,0]
["野菜類",6037,506,"かぶ　根　皮つき　ゆで",18,0.7,0.1,1.8,28,0.3,0,0.03,0.03,16,0]
["野菜類",6038,507,"かぶ　根　皮なし　生",19,0.6,0.1,1.4,24,0.2,0,0.03,0.03,18,0]
["野菜類",6039,508,"かぶ　根　皮なし　ゆで",20,0.6,0.1,1.7,28,0.2,0,0.03,0.03,16,0]
["野菜類",6040,509,"かぶ　漬物　塩漬　葉",27,2.2999999999999998,0.2,3.6,240,2.6,100,7.0000000000000007E-2,0.19,44,2.2999999999999998]
["野菜類",6041,510,"かぶ　漬物　塩漬　根　皮つき",21,1,0.2,1.9,48,0.3,0,0.02,0.03,19,2.8]
["野菜類",6042,511,"かぶ　漬物　塩漬　根　皮なし",19,0.8,0.1,2,33,0.3,0,0.04,0.03,21,4.3]
["野菜類",6043,512,"かぶ　漬物　ぬかみそ漬　葉",35,3.3,0.1,4,280,2.2000000000000002,140,0.31,0.24,49,3.8]
["野菜類",6044,513,"かぶ　漬物　ぬかみそ漬　根　皮つき",27,1.5,0.1,2,57,0.3,0,0.25,0.04,28,2.2000000000000002]
["野菜類",6045,514,"かぶ　漬物　ぬかみそ漬　根　皮なし",31,1.4,0.1,1.8,26,0.3,0,0.45,0.05,20,6.9]
["野菜類",6046,515,"（かぼちゃ類）　日本かぼちゃ　果実　生",41,1.6,0.1,2.8,20,0.5,60,7.0000000000000007E-2,0.06,16,0]
["野菜類",6047,516,"（かぼちゃ類）　日本かぼちゃ　果実　ゆで",50,1.9,0.1,3.6,24,0.6,69,0.08,7.0000000000000007E-2,16,0]
["野菜類",6048,517,"（かぼちゃ類）　西洋かぼちゃ　果実　生",78,1.9,0.3,3.5,15,0.5,330,7.0000000000000007E-2,0.09,43,0]
["野菜類",6049,518,"（かぼちゃ類）　西洋かぼちゃ　果実　ゆで",80,1.6,0.3,4.0999999999999996,14,0.5,330,7.0000000000000007E-2,0.08,32,0]
["野菜類",6332,519,"（かぼちゃ類）　西洋かぼちゃ　果実　焼き",105,2.5,0.4,5.3,19,0.6,450,0.09,0.12,44,0]
["野菜類",6050,520,"（かぼちゃ類）　西洋かぼちゃ　果実　冷凍",75,2.2000000000000002,0.3,4.2,25,0.5,310,0.06,0.09,34,0]
["野菜類",6051,521,"（かぼちゃ類）　そうめんかぼちゃ　果実　生",25,0.7,0.1,1.5,27,0.3,4,0.05,0.01,11,0]
["野菜類",6052,522,"からしな　葉　生",26,3.3,0.1,3.7,140,2.2000000000000002,230,0.12,0.27,64,0.2]
["野菜類",6053,523,"からしな　塩漬",36,4,0.1,5,150,1.8,250,0.08,0.28000000000000003,80,2.5]
["野菜類",6054,524,"カリフラワー　花序　生",28,3,0.1,2.9,24,0.6,2,0.06,0.11,81,0]
["野菜類",6055,525,"カリフラワー　花序　ゆで",26,2.7,0.1,3.2,23,0.7,1,0.05,0.05,53,0]
["野菜類",6056,526,"かんぴょう　乾",239,6.3,0.2,30.1,250,2.9,0,0,0.04,0,0]
["野菜類",6057,527,"かんぴょう　ゆで",21,0.7,0,5.3,34,0.3,0,0,0,0,0]
["野菜類",6364,528,"かんぴょう　甘煮",146,2.2999999999999998,0.2,5.5,44,0.5,0,0.01,0,0,3.1]
["野菜類",6058,529,"きく　花びら　生",25,1.4,0,3.4,22,0.7,6,0.1,0.11,11,0]
["野菜類",6059,530,"きく　花びら　ゆで",21,1,0,2.9,16,0.5,5,0.06,7.0000000000000007E-2,5,0]
["野菜類",6060,531,"きく　菊のり",283,11.6,0.2,29.6,160,11,15,0.73,0.89,10,0]
["野菜類",6061,532,"（キャベツ類）　キャベツ　結球葉　生",21,1.3,0.2,1.8,43,0.3,4,0.04,0.03,41,0]
["野菜類",6062,533,"（キャベツ類）　キャベツ　結球葉　ゆで",19,0.9,0.2,2,40,0.2,5,0.02,0.01,17,0]
["野菜類",6333,534,"（キャベツ類）　キャベツ　結球葉　油いため",78,1.6,6,2.2000000000000002,53,0.4,7,0.05,0.04,47,0]
["野菜類",6063,535,"（キャベツ類）　グリーンボール　結球葉　生",20,1.4,0.1,1.6,58,0.4,9,0.05,0.04,47,0]
["野菜類",6064,536,"（キャベツ類）　レッドキャベツ　結球葉　生",30,2,0.1,2.8,40,0.5,3,7.0000000000000007E-2,0.03,68,0]
["野菜類",6065,537,"きゅうり　果実　生",13,1,0.1,1.1000000000000001,26,0.3,28,0.03,0.03,14,0]
["野菜類",6066,538,"きゅうり　漬物　塩漬",17,1,0.1,1.3,26,0.2,18,0.02,0.03,11,2.5]
["野菜類",6067,539,"きゅうり　漬物　しょうゆ漬",51,3.2,0.4,3.4,39,1.3,48,0.03,0.02,8,4.0999999999999996]
["野菜類",6068,540,"きゅうり　漬物　ぬかみそ漬",28,1.5,0.1,1.5,22,0.3,18,0.26,0.05,22,5.3]
["野菜類",6069,541,"きゅうり　漬物　ピクルス　スイート型",70,0.3,0.1,1.7,25,0.3,4,0,0.01,0,1.1000000000000001]
["野菜類",6070,542,"きゅうり　漬物　ピクルス　サワー型",13,1.4,0,1.4,23,1.2,1,0.02,0.06,0,2.5]
["野菜類",6071,543,"ぎょうじゃにんにく　葉　生",35,3.5,0.2,3.3,29,1.4,170,0.1,0.16,59,0]
["野菜類",6075,544,"キンサイ　茎葉　生",16,1.1000000000000001,0.4,2.5,140,0.5,150,0.05,0.11,15,0.1]
["野菜類",6076,545,"キンサイ　茎葉　ゆで",15,1.1000000000000001,0.4,2.9,140,0.5,130,0.03,0.06,7,0.1]
["野菜類",6077,546,"クレソン　茎葉　生",13,2.1,0.1,2.5,110,1.1000000000000001,230,0.1,0.2,26,0.1]
["野菜類",6078,547,"くわい　塊茎　生",128,6.3,0.1,2.4,5,0.8,0,0.12,7.0000000000000007E-2,2,0]
["野菜類",6079,548,"くわい　塊茎　ゆで",129,6.2,0.1,2.8,5,0.8,0,0.1,0.06,0,0]
["野菜類",6080,549,"ケール　葉　生",26,2.1,0.4,3.7,220,0.8,240,0.06,0.15,81,0]
["野菜類",6081,550,"コールラビ　球茎　生",21,1,0,1.9,29,0.2,1,0.04,0.05,45,0]
["野菜類",6082,551,"コールラビ　球茎　ゆで",20,1,0,2.2999999999999998,27,0.2,1,0.03,0.05,37,0]
["野菜類",6083,552,"こごみ　若芽　生",25,3,0.2,5.2,26,0.6,100,0,0.12,27,0]
["野菜類",6084,553,"ごぼう　根　生",58,1.8,0.1,5.7,46,0.7,0,0.05,0.04,3,0]
["野菜類",6085,554,"ごぼう　根　ゆで",50,1.5,0.2,6.1,48,0.7,0,0.03,0.02,1,0]
["野菜類",6086,555,"こまつな　葉　生",13,1.5,0.2,1.9,170,2.8,260,0.09,0.13,39,0]
["野菜類",6087,556,"こまつな　葉　ゆで",14,1.6,0.1,2.4,150,2.1,260,0.04,0.06,21,0]
["野菜類",6385,557,"コリアンダー　葉　生",18,1.4,0.4,4.2,84,1.4,150,0.09,0.11,40,0]
["野菜類",6088,558,"ザーサイ　漬物",20,2.5,0.1,4.5999999999999996,140,2.9,1,0.04,7.0000000000000007E-2,0,13.7]
["野菜類",6089,559,"さんとうさい　葉　生",12,1,0.2,2.2000000000000002,140,0.7,96,0.03,7.0000000000000007E-2,35,0]
["野菜類",6090,560,"さんとうさい　葉　ゆで",14,1.4,0.3,2.5,130,0.6,130,0.02,0.05,22,0]
["野菜類",6091,561,"さんとうさい　塩漬",18,1.5,0.3,3,190,0.6,140,0.04,0.12,44,2.2999999999999998]
["野菜類",6092,562,"しかくまめ　若ざや　生",19,2.4,0.1,3.2,80,0.7,36,0.09,0.09,16,0]
["野菜類",6093,563,"ししとう　果実　生",25,1.9,0.3,3.6,11,0.5,44,7.0000000000000007E-2,7.0000000000000007E-2,57,0]
["野菜類",6094,564,"ししとう　果実　油いため",51,1.9,3.2,3.6,15,0.6,45,7.0000000000000007E-2,7.0000000000000007E-2,49,0]
["野菜類",6095,565,"しそ　葉　生",32,3.9,0.1,7.3,230,1.7,880,0.13,0.34,26,0]
["野菜類",6096,566,"しそ　実　生",32,3.4,0.1,8.9,100,1.2,220,0.09,0.16,5,0]
["野菜類",6097,567,"じゅうろくささげ　若ざや　生",22,2.5,0.1,4.2,28,0.5,96,0.08,7.0000000000000007E-2,25,0]
["野菜類",6098,568,"じゅうろくささげ　若ざや　ゆで",28,2.8,0.1,4.5,35,0.5,93,0.09,0.08,16,0]
["野菜類",6099,569,"しゅんぎく　葉　生",20,2.2999999999999998,0.3,3.2,120,1.7,380,0.1,0.16,19,0.2]
["野菜類",6100,570,"しゅんぎく　葉　ゆで",25,2.7,0.5,3.7,120,1.2,440,0.05,0.08,5,0.1]
["野菜類",6101,571,"じゅんさい　若葉　水煮びん詰",4,0.4,0,1,4,0,2,0,0.02,0,0]
["野菜類",6102,572,"（しょうが類）　葉しょうが　根茎　生",9,0.5,0.2,1.6,15,0.4,0,0.02,0.03,3,0]
["野菜類",6103,573,"（しょうが類）　しょうが　根茎　皮なし　生",28,0.9,0.3,2.1,12,0.5,0,0.03,0.02,2,0]
["野菜類",6365,574,"（しょうが類）　しょうが　根茎　皮なし　生　おろし",58,0.7,0.8,7.4,39,0.8,1,0.02,0.02,1,0]
["野菜類",6366,575,"（しょうが類）　しょうが　根茎　皮なし　生　おろし汁",17,0.4,0.3,0.3,2,0.2,0,0.02,0.01,1,0]
["野菜類",6104,576,"（しょうが類）　しょうが　漬物　酢漬",17,0.3,0.2,2.2000000000000002,22,0.2,0,0,0.01,0,3.3]
["野菜類",6105,577,"（しょうが類）　しょうが　漬物　甘酢漬",47,0.2,0.4,1.8,39,0.3,0,0.63,0,0,2]
["野菜類",6386,578,"（しょうが類）　新しょうが　根茎　生",10,0.3,0.3,1.9,11,0.5,0,0.01,0.01,2,0]
["野菜類",6106,579,"しろうり　果実　生",15,0.9,0.1,1.2,35,0.2,6,0.03,0.03,8,0]
["野菜類",6107,580,"しろうり　漬物　塩漬",15,1,0.1,2.2000000000000002,26,0.2,6,0.03,0.03,10,2]
["野菜類",6108,581,"しろうり　漬物　奈良漬",216,4.5999999999999996,0.2,2.6,25,0.4,2,0.03,0.11,0,4.8]
["野菜類",6109,582,"ずいき　生ずいき　生",15,0.5,0,1.6,80,0.1,9,0.01,0.02,5,0]
["野菜類",6110,583,"ずいき　生ずいき　ゆで",10,0.4,0,2.1,95,0.1,9,0,0,1,0]
["野菜類",6111,584,"ずいき　干しずいき　乾",232,6.6,0.4,25.8,1200,9,1,0.15,0.3,0,0]
["野菜類",6112,585,"ずいき　干しずいき　ゆで",9,0.5,0,3.1,130,0.7,0,0,0.01,0,0]
["野菜類",6387,586,"すいぜんじな　葉　生",16,0.6,0.6,4,140,0.5,350,0.06,0.12,17,0]
["野菜類",6113,587,"すぐきな　葉　生",23,1.9,0.2,4,150,2.6,170,0.08,0.13,73,0.1]
["野菜類",6114,588,"すぐきな　根　生",19,0.6,0.1,1.7,26,0.1,0,0.03,0.03,13,0.1]
["野菜類",6115,589,"すぐきな　すぐき漬",30,2.6,0.7,5.2,130,0.9,250,0.12,0.11,35,2.2000000000000002]
["野菜類",6116,590,"ズッキーニ　果実　生",16,1.3,0.1,1.3,24,0.5,27,0.05,0.05,20,0]
["野菜類",6117,591,"せり　茎葉　生",17,2,0.1,2.5,34,1.6,160,0.04,0.13,20,0]
["野菜類",6118,592,"せり　茎葉　ゆで",17,2.1,0.1,2.8,38,1.3,150,0.02,0.06,10,0]
["野菜類",6119,593,"セロリ　葉柄　生",12,0.4,0.1,1.5,39,0.2,4,0.03,0.03,7,0.1]
["野菜類",6120,594,"ぜんまい　生ぜんまい　若芽　生",27,1.7,0.1,3.8,10,0.6,44,0.02,0.09,24,0]
["野菜類",6121,595,"ぜんまい　生ぜんまい　若芽　ゆで",17,1.1000000000000001,0.4,3.5,19,0.3,36,0.01,0.05,2,0]
["野菜類",6122,596,"ぜんまい　干しぜんまい　干し若芽　乾",277,14.6,0.6,34.799999999999997,150,7.7,59,0.1,0.41,0,0.1]
["野菜類",6123,597,"ぜんまい　干しぜんまい　干し若芽　ゆで",25,1.7,0.1,5.2,20,0.4,1,0,0.01,0,0]
["野菜類",6124,598,"そらまめ　未熟豆　生",102,10.9,0.2,2.6,22,2.2999999999999998,20,0.3,0.2,23,0]
["野菜類",6125,599,"そらまめ　未熟豆　ゆで",103,10.5,0.2,4,22,2.1,18,0.22,0.18,18,0]
["野菜類",6126,600,"タアサイ　葉　生",12,1.3,0.2,1.9,120,0.7,180,0.05,0.09,31,0.1]
["野菜類",6127,601,"タアサイ　葉　ゆで",11,1.1000000000000001,0.2,2.1,110,0.6,200,0.02,0.03,14,0.1]
["野菜類",6128,602,"（だいこん類）　かいわれだいこん　芽ばえ　生",21,2.1,0.5,1.9,54,0.5,160,0.08,0.13,47,0]
["野菜類",6129,603,"（だいこん類）　葉だいこん　葉　生",17,2,0.2,2.6,170,1.4,190,7.0000000000000007E-2,0.15,49,0.1]
["野菜類",6130,604,"（だいこん類）　だいこん　葉　生",23,2.2000000000000002,0.1,4,260,3.1,330,0.09,0.16,53,0.1]
["野菜類",6131,605,"（だいこん類）　だいこん　葉　ゆで",24,2.2000000000000002,0.1,3.6,220,2.2000000000000002,370,0.01,0.06,21,0.1]
["野菜類",6132,606,"（だいこん類）　だいこん　根　皮つき　生",15,0.5,0.1,1.4,24,0.2,0,0.02,0.01,12,0]
["野菜類",6133,607,"（だいこん類）　だいこん　根　皮つき　ゆで",15,0.4,0,1.6,24,0.2,0,0.02,0.01,9,0]
["野菜類",6134,608,"（だいこん類）　だいこん　根　皮なし　生",15,0.4,0.1,1.3,23,0.2,0,0.02,0.01,11,0]
["野菜類",6367,609,"（だいこん類）　だいこん　根　皮なし　生　おろし",25,0.6,0.2,5.0999999999999996,63,0.3,0,0.02,0.01,7,0.1]
["野菜類",6368,610,"（だいこん類）　だいこん　根　皮なし　生　おろし汁",12,0.3,0,0.1,14,0.1,0,0.02,0.01,7,0.1]
["野菜類",6369,611,"（だいこん類）　だいこん　根　皮なし　生　おろし水洗い",23,0.6,0.1,4.7,57,0.2,0,0.02,0.01,6,0.1]
["野菜類",6135,612,"（だいこん類）　だいこん　根　皮なし　ゆで",15,0.5,0.1,1.7,25,0.2,0,0.02,0.01,9,0]
["野菜類",6136,613,"（だいこん類）　切干しだいこん　乾",280,9.6999999999999993,0.8,21.3,500,3.1,0,0.35,0.2,28,0.5]
["野菜類",6334,614,"（だいこん類）　切干しだいこん　ゆで",13,0.9,0.1,3.7,60,0.4,0,0.01,0,0,0]
["野菜類",6335,615,"（だいこん類）　切干しだいこん　油いため",78,1.5,6,5.6,91,0.7,0,0.02,0.02,0,0]
["野菜類",6388,616,"（だいこん類）　漬物　いぶりがっこ",76,1.1000000000000001,0.3,7.1,42,0.4,0,0.08,0.02,0,3.5]
["野菜類",6137,617,"（だいこん類）　漬物　ぬかみそ漬",29,1.3,0.1,1.8,44,0.3,0,0.33,0.04,15,3.8]
["野菜類",6138,618,"（だいこん類）　漬物　たくあん漬　塩押しだいこん漬",43,0.6,0.3,2.2999999999999998,16,0.2,0,0.01,0.01,40,3.3]
["野菜類",6139,619,"（だいこん類）　漬物　たくあん漬　干しだいこん漬",23,1.9,0.1,3.7,76,1,0,0.21,0.03,12,2.5]
["野菜類",6140,620,"（だいこん類）　漬物　守口漬",194,5.3,0.2,3.3,26,0.7,0,0.05,0.17,0,3.6]
["野菜類",6141,621,"（だいこん類）　漬物　べったら漬",53,0.4,0.2,1.6,15,0.2,0,0,0.11,49,2.8]
["野菜類",6142,622,"（だいこん類）　漬物　みそ漬",52,2.1,0.3,2.1,18,0.3,0,3.7,0.01,0,7.2]
["野菜類",6143,623,"（だいこん類）　漬物　福神漬",137,2.7,0.1,3.9,36,1.3,8,0.02,0.1,0,5.0999999999999996]
["野菜類",6144,624,"（たいさい類）　つまみな　葉　生",19,1.9,0.3,2.2999999999999998,210,3.3,160,0.06,0.14000000000000001,47,0.1]
["野菜類",6145,625,"（たいさい類）　たいさい　葉　生",15,0.9,0.1,1.6,79,1.1000000000000001,130,7.0000000000000007E-2,7.0000000000000007E-2,45,0.1]
["野菜類",6146,626,"（たいさい類）　たいさい　塩漬",19,1.6,0.1,2.5,78,1.3,180,0.03,7.0000000000000007E-2,41,1.8]
["野菜類",6147,627,"たかな　葉　生",21,1.8,0.2,2.5,87,1.7,190,0.06,0.1,69,0.1]
["野菜類",6148,628,"たかな、たかな漬",30,1.9,0.6,4,51,1.5,200,0.01,0.03,0,4]
["野菜類",6149,629,"たけのこ　若茎　生",27,3.6,0.2,2.8,16,0.4,1,0.05,0.11,10,0]
["野菜類",6150,630,"たけのこ　若茎　ゆで",31,3.5,0.2,3.3,17,0.4,1,0.04,0.09,8,0]
["野菜類",6151,631,"たけのこ　水煮缶詰",22,2.7,0.2,2.2999999999999998,19,0.3,0,0.01,0.04,0,0]
["野菜類",6152,632,"たけのこ　めんま　塩蔵　塩抜き",15,1,0.5,3.5,18,0.2,0,0,0,0,0.9]
["野菜類",6153,633,"（たまねぎ類）　たまねぎ　りん茎　生",33,1,0.1,1.5,17,0.3,0,0.04,0.01,7,0]
["野菜類",6154,634,"（たまねぎ類）　たまねぎ　りん茎　水さらし",24,0.6,0.1,1.5,18,0.2,0,0.03,0.01,5,0]
["野菜類",6155,635,"（たまねぎ類）　たまねぎ　りん茎　ゆで",30,0.8,0.1,1.7,18,0.2,0,0.03,0.01,5,0]
["野菜類",6336,636,"（たまねぎ類）　たまねぎ　りん茎　油いため",100,1.4,5.9,2.7,24,0.2,0,0.04,0.02,9,0]
["野菜類",6389,637,"（たまねぎ類）　たまねぎ　りん茎　油いため　（あめ色たまねぎ）",208,3.2,6.8,0,47,0.9,0,0.12,0.03,0,0]
["野菜類",6156,638,"（たまねぎ類）　赤たまねぎ　りん茎　生",34,0.9,0.1,1.7,19,0.3,0,0.03,0.02,7,0]
["野菜類",6337,639,"（たまねぎ類）　葉たまねぎ　りん茎及び葉　生",33,1.8,0.4,3,67,0.6,120,0.06,0.11,32,0]
["野菜類",6157,640,"たらのめ　若芽　生",27,4.2,0.2,4.2,16,0.9,48,0.15,0.2,7,0]
["野菜類",6158,641,"たらのめ　若芽　ゆで",27,4,0.2,3.6,19,0.9,50,7.0000000000000007E-2,0.11,3,0]
["野菜類",6159,642,"チコリ　若芽　生",17,1,0,1.1000000000000001,24,0.2,1,0.06,0.02,2,0]
["野菜類",6376,643,"ちぢみゆきな　葉　生",35,3.6,0.6,3.9,180,3,350,0.09,0.21,69,0]
["野菜類",6377,644,"ちぢみゆきな　葉　ゆで",34,3.8,0.7,4.3,130,1.4,500,0.06,0.12,39,0]
["野菜類",6160,645,"チンゲンサイ　葉　生",9,0.6,0.1,1.2,100,1.1000000000000001,170,0.03,7.0000000000000007E-2,24,0.1]
["野菜類",6161,646,"チンゲンサイ　葉　ゆで",11,0.9,0.1,1.5,120,0.7,220,0.03,0.05,15,0.1]
["野菜類",6338,647,"チンゲンサイ　葉　油いため",36,0.8,3.2,1.4,92,0.9,250,0.03,0.06,21,0.1]
["野菜類",6162,648,"つくし　胞子茎　生",31,3.5,0.1,8.1,50,2.1,88,7.0000000000000007E-2,0.14000000000000001,33,0]
["野菜類",6163,649,"つくし　胞子茎　ゆで",28,3.4,0.1,6.7,58,1.1000000000000001,96,0,0.1,15,0]
["野菜類",6164,650,"つるな　茎葉　生",15,1.8,0.1,2.2999999999999998,48,3,230,0.08,0.3,22,0]
["野菜類",6390,651,"つるにんじん　根　生",55,1,0.7,17.100000000000001,61,5.9,1,0.06,0.05,6,0]
["野菜類",6165,652,"つるむらさき　茎葉　生",11,0.7,0.2,2.2000000000000002,150,0.5,250,0.03,7.0000000000000007E-2,41,0]
["野菜類",6166,653,"つるむらさき　茎葉　ゆで",12,0.9,0.2,3.1,180,0.4,280,0.02,0.05,18,0]
["野菜類",6167,654,"つわぶき　葉柄　生",19,0.4,0,2.5,38,0.2,5,0.01,0.04,4,0.3]
["野菜類",6168,655,"つわぶき　葉柄　ゆで",14,0.3,0,2.2999999999999998,31,0.1,7,0.01,0.03,0,0.1]
["野菜類",6169,656,"とうがらし　葉･果実　生",32,3.4,0.1,5.7,490,2.2000000000000002,430,0.08,0.28000000000000003,92,0]
["野菜類",6170,657,"とうがらし　葉･果実　油いため",81,4,4.9000000000000004,6.3,550,2.8,480,0.12,0.28000000000000003,56,0]
["野菜類",6171,658,"とうがらし　果実　生",72,3.9,3.4,10.3,20,2,640,0.14000000000000001,0.36,120,0]
["野菜類",6172,659,"とうがらし　果実　乾",270,14.7,12,46.4,74,6.8,1500,0.5,1.4,1,0]
["野菜類",6173,660,"とうがん　果実　生",15,0.5,0.1,1.3,19,0.2,0,0.01,0.01,39,0]
["野菜類",6174,661,"とうがん　果実　ゆで",15,0.6,0.1,1.5,22,0.3,0,0.01,0.01,27,0]
["野菜類",6175,662,"（とうもろこし類）　スイートコーン　未熟種子　生",89,3.6,1.7,3,3,0.8,4,0.15,0.1,8,0]
["野菜類",6176,663,"（とうもろこし類）　スイートコーン　未熟種子　ゆで",95,3.5,1.7,3.1,5,0.8,4,0.12,0.1,6,0]
["野菜類",6339,664,"（とうもろこし類）　スイートコーン　未熟種子　電子レンジ調理",104,4.2,2.2000000000000002,3.4,3,0.9,5,0.16,0.11,6,0]
["野菜類",6177,665,"（とうもろこし類）　スイートコーン　未熟種子　穂軸つき　冷凍",96,3.5,1.5,2.8,4,0.6,7,0.12,0.09,6,0]
["野菜類",6178,666,"（とうもろこし類）　スイートコーン　未熟種子　カーネル　冷凍",91,2.9,1.3,4.8,3,0.3,6,0.1,7.0000000000000007E-2,4,0]
["野菜類",6378,667,"（とうもろこし類）　スイートコーン　未熟種子　カーネル　冷凍　ゆで",92,2.8,1.5,6.2,3,0.2,6,0.08,0.06,2,0]
["野菜類",6379,668,"（とうもろこし類）　スイートコーン　未熟種子　カーネル　冷凍　油いため",125,2.9,5.8,4.7,3,0.3,6,0.1,7.0000000000000007E-2,3,0]
["野菜類",6179,669,"（とうもろこし類）　スイートコーン　缶詰　クリームスタイル",82,1.7,0.5,1.8,2,0.4,4,0.02,0.05,3,0.7]
["野菜類",6180,670,"（とうもろこし類）　スイートコーン　缶詰　ホールカーネルスタイル",78,2.2999999999999998,0.5,3.3,2,0.4,5,0.03,0.05,2,0.5]
["野菜類",6181,671,"（とうもろこし類）　ヤングコーン　幼雌穂　生",29,2.2999999999999998,0.2,2.7,19,0.4,3,0.09,0.11,9,0]
["野菜類",6182,672,"（トマト類）　赤色トマト　果実　生",20,0.7,0.1,1,7,0.2,45,0.05,0.02,15,0]
["野菜類",6183,673,"（トマト類）　赤色ミニトマト　果実　生",30,1.1000000000000001,0.1,1.4,12,0.4,80,7.0000000000000007E-2,0.05,32,0]
["野菜類",6391,674,"（トマト類）　黄色トマト　果実　生",18,1.1000000000000001,0.4,1.3,6,0.3,9,0.08,0.03,28,0]
["野菜類",6370,675,"（トマト類）　ドライトマト",291,14.2,2.1,21.7,110,4.2,220,0.68,0.3,15,0.3]
["野菜類",6184,676,"（トマト類）　加工品　ホール　食塩無添加",21,0.9,0.2,1.3,9,0.4,47,0.06,0.03,10,0]
["野菜類",6185,677,"（トマト類）　加工品　トマトジュース　食塩添加",15,0.7,0.1,0.7,6,0.3,26,0.04,0.04,6,0.3]
["野菜類",6340,678,"（トマト類）　加工品　トマトジュース　食塩無添加",18,0.7,0.1,0.7,6,0.3,26,0.04,0.04,6,0]
["野菜類",6186,679,"（トマト類）　加工品　ミックスジュース　食塩添加",18,0.6,0,0.7,11,0.3,32,0.03,0.03,3,0.2]
["野菜類",6341,680,"（トマト類）　加工品　ミックスジュース　食塩無添加",18,0.6,0,0.7,11,0.3,32,0.03,0.03,3,0]
["野菜類",6187,681,"トレビス　葉　生",17,1.1000000000000001,0.2,2,21,0.3,1,0.04,0.04,6,0]
["野菜類",6188,682,"とんぶり　ゆで",89,6.1,3.5,7.1,15,2.8,67,0.11,0.17,1,0]
["野菜類",6189,683,"ながさきはくさい　葉　生",12,1.3,0.1,2.2000000000000002,140,2.2999999999999998,160,0.05,0.13,88,0.1]
["野菜類",6190,684,"ながさきはくさい　葉　ゆで",18,2.2000000000000002,0.1,2.4,120,1.6,220,0.02,7.0000000000000007E-2,23,0]
["野菜類",6191,685,"（なす類）　なす　果実　生",18,1.1000000000000001,0.1,2.2000000000000002,18,0.3,8,0.05,0.05,4,0]
["野菜類",6192,686,"（なす類）　なす　果実　ゆで",17,1,0.1,2.1,20,0.3,8,0.04,0.04,1,0]
["野菜類",6342,687,"（なす類）　なす　果実　油いため",73,1.5,5.8,2.6,22,0.4,16,0.06,7.0000000000000007E-2,2,0]
["野菜類",6343,688,"（なす類）　なす　果実　天ぷら",165,1.6,14,1.9,31,0.2,9,0.05,7.0000000000000007E-2,2,0.1]
["野菜類",6193,689,"（なす類）　べいなす　果実　生",20,1.1000000000000001,0.1,2.4,10,0.4,4,0.04,0.04,6,0]
["野菜類",6194,690,"（なす類）　べいなす　果実　素揚げ",177,1,17,1.8,10,0.4,2,0.05,0.04,2,0]
["野菜類",6195,691,"（なす類）　漬物　塩漬",22,1.4,0.1,2.7,18,0.6,4,0.03,0.04,7,2.2000000000000002]
["野菜類",6196,692,"（なす類）　漬物　ぬかみそ漬",27,1.7,0.1,2.7,21,0.5,2,0.1,0.04,8,2.5]
["野菜類",6197,693,"（なす類）　漬物　こうじ漬",87,5.5,0.1,4.2,65,1.4,0,0.03,0.05,0,6.6]
["野菜類",6198,694,"（なす類）　漬物　からし漬",127,2.6,0.2,4.2,71,1.5,6,0.06,0.04,87,4.8]
["野菜類",6199,695,"（なす類）　漬物　しば漬",27,1.4,0.2,4.4000000000000004,30,1.7,48,0,0.02,0,4.0999999999999996]
["野菜類",6200,696,"なずな　葉　生",35,4.3,0.1,5.4,290,2.4,430,0.15,0.27,110,0]
["野菜類",6201,697,"（なばな類）　和種なばな　花らい・茎　生",34,4.4000000000000004,0.2,4.2,160,2.9,180,0.16,0.28000000000000003,130,0]
["野菜類",6202,698,"（なばな類）　和種なばな　花らい・茎　ゆで",28,4.7,0.1,4.3,140,1.7,200,7.0000000000000007E-2,0.14000000000000001,44,0]
["野菜類",6203,699,"（なばな類）　洋種なばな　茎葉　生",36,4.0999999999999996,0.4,3.7,97,0.9,220,0.11,0.24,110,0]
["野菜類",6204,700,"（なばな類）　洋種なばな　茎葉　ゆで",30,3.6,0.4,4.0999999999999996,95,0.7,230,0.06,0.13,55,0]
["野菜類",6205,701,"にがうり　果実　生",15,1,0.1,2.6,14,0.4,17,0.05,7.0000000000000007E-2,76,0]
["野菜類",6206,702,"にがうり　果実　油いため",47,1.2,3.3,2.8,14,0.5,19,0.05,0.08,75,0]
["野菜類",6207,703,"（にら類）　にら　葉　生",18,1.7,0.3,2.7,48,0.7,290,0.06,0.13,19,0]
["野菜類",6208,704,"（にら類）　にら　葉　ゆで",27,2.6,0.5,4.3,51,0.7,370,0.04,0.12,11,0]
["野菜類",6344,705,"（にら類）　にら　葉　油いため",69,1.9,5.7,3.5,48,0.8,380,0.06,0.16,21,0]
["野菜類",6209,706,"（にら類）　花にら　花茎・花らい　生",27,1.9,0.2,2.8,22,0.5,91,7.0000000000000007E-2,0.08,23,0]
["野菜類",6210,707,"（にら類）　黄にら　葉　生",18,2.1,0.1,2,15,0.7,5,0.05,0.08,15,0]
["野菜類",6211,708,"（にんじん類）　葉にんじん　葉　生",16,1.1000000000000001,0.2,2.7,92,0.9,140,0.06,0.12,22,0.1]
["野菜類",6212,709,"（にんじん類）　にんじん　根　皮つき　生",35,0.7,0.2,2.8,28,0.2,720,7.0000000000000007E-2,0.06,6,0.1]
["野菜類",6213,710,"（にんじん類）　にんじん　根　皮つき　ゆで",29,0.6,0.2,3,32,0.3,710,0.06,0.05,4,0.1]
["野菜類",6214,711,"（にんじん類）　にんじん　根　皮なし　生",30,0.8,0.1,2.4,26,0.2,690,7.0000000000000007E-2,0.06,6,0.1]
["野菜類",6215,712,"（にんじん類）　にんじん　根　皮なし　ゆで",28,0.7,0.1,2.8,29,0.2,730,0.06,0.05,4,0.1]
["野菜類",6345,713,"（にんじん類）　にんじん　根　皮なし　油いため",103,1.1000000000000001,6.4,3.1,35,0.3,1000,0.11,0.08,5,0.1]
["野菜類",6346,714,"（にんじん類）　にんじん　根　皮なし　素揚げ",87,1,3.5,1.1000000000000001,36,0.3,330,0.1,7.0000000000000007E-2,6,0.1]
["野菜類",6347,715,"（にんじん類）　にんじん　根　皮　生",26,0.7,0.2,3.8,45,0.3,720,0.05,0.05,4,0]
["野菜類",6216,716,"（にんじん類）　にんじん　根　冷凍",30,0.8,0.2,4.0999999999999996,30,0.3,920,0.04,0.02,4,0.1]
["野菜類",6380,717,"（にんじん類）　にんじん　根　冷凍　ゆで",24,0.7,0.2,3.5,31,0.3,1000,0.03,0.02,1,0.1]
["野菜類",6381,718,"（にんじん類）　にんじん　根　冷凍　油いため",65,0.9,4,4.2,33,0.3,1100,0.04,0.03,2,0.2]
["野菜類",6348,719,"（にんじん類）　にんじん　グラッセ",53,0.7,1.4,2.6,26,0.2,880,0.03,0.03,2,1]
["野菜類",6217,720,"（にんじん類）　にんじん　ジュース　缶詰",29,0.6,0.1,0.2,10,0.2,370,0.03,0.04,1,0]
["野菜類",6218,721,"（にんじん類）　きんとき　根　皮つき　生",39,1.8,0.2,3.9,37,0.4,410,7.0000000000000007E-2,0.05,8,0]
["野菜類",6219,722,"（にんじん類）　きんとき　根　皮つき　ゆで",37,1.9,0.2,4.3,39,0.5,410,7.0000000000000007E-2,0.05,6,0]
["野菜類",6220,723,"（にんじん類）　きんとき　根　皮なし　生",40,1.8,0.3,3.6,34,0.4,380,7.0000000000000007E-2,0.05,8,0]
["野菜類",6221,724,"（にんじん類）　きんとき　根　皮なし　ゆで",40,1.9,0.4,4.0999999999999996,38,0.4,400,0.06,0.06,8,0]
["野菜類",6222,725,"（にんじん類）　ミニキャロット　根　生",26,0.7,0.2,2.7,30,0.3,500,0.04,0.03,4,0]
["野菜類",6223,726,"（にんにく類）　にんにく　りん茎　生",129,6.4,0.9,6.2,14,0.8,0,0.19,7.0000000000000007E-2,12,0]
["野菜類",6349,727,"（にんにく類）　にんにく　りん茎　油いため",191,8.1999999999999993,5.9,6.8,18,1.2,0,0.23,0.09,10,0]
["野菜類",6224,728,"（にんにく類）　茎にんにく　花茎　生",44,1.9,0.3,3.8,45,0.5,60,0.11,0.1,45,0]
["野菜類",6225,729,"（にんにく類）　茎にんにく　花茎　ゆで",43,1.7,0.2,3.8,40,0.5,56,0.1,7.0000000000000007E-2,39,0]
["野菜類",6226,730,"（ねぎ類）　根深ねぎ　葉　軟白　生",35,1.4,0.1,2.5,36,0.3,7,0.05,0.04,14,0]
["野菜類",6350,731,"（ねぎ類）　根深ねぎ　葉　軟白　ゆで",28,1.3,0.1,2.5,28,0.3,6,0.04,0.03,10,0]
["野菜類",6351,732,"（ねぎ類）　根深ねぎ　葉　軟白　油いため",77,1.6,4.4000000000000004,2.7,35,0.3,6,0.06,0.05,15,0]
["野菜類",6227,733,"（ねぎ類）　葉ねぎ　葉　生",29,1.9,0.3,3.2,80,1,120,0.06,0.11,32,0]
["野菜類",6352,734,"（ねぎ類）　葉ねぎ　葉　油いため",77,2.1,5.2,3.9,95,1.2,150,7.0000000000000007E-2,0.12,43,0]
["野菜類",6228,735,"（ねぎ類）　こねぎ　葉　生",26,2,0.3,2.5,100,1,190,0.08,0.14000000000000001,44,0]
["野菜類",6229,736,"のざわな　葉　生",14,0.9,0.1,2,130,0.6,100,0.06,0.1,41,0.1]
["野菜類",6230,737,"のざわな　漬物　塩漬",17,1.2,0.1,2.5,130,0.4,130,0.05,0.11,27,1.5]
["野菜類",6231,738,"のざわな　漬物　調味漬",22,1.7,0,3.1,94,0.7,200,0.03,0.11,26,2.4]
["野菜類",6232,739,"のびる　りん茎葉　生",63,3.2,0.2,6.9,100,2.6,67,0.08,0.22,60,0]
["野菜類",6233,740,"はくさい　結球葉　生",13,0.8,0.1,1.3,43,0.3,8,0.03,0.03,19,0]
["野菜類",6234,741,"はくさい　結球葉　ゆで",13,0.9,0.1,1.4,43,0.3,11,0.01,0.01,10,0]
["野菜類",6235,742,"はくさい　漬物　塩漬",17,1.5,0.1,1.8,39,0.4,1,0.04,0.03,29,2.1]
["野菜類",6236,743,"はくさい　漬物　キムチ",27,2.2999999999999998,0.1,2.2000000000000002,50,0.5,15,0.04,0.06,15,2.9]
["野菜類",6237,744,"パクチョイ　葉　生",15,1.6,0.2,1.8,100,0.8,150,7.0000000000000007E-2,0.12,45,0]
["野菜類",6238,745,"バジル　葉　生",21,2,0.6,4,240,1.5,520,0.08,0.19,16,0]
["野菜類",6239,746,"パセリ　葉　生",34,4,0.7,6.8,290,7.5,620,0.12,0.24,120,0]
["野菜類",6240,747,"はつかだいこん　根　生",13,0.8,0.1,1.2,21,0.3,0,0.02,0.02,19,0]
["野菜類",6392,748,"はなっこりー　生",35,3.6,0.5,3.1,51,0.5,97,0.09,0.15,90,0]
["野菜類",6241,749,"はやとうり　果実　白色種　生",20,0.6,0.1,1.2,12,0.3,0,0.02,0.03,11,0]
["野菜類",6242,750,"はやとうり　果実　白色種　塩漬",17,0.6,0,1.6,8,0.2,0,0.02,0.04,9,3.6]
["野菜類",6353,751,"はやとうり　果実　緑色種　生",21,0.6,0.1,1.2,12,0.3,2,0.02,0.03,11,0]
["野菜類",6243,752,"ビーツ　根　生",38,1.6,0.1,2.7,12,0.4,0,0.05,0.05,5,0.1]
["野菜類",6244,753,"ビーツ　根　ゆで",42,1.5,0.1,2.9,15,0.4,0,0.04,0.04,3,0.1]
["野菜類",6245,754,"（ピーマン類）　青ピーマン　果実　生",20,0.9,0.2,2.2999999999999998,11,0.4,33,0.03,0.03,76,0]
["野菜類",6246,755,"（ピーマン類）　青ピーマン　果実　油いため",54,0.9,4.3,2.4,11,0.7,35,0.03,0.03,79,0]
["野菜類",6247,756,"（ピーマン類）　赤ピーマン　果実　生",28,1,0.2,1.6,7,0.4,88,0.06,0.14000000000000001,170,0]
["野菜類",6248,757,"（ピーマン類）　赤ピーマン　果実　油いため",69,1,4.3,1.6,7,0.7,92,0.06,0.16,180,0]
["野菜類",6393,758,"（ピーマン類）　オレンジピーマン　果実　生",19,0.9,0.3,1.8,5,0.3,53,0.04,0.03,150,0]
["野菜類",6394,759,"（ピーマン類）　オレンジピーマン　果実　油いため",81,1.1000000000000001,5.0999999999999996,0,5,0.4,60,0.05,0.04,170,0]
["野菜類",6249,760,"（ピーマン類）　黄ピーマン　果実　生",28,0.8,0.2,1.3,8,0.3,17,0.04,0.03,150,0]
["野菜類",6250,761,"（ピーマン類）　黄ピーマン　果実　油いため",61,0.8,4.3,1.3,8,0.5,18,0.04,0.03,160,0]
["野菜類",6251,762,"（ピーマン類）　トマピー　果実　生",33,1,0.2,1.6,8,0.4,160,0.05,0.09,200,0]
["野菜類",6252,763,"ひのな　根・茎葉　生",17,1,0,3,130,0.8,98,0.05,0.13,52,0]
["野菜類",6253,764,"ひのな　根・茎葉　甘酢漬",70,1.4,0.5,4.7,130,0.9,170,0.04,0.08,39,2.8]
["野菜類",6254,765,"ひろしまな　葉　生",19,1.5,0.2,2.4,200,0.8,160,0.06,0.15,49,0.1]
["野菜類",6255,766,"ひろしまな　塩漬",15,1.2,0.2,2.4,74,0.8,170,0.02,7.0000000000000007E-2,15,2.1]
["野菜類",6256,767,"（ふき類）　ふき　葉柄　生",11,0.3,0,1.3,40,0.1,4,0,0.02,2,0.1]
["野菜類",6257,768,"（ふき類）　ふき　葉柄　ゆで",7,0.3,0,1.1000000000000001,34,0.1,5,0,0.01,0,0.1]
["野菜類",6258,769,"（ふき類）　ふきのとう　花序　生",38,2.5,0.1,6.4,61,1.3,33,0.1,0.17,14,0]
["野菜類",6259,770,"（ふき類）　ふきのとう　花序　ゆで",31,2.5,0.1,4.2,46,0.7,22,0.06,0.08,3,0]
["野菜類",6260,771,"ふじまめ　若ざや　生",32,2.5,0.1,4.4000000000000004,43,0.8,20,0.08,0.1,13,0]
["野菜類",6261,772,"ふだんそう　葉　生",17,2,0.1,3.3,75,3.6,310,7.0000000000000007E-2,0.23,19,0.2]
["野菜類",6262,773,"ふだんそう　葉　ゆで",26,2.8,0.1,3.8,130,2.1,320,0.03,0.11,7,0.2]
["野菜類",6263,774,"ブロッコリー　花序　生",37,5.4,0.6,5.0999999999999996,50,1.3,75,0.17,0.23,140,0]
["野菜類",6264,775,"ブロッコリー　花序　ゆで",30,3.9,0.4,4.3,41,0.9,69,0.06,0.09,55,0]
["野菜類",6395,776,"ブロッコリー　花序　電子レンジ調理",57,5.7,0.7,0,54,1.4,83,0.18,0.25,140,0]
["野菜類",6396,777,"ブロッコリー　花序　焼き",84,9.9,1.2,0,90,2.2999999999999998,140,0.27,0.4,150,0]
["野菜類",6397,778,"ブロッコリー　花序　油いため",109,6.9,6.3,0,64,1.7,97,0.2,0.28000000000000003,130,0]
["野菜類",6354,779,"ブロッコリー　芽ばえ　生",18,1.9,0.6,1.8,57,0.7,120,0.08,0.11,64,0]
["野菜類",6265,780,"へちま　果実　生",17,0.8,0.1,1,12,0.3,4,0.03,0.04,5,0]
["野菜類",6266,781,"へちま　果実　ゆで",19,1.6,0.1,1.5,24,0.7,3,0.03,0.06,3,0]
["野菜類",6267,782,"ほうれんそう　葉　通年平均　生",18,2.2000000000000002,0.4,2.8,49,2,350,0.11,0.2,35,0]
["野菜類",6268,783,"ほうれんそう　葉　通年平均　ゆで",23,2.6,0.5,3.6,69,0.9,450,0.05,0.11,19,0]
["野菜類",6359,784,"ほうれんそう　葉　通年平均　油いため",91,3.8,8.1,4.5999999999999996,88,1.2,630,0.08,0.16,21,0]
["野菜類",6355,785,"ほうれんそう　葉　夏採り　生",18,2.2000000000000002,0.4,2.8,49,2,350,0.11,0.2,20,0]
["野菜類",6357,786,"ほうれんそう　葉　夏採り　ゆで",23,2.6,0.5,3.6,69,0.9,450,0.05,0.11,10,0]
["野菜類",6356,787,"ほうれんそう　葉　冬採り　生",18,2.2000000000000002,0.4,2.8,49,2,350,0.11,0.2,60,0]
["野菜類",6358,788,"ほうれんそう　葉　冬採り　ゆで",23,2.6,0.5,3.6,69,0.9,450,0.05,0.11,30,0]
["野菜類",6269,789,"ほうれんそう　葉　冷凍",22,2.9,0.3,3.3,100,1.2,440,0.06,0.13,19,0.3]
["野菜類",6372,790,"ほうれんそう　葉　冷凍　ゆで",27,3.7,0.5,4.8,170,1.3,720,0,0.06,5,0.1]
["野菜類",6373,791,"ほうれんそう　葉　冷凍　油いため",67,4,4.5,4.0999999999999996,130,1.5,600,0,0.18,16,0.4]
["野菜類",6270,792,"ホースラディシュ　根茎　生",69,3.1,0.3,8.1999999999999993,110,1,1,0.1,0.1,73,0]
["野菜類",6271,793,"まこも　茎　生",19,1.3,0.2,2.2999999999999998,2,0.2,1,0.04,0.03,6,0]
["野菜類",6272,794,"みずかけな　葉　生",25,2.9,0.1,2.8,110,1,190,0.11,0.23,88,0]
["野菜類",6273,795,"みずかけな　塩漬",34,4.9000000000000004,0,4,110,1,240,0.12,0.34,70,2.5]
["野菜類",6072,796,"みずな　葉　生",23,2.2000000000000002,0.1,3,210,2.1,110,0.08,0.15,55,0.1]
["野菜類",6073,797,"みずな　葉　ゆで",21,2,0.1,3.6,200,2,140,0.04,0.08,19,0.1]
["野菜類",6074,798,"みずな　塩漬",26,2,0.1,3.5,200,1.3,92,7.0000000000000007E-2,0.15,47,2.2999999999999998]
["野菜類",6274,799,"（みつば類）　切りみつば　葉　生",16,1,0.1,2.5,25,0.3,61,0.03,0.09,8,0]
["野菜類",6275,800,"（みつば類）　切りみつば　葉　ゆで",12,0.9,0.1,2.7,24,0.2,65,0.02,0.04,1,0]
["野菜類",6276,801,"（みつば類）　根みつば　葉　生",19,1.9,0.1,2.9,52,1.8,140,0.05,0.13,22,0]
["野菜類",6277,802,"（みつば類）　根みつば　葉　ゆで",19,2.2999999999999998,0.1,3.3,64,1.2,170,0.03,0.05,12,0]
["野菜類",6278,803,"（みつば類）　糸みつば　葉　生",12,0.9,0.1,2.2999999999999998,47,0.9,270,0.04,0.14000000000000001,13,0]
["野菜類",6279,804,"（みつば類）　糸みつば　葉　ゆで",14,1.1000000000000001,0,3,56,0.6,340,0.02,0.08,4,0]
["野菜類",6360,805,"みぶな　葉　生",14,1.1000000000000001,0.3,1.8,110,0.5,150,0.04,7.0000000000000007E-2,38,0.1]
["野菜類",6280,806,"（みょうが類）　みょうが　花穂　生",11,0.9,0.1,2.1,25,0.5,3,0.05,0.05,2,0]
["野菜類",6281,807,"（みょうが類）　みょうがたけ　茎葉　生",6,0.4,0.1,1.1000000000000001,11,0.3,1,0.02,0.02,1,0]
["野菜類",6282,808,"むかご　肉芽　生",87,2.9,0.2,4.2,5,0.6,2,0.11,0.02,9,0]
["野菜類",6283,809,"めキャベツ　結球葉　生",52,5.7,0.1,5.5,37,1,59,0.19,0.23,160,0]
["野菜類",6284,810,"めキャベツ　結球葉　ゆで",51,5.3,0.1,5.2,36,1,57,0.13,0.16,110,0]
["野菜類",6285,811,"めたで　芽ばえ　生",39,3,0.5,6.3,49,2.2999999999999998,410,0.15,0.21,67,0]
["野菜類",6286,812,"（もやし類）　アルファルファもやし　生",11,1.6,0.1,1.4,14,0.5,5,7.0000000000000007E-2,0.09,5,0]
["野菜類",6287,813,"（もやし類）　だいずもやし　生",29,3.7,1.5,2.2999999999999998,23,0.5,0,0.09,7.0000000000000007E-2,5,0]
["野菜類",6288,814,"（もやし類）　だいずもやし　ゆで",27,2.9,1.6,2.2000000000000002,24,0.4,0,0.04,0.04,1,0]
["野菜類",6289,815,"（もやし類）　ブラックマッペもやし　生",17,2.2000000000000002,0,1.5,16,0.4,0,0.04,0.06,10,0]
["野菜類",6290,816,"（もやし類）　ブラックマッペもやし　ゆで",13,1.3,0,1.6,24,0.4,0,0.02,0.02,2,0]
["野菜類",6398,817,"（もやし類）　ブラックマッペもやし　油いため",41,2.2999999999999998,0.9,0,18,0.4,0,0.04,0.06,7,0]
["野菜類",6291,818,"（もやし類）　りょくとうもやし　生",15,1.7,0.1,1.3,10,0.2,0,0.04,0.05,8,0]
["野菜類",6292,819,"（もやし類）　りょくとうもやし　ゆで",12,1.6,0,1.5,11,0.3,0,0.03,0.04,2,0]
["野菜類",6293,820,"モロヘイヤ　茎葉　生",36,4.8,0.5,5.9,260,1,840,0.18,0.42,65,0]
["野菜類",6294,821,"モロヘイヤ　茎葉　ゆで",24,3,0.4,3.5,170,0.6,550,0.06,0.13,11,0]
["野菜類",6401,822,"やぶまめ　生",219,15.5,6.5,9.8000000000000007,44,4.5999999999999996,0,0,0,0,0]
["野菜類",6295,823,"やまごぼう　みそ漬",66,4.0999999999999996,0.1,7,23,1.3,0,0.02,0.1,0,7.1]
["野菜類",6296,824,"ゆりね　りん茎　生",119,3.8,0.1,5.4,10,1,0,0.08,7.0000000000000007E-2,9,0]
["野菜類",6297,825,"ゆりね　りん茎　ゆで",117,3.4,0.1,6,10,0.9,0,7.0000000000000007E-2,7.0000000000000007E-2,8,0]
["野菜類",6298,826,"ようさい　茎葉　生",17,2.2000000000000002,0.1,3.1,74,1.5,360,0.1,0.2,19,0.1]
["野菜類",6299,827,"ようさい　茎葉　ゆで",18,2.2000000000000002,0.1,3.4,90,1,320,0.06,0.1,6,0]
["野菜類",6300,828,"よめな　葉　生",40,3.4,0.2,7.8,110,3.7,560,0.23,0.32,42,0]
["野菜類",6301,829,"よもぎ　葉　生",43,5.2,0.3,7.8,180,4.3,440,0.19,0.34,35,0]
["野菜類",6302,830,"よもぎ　葉　ゆで",37,4.8,0.1,7.8,140,3,500,0.08,0.09,2,0]
["野菜類",6303,831,"らっかせい　未熟豆　生",306,12,24.2,4,15,0.9,0,0.54,0.09,20,0]
["野菜類",6304,832,"らっかせい　未熟豆　ゆで",298,11.9,23.5,4.2,24,0.9,0,0.3,0.13,19,0]
["野菜類",6305,833,"（らっきょう類）　らっきょう　りん茎　生",83,1.4,0.2,20.7,14,0.5,0,7.0000000000000007E-2,0.05,23,0]
["野菜類",6306,834,"（らっきょう類）　らっきょう　甘酢漬",118,0.4,0.3,2.9,11,1.8,0,0,0,0,1.9]
["野菜類",6307,835,"（らっきょう類）　エシャレット　りん茎　生",59,2.2999999999999998,0.2,11.4,20,0.8,2,0.03,0.05,21,0]
["野菜類",6308,836,"リーキ　りん茎葉　生",30,1.6,0.1,2.5,31,0.7,4,0.06,0.08,11,0]
["野菜類",6309,837,"リーキ　りん茎葉　ゆで",28,1.3,0.1,2.6,26,0.6,3,0.05,7.0000000000000007E-2,9,0]
["野菜類",6319,838,"ルッコラ　葉　生",17,1.9,0.4,2.6,170,1.6,300,0.06,0.17,66,0]
["野菜類",6310,839,"ルバーブ　葉柄　生",23,0.7,0.1,2.5,74,0.2,3,0.04,0.05,5,0]
["野菜類",6311,840,"ルバーブ　葉柄　ゆで",14,0.5,0.1,2.9,64,0.2,4,0.01,0.03,4,0]
["野菜類",6312,841,"（レタス類）　レタス　土耕栽培　結球葉　生",11,0.6,0.1,1.1000000000000001,19,0.3,20,0.05,0.03,5,0]
["野菜類",6361,842,"（レタス類）　レタス　水耕栽培　結球葉　生",13,0.8,0.2,1.1000000000000001,34,0.3,59,0.03,0.03,5,0]
["野菜類",6313,843,"（レタス類）　サラダな　葉　生",10,1,0.2,1.8,56,2.4,180,0.06,0.13,14,0]
["野菜類",6314,844,"（レタス類）　リーフレタス　葉　生",16,1.4,0.1,1.9,58,1,200,0.1,0.1,21,0]
["野菜類",6315,845,"（レタス類）　サニーレタス　葉　生",15,1.2,0.2,2,66,1.8,170,0.1,0.1,17,0]
["野菜類",6362,846,"（レタス類）　サンチュ　葉　生",14,1.2,0.4,2,62,0.5,320,0.06,0.1,13,0]
["野菜類",6316,847,"（レタス類）　コスレタス　葉　生",16,1.2,0.2,1.9,29,0.5,43,0.06,0.06,8,0]
["野菜類",6317,848,"れんこん　根茎　生",66,1.9,0.1,2,20,0.5,0,0.1,0.01,48,0.1]
["野菜類",6318,849,"れんこん　根茎　ゆで",66,1.3,0.1,2.2999999999999998,20,0.4,0,0.06,0,18,0]
["野菜類",6371,850,"れんこん　甘酢れんこん",68,0.6,0.2,2.2999999999999998,6,0.1,0,0,0,7,1.4]
["野菜類",6320,851,"わけぎ　葉　生",30,1.6,0,2.8,59,0.4,220,0.06,0.1,37,0]
["野菜類",6321,852,"わけぎ　葉　ゆで",29,1.9,0,3.1,51,0.4,150,0.05,0.08,21,0]
["野菜類",6322,853,"わさび　根茎　生",89,5.6,0.2,4.4000000000000004,100,0.8,1,0.06,0.15,75,0.1]
["野菜類",6323,854,"わさび　わさび漬",140,7.1,0.5,2.7,40,0.9,2,0.08,0.17,1,2.5]
["野菜類",6324,855,"わらび　生わらび　生",19,2.4,0.1,3.6,12,0.7,18,0.02,1.0900000000000001,11,0]
["野菜類",6325,856,"わらび　生わらび　ゆで",13,1.5,0.1,3,11,0.6,13,0,0.05,0,0]
["野菜類",6326,857,"わらび　干しわらび　乾",216,20,0.7,58,200,11,110,0.12,0.46,0,0]
["野菜類",6382,858,"（その他）　ミックスベジタブル　冷凍",91,3,0.7,5.9,19,0.7,320,0.14000000000000001,7.0000000000000007E-2,9,0.1]
["野菜類",6383,859,"（その他）　ミックスベジタブル　冷凍　ゆで",91,3.1,0.8,6.5,19,0.7,350,0.12,0.05,5,0]
["野菜類",6384,860,"（その他）　ミックスベジタブル　冷凍　油いため",132,3.3,4.9000000000000004,5.9,20,0.7,360,0.14000000000000001,7.0000000000000007E-2,6,0.1]
["野菜類",6399,861,"（その他）　野菜ミックスジュース　通常タイプ",21,0.8,0.1,0.9,10,0.2,77,0.03,0.02,2,0]
["野菜類",6400,862,"（その他）　野菜ミックスジュース　濃縮タイプ",36,1,0.3,1,43,0.3,400,0.05,0.04,37,0.1]
["果実類",7001,863,"あけび　果肉　生",89,0.5,0.1,1.1000000000000001,11,0.3,0,7.0000000000000007E-2,0.03,65,0]
["果実類",7002,864,"あけび　果皮　生",32,0.3,0.3,3.1,18,0.1,0,0.03,0.06,9,0]
["果実類",7181,865,"アサイー　冷凍　無糖",62,0.9,5.3,4.7,45,0.5,34,0.03,0.06,1,0]
["果実類",7003,866,"アセロラ　酸味種　生",36,0.7,0.1,1.9,11,0.5,31,0.03,0.04,1700,0]
["果実類",7159,867,"アセロラ　甘味種　生",36,0.7,0.1,1.9,11,0.5,31,0.03,0.04,800,0]
["果実類",7004,868,"アセロラ　果実飲料　10%果汁入り飲料",42,0.1,0,0.2,1,0.1,3,0,0,120,0]
["果実類",7005,869,"アテモヤ　生",81,1.8,0.4,3.3,26,0.3,0,0.08,0.12,14,0]
["果実類",7006,870,"アボカド　生",178,2.1,17.5,5.6,8,0.6,7,0.09,0.2,12,0]
["果実類",7007,871,"あんず　生",37,1,0.3,1.6,9,0.3,120,0.02,0.02,3,0]
["果実類",7008,872,"あんず　乾",296,9.1999999999999993,0.4,9.8000000000000007,70,2.2999999999999998,410,0,0.03,0,0]
["果実類",7009,873,"あんず　缶詰",79,0.5,0.4,0.8,18,0.2,46,0.01,0.01,0,0]
["果実類",7010,874,"あんず　ジャム　高糖度",252,0.3,0.1,0.7,8,0.2,39,0.01,0,0,0]
["果実類",7011,875,"あんず　ジャム　低糖度",202,0.4,0.1,1.2,11,0.3,58,0.01,0.01,0,0]
["果実類",7012,876,"いちご　生",31,0.9,0.1,1.4,17,0.3,1,0.03,0.02,62,0]
["果実類",7013,877,"いちご　ジャム　高糖度",250,0.4,0.1,1.3,9,0.2,0,0.01,0.01,9,0]
["果実類",7014,878,"いちご　ジャム　低糖度",194,0.5,0.1,1.1000000000000001,12,0.4,0,0.01,0.01,10,0]
["果実類",7160,879,"いちご　乾",329,0.5,0.2,3,140,0.4,2,0,0,0,0.7]
["果実類",7015,880,"いちじく　生",57,0.6,0.1,1.9,26,0.3,1,0.03,0.03,2,0]
["果実類",7016,881,"いちじく　乾",272,3,1.1000000000000001,10.7,190,1.7,4,0.1,0.06,0,0.2]
["果実類",7017,882,"いちじく　缶詰",78,0.5,0.1,1.2,30,0.1,0,0.02,0.02,0,0]
["果実類",7019,883,"うめ　生",33,0.7,0.5,2.5,12,0.6,20,0.03,0.05,6,0]
["果実類",7020,884,"うめ　梅漬　塩漬",27,0.7,0.4,2.7,47,2.9,1,0.02,0.04,0,19.3]
["果実類",7021,885,"うめ　梅漬　調味漬",45,1.5,0.5,3.4,87,1.2,2,0.03,0.03,0,6.9]
["果実類",7022,886,"うめ　梅干し　塩漬",29,0.9,0.7,3.3,33,1.1000000000000001,1,0.02,0.01,0,18.2]
["果実類",7023,887,"うめ　梅干し　調味漬",90,1.5,0.6,2.5,25,2.4,0,0.01,0.01,0,7.6]
["果実類",7024,888,"うめ　梅びしお",196,0.7,0.5,1.3,27,7,0,0.03,0.03,0,7.9]
["果実類",7025,889,"うめ　果実飲料　20%果汁入り飲料",49,0,0,0.1,1,0.2,0,0,0,0,0.1]
["果実類",7037,890,"オリーブ　塩漬　グリーンオリーブ",148,1,15,3.3,79,0.3,38,0.01,0.02,12,3.6]
["果実類",7038,891,"オリーブ　塩漬　ブラックオリーブ",121,0.8,12.3,2.5,68,0.8,0,0.05,0.06,0,1.6]
["果実類",7039,892,"オリーブ　塩漬　スタッフドオリーブ",141,0.8,14.3,3.7,83,0.3,44,0.01,0.01,11,5.0999999999999996]
["果実類",7049,893,"かき　甘がき　生",63,0.4,0.2,1.6,9,0.2,35,0.03,0.02,70,0]
["果実類",7050,894,"かき　渋抜きがき　生",59,0.5,0.1,2.8,7,0.1,25,0.02,0.02,55,0]
["果実類",7051,895,"かき　干しがき",274,1.5,1.7,14,27,0.6,120,0.02,0,2,0]
["果実類",7053,896,"かりん　生",58,0.4,0.1,8.9,12,0.3,11,0.01,0.03,25,0]
["果実類",7018,897,"（かんきつ類）　いよかん　砂じょう　生",50,0.9,0.1,1.1000000000000001,17,0.2,13,0.06,0.03,35,0]
["果実類",7026,898,"（かんきつ類）　うんしゅうみかん　じょうのう　早生　生",49,0.5,0.1,0.7,17,0.1,87,7.0000000000000007E-2,0.04,35,0]
["果実類",7027,899,"（かんきつ類）　うんしゅうみかん　じょうのう　普通　生",49,0.7,0.1,1,21,0.2,84,0.1,0.03,32,0]
["果実類",7028,900,"（かんきつ類）　うんしゅうみかん　砂じょう　早生　生",47,0.5,0.1,0.4,11,0.1,92,7.0000000000000007E-2,0.03,35,0]
["果実類",7029,901,"（かんきつ類）　うんしゅうみかん　砂じょう　普通　生",49,0.7,0.1,0.4,15,0.1,92,0.09,0.03,33,0]
["果実類",7030,902,"（かんきつ類）　うんしゅうみかん　果実飲料　ストレートジュース",45,0.5,0.1,0,8,0.2,35,0.06,0.01,29,0]
["果実類",7031,903,"（かんきつ類）　うんしゅうみかん　果実飲料　濃縮還元ジュース",42,0.5,0.1,0,6,0.1,51,0.06,0.04,30,0]
["果実類",7032,904,"（かんきつ類）　うんしゅうみかん　果実飲料　果粒入りジュース",53,0.2,0,0,5,0.1,18,0.02,0.01,12,0]
["果実類",7033,905,"（かんきつ類）　うんしゅうみかん　果実飲料　50%果汁入り飲料",59,0.2,0,0.1,4,0.1,23,0.03,0.01,18,0]
["果実類",7034,906,"（かんきつ類）　うんしゅうみかん　果実飲料　20%果汁入り飲料",50,0.1,0,0,2,0.1,10,0.01,0.01,7,0]
["果実類",7035,907,"（かんきつ類）　うんしゅうみかん　缶詰　果肉",63,0.5,0.1,0.5,8,0.4,34,0.05,0.02,15,0]
["果実類",7036,908,"（かんきつ類）　うんしゅうみかん　缶詰　液汁",63,0.3,0.1,0,5,0.3,0,0.04,0.02,15,0]
["果実類",7040,909,"（かんきつ類）　オレンジ　ネーブル　砂じょう　生",48,0.9,0.1,1,24,0.2,11,7.0000000000000007E-2,0.04,60,0]
["果実類",7041,910,"（かんきつ類）　オレンジ　バレンシア　米国産　砂じょう　生",42,1,0.1,0.8,21,0.3,10,0.1,0.03,40,0]
["果実類",7042,911,"（かんきつ類）　オレンジ　バレンシア　果実飲料　ストレートジュース",45,0.8,0,0.3,9,0.1,3,7.0000000000000007E-2,0.01,22,0]
["果実類",7043,912,"（かんきつ類）　オレンジ　バレンシア　果実飲料　濃縮還元ジュース",46,0.7,0.1,0.2,9,0.1,4,7.0000000000000007E-2,0.02,42,0]
["果実類",7044,913,"（かんきつ類）　オレンジ　バレンシア　果実飲料　50%果汁入り飲料",46,0.4,0.2,0.1,5,0.1,1,0.04,0.01,16,0]
["果実類",7045,914,"（かんきつ類）　オレンジ　バレンシア　果実飲料　30%果汁入り飲料",41,0.2,0,0,3,0,0,0.02,0.01,10,0]
["果実類",7046,915,"（かんきつ類）　オレンジ　バレンシア　マーマレード　高糖度",233,0.2,0.1,0.7,16,0.1,2,0.01,0,5,0]
["果実類",7047,916,"（かんきつ類）　オレンジ　バレンシア　マーマレード　低糖度",190,0.3,0.1,1.3,19,0.2,5,0.01,0,4,0]
["果実類",7161,917,"（かんきつ類）　オレンジ　福原オレンジ　砂じょう　生",43,1,0.1,0.8,21,0.3,10,0.1,0.03,60,0]
["果実類",7048,918,"（かんきつ類）　オロブランコ　砂じょう　生",43,0.8,0.1,0.9,12,0.2,0,0.09,0.02,38,0]
["果実類",7052,919,"（かんきつ類）　かぼす　果汁　生",36,0.4,0.1,0.1,7,0.1,1,0.02,0.02,42,0]
["果実類",7162,920,"（かんきつ類）　かわちばんかん　砂じょう　生",38,0.7,0.2,0.6,10,0.1,4,0.06,0.02,36,0]
["果実類",7163,921,"（かんきつ類）　きよみ　砂じょう　生",45,0.8,0.2,0.6,11,0.1,45,0.1,0.02,42,0]
["果実類",7056,922,"（かんきつ類）　きんかん　全果　生",67,0.5,0.7,4.5999999999999996,80,0.3,11,0.1,0.06,49,0]
["果実類",7062,923,"（かんきつ類）　グレープフルーツ　白肉種　砂じょう　生",40,0.9,0.1,0.6,15,0,0,7.0000000000000007E-2,0.03,36,0]
["果実類",7164,924,"（かんきつ類）　グレープフルーツ　紅肉種　砂じょう　生",40,0.9,0.1,0.6,15,0,34,7.0000000000000007E-2,0.03,36,0]
["果実類",7063,925,"（かんきつ類）　グレープフルーツ　果実飲料　ストレートジュース",44,0.6,0.1,0.1,9,0.1,0,0.04,0.01,38,0]
["果実類",7064,926,"（かんきつ類）　グレープフルーツ　果実飲料　濃縮還元ジュース",38,0.7,0.1,0.2,9,0.1,10,0.06,0.02,53,0]
["果実類",7065,927,"（かんきつ類）　グレープフルーツ　果実飲料　50%果汁入り飲料",45,0.3,0,0.1,7,0.1,0,0.02,0,19,0]
["果実類",7066,928,"（かんきつ類）　グレープフルーツ　果実飲料　20%果汁入り飲料",39,0.1,0,0,3,0.1,0,0,0,8,0]
["果実類",7067,929,"（かんきつ類）　グレープフルーツ　缶詰",60,0.5,0,0.6,13,0.1,0,0.03,0,26,0]
["果実類",7074,930,"（かんきつ類）　さんぼうかん　砂じょう　生",47,0.7,0.3,0.9,23,0.2,4,7.0000000000000007E-2,0.03,39,0]
["果実類",7075,931,"（かんきつ類）　シークヮーサー　果汁　生",35,0.8,0.1,0.3,17,0.1,7,0.08,0.03,11,0]
["果実類",7076,932,"（かんきつ類）　シークヮーサー　果実飲料　10%果汁入り飲料",48,0.1,0,0,5,0.1,1,0,0,2,0]
["果実類",7165,933,"（かんきつ類）　しらぬひ　砂じょう　生",56,0.8,0.2,0.6,9,0.1,30,0.09,0.03,48,0]
["果実類",7078,934,"（かんきつ類）　すだち　果皮　生",55,1.8,0.3,10.1,150,0.4,44,0.04,0.09,110,0]
["果実類",7079,935,"（かんきつ類）　すだち　果汁　生",29,0.5,0.1,0.1,16,0.2,0,0.03,0.02,40,0]
["果実類",7166,936,"（かんきつ類）　せとか　砂じょう　生",50,0.8,0.2,0.7,11,0.1,77,0.08,0.03,57,0]
["果実類",7085,937,"（かんきつ類）　セミノール　砂じょう　生",53,1.1000000000000001,0.1,0.8,24,0.2,89,0.01,0.04,41,0]
["果実類",7083,938,"（かんきつ類）　だいだい　果汁　生",35,0.3,0.2,0,10,0.1,2,0.03,0.02,35,0]
["果実類",7093,939,"（かんきつ類）　なつみかん　砂じょう　生",42,0.9,0.1,1.2,16,0.2,7,0.08,0.03,38,0]
["果実類",7094,940,"（かんきつ類）　なつみかん　缶詰",80,0.5,0.1,0.5,11,0.1,1,0.04,0,14,0]
["果実類",7105,941,"（かんきつ類）　はっさく　砂じょう　生",47,0.8,0.1,1.5,13,0.1,9,0.06,0.03,40,0]
["果実類",7167,942,"（かんきつ類）　はるみ　砂じょう　生",52,0.9,0.2,0.8,9,0.1,57,0.11,0.02,40,0]
["果実類",7112,943,"（かんきつ類）　ひゅうがなつ　じょうのう及びアルベド　生",46,0.6,0.1,2.1,23,0.2,1,0.05,0.03,26,0]
["果実類",7113,944,"（かんきつ類）　ひゅうがなつ　砂じょう　生",35,0.6,0.1,0.7,5,0.1,1,0.06,0.03,21,0]
["果実類",7126,945,"（かんきつ類）　ぶんたん　砂じょう　生",41,0.7,0.1,0.9,13,0.1,1,0.03,0.04,45,0]
["果実類",7127,946,"（かんきつ類）　ぶんたん　ざぼん漬",338,0.2,0.1,2.7,22,0.3,0,0,0.02,0,0]
["果実類",7129,947,"（かんきつ類）　ぽんかん　砂じょう　生",42,0.9,0.1,1,16,0.1,52,0.08,0.04,40,0]
["果実類",7142,948,"（かんきつ類）　ゆず　果皮　生",50,1.2,0.5,6.9,41,0.3,20,7.0000000000000007E-2,0.1,160,0]
["果実類",7143,949,"（かんきつ類）　ゆず　果汁　生",30,0.5,0.1,0.4,20,0.1,1,0.05,0.02,40,0]
["果実類",7145,950,"（かんきつ類）　ライム　果汁　生",39,0.4,0.1,0.2,16,0.2,0,0.03,0.02,33,0]
["果実類",7155,951,"（かんきつ類）　レモン　全果　生",43,0.9,0.7,4.9000000000000004,67,0.2,2,7.0000000000000007E-2,7.0000000000000007E-2,100,0]
["果実類",7156,952,"（かんきつ類）　レモン　果汁　生",24,0.4,0.2,0,7,0.1,1,0.04,0.02,50,0]
["果実類",7054,953,"キウイフルーツ　緑肉種　生",51,1,0.2,2.6,26,0.3,4,0.01,0.02,71,0]
["果実類",7168,954,"キウイフルーツ　黄肉種　生",63,1.1000000000000001,0.2,1.4,17,0.2,3,0.02,0.02,140,0]
["果実類",7183,955,"きはだ　実　乾",378,7.3,9.8000000000000007,0,230,1.7,5,0.17,0.18,0,0]
["果実類",7055,956,"キワノ　生",41,1.5,0.9,2.6,10,0.4,3,0.03,0.01,2,0]
["果実類",7057,957,"グァバ　赤肉種　生",33,0.6,0.1,5.0999999999999996,8,0.1,50,0.03,0.04,220,0]
["果実類",7169,958,"グァバ　白肉種　生",33,0.6,0.1,5.0999999999999996,8,0.1,0,0.03,0.04,220,0]
["果実類",7058,959,"グァバ　果実飲料　20%果汁入り飲料　（ネクター）",49,0.1,0.1,0.8,3,0.2,2,0,0.01,19,0]
["果実類",7059,960,"グァバ　果実飲料　10%果汁入り飲料",50,0.1,0.1,0.2,3,0.1,1,0,0,9,0]
["果実類",7185,961,"くこ　実　乾",387,12.3,4.0999999999999996,0,47,4,250,0.28000000000000003,0.4,9,1.3]
["果実類",7061,962,"ぐみ　生",72,1.3,0.2,2,10,0.2,32,0.01,0.04,5,0]
["果実類",7157,963,"ココナッツ　ココナッツウォーター",22,0.2,0.1,0,11,0.1,0,0.01,0.01,2,0]
["果実類",7158,964,"ココナッツ　ココナッツミルク",157,1.9,16,0.2,5,0.8,0,0.01,0,0,0]
["果実類",7170,965,"ココナッツ　ナタデココ",80,0,0,0.5,1,0,0,0,0,0,0]
["果実類",7070,966,"さくらんぼ　国産　生",64,1,0.2,1.2,13,0.3,8,0.03,0.03,10,0]
["果実類",7071,967,"さくらんぼ　米国産　生",64,1.2,0.1,1.4,15,0.3,2,0.03,0.03,9,0]
["果実類",7072,968,"さくらんぼ　米国産　缶詰",70,0.6,0.1,1,10,0.4,3,0.01,0.01,7,0]
["果実類",7073,969,"ざくろ　生",63,0.2,0,0,8,0.1,0,0.01,0.01,10,0]
["果実類",7077,970,"すいか　赤肉種　生",41,0.6,0.1,0.3,4,0.2,69,0.03,0.02,10,0]
["果実類",7171,971,"すいか　黄肉種　生",41,0.6,0.1,0.3,4,0.2,1,0.03,0.02,10,0]
["果実類",7182,972,"（すぐり類）　カシス　冷凍",62,1.6,1.6,6.4,40,0.5,9,0.03,0.03,0,0]
["果実類",7060,973,"（すぐり類）　グーズベリー　生",51,1,0.1,2.5,14,1.3,10,0.02,0.02,22,0]
["果実類",7069,974,"スターフルーツ　生",30,0.7,0.1,1.8,5,0.2,6,0.03,0.02,12,0]
["果実類",7080,975,"（すもも類）　にほんすもも　生",46,0.6,1,1.6,5,0.2,7,0.02,0.02,4,0]
["果実類",7081,976,"（すもも類）　プルーン　生",49,0.7,0.1,1.9,6,0.2,40,0.03,0.03,4,0]
["果実類",7082,977,"（すもも類）　プルーン　乾",211,2.4,0.2,7.1,57,1.1000000000000001,100,7.0000000000000007E-2,7.0000000000000007E-2,0,0]
["果実類",7086,978,"チェリモヤ　生",82,1.3,0.3,2.2000000000000002,9,0.2,0,0.09,0.09,34,0]
["果実類",7111,979,"ドラゴンフルーツ　生",52,1.4,0.3,1.9,6,0.3,0,0.08,0.06,7,0]
["果実類",7087,980,"ドリアン　生",140,2.2999999999999998,3.3,2.1,5,0.3,3,0.33,0.2,31,0]
["果実類",7088,981,"（なし類）　日本なし　生",38,0.3,0.1,0.9,2,0,0,0.02,0,3,0]
["果実類",7089,982,"（なし類）　日本なし　缶詰",76,0.1,0.1,0.7,3,0.2,0,0,0,0,0]
["果実類",7090,983,"（なし類）　中国なし　生",49,0.2,0.1,1.4,2,0.1,0,0.02,0.01,6,0]
["果実類",7091,984,"（なし類）　西洋なし　生",48,0.3,0.1,1.9,5,0.1,0,0.02,0.01,3,0]
["果実類",7092,985,"（なし類）　西洋なし　缶詰",79,0.2,0.1,1,4,0.1,0,0.01,0.02,0,0]
["果実類",7095,986,"なつめ　乾",294,3.9,2,12.5,65,1.5,1,0.1,0.21,1,0]
["果実類",7096,987,"なつめやし　乾",281,2.2000000000000002,0.2,7,71,0.8,13,7.0000000000000007E-2,0.04,0,0]
["果実類",7097,988,"パインアップル　生",54,0.6,0.1,1.2,11,0.2,3,0.09,0.02,35,0]
["果実類",7177,989,"パインアップル　焼き",75,0.9,0.2,1.7,16,0.3,4,0.11,0.02,41,0]
["果実類",7098,990,"パインアップル　果実飲料　ストレートジュース",46,0.3,0.1,0,22,0.4,1,0.04,0.01,6,0]
["果実類",7099,991,"パインアップル　果実飲料　濃縮還元ジュース",45,0.1,0.1,0,9,0.3,1,0.05,0.02,5,0]
["果実類",7100,992,"パインアップル　果実飲料　50%果汁入り飲料",50,0.3,0.1,0,6,0.1,0,0.03,0.01,3,0]
["果実類",7101,993,"パインアップル　果実飲料　10%果汁入り飲料",50,0,0,0,2,0.2,0,0,0,0,0]
["果実類",7102,994,"パインアップル　缶詰",76,0.4,0.1,0.5,7,0.3,1,7.0000000000000007E-2,0.01,7,0]
["果実類",7103,995,"パインアップル　砂糖漬",349,0.5,0.2,1.3,31,2.5,1,0,0.02,0,0.1]
["果実類",7104,996,"ハスカップ　生",55,0.7,0.6,2.1,38,0.6,11,0.02,0.03,44,0]
["果実類",7106,997,"パッションフルーツ　果汁　生",67,0.8,0.4,0,4,0.6,89,0.01,0.09,16,0]
["果実類",7107,998,"バナナ　生",93,1.1000000000000001,0.2,1.1000000000000001,6,0.3,5,0.05,0.04,16,0]
["果実類",7108,999,"バナナ　乾",314,3.8,0.4,7,26,1.1000000000000001,70,7.0000000000000007E-2,0.12,0,0]
["果実類",7109,1000,"パパイア　完熟　生",33,0.5,0.2,2.2000000000000002,20,0.2,40,0.02,0.04,50,0]
["果実類",7110,1001,"パパイア　未熟　生",35,1.3,0.1,2.2000000000000002,36,0.3,10,0.03,0.04,45,0]
["果実類",7114,1002,"びわ　生",41,0.3,0.1,1.6,13,0.1,68,0.02,0.03,5,0]
["果実類",7115,1003,"びわ　缶詰",80,0.3,0.1,0.6,22,0.1,39,0.01,0.01,0,0]
["果実類",7116,1004,"ぶどう　皮なし　生",58,0.4,0.1,0.5,6,0.1,2,0.04,0.01,2,0]
["果実類",7178,1005,"ぶどう　皮つき　生",69,0.6,0.2,0.9,8,0.2,3,0.05,0.01,3,0]
["果実類",7117,1006,"ぶどう　干しぶどう",324,2.7,0.2,4.0999999999999996,65,2.2999999999999998,1,0.12,0.03,0,0]
["果実類",7118,1007,"ぶどう　果実飲料　ストレートジュース",54,0.3,0.2,0.1,3,0.1,0,0.02,0.01,0,0]
["果実類",7119,1008,"ぶどう　果実飲料　濃縮還元ジュース",46,0.3,0.3,0.1,5,0.3,0,0.02,0,0,0]
["果実類",7120,1009,"ぶどう　果実飲料　70%果汁入り飲料",52,0.2,0,0.1,4,0.1,0,0,0,0,0]
["果実類",7121,1010,"ぶどう　果実飲料　10%果汁入り飲料",52,0,0,0,3,0.1,0,0,0,0,0]
["果実類",7122,1011,"ぶどう　缶詰",83,0.4,0.1,0.2,10,0.9,1,0.02,0.01,0,0]
["果実類",7123,1012,"ぶどう　ジャム",189,0.5,0.1,1.5,16,3.3,0,0.02,0.01,0,0]
["果実類",7124,1013,"ブルーベリー　生",48,0.5,0.1,3.3,8,0.2,5,0.03,0.03,9,0]
["果実類",7125,1014,"ブルーベリー　ジャム",174,0.7,0.3,4.3,8,0.3,2,0.03,0.02,3,0]
["果実類",7172,1015,"ブルーベリー　乾",280,2.7,1.9,17.600000000000001,43,1.2,7,0.12,0.1,0,0]
["果実類",7128,1016,"ホワイトサポテ　生",73,1.5,0.1,3.1,13,0.2,1,0.05,0.05,18,0]
["果実類",7130,1017,"まくわうり　黄肉種　生",34,0.8,0.1,1,6,0.2,15,0.03,0.03,30,0]
["果実類",7173,1018,"まくわうり　白肉種　生",34,0.8,0.1,1,6,0.2,0,0.03,0.03,30,0]
["果実類",7131,1019,"マルメロ　生",48,0.3,0.1,5.0999999999999996,11,0.1,4,0.02,0.02,18,0]
["果実類",7132,1020,"マンゴー　生",68,0.6,0.1,1.3,15,0.2,51,0.04,0.06,20,0]
["果実類",7179,1021,"マンゴー　ドライマンゴー",339,3.1,0.7,6.4,37,0.5,500,0.27,0.21,69,0]
["果実類",7133,1022,"マンゴスチン　生",71,0.6,0.2,1.4,6,0.1,0,0.11,0.03,3,0]
["果実類",7134,1023,"メロン　温室メロン　生",40,1.1000000000000001,0.1,0.5,8,0.3,3,0.06,0.02,18,0]
["果実類",7135,1024,"メロン　露地メロン　緑肉種　生",45,1,0.1,0.5,6,0.2,12,0.05,0.02,25,0]
["果実類",7174,1025,"メロン　露地メロン　赤肉種　生",45,1,0.1,0.5,6,0.2,300,0.05,0.02,25,0]
["果実類",7136,1026,"（もも類）　もも　白肉種　生",38,0.6,0.1,1.3,4,0.1,0,0.01,0.01,8,0]
["果実類",7184,1027,"（もも類）　もも　黄肉種　生",48,0.5,0.2,1.9,3,0.1,17,0.02,0.02,6,0]
["果実類",7137,1028,"（もも類）　もも　果実飲料　30%果汁入り飲料　（ネクター）",46,0.2,0.1,0.4,2,0.2,0,0,0.01,2,0]
["果実類",7138,1029,"（もも類）　もも　缶詰　白肉種　果肉",82,0.5,0.1,1.4,3,0.2,0,0.01,0.02,2,0]
["果実類",7175,1030,"（もも類）　もも　缶詰　黄肉種　果肉",83,0.5,0.1,1.4,3,0.2,17,0.01,0.02,2,0]
["果実類",7139,1031,"（もも類）　もも　缶詰　液汁",81,0.3,0.1,0.3,2,0.2,0,0.01,0.01,2,0]
["果実類",7140,1032,"（もも類）　ネクタリン　生",39,0.7,0.3,1.7,5,0.2,20,0.02,0.03,10,0]
["果実類",7141,1033,"やまもも　生",47,0.5,0.2,1.1000000000000001,4,0.4,2,0.04,0.03,4,0]
["果実類",7144,1034,"ライチー　生",61,1,0.1,0.9,2,0.2,0,0.02,0.06,36,0]
["果実類",7146,1035,"ラズベリー　生",36,1.1000000000000001,0.1,4.7,22,0.7,2,0.02,0.04,22,0]
["果実類",7147,1036,"りゅうがん　乾",310,5.0999999999999996,0.4,2.8,30,1.7,0,0.03,0.74,0,0]
["果実類",7148,1037,"りんご　皮なし　生",53,0.1,0.2,1.4,3,0.1,1,0.02,0,4,0]
["果実類",7176,1038,"りんご　皮つき　生",56,0.2,0.3,1.9,4,0.1,2,0.02,0.01,6,0]
["果実類",7180,1039,"りんご　皮つき　焼き",86,0.2,0.4,2.5,5,0.1,3,0.03,0.01,7,0]
["果実類",7149,1040,"りんご　果実飲料　ストレートジュース",43,0.2,0.1,0,2,0.4,0,0.01,0.01,3,0]
["果実類",7150,1041,"りんご　果実飲料　濃縮還元ジュース",47,0.1,0.2,0,3,0.1,0,0,0,1,0]
["果実類",7151,1042,"りんご　果実飲料　50%果汁入り飲料",46,0.1,0,0,2,0.1,0,0,0,0,0]
["果実類",7152,1043,"りんご　果実飲料　30%果汁入り飲料",46,0,0,0,2,0,0,0,0,0,0]
["果実類",7153,1044,"りんご　缶詰",81,0.3,0.1,0.4,4,0.2,1,0.01,0.01,0,0]
["果実類",7154,1045,"りんご　ジャム",203,0.2,0.1,0.8,6,0,0,0.01,0,0,0]
["きのこ類",8001,1046,"えのきたけ　生",34,2.7,0.2,3.9,0,1.1000000000000001,0,0.24,0.17,0,0]
["きのこ類",8002,1047,"えのきたけ　ゆで",34,2.8,0.1,4.5,0,1,0,0.19,0.13,0,0]
["きのこ類",8037,1048,"えのきたけ　油いため",71,3,3.9,4.5999999999999996,0,1.2,0,0.26,0.18,0,0]
["きのこ類",8003,1049,"えのきたけ　味付け瓶詰",76,3.6,0.3,4.0999999999999996,10,0.8,0,0.26,0.17,0,4.3]
["きのこ類",8054,1050,"（きくらげ類）　あらげきくらげ　生",14,0.7,0.1,5.6,10,0.1,0,0,0.05,0,0]
["きのこ類",8004,1051,"（きくらげ類）　あらげきくらげ　乾",184,6.9,0.7,79.5,82,10,0,0.01,0.44,0,0.1]
["きのこ類",8005,1052,"（きくらげ類）　あらげきくらげ　ゆで",38,1.2,0.1,16.3,35,1.7,0,0,7.0000000000000007E-2,0,0]
["きのこ類",8038,1053,"（きくらげ類）　あらげきくらげ　油いため",110,2.2999999999999998,5.2,28.6,29,4.3,0,0,0.11,0,0]
["きのこ類",8006,1054,"（きくらげ類）　きくらげ　乾",216,7.9,2.1,57.4,310,35,0,0.19,0.87,0,0.1]
["きのこ類",8007,1055,"（きくらげ類）　きくらげ　ゆで",14,0.6,0.2,5.2,25,0.7,0,0.01,0.06,0,0]
["きのこ類",8008,1056,"（きくらげ類）　しろきくらげ　乾",170,4.9000000000000004,0.7,68.7,240,4.4000000000000004,0,0.12,0.7,0,0.1]
["きのこ類",8009,1057,"（きくらげ類）　しろきくらげ　ゆで",15,0.4,0,6.4,27,0.2,0,0,0.05,0,0]
["きのこ類",8010,1058,"くろあわびたけ　生",28,3.7,0.4,4.0999999999999996,2,0.5,0,0.21,0.22,0,0]
["きのこ類",8039,1059,"しいたけ　生しいたけ　菌床栽培　生",25,3.1,0.3,4.9000000000000004,1,0.4,0,0.13,0.21,0,0]
["きのこ類",8040,1060,"しいたけ　生しいたけ　菌床栽培　ゆで",22,2.5,0.4,4.4000000000000004,1,0.3,0,0.08,0.11,0,0]
["きのこ類",8041,1061,"しいたけ　生しいたけ　菌床栽培　油いため",65,3.3,4.0999999999999996,4.7,2,0.4,0,0.16,0.18,0,0]
["きのこ類",8057,1062,"しいたけ　生しいたけ　菌床栽培　天ぷら",201,3.4,14,4.4000000000000004,40,0.3,1,0.11,0.18,0,0.1]
["きのこ類",8042,1063,"しいたけ　生しいたけ　原木栽培　生",34,3.1,0.4,5.5,2,0.4,0,0.13,0.22,0,0]
["きのこ類",8043,1064,"しいたけ　生しいたけ　原木栽培　ゆで",27,2.4,0.4,4.8,1,0.2,0,0.06,0.12,0,0]
["きのこ類",8044,1065,"しいたけ　生しいたけ　原木栽培　油いため",84,3.8,5.4,6.4,2,0.4,0,0.14000000000000001,0.26,0,0]
["きのこ類",8013,1066,"しいたけ　乾しいたけ　乾",258,21.2,2.8,46.7,12,3.2,0,0.48,1.74,20,0]
["きのこ類",8014,1067,"しいたけ　乾しいたけ　ゆで",40,3.1,0.3,6.7,4,0.5,0,0.05,0.26,0,0]
["きのこ類",8053,1068,"しいたけ　乾しいたけ　甘煮",116,3.3,0.4,6.7,13,0.7,0,0.01,0.06,4,2.6]
["きのこ類",8015,1069,"（しめじ類）　はたけしめじ　生",25,2.6,0.3,2.7,1,0.6,0,0.12,0.44,0,0]
["きのこ類",8045,1070,"（しめじ類）　はたけしめじ　ゆで",25,2.6,0.3,4.5999999999999996,1,0.5,0,0.08,0.28000000000000003,0,0]
["きのこ類",8016,1071,"（しめじ類）　ぶなしめじ　生",22,2.7,0.5,3.5,1,0.5,0,0.15,0.17,0,0]
["きのこ類",8017,1072,"（しめじ類）　ぶなしめじ　ゆで",22,2.7,0.2,4.2,2,0.4,0,0.12,0.1,0,0]
["きのこ類",8046,1073,"（しめじ類）　ぶなしめじ　油いため",66,3,5.5,4.3,1,0.6,0,0.17,0.19,0,0]
["きのこ類",8055,1074,"（しめじ類）　ぶなしめじ　素揚げ",168,3.9,14.3,6.2,1,1.1000000000000001,0,0.2,0.26,0,0]
["きのこ類",8056,1075,"（しめじ類）　ぶなしめじ　天ぷら",248,3.4,17.100000000000001,4.8,58,0.5,2,0.09,0.18,0,0.1]
["きのこ類",8018,1076,"（しめじ類）　ほんしめじ　生",21,2.5,0.4,1.9,2,0.6,0,7.0000000000000007E-2,0.28000000000000003,0,0]
["きのこ類",8047,1077,"（しめじ類）　ほんしめじ　ゆで",26,2.8,0.6,3.3,2,0.6,0,0.06,0.17,0,0]
["きのこ類",8019,1078,"たもぎたけ　生",23,3.6,0.3,3.3,2,0.8,0,0.17,0.33,0,0]
["きのこ類",8020,1079,"なめこ　株採り　生",21,1.8,0.2,3.4,4,0.7,0,7.0000000000000007E-2,0.12,0,0]
["きのこ類",8021,1080,"なめこ　株採り　ゆで",22,1.6,0.1,2.8,4,0.6,0,0.06,0.1,0,0]
["きのこ類",8058,1081,"なめこ　カットなめこ　生",14,1.1000000000000001,0.1,1.9,2,0.5,0,0.03,0.08,0,0]
["きのこ類",8022,1082,"なめこ　水煮缶詰",13,1,0.1,2.5,3,0.8,0,0.03,7.0000000000000007E-2,0,0]
["きのこ類",8023,1083,"ぬめりすぎたけ　生",23,2.2999999999999998,0.4,2.5,1,0.6,0,0.16,0.34,1,0]
["きのこ類",8024,1084,"（ひらたけ類）　うすひらたけ　生",37,6.1,0.2,3.8,2,0.6,0,0.3,0.41,0,0]
["きのこ類",8025,1085,"（ひらたけ類）　エリンギ　生",31,2.8,0.4,3.4,0,0.3,0,0.11,0.22,0,0]
["きのこ類",8048,1086,"（ひらたけ類）　エリンギ　ゆで",32,3.2,0.5,4.8,0,0.3,0,0.08,0.16,0,0]
["きのこ類",8049,1087,"（ひらたけ類）　エリンギ　焼き",41,4.2,0.5,5.4,0,0.4,0,0.18,0.31,0,0]
["きのこ類",8050,1088,"（ひらたけ類）　エリンギ　油いため",69,3.2,3.7,4.2,0,0.3,0,0.13,0.24,0,0]
["きのこ類",8026,1089,"（ひらたけ類）　ひらたけ　生",34,3.3,0.3,2.6,1,0.7,0,0.4,0.4,0,0]
["きのこ類",8027,1090,"（ひらたけ類）　ひらたけ　ゆで",33,3.4,0.2,3.7,1,0.7,0,0.3,0.27,0,0]
["きのこ類",8028,1091,"まいたけ　生",22,2,0.5,3.5,0,0.2,0,0.09,0.19,0,0]
["きのこ類",8029,1092,"まいたけ　ゆで",27,1.6,0.5,4.3,0,0.2,0,0.04,7.0000000000000007E-2,0,0]
["きのこ類",8051,1093,"まいたけ　油いため",67,2.6,4.4000000000000004,4.7,0,0.2,0,0.11,0.21,0,0]
["きのこ類",8030,1094,"まいたけ　乾",273,21.9,3.9,40.9,2,2.6,0,1.24,1.92,0,0]
["きのこ類",8031,1095,"マッシュルーム　生",15,2.9,0.3,2,3,0.3,0,0.06,0.28999999999999998,0,0]
["きのこ類",8032,1096,"マッシュルーム　ゆで",20,3.8,0.2,3.3,4,0.3,0,0.05,0.28000000000000003,0,0]
["きのこ類",8052,1097,"マッシュルーム　油いため",57,3.6,4.5,3.4,4,0.4,0,0.08,0.38,0,0]
["きのこ類",8033,1098,"マッシュルーム　水煮缶詰",18,3.4,0.2,3.2,8,0.8,0,0.03,0.24,0,0.9]
["きのこ類",8034,1099,"まつたけ　生",32,2,0.6,4.7,6,1.3,0,0.1,0.1,0,0]
["きのこ類",8036,1100,"やなぎまつたけ　生",20,2.4,0.1,3,0,0.5,0,0.27,0.34,0,0]
["藻類",9001,1101,"あおさ　素干し",201,22.1,0.6,29.1,490,5.3,220,7.0000000000000007E-2,0.48,25,9.9]
["藻類",9002,1102,"あおのり　素干し",249,29.4,5.2,35.200000000000003,750,77,1700,0.92,1.66,62,8.1]
["藻類",9003,1103,"あまのり　ほしのり",276,39.4,3.7,31.2,140,11,3600,1.21,2.68,160,1.5]
["藻類",9004,1104,"あまのり　焼きのり",297,41.4,3.7,36,280,11,2300,0.69,2.33,210,1.3]
["藻類",9005,1105,"あまのり　味付けのり",301,40,3.5,25.2,170,8.1999999999999993,2700,0.61,2.31,200,4.3]
["藻類",9006,1106,"あらめ　蒸し干し",183,12.4,0.7,48,790,3.5,220,0.1,0.26,0,5.8]
["藻類",9007,1107,"いわのり　素干し",228,34.799999999999997,0.7,36.4,86,48,2300,0.56999999999999995,2.0699999999999998,3,5.3]
["藻類",9012,1108,"うみぶどう　生",6,0.5,0.1,0.8,34,0.8,10,0,0.01,0,0.8]
["藻類",9008,1109,"えごのり　素干し",179,9,0.1,53.3,210,6.8,1,0.04,0.28999999999999998,0,6.1]
["藻類",9009,1110,"えごのり　おきうと",7,0.3,0.1,2.5,19,0.6,0,0,0.01,0,0.1]
["藻類",9010,1111,"おごのり　塩蔵　塩抜き",26,1.3,0.1,7.5,54,4.2,65,0.02,0.18,0,0.3]
["藻類",9011,1112,"かわのり　素干し",246,38.1,1.6,41.7,450,61,580,0.38,2.1,0,0.2]
["藻類",9013,1113,"（こんぶ類）　えながおにこんぶ　素干し",224,11,1,24.9,650,2.5,120,0.1,0.25,3,6.1]
["藻類",9014,1114,"（こんぶ類）　がごめこんぶ　素干し",216,7.9,0.5,34.200000000000003,750,3.3,98,0.21,0.32,0,7.6]
["藻類",9015,1115,"（こんぶ類）　ながこんぶ　素干し",205,8.3000000000000007,1.5,36.799999999999997,430,3,65,0.19,0.41,20,7.6]
["藻類",9016,1116,"（こんぶ類）　ほそめこんぶ　素干し",227,6.9,1.7,32.9,900,9.6,150,0.06,0.28000000000000003,25,6.1]
["藻類",9017,1117,"（こんぶ類）　まこんぶ　素干し　乾",170,5.8,1.3,32.1,780,3.2,130,0.26,0.31,29,6.6]
["藻類",9056,1118,"（こんぶ類）　まこんぶ　素干し　水煮",28,1.1000000000000001,0.3,8.6999999999999993,200,0.7,30,0.03,0.03,1,0.9]
["藻類",9018,1119,"（こんぶ類）　みついしこんぶ　素干し",235,7.7,1.9,34.799999999999997,560,5.0999999999999996,230,0.4,0.6,10,7.6]
["藻類",9019,1120,"（こんぶ類）　りしりこんぶ　素干し",211,8,2,31.4,760,2.4,71,0.8,0.35,15,6.9]
["藻類",9020,1121,"（こんぶ類）　刻み昆布",119,5.4,0.5,39.1,940,8.6,5,0.15,0.33,0,10.9]
["藻類",9021,1122,"（こんぶ類）　削り昆布",177,6.5,0.9,28.2,650,3.6,64,0.33,0.28000000000000003,19,5.3]
["藻類",9022,1123,"（こんぶ類）　塩昆布",193,16.899999999999999,0.4,13.1,280,4.2,33,0.04,0.23,0,18]
["藻類",9023,1124,"（こんぶ類）　つくだ煮",152,6,1,6.8,150,1.3,5,0.05,0.05,0,7.4]
["藻類",9024,1125,"すいぜんじのり　素干し　水戻し",10,1.5,0,2.1,63,2.5,9,0.02,0.01,0,0]
["藻類",9025,1126,"てんぐさ　素干し",194,16.100000000000001,1,47.3,230,6,17,0.08,0.83,0,4.8]
["藻類",9026,1127,"てんぐさ　ところてん",2,0.2,0,0.6,4,0.1,0,0,0,0,0]
["藻類",9027,1128,"てんぐさ　角寒天",159,2.4,0.2,74.099999999999994,660,4.5,0,0.01,0,0,0.3]
["藻類",9028,1129,"てんぐさ　寒天",3,0,0,1.5,10,0.2,0,0,0,0,0]
["藻類",9049,1130,"てんぐさ　粉寒天",160,0.2,0.3,79,120,7.3,0,0,0,0,0.4]
["藻類",9029,1131,"とさかのり　赤とさか　塩蔵　塩抜き",19,1.5,0.1,4,70,1.2,1,0,0.04,0,0.7]
["藻類",9030,1132,"とさかのり　青とさか　塩蔵　塩抜き",17,0.9,0.2,4.0999999999999996,160,0.8,24,0,0.02,0,0.8]
["藻類",9050,1133,"ひじき　ほしひじき　ステンレス釜　乾",180,9.1999999999999993,3.2,51.8,1000,6.2,360,0.09,0.42,0,4.7]
["藻類",9051,1134,"ひじき　ほしひじき　ステンレス釜　ゆで",11,0.7,0.3,3.7,96,0.3,28,0,0,0,0.1]
["藻類",9052,1135,"ひじき　ほしひじき　ステンレス釜　油いため",51,0.8,4.7,4.5,110,0.3,33,0.01,0,0,0.2]
["藻類",9053,1136,"ひじき　ほしひじき　鉄釜　乾",186,9.1999999999999993,3.2,51.8,1000,58,360,0.09,0.42,0,4.7]
["藻類",9054,1137,"ひじき　ほしひじき　鉄釜　ゆで",13,0.7,0.3,3.7,96,2.7,28,0,0,0,0.1]
["藻類",9055,1138,"ひじき　ほしひじき　鉄釜　油いため",54,0.8,4.7,4.5,110,2.9,33,0.01,0,0,0.2]
["藻類",9032,1139,"ひとえぐさ　素干し",172,16.600000000000001,1,44.2,920,3.4,710,0.3,0.92,38,11.4]
["藻類",9033,1140,"ひとえぐさ　つくだ煮",148,14.4,1.3,4.0999999999999996,28,3.6,23,0.06,0.26,0,5.8]
["藻類",9034,1141,"ふのり　素干し",207,13.8,1,43.1,330,4.8,59,0.16,0.61,1,6.9]
["藻類",9035,1142,"まつも　素干し",252,27.9,4.9000000000000004,28.5,920,11,2500,0.48,1.61,5,3.3]
["藻類",9036,1143,"むかでのり　塩蔵　塩抜き",12,0.6,0.1,4.2,85,0.8,2,0,0,0,0.6]
["藻類",9037,1144,"（もずく類）　おきなわもずく　塩蔵　塩抜き",7,0.3,0.2,2,22,0.2,18,0,0.09,0,0.6]
["藻類",9038,1145,"（もずく類）　もずく　塩蔵　塩抜き",4,0.2,0.1,1.4,22,0.7,15,0,0.01,0,0.2]
["藻類",9039,1146,"わかめ　原藻　生",24,1.9,0.2,3.6,100,0.7,79,7.0000000000000007E-2,0.18,15,1.5]
["藻類",9040,1147,"わかめ　乾燥わかめ　素干し",164,13.6,1.6,32.700000000000003,780,2.6,650,0.39,0.83,27,16.8]
["藻類",9041,1148,"わかめ　乾燥わかめ　素干し　水戻し",22,2,0.3,5.8,130,0.5,100,0.05,0.08,3,0.7]
["藻類",9042,1149,"わかめ　乾燥わかめ　板わかめ",200,16.7,1.2,31.7,960,6.4,710,0.62,1.5,20,9.9]
["藻類",9043,1150,"わかめ　乾燥わかめ　灰干し　水戻し",9,1.1000000000000001,0.1,2.2000000000000002,140,0.7,3,0,0.03,0,0.1]
["藻類",9044,1151,"わかめ　カットわかめ　乾",186,17.899999999999999,4,39.200000000000003,870,6.5,190,7.0000000000000007E-2,0.08,0,23.5]
["藻類",9058,1152,"わかめ　カットわかめ　水煮　（沸騰水で短時間加熱したもの）",17,1.3,0.8,3.2,76,0.6,15,0,0,0,0.8]
["藻類",9059,1153,"わかめ　カットわかめ　水煮の汁",0,0,0,0,1,0,0,0,0,0,0.2]
["藻類",9045,1154,"わかめ　湯通し塩蔵わかめ　塩抜き　生",13,1.5,0.3,3.2,50,0.5,17,0.01,0.01,0,1.4]
["藻類",9057,1155,"わかめ　湯通し塩蔵わかめ　塩抜き　ゆで",7,0.6,0.1,1.1000000000000001,19,0.3,5,0.01,0,0,0.3]
["藻類",9046,1157,"わかめ　くきわかめ　湯通し塩蔵　塩抜き",18,1.1000000000000001,0.3,5.0999999999999996,86,0.4,5,0.02,0.02,0,7.9]
["藻類",9047,1158,"わかめ　めかぶわかめ　生",14,0.9,0.6,3.4,77,0.3,20,0.02,0.03,2,0.4]
["魚介類",10001,1159,"＜魚類＞　あいなめ　生",105,19.100000000000001,3.4,0,55,0.4,6,0.24,0.26,2,0.4]
["魚介類",10002,1160,"＜魚類＞　あこうだい　生",86,16.8,2.2999999999999998,0,15,0.3,26,0.11,0.04,0,0.2]
["魚介類",10003,1161,"＜魚類＞　（あじ類）　まあじ　皮つき　生",112,19.7,4.5,0,66,0.6,7,0.13,0.13,0,0.3]
["魚介類",10389,1162,"＜魚類＞　（あじ類）　まあじ　皮なし　生",108,19.7,4.0999999999999996,0,12,0.9,7,0.14000000000000001,0.2,0,0.3]
["魚介類",10004,1163,"＜魚類＞　（あじ類）　まあじ　皮つき　水煮",136,22.4,5.9,0,80,0.7,8,0.13,0.12,0,0.3]
["魚介類",10005,1164,"＜魚類＞　（あじ類）　まあじ　皮つき　焼き",157,25.9,6.4,0,100,0.8,8,0.15,0.15,0,0.4]
["魚介類",10390,1165,"＜魚類＞　（あじ類）　まあじ　皮つき　フライ",270,20.100000000000001,18.2,0,100,0.8,16,0.12,0.15,0,0.4]
["魚介類",10006,1166,"＜魚類＞　（あじ類）　まあじ　開き干し　生",150,20.2,8.8000000000000007,0,36,0.8,0,0.1,0.15,0,1.7]
["魚介類",10007,1167,"＜魚類＞　（あじ類）　まあじ　開き干し　焼き",194,24.6,12.3,0,57,0.9,0,0.12,0.14000000000000001,0,2]
["魚介類",10391,1168,"＜魚類＞　（あじ類）　まあじ　小型　骨付き　生",114,17.8,5,0,780,1.1000000000000001,33,0.19,0.17,1,0.3]
["魚介類",10392,1169,"＜魚類＞　（あじ類）　まあじ　小型　骨付き　から揚げ",268,24,18.600000000000001,0,900,0.9,39,0.19,0.21,0,0.3]
["魚介類",10393,1170,"＜魚類＞　（あじ類）　まるあじ　生",133,22.1,5.6,0,53,1.2,11,0.1,0.19,0,0.2]
["魚介類",10394,1171,"＜魚類＞　（あじ類）　まるあじ　焼き",175,28.7,7.7,0,94,1.5,15,0.09,0.18,0,0.2]
["魚介類",10008,1172,"＜魚類＞　（あじ類）　にしまあじ　生",156,19.600000000000001,9.1,0,26,1,16,0.1,0.21,0,0.4]
["魚介類",10009,1173,"＜魚類＞　（あじ類）　にしまあじ　水煮",160,21.7,8.8000000000000007,0,30,1.1000000000000001,12,0.11,0.18,0,0.5]
["魚介類",10010,1174,"＜魚類＞　（あじ類）　にしまあじ　焼き",186,24.7,10.4,0,58,1.2,13,0.12,0.21,0,0.6]
["魚介類",10011,1175,"＜魚類＞　（あじ類）　むろあじ　生",147,23.6,6.9,0,19,1.6,4,0.18,0.32,0,0.1]
["魚介類",10012,1176,"＜魚類＞　（あじ類）　むろあじ　焼き",167,29.7,6.2,0,28,1.8,5,0.28000000000000003,0.3,0,0.2]
["魚介類",10013,1177,"＜魚類＞　（あじ類）　むろあじ　開き干し",140,22.9,6.2,0,43,1.4,0,0.17,0.3,0,2.1]
["魚介類",10014,1178,"＜魚類＞　（あじ類）　むろあじ　くさや",219,49.9,3,0,300,3.2,0,0.24,0.4,0,4.0999999999999996]
["魚介類",10015,1179,"＜魚類＞　あなご　生",146,17.3,9.3000000000000007,0,75,0.8,500,0.05,0.14000000000000001,2,0.4]
["魚介類",10016,1180,"＜魚類＞　あなご　蒸し",173,17.600000000000001,12.7,0,64,0.9,890,0.04,0.11,1,0.3]
["魚介類",10017,1181,"＜魚類＞　あまご　養殖　生",99,18.3,3.6,0,27,0.4,7,0.15,0.16,1,0.1]
["魚介類",10018,1182,"＜魚類＞　あまだい　生",102,18.8,3.6,0,58,0.3,27,0.04,0.06,1,0.2]
["魚介類",10019,1183,"＜魚類＞　あまだい　水煮",113,20.7,4,0,34,0.4,11,0.04,0.06,1,0.2]
["魚介類",10020,1184,"＜魚類＞　あまだい　焼き",110,22.5,2.6,0,54,0.5,26,0.04,0.06,0,0.3]
["魚介類",10021,1185,"＜魚類＞　あゆ　天然　生",93,18.3,2.4,0,270,0.9,35,0.13,0.15,2,0.2]
["魚介類",10022,1186,"＜魚類＞　あゆ　天然　焼き",149,26.6,6.8,0,480,5.5,120,0.23,0.24,2,0.3]
["魚介類",10023,1187,"＜魚類＞　あゆ　天然　内臓　生",180,9.5,17.5,0,43,24,1700,0.12,0.55000000000000004,5,0.2]
["魚介類",10024,1188,"＜魚類＞　あゆ　天然　内臓　焼き",161,23,10.1,0,140,63,2000,0.28000000000000003,1,5,0.4]
["魚介類",10025,1189,"＜魚類＞　あゆ　養殖　生",138,17.8,7.9,0,250,0.8,55,0.15,0.14000000000000001,2,0.1]
["魚介類",10026,1190,"＜魚類＞　あゆ　養殖　焼き",202,22.6,15.1,0,450,2,480,0.2,0.18,2,0.2]
["魚介類",10027,1191,"＜魚類＞　あゆ　養殖　内臓　生",485,7.4,55,0,55,8,4400,0.16,0.44,2,0.2]
["魚介類",10028,1192,"＜魚類＞　あゆ　養殖　内臓　焼き",500,15.2,52.3,0,130,19,6000,0.34,0.68,1,0.3]
["魚介類",10029,1193,"＜魚類＞　あゆ　うるか",157,11.4,13.1,0,16,4,2000,0.06,0.38,0,13]
["魚介類",10030,1194,"＜魚類＞　アラスカめぬけ　生",96,17.2,3.4,0,22,0.2,20,0.04,0.05,0,0.2]
["魚介類",10031,1195,"＜魚類＞　あんこう　生",54,13,0.2,0,8,0.2,13,0.04,0.16,1,0.3]
["魚介類",10032,1196,"＜魚類＞　あんこう　きも　生",401,10,41.9,0,6,1.2,8300,0.14000000000000001,0.35,1,0.3]
["魚介類",10033,1197,"＜魚類＞　いかなご　生",111,17.2,5.5,0,500,2.5,200,0.19,0.81,1,0.5]
["魚介類",10034,1198,"＜魚類＞　いかなご　煮干し",218,43.1,6.1,0,740,6.6,10,0.27,0.18,0,7.1]
["魚介類",10035,1199,"＜魚類＞　いかなご　つくだ煮",271,29.4,4.5999999999999996,0,470,2.2999999999999998,0,0.02,0.27,0,5.6]
["魚介類",10036,1200,"＜魚類＞　いかなご　あめ煮",268,25.6,3.7,0,550,3.4,0,0.02,0.28000000000000003,0,4.3]
["魚介類",10037,1201,"＜魚類＞　いさき　生",116,17.2,5.7,0,22,0.4,41,0.06,0.12,0,0.4]
["魚介類",10038,1202,"＜魚類＞　いしだい　生",138,19.5,7.8,0,20,0.3,39,0.15,0.15,0,0.1]
["魚介類",10039,1203,"＜魚類＞　いとよりだい　生",85,18.100000000000001,1.7,0,46,0.5,28,0.04,0.08,2,0.2]
["魚介類",10040,1204,"＜魚類＞　いとよりだい　すり身",88,16.7,0.4,0,26,0.1,2,0,0.02,0,0.7]
["魚介類",10041,1205,"＜魚類＞　いぼだい　生",132,16.399999999999999,8.5,0,41,0.5,95,0.04,0.19,1,0.5]
["魚介類",10042,1206,"＜魚類＞　（いわし類）　うるめいわし　生",124,21.3,4.8,0,85,2.2999999999999998,130,0.08,0.36,1,0.2]
["魚介類",10043,1207,"＜魚類＞　（いわし類）　うるめいわし　丸干し",219,45,5.0999999999999996,0,570,4.5,0,0.25,0.43,0,5.8]
["魚介類",10044,1208,"＜魚類＞　（いわし類）　かたくちいわし　生",171,18.2,12.1,0,60,0.9,11,0.03,0.16,1,0.2]
["魚介類",10045,1209,"＜魚類＞　（いわし類）　かたくちいわし　煮干し",298,64.5,6.2,0,2200,18,0,0.1,0.1,0,4.3]
["魚介類",10046,1210,"＜魚類＞　（いわし類）　かたくちいわし　田作り",304,66.599999999999994,5.7,0,2500,3,0,0.1,0.11,0,1.8]
["魚介類",10047,1211,"＜魚類＞　（いわし類）　まいわし　生",156,19.2,9.1999999999999993,0,74,2.1,8,0.03,0.39,0,0.2]
["魚介類",10048,1212,"＜魚類＞　（いわし類）　まいわし　水煮",182,22.4,8.6999999999999993,0,82,2.2999999999999998,5,0.05,0.28999999999999998,0,0.2]
["魚介類",10049,1213,"＜魚類＞　（いわし類）　まいわし　焼き",199,25.3,9.4,0,98,2.5,8,0.12,0.43,0,0.3]
["魚介類",10395,1214,"＜魚類＞　（いわし類）　まいわし　フライ",384,20,30.3,0,78,2.2000000000000002,15,0.04,0.39,0,0.4]
["魚介類",10050,1215,"＜魚類＞　（いわし類）　まいわし　塩いわし",143,16.8,9.6,0,70,1.7,0,0.03,0.35,0,6.1]
["魚介類",10051,1216,"＜魚類＞　（いわし類）　まいわし　生干し",217,20.6,16,0,65,1.6,0,0,0.22,0,1.8]
["魚介類",10052,1217,"＜魚類＞　（いわし類）　まいわし　丸干し",177,32.799999999999997,5.5,0,440,4.4000000000000004,40,0.01,0.41,0,3.8]
["魚介類",10053,1218,"＜魚類＞　（いわし類）　めざし　生",206,18.2,18.899999999999999,0,180,2.6,77,0.01,0.21,0,2.8]
["魚介類",10054,1219,"＜魚類＞　（いわし類）　めざし　焼き",200,23.7,15,0,320,4.2,95,0.01,0.26,0,3.6]
["魚介類",10396,1220,"＜魚類＞　（いわし類）　しらす　生",67,15,1.3,0,210,0.4,110,0.02,7.0000000000000007E-2,5,1]
["魚介類",10445,1221,"＜魚類＞　（いわし類）　しらす　釜揚げしらす",80,17.600000000000001,1.7,0,190,0.3,140,7.0000000000000007E-2,0.04,0,2.1]
["魚介類",10055,1222,"＜魚類＞　（いわし類）　しらす干し　微乾燥品",113,24.5,2.1,0,280,0.6,190,0.11,0.03,0,4.2]
["魚介類",10056,1223,"＜魚類＞　（いわし類）　しらす干し　半乾燥品",187,40.5,3.5,0,520,0.8,240,0.22,0.06,0,6.6]
["魚介類",10057,1224,"＜魚類＞　（いわし類）　たたみいわし",348,75.099999999999994,5.6,0,970,2.6,410,0.15,0.33,0,2.2000000000000002]
["魚介類",10058,1225,"＜魚類＞　（いわし類）　みりん干し　かたくちいわし",330,44.3,7,0,800,3.7,13,0.02,0.24,0,2.8]
["魚介類",10059,1226,"＜魚類＞　（いわし類）　みりん干し　まいわし",314,31.4,15.7,0,240,4.3,16,0,0.5,0,1.7]
["魚介類",10060,1227,"＜魚類＞　（いわし類）　缶詰　水煮",168,20.7,10.6,0,320,2.6,9,0.03,0.3,0,0.8]
["魚介類",10061,1228,"＜魚類＞　（いわし類）　缶詰　味付け",203,20.399999999999999,11.9,0,370,2.2999999999999998,9,0.03,0.3,0,1.4]
["魚介類",10062,1229,"＜魚類＞　（いわし類）　缶詰　トマト漬",167,17.5,10.8,0,360,1.9,12,0.01,0.25,0,0.7]
["魚介類",10063,1230,"＜魚類＞　（いわし類）　缶詰　油漬",351,20.3,30.7,0,350,1.4,25,0.08,0.32,0,0.8]
["魚介類",10064,1231,"＜魚類＞　（いわし類）　缶詰　かば焼",234,16.2,15.6,0,220,2,32,0.01,0.24,0,1.5]
["魚介類",10397,1232,"＜魚類＞　（いわし類）　缶詰　アンチョビ",157,24.2,6.8,0,150,2.6,4,0,0.31,0,13.1]
["魚介類",10065,1233,"＜魚類＞　いわな　養殖　生",101,19,3.6,0,39,0.3,5,0.09,0.12,1,0.1]
["魚介類",10066,1234,"＜魚類＞　うぐい　生",93,20.100000000000001,1.5,0,69,0.7,41,0.03,0.11,0,0.2]
["魚介類",10067,1235,"＜魚類＞　うなぎ　養殖　生",228,17.100000000000001,19.3,0,130,0.5,2400,0.37,0.48,2,0.2]
["魚介類",10068,1236,"＜魚類＞　うなぎ　きも　生",102,13,5.3,0,19,4.5999999999999996,4400,0.3,0.75,2,0.4]
["魚介類",10069,1237,"＜魚類＞　うなぎ　白焼き",287,20.7,25.8,0,140,1,1500,0.55000000000000004,0.45,0,0.3]
["魚介類",10070,1238,"＜魚類＞　うなぎ　かば焼",285,23,21,0,150,0.8,1500,0.75,0.74,0,1.3]
["魚介類",10071,1239,"＜魚類＞　うまづらはぎ　生",75,18.2,0.3,0,50,0.4,0,0.01,0.13,0,0.5]
["魚介類",10072,1240,"＜魚類＞　うまづらはぎ　味付け開き干し",289,58.9,1.6,0,190,1.5,0,0.02,0.05,0,6.1]
["魚介類",10073,1241,"＜魚類＞　えい　生",78,19.100000000000001,0.3,0,4,0.9,2,0.05,0.12,1,0.7]
["魚介類",10074,1242,"＜魚類＞　えそ　生",87,20.100000000000001,0.8,0,80,0.3,0,7.0000000000000007E-2,0.1,2,0.3]
["魚介類",10075,1243,"＜魚類＞　おいかわ　生",124,19.2,5.8,0,45,0.6,10,0.01,0.16,2,0.1]
["魚介類",10076,1244,"＜魚類＞　おおさが　生",131,16.3,8,0,16,0.2,85,0.01,0.03,1,0.2]
["魚介類",10077,1245,"＜魚類＞　おこぜ　生",81,19.600000000000001,0.2,0,31,0.4,2,0.01,0.12,0,0.2]
["魚介類",10078,1246,"＜魚類＞　おひょう　生",91,19.899999999999999,1.7,0,7,0.1,13,0.09,7.0000000000000007E-2,0,0.2]
["魚介類",10079,1247,"＜魚類＞　かさご　生",83,19.3,1.1000000000000001,0,57,0.3,3,0.03,0.06,1,0.3]
["魚介類",10080,1248,"＜魚類＞　かじか　生",98,15,5,0,520,2.8,180,7.0000000000000007E-2,0.38,1,0.3]
["魚介類",10081,1249,"＜魚類＞　かじか　水煮",108,15.8,5.8,0,630,2.6,290,0.06,0.3,0,0.2]
["魚介類",10082,1250,"＜魚類＞　かじか　つくだ煮",293,29.4,5.5,0,880,5.8,370,7.0000000000000007E-2,0.48,0,4.3]
["魚介類",10083,1251,"＜魚類＞　（かじき類）　くろかじき　生",93,22.9,0.2,0,5,0.5,2,0.05,0.06,1,0.2]
["魚介類",10084,1252,"＜魚類＞　（かじき類）　まかじき　生",107,23.1,1.8,0,5,0.6,8,0.09,7.0000000000000007E-2,2,0.2]
["魚介類",10085,1253,"＜魚類＞　（かじき類）　めかじき　生",139,19.2,7.6,0,3,0.5,61,0.06,0.09,1,0.2]
["魚介類",10398,1254,"＜魚類＞　（かじき類）　めかじき　焼き",202,27.5,11.1,0,5,0.6,85,7.0000000000000007E-2,0.11,0,0.3]
["魚介類",10086,1255,"＜魚類＞　（かつお類）　かつお　春獲り　生",108,25.8,0.5,0,11,1.9,5,0.13,0.17,0,0.1]
["魚介類",10087,1256,"＜魚類＞　（かつお類）　かつお　秋獲り　生",150,25,6.2,0,8,1.9,20,0.1,0.16,0,0.1]
["魚介類",10088,1257,"＜魚類＞　（かつお類）　そうだがつお　生",126,25.7,2.8,0,23,2.6,9,0.17,0.28999999999999998,0,0.2]
["魚介類",10089,1258,"＜魚類＞　（かつお類）　加工品　なまり",126,29.8,0.7,0,11,3.7,0,0.19,0.18,0,0.3]
["魚介類",10090,1259,"＜魚類＞　（かつお類）　加工品　なまり節",162,38,1.1000000000000001,0,20,5,0,0.4,0.25,0,0.2]
["魚介類",10446,1260,"＜魚類＞　（かつお類）　加工品　裸節",306,71.599999999999994,3.3,0,15,6.5,10,0.01,0.35,0,0.8]
["魚介類",10091,1261,"＜魚類＞　（かつお類）　加工品　かつお節",332,77.099999999999994,2.9,0,28,5.5,0,0.55000000000000004,0.35,0,0.3]
["魚介類",10092,1262,"＜魚類＞　（かつお類）　加工品　削り節",327,75.7,3.2,0,46,9,24,0.38,0.56999999999999995,0,1.2]
["魚介類",10093,1263,"＜魚類＞　（かつお類）　加工品　削り節つくだ煮",233,19.5,3.3,0,54,8,0,0.13,0.1,0,7.9]
["魚介類",10094,1264,"＜魚類＞　（かつお類）　加工品　角煮",221,31,1.6,0,10,6,0,0.15,0.12,0,3.8]
["魚介類",10095,1265,"＜魚類＞　（かつお類）　加工品　塩辛",55,12,1.5,0,180,5,90,0.1,0.25,0,12.7]
["魚介類",10096,1266,"＜魚類＞　（かつお類）　缶詰　味付け　フレーク",139,18.399999999999999,2.7,0,29,2.6,0,0.14000000000000001,0.13,0,1.7]
["魚介類",10097,1267,"＜魚類＞　（かつお類）　缶詰　油漬　フレーク",289,18.8,24.2,0,5,0.9,0,0.12,0.11,0,0.9]
["魚介類",10098,1268,"＜魚類＞　かます　生",137,18.899999999999999,7.2,0,41,0.3,12,0.03,0.14000000000000001,0,0.3]
["魚介類",10099,1269,"＜魚類＞　かます　焼き",134,23.3,4.9000000000000004,0,59,0.5,13,0.03,0.14000000000000001,0,0.4]
["魚介類",10100,1270,"＜魚類＞　（かれい類）　まがれい　生",89,19.600000000000001,1.3,0,43,0.2,5,0.03,0.35,1,0.3]
["魚介類",10101,1271,"＜魚類＞　（かれい類）　まがれい　水煮",97,21.4,1.1000000000000001,0,56,0.3,5,0.03,0.27,0,0.3]
["魚介類",10102,1272,"＜魚類＞　（かれい類）　まがれい　焼き",104,23.4,1.3,0,70,0.3,7,0.03,0.41,1,0.3]
["魚介類",10103,1273,"＜魚類＞　（かれい類）　まこがれい　生",86,18,1.8,0,46,0.4,6,0.12,0.32,1,0.3]
["魚介類",10399,1274,"＜魚類＞　（かれい類）　まこがれい　焼き",138,28.5,2.8,0,75,0.8,6,0.17,0.44,1,0.5]
["魚介類",10104,1275,"＜魚類＞　（かれい類）　子持ちがれい　生",123,19.899999999999999,6.2,0,20,0.2,12,0.19,0.2,4,0.2]
["魚介類",10105,1276,"＜魚類＞　（かれい類）　子持ちがれい　水煮",137,22.3,7.2,0,40,0.3,11,0.25,0.22,3,0.2]
["魚介類",10106,1277,"＜魚類＞　（かれい類）　干しかれい",104,20.2,3.4,0,40,0.1,2,0.25,0.1,1,1.1000000000000001]
["魚介類",10107,1278,"＜魚類＞　かわはぎ　生",77,18.8,0.4,0,13,0.2,2,0.02,7.0000000000000007E-2,0,0.3]
["魚介類",10108,1279,"＜魚類＞　かんぱち　三枚おろし　生",119,21,4.2,0,15,0.6,4,0.15,0.16,0,0.2]
["魚介類",10424,1280,"＜魚類＞　かんぱち　背側　生",95,22.2,1.2,0,6,0.4,4,0.15,0.08,1,0.1]
["魚介類",10109,1281,"＜魚類＞　きす　生",73,18.5,0.2,0,27,0.1,1,0.09,0.03,1,0.3]
["魚介類",10400,1282,"＜魚類＞　きす　天ぷら",234,18.399999999999999,15.2,0.7,90,0.2,3,0.09,0.06,1,0.3]
["魚介類",10110,1283,"＜魚類＞　きちじ　生",238,13.6,21.7,0,32,0.3,65,0.03,7.0000000000000007E-2,2,0.2]
["魚介類",10111,1284,"＜魚類＞　きびなご　生",85,18.8,1.4,0,100,1.1000000000000001,0,0.02,0.25,3,0.4]
["魚介類",10112,1285,"＜魚類＞　きびなご　調味干し",226,47.9,7.4,0,1400,5.9,0,0.02,0.64,1,6.6]
["魚介類",10113,1286,"＜魚類＞　キャビア　塩蔵品",242,26.2,17.100000000000001,0,8,2.4,60,0.01,1.31,4,4.0999999999999996]
["魚介類",10114,1287,"＜魚類＞　キングクリップ　生",73,18.2,0.1,0,47,0.3,5,0.03,7.0000000000000007E-2,1,0.4]
["魚介類",10115,1288,"＜魚類＞　ぎんだら　生",210,13.6,18.600000000000001,0,15,0.3,1500,0.05,0.1,0,0.2]
["魚介類",10401,1289,"＜魚類＞　ぎんだら　水煮",253,14.9,23.8,0,15,0.3,1800,0.04,0.08,0,0.2]
["魚介類",10116,1290,"＜魚類＞　きんめだい　生",147,17.8,9,0,31,0.3,63,0.03,0.05,1,0.1]
["魚介類",10117,1291,"＜魚類＞　ぐち　生",78,18,0.8,0,37,0.4,5,0.04,0.28000000000000003,0,0.2]
["魚介類",10118,1292,"＜魚類＞　ぐち　焼き",100,23.4,0.8,0,51,0.6,7,0.05,0.25,0,0.4]
["魚介類",10119,1293,"＜魚類＞　こい　養殖　生",157,17.7,10.199999999999999,0,9,0.5,4,0.46,0.18,0,0.1]
["魚介類",10120,1294,"＜魚類＞　こい　養殖　水煮",190,19.2,13.4,0,13,0.6,3,0.37,0.17,1,0.1]
["魚介類",10121,1295,"＜魚類＞　こい　養殖　内臓　生",258,9,25.9,0,9,3.1,500,7.0000000000000007E-2,0.54,2,0.2]
["魚介類",10122,1296,"＜魚類＞　（こち類）　まごち　生",94,22.5,0.5,0,51,0.2,1,7.0000000000000007E-2,0.17,1,0.3]
["魚介類",10123,1297,"＜魚類＞　（こち類）　めごち　生",73,17.100000000000001,0.6,0,40,0.2,2,0.02,0.08,0,0.4]
["魚介類",10124,1298,"＜魚類＞　このしろ　生",146,19,8.3000000000000007,0,190,1.3,0,0,0.17,0,0.4]
["魚介類",10125,1299,"＜魚類＞　このしろ　甘酢漬",184,19.100000000000001,10.1,0,160,1.8,0,0,0.17,0,2.2999999999999998]
["魚介類",10126,1300,"＜魚類＞　（さけ・ます類）　からふとます　生",139,21.7,6.6,0,13,0.4,13,0.25,0.18,1,0.2]
["魚介類",10127,1301,"＜魚類＞　（さけ・ます類）　からふとます　焼き",175,28.1,7.7,0,20,0.6,15,0.24,0.27,1,0.2]
["魚介類",10128,1302,"＜魚類＞　（さけ・ます類）　からふとます　塩ます",146,20.9,7.4,0,27,0.4,19,0.21,0.17,1,5.8]
["魚介類",10129,1303,"＜魚類＞　（さけ・ます類）　からふとます　水煮缶詰",145,20.7,7.2,0,110,1.5,0,0.15,0.13,0,0.9]
["魚介類",10130,1304,"＜魚類＞　（さけ・ます類）　ぎんざけ　養殖　生",188,19.600000000000001,12.8,0,12,0.3,36,0.15,0.14000000000000001,1,0.1]
["魚介類",10131,1305,"＜魚類＞　（さけ・ます類）　ぎんざけ　養殖　焼き",236,25.2,15.8,0,16,0.4,37,0.13,0.19,1,0.2]
["魚介類",10132,1306,"＜魚類＞　（さけ・ます類）　さくらます　生",146,20.9,7.7,0,15,0.4,63,0.11,0.14000000000000001,1,0.1]
["魚介類",10133,1307,"＜魚類＞　（さけ・ます類）　さくらます　焼き",208,28.4,12,0,26,0.5,55,0.12,0.23,1,0.2]
["魚介類",10134,1308,"＜魚類＞　（さけ・ます類）　しろさけ　生",124,22.3,4.0999999999999996,0,14,0.5,11,0.15,0.21,1,0.2]
["魚介類",10135,1309,"＜魚類＞　（さけ・ます類）　しろさけ　水煮",142,25.5,4.7,0,19,0.6,13,0.15,0.23,0,0.2]
["魚介類",10136,1310,"＜魚類＞　（さけ・ます類）　しろさけ　焼き",160,29.1,5.0999999999999996,0,19,0.6,14,0.17,0.26,1,0.2]
["魚介類",10137,1311,"＜魚類＞　（さけ・ます類）　しろさけ　新巻き　生",138,22.8,6.1,0,28,1,0,0.18,0.2,1,3]
["魚介類",10138,1312,"＜魚類＞　（さけ・ます類）　しろさけ　新巻き　焼き",177,29.3,7.9,0,44,1.7,0,0.22,0.24,1,2.1]
["魚介類",10139,1313,"＜魚類＞　（さけ・ます類）　しろさけ　塩ざけ",183,22.4,11.1,0,16,0.3,24,0.14000000000000001,0.15,1,1.8]
["魚介類",10140,1314,"＜魚類＞　（さけ・ます類）　しろさけ　イクラ",252,32.6,15.6,0,94,2,330,0.42,0.55000000000000004,6,2.2999999999999998]
["魚介類",10141,1315,"＜魚類＞　（さけ・ます類）　しろさけ　すじこ",263,30.5,17.399999999999999,0,62,2.7,670,0.42,0.61,9,4.8]
["魚介類",10142,1316,"＜魚類＞　（さけ・ます類）　しろさけ　めふん",74,16.899999999999999,0.9,0,35,6.8,250,0,6.38,0,14.7]
["魚介類",10143,1317,"＜魚類＞　（さけ・ます類）　しろさけ　水煮缶詰",156,21.2,8.5,0,190,0.4,0,0.15,0.12,0,0.6]
["魚介類",10447,1318,"＜魚類＞　（さけ・ます類）　しろさけ　サケ節　削り節",346,77.400000000000006,3.4,0,51,2,3,0.04,0.52,0,0.8]
["魚介類",10144,1319,"＜魚類＞　（さけ・ます類）　たいせいようさけ　養殖　皮つき　生",218,20.100000000000001,16.5,0,9,0.3,14,0.23,0.1,2,0.1]
["魚介類",10433,1320,"＜魚類＞　（さけ・ます類）　たいせいようさけ　養殖　皮つき　水煮",236,22.5,18.399999999999999,0,12,0.3,15,0.26,0.1,1,0.1]
["魚介類",10434,1321,"＜魚類＞　（さけ・ます類）　たいせいようさけ　養殖　皮つき　蒸し",230,23.8,15.8,0,10,0.3,16,0.25,0.11,2,0.1]
["魚介類",10435,1322,"＜魚類＞　（さけ・ます類）　たいせいようさけ　養殖　皮つき　電子レンジ調理",223,22.9,15.4,0,8,0.3,18,0.28999999999999998,0.11,2,0.1]
["魚介類",10145,1323,"＜魚類＞　（さけ・ます類）　たいせいようさけ　養殖　皮つき　焼き",270,24.5,19.7,0,17,0.3,17,0.24,0.13,3,0.1]
["魚介類",10436,1324,"＜魚類＞　（さけ・ます類）　たいせいようさけ　養殖　皮つき　ソテー",266,25.2,20.399999999999999,0,10,0.3,22,0.31,0.13,2,0.1]
["魚介類",10437,1325,"＜魚類＞　（さけ・ます類）　たいせいようさけ　養殖　皮つき　天ぷら",282,21,20.100000000000001,0,27,0.4,6,0.27,0.14000000000000001,2,0.2]
["魚介類",10438,1326,"＜魚類＞　（さけ・ます類）　たいせいようさけ　養殖　皮なし　生",223,19.600000000000001,17,0,5,0.3,14,0.24,0.08,2,0.1]
["魚介類",10439,1327,"＜魚類＞　（さけ・ます類）　たいせいようさけ　養殖　皮なし　水煮",244,22.7,17.899999999999999,0,5,0.3,16,0.27,0.1,2,0.1]
["魚介類",10440,1328,"＜魚類＞　（さけ・ます類）　たいせいようさけ　養殖　皮なし　蒸し",228,23.2,15.8,0,13,0.3,17,0.25,0.1,2,0.1]
["魚介類",10441,1329,"＜魚類＞　（さけ・ます類）　たいせいようさけ　養殖　皮なし　電子レンジ調理",231,22.7,16.5,0,6,0.3,22,0.28999999999999998,0.11,2,0.1]
["魚介類",10442,1330,"＜魚類＞　（さけ・ます類）　たいせいようさけ　養殖　皮なし　焼き",229,23.9,15.7,0,5,0.3,21,0.25,0.11,1,0.1]
["魚介類",10443,1331,"＜魚類＞　（さけ・ます類）　たいせいようさけ　養殖　皮なし　ソテー",269,25.8,21,0,7,0.3,22,0.31,0.13,2,0.1]
["魚介類",10444,1332,"＜魚類＞　（さけ・ます類）　たいせいようさけ　養殖　皮なし　天ぷら",266,20,18.600000000000001,0,27,0.3,5,0.27,0.13,2,0.2]
["魚介類",10146,1333,"＜魚類＞　（さけ・ます類）　にじます　海面養殖　皮つき　生",201,21.4,14.2,0,13,0.3,57,0.17,0.1,2,0.2]
["魚介類",10402,1334,"＜魚類＞　（さけ・ます類）　にじます　海面養殖　皮なし　生",176,20.5,10.8,0,8,0.3,27,0.21,0.12,3,0.1]
["魚介類",10147,1335,"＜魚類＞　（さけ・ます類）　にじます　海面養殖　皮つき　焼き",238,27.2,15.8,0,22,0.3,74,0.2,0.15,5,0.2]
["魚介類",10148,1336,"＜魚類＞　（さけ・ます類）　にじます　淡水養殖　皮つき　生",116,19.7,4.5999999999999996,0,24,0.2,17,0.21,0.1,2,0.1]
["魚介類",10149,1337,"＜魚類＞　（さけ・ます類）　べにざけ　生",127,22.5,4.5,0,10,0.4,27,0.26,0.15,0,0.1]
["魚介類",10150,1338,"＜魚類＞　（さけ・ます類）　べにざけ　焼き",163,28.5,6,0,16,0.5,35,0.27,0.22,2,0.2]
["魚介類",10151,1339,"＜魚類＞　（さけ・ます類）　べにざけ　くん製",143,25.7,5.5,0,19,0.8,43,0.23,0.23,0,3.8]
["魚介類",10152,1340,"＜魚類＞　（さけ・ます類）　ますのすけ　生",176,19.5,12.5,0,18,0.3,160,0.13,0.12,1,0.1]
["魚介類",10153,1341,"＜魚類＞　（さけ・ます類）　ますのすけ　焼き",238,26.4,16.7,0,30,0.4,200,0.14000000000000001,0.2,0,0.1]
["魚介類",10154,1342,"＜魚類＞　（さば類）　まさば　生",211,20.6,16.8,0,6,1.2,37,0.21,0.31,1,0.3]
["魚介類",10155,1343,"＜魚類＞　（さば類）　まさば　水煮",253,22.6,22.6,0,7,1.3,31,0.25,0.3,0,0.2]
["魚介類",10156,1344,"＜魚類＞　（さば類）　まさば　焼き",264,25.2,22.4,0,10,1.6,34,0.3,0.37,0,0.3]
["魚介類",10403,1345,"＜魚類＞　（さば類）　まさば　フライ",316,20,25.1,0,14,1.3,42,0.2,0.3,0,0.3]
["魚介類",10157,1346,"＜魚類＞　（さば類）　まさば　さば節",330,73.900000000000006,5.0999999999999996,0,860,7.2,0,0.25,0.85,0,0.9]
["魚介類",10404,1347,"＜魚類＞　（さば類）　ごまさば　生",131,23,5.0999999999999996,0,12,1.6,8,0.17,0.28000000000000003,0,0.2]
["魚介類",10405,1348,"＜魚類＞　（さば類）　ごまさば　水煮",139,24.8,5.2,0,13,1.8,8,0.15,0.28000000000000003,0,0.1]
["魚介類",10406,1349,"＜魚類＞　（さば類）　ごまさば　焼き",174,31.1,6.6,0,19,2.2000000000000002,11,0.21,0.36,0,0.2]
["魚介類",10158,1350,"＜魚類＞　（さば類）　たいせいようさば　生",295,17.2,26.8,0,7,0.9,44,0.14000000000000001,0.35,1,0.3]
["魚介類",10159,1351,"＜魚類＞　（さば類）　たいせいようさば　水煮",310,18.600000000000001,28.5,0,9,1,42,0.19,0.34,0,0.2]
["魚介類",10160,1352,"＜魚類＞　（さば類）　たいせいようさば　焼き",326,21.8,29.3,0,12,1.2,63,0.22,0.38,0,0.3]
["魚介類",10161,1353,"＜魚類＞　（さば類）　加工品　塩さば",263,26.2,19.100000000000001,0,27,2,9,0.16,0.59,0,1.8]
["魚介類",10162,1354,"＜魚類＞　（さば類）　加工品　開き干し",303,18.7,28.5,0,25,2,9,0.13,0.59,0,1.7]
["魚介類",10163,1355,"＜魚類＞　（さば類）　加工品　しめさば",292,18.600000000000001,26.9,0,9,1.1000000000000001,14,0.13,0.28000000000000003,0,1.6]
["魚介類",10164,1356,"＜魚類＞　（さば類）　缶詰　水煮",174,20.9,10.7,0,260,1.6,0,0.15,0.4,0,0.9]
["魚介類",10165,1357,"＜魚類＞　（さば類）　缶詰　みそ煮",210,16.3,13.9,0,210,2,42,0.04,0.37,0,1.1000000000000001]
["魚介類",10166,1358,"＜魚類＞　（さば類）　缶詰　味付け",208,21.4,12.6,0,180,2,31,0.03,0.27,0,1.3]
["魚介類",10167,1359,"＜魚類＞　（さめ類）　あぶらつのざめ　生",138,16.8,9.4,0,6,1,210,0.04,0.08,0,0.3]
["魚介類",10168,1360,"＜魚類＞　（さめ類）　よしきりざめ　生",79,18.899999999999999,0.6,0,5,0.4,9,0.11,0.11,0,0.5]
["魚介類",10169,1361,"＜魚類＞　（さめ類）　ふかひれ",344,83.9,1.6,0,65,1.2,0,0,0,0,0.5]
["魚介類",10170,1362,"＜魚類＞　さより　生",88,19.600000000000001,1.3,0,41,0.3,0,0,0.12,2,0.5]
["魚介類",10171,1363,"＜魚類＞　さわら　生",161,20.100000000000001,9.6999999999999993,0,13,0.8,12,0.09,0.35,0,0.2]
["魚介類",10172,1364,"＜魚類＞　さわら　焼き",184,23.6,10.8,0,22,0.9,16,0.09,0.34,0,0.2]
["魚介類",10173,1365,"＜魚類＞　さんま　皮つき　生",287,18.100000000000001,25.6,0,28,1.4,16,0.01,0.28000000000000003,0,0.4]
["魚介類",10407,1366,"＜魚類＞　さんま　皮なし　生",277,17.8,25,0,15,1.3,26,0,0.32,1,0.3]
["魚介類",10174,1367,"＜魚類＞　さんま　皮つき　焼き",281,23.3,22.8,0,37,1.7,11,0,0.3,0,0.3]
["魚介類",10175,1368,"＜魚類＞　さんま　開き干し",232,19.3,19,0,60,1.1000000000000001,25,0,0.3,0,1.3]
["魚介類",10176,1369,"＜魚類＞　さんま　みりん干し",382,23.9,25.8,0,120,2.2000000000000002,31,0,0.3,0,3.6]
["魚介類",10177,1370,"＜魚類＞　さんま　缶詰　味付け",259,18.899999999999999,18.899999999999999,0,280,1.9,25,0,0.2,0,1.4]
["魚介類",10178,1371,"＜魚類＞　さんま　缶詰　かば焼",219,17.399999999999999,13,0,250,2.9,28,0,0.27,0,1.5]
["魚介類",10179,1372,"＜魚類＞　しいら　生",100,21.3,1.9,0,13,0.7,8,0.2,0.15,1,0.1]
["魚介類",10180,1373,"＜魚類＞　（ししゃも類）　ししゃも　生干し　生",152,21,8.1,0,330,1.6,100,0.02,0.25,1,1.2]
["魚介類",10181,1374,"＜魚類＞　（ししゃも類）　ししゃも　生干し　焼き",162,24.3,7.8,0,360,1.7,76,0.04,0.28999999999999998,1,1.6]
["魚介類",10182,1375,"＜魚類＞　（ししゃも類）　からふとししゃも　生干し　生",160,15.6,11.6,0,350,1.4,120,0,0.31,1,1.5]
["魚介類",10183,1376,"＜魚類＞　（ししゃも類）　からふとししゃも　生干し　焼き",170,18.2,11.3,0,380,1.6,90,0.01,0.37,1,2]
["魚介類",10184,1377,"＜魚類＞　したびらめ　生",87,19.2,1.6,0,36,0.3,30,0.06,0.14000000000000001,1,0.4]
["魚介類",10185,1378,"＜魚類＞　しまあじ　養殖　生",147,21.9,8,0,16,0.7,10,0.25,0.15,0,0.1]
["魚介類",10186,1379,"＜魚類＞　しらうお　生",70,13.6,2,0,150,0.4,50,0.08,0.1,4,0.4]
["魚介類",10187,1380,"＜魚類＞　シルバー　生",138,18.600000000000001,7.9,0,11,0.6,100,0.08,0.18,0,0.2]
["魚介類",10188,1381,"＜魚類＞　すずき　生",113,19.8,4.2,0,12,0.2,180,0.02,0.2,3,0.2]
["魚介類",10189,1382,"＜魚類＞　（たい類）　きだい　生",100,18.600000000000001,3.1,0,23,0.2,50,0.03,0.04,1,0.2]
["魚介類",10190,1383,"＜魚類＞　（たい類）　くろだい　生",137,20.399999999999999,6.7,0,13,0.3,12,0.12,0.3,3,0.1]
["魚介類",10191,1384,"＜魚類＞　（たい類）　ちだい　生",97,19.399999999999999,2.4,0,33,0.6,21,0.03,0.1,2,0.2]
["魚介類",10192,1385,"＜魚類＞　（たい類）　まだい　天然　生",129,20.6,5.8,0,11,0.2,8,0.09,0.05,1,0.1]
["魚介類",10193,1386,"＜魚類＞　（たい類）　まだい　養殖　皮つき　生",160,20.9,9.4,0,12,0.2,11,0.32,0.08,3,0.1]
["魚介類",10194,1387,"＜魚類＞　（たい類）　まだい　養殖　皮つき　水煮",182,22.2,11.9,0,20,0.2,10,0.16,7.0000000000000007E-2,2,0.1]
["魚介類",10195,1388,"＜魚類＞　（たい類）　まだい　養殖　皮つき　焼き",186,22.7,12,0,24,0.2,17,0.14000000000000001,0.09,3,0.1]
["魚介類",10408,1389,"＜魚類＞　（たい類）　まだい　養殖　皮なし　生",131,21.2,5.9,0,7,0.2,10,0.31,0.08,3,0.1]
["魚介類",10196,1390,"＜魚類＞　たかさご　生",93,20.2,1.5,0,51,0.5,7,0.03,7.0000000000000007E-2,0,0.1]
["魚介類",10197,1391,"＜魚類＞　たかべ　生",148,18.7,9,0,41,0.6,16,0.06,0.18,1,0.3]
["魚介類",10198,1392,"＜魚類＞　たちうお　生",238,16.5,20.9,0,12,0.2,52,0.01,7.0000000000000007E-2,1,0.2]
["魚介類",10199,1393,"＜魚類＞　（たら類）　すけとうだら　生",72,17.399999999999999,1,0,13,0.2,10,0.05,0.11,1,0.3]
["魚介類",10409,1394,"＜魚類＞　（たら類）　すけとうだら　フライ",195,19.2,11.9,0,34,0.4,18,0.05,0.13,0,0.4]
["魚介類",10200,1395,"＜魚類＞　（たら類）　すけとうだら　すり身",98,17.5,0.2,0,7,0.1,5,0.03,0.05,0,0.3]
["魚介類",10201,1396,"＜魚類＞　（たら類）　すけとうだら　すきみだら",165,40.5,0.3,0,130,1.9,0,0.13,0.18,0,18.8]
["魚介類",10202,1397,"＜魚類＞　（たら類）　すけとうだら　たらこ　生",131,24,4.7,0,24,0.6,24,0.71,0.43,33,4.5999999999999996]
["魚介類",10203,1398,"＜魚類＞　（たら類）　すけとうだら　たらこ　焼き",158,28.3,6.1,0,27,0.7,34,0.77,0.53,21,5.3]
["魚介類",10204,1399,"＜魚類＞　（たら類）　すけとうだら　からしめんたいこ",121,21,3.3,0,23,0.7,41,0.34,0.33,76,5.6]
["魚介類",10205,1400,"＜魚類＞　（たら類）　まだら　生",72,17.600000000000001,0.2,0,32,0.2,10,0.1,0.1,0,0.3]
["魚介類",10206,1401,"＜魚類＞　（たら類）　まだら　焼き",103,25.2,0.2,0,48,0.4,9,0.09,0.12,0,0.4]
["魚介類",10207,1402,"＜魚類＞　（たら類）　まだら　しらこ　生",60,13.4,0.8,0,6,0.2,8,0.24,0.13,2,0.3]
["魚介類",10208,1403,"＜魚類＞　（たら類）　まだら　塩だら",61,15.2,0.1,0,23,0.3,0,0.13,0.2,0,2]
["魚介類",10209,1404,"＜魚類＞　（たら類）　まだら　干しだら",299,73.2,0.8,0,80,0.1,0,0.2,0.3,0,3.8]
["魚介類",10210,1405,"＜魚類＞　（たら類）　加工品　でんぶ",276,25.5,1.1000000000000001,0,260,1.3,0,0.04,0.08,0,4.2]
["魚介類",10448,1406,"＜魚類＞　（たら類）　加工品　桜でんぶ",351,10.6,0.5,0,300,0.4,2,0.01,0.01,0,2.4]
["魚介類",10211,1407,"＜魚類＞　ちか　生",82,19.5,0.6,0,35,0.3,4,0,0.14000000000000001,0,0.6]
["魚介類",10213,1408,"＜魚類＞　どじょう　生",72,16.100000000000001,1.2,0,1100,5.6,15,0.09,1.0900000000000001,1,0.2]
["魚介類",10214,1409,"＜魚類＞　どじょう　水煮",76,17.100000000000001,1.2,0,1200,6.4,15,0.08,1,0,0.3]
["魚介類",10215,1410,"＜魚類＞　とびうお　生",89,21,0.7,0,13,0.5,3,0.01,0.1,1,0.2]
["魚介類",10421,1411,"＜魚類＞　とびうお　煮干し",325,80,2.2000000000000002,0,1200,2.2000000000000002,9,0,0.32,0,1.5]
["魚介類",10422,1412,"＜魚類＞　とびうお　焼き干し",309,73.400000000000006,3.3,0,3200,2.7,17,0,0.32,0,1.8]
["魚介類",10212,1413,"＜魚類＞　ナイルティラピア　生",124,19.8,5.3,0,29,0.5,3,0.04,0.2,1,0.2]
["魚介類",10216,1414,"＜魚類＞　なまず　生",139,18.399999999999999,8.6,0,18,0.4,71,0.33,0.1,0,0.1]
["魚介類",10217,1415,"＜魚類＞　にぎす　生",84,18.7,1.2,0,70,0.4,75,0.12,0.26,1,0.5]
["魚介類",10218,1416,"＜魚類＞　にしん　生",196,17.399999999999999,15.1,0,27,1,18,0.01,0.23,0,0.3]
["魚介類",10219,1417,"＜魚類＞　にしん　身欠きにしん",224,20.9,16.7,0,66,1.5,0,0.01,0.03,0,0.4]
["魚介類",10220,1418,"＜魚類＞　にしん　開き干し",239,18.5,19.7,0,25,1.9,0,0.01,0.03,0,0.9]
["魚介類",10221,1419,"＜魚類＞　にしん　くん製",280,23.1,22.1,0,150,3.5,0,0.01,0.35,0,9.9]
["魚介類",10222,1420,"＜魚類＞　にしん　かずのこ　生",139,25.2,6.7,0,50,1.2,15,0.15,0.22,0,0.8]
["魚介類",10223,1421,"＜魚類＞　にしん　かずのこ　乾",358,65.2,13.6,0,65,1.9,7,0,7.0000000000000007E-2,0,3.6]
["魚介類",10224,1422,"＜魚類＞　にしん　かずのこ　塩蔵　水戻し",80,15,3,0,8,0.4,2,0,0.01,0,1.2]
["魚介類",10225,1423,"＜魚類＞　はぜ　生",78,19.100000000000001,0.2,0,42,0.2,7,0.04,0.04,1,0.2]
["魚介類",10226,1424,"＜魚類＞　はぜ　つくだ煮",277,24.3,3,0,1200,12,160,0.11,0.41,0,5.6]
["魚介類",10227,1425,"＜魚類＞　はぜ　甘露煮",260,21.1,2.2000000000000002,0,980,4.2,22,0.05,0.11,0,3.8]
["魚介類",10228,1426,"＜魚類＞　はたはた　生",101,14.1,5.7,0,60,0.5,20,0.02,0.14000000000000001,0,0.5]
["魚介類",10229,1427,"＜魚類＞　はたはた　生干し",154,16.7,10.3,0,17,0.3,22,0.05,0.05,3,1.3]
["魚介類",10230,1428,"＜魚類＞　はまふえふき　生",85,20.5,0.3,0,43,0.3,8,0.15,7.0000000000000007E-2,0,0.2]
["魚介類",10231,1429,"＜魚類＞　はも　生",132,22.3,5.3,0,79,0.2,59,0.04,0.18,1,0.2]
["魚介類",10233,1430,"＜魚類＞　ひらまさ　生",128,22.6,4.9000000000000004,0,12,0.4,19,0.2,0.14000000000000001,3,0.1]
["魚介類",10234,1431,"＜魚類＞　ひらめ　天然　生",94,20,2,0,22,0.1,12,0.04,0.11,3,0.1]
["魚介類",10235,1432,"＜魚類＞　ひらめ　養殖　皮つき　生",115,21.6,3.7,0,30,0.1,19,0.12,0.34,5,0.1]
["魚介類",10410,1433,"＜魚類＞　ひらめ　養殖　皮なし　生",100,21.2,2.5,0,8,0.1,9,0.22,7.0000000000000007E-2,10,0.1]
["魚介類",10236,1434,"＜魚類＞　（ふぐ類）　とらふぐ　養殖　生",80,19.3,0.3,0,6,0.2,3,0.06,0.21,0,0.3]
["魚介類",10237,1435,"＜魚類＞　（ふぐ類）　まふぐ　生",78,18.899999999999999,0.4,0,5,0.2,7,0.04,0.17,0,0.2]
["魚介類",10238,1436,"＜魚類＞　ふな　生",93,18.2,2.5,0,100,1.5,12,0.55000000000000004,0.14000000000000001,1,0.1]
["魚介類",10239,1437,"＜魚類＞　ふな　水煮",104,20.3,2.8,0,140,1.5,15,0.49,0.12,0,0.1]
["魚介類",10240,1438,"＜魚類＞　ふな　甘露煮",266,15.5,3.6,0,1200,6.5,61,0.16,0.16,0,3.3]
["魚介類",10449,1439,"＜魚類＞　ふな　ふなずし",181,21.3,7.9,0,350,0.9,43,0,7.0000000000000007E-2,0,3.9]
["魚介類",10241,1440,"＜魚類＞　ぶり　成魚　生",222,21.4,17.600000000000001,0,5,1.3,50,0.23,0.36,2,0.1]
["魚介類",10242,1441,"＜魚類＞　ぶり　成魚　焼き",260,26.2,20.399999999999999,0,6,2.2999999999999998,42,0.24,0.39,2,0.1]
["魚介類",10243,1442,"＜魚類＞　ぶり　はまち　養殖　皮つき　生",217,20.7,17.2,0,19,1,32,0.16,0.21,2,0.1]
["魚介類",10411,1443,"＜魚類＞　ぶり　はまち　養殖　皮なし　生",180,21,12,0,5,1.1000000000000001,41,0.17,0.23,3,0.1]
["魚介類",10244,1444,"＜魚類＞　ほうぼう　生",110,19.600000000000001,4.2,0,42,0.4,9,0.09,0.15,3,0.3]
["魚介類",10245,1445,"＜魚類＞　ホキ　生",78,17,1.3,0,20,0.3,43,0.03,0.16,0,0.4]
["魚介類",10246,1446,"＜魚類＞　ほっけ　生",103,17.3,4.4000000000000004,0,22,0.4,25,0.09,0.17,1,0.2]
["魚介類",10247,1447,"＜魚類＞　ほっけ　塩ほっけ",113,18.100000000000001,4.9000000000000004,0,20,0.5,20,0.1,0.27,0,3.6]
["魚介類",10248,1448,"＜魚類＞　ほっけ　開き干し　生",161,20.6,9.4,0,170,0.5,30,0.1,0.24,4,1.8]
["魚介類",10412,1449,"＜魚類＞　ほっけ　開き干し　焼き",179,23.1,10.9,0,180,0.6,39,0.14000000000000001,0.26,2,2]
["魚介類",10249,1450,"＜魚類＞　ぼら　生",119,19.2,5,0,17,0.7,8,0.16,0.26,1,0.2]
["魚介類",10250,1451,"＜魚類＞　ぼら　からすみ",353,40.4,28.9,0,9,1.5,350,0.01,0.93,10,3.6]
["魚介類",10251,1452,"＜魚類＞　ほんもろこ　生",100,17.5,4.0999999999999996,0,850,1.3,250,0.03,0.2,2,0.2]
["魚介類",10252,1453,"＜魚類＞　（まぐろ類）　きはだ　生",102,24.3,1,0,5,2,2,0.15,0.09,0,0.1]
["魚介類",10253,1454,"＜魚類＞　（まぐろ類）　くろまぐろ　天然　赤身　生",115,26.4,1.4,0,5,1.1000000000000001,83,0.1,0.05,2,0.1]
["魚介類",10254,1455,"＜魚類＞　（まぐろ類）　くろまぐろ　天然　脂身　生",308,20.100000000000001,27.5,0,7,1.6,270,0.04,7.0000000000000007E-2,4,0.2]
["魚介類",10450,1456,"＜魚類＞　（まぐろ類）　くろまぐろ　養殖　赤身　生",153,24.8,7.6,0,3,0.8,840,0.16,0.05,2,0.1]
["魚介類",10451,1457,"＜魚類＞　（まぐろ類）　くろまぐろ　養殖　赤身　水煮",173,27.2,8.3000000000000007,0,3,1,900,0.16,0.04,2,0.1]
["魚介類",10452,1458,"＜魚類＞　（まぐろ類）　くろまぐろ　養殖　赤身　蒸し",187,28,9.9,0,3,0.9,990,0.17,0.04,2,0.1]
["魚介類",10453,1459,"＜魚類＞　（まぐろ類）　くろまぐろ　養殖　赤身　電子レンジ調理",191,30.4,8.6999999999999993,0,4,1.1000000000000001,970,0.19,0.05,2,0.1]
["魚介類",10454,1460,"＜魚類＞　（まぐろ類）　くろまぐろ　養殖　赤身　焼き",202,29,10.6,0,3,0.9,1100,0.19,0.04,2,0.1]
["魚介類",10455,1461,"＜魚類＞　（まぐろ類）　くろまぐろ　養殖　赤身　ソテー",194,28,10.199999999999999,0,3,0.9,910,0.18,0.05,2,0.1]
["魚介類",10456,1462,"＜魚類＞　（まぐろ類）　くろまぐろ　養殖　赤身　天ぷら",222,25.1,12.6,0,13,1,820,0.17,0.06,1,0.1]
["魚介類",10255,1463,"＜魚類＞　（まぐろ類）　びんなが　生",111,26,0.7,0,9,0.9,4,0.13,0.1,1,0.1]
["魚介類",10256,1464,"＜魚類＞　（まぐろ類）　みなみまぐろ　赤身　生",88,21.6,0.4,0,5,1.8,6,0.03,0.05,0,0.1]
["魚介類",10257,1465,"＜魚類＞　（まぐろ類）　みなみまぐろ　脂身　生",322,20.3,28.3,0,9,0.6,34,0.1,0.06,5,0.1]
["魚介類",10258,1466,"＜魚類＞　（まぐろ類）　めじまぐろ　生",139,25.2,4.8,0,9,1.8,61,0.19,0.19,1,0.1]
["魚介類",10425,1467,"＜魚類＞　（まぐろ類） めばち　赤身　生",115,25.4,2.2999999999999998,0,3,0.9,17,0.09,0.05,1,0.1]
["魚介類",10426,1468,"＜魚類＞　（まぐろ類） めばち　脂身　生",158,23.9,7.5,0,4,0.7,37,7.0000000000000007E-2,0.05,1,0.3]
["魚介類",10260,1469,"＜魚類＞　（まぐろ類）　缶詰　水煮　フレーク　ライト",70,16,0.7,0,5,0.6,10,0.01,0.04,0,0.5]
["魚介類",10261,1470,"＜魚類＞　（まぐろ類）　缶詰　水煮　フレーク　ホワイト",96,18.3,2.5,0,6,1,0,7.0000000000000007E-2,0.03,0,0.7]
["魚介類",10262,1471,"＜魚類＞　（まぐろ類）　缶詰　味付け　フレーク",134,19,2.2999999999999998,0,24,4,0,7.0000000000000007E-2,0.03,0,1.9]
["魚介類",10263,1472,"＜魚類＞　（まぐろ類）　缶詰　油漬　フレーク　ライト",265,17.7,21.7,0,4,0.5,8,0.01,0.03,0,0.9]
["魚介類",10264,1473,"＜魚類＞　（まぐろ類）　缶詰　油漬　フレーク　ホワイト",279,18.8,23.6,0,2,1.8,0,0.05,0.13,0,0.9]
["魚介類",10265,1474,"＜魚類＞　マジェランあいなめ　生",243,13.3,22.9,0,10,0.1,1800,0.02,0.08,0,0.2]
["魚介類",10266,1475,"＜魚類＞　まながつお　生",156,17.100000000000001,10.9,0,21,0.3,90,0.22,0.13,1,0.4]
["魚介類",10232,1476,"＜魚類＞　みなみくろたち　生",112,21.7,3,0,22,0.6,55,0.06,0.2,1,0.3]
["魚介類",10267,1477,"＜魚類＞　みなみだら　生",68,16.399999999999999,0.3,0,23,0.3,6,0.03,0.27,0,0.6]
["魚介類",10268,1478,"＜魚類＞　むつ　生",175,16.7,12.6,0,25,0.5,8,0.03,0.16,0,0.2]
["魚介類",10269,1479,"＜魚類＞　むつ　水煮",161,22.2,8.4,0,49,0.6,11,0.04,0.16,0,0.2]
["魚介類",10270,1480,"＜魚類＞　めじな　生",113,19.399999999999999,4.5,0,27,0.3,55,0.05,0.38,0,0.2]
["魚介類",10271,1481,"＜魚類＞　めばる　生",100,18.100000000000001,3.5,0,80,0.4,11,7.0000000000000007E-2,0.17,2,0.2]
["魚介類",10272,1482,"＜魚類＞　メルルーサ　生",73,17,0.6,0,12,0.2,5,0.09,0.04,0,0.4]
["魚介類",10273,1483,"＜魚類＞　やつめうなぎ　生",245,15.8,21.8,0,7,2,8200,0.25,0.85,2,0.1]
["魚介類",10274,1484,"＜魚類＞　やつめうなぎ　干しやつめ",449,50.3,31.2,0,16,32,1900,0.33,1.69,0,0.3]
["魚介類",10275,1485,"＜魚類＞　やまめ　養殖　生",108,18.399999999999999,4.3,0,85,0.5,15,0.15,0.16,3,0.1]
["魚介類",10276,1486,"＜魚類＞　わかさぎ　生",71,14.4,1.7,0,450,0.9,99,0.01,0.14000000000000001,1,0.5]
["魚介類",10277,1487,"＜魚類＞　わかさぎ　つくだ煮",308,28.7,5.5,0,970,2.6,460,0.24,0.32,0,4.8]
["魚介類",10278,1488,"＜魚類＞　わかさぎ　あめ煮",301,26.3,5.0999999999999996,0,960,2.1,420,0.28000000000000003,0.35,0,4.0999999999999996]
["魚介類",10279,1489,"＜貝類＞　あかがい　生",70,13.5,0.3,0,40,5,35,0.2,0.2,2,0.8]
["魚介類",10280,1490,"＜貝類＞　あげまき　生",44,8.1,0.6,0,66,4.0999999999999996,27,0.3,0.14000000000000001,1,1.5]
["魚介類",10281,1491,"＜貝類＞　あさり　生",27,6,0.3,0,66,3.8,4,0.02,0.16,1,2.2000000000000002]
["魚介類",10282,1492,"＜貝類＞　あさり　つくだ煮",218,20.8,2.4,0,260,19,43,0.02,0.18,0,7.4]
["魚介類",10283,1493,"＜貝類＞　あさり　缶詰　水煮",102,20.3,2.2000000000000002,0,110,30,6,0,0.09,0,1]
["魚介類",10284,1494,"＜貝類＞　あさり　缶詰　味付け",124,16.600000000000001,1.9,0,87,28,6,0,0.06,0,1.6]
["魚介類",10427,1495,"＜貝類＞　あわび　くろあわび　生",76,14.3,0.8,0,25,2.2000000000000002,1,0.15,0.09,1,1.1000000000000001]
["魚介類",10428,1496,"＜貝類＞　あわび　まだかあわび　生",74,14.6,0.4,0,21,1.8,2,0.02,0.1,2,0.8]
["魚介類",10429,1497,"＜貝類＞　あわび　めがいあわび　生",74,12.2,0.3,0,19,0.7,1,0.16,0.09,1,0.8]
["魚介類",10286,1498,"＜貝類＞　あわび　干し",257,38,1.6,0,39,2,4,0.36,0.11,0,7.4]
["魚介類",10287,1499,"＜貝類＞　あわび　塩辛",93,14.8,3.9,0,55,34,58,0.2,0.7,0,6.6]
["魚介類",10288,1500,"＜貝類＞　あわび　水煮缶詰",85,19.399999999999999,0.4,0,20,1.8,0,0.04,0.04,0,1.4]
["魚介類",10289,1501,"＜貝類＞　いがい　生",63,10.3,1.6,0,43,3.5,34,0.01,0.37,5,1.4]
["魚介類",10290,1502,"＜貝類＞　いたやがい　養殖　生",55,10.8,0.8,0,48,2,6,0,0.2,0,1.1000000000000001]
["魚介類",10291,1503,"＜貝類＞　エスカルゴ　水煮缶詰",75,16.5,1,0,400,3.9,0,0,0.09,0,0.7]
["魚介類",10292,1504,"＜貝類＞　かき　養殖　生",58,6.9,2.2000000000000002,0,84,2.1,24,7.0000000000000007E-2,0.14000000000000001,3,1.2]
["魚介類",10293,1505,"＜貝類＞　かき　養殖　水煮",90,9.9,3.6,0,59,2.9,43,7.0000000000000007E-2,0.15,3,0.9]
["魚介類",10430,1506,"＜貝類＞　かき　養殖　フライ",256,7.6,11.1,0,67,1.8,19,7.0000000000000007E-2,0.16,2,1]
["魚介類",10294,1507,"＜貝類＞　かき　くん製油漬缶詰",288,12.5,22.6,0,35,4.5,2,0.05,0.09,0,0.8]
["魚介類",10295,1508,"＜貝類＞　さざえ　生",83,19.399999999999999,0.4,0,22,0.8,31,0.04,0.09,1,0.6]
["魚介類",10296,1509,"＜貝類＞　さざえ　焼き",91,21.3,0.4,0,29,0.9,44,0.04,0.1,1,0.7]
["魚介類",10318,1510,"＜貝類＞　さるぼう　味付け缶詰",124,15.9,2.2000000000000002,0,60,11,8,0.01,7.0000000000000007E-2,0,2.2000000000000002]
["魚介類",10297,1511,"＜貝類＞　しじみ　生",54,7.5,1.4,0,240,8.3000000000000007,33,0.02,0.44,2,0.4]
["魚介類",10413,1512,"＜貝類＞　しじみ　水煮",95,15.4,2.7,0,250,15,76,0.02,0.56999999999999995,1,0.3]
["魚介類",10298,1513,"＜貝類＞　たいらがい　貝柱　生",94,21.8,0.2,0,16,0.6,0,0.01,0.09,2,0.7]
["魚介類",10299,1514,"＜貝類＞　たにし　生",73,13,1.1000000000000001,0,1300,19,95,0.11,0.32,0,0.1]
["魚介類",10300,1515,"＜貝類＞　つぶ　生",82,17.8,0.2,0,60,1.3,2,0,0.12,0,1]
["魚介類",10301,1516,"＜貝類＞　とこぶし　生",78,16,0.4,0,24,1.8,5,0.15,0.14000000000000001,1,0.7]
["魚介類",10303,1517,"＜貝類＞　とりがい　斧足　生",81,12.9,0.3,0,19,2.9,0,0.16,0.06,1,0.3]
["魚介類",10304,1518,"＜貝類＞　ばい　生",81,16.3,0.6,0,44,0.7,1,0.03,0.14000000000000001,2,0.6]
["魚介類",10305,1519,"＜貝類＞　ばかがい　生",56,10.9,0.5,0,42,1.1000000000000001,5,0.14000000000000001,0.06,1,0.8]
["魚介類",10306,1520,"＜貝類＞　（はまぐり類）　はまぐり　生",35,6.1,0.6,0,130,2.1,9,0.08,0.16,1,2]
["魚介類",10307,1521,"＜貝類＞　（はまぐり類）　はまぐり　水煮",79,14.9,1.5,0,130,3.9,16,0.15,0.27,1,1.2]
["魚介類",10308,1522,"＜貝類＞　（はまぐり類）　はまぐり　焼き",70,13.3,1,0,140,3.3,16,0.13,0.28999999999999998,2,2]
["魚介類",10309,1523,"＜貝類＞　（はまぐり類）　はまぐり　つくだ煮",211,27,2.8,0,120,7.2,0,0.02,0.1,0,7.1]
["魚介類",10310,1524,"＜貝類＞　（はまぐり類）　ちょうせんはまぐり　生",41,6.5,1,0,160,5.0999999999999996,6,0.13,0.12,1,1.3]
["魚介類",10311,1525,"＜貝類＞　ほたてがい　生",66,13.5,0.9,0,22,2.2000000000000002,23,0.05,0.28999999999999998,3,0.8]
["魚介類",10312,1526,"＜貝類＞　ほたてがい　水煮",89,17.600000000000001,1.9,0,24,2.8,34,0.04,0.28999999999999998,2,0.6]
["魚介類",10313,1527,"＜貝類＞　ほたてがい　貝柱　生",82,16.899999999999999,0.3,0,7,0.2,1,0.01,0.06,2,0.3]
["魚介類",10414,1528,"＜貝類＞　ほたてがい　貝柱　焼き",123,23.8,0.3,0,13,0.3,1,0.01,0.08,1,0.4]
["魚介類",10314,1529,"＜貝類＞　ほたてがい　貝柱　煮干し",301,65.7,1.4,0,34,1.2,0,0.12,0.3,0,6.4]
["魚介類",10315,1530,"＜貝類＞　ほたてがい　貝柱　水煮缶詰",87,19.5,0.6,0,50,0.7,0,0,0.05,0,1]
["魚介類",10316,1531,"＜貝類＞　ほっきがい　生",66,11.1,1.1000000000000001,0,62,4.4000000000000004,7,0.01,0.16,2,0.6]
["魚介類",10317,1532,"＜貝類＞　みるがい　水管　生",77,18.3,0.4,0,55,3.3,0,0,0.14000000000000001,1,0.8]
["魚介類",10319,1533,"＜えび・かに類＞　（えび類）　あまえび　生",85,19.8,1.5,0,50,0.1,3,0.02,0.03,0,0.8]
["魚介類",10320,1534,"＜えび・かに類＞　（えび類）　いせえび　生",86,20.9,0.4,0,37,0.1,0,0.01,0.03,1,0.9]
["魚介類",10321,1535,"＜えび・かに類＞　（えび類）　くるまえび　養殖　生",90,21.6,0.6,0,41,0.7,4,0.11,0.06,0,0.4]
["魚介類",10322,1536,"＜えび・かに類＞　（えび類）　くるまえび　養殖　ゆで",116,28.2,0.5,0,61,1,5,0.09,0.05,0,0.5]
["魚介類",10323,1537,"＜えび・かに類＞　（えび類）　くるまえび　養殖　焼き",97,23.5,0.4,0,55,1.4,4,0.11,0.05,1,0.5]
["魚介類",10431,1538,"＜えび・かに類＞　（えび類）　さくらえび　生",78,16.600000000000001,2,0,630,0.3,2,0.1,0.08,1,0.7]
["魚介類",10324,1539,"＜えび・かに類＞　（えび類）　さくらえび　ゆで",79,18.2,1.5,0,690,0.5,7,0.1,0.08,0,2.1]
["魚介類",10325,1540,"＜えび・かに類＞　（えび類）　さくらえび　素干し",278,64.900000000000006,4,0,2000,3.2,0,0.17,0.15,0,3]
["魚介類",10326,1541,"＜えび・かに類＞　（えび類）　さくらえび　煮干し",247,59.1,2.5,0,1500,3,0,0.16,0.11,0,8.6]
["魚介類",10327,1542,"＜えび・かに類＞　（えび類）　大正えび　生",89,21.7,0.3,0,34,0.1,6,0.03,0.04,1,0.5]
["魚介類",10328,1543,"＜えび・かに類＞　（えび類）　しばえび　生",78,18.7,0.4,0,56,1,4,0.02,0.06,2,0.6]
["魚介類",10415,1544,"＜えび・かに類＞　（えび類）　バナメイえび　養殖　生",82,19.600000000000001,0.6,0,68,1.4,0,0.03,0.04,1,0.3]
["魚介類",10416,1545,"＜えび・かに類＞　（えび類）　バナメイえび　養殖　天ぷら",194,20,10.3,0.9,96,0.5,1,0.04,0.06,0,0.3]
["魚介類",10329,1546,"＜えび・かに類＞　（えび類）　ブラックタイガー　養殖　生",77,18.399999999999999,0.3,0,67,0.2,1,7.0000000000000007E-2,0.03,0,0.4]
["魚介類",10330,1547,"＜えび・かに類＞　（えび類）　加工品　干しえび",207,48.6,2.8,0,7100,15,14,0.1,0.19,0,3.8]
["魚介類",10331,1548,"＜えび・かに類＞　（えび類）　加工品　つくだ煮",239,25.9,2.2000000000000002,0,1800,3.9,0,0.14000000000000001,0.11,0,4.8]
["魚介類",10332,1549,"＜えび・かに類＞　（かに類）　がざみ　生",61,14.4,0.3,0,110,0.3,1,0.02,0.15,0,0.9]
["魚介類",10333,1550,"＜えび・かに類＞　（かに類）　毛がに　生",67,15.8,0.5,0,61,0.5,0,7.0000000000000007E-2,0.23,0,0.6]
["魚介類",10334,1551,"＜えび・かに類＞　（かに類）　毛がに　ゆで",78,18.399999999999999,0.5,0,66,0.6,0,7.0000000000000007E-2,0.23,0,0.6]
["魚介類",10335,1552,"＜えび・かに類＞　（かに類）　ずわいがに　生",59,13.9,0.4,0,90,0.5,0,0.24,0.6,0,0.8]
["魚介類",10336,1553,"＜えび・かに類＞　（かに類）　ずわいがに　ゆで",65,15,0.6,0,120,0.7,0,0.21,0.56999999999999995,0,0.6]
["魚介類",10337,1554,"＜えび・かに類＞　（かに類）　ずわいがに　水煮缶詰",69,16.3,0.4,0,68,0.5,0,0,0.03,0,1.7]
["魚介類",10338,1555,"＜えび・かに類＞　（かに類）　たらばがに　生",56,13,0.9,0,51,0.3,1,0.05,7.0000000000000007E-2,1,0.9]
["魚介類",10339,1556,"＜えび・かに類＞　（かに類）　たらばがに　ゆで",77,17.5,1.5,0,48,0.2,1,7.0000000000000007E-2,0.06,0,0.8]
["魚介類",10340,1557,"＜えび・かに類＞　（かに類）　たらばがに　水煮缶詰",85,20.6,0.3,0,52,0.2,0,0.02,0.1,0,1.5]
["魚介類",10341,1558,"＜えび・かに類＞　（かに類）　加工品　がん漬",58,8.4,0.4,0,4000,1.7,0,0.1,0.5,0,19.100000000000001]
["魚介類",10342,1559,"＜いか・たこ類＞　（いか類）　あかいか　生",81,17.899999999999999,1.5,0,12,0.1,4,0.01,0.02,1,0.5]
["魚介類",10343,1560,"＜いか・たこ類＞　（いか類）　けんさきいか　生",77,17.5,1,0,12,0.1,7,0.01,0.02,2,0.5]
["魚介類",10344,1561,"＜いか・たこ類＞　（いか類）　こういか　生",64,14.9,1.3,0,17,0.1,5,0.03,0.05,1,0.7]
["魚介類",10345,1562,"＜いか・たこ類＞　（いか類）　するめいか　生",76,17.899999999999999,0.8,0,11,0.1,13,7.0000000000000007E-2,0.05,1,0.5]
["魚介類",10346,1563,"＜いか・たこ類＞　（いか類）　するめいか　水煮",98,21.9,0.9,0,14,0.1,16,0.05,0.06,1,0.6]
["魚介類",10347,1564,"＜いか・たこ類＞　（いか類）　するめいか　焼き",108,23.6,1,0,14,0.2,22,0.09,7.0000000000000007E-2,1,0.8]
["魚介類",10417,1565,"＜いか・たこ類＞　（いか類）　するめいか　胴　皮つき　生",78,18.600000000000001,0.7,0,10,0.1,12,0.06,0.04,2,0.5]
["魚介類",10418,1566,"＜いか・たこ類＞　（いか類）　するめいか　胴　皮なし　生",80,18.600000000000001,0.6,0,10,0.1,11,0.06,0.04,2,0.5]
["魚介類",10419,1567,"＜いか・たこ類＞　（いか類）　するめいか　胴　皮なし　天ぷら",175,16.7,10.8,0.8,26,0.1,11,7.0000000000000007E-2,7.0000000000000007E-2,1,0.4]
["魚介類",10420,1568,"＜いか・たこ類＞　（いか類）　するめいか　耳・足　生",75,16.899999999999999,0.9,0,13,0.1,15,0.09,0.06,1,0.6]
["魚介類",10348,1569,"＜いか・たこ類＞　（いか類）　ほたるいか　生",74,11.8,3.5,0,14,0.8,1500,0.19,0.27,5,0.7]
["魚介類",10349,1570,"＜いか・たこ類＞　（いか類）　ほたるいか　ゆで",91,17.7,2.9,0,22,1.1000000000000001,1900,0.2,0.3,0,0.6]
["魚介類",10350,1571,"＜いか・たこ類＞　（いか類）　ほたるいか　くん製",305,43.1,7.5,0,55,10,150,0.4,0.5,0,3.8]
["魚介類",10351,1572,"＜いか・たこ類＞　（いか類）　ほたるいか　つくだ煮",245,27,6.7,0,26,2.7,690,0.09,0.21,0,3]
["魚介類",10352,1573,"＜いか・たこ類＞　（いか類）　やりいか　生",79,17.600000000000001,1,0,10,0.1,8,0.04,0.03,2,0.4]
["魚介類",10353,1574,"＜いか・たこ類＞　（いか類）　加工品　するめ",304,69.2,4.3,0,43,0.8,22,0.1,0.1,0,2.2999999999999998]
["魚介類",10354,1575,"＜いか・たこ類＞　（いか類）　加工品　さきいか",268,45.5,3.1,0,23,1.6,3,0.06,0.09,0,6.9]
["魚介類",10355,1576,"＜いか・たこ類＞　（いか類）　加工品　くん製",202,35.200000000000003,1.5,0,9,0.7,0,0.1,0.15,0,6.1]
["魚介類",10356,1577,"＜いか・たこ類＞　（いか類）　加工品　切りいかあめ煮",310,22.7,4.7,0,65,0.8,0,0.06,0.1,0,2.8]
["魚介類",10357,1578,"＜いか・たこ類＞　（いか類）　加工品　いかあられ",289,20,1.8,0,18,0.4,0,7.0000000000000007E-2,0.1,0,1.8]
["魚介類",10358,1579,"＜いか・たこ類＞　（いか類）　加工品　塩辛",114,15.2,3.4,0,16,1.1000000000000001,200,0,0.1,0,6.9]
["魚介類",10359,1580,"＜いか・たこ類＞　（いか類）　加工品　味付け缶詰",127,21.4,1.8,0,16,0.6,7,0.02,7.0000000000000007E-2,0,1.8]
["魚介類",10360,1581,"＜いか・たこ類＞　（たこ類）　いいだこ　生",64,14.6,0.8,0,20,2.2000000000000002,36,0.01,0.08,1,0.6]
["魚介類",10361,1582,"＜いか・たこ類＞　（たこ類）　まだこ　生",70,16.399999999999999,0.7,0,16,0.6,5,0.03,0.09,0,0.7]
["魚介類",10362,1583,"＜いか・たこ類＞　（たこ類）　まだこ　ゆで",91,21.7,0.7,0,19,0.2,5,0.03,0.05,0,0.6]
["魚介類",10432,1584,"＜いか・たこ類＞　（たこ類）　みずだこ　生",61,13.4,0.9,0,19,0.1,4,0.04,0.05,1,1.1000000000000001]
["魚介類",10363,1585,"＜その他＞　あみ　つくだ煮",230,19.100000000000001,1.8,0,490,7.1,170,0.13,0.21,0,6.9]
["魚介類",10364,1586,"＜その他＞　あみ　塩辛",62,12.9,1.1000000000000001,0,460,0.5,65,7.0000000000000007E-2,7.0000000000000007E-2,0,19.8]
["魚介類",10365,1587,"＜その他＞　うに　生うに",109,16,4.8,0,12,0.9,58,0.1,0.44,3,0.6]
["魚介類",10366,1588,"＜その他＞　うに　粒うに",172,17.2,5.8,0,46,1.1000000000000001,83,0.14000000000000001,0.65,0,8.4]
["魚介類",10367,1589,"＜その他＞　うに　練りうに",166,13.5,2.9,0,38,1.8,25,0,0.3,0,7.1]
["魚介類",10368,1590,"＜その他＞　おきあみ　生",84,15,3.2,0,360,0.8,180,0.15,0.26,2,1.1000000000000001]
["魚介類",10369,1591,"＜その他＞　おきあみ　ゆで",78,13.8,3,0,350,0.6,150,0.21,0.25,1,1.6]
["魚介類",10370,1592,"＜その他＞　くらげ　塩蔵　塩抜き",21,5.2,0.1,0,2,0.3,0,0,0.01,0,0.3]
["魚介類",10371,1593,"＜その他＞　しゃこ　ゆで",89,19.2,1.7,0,88,0.8,180,0.26,0.13,0,0.8]
["魚介類",10372,1594,"＜その他＞　なまこ　生",22,4.5999999999999996,0.3,0,72,0.1,0,0.05,0.02,0,1.7]
["魚介類",10373,1595,"＜その他＞　なまこ　このわた",54,11.4,1.8,0,41,4,66,0.2,0.5,0,4.5999999999999996]
["魚介類",10374,1596,"＜その他＞　ほや　生",27,5,0.8,0,32,5.7,0,0.01,0.13,3,3.3]
["魚介類",10375,1597,"＜その他＞　ほや　塩辛",69,11.6,1.1000000000000001,0,14,3,0,0.01,0.18,0,3.6]
["魚介類",10376,1598,"＜水産練り製品＞　かに風味かまぼこ",89,12.1,0.5,0,120,0.2,21,0.01,0.04,1,2.2000000000000002]
["魚介類",10423,1599,"＜水産練り製品＞　黒はんぺん",119,11.2,2.9,0.9,110,1,4,0,0.1,0,1.4]
["魚介類",10377,1600,"＜水産練り製品＞　昆布巻きかまぼこ",83,8.9,0.5,0,70,0.3,6,0.03,0.08,0,2.4]
["魚介類",10378,1601,"＜水産練り製品＞　す巻きかまぼこ",89,12,0.8,0,25,0.2,0,0,0.01,0,2.2000000000000002]
["魚介類",10379,1602,"＜水産練り製品＞　蒸しかまぼこ",93,12,0.9,0,25,0.3,0,0,0.01,0,2.5]
["魚介類",10380,1603,"＜水産練り製品＞　焼き抜きかまぼこ",102,16.2,1,0,25,0.2,0,0.05,0.08,0,2.4]
["魚介類",10381,1604,"＜水産練り製品＞　焼き竹輪",119,12.2,2,0,15,1,0,0.05,0.08,0,2.1]
["魚介類",10382,1605,"＜水産練り製品＞　だて巻",190,14.6,7.5,0,25,0.5,60,0.04,0.2,0,0.9]
["魚介類",10383,1606,"＜水産練り製品＞　つみれ",104,12,4.3,0,60,1,0,0.02,0.2,0,1.4]
["魚介類",10384,1607,"＜水産練り製品＞　なると",80,7.6,0.4,0,15,0.5,0,0,0.01,0,2]
["魚介類",10385,1608,"＜水産練り製品＞　はんぺん",93,9.9,1,0,15,0.5,0,0,0.01,0,1.5]
["魚介類",10386,1609,"＜水産練り製品＞　さつま揚げ",135,12.5,3.7,0,60,0.8,0,0.05,0.1,0,1.9]
["魚介類",10387,1610,"＜水産練り製品＞　魚肉ハム",155,13.4,6.7,0,45,1,0,0.2,0.6,0,2.2999999999999998]
["魚介類",10388,1611,"＜水産練り製品＞　魚肉ソーセージ",158,11.5,7.2,0,100,1,0,0.2,0.6,0,2.1]
["肉類",11001,1612,"＜畜肉類＞　いのしし　肉　脂身つき　生",244,18.8,19.8,0,4,2.5,4,0.24,0.28999999999999998,1,0.1]
["肉類",11002,1613,"＜畜肉類＞　いのぶた　肉　脂身つき　生",283,18.100000000000001,24.1,0,4,0.8,11,0.62,0.16,1,0.1]
["肉類",11003,1614,"＜畜肉類＞　うさぎ　肉　赤肉　生",131,20.5,6.3,0,5,1.3,3,0.1,0.19,1,0.1]
["肉類",11004,1615,"＜畜肉類＞　うし　［和牛肉］　かた　脂身つき　生",258,17.7,22.3,0,4,0.9,0,0.08,0.21,1,0.1]
["肉類",11005,1616,"＜畜肉類＞　うし　［和牛肉］　かた　皮下脂肪なし　生",239,18.3,19.8,0,4,0.8,0,0.08,0.22,1,0.1]
["肉類",11006,1617,"＜畜肉類＞　うし　［和牛肉］　かた　赤肉　生",183,20.2,12.2,0,4,2.7,0,0.09,0.24,1,0.1]
["肉類",11007,1618,"＜畜肉類＞　うし　［和牛肉］　かた　脂身　生",692,4,78,0,2,0.6,3,0.02,0.03,0,0]
["肉類",11008,1619,"＜畜肉類＞　うし　［和牛肉］　かたロース　脂身つき　生",380,13.8,37.4,0,3,0.7,3,0.06,0.17,1,0.1]
["肉類",11009,1620,"＜畜肉類＞　うし　［和牛肉］　かたロース　皮下脂肪なし　生",373,14,36.5,0,3,0.7,3,0.06,0.17,1,0.1]
["肉類",11010,1621,"＜畜肉類＞　うし　［和牛肉］　かたロース　赤肉　生",293,16.5,26.1,0,3,2.4,3,7.0000000000000007E-2,0.21,1,0.1]
["肉類",11011,1622,"＜畜肉類＞　うし　［和牛肉］　リブロース　脂身つき　生",514,9.6999999999999993,56.5,0,2,1.2,11,0.04,0.09,1,0.1]
["肉類",11249,1623,"＜畜肉類＞　うし　［和牛肉］　リブロース　脂身つき　ゆで",539,12.6,58.2,0,2,1.4,8,0.03,0.08,0,0.1]
["肉類",11248,1624,"＜畜肉類＞　うし　［和牛肉］　リブロース　脂身つき　焼き",541,14.6,56.8,0,3,1.6,8,0.05,0.12,1,0.1]
["肉類",11012,1625,"＜畜肉類＞　うし　［和牛肉］　リブロース　皮下脂肪なし　生",502,10.3,54.4,0,3,1.3,10,0.04,0.09,1,0.1]
["肉類",11013,1626,"＜畜肉類＞　うし　［和牛肉］　リブロース　赤肉　生",395,14,40,0,3,1.7,7,0.05,0.13,1,0.1]
["肉類",11014,1627,"＜畜肉類＞　うし　［和牛肉］　リブロース　脂身　生",674,4.2,78,0,2,0.6,16,0.02,0.03,0,0.1]
["肉類",11015,1628,"＜畜肉類＞　うし　［和牛肉］　サーロイン　脂身つき　生",460,11.7,47.5,0,3,0.9,3,0.05,0.12,1,0.1]
["肉類",11016,1629,"＜畜肉類＞　うし　［和牛肉］　サーロイン　皮下脂肪なし　生",422,12.9,42.5,0,3,0.8,3,0.05,0.13,1,0.1]
["肉類",11017,1630,"＜畜肉類＞　うし　［和牛肉］　サーロイン　赤肉　生",294,17.100000000000001,25.8,0,4,2,2,7.0000000000000007E-2,0.17,1,0.1]
["肉類",11018,1631,"＜畜肉類＞　うし　［和牛肉］　ばら　脂身つき　生",472,11,50,0,4,1.4,3,0.04,0.11,1,0.1]
["肉類",11019,1632,"＜畜肉類＞　うし　［和牛肉］　もも　脂身つき　生",235,19.2,18.7,0,4,2.5,0,0.09,0.2,1,0.1]
["肉類",11020,1633,"＜畜肉類＞　うし　［和牛肉］　もも　皮下脂肪なし　生",212,20.2,15.5,0,4,2.7,0,0.09,0.21,1,0.1]
["肉類",11251,1634,"＜畜肉類＞　うし　［和牛肉］　もも　皮下脂肪なし　ゆで",302,25.7,23.3,0,4,3.4,0,0.05,0.19,0,0.1]
["肉類",11250,1635,"＜畜肉類＞　うし　［和牛肉］　もも　皮下脂肪なし　焼き",300,27.7,22.7,0,5,3.8,0,0.09,0.24,1,0.1]
["肉類",11021,1636,"＜畜肉類＞　うし　［和牛肉］　もも　赤肉　生",176,21.3,10.7,0,4,2.8,0,0.1,0.22,1,0.1]
["肉類",11022,1637,"＜畜肉類＞　うし　［和牛肉］　もも　脂身　生",664,4.4000000000000004,75.400000000000006,0,2,0.8,3,0.02,0.02,1,0.1]
["肉類",11023,1638,"＜畜肉類＞　うし　［和牛肉］　そともも　脂身つき　生",244,17.8,20,0,3,1.1000000000000001,1,0.08,0.18,1,0.1]
["肉類",11024,1639,"＜畜肉類＞　うし　［和牛肉］　そともも　皮下脂肪なし　生",219,18.7,16.600000000000001,0,3,1,0,0.08,0.19,1,0.1]
["肉類",11025,1640,"＜畜肉類＞　うし　［和牛肉］　そともも　赤肉　生",159,20.7,8.6999999999999993,0,3,2.4,0,0.09,0.22,1,0.1]
["肉類",11026,1641,"＜畜肉類＞　うし　［和牛肉］　ランプ　脂身つき　生",319,15.1,29.9,0,3,1.4,2,0.08,0.19,1,0.1]
["肉類",11027,1642,"＜畜肉類＞　うし　［和牛肉］　ランプ　皮下脂肪なし　生",293,16,26.4,0,3,1.3,2,0.09,0.2,1,0.1]
["肉類",11028,1643,"＜畜肉類＞　うし　［和牛肉］　ランプ　赤肉　生",196,19.2,13.6,0,3,2.9,1,0.1,0.25,1,0.1]
["肉類",11029,1644,"＜畜肉類＞　うし　［和牛肉］　ヒレ　赤肉　生",207,19.100000000000001,15,0,3,2.5,1,0.09,0.24,1,0.1]
["肉類",11030,1645,"＜畜肉類＞　うし　［乳用肥育牛肉］　かた　脂身つき　生",231,17.100000000000001,19.8,0,4,2.1,5,0.08,0.2,1,0.2]
["肉類",11309,1646,"＜畜肉類＞　うし　［乳用肥育牛肉］　かた　脂身つき　ゆで",309,20.8,23.8,0,3,2.2999999999999998,1,0.05,0.16,0,0.1]
["肉類",11310,1647,"＜畜肉類＞　うし　［乳用肥育牛肉］　かた　脂身つき　焼き",298,23,25.5,0,4,2.8,0,0,0.01,0,0.1]
["肉類",11031,1648,"＜畜肉類＞　うし　［乳用肥育牛肉］　かた　皮下脂肪なし　生",262,17.899999999999999,14.9,0,4,0.9,4,0.09,0.21,1,0.1]
["肉類",11032,1649,"＜畜肉類＞　うし　［乳用肥育牛肉］　かた　赤肉　生",138,20.399999999999999,6.7,0,4,2.5,3,0.1,0.24,1,0.2]
["肉類",11301,1650,"＜畜肉類＞　うし　［乳用肥育牛肉］　かた　赤肉　ゆで",174,27.9,7.1,0,4,3.4,1,0.08,0.26,1,0.1]
["肉類",11302,1651,"＜畜肉類＞　うし　［乳用肥育牛肉］　かた　赤肉　焼き",175,26.9,7.7,0,4,3.1,1,0.12,0.3,1,0.2]
["肉類",11033,1652,"＜畜肉類＞　うし　［乳用肥育牛肉］　かた　脂身　生",650,4.5,73.3,0,2,0.7,17,0.02,0.03,1,0.1]
["肉類",11034,1653,"＜畜肉類＞　うし　［乳用肥育牛肉］　かたロース　脂身つき　生",295,16.2,26.4,0,4,0.9,7,0.06,0.17,1,0.1]
["肉類",11035,1654,"＜畜肉類＞　うし　［乳用肥育牛肉］　かたロース　皮下脂肪なし　生",285,16.5,25.2,0,4,0.9,7,0.06,0.17,1,0.1]
["肉類",11036,1655,"＜畜肉類＞　うし　［乳用肥育牛肉］　かたロース　赤肉　生",196,19.100000000000001,13.9,0,4,2.4,5,7.0000000000000007E-2,0.2,1,0.1]
["肉類",11037,1656,"＜畜肉類＞　うし　［乳用肥育牛肉］　リブロース　脂身つき　生",380,14.1,37.1,0,4,1,13,0.05,0.12,1,0.1]
["肉類",11039,1657,"＜畜肉類＞　うし　［乳用肥育牛肉］　リブロース　脂身つき　ゆで",428,17.2,43,0,5,1.2,14,0.04,0.11,0,0.1]
["肉類",11038,1658,"＜畜肉類＞　うし　［乳用肥育牛肉］　リブロース　脂身つき　焼き",457,20.399999999999999,45,0,4,1.4,14,7.0000000000000007E-2,0.17,1,0.1]
["肉類",11040,1659,"＜畜肉類＞　うし　［乳用肥育牛肉］　リブロース　皮下脂肪なし　生",351,15,33.4,0,4,0.9,12,0.05,0.13,1,0.1]
["肉類",11041,1660,"＜畜肉類＞　うし　［乳用肥育牛肉］　リブロース　赤肉　生",230,18.8,17.8,0,4,2.1,10,0.06,0.17,2,0.1]
["肉類",11042,1661,"＜畜肉類＞　うし　［乳用肥育牛肉］　リブロース　脂身　生",703,3.7,80.5,0,3,0.6,18,0.02,0.02,1,0]
["肉類",11043,1662,"＜畜肉類＞　うし　［乳用肥育牛肉］　サーロイン　脂身つき　生",313,16.5,27.9,0,4,1,8,0.06,0.1,1,0.1]
["肉類",11044,1663,"＜畜肉類＞　うし　［乳用肥育牛肉］　サーロイン　皮下脂肪なし　生",253,18.399999999999999,20.2,0,4,0.8,7,0.06,0.11,1,0.1]
["肉類",11045,1664,"＜畜肉類＞　うし　［乳用肥育牛肉］　サーロイン　赤肉　生",167,21.1,9.1,0,4,2.1,5,7.0000000000000007E-2,0.12,2,0.2]
["肉類",11046,1665,"＜畜肉類＞　うし　［乳用肥育牛肉］　ばら　脂身つき　生",381,12.8,39.4,0,3,1.4,13,0.05,0.12,1,0.1]
["肉類",11252,1666,"＜畜肉類＞　うし　［乳用肥育牛肉］　ばら　脂身つき　焼き",451,15.9,44.2,0,3,1.8,12,0.06,0.14000000000000001,0,0.2]
["肉類",11047,1667,"＜畜肉類＞　うし　［乳用肥育牛肉］　もも　脂身つき　生",196,19.5,13.3,0,4,1.4,3,0.08,0.2,1,0.1]
["肉類",11048,1668,"＜畜肉類＞　うし　［乳用肥育牛肉］　もも　皮下脂肪なし　生",169,20.5,9.9,0,4,1.3,2,0.08,0.21,1,0.1]
["肉類",11050,1669,"＜畜肉類＞　うし　［乳用肥育牛肉］　もも　皮下脂肪なし　ゆで",235,28.4,13.8,0,5,1.7,0,7.0000000000000007E-2,0.23,0,0.1]
["肉類",11049,1670,"＜畜肉類＞　うし　［乳用肥育牛肉］　もも　皮下脂肪なし　焼き",227,28,13.2,0,5,1.7,0,0.1,0.27,1,0.2]
["肉類",11051,1671,"＜畜肉類＞　うし　［乳用肥育牛肉］　もも　赤肉　生",130,21.9,4.9000000000000004,0,4,2.7,1,0.09,0.22,1,0.1]
["肉類",11052,1672,"＜畜肉類＞　うし　［乳用肥育牛肉］　もも　脂身　生",594,5.0999999999999996,64.099999999999994,0,2,1.1000000000000001,17,0.03,0.03,1,0.1]
["肉類",11053,1673,"＜畜肉類＞　うし　［乳用肥育牛肉］　そともも　脂身つき　生",220,18.2,16.3,0,4,1.4,5,0.08,0.17,1,0.1]
["肉類",11054,1674,"＜畜肉類＞　うし　［乳用肥育牛肉］　そともも　皮下脂肪なし　生",179,19.600000000000001,11.1,0,4,1.3,4,0.09,0.19,1,0.1]
["肉類",11055,1675,"＜畜肉類＞　うし　［乳用肥育牛肉］　そともも　赤肉　生",131,21.3,5,0,4,2.4,2,0.09,0.21,1,0.2]
["肉類",11056,1676,"＜畜肉類＞　うし　［乳用肥育牛肉］　ランプ　脂身つき　生",234,18.600000000000001,17.8,0,4,1.4,6,0.08,0.19,1,0.1]
["肉類",11057,1677,"＜畜肉類＞　うし　［乳用肥育牛肉］　ランプ　皮下脂肪なし　生",203,19.7,13.9,0,4,1.3,5,0.09,0.2,1,0.1]
["肉類",11058,1678,"＜畜肉類＞　うし　［乳用肥育牛肉］　ランプ　赤肉　生",142,22,6.1,0,4,2.7,3,0.1,0.23,2,0.2]
["肉類",11059,1679,"＜畜肉類＞　うし　［乳用肥育牛肉］　ヒレ　赤肉　生",177,20.8,11.2,0,4,2.4,4,0.12,0.26,1,0.1]
["肉類",11253,1680,"＜畜肉類＞　うし　［乳用肥育牛肉］　ヒレ　赤肉　焼き",238,27.2,15.2,0,5,3.5,3,0.16,0.35,0,0.2]
["肉類",11254,1681,"＜畜肉類＞　うし　［交雑牛肉］　リブロース　脂身つき　生",489,12,51.8,0,3,1.2,3,0.05,0.1,1,0.1]
["肉類",11256,1682,"＜畜肉類＞　うし　［交雑牛肉］　リブロース　脂身つき　ゆで",540,13.2,56.5,0,2,1.3,0,0.03,0.08,0,0]
["肉類",11255,1683,"＜畜肉類＞　うし　［交雑牛肉］　リブロース　脂身つき　焼き",575,14.5,60.1,0,3,1.5,0,0.06,0.11,0,0.1]
["肉類",11257,1684,"＜畜肉類＞　うし　［交雑牛肉］　リブロース　皮下脂肪なし　生",438,13.6,45.2,0,3,1.3,3,0.05,0.11,1,0.1]
["肉類",11258,1685,"＜畜肉類＞　うし　［交雑牛肉］　リブロース　赤肉　生",338,16.7,32.299999999999997,0,3,1.7,2,7.0000000000000007E-2,0.14000000000000001,1,0.1]
["肉類",11259,1686,"＜畜肉類＞　うし　［交雑牛肉］　リブロース　脂身　生",759,3.6,86.7,0,2,0.3,5,0.01,0.02,0,0]
["肉類",11260,1687,"＜畜肉類＞　うし　［交雑牛肉］　ばら　脂身つき　生",445,12.2,44.4,0,3,1.4,3,0.05,0.1,1,0.2]
["肉類",11261,1688,"＜畜肉類＞　うし　［交雑牛肉］　もも　脂身つき　生",312,16.399999999999999,28.9,0,3,2.1,2,0.08,0.16,1,0.2]
["肉類",11262,1689,"＜畜肉類＞　うし　［交雑牛肉］　もも　皮下脂肪なし　生",250,18.3,21.6,0,3,2.2999999999999998,1,0.09,0.18,1,0.2]
["肉類",11264,1690,"＜畜肉類＞　うし　［交雑牛肉］　もも　皮下脂肪なし　ゆで",331,25.7,28.2,0,3,2.8,0,0.05,0.15,0,0.1]
["肉類",11263,1691,"＜畜肉類＞　うし　［交雑牛肉］　もも　皮下脂肪なし　焼き",313,25,27.6,0,4,2.9,1,0.09,0.18,1,0.2]
["肉類",11265,1692,"＜畜肉類＞　うし　［交雑牛肉］　もも　赤肉　生",222,19.3,17.5,0,4,2.4,1,0.1,0.19,1,0.2]
["肉類",11266,1693,"＜畜肉類＞　うし　［交雑牛肉］　もも　脂身　生",682,4.8,75.8,0,2,0.5,5,0.02,0.02,0,0.1]
["肉類",11267,1694,"＜畜肉類＞　うし　［交雑牛肉］　ヒレ　赤肉　生",229,19,18,0,4,2.7,2,0.11,0.23,1,0.1]
["肉類",11060,1695,"＜畜肉類＞　うし　［輸入牛肉］　かた　脂身つき　生",160,19,10.6,0,4,1.1000000000000001,7,0.08,0.22,1,0.1]
["肉類",11061,1696,"＜畜肉類＞　うし　［輸入牛肉］　かた　皮下脂肪なし　生",138,19.600000000000001,7.8,0,4,1,5,0.08,0.23,1,0.1]
["肉類",11062,1697,"＜畜肉類＞　うし　［輸入牛肉］　かた　赤肉　生",114,20.399999999999999,4.5999999999999996,0,4,2.4,4,0.09,0.25,1,0.1]
["肉類",11063,1698,"＜畜肉類＞　うし　［輸入牛肉］　かた　脂身　生",537,7.1,60.5,0,6,0.9,30,0.03,0.04,1,0.1]
["肉類",11064,1699,"＜畜肉類＞　うし　［輸入牛肉］　かたロース　脂身つき　生",221,17.899999999999999,17.399999999999999,0,4,1.2,10,7.0000000000000007E-2,0.2,1,0.1]
["肉類",11065,1700,"＜畜肉類＞　うし　［輸入牛肉］　かたロース　皮下脂肪なし　生",219,18,17.100000000000001,0,4,1.2,10,7.0000000000000007E-2,0.2,1,0.1]
["肉類",11066,1701,"＜畜肉類＞　うし　［輸入牛肉］　かたロース　赤肉　生",160,19.7,9.5,0,4,2.4,7,7.0000000000000007E-2,0.23,2,0.1]
["肉類",11067,1702,"＜畜肉類＞　うし　［輸入牛肉］　リブロース　脂身つき　生",212,20.100000000000001,15.4,0,4,2.2000000000000002,9,0.08,0.16,2,0.1]
["肉類",11269,1703,"＜畜肉類＞　うし　［輸入牛肉］　リブロース　脂身つき　ゆで",307,25.8,23.9,0,2,2.7,14,0.04,0.14000000000000001,0,0]
["肉類",11268,1704,"＜畜肉類＞　うし　［輸入牛肉］　リブロース　脂身つき　焼き",306,25,23.9,0,3,2.9,12,0.08,0.18,1,0.1]
["肉類",11068,1705,"＜畜肉類＞　うし　［輸入牛肉］　リブロース　皮下脂肪なし　生",203,20.3,14.4,0,4,2.2000000000000002,9,0.08,0.16,2,0.1]
["肉類",11069,1706,"＜畜肉類＞　うし　［輸入牛肉］　リブロース　赤肉　生",163,21.7,9.1,0,4,2.2999999999999998,7,0.09,0.17,2,0.1]
["肉類",11070,1707,"＜畜肉類＞　うし　［輸入牛肉］　リブロース　脂身　生",653,5.7,73.099999999999994,0,1,1.1000000000000001,29,0.01,0.02,0,0]
["肉類",11071,1708,"＜畜肉類＞　うし　［輸入牛肉］　サーロイン　脂身つき　生",273,17.399999999999999,23.7,0,3,1.4,11,0.05,0.12,1,0.1]
["肉類",11072,1709,"＜畜肉類＞　うし　［輸入牛肉］　サーロイン　皮下脂肪なし　生",218,19.100000000000001,16.5,0,4,1.3,8,0.06,0.13,1,0.1]
["肉類",11073,1710,"＜畜肉類＞　うし　［輸入牛肉］　サーロイン　赤肉　生",127,22,4.4000000000000004,0,4,2.2000000000000002,4,0.06,0.16,2,0.1]
["肉類",11074,1711,"＜畜肉類＞　うし　［輸入牛肉］　ばら　脂身つき　生",338,14.4,32.9,0,4,1.5,24,0.05,0.12,1,0.1]
["肉類",11075,1712,"＜畜肉類＞　うし　［輸入牛肉］　もも　脂身つき　生",148,19.600000000000001,8.6,0,3,2.4,5,0.08,0.19,1,0.1]
["肉類",11076,1713,"＜畜肉類＞　うし　［輸入牛肉］　もも　皮下脂肪なし　生",133,20,6.7,0,3,2.5,4,0.09,0.2,1,0.1]
["肉類",11271,1714,"＜畜肉類＞　うし　［輸入牛肉］　もも　皮下脂肪なし　ゆで",204,30,11,0,3,3.5,8,0.05,0.18,0,0]
["肉類",11270,1715,"＜畜肉類＞　うし　［輸入牛肉］　もも　皮下脂肪なし　焼き",205,28,14.1,0,4,3.3,8,0.08,0.22,1,0.1]
["肉類",11077,1716,"＜畜肉類＞　うし　［輸入牛肉］　もも　赤肉　生",117,21.2,4.3,0,4,2.6,3,0.09,0.21,1,0.1]
["肉類",11078,1717,"＜畜肉類＞　うし　［輸入牛肉］　もも　脂身　生",580,6.3,64.400000000000006,0,2,0.9,38,0.02,0.03,1,0]
["肉類",11079,1718,"＜畜肉類＞　うし　［輸入牛肉］　そともも　脂身つき　生",197,18.7,14.3,0,4,1.1000000000000001,9,0.06,0.16,1,0.1]
["肉類",11080,1719,"＜畜肉類＞　うし　［輸入牛肉］　そともも　皮下脂肪なし　生",178,19.3,11.9,0,4,1,8,0.06,0.17,1,0.1]
["肉類",11081,1720,"＜畜肉類＞　うし　［輸入牛肉］　そともも　赤肉　生",117,21.2,3.9,0,4,1.9,3,7.0000000000000007E-2,0.19,1,0.1]
["肉類",11082,1721,"＜畜肉類＞　うし　［輸入牛肉］　ランプ　脂身つき　生",214,18.399999999999999,16.399999999999999,0,3,1.3,11,0.09,0.24,1,0.1]
["肉類",11083,1722,"＜畜肉類＞　うし　［輸入牛肉］　ランプ　皮下脂肪なし　生",174,19.7,11.1,0,4,1.1000000000000001,8,0.1,0.26,1,0.1]
["肉類",11084,1723,"＜畜肉類＞　うし　［輸入牛肉］　ランプ　赤肉　生",112,21.6,3,0,4,2.6,4,0.11,0.28999999999999998,1,0.1]
["肉類",11085,1724,"＜畜肉類＞　うし　［輸入牛肉］　ヒレ　赤肉　生",123,20.5,4.8,0,4,2.8,4,0.1,0.25,1,0.1]
["肉類",11086,1725,"＜畜肉類＞　うし　［子牛肉］　リブロース　皮下脂肪なし　生",94,21.7,0.9,0,5,1.6,0,0.09,0.17,1,0.2]
["肉類",11087,1726,"＜畜肉類＞　うし　［子牛肉］　ばら　皮下脂肪なし　生",113,20.9,3.6,0,6,1.7,3,0.1,0.18,1,0.3]
["肉類",11088,1727,"＜畜肉類＞　うし　［子牛肉］　もも　皮下脂肪なし　生",107,21.2,2.7,0,5,1.3,3,0.08,0.16,1,0.1]
["肉類",11089,1728,"＜畜肉類＞　うし　［ひき肉］　生",251,17.100000000000001,21.1,0,6,2.4,13,0.08,0.19,1,0.2]
["肉類",11272,1729,"＜畜肉類＞　うし　［ひき肉］　焼き",280,25.9,21.3,0,8,3.4,6,0.11,0.26,0,0.2]
["肉類",11090,1730,"＜畜肉類＞　うし　［副生物］　舌　生",318,13.3,31.8,0,3,2,3,0.1,0.23,1,0.2]
["肉類",11273,1731,"＜畜肉類＞　うし　［副生物］　舌　焼き",401,20.2,37.1,0,4,2.9,3,0.11,0.36,1,0.2]
["肉類",11091,1732,"＜畜肉類＞　うし　［副生物］　心臓　生",128,16.5,7.6,0,5,3.3,9,0.42,0.9,4,0.2]
["肉類",11092,1733,"＜畜肉類＞　うし　［副生物］　肝臓　生",119,19.600000000000001,3.7,0,5,4,1100,0.22,3,30,0.1]
["肉類",11093,1734,"＜畜肉類＞　うし　［副生物］　じん臓　生",118,16.7,6.4,0,6,4.5,5,0.46,0.85,3,0.2]
["肉類",11094,1735,"＜畜肉類＞　うし　［副生物］　第一胃　ゆで",166,24.5,8.4,0,11,0.7,1,0.04,0.14000000000000001,2,0.1]
["肉類",11095,1736,"＜畜肉類＞　うし　［副生物］　第二胃　ゆで",186,12.4,15.7,0,7,0.6,3,0.02,0.1,0,0.1]
["肉類",11096,1737,"＜畜肉類＞　うし　［副生物］　第三胃　生",57,11.7,1.3,0,16,6.8,4,0.04,0.32,4,0.1]
["肉類",11097,1738,"＜畜肉類＞　うし　［副生物］　第四胃　ゆで",308,11.1,30,0,8,1.8,5,0.05,0.14000000000000001,0,0.1]
["肉類",11098,1739,"＜畜肉類＞　うし　［副生物］　小腸　生",268,9.9,26.1,0,7,1.2,2,7.0000000000000007E-2,0.23,15,0.2]
["肉類",11099,1740,"＜畜肉類＞　うし　［副生物］　大腸　生",150,9.3000000000000007,13,0,9,0.8,2,0.04,0.14000000000000001,6,0.2]
["肉類",11100,1741,"＜畜肉類＞　うし　［副生物］　直腸　生",106,11.6,7,0,9,0.6,2,0.05,0.15,6,0.2]
["肉類",11101,1742,"＜畜肉類＞　うし　［副生物］　腱　ゆで",152,28.3,4.9000000000000004,0,15,0.7,0,0,0.04,0,0.2]
["肉類",11102,1743,"＜畜肉類＞　うし　［副生物］　子宮　ゆで",95,18.399999999999999,3,0,8,1.2,0,0.01,0.1,0,0.2]
["肉類",11103,1744,"＜畜肉類＞　うし　［副生物］　尾　生",440,11.6,47.1,0,7,2,20,0.06,0.17,1,0.1]
["肉類",11274,1745,"＜畜肉類＞　うし　［副生物］　横隔膜　生",288,14.8,27.3,0,2,3.2,4,0.14000000000000001,0.35,1,0.1]
["肉類",11296,1746,"＜畜肉類＞　うし　［副生物］　横隔膜　ゆで",414,21.3,36.700000000000003,0,3,4.2,5,0.08,0.35,0,0.1]
["肉類",11297,1747,"＜畜肉類＞　うし　［副生物］　横隔膜　焼き",401,21.1,37.200000000000003,0,3,4.0999999999999996,5,0.15,0.46,1,0.1]
["肉類",11104,1748,"＜畜肉類＞　うし　［加工品］　ローストビーフ",190,21.7,11.7,0,6,2.2999999999999998,0,0.08,0.25,0,0.8]
["肉類",11105,1749,"＜畜肉類＞　うし　［加工品］　コンビーフ缶詰",191,19.8,13,0,15,3.5,0,0.02,0.14000000000000001,0,1.8]
["肉類",11106,1750,"＜畜肉類＞　うし　［加工品］　味付け缶詰",156,19.2,4.4000000000000004,0,8,3.4,0,0.33,0.19,0,1.8]
["肉類",11107,1751,"＜畜肉類＞　うし　［加工品］　ビーフジャーキー",304,54.8,7.8,0,13,6.4,5,0.13,0.45,1,4.8]
["肉類",11108,1752,"＜畜肉類＞　うし　［加工品］　スモークタン",273,18.100000000000001,23,0,6,2.6,18,0.08,0.27,1,1.6]
["肉類",11109,1753,"＜畜肉類＞　うま　肉　赤肉　生",102,20.100000000000001,2.5,0,11,4.3,9,0.1,0.24,1,0.1]
["肉類",11110,1754,"＜畜肉類＞　くじら　肉　赤肉　生",100,24.1,0.4,0,3,2.5,7,0.06,0.23,1,0.2]
["肉類",11111,1755,"＜畜肉類＞　くじら　うねす　生",328,18.8,31.4,0,8,0.4,130,0.11,0.2,6,0.4]
["肉類",11112,1756,"＜畜肉類＞　くじら　本皮　生",577,9.6999999999999993,68.8,0,6,0.2,130,0.11,0.05,5,0.1]
["肉類",11113,1757,"＜畜肉類＞　くじら　さらしくじら",28,5.3,0.9,0,1,0,8,0,0,0,0]
["肉類",11114,1758,"＜畜肉類＞　しか　あかしか　赤肉　生",102,22.3,1.5,0,4,3.1,3,0.21,0.35,1,0.1]
["肉類",11275,1759,"＜畜肉類＞　しか　にほんじか　赤肉　生",119,23.9,4,0,4,3.9,4,0.2,0.35,1,0.1]
["肉類",11294,1760,"＜畜肉類＞　しか　にほんじか　えぞしか　赤肉　生",126,22.6,5.2,0,4,3.4,5,0.21,0.32,1,0.1]
["肉類",11295,1761,"＜畜肉類＞　しか　にほんじか　ほんしゅうじか・きゅうしゅうじか　赤肉　生",107,22.6,2.5,0,3,3.9,3,0.18,0.34,1,0.1]
["肉類",11115,1762,"＜畜肉類＞　ぶた　［大型種肉］　かた　脂身つき　生",201,18.5,14.6,0,4,0.5,5,0.66,0.23,2,0.1]
["肉類",11116,1763,"＜畜肉類＞　ぶた　［大型種肉］　かた　皮下脂肪なし　生",158,19.7,9.3000000000000007,0,4,0.4,4,0.71,0.25,2,0.1]
["肉類",11117,1764,"＜畜肉類＞　ぶた　［大型種肉］　かた　赤肉　生",114,20.9,3.8,0,4,1.1000000000000001,3,0.75,0.27,2,0.1]
["肉類",11118,1765,"＜畜肉類＞　ぶた　［大型種肉］　かた　脂身　生",663,5.3,72.400000000000006,0,2,0.4,16,0.2,0.05,1,0.1]
["肉類",11119,1766,"＜畜肉類＞　ぶた　［大型種肉］　かたロース　脂身つき　生",237,17.100000000000001,19.2,0,4,0.6,6,0.63,0.23,2,0.1]
["肉類",11120,1767,"＜畜肉類＞　ぶた　［大型種肉］　かたロース　皮下脂肪なし　生",212,17.8,16,0,4,0.5,6,0.66,0.25,2,0.1]
["肉類",11121,1768,"＜畜肉類＞　ぶた　［大型種肉］　かたロース　赤肉　生",146,19.7,7.8,0,4,1.1000000000000001,4,0.72,0.28000000000000003,2,0.2]
["肉類",11122,1769,"＜畜肉類＞　ぶた　［大型種肉］　かたロース　脂身　生",644,5.4,70.7,0,2,0.4,16,0.23,0.05,1,0.1]
["肉類",11123,1770,"＜畜肉類＞　ぶた　［大型種肉］　ロース　脂身つき　生",248,19.3,19.2,0,4,0.3,6,0.69,0.15,1,0.1]
["肉類",11125,1771,"＜畜肉類＞　ぶた　［大型種肉］　ロース　脂身つき　ゆで",299,23.9,24.1,0,5,0.4,3,0.54,0.16,0,0.1]
["肉類",11124,1772,"＜畜肉類＞　ぶた　［大型種肉］　ロース　脂身つき　焼き",310,26.7,22.7,0,6,0.4,2,0.9,0.21,1,0.1]
["肉類",11276,1773,"＜畜肉類＞　ぶた　［大型種肉］　ロース　脂身つき　とんかつ",429,22,35.9,0.7,14,0.6,11,0.75,0.15,1,0.3]
["肉類",11126,1774,"＜畜肉類＞　ぶた　［大型種肉］　ロース　皮下脂肪なし　生",190,21.1,11.9,0,5,0.3,5,0.75,0.16,1,0.1]
["肉類",11127,1775,"＜畜肉類＞　ぶた　［大型種肉］　ロース　赤肉　生",140,22.7,5.6,0,5,0.7,4,0.8,0.18,1,0.1]
["肉類",11128,1776,"＜畜肉類＞　ぶた　［大型種肉］　ロース　脂身　生",695,5.0999999999999996,76.3,0,1,0.2,15,0.22,0.05,1,0]
["肉類",11129,1777,"＜畜肉類＞　ぶた　［大型種肉］　ばら　脂身つき　生",366,14.4,35.4,0,3,0.6,11,0.51,0.13,1,0.1]
["肉類",11277,1778,"＜畜肉類＞　ぶた　［大型種肉］　ばら　脂身つき　焼き",444,19.600000000000001,43.9,0,4,0.7,11,0.56999999999999995,0.14000000000000001,0,0.1]
["肉類",11130,1779,"＜畜肉類＞　ぶた　［大型種肉］　もも　脂身つき　生",171,20.5,10.199999999999999,0,4,0.7,4,0.9,0.21,1,0.1]
["肉類",11131,1780,"＜畜肉類＞　ぶた　［大型種肉］　もも　皮下脂肪なし　生",138,21.5,6,0,4,0.7,3,0.94,0.22,1,0.1]
["肉類",11133,1781,"＜畜肉類＞　ぶた　［大型種肉］　もも　皮下脂肪なし　ゆで",185,28.9,8.1,0,5,0.9,1,0.82,0.23,1,0.1]
["肉類",11132,1782,"＜畜肉類＞　ぶた　［大型種肉］　もも　皮下脂肪なし　焼き",186,30.2,7.6,0,5,1,1,1.19,0.28000000000000003,1,0.1]
["肉類",11134,1783,"＜畜肉類＞　ぶた　［大型種肉］　もも　赤肉　生",119,22.1,3.6,0,4,0.9,3,0.96,0.23,1,0.1]
["肉類",11135,1784,"＜畜肉類＞　ぶた　［大型種肉］　もも　脂身　生",611,6.5,67.599999999999994,0,1,0.7,13,0.34,0.05,1,0.1]
["肉類",11136,1785,"＜畜肉類＞　ぶた　［大型種肉］　そともも　脂身つき　生",221,18.8,16.5,0,4,0.5,5,0.79,0.18,1,0.1]
["肉類",11137,1786,"＜畜肉類＞　ぶた　［大型種肉］　そともも　皮下脂肪なし　生",175,20.2,10.7,0,4,0.5,4,0.85,0.2,2,0.1]
["肉類",11138,1787,"＜畜肉類＞　ぶた　［大型種肉］　そともも　赤肉　生",133,21.4,5.5,0,4,0.9,3,0.9,0.21,2,0.1]
["肉類",11139,1788,"＜畜肉類＞　ぶた　［大型種肉］　そともも　脂身　生",631,6.6,68.099999999999994,0,1,0.5,16,0.27,0.05,1,0.1]
["肉類",11140,1789,"＜畜肉類＞　ぶた　［大型種肉］　ヒレ　赤肉　生",118,22.2,3.7,0,3,0.9,3,1.32,0.25,1,0.1]
["肉類",11278,1790,"＜畜肉類＞　ぶた　［大型種肉］　ヒレ　赤肉　焼き",202,39.299999999999997,5.9,0,6,1.6,2,2.09,0.44,1,0.2]
["肉類",11279,1791,"＜畜肉類＞　ぶた　［大型種肉］　ヒレ　赤肉　とんかつ",379,25.1,25.3,0.9,17,1.3,3,1.0900000000000001,0.32,1,0.4]
["肉類",11141,1792,"＜畜肉類＞　ぶた　［中型種肉］　かた　脂身つき　生",224,18.3,17.2,0,4,0.5,5,0.7,0.22,1,0.1]
["肉類",11142,1793,"＜畜肉類＞　ぶた　［中型種肉］　かた　皮下脂肪なし　生",172,19.7,10.8,0,5,0.5,3,0.75,0.24,1,0.1]
["肉類",11143,1794,"＜畜肉類＞　ぶた　［中型種肉］　かた　赤肉　生",113,21.4,3.5,0,5,1.2,2,0.82,0.27,2,0.2]
["肉類",11144,1795,"＜畜肉類＞　ぶた　［中型種肉］　かた　脂身　生",698,4.9000000000000004,75.7,0,2,0.4,15,0.19,0.04,1,0.1]
["肉類",11145,1796,"＜畜肉類＞　ぶた　［中型種肉］　かたロース　脂身つき　生",241,17.7,19.3,0,4,0.7,4,0.7,0.24,1,0.1]
["肉類",11146,1797,"＜畜肉類＞　ぶた　［中型種肉］　かたロース　皮下脂肪なし　生",212,18.5,15.7,0,4,0.6,4,0.74,0.25,1,0.1]
["肉類",11147,1798,"＜畜肉類＞　ぶた　［中型種肉］　かたロース　赤肉　生",140,20.6,6.8,0,4,1.3,3,0.82,0.28999999999999998,2,0.2]
["肉類",11148,1799,"＜畜肉類＞　ぶた　［中型種肉］　かたロース　脂身　生",663,5.4,71.900000000000006,0,2,0.5,11,0.21,0.04,0,0.1]
["肉類",11149,1800,"＜畜肉類＞　ぶた　［中型種肉］　ロース　脂身つき　生",275,18.3,22.6,0,3,0.3,6,0.77,0.13,1,0.1]
["肉類",11150,1801,"＜畜肉類＞　ぶた　［中型種肉］　ロース　皮下脂肪なし　生",203,20.6,13.6,0,4,0.2,5,0.86,0.14000000000000001,1,0.1]
["肉類",11151,1802,"＜畜肉類＞　ぶた　［中型種肉］　ロース　赤肉　生",131,22.9,4.5999999999999996,0,4,0.6,4,0.96,0.15,1,0.1]
["肉類",11152,1803,"＜畜肉類＞　ぶた　［中型種肉］　ロース　脂身　生",716,4.0999999999999996,78.3,0,1,0.2,14,0.19,0.04,1,0]
["肉類",11153,1804,"＜畜肉類＞　ぶた　［中型種肉］　ばら　脂身つき　生",398,13.4,40.1,0,3,0.6,9,0.45,0.11,1,0.1]
["肉類",11154,1805,"＜畜肉類＞　ぶた　［中型種肉］　もも　脂身つき　生",211,19.5,15.1,0,4,0.5,5,0.9,0.19,1,0.1]
["肉類",11155,1806,"＜畜肉類＞　ぶた　［中型種肉］　もも　皮下脂肪なし　生",153,21.3,7.8,0,4,0.5,4,0.98,0.2,1,0.1]
["肉類",11156,1807,"＜畜肉類＞　ぶた　［中型種肉］　もも　赤肉　生",133,21.9,5.3,0,4,0.9,4,1.01,0.21,1,0.1]
["肉類",11157,1808,"＜畜肉類＞　ぶた　［中型種肉］　もも　脂身　生",672,5.2,73.8,0,1,0.5,13,0.23,0.04,0,0]
["肉類",11158,1809,"＜畜肉類＞　ぶた　［中型種肉］　そともも　脂身つき　生",252,18,20.3,0,4,0.6,4,0.7,0.18,1,0.1]
["肉類",11159,1810,"＜畜肉類＞　ぶた　［中型種肉］　そともも　皮下脂肪なし　生",159,21,8.5,0,4,0.5,3,0.81,0.21,1,0.1]
["肉類",11160,1811,"＜畜肉類＞　ぶた　［中型種肉］　そともも　赤肉　生",129,21.9,4.8,0,4,1.1000000000000001,3,0.84,0.22,1,0.1]
["肉類",11161,1812,"＜畜肉類＞　ぶた　［中型種肉］　そともも　脂身　生",660,4.9000000000000004,72.5,0,1,0.5,10,0.24,0.05,0,0.1]
["肉類",11162,1813,"＜畜肉類＞　ぶた　［中型種肉］　ヒレ　赤肉　生",105,22.7,1.7,0,4,1.2,2,1.22,0.25,1,0.1]
["肉類",11163,1814,"＜畜肉類＞　ぶた　［ひき肉］　生",209,17.7,17.2,0,6,1,9,0.69,0.22,1,0.1]
["肉類",11280,1815,"＜畜肉類＞　ぶた　［ひき肉］　焼き",289,25.7,21.5,0,7,1.6,10,0.94,0.3,1,0.2]
["肉類",11164,1816,"＜畜肉類＞　ぶた　［副生物］　舌　生",205,15.9,16.3,0,8,2.2999999999999998,7,0.37,0.43,3,0.2]
["肉類",11165,1817,"＜畜肉類＞　ぶた　［副生物］　心臓　生",118,16.2,7,0,5,3.5,9,0.38,0.95,4,0.2]
["肉類",11166,1818,"＜畜肉類＞　ぶた　［副生物］　肝臓　生",114,20.399999999999999,3.4,0,5,13,13000,0.34,3.6,20,0.1]
["肉類",11167,1819,"＜畜肉類＞　ぶた　［副生物］　じん臓　生",96,14.1,5.8,0,7,3.7,75,0.33,1.75,15,0.4]
["肉類",11168,1820,"＜畜肉類＞　ぶた　［副生物］　胃　ゆで",111,17.399999999999999,5.0999999999999996,0,9,1.5,4,0.1,0.23,5,0.3]
["肉類",11169,1821,"＜畜肉類＞　ぶた　［副生物］　小腸　ゆで",159,14,11.9,0,21,1.4,15,0.01,0.03,0,0]
["肉類",11170,1822,"＜畜肉類＞　ぶた　［副生物］　大腸　ゆで",166,11.7,13.8,0,15,1.6,8,0.03,7.0000000000000007E-2,0,0.1]
["肉類",11171,1823,"＜畜肉類＞　ぶた　［副生物］　子宮　生",64,14.6,0.9,0,7,1.9,8,0.06,0.14000000000000001,11,0.3]
["肉類",11172,1824,"＜畜肉類＞　ぶた　［副生物］　豚足　ゆで",227,20.100000000000001,16.8,0,12,1.4,6,0.05,0.12,0,0.3]
["肉類",11173,1825,"＜畜肉類＞　ぶた　［副生物］　軟骨　ゆで",229,17.8,17.899999999999999,0,100,1.6,7,0.08,0.15,2,0.3]
["肉類",11174,1826,"＜畜肉類＞　ぶた　［ハム類］　骨付きハム",208,16.7,16.600000000000001,0,6,0.7,4,0.24,0.24,39,2.5]
["肉類",11175,1827,"＜畜肉類＞　ぶた　［ハム類］　ボンレスハム",115,18.7,4,0,8,0.7,0,0.9,0.28000000000000003,49,2.8]
["肉類",11176,1828,"＜畜肉類＞　ぶた　［ハム類］　ロースハム　ロースハム",211,18.600000000000001,14.5,0,4,0.5,3,0.7,0.12,25,2.2999999999999998]
["肉類",11303,1829,"＜畜肉類＞　ぶた　［ハム類〕　ロースハム　ゆで",233,19.7,16.600000000000001,0,4,0.5,3,0.64,0.12,19,1.9]
["肉類",11304,1830,"＜畜肉類＞　ぶた　［ハム類〕　ロースハム　焼き",240,23.6,15.1,0,5,0.6,0,0.86,0.16,27,2.8]
["肉類",11305,1831,"＜畜肉類＞　ぶた　［ハム類〕　ロースハム　フライ",432,17.3,32.299999999999997,0,24,0.6,0,0.52,0.13,15,2.1]
["肉類",11177,1832,"＜畜肉類＞　ぶた　［ハム類］　ショルダーハム",221,16.100000000000001,18.2,0,7,1,4,0.7,0.35,55,1.6]
["肉類",11181,1833,"＜畜肉類＞　ぶた　［ハム類］　生ハム　促成",243,24,16.600000000000001,0,6,0.7,5,0.92,0.18,18,2.8]
["肉類",11182,1834,"＜畜肉類＞　ぶた　［ハム類］　生ハム　長期熟成",253,25.7,18.399999999999999,0,11,1.2,5,0.9,0.27,0,5.6]
["肉類",11178,1835,"＜畜肉類＞　ぶた　［プレスハム類］　プレスハム",113,15.4,4.5,0,8,1.2,0,0.55000000000000004,0.18,43,2.4]
["肉類",11180,1836,"＜畜肉類＞　ぶた　［プレスハム類］　チョップドハム",132,11.7,4.2,0,15,0.8,0,0.17,0.2,32,2.5]
["肉類",11183,1837,"＜畜肉類＞　ぶた　［ベーコン類］　ばらベーコン",400,12.9,39.1,0,6,0.6,6,0.47,0.14000000000000001,35,2]
["肉類",11184,1838,"＜畜肉類＞　ぶた　［ベーコン類］　ロースベーコン",202,16.8,14.6,0,6,0.5,4,0.59,0.19,50,2.2000000000000002]
["肉類",11185,1839,"＜畜肉類＞　ぶた　［ベーコン類］　ショルダーベーコン",178,17.2,11.9,0,12,0.8,4,0.57999999999999996,0.34,39,2.4]
["肉類",11186,1840,"＜畜肉類＞　ぶた　［ソーセージ類］　ウインナーソーセージ　ウインナーソーセージ",319,11.5,30.6,0,6,0.5,2,0.35,0.12,32,1.9]
["肉類",11306,1841,"＜畜肉類＞　ぶた　［ソーセージ類〕　ウインナーソーセージ　ゆで",328,12.1,32,0,5,0.6,2,0.36,0.12,30,1.8]
["肉類",11307,1842,"＜畜肉類＞　ぶた　［ソーセージ類〕　ウインナーソーセージ　焼き",345,13,31.8,0,6,0.6,2,0.38,0.13,32,2]
["肉類",11308,1843,"＜畜肉類＞　ぶた　［ソーセージ類〕　ウインナーソーセージ　フライ",376,12.8,34.9,0,9,0.6,2,0.35,0.13,30,1.9]
["肉類",11187,1844,"＜畜肉類＞　ぶた　［ソーセージ類］　セミドライソーセージ",335,16.899999999999999,29.7,0,34,2.2000000000000002,8,0.26,0.23,14,2.9]
["肉類",11188,1845,"＜畜肉類＞　ぶた　［ソーセージ類］　ドライソーセージ",467,26.7,42,0,27,2.6,3,0.64,0.39,3,4.4000000000000004]
["肉類",11189,1846,"＜畜肉類＞　ぶた　［ソーセージ類］　フランクフルトソーセージ",295,12.7,24.7,0,12,0.9,5,0.21,0.13,10,1.9]
["肉類",11190,1847,"＜畜肉類＞　ぶた　［ソーセージ類］　ボロニアソーセージ",242,12.5,21,0,9,1,5,0.2,0.13,10,2.1]
["肉類",11191,1848,"＜畜肉類＞　ぶた　［ソーセージ類］　リオナソーセージ",188,14.9,13.1,0,13,1,4,0.33,0.14000000000000001,43,2.2999999999999998]
["肉類",11192,1849,"＜畜肉類＞　ぶた　［ソーセージ類］　レバーソーセージ",324,14.7,33.5,0,16,3.2,2800,0.23,1.42,5,1.7]
["肉類",11193,1850,"＜畜肉類＞　ぶた　［ソーセージ類］　混合ソーセージ",231,11.8,22.7,0,17,1.3,3,0.12,0.1,35,2.2000000000000002]
["肉類",11194,1851,"＜畜肉類＞　ぶた　［ソーセージ類］　生ソーセージ",269,14,24.4,0,8,0.9,12,0.51,0.14000000000000001,2,1.7]
["肉類",11195,1852,"＜畜肉類＞　ぶた　［その他］　焼き豚",166,19.399999999999999,8.1999999999999993,0,9,0.7,0,0.85,0.2,20,2.4]
["肉類",11196,1853,"＜畜肉類＞　ぶた　［その他］　レバーペースト",370,12.9,34.700000000000003,0,27,7.7,4300,0.18,1.45,3,2.2000000000000002]
["肉類",11197,1854,"＜畜肉類＞　ぶた　［その他］　スモークレバー",182,29.6,7.7,0,8,20,17000,0.28999999999999998,5.17,10,1.8]
["肉類",11198,1855,"＜畜肉類＞　ぶた　［その他］　ゼラチン",347,87.6,0.3,0,16,0.7,0,0,0,0,0.7]
["肉類",11199,1856,"＜畜肉類＞　めんよう　［マトン］　ロース　脂身つき　生",192,19.3,15,0,3,2.7,12,0.16,0.21,1,0.2]
["肉類",11281,1857,"＜畜肉類＞　めんよう　［マトン］　ロース　脂身つき　焼き",304,25.8,24.9,0,4,3.6,14,0.16,0.26,0,0.2]
["肉類",11245,1858,"＜畜肉類＞　めんよう　［マトン］　ロース　皮下脂肪なし　生",139,22.2,7.4,0,3,2.8,8,0.14000000000000001,0.24,1,0.2]
["肉類",11200,1859,"＜畜肉類＞　めんよう　［マトン］　もも　脂身つき　生",198,18.8,15.3,0,4,2.5,7,0.14000000000000001,0.33,1,0.1]
["肉類",11201,1860,"＜畜肉類＞　めんよう　［ラム］　かた　脂身つき　生",206,17.100000000000001,17.100000000000001,0,4,2.2000000000000002,8,0.13,0.26,1,0.2]
["肉類",11202,1861,"＜畜肉類＞　めんよう　［ラム］　ロース　脂身つき　生",287,15.6,25.9,0,10,1.2,30,0.12,0.16,1,0.2]
["肉類",11282,1862,"＜畜肉類＞　めんよう　［ラム］　ロース　脂身つき　焼き",358,21.8,31.4,0,11,1.7,37,0.13,0.21,1,0.2]
["肉類",11246,1863,"＜畜肉類＞　めんよう　［ラム］　ロース　皮下脂肪なし　生",128,22.3,5.2,0,7,1.9,7,0.15,0.25,1,0.2]
["肉類",11203,1864,"＜畜肉類＞　めんよう　［ラム］　もも　脂身つき　生",164,20,12,0,3,2,9,0.18,0.27,1,0.2]
["肉類",11283,1865,"＜畜肉類＞　めんよう　［ラム］　もも　脂身つき　焼き",267,28.6,20.3,0,4,2.5,14,0.19,0.32,0,0.2]
["肉類",11179,1866,"＜畜肉類＞　めんよう　混合プレスハム",100,14.4,4.0999999999999996,0,11,1.1000000000000001,0,0.1,0.18,31,2.2000000000000002]
["肉類",11204,1867,"＜畜肉類＞　やぎ　肉　赤肉　生",99,21.9,1.5,0,7,3.8,3,7.0000000000000007E-2,0.28000000000000003,1,0.1]
["肉類",11207,1868,"＜鳥肉類＞　うずら　肉　皮つき　生",194,20.5,12.9,0,15,2.9,45,0.12,0.5,0,0.1]
["肉類",11239,1869,"＜鳥肉類＞　がちょう　フォアグラ　ゆで",470,8.3000000000000007,49.9,0,3,2.7,1000,0.27,0.81,7,0.1]
["肉類",11208,1870,"＜鳥肉類＞　かも　まがも　肉　皮なし　生",118,23.6,3,0,5,4.3,15,0.4,0.69,1,0.2]
["肉類",11205,1871,"＜鳥肉類＞　かも　あいがも　肉　皮つき　生",304,14.2,29,0,5,1.9,46,0.24,0.35,1,0.2]
["肉類",11206,1872,"＜鳥肉類＞　かも　あひる　肉　皮つき　生",237,14.9,19.8,0,5,1.6,62,0.3,0.26,2,0.2]
["肉類",11247,1873,"＜鳥肉類＞　かも　あひる　肉　皮なし　生",94,20.100000000000001,2.2000000000000002,0,5,2.4,9,0.46,0.41,3,0.2]
["肉類",11284,1874,"＜鳥肉類＞　かも　あひる　皮　生",448,7.3,45.8,0,5,0.4,140,7.0000000000000007E-2,0.05,2,0.1]
["肉類",11209,1875,"＜鳥肉類＞　きじ　肉　皮なし　生",101,23,1.1000000000000001,0,8,1,7,0.08,0.24,1,0.1]
["肉類",11210,1876,"＜鳥肉類＞　しちめんちょう　肉　皮なし　生",99,23.5,0.7,0,8,1.1000000000000001,0,7.0000000000000007E-2,0.24,2,0.1]
["肉類",11211,1877,"＜鳥肉類＞　すずめ　肉　骨・皮つき　生",114,18.100000000000001,5.9,0,1100,8,15,0.28000000000000003,0.8,0,0.2]
["肉類",11212,1878,"＜鳥肉類＞　にわとり　［親・主品目］　手羽　皮つき　生",182,23,10.4,0,16,1.2,60,0.04,0.11,1,0.1]
["肉類",11213,1879,"＜鳥肉類＞　にわとり　［親・主品目］　むね　皮つき　生",229,19.5,17.2,0,4,0.3,72,0.05,0.08,1,0.1]
["肉類",11214,1880,"＜鳥肉類＞　にわとり　［親・主品目］　むね　皮なし　生",113,24.4,1.9,0,5,0.4,50,0.06,0.1,1,0.1]
["肉類",11215,1881,"＜鳥肉類＞　にわとり　［親・主品目］　もも　皮つき　生",234,17.3,19.100000000000001,0,8,0.9,47,7.0000000000000007E-2,0.23,1,0.1]
["肉類",11216,1882,"＜鳥肉類＞　にわとり　［親・主品目］　もも　皮なし　生",128,22,4.8,0,9,2.1,17,0.1,0.31,1,0.1]
["肉類",11217,1883,"＜鳥肉類＞　にわとり　［親・副品目］　ささみ　生",105,24.6,1.1000000000000001,0,8,0.6,9,0.09,0.12,0,0.1]
["肉類",11218,1884,"＜鳥肉類＞　にわとり　［若どり・主品目］　手羽　皮つき　生",189,17.8,14.3,0,14,0.5,47,7.0000000000000007E-2,0.1,2,0.2]
["肉類",11285,1885,"＜鳥肉類＞　にわとり　［若どり・主品目］　手羽さき　皮つき　生",207,17.399999999999999,16.2,0,20,0.6,51,7.0000000000000007E-2,0.09,2,0.2]
["肉類",11286,1886,"＜鳥肉類＞　にわとり　［若どり・主品目］　手羽もと　皮つき　生",175,18.2,12.8,0,10,0.5,44,0.08,0.1,2,0.2]
["肉類",11219,1887,"＜鳥肉類＞　にわとり　［若どり・主品目］　むね　皮つき　生",133,21.3,5.9,0,4,0.3,18,0.09,0.1,3,0.1]
["肉類",11287,1888,"＜鳥肉類＞　にわとり　［若どり・主品目］　むね　皮つき　焼き",215,34.700000000000003,9.1,0,6,0.4,27,0.12,0.17,3,0.2]
["肉類",11220,1889,"＜鳥肉類＞　にわとり　［若どり・主品目］　むね　皮なし　生",105,23.3,1.9,0,4,0.3,9,0.1,0.11,3,0.1]
["肉類",11288,1890,"＜鳥肉類＞　にわとり　［若どり・主品目］　むね　皮なし　焼き",177,38.799999999999997,3.3,0,7,0.5,14,0.14000000000000001,0.18,4,0.2]
["肉類",11221,1891,"＜鳥肉類＞　にわとり　［若どり・主品目］　もも　皮つき　生",190,16.600000000000001,14.2,0,5,0.6,40,0.1,0.15,3,0.2]
["肉類",11223,1892,"＜鳥肉類＞　にわとり　［若どり・主品目］　もも　皮つき　ゆで",216,22,15.2,0,9,1,47,7.0000000000000007E-2,0.21,2,0.1]
["肉類",11222,1893,"＜鳥肉類＞　にわとり　［若どり・主品目］　もも　皮つき　焼き",220,26.3,13.9,0,6,0.9,25,0.14000000000000001,0.24,2,0.2]
["肉類",11289,1894,"＜鳥肉類＞　にわとり　［若どり・主品目］　もも　皮つき　から揚げ",307,24.2,18.100000000000001,0.8,11,1,28,0.12,0.23,2,2.5]
["肉類",11224,1895,"＜鳥肉類＞　にわとり　［若どり・主品目］　もも　皮なし　生",113,19,5,0,5,0.6,16,0.12,0.19,3,0.2]
["肉類",11226,1896,"＜鳥肉類＞　にわとり　［若どり・主品目］　もも　皮なし　ゆで",141,25.1,5.2,0,10,0.8,14,0.12,0.18,2,0.1]
["肉類",11225,1897,"＜鳥肉類＞　にわとり　［若どり・主品目］　もも　皮なし　焼き",145,25.5,5.7,0,7,0.9,13,0.14000000000000001,0.23,3,0.2]
["肉類",11290,1898,"＜鳥肉類＞　にわとり　［若どり・主品目］　もも　皮なし　から揚げ",249,25.4,11.4,0.9,12,1,17,0.15,0.25,2,2.7]
["肉類",11227,1899,"＜鳥肉類＞　にわとり　［若どり・副品目］　ささみ　生",98,23.9,0.8,0,4,0.3,5,0.09,0.11,3,0.1]
["肉類",11229,1900,"＜鳥肉類＞　にわとり　［若どり・副品目］　ささみ　ゆで",121,29.6,1,0,5,0.3,4,0.09,0.13,2,0.1]
["肉類",11228,1901,"＜鳥肉類＞　にわとり　［若どり・副品目］　ささみ　焼き",132,31.7,1.4,0,5,0.4,4,0.11,0.16,2,0.1]
["肉類",11298,1902,"＜鳥肉類＞　にわとり　［若どり・副品目］　ささみ　ソテー",186,36.1,5.4,0,5,0.4,8,0.1,0.18,4,0.2]
["肉類",11300,1903,"＜鳥肉類＞　にわとり　［若どり・副品目］　ささみ　フライ",246,26.8,12.8,0,14,0.4,4,0.09,0.15,2,0.2]
["肉類",11299,1904,"＜鳥肉類＞　にわとり　［若どり・副品目］　ささみ　天ぷら",192,25.7,7.4,0,24,0.4,5,0.09,0.16,3,0.2]
["肉類",11230,1905,"＜鳥肉類＞　にわとり　［二次品目］　ひき肉　生",171,17.5,12,0,8,0.8,37,0.09,0.17,1,0.1]
["肉類",11291,1906,"＜鳥肉類＞　にわとり　［二次品目］　ひき肉　焼き",235,27.5,14.8,0,19,1.4,47,0.14000000000000001,0.26,1,0.2]
["肉類",11231,1907,"＜鳥肉類＞　にわとり　［副品目］　心臓　生",186,14.5,15.5,0,5,5.0999999999999996,700,0.22,1.1000000000000001,5,0.2]
["肉類",11232,1908,"＜鳥肉類＞　にわとり　［副品目］　肝臓　生",100,18.899999999999999,3.1,0,5,9,14000,0.38,1.8,20,0.2]
["肉類",11233,1909,"＜鳥肉類＞　にわとり　［副品目］　すなぎも　生",86,18.3,1.8,0,7,2.5,4,0.06,0.26,5,0.1]
["肉類",11234,1910,"＜鳥肉類＞　にわとり　［副品目］　皮　むね　生",466,9.4,48.1,0,3,0.3,120,0.02,0.05,1,0.1]
["肉類",11235,1911,"＜鳥肉類＞　にわとり　［副品目］　皮　もも　生",474,6.6,51.6,0,6,0.3,120,0.01,0.05,1,0.1]
["肉類",11236,1912,"＜鳥肉類＞　にわとり　［副品目］　なんこつ（胸肉）　生",54,12.5,0.4,0,47,0.3,1,0.03,0.03,3,1]
["肉類",11237,1913,"＜鳥肉類＞　にわとり　［その他］　焼き鳥缶詰",173,18.399999999999999,7.8,0,12,2.9,60,0.01,0.18,0,2.2000000000000002]
["肉類",11292,1914,"＜鳥肉類＞　にわとり　［その他］　チキンナゲット",235,15.5,13.7,1.2,48,0.6,24,0.08,0.09,1,1.6]
["肉類",11293,1915,"＜鳥肉類＞　にわとり　［その他］　つくね",235,15.2,15.2,1.9,33,1.1000000000000001,38,0.11,0.18,0,1.8]
["肉類",11238,1916,"＜鳥肉類＞　はと　肉　皮なし　生",131,21.8,5.0999999999999996,0,3,4.4000000000000004,16,0.32,1.89,3,0.2]
["肉類",11240,1917,"＜鳥肉類＞　ほろほろちょう　肉　皮なし　生",98,22.5,1,0,6,1.1000000000000001,9,0.16,0.2,3,0.2]
["肉類",11241,1918,"＜その他＞　いなご　つくだ煮",243,26.3,1.4,0,28,4.7,75,0.06,1,0,4.8]
["肉類",11242,1919,"＜その他＞　かえる　肉　生",92,22.3,0.4,0,9,0.4,0,0.04,0.13,0,0.1]
["肉類",11243,1920,"＜その他＞　すっぽん　肉　生",175,16.399999999999999,13.4,0,18,0.9,94,0.91,0.41,1,0.2]
["肉類",11244,1921,"＜その他＞　はち　はちの子缶詰",239,16.2,7.2,0,11,3,42,0.17,1.22,0,1.7]
["卵類",12020,1922,"あひる卵　ピータン",188,13.7,16.5,0,90,3,220,0,0.27,0,2]
["卵類",12001,1923,"うこっけい卵　全卵　生",154,12,13,0,53,2.2000000000000002,160,0.1,0.32,0,0.4]
["卵類",12002,1924,"うずら卵　全卵　生",157,12.6,13.1,0,60,3.1,350,0.14000000000000001,0.72,0,0.3]
["卵類",12003,1925,"うずら卵　水煮缶詰",162,11,14.1,0,47,2.8,480,0.03,0.33,0,0.5]
["卵類",12004,1926,"鶏卵　全卵　生",142,12.2,10.199999999999999,0,46,1.5,210,0.06,0.37,0,0.4]
["卵類",12005,1927,"鶏卵　全卵　ゆで",134,12.5,10.4,0,47,1.5,170,0.06,0.32,0,0.3]
["卵類",12006,1928,"鶏卵　全卵　ポーチドエッグ",145,12.3,11.7,0,55,2.2000000000000002,160,0.06,0.4,0,0.3]
["卵類",12021,1929,"鶏卵　全卵　目玉焼き",205,14.8,17.600000000000001,0,60,2.1,200,7.0000000000000007E-2,0.41,0,0.5]
["卵類",12022,1930,"鶏卵　全卵　いり",190,13.3,16.7,0,58,1.8,180,7.0000000000000007E-2,0.42,0,0.4]
["卵類",12023,1931,"鶏卵　全卵　素揚げ",321,14.3,31.9,0,58,2,200,0.08,0.43,0,0.5]
["卵類",12007,1932,"鶏卵　全卵　水煮缶詰",131,10.8,10.6,0,40,1.7,85,0.02,0.31,0,0.8]
["卵類",12008,1933,"鶏卵　全卵　加糖全卵",199,9.8000000000000007,10.6,0,44,1.5,130,0.06,0.38,0,0.3]
["卵類",12009,1934,"鶏卵　全卵　乾燥全卵",542,49.1,42,0,210,3,420,0.28999999999999998,1.24,0,1.2]
["卵類",12010,1935,"鶏卵　卵黄　生",336,16.5,34.299999999999997,0,140,4.8,690,0.21,0.45,0,0.1]
["卵類",12011,1936,"鶏卵　卵黄　ゆで",331,16.100000000000001,34.1,0,140,4.7,520,0.16,0.43,0,0.1]
["卵類",12012,1937,"鶏卵　卵黄　加糖卵黄",327,12.1,23.9,0,110,2,400,0.42,0.82,0,0.1]
["卵類",12013,1938,"鶏卵　卵黄　乾燥卵黄",638,30.3,62.9,0,280,4.4000000000000004,630,0.42,0.82,0,0.2]
["卵類",12014,1939,"鶏卵　卵白　生",44,10.1,0,0,5,0,0,0,0.35,0,0.5]
["卵類",12015,1940,"鶏卵　卵白　ゆで",46,10.5,0.1,0,6,0,0,0.02,0.26,0,0.4]
["卵類",12016,1941,"鶏卵　卵白　乾燥卵白",350,86.5,0.4,0,60,0.1,0,0.03,2.09,0,3.3]
["卵類",12017,1942,"鶏卵　たまご豆腐",76,6.5,5.3,0,26,0.8,83,0.04,0.17,0,1]
["卵類",12018,1943,"鶏卵　たまご焼　厚焼きたまご",146,10.5,9.1999999999999993,0,41,1.3,140,0.06,0.27,0,1.2]
["卵類",12019,1944,"鶏卵　たまご焼　だし巻きたまご",123,11,9.1999999999999993,0,42,1.3,140,0.06,0.28000000000000003,0,1.2]
["乳類",13001,1945,"＜牛乳及び乳製品＞　（液状乳類）　生乳　ジャージー種",77,3.9,5.2,0,140,0.1,53,0.02,0.21,1,0.1]
["乳類",13002,1946,"＜牛乳及び乳製品＞　（液状乳類）　生乳　ホルスタイン種",63,3.2,3.7,0,110,0,38,0.04,0.15,1,0.1]
["乳類",13003,1947,"＜牛乳及び乳製品＞　（液状乳類）　普通牛乳",61,3.3,3.8,0,110,0.02,38,0.04,0.15,1,0.1]
["乳類",13006,1948,"＜牛乳及び乳製品＞　（液状乳類）　脱脂乳",31,3.4,0.1,0,100,0.1,0,0.04,0.15,2,0.1]
["乳類",13004,1949,"＜牛乳及び乳製品＞　（液状乳類）　加工乳　濃厚",70,3.4,4.2,0,110,0.1,35,0.03,0.17,0,0.1]
["乳類",13005,1950,"＜牛乳及び乳製品＞　（液状乳類）　加工乳　低脂肪",42,3.8,1,0,130,0.1,13,0.04,0.18,0,0.2]
["乳類",13059,1951,"＜牛乳及び乳製品＞　（液状乳類）　乳児用液体ミルク",66,1.5,3.6,0,45,0.6,66,0.08,0.11,31,0]
["乳類",13007,1952,"＜牛乳及び乳製品＞　（液状乳類）　乳飲料　コーヒー",56,2.2000000000000002,2,0,80,0.1,5,0.02,0.09,0,0.1]
["乳類",13008,1953,"＜牛乳及び乳製品＞　（液状乳類）　乳飲料　フルーツ",46,1.2,0.2,0,40,0,0,0.01,0.06,0,0.1]
["乳類",13009,1954,"＜牛乳及び乳製品＞　（粉乳類）　全粉乳",490,25.5,26.2,0,890,0.4,180,0.25,1.1000000000000001,5,1.1000000000000001]
["乳類",13010,1955,"＜牛乳及び乳製品＞　（粉乳類）　脱脂粉乳",354,34,1,0,1100,0.5,6,0.3,1.6,5,1.4]
["乳類",13011,1956,"＜牛乳及び乳製品＞　（粉乳類）　乳児用調製粉乳",510,12.4,26.8,0,370,6.5,560,0.41,0.72,53,0.4]
["乳類",13012,1957,"＜牛乳及び乳製品＞　（練乳類）　無糖練乳",134,6.8,7.9,0,270,0.2,50,0.06,0.35,0,0.4]
["乳類",13013,1958,"＜牛乳及び乳製品＞　（練乳類）　加糖練乳",314,7.7,8.5,0,260,0.1,120,0.08,0.37,2,0.2]
["乳類",13014,1959,"＜牛乳及び乳製品＞　（クリーム類）　クリーム　乳脂肪",404,1.9,43,0,49,0.1,160,0.02,0.13,0,0.1]
["乳類",13015,1960,"＜牛乳及び乳製品＞　（クリーム類）　クリーム　乳脂肪・植物性脂肪",388,4.4000000000000004,42.1,0,47,0.2,200,0.01,7.0000000000000007E-2,0,0.4]
["乳類",13016,1961,"＜牛乳及び乳製品＞　（クリーム類）　クリーム　植物性脂肪",353,1.3,39.5,0,50,0,9,0.01,7.0000000000000007E-2,0,0.1]
["乳類",13017,1962,"＜牛乳及び乳製品＞　（クリーム類）　ホイップクリーム　乳脂肪",409,1.8,40.700000000000003,0,54,0.1,350,0.02,0.08,0,0.1]
["乳類",13018,1963,"＜牛乳及び乳製品＞　（クリーム類）　ホイップクリーム　乳脂肪・植物性脂肪",394,4,38.4,0,42,0.1,180,0.01,0.06,0,0.3]
["乳類",13019,1964,"＜牛乳及び乳製品＞　（クリーム類）　ホイップクリーム　植物性脂肪",399,6.3,36.1,0,30,0.2,9,0,0.05,0,0.6]
["乳類",13020,1965,"＜牛乳及び乳製品＞　（クリーム類）　コーヒーホワイトナー　液状　乳脂肪",205,5.2,18.3,0,30,0.1,150,0.01,0.05,0,0.4]
["乳類",13021,1966,"＜牛乳及び乳製品＞　（クリーム類）　コーヒーホワイトナー　液状　乳脂肪・植物性脂肪",227,4.8,21.6,0,26,0.1,77,0.01,0.04,0,0.4]
["乳類",13022,1967,"＜牛乳及び乳製品＞　（クリーム類）　コーヒーホワイトナー　液状　植物性脂肪",244,4.3,24.8,0,21,0.1,3,0,0.03,0,0.4]
["乳類",13023,1968,"＜牛乳及び乳製品＞　（クリーム類）　コーヒーホワイトナー　粉末状　乳脂肪",504,7.6,27.3,0,87,0,320,0.02,0.65,0,0.9]
["乳類",13024,1969,"＜牛乳及び乳製品＞　（クリーム類）　コーヒーホワイトナー　粉末状　植物性脂肪",542,2.1,36.200000000000003,0,120,0.1,0,0,0.01,0,1.8]
["乳類",13025,1970,"＜牛乳及び乳製品＞　（発酵乳・乳酸菌飲料）　ヨーグルト　全脂無糖",56,3.6,3,0,120,0,33,0.04,0.14000000000000001,1,0.1]
["乳類",13053,1971,"＜牛乳及び乳製品＞　（発酵乳・乳酸菌飲料）　ヨーグルト　低脂肪無糖",40,3.7,1,0,130,0,0,0.04,0.19,2,0.1]
["乳類",13054,1972,"＜牛乳及び乳製品＞　（発酵乳・乳酸菌飲料）　ヨーグルト　無脂肪無糖",37,4,0.3,0,140,0,3,0.04,0.17,1,0.1]
["乳類",13026,1973,"＜牛乳及び乳製品＞　（発酵乳・乳酸菌飲料）　ヨーグルト　脱脂加糖",65,4.3,0.2,0,120,0.1,0,0.03,0.15,0,0.2]
["乳類",13027,1974,"＜牛乳及び乳製品＞　（発酵乳・乳酸菌飲料）　ヨーグルト　ドリンクタイプ　加糖",64,2.9,0.5,0,110,0.1,5,0.01,0.12,0,0.1]
["乳類",13028,1975,"＜牛乳及び乳製品＞　（発酵乳・乳酸菌飲料）　乳酸菌飲料　乳製品",64,1.1000000000000001,0.1,0,43,0,0,0.01,0.05,0,0]
["乳類",13029,1976,"＜牛乳及び乳製品＞　（発酵乳・乳酸菌飲料）　乳酸菌飲料　殺菌乳製品",217,1.5,0.1,0,55,0.1,0,0.02,0.08,0,0]
["乳類",13030,1977,"＜牛乳及び乳製品＞　（発酵乳・乳酸菌飲料）　乳酸菌飲料　非乳製品",39,0.4,0.1,0.2,16,0,1,0.01,0.01,5,0]
["乳類",13031,1978,"＜牛乳及び乳製品＞　（チーズ類）　ナチュラルチーズ　エダム",321,28.9,25,0,660,0.3,250,0.04,0.42,0,2]
["乳類",13032,1979,"＜牛乳及び乳製品＞　（チーズ類）　ナチュラルチーズ　エメンタール",398,27.3,33.6,0,1200,0.3,220,0.02,0.48,0,1.3]
["乳類",13033,1980,"＜牛乳及び乳製品＞　（チーズ類）　ナチュラルチーズ　カテージ",99,13.3,4.5,0,55,0.1,37,0.02,0.15,0,1]
["乳類",13034,1981,"＜牛乳及び乳製品＞　（チーズ類）　ナチュラルチーズ　カマンベール",291,19.100000000000001,24.7,0,460,0.2,240,0.03,0.48,0,2]
["乳類",13035,1982,"＜牛乳及び乳製品＞　（チーズ類）　ナチュラルチーズ　クリーム",313,8.1999999999999993,33,0,70,0.1,250,0.03,0.22,0,0.7]
["乳類",13036,1983,"＜牛乳及び乳製品＞　（チーズ類）　ナチュラルチーズ　ゴーダ",356,25.8,29,0,680,0.3,270,0.03,0.33,0,2]
["乳類",13037,1984,"＜牛乳及び乳製品＞　（チーズ類）　ナチュラルチーズ　チェダー",390,25.7,33.799999999999997,0,740,0.3,330,0.04,0.45,0,2]
["乳類",13038,1985,"＜牛乳及び乳製品＞　（チーズ類）　ナチュラルチーズ　パルメザン",445,44,30.8,0,1300,0.4,240,0.05,0.68,0,3.8]
["乳類",13039,1986,"＜牛乳及び乳製品＞　（チーズ類）　ナチュラルチーズ　ブルー",326,18.8,29,0,590,0.3,280,0.03,0.42,0,3.8]
["乳類",13055,1987,"＜牛乳及び乳製品＞　（チーズ類）　ナチュラルチーズ　マスカルポーネ",273,4.4000000000000004,28.2,0,150,0.1,390,0.03,0.17,0,0.1]
["乳類",13056,1988,"＜牛乳及び乳製品＞　（チーズ類）　ナチュラルチーズ　モッツァレラ",269,18.399999999999999,19.899999999999999,0,330,0.1,0,0.01,0.19,0,0.2]
["乳類",13057,1989,"＜牛乳及び乳製品＞　（チーズ類）　ナチュラルチーズ　やぎ",280,20.6,21.7,0,130,0.1,290,0.09,0.88,0,1.2]
["乳類",13058,1990,"＜牛乳及び乳製品＞　（チーズ類）　ナチュラルチーズ　リコッタ",159,7.1,11.5,0,340,0.1,0,0.04,0.21,0,0.4]
["乳類",13040,1991,"＜牛乳及び乳製品＞　（チーズ類）　プロセスチーズ",313,22.7,26,0,630,0.3,260,0.03,0.38,0,2.8]
["乳類",13041,1992,"＜牛乳及び乳製品＞　（チーズ類）　チーズスプレッド",284,15.9,25.7,0,460,0.2,190,0.02,0.35,0,2.5]
["乳類",13042,1993,"＜牛乳及び乳製品＞　（アイスクリーム類）　アイスクリーム　高脂肪",205,3.5,12,0.1,130,0.1,100,0.06,0.18,0,0.2]
["乳類",13043,1994,"＜牛乳及び乳製品＞　（アイスクリーム類）　アイスクリーム　普通脂肪",178,3.9,8,0.1,140,0.1,58,0.06,0.2,0,0.3]
["乳類",13044,1995,"＜牛乳及び乳製品＞　（アイスクリーム類）　アイスミルク",167,3.4,6.4,0,110,0.1,22,0.03,0.14000000000000001,0,0.2]
["乳類",13045,1996,"＜牛乳及び乳製品＞　（アイスクリーム類）　ラクトアイス　普通脂肪",217,3.1,13.6,0.1,95,0.1,10,0.03,0.15,0,0.2]
["乳類",13046,1997,"＜牛乳及び乳製品＞　（アイスクリーム類）　ラクトアイス　低脂肪",108,1.8,2,0,60,0.1,0,0.02,0.12,0,0.1]
["乳類",13047,1998,"＜牛乳及び乳製品＞　（アイスクリーム類）　ソフトクリーム",146,3.8,5.6,0,130,0.1,18,0.05,0.22,0,0.2]
["乳類",13048,1999,"＜牛乳及び乳製品＞　（その他）　カゼイン",358,86.2,1.5,0,26,0.8,0,0,0,0,0]
["乳類",13049,2000,"＜牛乳及び乳製品＞　（その他）　シャーベット",128,0.9,1,0,22,0.1,0,0.04,0.05,0,0]
["乳類",13050,2001,"＜牛乳及び乳製品＞　（その他）　チーズホエーパウダー",339,12.5,1.2,0,620,0.4,12,0.22,2.35,3,1.8]
["乳類",13051,2002,"＜その他＞　人乳",61,1.1000000000000001,3.5,0,27,0.04,46,0.01,0.03,5,0]
["乳類",13052,2003,"＜その他＞　やぎ乳",57,3.1,3.6,0,120,0.1,36,0.04,0.14000000000000001,1,0.1]
["油脂類",14023,2004,"（植物油脂類）　あまに油",897,0,100,0,0,0,1,0,0,0,0]
["油脂類",14024,2005,"（植物油脂類）　えごま油",897,0,100,0,1,0.1,2,0,0,0,0]
["油脂類",14001,2006,"（植物油脂類）　オリーブ油",894,0,100,0,0,0,15,0,0,0,0]
["油脂類",14002,2007,"（植物油脂類）　ごま油",890,0,100,0,1,0.1,0,0,0,0,0]
["油脂類",14003,2008,"（植物油脂類）　米ぬか油",880,0,100,0,0,0,0,0,0,0,0]
["油脂類",14004,2009,"（植物油脂類）　サフラワー油　ハイオレイック",892,0,100,0,0,0,0,0,0,0,0]
["油脂類",14025,2010,"（植物油脂類）　サフラワー油　ハイリノール",883,0,100,0,0,0,0,0,0,0,0]
["油脂類",14005,2011,"（植物油脂類）　大豆油",885,0,100,0,0,0,0,0,0,0,0]
["油脂類",14006,2012,"（植物油脂類）　調合油",886,0,100,0,0,0,0,0,0,0,0]
["油脂類",14007,2013,"（植物油脂類）　とうもろこし油",884,0,100,0,0,0,0,0,0,0,0]
["油脂類",14008,2014,"（植物油脂類）　なたね油",887,0,100,0,0,0,0,0,0,0,0]
["油脂類",14009,2015,"（植物油脂類）　パーム油",887,0,100,0,0,0,0,0,0,0,0]
["油脂類",14010,2016,"（植物油脂類）　パーム核油",893,0,100,0,0,0,0,0,0,0,0]
["油脂類",14011,2017,"（植物油脂類）　ひまわり油　ハイリノール",899,0,100,0,0,0,0,0,0,0,0]
["油脂類",14026,2018,"（植物油脂類）　ひまわり油　ミッドオレイック",892,0,100,0,0,0,0,0,0,0,0]
["油脂類",14027,2019,"（植物油脂類）　ひまわり油　ハイオレイック",899,0,100,0,0,0,0,0,0,0,0]
["油脂類",14028,2020,"（植物油脂類）　ぶどう油",882,0,100,0,0,0,0,0,0,0,0]
["油脂類",14012,2021,"（植物油脂類）　綿実油",883,0,100,0,0,0,0,0,0,0,0]
["油脂類",14013,2022,"（植物油脂類）　やし油",889,0,100,0,0,0,0,0,0,0,0]
["油脂類",14014,2023,"（植物油脂類）　落花生油",882,0,100,0,0,0,0,0,0,0,0]
["油脂類",14015,2024,"（動物油脂類）　牛脂",869,0.2,99.8,0,0,0.1,85,0,0,0,0]
["油脂類",14016,2025,"（動物油脂類）　ラード",885,0,100,0,0,0,0,0,0,0,0]
["油脂類",14032,2026,"（動物油脂類）　たらのあぶら",853,0.1,99.8,0,0,0,37000,0,0,0,0]
["油脂類",14017,2027,"（バター類）　無発酵バター　有塩バター",700,0.6,81,0,15,0.1,520,0.01,0.03,0,1.9]
["油脂類",14018,2028,"（バター類）　無発酵バター　食塩不使用バター",720,0.5,83,0,14,0.4,800,0,0.03,0,0]
["油脂類",14019,2029,"（バター類）　発酵バター",713,0.6,80,0,12,0.4,780,0,0.02,0,1.3]
["油脂類",14020,2030,"（マーガリン類）　マーガリン　家庭用　有塩",715,0.4,83.1,0,14,0,25,0.01,0.03,0,1.3]
["油脂類",14033,2031,"（マーガリン類）　マーガリン　家庭用　無塩",715,0.4,83.1,0,14,0,25,0.01,0.03,0,0]
["油脂類",14029,2032,"（マーガリン類）　マーガリン　業務用　有塩",740,0.3,84.3,0,14,0,24,0.01,0.03,0,1.3]
["油脂類",14034,2033,"（マーガリン類）　マーガリン　業務用　無塩",740,0.3,84.3,0,14,0,24,0.01,0.03,0,0]
["油脂類",14021,2034,"（マーガリン類）　ファットスプレッド",579,0.2,69.099999999999994,0,8,0,31,0.02,0.02,0,1.1000000000000001]
["油脂類",14022,2035,"（その他）　ショートニング　家庭用",889,0,99.9,0,0,0,0,0,0,0,0]
["油脂類",14030,2036,"（その他）　ショートニング　業務用　製菓",881,0,99.9,0,0,0,0,0,0,0,0]
["油脂類",14031,2037,"（その他）　ショートニング　業務用　フライ",886,0,99.9,0,0,0,0,0,0,0,0]
["菓子類",15001,2038,"＜和生菓子・和半生菓子類＞　甘納豆　あずき",284,3.4,0.3,4.8,11,0.7,0,0.06,0.02,0,0.1]
["菓子類",15002,2039,"＜和生菓子・和半生菓子類＞　甘納豆　いんげんまめ",287,3.8,0.5,5.5,26,0.8,0,0.09,0.03,0,0.1]
["菓子類",15003,2040,"＜和生菓子・和半生菓子類＞　甘納豆　えんどう",293,3.8,0.4,3.2,12,0.9,2,0.11,0.02,0,0.1]
["菓子類",15005,2041,"＜和生菓子・和半生菓子類＞　今川焼　こしあん入り",218,4.5,1.1000000000000001,1.9,29,0.7,0,0.03,0.04,0,0.1]
["菓子類",15145,2042,"＜和生菓子・和半生菓子類＞　今川焼　つぶしあん入り",220,4.5,1.4,1.7,24,0.2,0,0.04,0.04,0,0.2]
["菓子類",15146,2043,"＜和生菓子・和半生菓子類＞　今川焼　カスタードクリーム入り",224,4.7,2.6,0.9,35,0.2,21,0.05,7.0000000000000007E-2,0,0.1]
["菓子類",15006,2044,"＜和生菓子・和半生菓子類＞　ういろう　白",181,1,0.2,0.1,2,0.2,0,0.02,0,0,0]
["菓子類",15147,2045,"＜和生菓子・和半生菓子類＞　ういろう　黒",174,1.5,0.2,0.1,69,1.5,0,0.03,0.02,0,0]
["菓子類",15007,2046,"＜和生菓子・和半生菓子類＞　うぐいすもち　こしあん入り",236,3.5,0.4,1.8,19,0.9,0,0.01,0.01,0,0.1]
["菓子類",15148,2047,"＜和生菓子・和半生菓子類＞　うぐいすもち　つぶしあん入り",237,2.7,0.4,1.2,5,0.6,0,0.01,0.01,0,0]
["菓子類",15008,2048,"＜和生菓子・和半生菓子類＞　かしわもち　こしあん入り",203,4,0.4,1.7,18,0.9,0,0.03,0.02,0,0.1]
["菓子類",15149,2049,"＜和生菓子・和半生菓子類＞　かしわもち　つぶしあん入り",204,3.9,0.5,1.7,7,0.7,0,0.04,0.02,0,0.2]
["菓子類",15009,2050,"＜和生菓子・和半生菓子類＞　カステラ",312,7.1,5,0.5,27,0.7,91,0.05,0.18,0,0.2]
["菓子類",15010,2051,"＜和生菓子・和半生菓子類＞　かのこ",260,4.8,0.4,3.8,22,1.6,0,0.01,0.03,0,0.1]
["菓子類",15011,2052,"＜和生菓子・和半生菓子類＞　かるかん",226,2.1,0.3,0.4,3,0.3,0,0.05,0.01,1,0]
["菓子類",15012,2053,"＜和生菓子・和半生菓子類＞　きび団子",298,1.6,0.2,0.1,2,0.3,0,0.01,0,0,0]
["菓子類",15013,2054,"＜和生菓子・和半生菓子類＞　ぎゅうひ",253,1.3,0.2,0.1,1,0.2,0,0.01,0,0,0]
["菓子類",15014,2055,"＜和生菓子・和半生菓子類＞　きりざんしょ",245,2.1,0.3,0.2,2,0.3,0,0.03,0.01,0,0.2]
["菓子類",15015,2056,"＜和生菓子・和半生菓子類＞　きんぎょく糖",282,0,0,0.8,7,0.1,0,0,0,0,0]
["菓子類",15016,2057,"＜和生菓子・和半生菓子類＞　きんつば",260,6,0.7,5.5,20,1.4,0,0.03,0.03,0,0.3]
["菓子類",15017,2058,"＜和生菓子・和半生菓子類＞　草もち　こしあん入り",224,4.2,0.4,1.9,22,1,13,0.03,0.02,0,0]
["菓子類",15150,2059,"＜和生菓子・和半生菓子類＞　草もち　つぶしあん入り",227,4.8,0.7,2.7,17,0.7,17,0.05,0.02,0,0.1]
["菓子類",15018,2060,"＜和生菓子・和半生菓子類＞　くし団子　あん　こしあん入り",198,3.8,0.4,1.2,13,0.7,0,0.04,0.02,0,0.1]
["菓子類",15151,2061,"＜和生菓子・和半生菓子類＞　くし団子　あん　つぶしあん入り",199,3.8,0.5,1.3,6,0.6,0,0.04,0.01,0,0.1]
["菓子類",15019,2062,"＜和生菓子・和半生菓子類＞　くし団子　みたらし",194,3.2,0.4,0.3,4,0.4,0,0.04,0.02,0,0.6]
["菓子類",15121,2063,"＜和生菓子・和半生菓子類＞　くずもち　関西風　くずでん粉製品",93,0.1,0.1,0,5,0.5,0,0,0,0,0]
["菓子類",15122,2064,"＜和生菓子・和半生菓子類＞　くずもち　関東風　小麦でん粉製品",94,0.1,0.1,0,4,0.2,0,0,0,0,0]
["菓子類",15020,2065,"＜和生菓子・和半生菓子類＞　げっぺい",347,4.7,8.5,2.1,41,1.1000000000000001,0,0.05,0.03,0,0]
["菓子類",15123,2066,"＜和生菓子・和半生菓子類＞　五平もち",178,3,0.5,1.3,10,0.4,0,0.02,0.02,0,0.6]
["菓子類",15022,2067,"＜和生菓子・和半生菓子類＞　桜もち　関西風　こしあん入り",196,3.5,0.3,1.7,18,0.7,0,0.01,0.01,0,0.1]
["菓子類",15153,2068,"＜和生菓子・和半生菓子類＞　桜もち　関西風　つぶしあん入り",197,3,0.3,1.3,5,0.4,0,0.01,0.01,0,0.1]
["菓子類",15021,2069,"＜和生菓子・和半生菓子類＞　桜もち　関東風　こしあん入り",235,4.5,0.4,2.6,26,1,0,0.02,0.02,0,0.1]
["菓子類",15152,2070,"＜和生菓子・和半生菓子類＞　桜もち　関東風　つぶしあん入り",237,4.2,0.6,2.5,12,0.7,0,0.04,0.02,0,0.1]
["菓子類",15124,2071,"＜和生菓子・和半生菓子類＞　笹だんご　こしあん入り",235,4,0.5,1.9,15,0.5,34,0.06,0.02,0,0]
["菓子類",15154,2072,"＜和生菓子・和半生菓子類＞　笹だんご　つぶしあん入り",228,4.7,0.6,2.2999999999999998,17,0.7,33,0.05,0.02,0,0.1]
["菓子類",15143,2073,"＜和生菓子・和半生菓子類＞　ずんだ",190,6.3,3.4,2.5,42,1.4,13,0.13,7.0000000000000007E-2,8,0.2]
["菓子類",15144,2074,"＜和生菓子・和半生菓子類＞　ずんだもち",212,4.9000000000000004,1.7,1.3,19,0.6,5,7.0000000000000007E-2,0.03,3,0.1]
["菓子類",15023,2075,"＜和生菓子・和半生菓子類＞　大福もち　こしあん入り",223,4.5999999999999996,0.5,1.8,18,0.7,0,0.02,0.01,0,0.1]
["菓子類",15155,2076,"＜和生菓子・和半生菓子類＞　大福もち　つぶしあん入り",223,4.7,0.6,2.7,10,0.7,0,0.03,0.02,0,0.1]
["菓子類",15024,2077,"＜和生菓子・和半生菓子類＞　タルト　（和菓子）",287,5.9,3,1.5,28,0.9,0,0.03,0.11,1,0.1]
["菓子類",15025,2078,"＜和生菓子・和半生菓子類＞　ちまき",150,1.3,0.2,0.1,1,0.2,0,0.02,0,0,0]
["菓子類",15026,2079,"＜和生菓子・和半生菓子類＞　ちゃつう",320,6.2,4.3,3.8,120,1.9,0,0.08,0.05,0,0]
["菓子類",15156,2080,"＜和生菓子・和半生菓子類＞　どら焼　こしあん入り",282,6.6,3.1,1.5,26,0.9,0,0.05,0.11,0,0.4]
["菓子類",15027,2081,"＜和生菓子・和半生菓子類＞　どら焼　つぶしあん入り",292,6.6,3.2,1.9,22,0.8,0,0.05,0.11,0,0.4]
["菓子類",15157,2082,"＜和生菓子・和半生菓子類＞　生八つ橋　あん入り　こしあん入り",274,3.6,0.3,1.6,17,0.8,0,0.03,0.02,0,0]
["菓子類",15004,2083,"＜和生菓子・和半生菓子類＞　生八つ橋　あん入り　こしあん・つぶしあん混合",274,3.5,0.3,2.1,16,0.8,0,0.02,0.02,0,0]
["菓子類",15158,2084,"＜和生菓子・和半生菓子類＞　生八つ橋　あん入り　つぶしあん入り",275,3.7,0.5,2.2999999999999998,9,0.8,0,0.03,0.02,0,0.1]
["菓子類",15028,2085,"＜和生菓子・和半生菓子類＞　ねりきり",259,5.3,0.3,3.6,39,1.5,0,0.01,0.03,0,0]
["菓子類",15029,2086,"＜和生菓子・和半生菓子類＞　まんじゅう　カステラまんじゅう　こしあん入り",292,6.7,2.1,2.4,38,1.1000000000000001,0,0.05,0.08,0,0.1]
["菓子類",15159,2087,"＜和生菓子・和半生菓子類＞　まんじゅう　カステラまんじゅう　つぶしあん入り",292,6.9,2.2999999999999998,3.2,29,1,0,0.05,0.08,0,0.2]
["菓子類",15160,2088,"＜和生菓子・和半生菓子類＞　まんじゅう　かるかんまんじゅう　こしあん入り",226,3,0.3,1.4,14,0.6,0,0.03,0.02,1,0.1]
["菓子類",15161,2089,"＜和生菓子・和半生菓子類＞　まんじゅう　かるかんまんじゅう　つぶしあん入り",226,3.1,0.4,1.9,8,0.6,0,0.04,0.02,1,0.1]
["菓子類",15030,2090,"＜和生菓子・和半生菓子類＞　まんじゅう　くずまんじゅう　こしあん入り",216,3.1,0.2,2.2000000000000002,24,0.9,0,0.01,0.02,0,0.1]
["菓子類",15162,2091,"＜和生菓子・和半生菓子類＞　まんじゅう　くずまんじゅう　つぶしあん入り",218,1.3,0.1,1.3,6,0.4,0,0,0.01,0,0.1]
["菓子類",15031,2092,"＜和生菓子・和半生菓子類＞　まんじゅう　くりまんじゅう　こしあん入り",296,6.5,1.4,3.3,42,1.4,0,0.04,0.06,0,0.1]
["菓子類",15163,2093,"＜和生菓子・和半生菓子類＞　まんじゅう　くりまんじゅう　つぶしあん入り",295,6.7,1.6,4.7,26,1.3,0,0.04,0.06,0,0.2]
["菓子類",15032,2094,"＜和生菓子・和半生菓子類＞　まんじゅう　とうまんじゅう　こしあん入り",296,6.8,3.1,1.7,24,0.9,0,0.05,0.11,0,0.1]
["菓子類",15164,2095,"＜和生菓子・和半生菓子類＞　まんじゅう　とうまんじゅう　つぶしあん入り",294,6.9,3.3,2.2999999999999998,18,0.8,0,0.05,0.12,0,0.1]
["菓子類",15033,2096,"＜和生菓子・和半生菓子類＞　まんじゅう　蒸しまんじゅう　こしあん入り",283,4.5999999999999996,0.5,2.4,24,0.9,0,0.03,0.02,0,0.1]
["菓子類",15165,2097,"＜和生菓子・和半生菓子類＞　まんじゅう　蒸しまんじゅう　つぶしあん入り",257,4.7,0.7,3.4,14,0.9,0,0.04,0.02,0,0.2]
["菓子類",15034,2098,"＜和生菓子・和半生菓子類＞　まんじゅう　中華まんじゅう　あんまん　こしあん入り",273,6.1,5.6,2.6,58,1.1000000000000001,0,0.08,0.03,0,0]
["菓子類",15166,2099,"＜和生菓子・和半生菓子類＞　まんじゅう　中華まんじゅう　あんまん　つぶしあん入り",279,6.2,6,3.3,55,1.1000000000000001,0,0.08,0.03,0,0.1]
["菓子類",15035,2100,"＜和生菓子・和半生菓子類＞　まんじゅう　中華まんじゅう　肉まん",242,10,5.0999999999999996,3.2,28,0.8,3,0.23,0.1,7,1.2]
["菓子類",15036,2101,"＜和生菓子・和半生菓子類＞　もなか　こしあん入り",277,4.9000000000000004,0.3,3.1,33,1.2,0,0.01,0.02,0,0]
["菓子類",15167,2102,"＜和生菓子・和半生菓子類＞　もなか　つぶしあん入り",278,6.4,0.7,6.1,21,1.6,0,0.02,0.03,0,0.2]
["菓子類",15037,2103,"＜和生菓子・和半生菓子類＞　ゆべし",321,2.4,3.5,0.5,6,0.4,0,0.03,0.02,0,0.6]
["菓子類",15038,2104,"＜和生菓子・和半生菓子類＞　ようかん　練りようかん",289,3.6,0.2,3.1,33,1.1000000000000001,0,0.01,0.02,0,0]
["菓子類",15039,2105,"＜和生菓子・和半生菓子類＞　ようかん　水ようかん",168,2.6,0.2,2.2000000000000002,23,0.8,0,0.01,0.01,0,0.1]
["菓子類",15040,2106,"＜和生菓子・和半生菓子類＞　ようかん　蒸しようかん",237,4.4000000000000004,0.3,2.8,30,1.1000000000000001,0,0.02,0.02,0,0.2]
["菓子類",15041,2107,"＜和干菓子類＞　あめ玉",385,0,0,0,1,0,0,0,0,0,0]
["菓子類",15042,2108,"＜和干菓子類＞　芋かりんとう",465,1.4,20.6,2.6,41,0.7,3,0.13,0.05,33,0]
["菓子類",15043,2109,"＜和干菓子類＞　おこし",376,3.8,0.7,0.4,4,0.2,0,0.02,0.01,0,0.2]
["菓子類",15044,2110,"＜和干菓子類＞　おのろけ豆",438,11.3,13.6,2.2999999999999998,17,1.1000000000000001,0,0.13,0.05,0,1]
["菓子類",15045,2111,"＜和干菓子類＞　かりんとう　黒",420,7.5,11.6,1.2,66,1.6,0,0.1,0.05,0,0]
["菓子類",15046,2112,"＜和干菓子類＞　かりんとう　白",424,9.6999999999999993,11.2,1.7,17,0.8,0,0.12,0.05,0,0]
["菓子類",15047,2113,"＜和干菓子類＞　ごかぼう",367,10.6,6.4,4.5,48,2,0,0.03,0.06,0,0]
["菓子類",15048,2114,"＜和干菓子類＞　小麦粉せんべい　磯部せんべい",386,4.3,0.8,1.3,11,0.3,0,0.06,0.02,0,1.3]
["菓子類",15049,2115,"＜和干菓子類＞　小麦粉せんべい　かわらせんべい",388,7,3.2,1.2,10,0.6,0,7.0000000000000007E-2,0.11,0,0.1]
["菓子類",15050,2116,"＜和干菓子類＞　小麦粉せんべい　巻きせんべい",385,4.3,1.4,1,21,0.3,0,0.05,0.04,0,0.1]
["菓子類",15051,2117,"＜和干菓子類＞　小麦粉せんべい　南部せんべい　ごま入り",423,11.2,11.1,4.2,240,2.2000000000000002,0,0.27,0.08,0,1.1000000000000001]
["菓子類",15052,2118,"＜和干菓子類＞　小麦粉せんべい　南部せんべい　落花生入り",421,11.7,9.5,3.5,26,0.7,0,0.17,0.05,0,0.9]
["菓子類",15053,2119,"＜和干菓子類＞　しおがま",347,2.6,0.2,0.6,14,0.2,85,0.02,0.02,0,1.5]
["菓子類",15056,2120,"＜和干菓子類＞　ひなあられ　関西風",384,8,1.4,1.3,15,0.5,0,0.09,0.05,0,1.7]
["菓子類",15055,2121,"＜和干菓子類＞　ひなあられ　関東風",380,9.6,2.8,2.5,26,1.1000000000000001,0,0.08,0.06,0,1.5]
["菓子類",15057,2122,"＜和干菓子類＞　米菓　揚げせんべい",458,5.6,17.399999999999999,0.5,5,0.7,0,0.08,0.02,0,1.2]
["菓子類",15058,2123,"＜和干菓子類＞　米菓　甘辛せんべい",374,6.7,0.9,0.6,7,0.9,0,0.09,0.03,0,1.2]
["菓子類",15059,2124,"＜和干菓子類＞　米菓　あられ",378,7.5,1,0.8,8,0.3,0,0.06,0.03,0,1.7]
["菓子類",15060,2125,"＜和干菓子類＞　米菓　しょうゆせんべい",368,7.3,1,0.6,8,1,0,0.1,0.04,0,1.3]
["菓子類",15061,2126,"＜和干菓子類＞　ボーロ　小粒",391,2.5,2.1,0,15,0.6,0,0.01,7.0000000000000007E-2,0,0.1]
["菓子類",15062,2127,"＜和干菓子類＞　ボーロ　そばボーロ",398,7.7,3.4,1.5,21,0.9,0,0.12,0.11,0,0.3]
["菓子類",15063,2128,"＜和干菓子類＞　松風",378,4,0.7,1.2,10,0.3,0,0.05,0.02,0,0.1]
["菓子類",15064,2129,"＜和干菓子類＞　みしま豆",402,12.3,8.6,6,65,2.7,0,0.02,0.08,0,0]
["菓子類",15065,2130,"＜和干菓子類＞　八つ橋",390,3.3,0.5,0.3,3,0.4,0,0.04,0.01,0,0]
["菓子類",15066,2131,"＜和干菓子類＞　らくがん　らくがん",384,2.4,0.2,0.2,3,0.2,0,0.01,0,0,0]
["菓子類",15067,2132,"＜和干菓子類＞　らくがん　麦らくがん",396,4.8,1.8,5.4,16,1.1000000000000001,0,0.03,0.04,0,0]
["菓子類",15068,2133,"＜和干菓子類＞　らくがん　もろこしらくがん",374,6.6,0.3,6.9,16,1.8,0,0.01,0.01,0,0.3]
["菓子類",15125,2134,"＜菓子パン類＞　揚げパン",369,8.6999999999999993,18.7,1.8,42,0.6,2,0.18,0.13,0,1.1000000000000001]
["菓子類",15069,2135,"＜菓子パン類＞　あんパン　こしあん入り",253,6.8,3.6,2.5,31,1,0,0.06,7.0000000000000007E-2,0,0.3]
["菓子類",15168,2136,"＜菓子パン類＞　あんパン　つぶしあん入り",266,7,3.8,3.3,23,1,0,0.06,7.0000000000000007E-2,0,0.3]
["菓子類",15126,2137,"＜菓子パン類＞　あんパン　薄皮タイプ　こしあん入り",257,6.6,3.5,2.4,30,1,0,0.06,7.0000000000000007E-2,0,0.3]
["菓子類",15169,2138,"＜菓子パン類＞　あんパン　薄皮タイプ　つぶしあん入り",258,6.8,3.7,3.2,22,0.9,0,0.06,7.0000000000000007E-2,0,0.3]
["菓子類",15127,2139,"＜菓子パン類＞　カレーパン　皮及び具",302,6.6,18.3,1.6,24,0.7,34,0.11,0.15,0,1.2]
["菓子類",15128,2140,"＜菓子パン類＞　カレーパン　皮のみ",363,7.2,22.4,1.3,23,0.7,10,0.11,0.18,0,1]
["菓子類",15129,2141,"＜菓子パン類＞　カレーパン　具のみ",168,5.3,9.3000000000000007,2.4,28,0.7,87,0.11,7.0000000000000007E-2,0,1.8]
["菓子類",15070,2142,"＜菓子パン類＞　クリームパン",286,7.9,7.4,1.3,56,0.8,52,0.1,0.14000000000000001,0,0.4]
["菓子類",15130,2143,"＜菓子パン類＞　クリームパン　薄皮タイプ",218,6,7.1,0.6,71,0.7,86,7.0000000000000007E-2,0.15,0,0.2]
["菓子類",15071,2144,"＜菓子パン類＞　ジャムパン",285,5.3,3.9,1.6,20,0.5,0,7.0000000000000007E-2,7.0000000000000007E-2,3,0.3]
["菓子類",15072,2145,"＜菓子パン類＞　チョココロネ",321,5.8,15.3,1.1000000000000001,76,0.6,21,7.0000000000000007E-2,0.14000000000000001,0,0.4]
["菓子類",15131,2146,"＜菓子パン類＞　チョコパン　薄皮タイプ",340,4.7,19.399999999999999,0.8,98,0.5,30,0.06,0.15,0,0.4]
["菓子類",15132,2147,"＜菓子パン類＞　メロンパン",349,8,10.5,1.7,26,0.6,40,0.09,0.1,0,0.5]
["菓子類",15181,2148,"＜菓子パン類＞　菓子パン　あんなし",294,8.1999999999999993,6.1,1.7,26,0.6,0,0.1,0.11,0,0.5]
["菓子類",15073,2149,"＜ケーキ・ペストリー類＞　シュークリーム",223,6,11.4,0.3,65,0.2,130,7.0000000000000007E-2,0.18,1,0.2]
["菓子類",15074,2150,"＜ケーキ・ペストリー類＞　スポンジケーキ",283,7.9,7.5,0.7,6,0.2,24,0.06,0.18,0,0]
["菓子類",15075,2151,"＜ケーキ・ペストリー類＞　ショートケーキ　果実なし",318,6.9,15.2,0.6,5,0.1,63,0.05,0.15,0,0]
["菓子類",15170,2152,"＜ケーキ・ペストリー類＞　ショートケーキ　いちご",314,6.9,14.7,0.9,5,0.2,61,0.05,0.15,15,0]
["菓子類",15133,2153,"＜ケーキ・ペストリー類＞　タルト　（洋菓子）",248,4.7,13.5,1.4,28,0.3,110,0.06,0.12,46,0.1]
["菓子類",15134,2154,"＜ケーキ・ペストリー類＞　チーズケーキ　ベイクドチーズケーキ",299,8.5,21.2,0.2,54,0.5,190,0.04,0.23,2,0.5]
["菓子類",15135,2155,"＜ケーキ・ペストリー類＞　チーズケーキ　レアチーズケーキ",348,5.8,27.5,0.3,98,0.2,160,0.04,0.16,2,0.5]
["菓子類",15182,2156,"＜ケーキ・ペストリー類＞　デニッシュペストリー　プレーン　アメリカンタイプ",382,6.2,26.3,2.1,27,0.6,40,0.11,0.12,0,0.8]
["菓子類",15076,2157,"＜ケーキ・ペストリー類＞　デニッシュペストリー　プレーン　デンマークタイプ",407,6.5,34,2.7,17,0.7,56,0.11,0.12,0,0.5]
["菓子類",15183,2158,"＜ケーキ・ペストリー類＞　デニッシュペストリー　あん入り　アメリカンタイプ　こしあん",330,6,15.6,2.9,33,1,24,7.0000000000000007E-2,0.08,0,0.5]
["菓子類",15184,2159,"＜ケーキ・ペストリー類＞　デニッシュペストリー　あん入り　アメリカンタイプ　つぶしあん",323,6,15.7,3.6,23,1,24,7.0000000000000007E-2,0.08,0,0.5]
["菓子類",15171,2160,"＜ケーキ・ペストリー類＞　デニッシュペストリー　あん入り　デンマークタイプ　こしあん",384,6.5,21.3,3.3,29,1.1000000000000001,35,7.0000000000000007E-2,0.09,0,0.3]
["菓子類",15172,2161,"＜ケーキ・ペストリー類＞　デニッシュペストリー　あん入り　デンマークタイプ　つぶしあん",387,6.6,22,4.2,19,1.1000000000000001,36,0.08,0.09,0,0]
["菓子類",15185,2162,"＜ケーキ・ペストリー類＞　デニッシュペストリー　あん入り　アメリカンタイプ　クリーム",304,5.8,19.3,1.4,51,0.6,71,0.09,0.14000000000000001,0,0]
["菓子類",15173,2163,"＜ケーキ・ペストリー類＞　デニッシュペストリー　あん入り　デンマークタイプ　クリーム",419,7.3,29.6,2.1,55,0.9,100,0.11,0.16,0,0]
["菓子類",15077,2164,"＜ケーキ・ペストリー類＞　ドーナッツ　イーストドーナッツ　プレーン",379,7.2,20.2,1.5,41,0.5,0,0.09,0.11,0,0.8]
["菓子類",15174,2165,"＜ケーキ・ペストリー類＞　ドーナッツ　イーストドーナッツ　あん入り　こしあん",341,6.8,12.6,2.6,43,1,0,0.06,0.08,0,0.5]
["菓子類",15175,2166,"＜ケーキ・ペストリー類＞　ドーナッツ　イーストドーナッツ　あん入り　つぶしあん",341,7,13,3.4,26,0.3,0,0.06,0.08,0,0.5]
["菓子類",15176,2167,"＜ケーキ・ペストリー類＞　ドーナッツ　イーストドーナッツ　あん入り　クリーム",371,7.7,18.899999999999999,1.2,31,0.4,56,0.1,0.16,0,0.6]
["菓子類",15078,2168,"＜ケーキ・ペストリー類＞　ドーナッツ　ケーキドーナッツ　プレーン",368,7.2,11.7,1.2,31,0.2,4,7.0000000000000007E-2,0.12,0,0.3]
["菓子類",15177,2169,"＜ケーキ・ペストリー類＞　ドーナッツ　ケーキドーナッツ　あん入り　こしあん",351,8.3000000000000007,5.4,2.4,25,0.9,17,0.05,0.14000000000000001,0,0]
["菓子類",15178,2170,"＜ケーキ・ペストリー類＞　ドーナッツ　ケーキドーナッツ　あん入り　つぶしあん",352,8.6,5.7,3.4,14,0.9,17,0.05,0.14000000000000001,0,0.1]
["菓子類",15179,2171,"＜ケーキ・ペストリー類＞　ドーナッツ　ケーキドーナッツ　あん入り　クリーム",371,9.6,10.5,0.7,6,0.1,86,0.09,0.24,0,0]
["菓子類",15079,2172,"＜ケーキ・ペストリー類＞　パイ　パイ皮",386,5,25.4,1.3,9,0.3,0,0.05,0.02,0,1]
["菓子類",15080,2173,"＜ケーキ・ペストリー類＞　パイ　アップルパイ",294,4,17.5,1.2,6,0.2,0,0.02,0.01,1,0.7]
["菓子類",15081,2174,"＜ケーキ・ペストリー類＞　パイ　ミートパイ",381,9.6999999999999993,29.9,1.8,14,0.6,67,0.17,0.06,1,1.6]
["菓子類",15082,2175,"＜ケーキ・ペストリー類＞　バターケーキ",422,5.8,25.3,0.7,22,0.6,140,0.05,0.12,0,0.6]
["菓子類",15083,2176,"＜ケーキ・ペストリー類＞　ホットケーキ",253,7.7,5.4,1.1000000000000001,110,0.5,21,0.08,0.16,0,0.7]
["菓子類",15084,2177,"＜ケーキ・ペストリー類＞　ワッフル　カスタードクリーム入り",241,7.3,7.9,0.8,83,0.4,72,0.08,0.18,1,0.2]
["菓子類",15085,2178,"＜ケーキ・ペストリー類＞　ワッフル　ジャム入り",279,4.9000000000000004,4.2,1.3,52,0.4,10,0.05,0.1,5,0.1]
["菓子類",15086,2179,"＜デザート菓子類＞　カスタードプリン",116,5.7,5.5,0,81,0.5,23,0.04,0.2,1,0.2]
["菓子類",15136,2180,"＜デザート菓子類＞　牛乳寒天",61,1.1000000000000001,1.3,0.5,38,0.1,13,0.01,0.05,0,0]
["菓子類",15142,2181,"＜デザート菓子類＞　こんにゃくゼリー",65,0,0.1,0.8,15,0,0,0,0,0,0.1]
["菓子類",15087,2182,"＜デザート菓子類＞　ゼリー　オレンジ",79,2.1,0.1,0.2,9,0.1,4,7.0000000000000007E-2,0.02,40,0]
["菓子類",15088,2183,"＜デザート菓子類＞　ゼリー　コーヒー",44,1.6,0,0,2,0,0,0,0,0,0]
["菓子類",15089,2184,"＜デザート菓子類＞　ゼリー　ミルク",103,4.3,3.7,0,110,0,37,0.04,0.15,1,0.1]
["菓子類",15090,2185,"＜デザート菓子類＞　ゼリー　ワイン",65,1.7,0,0,1,0.1,0,0,0,0,0]
["菓子類",15091,2186,"＜デザート菓子類＞　ババロア",204,5.6,12.9,0,72,0.6,130,0.04,0.13,0,0.1]
["菓子類",15092,2187,"＜ビスケット類＞　ウエハース",438,7.6,13.6,1.2,21,0.6,17,0.03,0.08,0,1.2]
["菓子類",15141,2188,"＜ビスケット類＞　ウエハース　クリーム入り",495,7.5,21.8,2.1,56,0.8,0,0.17,0.03,0,1.3]
["菓子類",15093,2189,"＜ビスケット類＞　クラッカー　オイルスプレークラッカー",481,8.5,22.5,2.1,180,0.8,0,0.08,0.04,0,1.5]
["菓子類",15094,2190,"＜ビスケット類＞　クラッカー　ソーダクラッカー",421,10.4,9.8000000000000007,2.1,55,0.7,0,0.05,0.04,0,1.9]
["菓子類",15095,2191,"＜ビスケット類＞　サブレ",459,6.1,16.600000000000001,1.3,36,0.5,0,7.0000000000000007E-2,7.0000000000000007E-2,0,0.2]
["菓子類",15054,2192,"＜ビスケット類＞　中華風クッキー",514,5.0999999999999996,29.5,1.1000000000000001,25,0.4,0,0.06,0.06,0,0.2]
["菓子類",15097,2193,"＜ビスケット類＞　ビスケット　ハードビスケット",422,7.6,10,2.2999999999999998,330,0.9,18,0.13,0.22,0,0.8]
["菓子類",15098,2194,"＜ビスケット類＞　ビスケット　ソフトビスケット",511,5.7,27.6,1.4,20,0.5,150,0.06,0.05,0,0.6]
["菓子類",15099,2195,"＜ビスケット類＞　プレッツェル",465,9.9,18.600000000000001,2.6,36,0.9,5,0.13,0.11,0,1.9]
["菓子類",15096,2196,"＜ビスケット類＞　リーフパイ",558,5.8,35.5,1.7,14,0.4,0,0.08,0.02,0,0.1]
["菓子類",15100,2197,"＜ビスケット類＞　ロシアケーキ",486,5.8,23.4,1.8,41,0.5,1,0.06,0.14000000000000001,0,0.5]
["菓子類",15101,2198,"＜スナック類＞　小麦粉あられ",476,7.6,19.5,2.2999999999999998,18,0.5,0,0.1,0.03,0,1.8]
["菓子類",15102,2199,"＜スナック類＞　コーンスナック",516,5.2,27.1,1,50,0.4,11,0.02,0.05,0,1.2]
["菓子類",15103,2200,"＜スナック類＞　ポテトチップス　ポテトチップス",541,4.7,35.200000000000003,4.2,17,1.7,0,0.26,0.06,15,1]
["菓子類",15104,2201,"＜スナック類＞　ポテトチップス　成形ポテトチップス",515,5.8,32,4.8,49,1.2,0,0.25,0.05,9,0.9]
["菓子類",15109,2202,"＜キャンデー類＞　かわり玉",392,0,0,0,1,0,0,0,0,0,0]
["菓子類",15105,2203,"＜キャンデー類＞　キャラメル",426,4,11.7,0,190,0.3,110,0.09,0.18,0,0.3]
["菓子類",15107,2204,"＜キャンデー類＞　ゼリーキャンデー",334,0,0,0.9,8,0.1,0,0,0,0,0]
["菓子類",15108,2205,"＜キャンデー類＞　ゼリービーンズ",358,0,0,0.9,10,0.2,0,0,0,0,0]
["菓子類",15110,2206,"＜キャンデー類＞　ドロップ",389,0,0,0,1,0,0,0,0,0,0]
["菓子類",15111,2207,"＜キャンデー類＞　バタースコッチ",414,0,6.5,0,2,0,62,0,0,0,0.4]
["菓子類",15112,2208,"＜キャンデー類＞　ブリットル",506,12.6,26.5,3.6,26,0.9,0,0.12,7.0000000000000007E-2,0,0.2]
["菓子類",15113,2209,"＜キャンデー類＞　マシュマロ",324,2.1,0,0,1,0.1,0,0,0,0,0]
["菓子類",15106,2210,"＜キャンデー類＞　ラムネ",373,0,0.5,0,110,0.1,0,0,0,2,0.2]
["菓子類",15137,2211,"＜チョコレート類＞　アーモンドチョコレート",562,11.4,40.4,6.1,240,2.8,43,0.19,0.64,0,0.1]
["菓子類",15114,2212,"＜チョコレート類＞　カバーリングチョコレート",488,7.1,24.3,3.2,270,1.8,46,0.16,0.33,0,0.4]
["菓子類",15115,2213,"＜チョコレート類＞　ホワイトチョコレート",588,7.2,39.5,0.6,250,0.1,50,0.08,0.39,0,0.2]
["菓子類",15116,2214,"＜チョコレート類＞　ミルクチョコレート",551,6.9,34.1,3.9,240,2.4,66,0.19,0.41,0,0.2]
["菓子類",15117,2215,"＜果実菓子類＞　マロングラッセ",303,1.1000000000000001,0.3,0,8,0.6,1,0,0.03,0,0.1]
["菓子類",15118,2216,"＜チューインガム類＞　板ガム",388,0,0,0,3,0.1,0,0,0,0,0]
["菓子類",15119,2217,"＜チューインガム類＞　糖衣ガム",390,0,0,0,1,0.1,0,0,0,0,0]
["菓子類",15120,2218,"＜チューインガム類＞　風船ガム",387,0,0,0,3,0.1,0,0,0,0,0]
["菓子類",15138,2219,"＜その他＞　カスタードクリーム",172,5.0999999999999996,7.6,0.2,93,0.7,120,7.0000000000000007E-2,0.16,1,0.1]
["菓子類",15139,2220,"＜その他＞　しるこ　こしあん",211,4.7,0.3,3.2,35,1.3,0,0.01,0.02,0,0]
["菓子類",15140,2221,"＜その他＞　しるこ　つぶしあん",179,4.2,0.4,4.3,14,1.1000000000000001,0,0.01,0.02,0,0.1]
["菓子類",15180,2222,"＜その他＞　チョコレートクリーム",481,4.5999999999999996,32,0.6,160,0.6,53,7.0000000000000007E-2,0.23,1,0.5]
["し好飲料類",16001,2223,"＜アルコール飲料類＞　（醸造酒類）　清酒　普通酒",107,0.4,0,0,3,0,0,0,0,0,0]
["し好飲料類",16002,2224,"＜アルコール飲料類＞　（醸造酒類）　清酒　純米酒",102,0.4,0,0,3,0.1,0,0,0,0,0]
["し好飲料類",16003,2225,"＜アルコール飲料類＞　（醸造酒類）　清酒　本醸造酒",106,0.4,0,0,3,0,0,0,0,0,0]
["し好飲料類",16004,2226,"＜アルコール飲料類＞　（醸造酒類）　清酒　吟醸酒",103,0.3,0,0,2,0,0,0,0,0,0]
["し好飲料類",16005,2227,"＜アルコール飲料類＞　（醸造酒類）　清酒　純米吟醸酒",102,0.4,0,0,2,0,0,0,0,0,0]
["し好飲料類",16006,2228,"＜アルコール飲料類＞　（醸造酒類）　ビール　淡色",39,0.3,0,0,3,0,0,0,0.02,0,0]
["し好飲料類",16007,2229,"＜アルコール飲料類＞　（醸造酒類）　ビール　黒",45,0.4,0,0.2,3,0.1,0,0,0.04,0,0]
["し好飲料類",16008,2230,"＜アルコール飲料類＞　（醸造酒類）　ビール　スタウト",62,0.5,0,0.3,3,0.1,0,0,0.05,0,0]
["し好飲料類",16009,2231,"＜アルコール飲料類＞　（醸造酒類）　発泡酒",44,0.1,0,0,4,0,0,0,0.01,0,0]
["し好飲料類",16010,2232,"＜アルコール飲料類＞　（醸造酒類）　ぶどう酒　白",75,0.1,0,0,8,0.3,0,0,0,0,0]
["し好飲料類",16011,2233,"＜アルコール飲料類＞　（醸造酒類）　ぶどう酒　赤",68,0.2,0,0,7,0.4,0,0,0.01,0,0]
["し好飲料類",16012,2234,"＜アルコール飲料類＞　（醸造酒類）　ぶどう酒　ロゼ",71,0.1,0,0,10,0.4,0,0,0,0,0]
["し好飲料類",16013,2235,"＜アルコール飲料類＞　（醸造酒類）　紹興酒",126,1.7,0,0,25,0.3,0,0,0.03,0,0]
["し好飲料類",16014,2236,"＜アルコール飲料類＞　（蒸留酒類）　しょうちゅう　連続式蒸留しょうちゅう",203,0,0,0,0,0,0,0,0,0,0]
["し好飲料類",16015,2237,"＜アルコール飲料類＞　（蒸留酒類）　しょうちゅう　単式蒸留しょうちゅう",144,0,0,0,0,0,0,0,0,0,0]
["し好飲料類",16060,2238,"＜アルコール飲料類＞　（蒸留酒類）　しょうちゅう　泡盛",206,0,0,0,0,0,0,0,0,0,0]
["し好飲料類",16016,2239,"＜アルコール飲料類＞　（蒸留酒類）　ウイスキー",234,0,0,0,0,0,0,0,0,0,0]
["し好飲料類",16017,2240,"＜アルコール飲料類＞　（蒸留酒類）　ブランデー",234,0,0,0,0,0,0,0,0,0,0]
["し好飲料類",16018,2241,"＜アルコール飲料類＞　（蒸留酒類）　ウオッカ",237,0,0,0,0,0,0,0,0,0,0]
["し好飲料類",16019,2242,"＜アルコール飲料類＞　（蒸留酒類）　ジン",280,0,0,0,0,0,0,0,0,0,0]
["し好飲料類",16020,2243,"＜アルコール飲料類＞　（蒸留酒類）　ラム",237,0,0,0,0,0,0,0,0,0,0]
["し好飲料類",16021,2244,"＜アルコール飲料類＞　（蒸留酒類）　マオタイ酒",317,0,0,0,2,0.3,0,0,0,0,0]
["し好飲料類",16022,2245,"＜アルコール飲料類＞　（混成酒類）　梅酒",155,0.1,0,0,1,0,0,0,0.01,0,0]
["し好飲料類",16023,2246,"＜アルコール飲料類＞　（混成酒類）　合成清酒",108,0.1,0,0,2,0,0,0,0,0,0]
["し好飲料類",16024,2247,"＜アルコール飲料類＞　（混成酒類）　白酒",236,1.9,0,0,3,0.1,0,0.02,0.01,1,0]
["し好飲料類",16025,2248,"＜アルコール飲料類＞　（混成酒類）　みりん　本みりん",241,0.3,0,0,2,0,0,0,0,0,0]
["し好飲料類",16026,2249,"＜アルコール飲料類＞　（混成酒類）　みりん　本直し",179,0.1,0,0,2,0,0,0,0,0,0]
["し好飲料類",16059,2250,"＜アルコール飲料類＞　（混成酒類）　缶チューハイ　レモン風味",51,0,0,0.1,1,0,0,0,0,0,0]
["し好飲料類",16027,2251,"＜アルコール飲料類＞　（混成酒類）　薬味酒",181,0,0,0,1,0,0,0,0,0,0]
["し好飲料類",16028,2252,"＜アルコール飲料類＞　（混成酒類）　キュラソー",319,0,0,0,0,0,0,0,0,0,0]
["し好飲料類",16029,2253,"＜アルコール飲料類＞　（混成酒類）　スイートワイン",125,0.1,0,0,5,0.3,0,0,0,0,0]
["し好飲料類",16030,2254,"＜アルコール飲料類＞　（混成酒類）　ペパーミント",300,0,0,0,0,0,0,0,0,0,0]
["し好飲料類",16031,2255,"＜アルコール飲料類＞　（混成酒類）　ベルモット　甘口タイプ",151,0.1,0,0,6,0.3,0,0,0,0,0]
["し好飲料類",16032,2256,"＜アルコール飲料類＞　（混成酒類）　ベルモット　辛口タイプ",113,0.1,0,0,8,0.3,0,0,0,0,0]
["し好飲料類",16033,2257,"＜茶類＞　（緑茶類）　玉露　茶",241,29.1,4.0999999999999996,43.9,390,10,1800,0.3,1.1599999999999999,110,0]
["し好飲料類",16034,2258,"＜茶類＞　（緑茶類）　玉露　浸出液",5,1.3,0,0,4,0.2,0,0.02,0.11,19,0]
["し好飲料類",16035,2259,"＜茶類＞　（緑茶類）　抹茶　茶",237,29.6,5.3,38.5,420,17,2400,0.6,1.35,60,0]
["し好飲料類",16036,2260,"＜茶類＞　（緑茶類）　せん茶　茶",229,24.5,4.7,46.5,450,20,1100,0.36,1.43,260,0]
["し好飲料類",16037,2261,"＜茶類＞　（緑茶類）　せん茶　浸出液",2,0.2,0,0,3,0.2,0,0,0.05,6,0]
["し好飲料類",16038,2262,"＜茶類＞　（緑茶類）　かまいり茶　浸出液",1,0.1,0,0,4,0,0,0,0.04,4,0]
["し好飲料類",16039,2263,"＜茶類＞　（緑茶類）　番茶　浸出液",0,0,0,0,5,0.2,0,0,0.03,3,0]
["し好飲料類",16040,2264,"＜茶類＞　（緑茶類）　ほうじ茶　浸出液",0,0,0,0,2,0,0,0,0.02,0,0]
["し好飲料類",16041,2265,"＜茶類＞　（緑茶類）　玄米茶　浸出液",0,0,0,0,2,0,0,0,0.01,1,0]
["し好飲料類",16042,2266,"＜茶類＞　（発酵茶類）　ウーロン茶　浸出液",0,0,0,0,2,0,0,0,0.03,0,0]
["し好飲料類",16043,2267,"＜茶類＞　（発酵茶類）　紅茶　茶",234,20.3,2.5,38.1,470,17,75,0.1,0.8,0,0]
["し好飲料類",16044,2268,"＜茶類＞　（発酵茶類）　紅茶　浸出液",1,0.1,0,0,1,0,0,0,0.01,0,0]
["し好飲料類",16045,2269,"＜コーヒー・ココア類＞　コーヒー　浸出液",4,0.2,0,0,2,0,0,0,0.01,0,0]
["し好飲料類",16046,2270,"＜コーヒー・ココア類＞　コーヒー　インスタントコーヒー",287,14.7,0.3,0,140,3,0,0.02,0.14000000000000001,0,0.1]
["し好飲料類",16047,2271,"＜コーヒー・ココア類＞　コーヒー　コーヒー飲料　乳成分入り　加糖",38,0.7,0.3,0,22,0.1,0,0.01,0.04,0,0.1]
["し好飲料類",16048,2272,"＜コーヒー・ココア類＞　ココア　ピュアココア",386,18.5,21.6,23.9,140,14,3,0.16,0.22,0,0]
["し好飲料類",16049,2273,"＜コーヒー・ココア類＞　ココア　ミルクココア",400,7.4,6.8,5.5,180,2.9,8,7.0000000000000007E-2,0.42,0,0.7]
["し好飲料類",16056,2274,"＜その他＞　青汁　ケール",312,13.8,4.4000000000000004,28,1200,2.9,860,0.31,0.8,1100,0.6]
["し好飲料類",16050,2275,"＜その他＞　甘酒",76,1.7,0.1,0.4,3,0.1,0,0.01,0.03,0,0.2]
["し好飲料類",16051,2276,"＜その他＞　昆布茶",173,5.2,0.2,2.8,88,0.5,3,0.01,0.02,6,51.3]
["し好飲料類",16057,2277,"＜その他＞　スポーツドリンク",21,0,0,0,8,0,0,0,0,0,0.1]
["し好飲料類",16052,2278,"＜その他＞　（炭酸飲料類）　果実色飲料",51,0,0,0,3,0,0,0,0,0,0]
["し好飲料類",16053,2279,"＜その他＞　（炭酸飲料類）　コーラ",46,0.1,0,0,2,0,0,0,0,0,0]
["し好飲料類",16054,2280,"＜その他＞　（炭酸飲料類）　サイダー",41,0,0,0,1,0,0,0,0,0,0]
["し好飲料類",16058,2281,"＜その他＞　（炭酸飲料類）　ビール風味炭酸飲料",5,0.1,0,0,2,0,0,0,0,8,0]
["し好飲料類",16055,2282,"＜その他＞　麦茶　浸出液",1,0,0,0,2,0,0,0,0,0,0]
["し好飲料類",16061,2283,"＜その他＞　なぎなたこうじゅ　浸出液",0,0,0,0,1,0,0,0,0,0,0]
["調味料及び香辛料類",17001,2284,"＜調味料類＞　（ウスターソース類）　ウスターソース",122,1,0.1,0.5,59,1.6,4,0.01,0.02,0,8.5]
["調味料及び香辛料類",17002,2285,"＜調味料類＞　（ウスターソース類）　中濃ソース",132,0.8,0.1,1,61,1.7,7,0.02,0.04,0,5.8]
["調味料及び香辛料類",17003,2286,"＜調味料類＞　（ウスターソース類）　濃厚ソース",133,0.9,0.1,1,61,1.5,9,0.03,0.04,0,5.6]
["調味料及び香辛料類",17085,2287,"＜調味料類＞　（ウスターソース類）　お好み焼きソース",146,1.6,0.1,0.9,31,0.9,17,0.03,0.03,3,4.9000000000000004]
["調味料及び香辛料類",17004,2288,"＜調味料類＞　（辛味調味料類）　トウバンジャン",49,2,2.2999999999999998,4.3,32,2.2999999999999998,120,0.04,0.17,3,17.8]
["調味料及び香辛料類",17005,2289,"＜調味料類＞　（辛味調味料類）　チリペッパーソース",58,0.7,0.5,0,15,1.5,130,0.03,0.08,0,1.6]
["調味料及び香辛料類",17006,2290,"＜調味料類＞　（辛味調味料類）　ラー油",887,0.1,99.8,0,0,0.1,59,0,0,0,0]
["調味料及び香辛料類",17007,2291,"＜調味料類＞　（しょうゆ類）　こいくちしょうゆ",77,7.7,0,0,29,1.7,0,0.05,0.17,0,14.5]
["調味料及び香辛料類",17086,2292,"＜調味料類＞　（しょうゆ類）　こいくちしょうゆ　減塩",68,8.1,0,0,31,2.1,0,7.0000000000000007E-2,0.17,0,8.3000000000000007]
["調味料及び香辛料類",17008,2293,"＜調味料類＞　（しょうゆ類）　うすくちしょうゆ",60,5.7,0,0,24,1.1000000000000001,0,0.05,0.11,0,16]
["調味料及び香辛料類",17139,2294,"＜調味料類＞　（しょうゆ類）　うすくちしょうゆ　低塩",77,6.4,0,0,19,1,0,0.25,0.08,4,12.8]
["調味料及び香辛料類",17009,2295,"＜調味料類＞　（しょうゆ類）　たまりしょうゆ",111,11.8,0,0,40,2.7,0,7.0000000000000007E-2,0.17,0,13]
["調味料及び香辛料類",17010,2296,"＜調味料類＞　（しょうゆ類）　さいしこみしょうゆ",102,9.6,0,0,23,2.1,0,0.17,0.15,0,12.4]
["調味料及び香辛料類",17011,2297,"＜調味料類＞　（しょうゆ類）　しろしょうゆ",87,2.5,0,0,13,0.7,0,0.14000000000000001,0.06,0,14.2]
["調味料及び香辛料類",17087,2298,"＜調味料類＞　（しょうゆ類）　だししょうゆ",40,4,0,0,16,0.9,0,0.03,0.09,0,7.3]
["調味料及び香辛料類",17088,2299,"＜調味料類＞　（しょうゆ類）　照りしょうゆ",172,2.4,0,0,10,0.5,0,0.01,0.05,0,4]
["調味料及び香辛料類",17012,2300,"＜調味料類＞　（食塩類）　食塩",0,0,0,0,22,0,0,0,0,0,99.1]
["調味料及び香辛料類",17013,2301,"＜調味料類＞　（食塩類）　並塩",0,0,0,0,55,0,0,0,0,0,96.5]
["調味料及び香辛料類",17146,2302,"＜調味料類＞　（食塩類）　減塩タイプ食塩　調味料含む",50,0,0,0,2,0.1,0,0,0,0,49.4]
["調味料及び香辛料類",17147,2303,"＜調味料類＞　（食塩類）　減塩タイプ食塩　調味料不使用",0,0,0,0,390,0.1,0,0,0,0,45.7]
["調味料及び香辛料類",17014,2304,"＜調味料類＞　（食塩類）　精製塩　家庭用",0,0,0,0,0,0,0,0,0,0,99.1]
["調味料及び香辛料類",17089,2305,"＜調味料類＞　（食塩類）　精製塩　業務用",0,0,0,0,0,0,0,0,0,0,99.1]
["調味料及び香辛料類",17090,2306,"＜調味料類＞　（食酢類）　黒酢",66,1,0,0,5,0.2,0,0.02,0.01,0,0]
["調味料及び香辛料類",17015,2307,"＜調味料類＞　（食酢類）　穀物酢",37,0.1,0,0,2,0,0,0.01,0.01,0,0]
["調味料及び香辛料類",17016,2308,"＜調味料類＞　（食酢類）　米酢",59,0.2,0,0,2,0.1,0,0.01,0.01,0,0]
["調味料及び香辛料類",17091,2309,"＜調味料類＞　（食酢類）　果実酢　バルサミコ酢",116,0.5,0,0,17,0.7,0,0.01,0.01,0,0.1]
["調味料及び香辛料類",17017,2310,"＜調味料類＞　（食酢類）　果実酢　ぶどう酢",36,0.1,0,0,3,0.2,0,0,0,0,0]
["調味料及び香辛料類",17018,2311,"＜調味料類＞　（食酢類）　果実酢　りんご酢",41,0.1,0,0,4,0.2,0,0,0.01,0,0]
["調味料及び香辛料類",17130,2312,"＜調味料類＞　（だし類）　あごだし",0,0.1,0,0,0,0,0,0,0,0,0]
["調味料及び香辛料類",17019,2313,"＜調味料類＞　（だし類）　かつおだし　荒節",2,0.4,0,0,2,0,0,0,0.01,0,0.1]
["調味料及び香辛料類",17131,2314,"＜調味料類＞　（だし類）　かつおだし　本枯れ節",2,0.5,0,0,0,0,0,0,0.01,0,0.1]
["調味料及び香辛料類",17020,2315,"＜調味料類＞　（だし類）　昆布だし　水出し",4,0.1,0,0,3,0,0,0,0,0,0.2]
["調味料及び香辛料類",17132,2316,"＜調味料類＞　（だし類）　昆布だし　煮出し",5,0.1,0,0.1,5,0,0,0,0.01,0,0.2]
["調味料及び香辛料類",17021,2317,"＜調味料類＞　（だし類）　かつお・昆布だし　荒節・昆布だし",2,0.3,0,0,3,0,0,0.01,0.01,0,0.1]
["調味料及び香辛料類",17148,2318,"＜調味料類＞　（だし類）　かつお・昆布だし　本枯れ節・昆布だし",2,0.3,0,0,1,0,0,0,0,0,0.1]
["調味料及び香辛料類",17022,2319,"＜調味料類＞　（だし類）　しいたけだし",4,0.1,0,0,1,0.1,0,0,0.02,0,0]
["調味料及び香辛料類",17023,2320,"＜調味料類＞　（だし類）　煮干しだし",1,0.1,0.1,0,3,0,0,0.01,0,0,0.1]
["調味料及び香辛料類",17024,2321,"＜調味料類＞　（だし類）　鶏がらだし",7,0.9,0.4,0,1,0.1,1,0.01,0.04,0,0.1]
["調味料及び香辛料類",17025,2322,"＜調味料類＞　（だし類）　中華だし",3,0.8,0,0,3,0,0,0.15,0.03,0,0.1]
["調味料及び香辛料類",17026,2323,"＜調味料類＞　（だし類）　洋風だし",6,1.3,0,0,5,0.1,0,0.02,0.05,0,0.5]
["調味料及び香辛料類",17027,2324,"＜調味料類＞　（だし類）　固形ブイヨン",233,7,4.3,0.3,26,0.4,0,0.03,0.08,0,43.2]
["調味料及び香辛料類",17092,2325,"＜調味料類＞　（だし類）　顆粒おでん用",166,9.6,0.1,0,30,0.8,0,0.02,0.11,0,56.4]
["調味料及び香辛料類",17093,2326,"＜調味料類＞　（だし類）　顆粒中華だし",210,12.6,1.6,0,84,0.6,3,0.06,0.56000000000000005,0,47.5]
["調味料及び香辛料類",17028,2327,"＜調味料類＞　（だし類）　顆粒和風だし",223,24.2,0.3,0,42,1,0,0.03,0.2,0,40.6]
["調味料及び香辛料類",17140,2328,"＜調味料類＞　（だし類）　なべつゆ　ストレート　しょうゆ味",20,1,0,0,4,0.2,0,0.01,0.02,0,1.8]
["調味料及び香辛料類",17029,2329,"＜調味料類＞　（だし類）　めんつゆ　ストレート",44,2.2000000000000002,0,0,8,0.4,0,0.01,0.04,0,3.3]
["調味料及び香辛料類",17141,2330,"＜調味料類＞　（だし類）　めんつゆ　二倍濃縮",71,3.4,0,0,12,0.6,0,0.03,0.06,0,6.6]
["調味料及び香辛料類",17030,2331,"＜調味料類＞　（だし類）　めんつゆ　三倍濃縮",98,4.5,0,0,16,0.8,0,0.04,7.0000000000000007E-2,0,9.9]
["調味料及び香辛料類",17142,2332,"＜調味料類＞　（だし類）　ラーメンスープ　濃縮　しょうゆ味　ストレートしょうゆ味",157,3.3,11.7,0,22,0.6,0,0.03,0.08,0,17.100000000000001]
["調味料及び香辛料類",17143,2333,"＜調味料類＞　（だし類）　ラーメンスープ　濃縮　みそ味　ストレートみそ味",187,6.4,11,1.6,61,1.8,2,0.02,0.08,0,16.5]
["調味料及び香辛料類",17094,2334,"＜調味料類＞　（調味ソース類）　甘酢",125,0.1,0,0,2,0,0,0.01,0.01,0,1.2]
["調味料及び香辛料類",17095,2335,"＜調味料類＞　（調味ソース類）　エビチリの素",54,1.2,1.4,0.6,8,0.3,13,0.14000000000000001,0.04,1,1.8]
["調味料及び香辛料類",17031,2336,"＜調味料類＞　（調味ソース類）　オイスターソース",105,7.7,0.3,0.2,25,1.2,0,0.01,7.0000000000000007E-2,0,11.4]
["調味料及び香辛料類",17096,2337,"＜調味料類＞　（調味ソース類）　黄身酢",930,6.3,10.8,0,57,1.8,270,0.08,0.18,0,5.7]
["調味料及び香辛料類",17133,2338,"＜調味料類＞　（調味ソース類）　魚醤油　いかなごしょうゆ",64,13.9,0,0,3,0.4,0,0,0.31,0,21.2]
["調味料及び香辛料類",17134,2339,"＜調味料類＞　（調味ソース類）　魚醤油　いしる　（いしり）",67,12.8,0,0.3,25,1.5,0,0,0.25,0,21.9]
["調味料及び香辛料類",17135,2340,"＜調味料類＞　（調味ソース類）　魚醤油　しょっつる",29,6.1,0,0.1,6,0.2,0,0.03,0.06,0,24.3]
["調味料及び香辛料類",17107,2341,"＜調味料類＞　（調味ソース類）　魚醤油　ナンプラー",47,9.1,0.1,0,20,1.2,0,0.01,0.1,0,22.9]
["調味料及び香辛料類",17097,2342,"＜調味料類＞　（調味ソース類）　ごま酢",217,4,8,1.9,180,1.7,0,0.08,0.06,0,1.7]
["調味料及び香辛料類",17098,2343,"＜調味料類＞　（調味ソース類）　ごまだれ",285,7.2,15.1,3,220,2.2999999999999998,4,0.11,0.09,0,4.3]
["調味料及び香辛料類",17099,2344,"＜調味料類＞　（調味ソース類）　三杯酢",94,0.9,0,0,5,0.2,0,0.01,0.02,0,2]
["調味料及び香辛料類",17100,2345,"＜調味料類＞　（調味ソース類）　二杯酢",67,3.5,0,0,14,0.8,0,0.03,0.08,0,6.4]
["調味料及び香辛料類",17101,2346,"＜調味料類＞　（調味ソース類）　すし酢　ちらし・稲荷用",159,0.1,0,0,3,0.1,0,0.01,0.01,0,6.5]
["調味料及び香辛料類",17102,2347,"＜調味料類＞　（調味ソース類）　すし酢　にぎり用",81,0.2,0,0,4,0.1,0,0.01,0.01,0,9.8000000000000007]
["調味料及び香辛料類",17103,2348,"＜調味料類＞　（調味ソース類）　すし酢　巻き寿司・箱寿司用",117,0.1,0,0,4,0.1,0,0.01,0.01,0,8.6]
["調味料及び香辛料類",17104,2349,"＜調味料類＞　（調味ソース類）　中華風合わせ酢",158,3,3.4,0,12,0.7,0,0.02,7.0000000000000007E-2,0,5.5]
["調味料及び香辛料類",17105,2350,"＜調味料類＞　（調味ソース類）　デミグラスソース",82,2.9,3,0,11,0.3,0,0.04,7.0000000000000007E-2,0,1.3]
["調味料及び香辛料類",17106,2351,"＜調味料類＞　（調味ソース類）　テンメンジャン",249,8.5,7.7,3.1,45,1.6,0,0.04,0.11,0,7.3]
["調味料及び香辛料類",17108,2352,"＜調味料類＞　（調味ソース類）　冷やし中華のたれ",117,2.1,1.2,0,7,0.3,0,0.22,0.03,0,5.8]
["調味料及び香辛料類",17109,2353,"＜調味料類＞　（調味ソース類）　ホワイトソース",99,1.8,6.2,0.4,34,0.1,0,0.01,0.05,0,1]
["調味料及び香辛料類",17110,2354,"＜調味料類＞　（調味ソース類）　ぽん酢しょうゆ",49,3.4,0.1,0.2,24,0.7,1,0.05,0.08,24,5.8]
["調味料及び香辛料類",17137,2355,"＜調味料類＞　（調味ソース類）　ぽん酢しょうゆ　市販品",63,3.7,0,0.3,16,0.7,0,0.02,0.05,0,7.8]
["調味料及び香辛料類",17032,2356,"＜調味料類＞　（調味ソース類）　マーボー豆腐の素",115,4.2,6.3,0,12,0.8,9,0.05,0.03,2,3.6]
["調味料及び香辛料類",17111,2357,"＜調味料類＞　（調味ソース類）　マリネ液",70,0.1,0,0,4,0.2,0,0,0,0,0.9]
["調味料及び香辛料類",17033,2358,"＜調味料類＞　（調味ソース類）　ミートソース",96,3.8,5,0,17,0.8,49,0.14000000000000001,0.05,6,1.5]
["調味料及び香辛料類",17144,2359,"＜調味料類＞　（調味ソース類）　焼きそば粉末ソース",251,5.6,0.7,3.3,110,0.6,4,0.01,0.01,0,30.6]
["調味料及び香辛料類",17112,2360,"＜調味料類＞　（調味ソース類）　焼き鳥のたれ",132,3.3,0,0,13,0.7,0,0.02,7.0000000000000007E-2,0,5.8]
["調味料及び香辛料類",17113,2361,"＜調味料類＞　（調味ソース類）　焼き肉のたれ",165,4.3,2.2000000000000002,0.4,23,0.9,0,0.03,0.09,1,8.3000000000000007]
["調味料及び香辛料類",17114,2362,"＜調味料類＞　（調味ソース類）　みたらしのたれ",127,0.9,0,0,6,0.2,0,0.01,0.02,0,1.7]
["調味料及び香辛料類",17115,2363,"＜調味料類＞　（調味ソース類）　ゆずこしょう",37,1.3,0.8,6.2,61,0.6,22,0.04,0.05,2,25.2]
["調味料及び香辛料類",17034,2364,"＜調味料類＞　（トマト加工品類）　トマトピューレー",44,1.9,0.1,1.8,19,0.8,52,0.09,7.0000000000000007E-2,10,0]
["調味料及び香辛料類",17035,2365,"＜調味料類＞　（トマト加工品類）　トマトペースト",94,3.8,0.1,4.7,46,1.6,85,0.21,0.14000000000000001,15,0.1]
["調味料及び香辛料類",17036,2366,"＜調味料類＞　（トマト加工品類）　トマトケチャップ",106,1.6,0.2,1.7,16,0.5,43,0.06,0.04,8,3.1]
["調味料及び香辛料類",17037,2367,"＜調味料類＞　（トマト加工品類）　トマトソース",41,2,0.2,1.1000000000000001,18,0.9,40,0.09,0.08,0,0.6]
["調味料及び香辛料類",17038,2368,"＜調味料類＞　（トマト加工品類）　チリソース",112,1.8,0.1,1.9,27,0.9,42,7.0000000000000007E-2,7.0000000000000007E-2,0,3]
["調味料及び香辛料類",17042,2369,"＜調味料類＞　（ドレッシング類）　半固形状ドレッシング　マヨネーズ　全卵型",669,1.4,76,0,8,0.3,24,0.01,0.03,0,1.9]
["調味料及び香辛料類",17043,2370,"＜調味料類＞　（ドレッシング類）　半固形状ドレッシング　マヨネーズ　卵黄型",669,2.5,74.7,0,20,0.6,54,0.03,7.0000000000000007E-2,0,2]
["調味料及び香辛料類",17118,2371,"＜調味料類＞　（ドレッシング類）　半固形状ドレッシング　マヨネーズタイプ調味料　低カロリータイプ",264,2.9,28.3,0.8,10,0.3,46,0.02,0.05,0,3.9]
["調味料及び香辛料類",17040,2372,"＜調味料類＞　（ドレッシング類）　分離液状ドレッシング　フレンチドレッシング　分離液状",331,0,31.5,0,1,0,0,0,0,0,6.3]
["調味料及び香辛料類",17116,2373,"＜調味料類＞　（ドレッシング類）　分離液状ドレッシング　和風ドレッシング　分離液状",181,1.9,14.5,0.2,7,0.4,0,0.03,0.03,0,3.5]
["調味料及び香辛料類",17039,2374,"＜調味料類＞　（ドレッシング類）　分離液状ドレッシング　和風ドレッシングタイプ調味料　ノンオイルタイプ",83,3.1,0.1,0.2,10,0.3,0,0.02,0.03,0,7.4]
["調味料及び香辛料類",17117,2375,"＜調味料類＞　（ドレッシング類）　乳化液状ドレッシング　ごまドレッシング",401,2.7,38.299999999999997,0.8,86,1,4,0.04,0.05,0,4.4000000000000004]
["調味料及び香辛料類",17041,2376,"＜調味料類＞　（ドレッシング類）　乳化液状ドレッシング　サウザンアイランドドレッシング",393,0.3,39.200000000000003,0.4,7,0.1,8,0,0.01,2,3]
["調味料及び香辛料類",17149,2377,"＜調味料類＞　（ドレッシング類）　乳化液状ドレッシング　フレンチドレッシング　乳化液状",376,0.1,38.799999999999997,0,1,0,3,0,0.01,1,6.4]
["調味料及び香辛料類",17044,2378,"＜調味料類＞　（みそ類）　米みそ　甘みそ",206,9.6999999999999993,3,5.6,80,3.4,0,0.05,0.1,0,6.1]
["調味料及び香辛料類",17045,2379,"＜調味料類＞　（みそ類）　米みそ　淡色辛みそ",182,12.5,6,4.9000000000000004,100,4,0,0.03,0.1,0,12.4]
["調味料及び香辛料類",17046,2380,"＜調味料類＞　（みそ類）　米みそ　赤色辛みそ",178,13.1,5.5,4.0999999999999996,130,4.3,0,0.03,0.1,0,13]
["調味料及び香辛料類",17120,2381,"＜調味料類＞　（みそ類）　米みそ　だし入りみそ",169,11,5.6,4.0999999999999996,67,1.4,0,0.1,0.35,0,11.9]
["調味料及び香辛料類",17145,2382,"＜調味料類＞　（みそ類）　米みそ　だし入りみそ　減塩",164,10.3,5.0999999999999996,4.9000000000000004,63,1.4,0,0.1,0.09,0,9.6999999999999993]
["調味料及び香辛料類",17047,2383,"＜調味料類＞　（みそ類）　麦みそ",184,9.6999999999999993,4.3,6.3,80,3,0,0.04,0.1,0,10.7]
["調味料及び香辛料類",17048,2384,"＜調味料類＞　（みそ類）　豆みそ",207,17.2,10.5,6.5,150,6.8,0,0.04,0.12,0,10.9]
["調味料及び香辛料類",17119,2385,"＜調味料類＞　（みそ類）　減塩みそ",190,11,5.9,4.3,62,1.7,0,0.1,0.11,0,10.7]
["調味料及び香辛料類",17049,2386,"＜調味料類＞　（みそ類）　即席みそ　粉末タイプ",321,21.9,9.3000000000000007,6.6,85,2.8,0,0.11,2.58,0,20.6]
["調味料及び香辛料類",17050,2387,"＜調味料類＞　（みそ類）　即席みそ　ペーストタイプ",122,8.9,3.7,2.8,47,1.2,0,0.04,0.27,0,9.6]
["調味料及び香辛料類",17121,2388,"＜調味料類＞　（みそ類）　辛子酢みそ",219,5,2.1,2.7,42,1.7,0,0.04,0.05,0,3.3]
["調味料及び香辛料類",17122,2389,"＜調味料類＞　（みそ類）　ごまみそ",245,9.4,9.9,5.5,230,3.7,0,0.1,0.1,0,4]
["調味料及び香辛料類",17123,2390,"＜調味料類＞　（みそ類）　酢みそ",214,4.9000000000000004,1.5,2.8,41,1.7,0,0.03,0.05,0,3.1]
["調味料及び香辛料類",17124,2391,"＜調味料類＞　（みそ類）　練りみそ",267,5.5,1.7,3.2,46,1.9,0,0.03,0.06,0,3.4]
["調味料及び香辛料類",17051,2392,"＜調味料類＞　（ルウ類）　カレールウ",474,6.5,34.1,6.4,90,3.5,6,0.09,0.06,0,10.6]
["調味料及び香辛料類",17052,2393,"＜調味料類＞　（ルウ類）　ハヤシルウ",501,5.8,33.200000000000003,2.5,30,1,95,0.14000000000000001,0.06,0,10.7]
["調味料及び香辛料類",17125,2394,"＜調味料類＞　（その他）　お茶漬けの素　さけ",251,20.2,3.7,3.5,72,2.1,180,0.16,0.28999999999999998,12,33.799999999999997]
["調味料及び香辛料類",17136,2395,"＜調味料類＞　（その他）　キムチの素",126,5.3,1,3.6,29,1.3,190,0.04,0.11,0,9.3000000000000007]
["調味料及び香辛料類",17053,2396,"＜調味料類＞　（その他）　酒かす",215,14.9,1.5,5.2,8,0.8,0,0.03,0.26,0,0]
["調味料及び香辛料類",17126,2397,"＜調味料類＞　（その他）　即席すまし汁",194,18.3,0.8,3.3,76,2.2999999999999998,200,0.13,0.31,25,45.7]
["調味料及び香辛料類",17127,2398,"＜調味料類＞　（その他）　ふりかけ　たまご",426,23.4,21.9,5.0999999999999996,390,4.5,360,0.28999999999999998,0.48,11,9.1999999999999993]
["調味料及び香辛料類",17054,2399,"＜調味料類＞　（その他）　みりん風調味料",226,0.1,0,0,0,0.1,0,0,0.02,0,0.2]
["調味料及び香辛料類",17138,2400,"＜調味料類＞　（その他）　料理酒",88,0.2,0,0,2,0,0,0,0,0,2.2000000000000002]
["調味料及び香辛料類",17055,2401,"＜香辛料類＞　オールスパイス　粉",364.19292083669296,5.6,5.6,0,710,4.7,3,0,0.05,0,0.1]
["調味料及び香辛料類",17056,2402,"＜香辛料類＞　オニオンパウダー",362.84991948810523,8.8000000000000007,1.1000000000000001,0,140,3.1,0,0.3,0.1,10,0.1]
["調味料及び香辛料類",17057,2403,"＜香辛料類＞　からし　粉",434.88980817671717,33,14.3,0,250,11,3,0.73,0.26,0,0.1]
["調味料及び香辛料類",17058,2404,"＜香辛料類＞　からし　練り",313.88127402534258,5.9,14.5,0,60,2.1,1,0.22,7.0000000000000007E-2,0,7.4]
["調味料及び香辛料類",17059,2405,"＜香辛料類＞　からし　練りマスタード",174.54768997714694,4.8,10.6,0,71,1.8,4,0.14000000000000001,0.04,0,3]
["調味料及び香辛料類",17060,2406,"＜香辛料類＞　からし　粒入りマスタード",229.31726789003312,7.6,16,0,130,2.4,3,0.32,0.05,0,4.0999999999999996]
["調味料及び香辛料類",17061,2407,"＜香辛料類＞　カレー粉",338,13,12.2,36.9,540,29,32,0.41,0.25,2,0.1]
["調味料及び香辛料類",17062,2408,"＜香辛料類＞　クローブ　粉",398.02054155262783,7.2,13.6,0,640,9.9,10,0.04,0.27,0,0.7]
["調味料及び香辛料類",17063,2409,"＜香辛料類＞　こしょう　黒　粉",362.1068335180571,11,6,0,410,20,15,0.1,0.24,0,0.2]
["調味料及び香辛料類",17064,2410,"＜香辛料類＞　こしょう　白　粉",375.95395575259431,10.1,6.4,0,240,7.3,0,0.02,0.12,0,0]
["調味料及び香辛料類",17065,2411,"＜香辛料類＞　こしょう　混合　粉",369.03039463532571,10.6,6.2,0,330,14,7,0.06,0.18,1,0.1]
["調味料及び香辛料類",17066,2412,"＜香辛料類＞　さんしょう　粉",375,10.3,6.2,0,750,10,17,0.1,0.45,0,0]
["調味料及び香辛料類",17067,2413,"＜香辛料類＞　シナモン　粉",356.28195141826205,3.6,3.5,0,1200,7.1,1,0.08,0.14000000000000001,0,0.1]
["調味料及び香辛料類",17068,2414,"＜香辛料類＞　しょうが　粉",365,7.8,4.9000000000000004,0,110,14,1,0.04,0.17,0,0.1]
["調味料及び香辛料類",17069,2415,"＜香辛料類＞　しょうが　おろし",41.466785839333234,0.7,0.6,0,16,0.3,1,0.02,0.03,120,1.5]
["調味料及び香辛料類",17070,2416,"＜香辛料類＞　セージ　粉",377.4595658731547,6.4,10.1,0,1500,50,120,0.09,0.55000000000000004,0,0.3]
["調味料及び香辛料類",17071,2417,"＜香辛料類＞　タイム　粉",342.18625119048357,6.5,5.2,0,1700,110,82,0.09,0.69,0,0]
["調味料及び香辛料類",17072,2418,"＜香辛料類＞　チリパウダー",374.28343547920258,15,8.1999999999999993,0,280,29,770,0.25,0.84,0,6.4]
["調味料及び香辛料類",17073,2419,"＜香辛料類＞　とうがらし　粉",412.28215791452135,16.2,9.6999999999999993,0,110,12,720,0.43,1.1499999999999999,0,0]
["調味料及び香辛料類",17074,2420,"＜香辛料類＞　ナツメグ　粉",519.96846707162877,5.7,38.5,0,160,2.5,1,0.05,0.1,0,0]
["調味料及び香辛料類",17075,2421,"＜香辛料類＞　にんにく　ガーリックパウダー　食塩無添加",380,19.899999999999999,0.8,0,100,6.6,0,0.54,0.15,0,0]
["調味料及び香辛料類",17128,2422,"＜香辛料類＞　にんにく　ガーリックパウダー　食塩添加",382,19.899999999999999,0.8,0,100,6.6,0,0.54,0.15,0,8.4]
["調味料及び香辛料類",17076,2423,"＜香辛料類＞　にんにく　おろし",170,4.7,0.5,0,22,0.7,0,0.11,0.04,0,4.5999999999999996]
["調味料及び香辛料類",17077,2424,"＜香辛料類＞　バジル　粉",308,21.1,2.2000000000000002,0,2800,120,210,0.26,1.0900000000000001,1,0.1]
["調味料及び香辛料類",17078,2425,"＜香辛料類＞　パセリ　乾",306.61302301565661,28.7,2.2000000000000002,0,1300,18,2300,0.89,2.02,820,2.2000000000000002]
["調味料及び香辛料類",17079,2426,"＜香辛料類＞　パプリカ　粉",341.04927510461721,15.5,11.6,0,170,21,500,0.52,1.78,0,0.2]
["調味料及び香辛料類",17080,2427,"＜香辛料類＞　わさび　粉　からし粉入り",384,16.5,4.4000000000000004,0,320,9.3000000000000007,2,0.55000000000000004,0.3,0,0.1]
["調味料及び香辛料類",17081,2428,"＜香辛料類＞　わさび　練り",265,3.3,10.3,0,62,2,1,0.11,7.0000000000000007E-2,0,6.1]
["調味料及び香辛料類",17082,2429,"＜その他＞　酵母　パン酵母　圧搾",105,16.5,1.5,10.3,16,2.2000000000000002,0,2.21,1.78,0,0.1]
["調味料及び香辛料類",17083,2430,"＜その他＞　酵母　パン酵母　乾燥",307,37.1,6.8,32.6,19,13,0,8.81,3.72,1,0.3]
["調味料及び香辛料類",17084,2431,"＜その他＞　ベーキングパウダー",149.9035597838548,0,1.2,0,2400,0.1,0,0,0,0,17.3]
["調理済み流通食品類",18024,2432,"和風料理　和え物類　青菜の白和え",81,4.2,3.4,2.4,95,1.2,130,0.06,0.05,3,1.3]
["調理済み流通食品類",18025,2433,"和風料理　和え物類　いんげんのごま和え",77,3.7,3.4,2.8,120,1.3,73,0.08,0.1,5,1.2]
["調理済み流通食品類",18026,2434,"和風料理　和え物類　わかめとねぎの酢みそ和え",85,3.8,0.9,2.5,40,0.9,11,0.03,0.04,4,1.8]
["調理済み流通食品類",18028,2435,"和風料理　汁物類　とん汁",26,1.5,1.5,0.5,10,0.2,17,0.03,0.01,1,0.6]
["調理済み流通食品類",18027,2436,"和風料理　酢の物類　紅白なます",34,0.6,0.6,0.9,22,0.2,38,0.02,0.01,6,0.6]
["調理済み流通食品類",18029,2437,"和風料理　煮物類　卯の花いり",84,4.4000000000000004,4.0999999999999996,5.0999999999999996,47,0.8,38,0.06,0.04,1,1.1000000000000001]
["調理済み流通食品類",18030,2438,"和風料理　煮物類　親子丼の具",101,8.4,5.2,0.4,21,0.7,57,0.04,0.13,2,1]
["調理済み流通食品類",18031,2439,"和風料理　煮物類　牛飯の具",122,4.0999999999999996,9.4,1,18,0.6,4,0.02,0.04,2,1]
["調理済み流通食品類",18032,2440,"和風料理　煮物類　切り干し大根の煮物",48,2.2999999999999998,2.5,2,46,0.5,54,0.01,0.02,0,0.9]
["調理済み流通食品類",18033,2441,"和風料理　煮物類　きんぴらごぼう",84,1.4,4.5,3.2,36,0.5,86,0.03,0.03,1,0.9]
["調理済み流通食品類",18034,2442,"和風料理　煮物類　ぜんまいのいため煮",80,3.4,4.2,2.2000000000000002,47,0.7,42,0.01,0.02,0,1.1000000000000001]
["調理済み流通食品類",18035,2443,"和風料理　煮物類　筑前煮",85,4.4000000000000004,3.5,1.8,22,0.5,80,0.04,0.05,4,1.1000000000000001]
["調理済み流通食品類",18036,2444,"和風料理　煮物類　肉じゃが",78,4.3,1.3,1.3,13,0.8,53,0.05,0.05,9,1.2]
["調理済み流通食品類",18037,2445,"和風料理　煮物類　ひじきのいため煮",75,3.1,4,3.4,100,0.6,84,0.02,0.02,0,1.4]
["調理済み流通食品類",18038,2446,"和風料理　その他　アジの南蛮漬け",109,8.1,6.1,0.9,37,0.4,39,0.06,0.06,3,0.7]
["調理済み流通食品類",18023,2447,"和風料理　その他　松前漬け　しょうゆ漬",166,17,1.4,1.6,41,0.6,11,0.06,0.04,0,5.2]
["調理済み流通食品類",18040,2448,"洋風料理　カレー類　チキンカレー",131,5.6,8.8000000000000007,1.2,20,0.7,46,0.04,7.0000000000000007E-2,3,1.4]
["調理済み流通食品類",18001,2449,"洋風料理　カレー類　ビーフカレー",119,2.4,9,0.9,20,0.7,9,0.02,0.03,1,1.7]
["調理済み流通食品類",18041,2450,"洋風料理　カレー類　ポークカレー",116,2.8,8.6,0.9,14,0.5,26,7.0000000000000007E-2,0.03,2,1.4]
["調理済み流通食品類",18043,2451,"洋風料理　コロッケ類　カニクリームコロッケ",255,5.0999999999999996,17.100000000000001,1,30,0.4,9,0.05,7.0000000000000007E-2,0,0.8]
["調理済み流通食品類",18044,2452,"洋風料理　コロッケ類　コーンクリームコロッケ",245,5.0999999999999996,16,1.4,47,0.4,16,0.06,0.08,2,0.8]
["調理済み流通食品類",18018,2453,"洋風料理　コロッケ類　ポテトコロッケ",226,5.3,12.6,2,15,0.8,10,0.11,0.05,10,0.7]
["調理済み流通食品類",18045,2454,"洋風料理　シチュー類　チキンシチュー",124,6.2,8,1.2,38,0.4,53,0.04,0.1,7,0.7]
["調理済み流通食品類",18011,2455,"洋風料理　シチュー類　ビーフシチュー",153,4.0999999999999996,12.6,0.7,11,0.5,58,0.03,0.06,4,1]
["調理済み流通食品類",18015,2456,"洋風料理　素揚げ類　ミートボール",201,10.199999999999999,12.5,1.3,22,0.8,27,0.15,0.12,1,1.2]
["調理済み流通食品類",18042,2457,"洋風料理　スープ類　かぼちゃのクリームスープ",73,1.5,3.9,1.3,32,0.2,110,0.03,0.06,9,0.8]
["調理済み流通食品類",18005,2458,"洋風料理　スープ類　コーンクリームスープ　コーンクリームスープ",62,1.7,2.6,0.6,36,0.2,16,0.02,0.06,1,0.9]
["調理済み流通食品類",18007,2459,"洋風料理　フライ用冷凍食品　ポテトコロッケ　冷凍",157,4.5999999999999996,4.9000000000000004,0,20,0.7,71,0.09,0.06,7,0.7]
["調理済み流通食品類",18004,2460,"洋風料理　スープ類　コーンクリームスープ　粉末タイプ",425,8.1,13.7,0,120,1.2,8,0.15,0.41,2,7.1]
["調理済み流通食品類",18014,2461,"洋風料理　その他　えびピラフ",146,3.3,2.2999999999999998,1.2,11,0.2,23,0.02,0.02,2,1.4]
["調理済み流通食品類",18003,2462,"洋風料理　その他　えびグラタン",128,5.5,6.9,0.9,97,0.3,69,0.04,0.11,2,1]
["調理済み流通食品類",18050,2463,"洋風料理　ハンバーグステーキ類　合いびきハンバーグ",197,13.4,12.2,1.1000000000000001,29,1.3,18,0.23,0.15,2,0.9]
["調理済み流通食品類",18051,2464,"洋風料理　ハンバーグステーキ類　チキンハンバーグ",171,12.6,10.199999999999999,1,22,0.7,29,0.09,0.11,2,1.2]
["調理済み流通食品類",18052,2465,"洋風料理　ハンバーグステーキ類　豆腐ハンバーグ",142,9.9,9.1999999999999993,1.3,68,1.3,47,0.11,0.09,2,0.6]
["調理済み流通食品類",18008,2466,"洋風料理　フライ用冷凍食品　いかフライ　冷凍",146,10.6,2,0,16,0.4,3,0.1,0,0,0.8]
["調理済み流通食品類",18009,2467,"洋風料理　フライ用冷凍食品　えびフライ　冷凍",139,10.199999999999999,1.9,0,42,1.5,0,0.04,7.0000000000000007E-2,1,0.9]
["調理済み流通食品類",18006,2468,"洋風料理　フライ用冷凍食品　クリームコロッケ　冷凍",159,4.7,6.3,0,43,0.5,240,0.06,0.1,2,0.7]
["調理済み流通食品類",18010,2469,"洋風料理　フライ用冷凍食品　白身フライ　冷凍",148,11.6,2.7,0,47,0.5,57,0.1,0.1,1,0.9]
["調理済み流通食品類",18016,2470,"洋風料理　フライ用冷凍食品　メンチカツ　冷凍",196,9.9,7.2,0,31,1.6,36,0.13,0.14000000000000001,1,1.1000000000000001]
["調理済み流通食品類",18019,2471,"洋風料理　フライ類　いかフライ",227,13.3,11.3,0.9,16,0.4,8,0.04,0.03,1,0.5]
["調理済み流通食品類",18020,2472,"洋風料理　フライ類　えびフライ",236,15.9,11.6,1,69,0.6,13,0.08,0.05,0,0.9]
["調理済み流通食品類",18021,2473,"洋風料理　フライ類　白身フライ",299,9.6999999999999993,21.8,0,47,0.5,57,0.1,0.1,1,0.9]
["調理済み流通食品類",18022,2474,"洋風料理　フライ類　メンチカツ",273,10.7,18.7,1.7,24,1.2,10,0.14000000000000001,0.09,1,0.9]
["調理済み流通食品類",18002,2475,"中国料理　点心類　ぎょうざ",209,6.9,11.3,1.5,22,0.6,10,0.14000000000000001,7.0000000000000007E-2,4,1.2]
["調理済み流通食品類",18012,2476,"中国料理　点心類　しゅうまい",191,9.1,9.1999999999999993,1.7,26,0.9,6,0.16,0.1,1,1.3]
["調理済み流通食品類",18046,2477,"中国料理　点心類　中華ちまき",174,5.9,5.5,0.5,6,0.3,10,0.04,0.05,0,1.1000000000000001]
["調理済み流通食品類",18047,2478,"中国料理　菜類　酢豚",77,4.5999999999999996,3.3,0.8,9,0.3,50,0.17,0.05,4,0.5]
["調理済み流通食品類",18048,2479,"中国料理　菜類　八宝菜",64,5.8,3.2,0.9,26,0.4,49,0.13,0.06,5,0.8]
["調理済み流通食品類",18049,2480,"中国料理　菜類　麻婆豆腐",104,7.8,6.8,0.7,64,1.3,3,0.16,7.0000000000000007E-2,1,1]
["調理済み流通食品類",18039,2481,"韓国料理　和え物類　もやしのナムル",70,3.1,4.5,2.7,91,1.2,140,0.05,7.0000000000000007E-2,9,1.3]

{"sheet":"食品成分表（抜粋）","index":1,"n_rows":361,"n_cols":15,"rows_kept":361,"cut":false,"hidden":false,"merged":[[0,0,1,2]]}
["日本食品標準成分表2020年版（八訂）抜粋"]
[null,null,null,"単位","kcal/100 g","g/100 g","g/100 g","g/100 g","mg/100 g","mg/100 g","µg/100 g","mg/100 g","mg/100 g","mg/100 g","g/100 g"]
["食品群","食品番号","食品名","食品名（詳細）","エネルギー","たんぱく質","脂質","食物繊維総量","カルシウム","鉄","レチノール活性当量","ビタミンＢ１","ビタミンB２","ビタミンC","食塩相当量"]
["触らない⇒",0,"-",null,0,0,0,0,0,0,0,0,0,0,0]
["触らない⇒","-","-",null,0,0,0,0,0,0,0,0,0,0,0]
["穀類",1010,"はったい粉","おおむぎ　麦こがし",368,12.5,5,15.5,43,3.1,0,0.09,0.1,0,0]
["穀類",1015,"薄力粉","こむぎ　［小麦粉］　薄力粉　1等",349,8.3000000000000007,1.5,2.5,20,0.5,0,0.11,0.03,0,0]
["穀類",1020,"強力粉","こむぎ　［小麦粉］　強力粉　1等",337,11.8,1.5,2.7,17,0.9,0,0.09,0.04,0,0]
["穀類",1024,"ホットケーキミックス","こむぎ　［小麦粉］　プレミックス粉　ホットケーキ用",360,7.8,4,1.8,100,0.5,9,0.1,0.08,0,1]
["穀類",1025,"天ぷら粉","こむぎ　［小麦粉］　プレミックス粉　天ぷら用",337,8.8000000000000007,1.3,2.5,140,0.6,1,0.12,0.99,0,0.5]
["穀類",1026,"食パン","こむぎ　［パン類］　角形食パン　食パン",248,8.9,4.0999999999999996,4.2,22,0.5,0,7.0000000000000007E-2,0.05,0,1.2]
["穀類",1028,"コッペパン","こむぎ　［パン類］　コッペパン",259,8.5,3.8,2,37,1,0,0.08,0.08,0,1.3]
["穀類",1031,"フランスパン","こむぎ　［パン類］　フランスパン",289,9.4,1.3,2.7,16,0.9,0,0.08,0.05,0,1.6]
["穀類",1039,"うどん（ゆで）","こむぎ　［うどん・そうめん類］　うどん　ゆで",95,2.6,0.4,1.3,6,0.2,0,0.02,0.01,0,0.3]
["穀類",1041,"うどん（乾）","こむぎ　［うどん・そうめん類］　干しうどん　乾",333,8.5,1.1000000000000001,2.4,17,0.6,0,0.08,0.02,0,4.3]
["穀類",1043,"そうめん","こむぎ　［うどん・そうめん類］　そうめん・ひやむぎ　乾",333,9.5,1.1000000000000001,2.5,17,0.6,0,0.08,0.02,0,3.8]
["穀類",1044,"そうめん（ゆで）","こむぎ　［うどん・そうめん類］　そうめん・ひやむぎ　ゆで",114,3.5,0.4,0.9,6,0.2,0,0.02,0.01,0,0.2]
["穀類",1049,"中華めん","こむぎ　［中華めん類］　蒸し中華めん　蒸し中華めん",162,4.9000000000000004,1.7,3.1,10,0.4,0,0,0.16,0,0.3]
["穀類",1063,"マカロニ・スパゲッティ","こむぎ　［マカロニ・スパゲッティ類］　マカロニ・スパゲッティ　乾",347,12.9,1.8,5.4,18,1.4,1,0.19,0.06,0,0]
["穀類",1066,"麩","こむぎ　［ふ類］　焼きふ　釜焼きふ",357,28.5,2.7,3.7,33,3.3,0,0.16,7.0000000000000007E-2,0,0]
["穀類",1074,"餃子の皮・春巻きの皮","こむぎ　［その他］　ぎょうざの皮　生",275,9.3000000000000007,1.4,2.2000000000000002,16,0.8,0,0.08,0.04,0,0]
["穀類",1075,"しゅうまいの皮","こむぎ　［その他］　しゅうまいの皮　生",275,8.3000000000000007,1.4,2.2000000000000002,16,0.6,0,0.09,0.04,0,0]
["穀類",1079,"パン粉","こむぎ　［その他］　パン粉　乾燥",369,14.6,6.8,4,33,1.4,0,0.15,0.03,0,1.2]
["穀類",1083,"うるち米","こめ　［水稲穀粒］　精白米　うるち米",342,6.1,0.9,0.5,5,0.8,0,0.08,0.02,0,0]
["穀類",1088,"ごはん（うるち米）","こめ　［水稲めし］　精白米　うるち米",156,2.5,0.3,1.5,3,0.1,0,0.02,0.01,0,0]
["穀類",1114,"上新粉","こめ　［うるち米製品］　上新粉",343,6.2,0.9,0.6,5,0.8,0,0.09,0.02,0,0]
["穀類",1115,"ビーフン","こめ　［うるち米製品］　ビーフン",360,7,1.6,0.9,14,0.7,0,0.06,0.02,0,0]
["穀類",1120,"白玉粉","こめ　［もち米製品］　白玉粉",347,6.3,1,0.5,5,1.1000000000000001,0,0.03,0.01,0,0]
["穀類",1121,"道明寺粉","こめ　［もち米製品］　道明寺粉",349,7.1,0.7,0.7,6,0.4,0,0.04,0.01,0,0]
["穀類",1136,"ポップコーン（加熱前）","とうもろこし　ポップコーン",472,10.199999999999999,22.8,9.3000000000000007,7,4.3,15,0.13,0.08,0,1.4]
["穀類",1137,"コーンフレーク","とうもろこし　コーンフレーク",380,7.8,1.7,2.4,1,0.9,10,0.03,0.02,0,2.1]
["穀類",1146,"お好み焼き粉","こむぎ　［小麦粉］　プレミックス粉　お好み焼き用",335,10.1,1.9,2.8,64,1,1,0.21,0.03,0,3.7]
["穀類",1150,"冷めん","こむぎ　［その他］　冷めん　生",249,3.9,0.7,1.1000000000000001,11,0.3,0,0.04,0,0,1.3]
["穀類",1151,"もち米","こめ　［水稲穀粒］　精白米　もち米",345,6.4,1.2,0.5,5,0.2,0,0.12,0.02,0,0]
["穀類",1158,"米粉","こめ　［うるち米製品］　米粉",356,6,0.7,0.6,6,0.1,0,0.03,0.01,0,0]
["いも類及びでん粉類",2003,"こんにゃく","＜いも類＞　こんにゃく　板こんにゃく　精粉こんにゃく",5,0.1,0,2.2000000000000002,43,0.4,0,0,0,0,0]
["いも類及びでん粉類",2005,"しらたき","＜いも類＞　こんにゃく　しらたき",7,0.2,0,2.9,75,0.5,0,0,0,0,0]
["いも類及びでん粉類",2010,"さといも","＜いも類＞　（さといも類）　さといも　球茎　生",53,1.5,0.1,2.2999999999999998,10,0.5,0,7.0000000000000007E-2,0.02,6,0]
["いも類及びでん粉類",2011,"さといも（水煮）","＜いも類＞　（さといも類）　さといも　球茎　水煮",52,1.5,0.1,2.4,14,0.4,0,0.06,0.02,5,0]
["いも類及びでん粉類",2012,"さといも（冷凍）","＜いも類＞　（さといも類）　さといも　球茎　冷凍",69,2.2000000000000002,0.1,2,20,0.6,0,7.0000000000000007E-2,0.01,5,0]
["いも類及びでん粉類",2017,"じゃがいも","＜いも類＞　じゃがいも　塊茎　皮なし　生",59,1.8,0.1,8.9,4,0.4,0,0.09,0.03,28,0]
["いも類及びでん粉類",2023,"ながいも","＜いも類＞　（やまのいも類）　ながいも　ながいも　塊根　生",64,2.2000000000000002,0.3,1,17,0.4,0,0.1,0.02,6,0]
["いも類及びでん粉類",2029,"くずでん粉","＜でん粉・でん粉製品＞　（でん粉類）　くずでん粉",356,0.2,0.2,0,18,2,0,0,0,0,0]
["いも類及びでん粉類",2033,"さつまいもでん粉","＜でん粉・でん粉製品＞　（でん粉類）　さつまいもでん粉",340,0.1,0.2,0,50,2.8,0,0,0,0,0]
["いも類及びでん粉類",2034,"かたくり粉","＜でん粉・でん粉製品＞　（でん粉類）　じゃがいもでん粉",338,0.1,0.1,0,10,0.6,0,0,0,0,0]
["いも類及びでん粉類",2035,"コーンスターチ","＜でん粉・でん粉製品＞　（でん粉類）　とうもろこしでん粉",363,0.1,0.7,0,3,0.3,0,0,0,0,0]
["いも類及びでん粉類",2040,"はるさめ","＜でん粉・でん粉製品＞　（でん粉製品）　はるさめ　普通はるさめ　乾",346,0,0.2,1.2,41,0.4,0,0,0,0,0]
["いも類及びでん粉類",2045,"さつまいも","＜いも類＞　（さつまいも類）　さつまいも　塊根　皮つき　生",127,0.9,0.5,2.8,40,0.5,3,0.1,0.02,25,0.1]
["砂糖及び甘味類",3001,"黒砂糖","（砂糖類）　黒砂糖",352,1.7,0,0,240,4.7,1,0.05,7.0000000000000007E-2,0,0.1]
["砂糖及び甘味類",3003,"上白糖","（砂糖類）　車糖　上白糖",391,0,0,0,1,0,0,0,0,0,0]
["砂糖及び甘味類",3004,"三温糖","（砂糖類）　車糖　三温糖",390,0,0,0,6,0.1,0,0,0.01,0,0]
["砂糖及び甘味類",3005,"グラニュー糖","（砂糖類）　ざらめ糖　グラニュー糖",393,0,0,0,0,0,0,0,0,0,0]
["砂糖及び甘味類",3011,"粉糖","（砂糖類）　加工糖　粉糖",393,0,0,0,0,0.2,0,0,0,0,0]
["砂糖及び甘味類",3022,"はちみつ","（その他）　はちみつ",329,0.3,0,0,4,0.2,0,0,0.01,0,0]
["砂糖及び甘味類",3023,"メープルシロップ","（その他）　メープルシロップ",266,0.1,0,0,75,0.4,0,0,0.02,0,0]
["砂糖及び甘味類",3029,"黒蜜","（その他）　黒蜜",199,1,0,0,140,2.6,0,0.03,0.04,0,0]
["豆類",4001,"あずき（乾）","あずき　全粒　乾",304,20.8,2,24.8,70,5.5,1,0.46,0.16,2,0]
["豆類",4003,"ゆで小豆缶詰","あずき　ゆで小豆缶詰",202,4.4000000000000004,0.4,3.4,13,1.3,0,0.02,0.04,0,0.2]
["豆類",4004,"こしあん","あずき　あん　こし生あん",147,9.8000000000000007,0.6,6.8,73,2.8,0,0.02,0.05,0,0]
["豆類",4008,"いんげんまめ","いんげんまめ　全粒　ゆで",127,9.3000000000000007,1.2,13.6,62,2,0,0.22,7.0000000000000007E-2,0,0]
["豆類",4008,"金時豆","いんげんまめ　全粒　ゆで",127,9.3000000000000007,1.2,13.6,62,2,0,0.22,7.0000000000000007E-2,0,0]
["豆類",4023,"だいず","だいず　［全粒・全粒製品］　全粒　黄大豆　国産　乾",372,33.799999999999997,19.7,21.5,180,6.8,1,0.71,0.26,3,0]
["豆類",4028,"だいず（水煮）","だいず　［全粒・全粒製品］　水煮缶詰　黄大豆",124,12.9,6.7,6.8,100,1.8,0,0.01,0.02,0,0.5]
["豆類",4029,"きな粉","だいず　［全粒・全粒製品］　きな粉　黄大豆　全粒大豆",451,36.700000000000003,25.7,18.100000000000001,190,8,0,7.0000000000000007E-2,0.24,1,0]
["豆類",4032,"豆腐（木綿）","だいず　［豆腐・油揚げ類］　木綿豆腐",73,7,4.9000000000000004,1.1000000000000001,93,1.5,0,0.09,0.04,0,0]
["豆類",4033,"豆腐（絹ごし）","だいず　［豆腐・油揚げ類］　絹ごし豆腐",56,5.3,3.5,0.9,75,1.2,0,0.11,0.04,0,0]
["豆類",4034,"豆腐（ソフト）","だいず　［豆腐・油揚げ類］　ソフト豆腐",56,5.0999999999999996,3.3,0.4,91,0.7,0,7.0000000000000007E-2,0.03,0,0]
["豆類",4035,"豆腐（充てん）","だいず　［豆腐・油揚げ類］　充てん豆腐",56,5,3.1,0.3,31,0.8,0,0.15,0.05,0,0]
["豆類",4038,"焼き豆腐","だいず　［豆腐・油揚げ類］　焼き豆腐",82,7.8,5.7,0.5,150,1.6,0,7.0000000000000007E-2,0.03,0,0]
["豆類",4039,"厚揚げ","だいず　［豆腐・油揚げ類］　生揚げ",143,10.7,11.3,0.7,240,2.6,0,7.0000000000000007E-2,0.03,0,0]
["豆類",4040,"油揚げ","だいず　［豆腐・油揚げ類］　油揚げ　油揚げ",377,23.4,34.4,1.3,310,3.2,0,0.06,0.04,0,0]
["豆類",4041,"がんもどき","だいず　［豆腐・油揚げ類］　がんもどき",223,15.3,17.8,1.4,270,3.6,0,0.03,0.04,0,0.5]
["豆類",4042,"高野豆腐","だいず　［豆腐・油揚げ類］　凍り豆腐　乾",496,50.5,34.1,2.5,630,7.5,1,0.02,0.02,0,1.1000000000000001]
["豆類",4046,"納豆","だいず　［納豆類］　糸引き納豆",190,16.5,10,6.7,90,3.3,0,7.0000000000000007E-2,0.56000000000000005,0,0]
["豆類",4047,"挽きわり納豆","だいず　［納豆類］　挽きわり納豆",185,16.600000000000001,10,5.9,59,2.6,0,0.14000000000000001,0.36,0,0]
["豆類",4051,"おから","だいず　［その他］　おから　生",88,6.1,3.6,11.5,81,1.3,0,0.11,0.03,0,0]
["豆類",4052,"豆乳","だいず　［その他］　豆乳　豆乳",44,3.6,2,0.2,15,1.2,0,0.03,0.02,0,0]
["豆類",4053,"調整豆乳","だいず　［その他］　豆乳　調製豆乳",63,3.2,3.6,0.3,31,1.2,0,7.0000000000000007E-2,0.02,0,0.1]
["豆類",4060,"湯葉","だいず　［その他］　湯葉　干し　乾",485,50.4,32.1,3,210,8.3000000000000007,1,0.35,0.12,0,0]
["豆類",4073,"レンズ豆","レンズまめ　全粒　乾",313,23.2,1.5,16.7,57,9,3,0.52,0.17,1,0]
["種実類",5001,"アーモンド","アーモンド　乾",609,19.600000000000001,51.8,10.1,250,3.6,1,0.2,1.06,0,0]
["種実類",5006,"かぼちゃの種","かぼちゃ　いり　味付け",590,26.5,51.8,7.3,44,6.5,3,0.21,0.19,0,0.1]
["種実類",5012,"栗の甘露煮","（くり類）　日本ぐり　甘露煮",232,1.8,0.4,2.8,8,0.6,3,7.0000000000000007E-2,0.03,0,0]
["種実類",5013,"天津甘栗","（くり類）　中国ぐり　甘ぐり",207,4.9000000000000004,0.9,8.5,30,2,6,0.2,0.18,2,0]
["種実類",5014,"くるみ","くるみ　いり",713,14.6,68.8,7.5,85,2.6,2,0.26,0.15,0,0]
["種実類",5015,"けし","けし　乾",555,19.3,49.1,16.5,1700,23,0,1.61,0.2,0,0]
["種実類",5017,"ごま（乾）","ごま　乾",604,19.8,53.8,10.8,1200,9.6,1,0.95,0.25,0,0]
["種実類",5018,"炒りごま","ごま　いり",605,20.3,54.2,12.6,1200,9.9,1,0.49,0.23,0,0]
["種実類",5042,"練りごま","ごま　ねり",646,19,61,11.2,590,5.8,1,0.32,0.15,0,0]
["野菜類",6007,"アスパラガス","アスパラガス　若茎　生",21,2.6,0.2,1.8,19,0.7,31,0.14000000000000001,0.15,15,0]
["野菜類",6010,"さやいんげん","いんげんまめ　さやいんげん　若ざや　生",23,1.8,0.1,2.4,48,0.7,49,0.06,0.11,8,0]
["野菜類",6015,"えだまめ","えだまめ　生",125,11.7,6.2,5,58,2.7,22,0.31,0.15,27,0]
["野菜類",6017,"えだまめ（冷凍）","えだまめ　冷凍",143,13,7.6,7.3,76,2.5,15,0.28000000000000003,0.13,27,0]
["野菜類",6019,"豆苗","（えんどう類）　トウミョウ　茎葉　生",28,3.8,0.4,3.3,34,1,340,0.24,0.27,79,0]
["野菜類",6020,"さやえんどう","（えんどう類）　さやえんどう　若ざや　生",38,3.1,0.2,3,35,0.9,47,0.15,0.11,60,0]
["野菜類",6022,"スナップえんどう","（えんどう類）　スナップえんどう　若ざや　生",47,2.9,0.1,2.5,32,0.6,34,0.13,0.09,43,0]
["野菜類",6023,"グリンピース","（えんどう類）　グリンピース　生",76,6.9,0.4,7.7,23,1.7,35,0.39,0.16,19,0]
["野菜類",6025,"グリンピース（冷凍）","（えんどう類）　グリンピース　冷凍",80,5.8,0.7,9.3000000000000007,27,1.6,36,0.28999999999999998,0.11,20,0]
["野菜類",6026,"グリンピース（水煮）","（えんどう類）　グリンピース　水煮缶詰",82,3.6,0.4,6.9,33,1.8,17,0.04,0.04,0,0.8]
["野菜類",6027,"おおさかしろな","おおさかしろな　葉　生",12,1.4,0.2,1.8,150,1.2,110,0.06,0.18,28,0.1]
["野菜類",6032,"オクラ","オクラ　果実　生",26,2.1,0.2,5,92,0.5,56,0.09,0.09,11,0]
["野菜類",6034,"かぶ（葉）","かぶ　葉　生",20,2.2999999999999998,0.1,2.9,250,2.1,230,0.08,0.16,82,0.1]
["野菜類",6036,"かぶ（根）","かぶ　根　皮つき　生",18,0.7,0.1,1.5,24,0.3,0,0.03,0.03,19,0]
["野菜類",6046,"日本かぼちゃ","（かぼちゃ類）　日本かぼちゃ　果実　生",41,1.6,0.1,2.8,20,0.5,60,7.0000000000000007E-2,0.06,16,0]
["野菜類",6048,"西洋かぼちゃ","（かぼちゃ類）　西洋かぼちゃ　果実　生",78,1.9,0.3,3.5,15,0.5,330,7.0000000000000007E-2,0.09,43,0]
["野菜類",6054,"カリフラワー","カリフラワー　花序　生",28,3,0.1,2.9,24,0.6,2,0.06,0.11,81,0]
["野菜類",6056,"かんぴょう","かんぴょう　乾",239,6.3,0.2,30.1,250,2.9,0,0,0.04,0,0]
["野菜類",6061,"キャベツ","（キャベツ類）　キャベツ　結球葉　生",21,1.3,0.2,1.8,43,0.3,4,0.04,0.03,41,0]
["野菜類",6065,"きゅうり","きゅうり　果実　生",13,1,0.1,1.1000000000000001,26,0.3,28,0.03,0.03,14,0]
["野菜類",6072,"みずな","みずな　葉　生",23,2.2000000000000002,0.1,3,210,2.1,110,0.08,0.15,55,0.1]
["野菜類",6084,"ごぼう","ごぼう　根　生",58,1.8,0.1,5.7,46,0.7,0,0.05,0.04,3,0]
["野菜類",6086,"こまつな","こまつな　葉　生",13,1.5,0.2,1.9,170,2.8,260,0.09,0.13,39,0]
["野菜類",6088,"ザ―サイ","ザーサイ　漬物",20,2.5,0.1,4.5999999999999996,140,2.9,1,0.04,7.0000000000000007E-2,0,13.7]
["野菜類",6095,"しそ","しそ　葉　生",32,3.9,0.1,7.3,230,1.7,880,0.13,0.34,26,0]
["野菜類",6099,"しゅんぎく","しゅんぎく　葉　生",20,2.2999999999999998,0.3,3.2,120,1.7,380,0.1,0.16,19,0.2]
["野菜類",6103,"しょうが","（しょうが類）　しょうが　根茎　皮なし　生",28,0.9,0.3,2.1,12,0.5,0,0.03,0.02,2,0]
["野菜類",6116,"ズッキーニ","ズッキーニ　果実　生",16,1.3,0.1,1.3,24,0.5,27,0.05,0.05,20,0]
["野菜類",6119,"セロリ","セロリ　葉柄　生",12,0.4,0.1,1.5,39,0.2,4,0.03,0.03,7,0.1]
["野菜類",6124,"そらまめ","そらまめ　未熟豆　生",102,10.9,0.2,2.6,22,2.2999999999999998,20,0.3,0.2,23,0]
["野菜類",6128,"かいわれだいこん","（だいこん類）　かいわれだいこん　芽ばえ　生",21,2.1,0.5,1.9,54,0.5,160,0.08,0.13,47,0]
["野菜類",6134,"だいこん","（だいこん類）　だいこん　根　皮なし　生",15,0.4,0.1,1.3,23,0.2,0,0.02,0.01,11,0]
["野菜類",6136,"切干しだいこん（乾）","（だいこん類）　切干しだいこん　乾",280,9.6999999999999993,0.8,21.3,500,3.1,0,0.35,0.2,28,0.5]
["野菜類",6150,"たけのこ(ゆで）","たけのこ　若茎　ゆで",31,3.5,0.2,3.3,17,0.4,1,0.04,0.09,8,0]
["野菜類",6151,"たけのこ(水煮）","たけのこ　水煮缶詰",22,2.7,0.2,2.2999999999999998,19,0.3,0,0.01,0.04,0,0]
["野菜類",6153,"たまねぎ","（たまねぎ類）　たまねぎ　りん茎　生",33,1,0.1,1.5,17,0.3,0,0.04,0.01,7,0]
["野菜類",6160,"チンゲンサイ","チンゲンサイ　葉　生",9,0.6,0.1,1.2,100,1.1000000000000001,170,0.03,7.0000000000000007E-2,24,0.1]
["野菜類",6173,"とうがん","とうがん　果実　生",15,0.5,0.1,1.3,19,0.2,0,0.01,0.01,39,0]
["野菜類",6175,"コーン","（とうもろこし類）　スイートコーン　未熟種子　生",89,3.6,1.7,3,3,0.8,4,0.15,0.1,8,0]
["野菜類",6179,"コーンクリーム缶","（とうもろこし類）　スイートコーン　缶詰　クリームスタイル",82,1.7,0.5,1.8,2,0.4,4,0.02,0.05,3,0.7]
["野菜類",6180,"コーン缶","（とうもろこし類）　スイートコーン　缶詰　ホールカーネルスタイル",78,2.2999999999999998,0.5,3.3,2,0.4,5,0.03,0.05,2,0.5]
["野菜類",6181,"ヤングコーン","（とうもろこし類）　ヤングコーン　幼雌穂　生",29,2.2999999999999998,0.2,2.7,19,0.4,3,0.09,0.11,9,0]
["野菜類",6182,"トマト","（トマト類）　赤色トマト　果実　生",20,0.7,0.1,1,7,0.2,45,0.05,0.02,15,0]
["野菜類",6183,"ミニトマト","（トマト類）　赤色ミニトマト　果実　生",30,1.1000000000000001,0.1,1.4,12,0.4,80,7.0000000000000007E-2,0.05,32,0]
["野菜類",6184,"ホールトマト缶","（トマト類）　加工品　ホール　食塩無添加",21,0.9,0.2,1.3,9,0.4,47,0.06,0.03,10,0]
["野菜類",6191,"なす","（なす類）　なす　果実　生",18,1.1000000000000001,0.1,2.2000000000000002,18,0.3,8,0.05,0.05,4,0]
["野菜類",6205,"ゴーヤ","にがうり　果実　生",15,1,0.1,2.6,14,0.4,17,0.05,7.0000000000000007E-2,76,0]
["野菜類",6207,"にら","（にら類）　にら　葉　生",18,1.7,0.3,2.7,48,0.7,290,0.06,0.13,19,0]
["野菜類",6214,"にんじん","（にんじん類）　にんじん　根　皮なし　生",30,0.8,0.1,2.4,26,0.2,690,7.0000000000000007E-2,0.06,6,0.1]
["野菜類",6217,"にんじんジュース","（にんじん類）　にんじん　ジュース　缶詰",29,0.6,0.1,0.2,10,0.2,370,0.03,0.04,1,0]
["野菜類",6223,"にんにく","（にんにく類）　にんにく　りん茎　生",129,6.4,0.9,6.2,14,0.8,0,0.19,7.0000000000000007E-2,12,0]
["野菜類",6226,"白ねぎ","（ねぎ類）　根深ねぎ　葉　軟白　生",35,1.4,0.1,2.5,36,0.3,7,0.05,0.04,14,0]
["野菜類",6227,"青ねぎ","（ねぎ類）　葉ねぎ　葉　生",29,1.9,0.3,3.2,80,1,120,0.06,0.11,32,0]
["野菜類",6233,"はくさい","はくさい　結球葉　生",13,0.8,0.1,1.3,43,0.3,8,0.03,0.03,19,0]
["野菜類",6239,"パセリ","パセリ　葉　生",34,4,0.7,6.8,290,7.5,620,0.12,0.24,120,0]
["野菜類",6245,"ピーマン","（ピーマン類）　青ピーマン　果実　生",20,0.9,0.2,2.2999999999999998,11,0.4,33,0.03,0.03,76,0]
["野菜類",6247,"パプリカ(赤）","（ピーマン類）　赤ピーマン　果実　生",28,1,0.2,1.6,7,0.4,88,0.06,0.14000000000000001,170,0]
["野菜類",6249,"パプリカ（黄）","（ピーマン類）　黄ピーマン　果実　生",28,0.8,0.2,1.3,8,0.3,17,0.04,0.03,150,0]
["野菜類",6263,"ブロッコリー","ブロッコリー　花序　生",37,5.4,0.6,5.0999999999999996,50,1.3,75,0.17,0.23,140,0]
["野菜類",6267,"ほうれんそう","ほうれんそう　葉　通年平均　生",18,2.2000000000000002,0.4,2.8,49,2,350,0.11,0.2,35,0]
["野菜類",6278,"みつば","（みつば類）　糸みつば　葉　生",12,0.9,0.1,2.2999999999999998,47,0.9,270,0.04,0.14000000000000001,13,0]
["野菜類",6287,"だいずもやし","（もやし類）　だいずもやし　生",29,3.7,1.5,2.2999999999999998,23,0.5,0,0.09,7.0000000000000007E-2,5,0]
["野菜類",6289,"もやし","（もやし類）　ブラックマッペもやし　生",17,2.2000000000000002,0,1.5,16,0.4,0,0.04,0.06,10,0]
["野菜類",6291,"りょくとうもやし","（もやし類）　りょくとうもやし　生",15,1.7,0.1,1.3,10,0.2,0,0.04,0.05,8,0]
["野菜類",6293,"モロヘイヤ","モロヘイヤ　茎葉　生",36,4.8,0.5,5.9,260,1,840,0.18,0.42,65,0]
["野菜類",6312,"レタス（土耕栽培）","（レタス類）　レタス　土耕栽培　結球葉　生",11,0.6,0.1,1.1000000000000001,19,0.3,20,0.05,0.03,5,0]
["野菜類",6317,"れんこん","れんこん　根茎　生",66,1.9,0.1,2,20,0.5,0,0.1,0.01,48,0.1]
["野菜類",6340,"トマトジュース","（トマト類）　加工品　トマトジュース　食塩無添加",18,0.7,0.1,0.7,6,0.3,26,0.04,0.04,6,0]
["野菜類",6361,"レタス","（レタス類）　レタス　水耕栽培　結球葉　生",13,0.8,0.2,1.1000000000000001,34,0.3,59,0.03,0.03,5,0]
["果実類",7012,"いちご","いちご　生",31,0.9,0.1,1.4,17,0.3,1,0.03,0.02,62,0]
["果実類",7013,"いちごジャム","いちご　ジャム　高糖度",250,0.4,0.1,1.3,9,0.2,0,0.01,0.01,9,0]
["果実類",7018,"いよかん","（かんきつ類）　いよかん　砂じょう　生",50,0.9,0.1,1.1000000000000001,17,0.2,13,0.06,0.03,35,0]
["果実類",7022,"梅干し","うめ　梅干し　塩漬",29,0.9,0.7,3.3,33,1.1000000000000001,1,0.02,0.01,0,18.2]
["果実類",7029,"みかん","（かんきつ類）　うんしゅうみかん　砂じょう　普通　生",49,0.7,0.1,0.4,15,0.1,92,0.09,0.03,33,0]
["果実類",7031,"みかんジュース（濃縮還元）","（かんきつ類）　うんしゅうみかん　果実飲料　濃縮還元ジュース",42,0.5,0.1,0,6,0.1,51,0.06,0.04,30,0]
["果実類",7033,"みかんジュース（果汁50％）","（かんきつ類）　うんしゅうみかん　果実飲料　50%果汁入り飲料",59,0.2,0,0.1,4,0.1,23,0.03,0.01,18,0]
["果実類",7034,"みかんジュース（果汁20％）","（かんきつ類）　うんしゅうみかん　果実飲料　20%果汁入り飲料",50,0.1,0,0,2,0.1,10,0.01,0.01,7,0]
["果実類",7035,"みかん缶","（かんきつ類）　うんしゅうみかん　缶詰　果肉",63,0.5,0.1,0.5,8,0.4,34,0.05,0.02,15,0]
["果実類",7036,"みかん缶（シロップ）","（かんきつ類）　うんしゅうみかん　缶詰　液汁",63,0.3,0.1,0,5,0.3,0,0.04,0.02,15,0]
["果実類",7040,"オレンジ（ネーブル）","（かんきつ類）　オレンジ　ネーブル　砂じょう　生",48,0.9,0.1,1,24,0.2,11,7.0000000000000007E-2,0.04,60,0]
["果実類",7041,"オレンジ（バレンシア）","（かんきつ類）　オレンジ　バレンシア　米国産　砂じょう　生",42,1,0.1,0.8,21,0.3,10,0.1,0.03,40,0]
["果実類",7043,"オレンジジュース（濃縮還元）","（かんきつ類）　オレンジ　バレンシア　果実飲料　濃縮還元ジュース",46,0.7,0.1,0.2,9,0.1,4,7.0000000000000007E-2,0.02,42,0]
["果実類",7044,"オレンジジュース（果汁50％）","（かんきつ類）　オレンジ　バレンシア　果実飲料　50%果汁入り飲料",46,0.4,0.2,0.1,5,0.1,1,0.04,0.01,16,0]
["果実類",7045,"オレンジジュース（果汁30％）","（かんきつ類）　オレンジ　バレンシア　果実飲料　30%果汁入り飲料",41,0.2,0,0,3,0,0,0.02,0.01,10,0]
["果実類",7046,"マーマレード","（かんきつ類）　オレンジ　バレンシア　マーマレード　高糖度",233,0.2,0.1,0.7,16,0.1,2,0.01,0,5,0]
["果実類",7049,"柿","かき　甘がき　生",63,0.4,0.2,1.6,9,0.2,35,0.03,0.02,70,0]
["果実類",7062,"グレープフルーツ","（かんきつ類）　グレープフルーツ　白肉種　砂じょう　生",40,0.9,0.1,0.6,15,0,0,7.0000000000000007E-2,0.03,36,0]
["果実類",7077,"すいか","すいか　赤肉種　生",41,0.6,0.1,0.3,4,0.2,69,0.03,0.02,10,0]
["果実類",7088,"梨","（なし類）　日本なし　生",38,0.3,0.1,0.9,2,0,0,0.02,0,3,0]
["果実類",7097,"パインアップル","パインアップル　生",54,0.6,0.1,1.2,11,0.2,3,0.09,0.02,35,0]
["果実類",7099,"パイナップルジュース（濃縮還元）","パインアップル　果実飲料　濃縮還元ジュース",45,0.1,0.1,0,9,0.3,1,0.05,0.02,5,0]
["果実類",7100,"パイナップルジュース（50％果汁入り飲料）","パインアップル　果実飲料　50%果汁入り飲料",50,0.3,0.1,0,6,0.1,0,0.03,0.01,3,0]
["果実類",7101,"パイナップルジュース（10％果汁入り飲料）","パインアップル　果実飲料　10%果汁入り飲料",50,0,0,0,2,0.2,0,0,0,0,0]
["果実類",7102,"パイン缶","パインアップル　缶詰",76,0.4,0.1,0.5,7,0.3,1,7.0000000000000007E-2,0.01,7,0]
["果実類",7105,"はっさく","（かんきつ類）　はっさく　砂じょう　生",47,0.8,0.1,1.5,13,0.1,9,0.06,0.03,40,0]
["果実類",7107,"バナナ　","バナナ　生",93,1.1000000000000001,0.2,1.1000000000000001,6,0.3,5,0.05,0.04,16,0]
["果実類",7114,"びわ","びわ　生",41,0.3,0.1,1.6,13,0.1,68,0.02,0.03,5,0]
["果実類",7116,"ぶどう","ぶどう　皮なし　生",58,0.4,0.1,0.5,6,0.1,2,0.04,0.01,2,0]
["果実類",7117,"干しぶどう","ぶどう　干しぶどう",324,2.7,0.2,4.0999999999999996,65,2.2999999999999998,1,0.12,0.03,0,0]
["果実類",7119,"ぶどうジュース（濃縮還元）","ぶどう　果実飲料　濃縮還元ジュース",46,0.3,0.3,0.1,5,0.3,0,0.02,0,0,0]
["果実類",7120,"ぶどうジュース（70％果汁入り飲料）","ぶどう　果実飲料　70%果汁入り飲料",52,0.2,0,0.1,4,0.1,0,0,0,0,0]
["果実類",7121,"ぶどうジュース（10％果汁入り飲料）","ぶどう　果実飲料　10%果汁入り飲料",52,0,0,0,3,0.1,0,0,0,0,0]
["果実類",7124,"ブルーベリー","ブルーベリー　生",48,0.5,0.1,3.3,8,0.2,5,0.03,0.03,9,0]
["果実類",7125,"ブルーベリージャム","ブルーベリー　ジャム",174,0.7,0.3,4.3,8,0.3,2,0.03,0.02,3,0]
["果実類",7136,"もも","（もも類）　もも　白肉種　生",38,0.6,0.1,1.3,4,0.1,0,0.01,0.01,8,0]
["果実類",7137,"ももジュース（30％果汁入り飲料）","（もも類）　もも　果実飲料　30%果汁入り飲料　（ネクター）",46,0.2,0.1,0.4,2,0.2,0,0,0.01,2,0]
["果実類",7138,"もも缶（白肉）","（もも類）　もも　缶詰　白肉種　果肉",82,0.5,0.1,1.4,3,0.2,0,0.01,0.02,2,0]
["果実類",7139,"もも缶（シロップ）","（もも類）　もも　缶詰　液汁",81,0.3,0.1,0.3,2,0.2,0,0.01,0.01,2,0]
["果実類",7148,"りんご","りんご　皮なし　生",53,0.1,0.2,1.4,3,0.1,1,0.02,0,4,0]
["果実類",7150,"りんごジュース（濃縮還元）","りんご　果実飲料　濃縮還元ジュース",47,0.1,0.2,0,3,0.1,0,0,0,1,0]
["果実類",7151,"りんごジュース（50％果汁入り飲料）","りんご　果実飲料　50%果汁入り飲料",46,0.1,0,0,2,0.1,0,0,0,0,0]
["果実類",7152,"りんごジュース（30％果汁入り飲料）","りんご　果実飲料　30%果汁入り飲料",46,0,0,0,2,0,0,0,0,0,0]
["果実類",7154,"りんごジャム","りんご　ジャム",203,0.2,0.1,0.8,6,0,0,0.01,0,0,0]
["果実類",7155,"レモン","（かんきつ類）　レモン　全果　生",43,0.9,0.7,4.9000000000000004,67,0.2,2,7.0000000000000007E-2,7.0000000000000007E-2,100,0]
["果実類",7156,"レモン汁","（かんきつ類）　レモン　果汁　生",24,0.4,0.2,0,7,0.1,1,0.04,0.02,50,0]
["果実類",7175,"もも缶（黄肉）","（もも類）　もも　缶詰　黄肉種　果肉",83,0.5,0.1,1.4,3,0.2,17,0.01,0.02,2,0]
["きのこ類",8001,"えのき","えのきたけ　生",34,2.7,0.2,3.9,0,1.1000000000000001,0,0.24,0.17,0,0]
["きのこ類",8006,"きくらげ","（きくらげ類）　きくらげ　乾",216,7.9,2.1,57.4,310,35,0,0.19,0.87,0,0.1]
["きのこ類",8013,"干しいたけ","しいたけ　乾しいたけ　乾",258,21.2,2.8,46.7,12,3.2,0,0.48,1.74,20,0]
["きのこ類",8016,"しめじ","（しめじ類）　ぶなしめじ　生",22,2.7,0.5,3.5,1,0.5,0,0.15,0.17,0,0]
["きのこ類",8020,"なめこ","なめこ　株採り　生",21,1.8,0.2,3.4,4,0.7,0,7.0000000000000007E-2,0.12,0,0]
["きのこ類",8025,"エリンギ","（ひらたけ類）　エリンギ　生",31,2.8,0.4,3.4,0,0.3,0,0.11,0.22,0,0]
["きのこ類",8028,"まいたけ","まいたけ　生",22,2,0.5,3.5,0,0.2,0,0.09,0.19,0,0]
["きのこ類",8031,"マッシュルーム","マッシュルーム　生",15,2.9,0.3,2,3,0.3,0,0.06,0.28999999999999998,0,0]
["きのこ類",8033,"マッシュルーム(水煮缶）","マッシュルーム　水煮缶詰",18,3.4,0.2,3.2,8,0.8,0,0.03,0.24,0,0.9]
["きのこ類",8039,"しいたけ","しいたけ　生しいたけ　菌床栽培　生",25,3.1,0.3,4.9000000000000004,1,0.4,0,0.13,0.21,0,0]
["藻類",9002,"のり","あおのり　素干し",249,29.4,5.2,35.200000000000003,750,77,1700,0.92,1.66,62,8.1]
["藻類",9004,"焼きのり","あまのり　焼きのり",297,41.4,3.7,36,280,11,2300,0.69,2.33,210,1.3]
["藻類",9005,"味付けのり","あまのり　味付けのり",301,40,3.5,25.2,170,8.1999999999999993,2700,0.61,2.31,200,4.3]
["藻類",9015,"こんぶ","（こんぶ類）　ながこんぶ　素干し",205,8.3000000000000007,1.5,36.799999999999997,430,3,65,0.19,0.41,20,7.6]
["藻類",9020,"刻み昆布","（こんぶ類）　刻み昆布",119,5.4,0.5,39.1,940,8.6,5,0.15,0.33,0,10.9]
["藻類",9021,"とろろ昆布","（こんぶ類）　削り昆布",177,6.5,0.9,28.2,650,3.6,64,0.33,0.28000000000000003,19,5.3]
["藻類",9044,"カットわかめ","わかめ　カットわかめ　乾",186,17.899999999999999,4,39.200000000000003,870,6.5,190,7.0000000000000007E-2,0.08,0,23.5]
["藻類",9049,"粉寒天","てんぐさ　粉寒天",160,0.2,0.3,79,120,7.3,0,0,0,0,0.4]
["藻類",9050,"ひじき","ひじき　ほしひじき　ステンレス釜　乾",180,9.1999999999999993,3.2,51.8,1000,6.2,360,0.09,0.42,0,4.7]
["魚介類",10003,"あじ","＜魚類＞　（あじ類）　まあじ　皮つき　生",112,19.7,4.5,0,66,0.6,7,0.13,0.13,0,0.3]
["魚介類",10045,"かたくちいわし","＜魚類＞　（いわし類）　かたくちいわし　煮干し",298,64.5,6.2,0,2200,18,0,0.1,0.1,0,4.3]
["魚介類",10047,"いわし","＜魚類＞　（いわし類）　まいわし　生",156,19.2,9.1999999999999993,0,74,2.1,8,0.03,0.39,0,0.2]
["魚介類",10056,"しらす干し","＜魚類＞　（いわし類）　しらす干し　半乾燥品",187,40.5,3.5,0,520,0.8,240,0.22,0.06,0,6.6]
["魚介類",10091,"かつお節","＜魚類＞　（かつお類）　加工品　かつお節",332,77.099999999999994,2.9,0,28,5.5,0,0.55000000000000004,0.35,0,0.3]
["魚介類",10134,"さけ","＜魚類＞　（さけ・ます類）　しろさけ　生",124,22.3,4.0999999999999996,0,14,0.5,11,0.15,0.21,1,0.2]
["魚介類",10158,"さば","＜魚類＞　（さば類）　たいせいようさば　生",295,17.2,26.8,0,7,0.9,44,0.14000000000000001,0.35,1,0.3]
["魚介類",10171,"さわら","＜魚類＞　さわら　生",161,20.100000000000001,9.6999999999999993,0,13,0.8,12,0.09,0.35,0,0.2]
["魚介類",10173,"さんま","＜魚類＞　さんま　皮つき　生",287,18.100000000000001,25.6,0,28,1.4,16,0.01,0.28000000000000003,0,0.4]
["魚介類",10193,"たい","＜魚類＞　（たい類）　まだい　養殖　皮つき　生",160,20.9,9.4,0,12,0.2,11,0.32,0.08,3,0.1]
["魚介類",10202,"たらこ","＜魚類＞　（たら類）　すけとうだら　たらこ　生",131,24,4.7,0,24,0.6,24,0.71,0.43,33,4.5999999999999996]
["魚介類",10261,"ツナ缶（水煮）","＜魚類＞　（まぐろ類）　缶詰　水煮　フレーク　ホワイト",96,18.3,2.5,0,6,1,0,7.0000000000000007E-2,0.03,0,0.7]
["魚介類",10264,"ツナ缶（油漬）","＜魚類＞　（まぐろ類）　缶詰　油漬　フレーク　ホワイト",279,18.8,23.6,0,2,1.8,0,0.05,0.13,0,0.9]
["魚介類",10283,"あさり（缶詰）","＜貝類＞　あさり　缶詰　水煮",102,20.3,2.2000000000000002,0,110,30,6,0,0.09,0,1]
["魚介類",10325,"さくらえび","＜えび・かに類＞　（えび類）　さくらえび　素干し",278,64.900000000000006,4,0,2000,3.2,0,0.17,0.15,0,3]
["魚介類",10328,"えび","＜えび・かに類＞　（えび類）　しばえび　生",78,18.7,0.4,0,56,1,4,0.02,0.06,2,0.6]
["魚介類",10337,"かに(水煮缶詰）","＜えび・かに類＞　（かに類）　ずわいがに　水煮缶詰",69,16.3,0.4,0,68,0.5,0,0,0.03,0,1.7]
["魚介類",10345,"いか","＜いか・たこ類＞　（いか類）　するめいか　生",76,17.899999999999999,0.8,0,11,0.1,13,7.0000000000000007E-2,0.05,1,0.5]
["魚介類",10362,"たこ","＜いか・たこ類＞　（たこ類）　まだこ　ゆで",91,21.7,0.7,0,19,0.2,5,0.03,0.05,0,0.6]
["魚介類",10376,"かに風味かまぼこ","＜水産練り製品＞　かに風味かまぼこ",89,12.1,0.5,0,120,0.2,21,0.01,0.04,1,2.2000000000000002]
["魚介類",10380,"かまぼこ","＜水産練り製品＞　焼き抜きかまぼこ",102,16.2,1,0,25,0.2,0,0.05,0.08,0,2.4]
["魚介類",10381,"ちくわ","＜水産練り製品＞　焼き竹輪",119,12.2,2,0,15,1,0,0.05,0.08,0,2.1]
["魚介類",10384,"なると","＜水産練り製品＞　なると",80,7.6,0.4,0,15,0.5,0,0,0.01,0,2]
["魚介類",10385,"はんぺん","＜水産練り製品＞　はんぺん",93,9.9,1,0,15,0.5,0,0,0.01,0,1.5]
["魚介類",10386,"さつま揚げ","＜水産練り製品＞　さつま揚げ",135,12.5,3.7,0,60,0.8,0,0.05,0.1,0,1.9]
["魚介類",10387,"魚肉ハム","＜水産練り製品＞　魚肉ハム",155,13.4,6.7,0,45,1,0,0.2,0.6,0,2.2999999999999998]
["魚介類",10388,"魚肉ソーセージ","＜水産練り製品＞　魚肉ソーセージ",158,11.5,7.2,0,100,1,0,0.2,0.6,0,2.1]
["肉類",11018,"牛ばら肉（脂身つき）","＜畜肉類＞　うし　［和牛肉］　ばら　脂身つき　生",472,11,50,0,4,1.4,3,0.04,0.11,1,0.1]
["肉類",11019,"牛もも肉（脂身つき）","＜畜肉類＞　うし　［和牛肉］　もも　脂身つき　生",235,19.2,18.7,0,4,2.5,0,0.09,0.2,1,0.1]
["肉類",11021,"牛もも肉（赤肉）","＜畜肉類＞　うし　［和牛肉］　もも　赤肉　生",176,21.3,10.7,0,4,2.8,0,0.1,0.22,1,0.1]
["肉類",11029,"牛ヒレ肉（赤身）","＜畜肉類＞　うし　［和牛肉］　ヒレ　赤肉　生",207,19.100000000000001,15,0,3,2.5,1,0.09,0.24,1,0.1]
["肉類",11036,"牛かたロース（赤肉）","＜畜肉類＞　うし　［乳用肥育牛肉］　かたロース　赤肉　生",196,19.100000000000001,13.9,0,4,2.4,5,7.0000000000000007E-2,0.2,1,0.1]
["肉類",11089,"ひき肉（牛）","＜畜肉類＞　うし　［ひき肉］　生",251,17.100000000000001,21.1,0,6,2.4,13,0.08,0.19,1,0.2]
["肉類",11092,"牛レバー","＜畜肉類＞　うし　［副生物］　肝臓　生",119,19.600000000000001,3.7,0,5,4,1100,0.22,3,30,0.1]
["肉類",11147,"豚かたロース（赤身）","＜畜肉類＞　ぶた　［中型種肉］　かたロース　赤肉　生",140,20.6,6.8,0,4,1.3,3,0.82,0.28999999999999998,2,0.2]
["肉類",11149,"豚ロース肉（脂身つき）","＜畜肉類＞　ぶた　［中型種肉］　ロース　脂身つき　生",275,18.3,22.6,0,3,0.3,6,0.77,0.13,1,0.1]
["肉類",11153,"豚ばら肉（脂身つき）","＜畜肉類＞　ぶた　［中型種肉］　ばら　脂身つき　生",398,13.4,40.1,0,3,0.6,9,0.45,0.11,1,0.1]
["肉類",11154,"豚もも肉（脂身つき）","＜畜肉類＞　ぶた　［中型種肉］　もも　脂身つき　生",211,19.5,15.1,0,4,0.5,5,0.9,0.19,1,0.1]
["肉類",11163,"ひき肉（豚）","＜畜肉類＞　ぶた　［ひき肉］　生",209,17.7,17.2,0,6,1,9,0.69,0.22,1,0.1]
["肉類",11176,"ハム","＜畜肉類＞　ぶた　［ハム類］　ロースハム　ロースハム",211,18.600000000000001,14.5,0,4,0.5,3,0.7,0.12,25,2.2999999999999998]
["肉類",11185,"ベーコン","＜畜肉類＞　ぶた　［ベーコン類］　ショルダーベーコン",178,17.2,11.9,0,12,0.8,4,0.57999999999999996,0.34,39,2.4]
["肉類",11186,"ウインナー","＜畜肉類＞　ぶた　［ソーセージ類］　ウインナーソーセージ　ウインナーソーセージ",319,11.5,30.6,0,6,0.5,2,0.35,0.12,32,1.9]
["肉類",11189,"フランクフルトソーセージ","＜畜肉類＞　ぶた　［ソーセージ類］　フランクフルトソーセージ",295,12.7,24.7,0,12,0.9,5,0.21,0.13,10,1.9]
["肉類",11195,"焼き豚","＜畜肉類＞　ぶた　［その他］　焼き豚",166,19.399999999999999,8.1999999999999993,0,9,0.7,0,0.85,0.2,20,2.4]
["肉類",11198,"ゼラチン","＜畜肉類＞　ぶた　［その他］　ゼラチン",347,87.6,0.3,0,16,0.7,0,0,0,0,0.7]
["肉類",11216,"鶏もも（皮なし）","＜鳥肉類＞　にわとり　［親・主品目］　もも　皮なし　生",128,22,4.8,0,9,2.1,17,0.1,0.31,1,0.1]
["肉類",11219,"鶏むね肉","＜鳥肉類＞　にわとり　［若どり・主品目］　むね　皮つき　生",133,21.3,5.9,0,4,0.3,18,0.09,0.1,3,0.1]
["肉類",11221,"鶏もも肉","＜鳥肉類＞　にわとり　［若どり・主品目］　もも　皮つき　生",190,16.600000000000001,14.2,0,5,0.6,40,0.1,0.15,3,0.2]
["肉類",11227,"ささみ","＜鳥肉類＞　にわとり　［若どり・副品目］　ささみ　生",98,23.9,0.8,0,4,0.3,5,0.09,0.11,3,0.1]
["肉類",11230,"ひき肉（鶏）","＜鳥肉類＞　にわとり　［二次品目］　ひき肉　生",171,17.5,12,0,8,0.8,37,0.09,0.17,1,0.1]
["肉類",11232,"レバー","＜鳥肉類＞　にわとり　［副品目］　肝臓　生",100,18.899999999999999,3.1,0,5,9,14000,0.38,1.8,20,0.2]
["卵類",12002,"うずら卵","うずら卵　全卵　生",157,12.6,13.1,0,60,3.1,350,0.14000000000000001,0.72,0,0.3]
["卵類",12003,"うずら卵(水煮）","うずら卵　水煮缶詰",162,11,14.1,0,47,2.8,480,0.03,0.33,0,0.5]
["卵類",12004,"卵","鶏卵　全卵　生",142,12.2,10.199999999999999,0,46,1.5,210,0.06,0.37,0,0.4]
["卵類",12010,"卵黄","鶏卵　卵黄　生",336,16.5,34.299999999999997,0,140,4.8,690,0.21,0.45,0,0.1]
["乳類",13003,"牛乳","＜牛乳及び乳製品＞　（液状乳類）　普通牛乳",61,3.3,3.8,0,110,0.02,38,0.04,0.15,1,0.1]
["乳類",13010,"スキムミルク","＜牛乳及び乳製品＞　（粉乳類）　脱脂粉乳",354,34,1,0,1100,0.5,6,0.3,1.6,5,1.4]
["乳類",13013,"練乳","＜牛乳及び乳製品＞　（練乳類）　加糖練乳",314,7.7,8.5,0,260,0.1,120,0.08,0.37,2,0.2]
["乳類",13014,"生クリーム（乳脂肪）","＜牛乳及び乳製品＞　（クリーム類）　クリーム　乳脂肪",404,1.9,43,0,49,0.1,160,0.02,0.13,0,0.1]
["乳類",13015,"生クリーム（乳脂肪・植物性脂肪）","＜牛乳及び乳製品＞　（クリーム類）　クリーム　乳脂肪・植物性脂肪",388,4.4000000000000004,42.1,0,47,0.2,200,0.01,7.0000000000000007E-2,0,0.4]
["乳類",13016,"生クリーム","＜牛乳及び乳製品＞　（クリーム類）　クリーム　植物性脂肪",353,1.3,39.5,0,50,0,9,0.01,7.0000000000000007E-2,0,0.1]
["乳類",13025,"ヨーグルト（全脂無糖）","＜牛乳及び乳製品＞　（発酵乳・乳酸菌飲料）　ヨーグルト　全脂無糖",56,3.6,3,0,120,0,33,0.04,0.14000000000000001,1,0.1]
["乳類",13027,"ヨーグルトドリンク（加糖）","＜牛乳及び乳製品＞　（発酵乳・乳酸菌飲料）　ヨーグルト　ドリンクタイプ　加糖",64,2.9,0.5,0,110,0.1,5,0.01,0.12,0,0.1]
["乳類",13028,"乳酸菌飲料（乳製品）","＜牛乳及び乳製品＞　（発酵乳・乳酸菌飲料）　乳酸菌飲料　乳製品",64,1.1000000000000001,0.1,0,43,0,0,0.01,0.05,0,0]
["乳類",13029,"乳酸菌飲料（殺菌乳製品）","＜牛乳及び乳製品＞　（発酵乳・乳酸菌飲料）　乳酸菌飲料　殺菌乳製品",217,1.5,0.1,0,55,0.1,0,0.02,0.08,0,0]
["乳類",13030,"乳酸菌飲料（非乳製品）","＜牛乳及び乳製品＞　（発酵乳・乳酸菌飲料）　乳酸菌飲料　非乳製品",39,0.4,0.1,0.2,16,0,1,0.01,0.01,5,0]
["乳類",13033,"カテージチーズ","＜牛乳及び乳製品＞　（チーズ類）　ナチュラルチーズ　カテージ",99,13.3,4.5,0,55,0.1,37,0.02,0.15,0,1]
["乳類",13035,"クリームチーズ","＜牛乳及び乳製品＞　（チーズ類）　ナチュラルチーズ　クリーム",313,8.1999999999999993,33,0,70,0.1,250,0.03,0.22,0,0.7]
["乳類",13038,"粉チーズ","＜牛乳及び乳製品＞　（チーズ類）　ナチュラルチーズ　パルメザン",445,44,30.8,0,1300,0.4,240,0.05,0.68,0,3.8]
["乳類",13040,"プロセスチーズ","＜牛乳及び乳製品＞　（チーズ類）　プロセスチーズ",313,22.7,26,0,630,0.3,260,0.03,0.38,0,2.8]
["乳類",13053,"ヨーグルト（低脂肪無糖）","＜牛乳及び乳製品＞　（発酵乳・乳酸菌飲料）　ヨーグルト　低脂肪無糖",40,3.7,1,0,130,0,0,0.04,0.19,2,0.1]
["乳類",13054,"ヨーグルト（無脂肪無糖）","＜牛乳及び乳製品＞　（発酵乳・乳酸菌飲料）　ヨーグルト　無脂肪無糖",37,4,0.3,0,140,0,3,0.04,0.17,1,0.1]
["油脂類",14002,"ごま油","（植物油脂類）　ごま油",890,0,100,0,1,0.1,0,0,0,0,0]
["油脂類",14006,"油","（植物油脂類）　調合油",886,0,100,0,0,0,0,0,0,0,0]
["油脂類",14017,"バター（有塩）","（バター類）　無発酵バター　有塩バター",700,0.6,81,0,15,0.1,520,0.01,0.03,0,1.9]
["油脂類",14018,"バター（無塩）","（バター類）　無発酵バター　食塩不使用バター",720,0.5,83,0,14,0.4,800,0,0.03,0,0]
["油脂類",14020,"マーガリン（家庭用）","（マーガリン類）　マーガリン　家庭用　有塩",715,0.4,83.1,0,14,0,25,0.01,0.03,0,1.3]
["油脂類",14029,"マーガリン（業務用）","（マーガリン類）　マーガリン　業務用　有塩",740,0.3,84.3,0,14,0,24,0.01,0.03,0,1.3]
["菓子類",15001,"甘納豆","＜和生菓子・和半生菓子類＞　甘納豆　あずき",284,3.4,0.3,4.8,11,0.7,0,0.06,0.02,0,0.1]
["菓子類",15060,"しょうゆせんべい","＜和干菓子類＞　米菓　しょうゆせんべい",368,7.3,1,0.6,8,1,0,0.1,0.04,0,1.3]
["菓子類",15061,"ボーロ","＜和干菓子類＞　ボーロ　小粒",391,2.5,2.1,0,15,0.6,0,0.01,7.0000000000000007E-2,0,0.1]
["菓子類",15087,"オレンジゼリー","＜デザート菓子類＞　ゼリー　オレンジ",79,2.1,0.1,0.2,9,0.1,4,7.0000000000000007E-2,0.02,40,0]
["菓子類",15092,"ウエハース","＜ビスケット類＞　ウエハース",438,7.6,13.6,1.2,21,0.6,17,0.03,0.08,0,1.2]
["菓子類",15094,"クラッカー","＜ビスケット類＞　クラッカー　ソーダクラッカー",421,10.4,9.8000000000000007,2.1,55,0.7,0,0.05,0.04,0,1.9]
["菓子類",15097,"ビスケット","＜ビスケット類＞　ビスケット　ハードビスケット",422,7.6,10,2.2999999999999998,330,0.9,18,0.13,0.22,0,0.8]
["菓子類",15106,"ラムネ","＜キャンデー類＞　ラムネ",373,0,0.5,0,110,0.1,0,0,0,2,0.2]
["菓子類",15113,"マシュマロ","＜キャンデー類＞　マシュマロ",324,2.1,0,0,1,0.1,0,0,0,0,0]
["し好飲料類",16001,"酒","＜アルコール飲料類＞　（醸造酒類）　清酒　普通酒",107,0.4,0,0,3,0,0,0,0,0,0]
["し好飲料類",16025,"本みりん","＜アルコール飲料類＞　（混成酒類）　みりん　本みりん",241,0.3,0,0,2,0,0,0,0,0,0]
["し好飲料類",16026,"みりん","＜アルコール飲料類＞　（混成酒類）　みりん　本直し",179,0.1,0,0,2,0,0,0,0,0,0]
["し好飲料類",16035,"抹茶","＜茶類＞　（緑茶類）　抹茶　茶",237,29.6,5.3,38.5,420,17,2400,0.6,1.35,60,0]
["し好飲料類",16040,"ほうじ茶","＜茶類＞　（緑茶類）　ほうじ茶　浸出液",0,0,0,0,2,0,0,0,0.02,0,0]
["し好飲料類",16048,"ココア(ピュア）","＜コーヒー・ココア類＞　ココア　ピュアココア",386,18.5,21.6,23.9,140,14,3,0.16,0.22,0,0]
["し好飲料類",16049,"ココア（ミルク）","＜コーヒー・ココア類＞　ココア　ミルクココア",400,7.4,6.8,5.5,180,2.9,8,7.0000000000000007E-2,0.42,0,0.7]
["調味料及び香辛料類",17001,"ウスターソース","＜調味料類＞　（ウスターソース類）　ウスターソース",122,1,0.1,0.5,59,1.6,4,0.01,0.02,0,8.5]
["調味料及び香辛料類",17002,"中濃ソース","＜調味料類＞　（ウスターソース類）　中濃ソース",132,0.8,0.1,1,61,1.7,7,0.02,0.04,0,5.8]
["調味料及び香辛料類",17007,"しょうゆ（濃口）","＜調味料類＞　（しょうゆ類）　こいくちしょうゆ",77,7.7,0,0,29,1.7,0,0.05,0.17,0,14.5]
["調味料及び香辛料類",17008,"しょうゆ（薄口）","＜調味料類＞　（しょうゆ類）　うすくちしょうゆ",60,5.7,0,0,24,1.1000000000000001,0,0.05,0.11,0,16]
["調味料及び香辛料類",17012,"食塩","＜調味料類＞　（食塩類）　食塩",0,0,0,0,22,0,0,0,0,0,99.1]
["調味料及び香辛料類",17015,"穀物酢","＜調味料類＞　（食酢類）　穀物酢",37,0.1,0,0,2,0,0,0.01,0.01,0,0]
["調味料及び香辛料類",17016,"米酢","＜調味料類＞　（食酢類）　米酢",59,0.2,0,0,2,0.1,0,0.01,0.01,0,0]
["調味料及び香辛料類",17019,"だし汁（かつお）","＜調味料類＞　（だし類）　かつおだし　荒節",2,0.4,0,0,2,0,0,0,0.01,0,0.1]
["調味料及び香辛料類",17020,"だし汁（昆布）","＜調味料類＞　（だし類）　昆布だし　水出し",4,0.1,0,0,3,0,0,0,0,0,0.2]
["調味料及び香辛料類",17021,"だし汁（かつお・昆布）","＜調味料類＞　（だし類）　かつお・昆布だし　荒節・昆布だし",2,0.3,0,0,3,0,0,0.01,0.01,0,0.1]
["調味料及び香辛料類",17022,"だし汁（しいたけ）","＜調味料類＞　（だし類）　しいたけだし",4,0.1,0,0,1,0.1,0,0,0.02,0,0]
["調味料及び香辛料類",17023,"だし汁(煮干し）","＜調味料類＞　（だし類）　煮干しだし",1,0.1,0.1,0,3,0,0,0.01,0,0,0.1]
["調味料及び香辛料類",17024,"鳥がらスープ","＜調味料類＞　（だし類）　鶏がらだし",7,0.9,0.4,0,1,0.1,1,0.01,0.04,0,0.1]
["調味料及び香辛料類",17025,"中華スープ","＜調味料類＞　（だし類）　中華だし",3,0.8,0,0,3,0,0,0.15,0.03,0,0.1]
["調味料及び香辛料類",17026,"洋風スープ","＜調味料類＞　（だし類）　洋風だし",6,1.3,0,0,5,0.1,0,0.02,0.05,0,0.5]
["調味料及び香辛料類",17027,"固形ブイヨン","＜調味料類＞　（だし類）　固形ブイヨン",233,7,4.3,0.3,26,0.4,0,0.03,0.08,0,43.2]
["調味料及び香辛料類",17028,"顆粒和風だし","＜調味料類＞　（だし類）　顆粒和風だし",223,24.2,0.3,0,42,1,0,0.03,0.2,0,40.6]
["調味料及び香辛料類",17029,"めんつゆ(ストレート）","＜調味料類＞　（だし類）　めんつゆ　ストレート",44,2.2000000000000002,0,0,8,0.4,0,0.01,0.04,0,3.3]
["調味料及び香辛料類",17031,"オイスターソース","＜調味料類＞　（調味ソース類）　オイスターソース",105,7.7,0.3,0.2,25,1.2,0,0.01,7.0000000000000007E-2,0,11.4]
["調味料及び香辛料類",17034,"トマトピューレ","＜調味料類＞　（トマト加工品類）　トマトピューレー",44,1.9,0.1,1.8,19,0.8,52,0.09,7.0000000000000007E-2,10,0]
["調味料及び香辛料類",17035,"トマトペースト","＜調味料類＞　（トマト加工品類）　トマトペースト",94,3.8,0.1,4.7,46,1.6,85,0.21,0.14000000000000001,15,0.1]
["調味料及び香辛料類",17036,"ケチャップ","＜調味料類＞　（トマト加工品類）　トマトケチャップ",106,1.6,0.2,1.7,16,0.5,43,0.06,0.04,8,3.1]
["調味料及び香辛料類",17040,"フレンチドレッシング","＜調味料類＞　（ドレッシング類）　分離液状ドレッシング　フレンチドレッシング　分離液状",331,0,31.5,0,1,0,0,0,0,0,6.3]
["調味料及び香辛料類",17042,"マヨネーズ（全卵）","＜調味料類＞　（ドレッシング類）　半固形状ドレッシング　マヨネーズ　全卵型",669,1.4,76,0,8,0.3,24,0.01,0.03,0,1.9]
["調味料及び香辛料類",17043,"マヨネーズ（卵黄）","＜調味料類＞　（ドレッシング類）　半固形状ドレッシング　マヨネーズ　卵黄型",669,2.5,74.7,0,20,0.6,54,0.03,7.0000000000000007E-2,0,2]
["調味料及び香辛料類",17044,"甘みそ","＜調味料類＞　（みそ類）　米みそ　甘みそ",206,9.6999999999999993,3,5.6,80,3.4,0,0.05,0.1,0,6.1]
["調味料及び香辛料類",17045,"みそ","＜調味料類＞　（みそ類）　米みそ　淡色辛みそ",182,12.5,6,4.9000000000000004,100,4,0,0.03,0.1,0,12.4]
["調味料及び香辛料類",17046,"赤だし味噌","＜調味料類＞　（みそ類）　米みそ　赤色辛みそ",178,13.1,5.5,4.0999999999999996,130,4.3,0,0.03,0.1,0,13]
["調味料及び香辛料類",17047,"麦みそ","＜調味料類＞　（みそ類）　麦みそ",184,9.6999999999999993,4.3,6.3,80,3,0,0.04,0.1,0,10.7]
["調味料及び香辛料類",17051,"カレールウ","＜調味料類＞　（ルウ類）　カレールウ",474,6.5,34.1,6.4,90,3.5,6,0.09,0.06,0,10.6]
["調味料及び香辛料類",17052,"ハヤシルウ","＜調味料類＞　（ルウ類）　ハヤシルウ",501,5.8,33.200000000000003,2.5,30,1,95,0.14000000000000001,0.06,0,10.7]
["調味料及び香辛料類",17061,"カレー粉","＜香辛料類＞　カレー粉",338,13,12.2,36.9,540,29,32,0.41,0.25,2,0.1]
["調味料及び香辛料類",17065,"こしょう","＜香辛料類＞　こしょう　混合　粉",369.03039463532571,10.6,6.2,0,330,14,7,0.06,0.18,1,0.1]
["調味料及び香辛料類",17067,"シナモン","＜香辛料類＞　シナモン　粉",356.28195141826205,3.6,3.5,0,1200,7.1,1,0.08,0.14000000000000001,0,0.1]
["調味料及び香辛料類",17069,"おろししょうが","＜香辛料類＞　しょうが　おろし",41.466785839333234,0.7,0.6,0,16,0.3,1,0.02,0.03,120,1.5]
["調味料及び香辛料類",17077,"バジル","＜香辛料類＞　バジル　粉",308,21.1,2.2000000000000002,0,2800,120,210,0.26,1.0900000000000001,1,0.1]
["調味料及び香辛料類",17078,"パセリ（乾）","＜香辛料類＞　パセリ　乾",306.61302301565661,28.7,2.2000000000000002,0,1300,18,2300,0.89,2.02,820,2.2000000000000002]
["調味料及び香辛料類",17084,"ベーキングパウダー","＜その他＞　ベーキングパウダー",149.9035597838548,0,1.2,0,2400,0.1,0,0,0,0,17.3]
["調味料及び香辛料類",17085,"お好み焼きソース","＜調味料類＞　（ウスターソース類）　お好み焼きソース",146,1.6,0.1,0.9,31,0.9,17,0.03,0.03,3,4.9000000000000004]
["調味料及び香辛料類",17093,"顆粒中華だし","＜調味料類＞　（だし類）　顆粒中華だし",210,12.6,1.6,0,84,0.6,3,0.06,0.56000000000000005,0,47.5]
["調味料及び香辛料類",17110,"ぽん酢しょうゆ","＜調味料類＞　（調味ソース類）　ぽん酢しょうゆ",49,3.4,0.1,0.2,24,0.7,1,0.05,0.08,24,5.8]
["調味料及び香辛料類",17116,"和風ドレッシング","＜調味料類＞　（ドレッシング類）　分離液状ドレッシング　和風ドレッシング　分離液状",181,1.9,14.5,0.2,7,0.4,0,0.03,0.03,0,3.5]
["肉類",20000,"合ミンチ","牛ひき肉50g＋豚ひき肉50g",230,17.399999999999999,19.149999999999999,0,6,1.7,11,0.38499999999999995,0.20500000000000002,1,0.15000000000000002]

{"sheet":"入力シート ","index":2,"n_rows":102,"n_cols":32,"rows_kept":102,"cut":false,"hidden":false,"merged":[[26,19,26,20],[27,19,27,20],[5,19,5,20],[7,19,7,21],[19,19,19,20],[20,19,20,20],[21,19,21,20],[22,19,22,20],[23,19,23,20],[14,19,14,20],[15,19,15,20],[16,19,16,20],[17,19,17,20],[18,19,18,20],[3,19,3,20],[29,4,29,5],[30,4,30,5],[31,4,31,5],[1,0,1,1],[3,0,3,1],[30,2,30,3],[5,4,5,10],[8,19,8,20],[9,19,9,20],[10,19,10,20],[11,19,11,20],[12,19,12,20],[13,19,13,20],[24,19,24,20],[25,19,25,20],[36,0,36,1],[37,0,37,1],[3,7,3,9],[5,2,5,3],[7,0,7,1],[7,4,7,5],[32,3,32,6]]}
[null,null,null,null,null,null,null,null,null,null,null,null,null,null,null,null,null,null,null,null,null,null,null,null,null,null,null,null,null,null,null,"ON"]
["No.",null,null,null,null,null,null,null,null,null,null,2,1,null,null,null,null,null,null,"★修正ボタンを押した際に、貼り付けられる数式のデータ"]
[]
["料理区分",null,null,null,null,null,null,null,null,null,null,null,null,null,null,null,null,null,null,"料理区分",null,{"$f":"IFERROR(VLOOKUP($C$2,料理データ!$A$2:$BK$19990,2,FALSE),\"\")","v":""}]
[]
[null,null,"料理名",null,null,null,null,null,null,null,null,null,null,null,null,null,null,null,null,"料理名",null,{"$f":"IFERROR(VLOOKUP($C$2,料理データ!$A$2:$BK$19990,3,FALSE),\"\")","v":""},null,null,null,"★料理区分のリスト"]
[]
[null,null,"食品番号","食品名","重量",null,"エネルギー","たんぱく質","脂質","食物繊維総量","カルシウム","鉄","ビタミンA（レチノール活性当量）","ビタミンＢ１","ビタミンB２","ビタミンC","食塩相当量",null,null,"食品番号",null,null,"重量",null,null,"料理区分"]
[null,1,null,{"$f":"IFERROR(VLOOKUP($C9,'食品成分表（抜粋）'!$B$4:$C$19995,2,FALSE),\"\")","v":"-"},null,"g",{"$f":"VLOOKUP($C9,'食品成分表（抜粋）'!$B$4:$O$19995,4,FALSE)*$E9*0.01","v":0},{"$f":"VLOOKUP($C9,'食品成分表（抜粋）'!$B$4:$O$19995,5,FALSE)*$E9*0.01","v":0},{"$f":"VLOOKUP($C9,'食品成分表（抜粋）'!$B$4:$O$19995,6,FALSE)*$E9*0.01","v":0},{"$f":"VLOOKUP($C9,'食品成分表（抜粋）'!$B$4:$O$19995,7,FALSE)*$E9*0.01","v":0},{"$f":"VLOOKUP($C9,'食品成分表（抜粋）'!$B$4:$O$19995,8,FALSE)*$E9*0.01","v":0},{"$f":"VLOOKUP($C9,'食品成分表（抜粋）'!$B$4:$O$19995,9,FALSE)*$E9*0.01","v":0},{"$f":"VLOOKUP($C9,'食品成分表（抜粋）'!$B$4:$O$19995,10,FALSE)*$E9*0.01","v":0},{"$f":"VLOOKUP($C9,'食品成分表（抜粋）'!$B$4:$O$19995,11,FALSE)*$E9*0.01","v":0},{"$f":"VLOOKUP($C9,'食品成分表（抜粋）'!$B$4:$O$19995,12,FALSE)*$E9*0.01","v":0},{"$f":"VLOOKUP($C9,'食品成分表（抜粋）'!$B$4:$O$19995,13,FALSE)*$E9*0.01","v":0},{"$f":"VLOOKUP($C9,'食品成分表（抜粋）'!$B$4:$O$19995,14,FALSE)*$E9*0.01","v":0},null,null,1,null,{"$f":"IFERROR(VLOOKUP($C$2,料理データ!$A$2:$BK$19990,4,FALSE),\"-\")","v":"-"},{"$f":"IFERROR(VLOOKUP($C$2,料理データ!$A$2:$BK$19990,6,FALSE),\"0\")","v":"0"},null,null,"主食"]
[null,2,null,{"$f":"IFERROR(VLOOKUP($C10,'食品成分表（抜粋）'!$B$4:$C$19995,2,FALSE),\"\")","v":"-"},null,"g",{"$f":"VLOOKUP($C10,'食品成分表（抜粋）'!$B$4:$O$19995,4,FALSE)*$E10*0.01","v":0},{"$f":"VLOOKUP($C10,'食品成分表（抜粋）'!$B$4:$O$19995,5,FALSE)*$E10*0.01","v":0},{"$f":"VLOOKUP($C10,'食品成分表（抜粋）'!$B$4:$O$19995,6,FALSE)*$E10*0.01","v":0},{"$f":"VLOOKUP($C10,'食品成分表（抜粋）'!$B$4:$O$19995,7,FALSE)*$E10*0.01","v":0},{"$f":"VLOOKUP($C10,'食品成分表（抜粋）'!$B$4:$O$19995,8,FALSE)*$E10*0.01","v":0},{"$f":"VLOOKUP($C10,'食品成分表（抜粋）'!$B$4:$O$19995,9,FALSE)*$E10*0.01","v":0},{"$f":"VLOOKUP($C10,'食品成分表（抜粋）'!$B$4:$O$19995,10,FALSE)*$E10*0.01","v":0},{"$f":"VLOOKUP($C10,'食品成分表（抜粋）'!$B$4:$O$19995,11,FALSE)*$E10*0.01","v":0},{"$f":"VLOOKUP($C10,'食品成分表（抜粋）'!$B$4:$O$19995,12,FALSE)*$E10*0.01","v":0},{"$f":"VLOOKUP($C10,'食品成分表（抜粋）'!$B$4:$O$19995,13,FALSE)*$E10*0.01","v":0},{"$f":"VLOOKUP($C10,'食品成分表（抜粋）'!$B$4:$O$19995,14,FALSE)*$E10*0.01","v":0},null,null,2,null,{"$f":"IFERROR(VLOOKUP($C$2,料理データ!$A$2:$BK$19990,7,FALSE),\"-\")","v":"-"},{"$f":"IFERROR(VLOOKUP($C$2,料理データ!$A$2:$BK$19990,9,FALSE),\"0\")","v":"0"},null,null,"主菜"]
[null,3,null,{"$f":"IFERROR(VLOOKUP($C11,'食品成分表（抜粋）'!$B$4:$C$19995,2,FALSE),\"\")","v":"-"},null,"g",{"$f":"VLOOKUP($C11,'食品成分表（抜粋）'!$B$4:$O$19995,4,FALSE)*$E11*0.01","v":0},{"$f":"VLOOKUP($C11,'食品成分表（抜粋）'!$B$4:$O$19995,5,FALSE)*$E11*0.01","v":0},{"$f":"VLOOKUP($C11,'食品成分表（抜粋）'!$B$4:$O$19995,6,FALSE)*$E11*0.01","v":0},{"$f":"VLOOKUP($C11,'食品成分表（抜粋）'!$B$4:$O$19995,7,FALSE)*$E11*0.01","v":0},{"$f":"VLOOKUP($C11,'食品成分表（抜粋）'!$B$4:$O$19995,8,FALSE)*$E11*0.01","v":0},{"$f":"VLOOKUP($C11,'食品成分表（抜粋）'!$B$4:$O$19995,9,FALSE)*$E11*0.01","v":0},{"$f":"VLOOKUP($C11,'食品成分表（抜粋）'!$B$4:$O$19995,10,FALSE)*$E11*0.01","v":0},{"$f":"VLOOKUP($C11,'食品成分表（抜粋）'!$B$4:$O$19995,11,FALSE)*$E11*0.01","v":0},{"$f":"VLOOKUP($C11,'食品成分表（抜粋）'!$B$4:$O$19995,12,FALSE)*$E11*0.01","v":0},{"$f":"VLOOKUP($C11,'食品成分表（抜粋）'!$B$4:$O$19995,13,FALSE)*$E11*0.01","v":0},{"$f":"VLOOKUP($C11,'食品成分表（抜粋）'!$B$4:$O$19995,14,FALSE)*$E11*0.01","v":0},null,null,3,null,{"$f":"IFERROR(VLOOKUP($C$2,料理データ!$A$2:$BK$19990,10,FALSE),\"-\")","v":"-"},{"$f":"IFERROR(VLOOKUP($C$2,料理データ!$A$2:$BK$19990,12,FALSE),\"0\")","v":"0"},null,null,"副菜"]
[null,4,null,{"$f":"IFERROR(VLOOKUP($C12,'食品成分表（抜粋）'!$B$4:$C$19995,2,FALSE),\"\")","v":"-"},null,"g",{"$f":"VLOOKUP($C12,'食品成分表（抜粋）'!$B$4:$O$19995,4,FALSE)*$E12*0.01","v":0},{"$f":"VLOOKUP($C12,'食品成分表（抜粋）'!$B$4:$O$19995,5,FALSE)*$E12*0.01","v":0},{"$f":"VLOOKUP($C12,'食品成分表（抜粋）'!$B$4:$O$19995,6,FALSE)*$E12*0.01","v":0},{"$f":"VLOOKUP($C12,'食品成分表（抜粋）'!$B$4:$O$19995,7,FALSE)*$E12*0.01","v":0},{"$f":"VLOOKUP($C12,'食品成分表（抜粋）'!$B$4:$O$19995,8,FALSE)*$E12*0.01","v":0},{"$f":"VLOOKUP($C12,'食品成分表（抜粋）'!$B$4:$O$19995,9,FALSE)*$E12*0.01","v":0},{"$f":"VLOOKUP($C12,'食品成分表（抜粋）'!$B$4:$O$19995,10,FALSE)*$E12*0.01","v":0},{"$f":"VLOOKUP($C12,'食品成分表（抜粋）'!$B$4:$O$19995,11,FALSE)*$E12*0.01","v":0},{"$f":"VLOOKUP($C12,'食品成分表（抜粋）'!$B$4:$O$19995,12,FALSE)*$E12*0.01","v":0},{"$f":"VLOOKUP($C12,'食品成分表（抜粋）'!$B$4:$O$19995,13,FALSE)*$E12*0.01","v":0},{"$f":"VLOOKUP($C12,'食品成分表（抜粋）'!$B$4:$O$19995,14,FALSE)*$E12*0.01","v":0},null,null,4,null,{"$f":"IFERROR(VLOOKUP($C$2,料理データ!$A$2:$BK$19990,13,FALSE),\"-\")","v":"-"},{"$f":"IFERROR(VLOOKUP($C$2,料理データ!$A$2:$BK$19990,15,FALSE),\"0\")","v":"0"},null,null,"汁物"]
[null,5,null,{"$f":"IFERROR(VLOOKUP($C13,'食品成分表（抜粋）'!$B$4:$C$19995,2,FALSE),\"\")","v":"-"},null,"g",{"$f":"VLOOKUP($C13,'食品成分表（抜粋）'!$B$4:$O$19995,4,FALSE)*$E13*0.01","v":0},{"$f":"VLOOKUP($C13,'食品成分表（抜粋）'!$B$4:$O$19995,5,FALSE)*$E13*0.01","v":0},{"$f":"VLOOKUP($C13,'食品成分表（抜粋）'!$B$4:$O$19995,6,FALSE)*$E13*0.01","v":0},{"$f":"VLOOKUP($C13,'食品成分表（抜粋）'!$B$4:$O$19995,7,FALSE)*$E13*0.01","v":0},{"$f":"VLOOKUP($C13,'食品成分表（抜粋）'!$B$4:$O$19995,8,FALSE)*$E13*0.01","v":0},{"$f":"VLOOKUP($C13,'食品成分表（抜粋）'!$B$4:$O$19995,9,FALSE)*$E13*0.01","v":0},{"$f":"VLOOKUP($C13,'食品成分表（抜粋）'!$B$4:$O$19995,10,FALSE)*$E13*0.01","v":0},{"$f":"VLOOKUP($C13,'食品成分表（抜粋）'!$B$4:$O$19995,11,FALSE)*$E13*0.01","v":0},{"$f":"VLOOKUP($C13,'食品成分表（抜粋）'!$B$4:$O$19995,12,FALSE)*$E13*0.01","v":0},{"$f":"VLOOKUP($C13,'食品成分表（抜粋）'!$B$4:$O$19995,13,FALSE)*$E13*0.01","v":0},{"$f":"VLOOKUP($C13,'食品成分表（抜粋）'!$B$4:$O$19995,14,FALSE)*$E13*0.01","v":0},null,null,5,null,{"$f":"IFERROR(VLOOKUP($C$2,料理データ!$A$2:$BK$19990,16,FALSE),\"-\")","v":"-"},{"$f":"IFERROR(VLOOKUP($C$2,料理データ!$A$2:$BK$19990,18,FALSE),\"0\")","v":"0"},null,null,"麺類"]
[null,6,null,{"$f":"IFERROR(VLOOKUP($C14,'食品成分表（抜粋）'!$B$4:$C$19995,2,FALSE),\"\")","v":"-"},null,"g",{"$f":"VLOOKUP($C14,'食品成分表（抜粋）'!$B$4:$O$19995,4,FALSE)*$E14*0.01","v":0},{"$f":"VLOOKUP($C14,'食品成分表（抜粋）'!$B$4:$O$19995,5,FALSE)*$E14*0.01","v":0},{"$f":"VLOOKUP($C14,'食品成分表（抜粋）'!$B$4:$O$19995,6,FALSE)*$E14*0.01","v":0},{"$f":"VLOOKUP($C14,'食品成分表（抜粋）'!$B$4:$O$19995,7,FALSE)*$E14*0.01","v":0},{"$f":"VLOOKUP($C14,'食品成分表（抜粋）'!$B$4:$O$19995,8,FALSE)*$E14*0.01","v":0},{"$f":"VLOOKUP($C14,'食品成分表（抜粋）'!$B$4:$O$19995,9,FALSE)*$E14*0.01","v":0},{"$f":"VLOOKUP($C14,'食品成分表（抜粋）'!$B$4:$O$19995,10,FALSE)*$E14*0.01","v":0},{"$f":"VLOOKUP($C14,'食品成分表（抜粋）'!$B$4:$O$19995,11,FALSE)*$E14*0.01","v":0},{"$f":"VLOOKUP($C14,'食品成分表（抜粋）'!$B$4:$O$19995,12,FALSE)*$E14*0.01","v":0},{"$f":"VLOOKUP($C14,'食品成分表（抜粋）'!$B$4:$O$19995,13,FALSE)*$E14*0.01","v":0},{"$f":"VLOOKUP($C14,'食品成分表（抜粋）'!$B$4:$O$19995,14,FALSE)*$E14*0.01","v":0},null,null,6,null,{"$f":"IFERROR(VLOOKUP($C$2,料理データ!$A$2:$BK$19990,19,FALSE),\"-\")","v":"-"},{"$f":"IFERROR(VLOOKUP($C$2,料理データ!$A$2:$BK$19990,21,FALSE),\"0\")","v":"0"},null,null,"丼もの"]
[null,7,null,{"$f":"IFERROR(VLOOKUP($C15,'食品成分表（抜粋）'!$B$4:$C$19995,2,FALSE),\"\")","v":"-"},null,"g",{"$f":"VLOOKUP($C15,'食品成分表（抜粋）'!$B$4:$O$19995,4,FALSE)*$E15*0.01","v":0},{"$f":"VLOOKUP($C15,'食品成分表（抜粋）'!$B$4:$O$19995,5,FALSE)*$E15*0.01","v":0},{"$f":"VLOOKUP($C15,'食品成分表（抜粋）'!$B$4:$O$19995,6,FALSE)*$E15*0.01","v":0},{"$f":"VLOOKUP($C15,'食品成分表（抜粋）'!$B$4:$O$19995,7,FALSE)*$E15*0.01","v":0},{"$f":"VLOOKUP($C15,'食品成分表（抜粋）'!$B$4:$O$19995,8,FALSE)*$E15*0.01","v":0},{"$f":"VLOOKUP($C15,'食品成分表（抜粋）'!$B$4:$O$19995,9,FALSE)*$E15*0.01","v":0},{"$f":"VLOOKUP($C15,'食品成分表（抜粋）'!$B$4:$O$19995,10,FALSE)*$E15*0.01","v":0},{"$f":"VLOOKUP($C15,'食品成分表（抜粋）'!$B$4:$O$19995,11,FALSE)*$E15*0.01","v":0},{"$f":"VLOOKUP($C15,'食品成分表（抜粋）'!$B$4:$O$19995,12,FALSE)*$E15*0.01","v":0},{"$f":"VLOOKUP($C15,'食品成分表（抜粋）'!$B$4:$O$19995,13,FALSE)*$E15*0.01","v":0},{"$f":"VLOOKUP($C15,'食品成分表（抜粋）'!$B$4:$O$19995,14,FALSE)*$E15*0.01","v":0},null,null,7,null,{"$f":"IFERROR(VLOOKUP($C$2,料理データ!$A$2:$BK$19990,22,FALSE),\"-\")","v":"-"},{"$f":"IFERROR(VLOOKUP($C$2,料理データ!$A$2:$BK$19990,24,FALSE),\"0\")","v":"0"},null,null,"おやつ"]
[null,8,null,{"$f":"IFERROR(VLOOKUP($C16,'食品成分表（抜粋）'!$B$4:$C$19995,2,FALSE),\"\")","v":"-"},null,"g",{"$f":"VLOOKUP($C16,'食品成分表（抜粋）'!$B$4:$O$19995,4,FALSE)*$E16*0.01","v":0},{"$f":"VLOOKUP($C16,'食品成分表（抜粋）'!$B$4:$O$19995,5,FALSE)*$E16*0.01","v":0},{"$f":"VLOOKUP($C16,'食品成分表（抜粋）'!$B$4:$O$19995,6,FALSE)*$E16*0.01","v":0},{"$f":"VLOOKUP($C16,'食品成分表（抜粋）'!$B$4:$O$19995,7,FALSE)*$E16*0.01","v":0},{"$f":"VLOOKUP($C16,'食品成分表（抜粋）'!$B$4:$O$19995,8,FALSE)*$E16*0.01","v":0},{"$f":"VLOOKUP($C16,'食品成分表（抜粋）'!$B$4:$O$19995,9,FALSE)*$E16*0.01","v":0},{"$f":"VLOOKUP($C16,'食品成分表（抜粋）'!$B$4:$O$19995,10,FALSE)*$E16*0.01","v":0},{"$f":"VLOOKUP($C16,'食品成分表（抜粋）'!$B$4:$O$19995,11,FALSE)*$E16*0.01","v":0},{"$f":"VLOOKUP($C16,'食品成分表（抜粋）'!$B$4:$O$19995,12,FALSE)*$E16*0.01","v":0},{"$f":"VLOOKUP($C16,'食品成分表（抜粋）'!$B$4:$O$19995,13,FALSE)*$E16*0.01","v":0},{"$f":"VLOOKUP($C16,'食品成分表（抜粋）'!$B$4:$O$19995,14,FALSE)*$E16*0.01","v":0},null,null,8,null,{"$f":"IFERROR(VLOOKUP($C$2,料理データ!$A$2:$BK$19990,25,FALSE),\"-\")","v":"-"},{"$f":"IFERROR(VLOOKUP($C$2,料理データ!$A$2:$BK$19990,27,FALSE),\"0\")","v":"0"},null,null,"飲み物"]
[null,9,null,{"$f":"IFERROR(VLOOKUP($C17,'食品成分表（抜粋）'!$B$4:$C$19995,2,FALSE),\"\")","v":"-"},null,"g",{"$f":"VLOOKUP($C17,'食品成分表（抜粋）'!$B$4:$O$19995,4,FALSE)*$E17*0.01","v":0},{"$f":"VLOOKUP($C17,'食品成分表（抜粋）'!$B$4:$O$19995,5,FALSE)*$E17*0.01","v":0},{"$f":"VLOOKUP($C17,'食品成分表（抜粋）'!$B$4:$O$19995,6,FALSE)*$E17*0.01","v":0},{"$f":"VLOOKUP($C17,'食品成分表（抜粋）'!$B$4:$O$19995,7,FALSE)*$E17*0.01","v":0},{"$f":"VLOOKUP($C17,'食品成分表（抜粋）'!$B$4:$O$19995,8,FALSE)*$E17*0.01","v":0},{"$f":"VLOOKUP($C17,'食品成分表（抜粋）'!$B$4:$O$19995,9,FALSE)*$E17*0.01","v":0},{"$f":"VLOOKUP($C17,'食品成分表（抜粋）'!$B$4:$O$19995,10,FALSE)*$E17*0.01","v":0},{"$f":"VLOOKUP($C17,'食品成分表（抜粋）'!$B$4:$O$19995,11,FALSE)*$E17*0.01","v":0},{"$f":"VLOOKUP($C17,'食品成分表（抜粋）'!$B$4:$O$19995,12,FALSE)*$E17*0.01","v":0},{"$f":"VLOOKUP($C17,'食品成分表（抜粋）'!$B$4:$O$19995,13,FALSE)*$E17*0.01","v":0},{"$f":"VLOOKUP($C17,'食品成分表（抜粋）'!$B$4:$O$19995,14,FALSE)*$E17*0.01","v":0},null,null,9,null,{"$f":"IFERROR(VLOOKUP($C$2,料理データ!$A$2:$BK$19990,28,FALSE),\"-\")","v":"-"},{"$f":"IFERROR(VLOOKUP($C$2,料理データ!$A$2:$BK$19990,30,FALSE),\"0\")","v":"0"},null,null,"その他"]
[null,10,null,{"$f":"IFERROR(VLOOKUP($C18,'食品成分表（抜粋）'!$B$4:$C$19995,2,FALSE),\"\")","v":"-"},null,"g",{"$f":"VLOOKUP($C18,'食品成分表（抜粋）'!$B$4:$O$19995,4,FALSE)*$E18*0.01","v":0},{"$f":"VLOOKUP($C18,'食品成分表（抜粋）'!$B$4:$O$19995,5,FALSE)*$E18*0.01","v":0},{"$f":"VLOOKUP($C18,'食品成分表（抜粋）'!$B$4:$O$19995,6,FALSE)*$E18*0.01","v":0},{"$f":"VLOOKUP($C18,'食品成分表（抜粋）'!$B$4:$O$19995,7,FALSE)*$E18*0.01","v":0},{"$f":"VLOOKUP($C18,'食品成分表（抜粋）'!$B$4:$O$19995,8,FALSE)*$E18*0.01","v":0},{"$f":"VLOOKUP($C18,'食品成分表（抜粋）'!$B$4:$O$19995,9,FALSE)*$E18*0.01","v":0},{"$f":"VLOOKUP($C18,'食品成分表（抜粋）'!$B$4:$O$19995,10,FALSE)*$E18*0.01","v":0},{"$f":"VLOOKUP($C18,'食品成分表（抜粋）'!$B$4:$O$19995,11,FALSE)*$E18*0.01","v":0},{"$f":"VLOOKUP($C18,'食品成分表（抜粋）'!$B$4:$O$19995,12,FALSE)*$E18*0.01","v":0},{"$f":"VLOOKUP($C18,'食品成分表（抜粋）'!$B$4:$O$19995,13,FALSE)*$E18*0.01","v":0},{"$f":"VLOOKUP($C18,'食品成分表（抜粋）'!$B$4:$O$19995,14,FALSE)*$E18*0.01","v":0},null,null,10,null,{"$f":"IFERROR(VLOOKUP($C$2,料理データ!$A$2:$BK$19990,31,FALSE),\"-\")","v":"-"},{"$f":"IFERROR(VLOOKUP($C$2,料理データ!$A$2:$BK$19990,33,FALSE),\"0\")","v":"0"}]
[null,11,null,{"$f":"IFERROR(VLOOKUP($C19,'食品成分表（抜粋）'!$B$4:$C$19995,2,FALSE),\"\")","v":"-"},null,"g",{"$f":"VLOOKUP($C19,'食品成分表（抜粋）'!$B$4:$O$19995,4,FALSE)*$E19*0.01","v":0},{"$f":"VLOOKUP($C19,'食品成分表（抜粋）'!$B$4:$O$19995,5,FALSE)*$E19*0.01","v":0},{"$f":"VLOOKUP($C19,'食品成分表（抜粋）'!$B$4:$O$19995,6,FALSE)*$E19*0.01","v":0},{"$f":"VLOOKUP($C19,'食品成分表（抜粋）'!$B$4:$O$19995,7,FALSE)*$E19*0.01","v":0},{"$f":"VLOOKUP($C19,'食品成分表（抜粋）'!$B$4:$O$19995,8,FALSE)*$E19*0.01","v":0},{"$f":"VLOOKUP($C19,'食品成分表（抜粋）'!$B$4:$O$19995,9,FALSE)*$E19*0.01","v":0},{"$f":"VLOOKUP($C19,'食品成分表（抜粋）'!$B$4:$O$19995,10,FALSE)*$E19*0.01","v":0},{"$f":"VLOOKUP($C19,'食品成分表（抜粋）'!$B$4:$O$19995,11,FALSE)*$E19*0.01","v":0},{"$f":"VLOOKUP($C19,'食品成分表（抜粋）'!$B$4:$O$19995,12,FALSE)*$E19*0.01","v":0},{"$f":"VLOOKUP($C19,'食品成分表（抜粋）'!$B$4:$O$19995,13,FALSE)*$E19*0.01","v":0},{"$f":"VLOOKUP($C19,'食品成分表（抜粋）'!$B$4:$O$19995,14,FALSE)*$E19*0.01","v":0},null,null,11,null,{"$f":"IFERROR(VLOOKUP($C$2,料理データ!$A$2:$BK$19990,34,FALSE),\"-\")","v":"-"},{"$f":"IFERROR(VLOOKUP($C$2,料理データ!$A$2:$BK$19990,36,FALSE),\"0\")","v":"0"}]
[null,12,null,{"$f":"IFERROR(VLOOKUP($C20,'食品成分表（抜粋）'!$B$4:$C$19995,2,FALSE),\"\")","v":"-"},null,"g",{"$f":"VLOOKUP($C20,'食品成分表（抜粋）'!$B$4:$O$19995,4,FALSE)*$E20*0.01","v":0},{"$f":"VLOOKUP($C20,'食品成分表（抜粋）'!$B$4:$O$19995,5,FALSE)*$E20*0.01","v":0},{"$f":"VLOOKUP($C20,'食品成分表（抜粋）'!$B$4:$O$19995,6,FALSE)*$E20*0.01","v":0},{"$f":"VLOOKUP($C20,'食品成分表（抜粋）'!$B$4:$O$19995,7,FALSE)*$E20*0.01","v":0},{"$f":"VLOOKUP($C20,'食品成分表（抜粋）'!$B$4:$O$19995,8,FALSE)*$E20*0.01","v":0},{"$f":"VLOOKUP($C20,'食品成分表（抜粋）'!$B$4:$O$19995,9,FALSE)*$E20*0.01","v":0},{"$f":"VLOOKUP($C20,'食品成分表（抜粋）'!$B$4:$O$19995,10,FALSE)*$E20*0.01","v":0},{"$f":"VLOOKUP($C20,'食品成分表（抜粋）'!$B$4:$O$19995,11,FALSE)*$E20*0.01","v":0},{"$f":"VLOOKUP($C20,'食品成分表（抜粋）'!$B$4:$O$19995,12,FALSE)*$E20*0.01","v":0},{"$f":"VLOOKUP($C20,'食品成分表（抜粋）'!$B$4:$O$19995,13,FALSE)*$E20*0.01","v":0},{"$f":"VLOOKUP($C20,'食品成分表（抜粋）'!$B$4:$O$19995,14,FALSE)*$E20*0.01","v":0},null,null,12,null,{"$f":"IFERROR(VLOOKUP($C$2,料理データ!$A$2:$BK$19990,37,FALSE),\"-\")","v":"-"},{"$f":"IFERROR(VLOOKUP($C$2,料理データ!$A$2:$BK$19990,39,FALSE),\"0\")","v":"0"}]
[null,13,null,{"$f":"IFERROR(VLOOKUP($C21,'食品成分表（抜粋）'!$B$4:$C$19995,2,FALSE),\"\")","v":"-"},null,"g",{"$f":"VLOOKUP($C21,'食品成分表（抜粋）'!$B$4:$O$19995,4,FALSE)*$E21*0.01","v":0},{"$f":"VLOOKUP($C21,'食品成分表（抜粋）'!$B$4:$O$19995,5,FALSE)*$E21*0.01","v":0},{"$f":"VLOOKUP($C21,'食品成分表（抜粋）'!$B$4:$O$19995,6,FALSE)*$E21*0.01","v":0},{"$f":"VLOOKUP($C21,'食品成分表（抜粋）'!$B$4:$O$19995,7,FALSE)*$E21*0.01","v":0},{"$f":"VLOOKUP($C21,'食品成分表（抜粋）'!$B$4:$O$19995,8,FALSE)*$E21*0.01","v":0},{"$f":"VLOOKUP($C21,'食品成分表（抜粋）'!$B$4:$O$19995,9,FALSE)*$E21*0.01","v":0},{"$f":"VLOOKUP($C21,'食品成分表（抜粋）'!$B$4:$O$19995,10,FALSE)*$E21*0.01","v":0},{"$f":"VLOOKUP($C21,'食品成分表（抜粋）'!$B$4:$O$19995,11,FALSE)*$E21*0.01","v":0},{"$f":"VLOOKUP($C21,'食品成分表（抜粋）'!$B$4:$O$19995,12,FALSE)*$E21*0.01","v":0},{"$f":"VLOOKUP($C21,'食品成分表（抜粋）'!$B$4:$O$19995,13,FALSE)*$E21*0.01","v":0},{"$f":"VLOOKUP($C21,'食品成分表（抜粋）'!$B$4:$O$19995,14,FALSE)*$E21*0.01","v":0},null,null,13,null,{"$f":"IFERROR(VLOOKUP($C$2,料理データ!$A$2:$BK$19990,40,FALSE),\"-\")","v":"-"},{"$f":"IFERROR(VLOOKUP($C$2,料理データ!$A$2:$BK$19990,42,FALSE),\"0\")","v":"0"}]
[null,14,null,{"$f":"IFERROR(VLOOKUP($C22,'食品成分表（抜粋）'!$B$4:$C$19995,2,FALSE),\"\")","v":"-"},null,"g",{"$f":"VLOOKUP($C22,'食品成分表（抜粋）'!$B$4:$O$19995,4,FALSE)*$E22*0.01","v":0},{"$f":"VLOOKUP($C22,'食品成分表（抜粋）'!$B$4:$O$19995,5,FALSE)*$E22*0.01","v":0},{"$f":"VLOOKUP($C22,'食品成分表（抜粋）'!$B$4:$O$19995,6,FALSE)*$E22*0.01","v":0},{"$f":"VLOOKUP($C22,'食品成分表（抜粋）'!$B$4:$O$19995,7,FALSE)*$E22*0.01","v":0},{"$f":"VLOOKUP($C22,'食品成分表（抜粋）'!$B$4:$O$19995,8,FALSE)*$E22*0.01","v":0},{"$f":"VLOOKUP($C22,'食品成分表（抜粋）'!$B$4:$O$19995,9,FALSE)*$E22*0.01","v":0},{"$f":"VLOOKUP($C22,'食品成分表（抜粋）'!$B$4:$O$19995,10,FALSE)*$E22*0.01","v":0},{"$f":"VLOOKUP($C22,'食品成分表（抜粋）'!$B$4:$O$19995,11,FALSE)*$E22*0.01","v":0},{"$f":"VLOOKUP($C22,'食品成分表（抜粋）'!$B$4:$O$19995,12,FALSE)*$E22*0.01","v":0},{"$f":"VLOOKUP($C22,'食品成分表（抜粋）'!$B$4:$O$19995,13,FALSE)*$E22*0.01","v":0},{"$f":"VLOOKUP($C22,'食品成分表（抜粋）'!$B$4:$O$19995,14,FALSE)*$E22*0.01","v":0},null,null,14,null,{"$f":"IFERROR(VLOOKUP($C$2,料理データ!$A$2:$BK$19990,43,FALSE),\"-\")","v":"-"},{"$f":"IFERROR(VLOOKUP($C$2,料理データ!$A$2:$BK$19990,45,FALSE),\"0\")","v":"0"}]
[null,15,null,{"$f":"IFERROR(VLOOKUP($C23,'食品成分表（抜粋）'!$B$4:$C$19995,2,FALSE),\"\")","v":"-"},null,"g",{"$f":"VLOOKUP($C23,'食品成分表（抜粋）'!$B$4:$O$19995,4,FALSE)*$E23*0.01","v":0},{"$f":"VLOOKUP($C23,'食品成分表（抜粋）'!$B$4:$O$19995,5,FALSE)*$E23*0.01","v":0},{"$f":"VLOOKUP($C23,'食品成分表（抜粋）'!$B$4:$O$19995,6,FALSE)*$E23*0.01","v":0},{"$f":"VLOOKUP($C23,'食品成分表（抜粋）'!$B$4:$O$19995,7,FALSE)*$E23*0.01","v":0},{"$f":"VLOOKUP($C23,'食品成分表（抜粋）'!$B$4:$O$19995,8,FALSE)*$E23*0.01","v":0},{"$f":"VLOOKUP($C23,'食品成分表（抜粋）'!$B$4:$O$19995,9,FALSE)*$E23*0.01","v":0},{"$f":"VLOOKUP($C23,'食品成分表（抜粋）'!$B$4:$O$19995,10,FALSE)*$E23*0.01","v":0},{"$f":"VLOOKUP($C23,'食品成分表（抜粋）'!$B$4:$O$19995,11,FALSE)*$E23*0.01","v":0},{"$f":"VLOOKUP($C23,'食品成分表（抜粋）'!$B$4:$O$19995,12,FALSE)*$E23*0.01","v":0},{"$f":"VLOOKUP($C23,'食品成分表（抜粋）'!$B$4:$O$19995,13,FALSE)*$E23*0.01","v":0},{"$f":"VLOOKUP($C23,'食品成分表（抜粋）'!$B$4:$O$19995,14,FALSE)*$E23*0.01","v":0},null,null,15,null,{"$f":"IFERROR(VLOOKUP($C$2,料理データ!$A$2:$BK$19990,46,FALSE),\"-\")","v":"-"},{"$f":"IFERROR(VLOOKUP($C$2,料理データ!$A$2:$BK$19990,48,FALSE),\"0\")","v":"0"}]
[null,16,null,{"$f":"IFERROR(VLOOKUP($C24,'食品成分表（抜粋）'!$B$4:$C$19995,2,FALSE),\"\")","v":"-"},null,"g",{"$f":"VLOOKUP($C24,'食品成分表（抜粋）'!$B$4:$O$19995,4,FALSE)*$E24*0.01","v":0},{"$f":"VLOOKUP($C24,'食品成分表（抜粋）'!$B$4:$O$19995,5,FALSE)*$E24*0.01","v":0},{"$f":"VLOOKUP($C24,'食品成分表（抜粋）'!$B$4:$O$19995,6,FALSE)*$E24*0.01","v":0},{"$f":"VLOOKUP($C24,'食品成分表（抜粋）'!$B$4:$O$19995,7,FALSE)*$E24*0.01","v":0},{"$f":"VLOOKUP($C24,'食品成分表（抜粋）'!$B$4:$O$19995,8,FALSE)*$E24*0.01","v":0},{"$f":"VLOOKUP($C24,'食品成分表（抜粋）'!$B$4:$O$19995,9,FALSE)*$E24*0.01","v":0},{"$f":"VLOOKUP($C24,'食品成分表（抜粋）'!$B$4:$O$19995,10,FALSE)*$E24*0.01","v":0},{"$f":"VLOOKUP($C24,'食品成分表（抜粋）'!$B$4:$O$19995,11,FALSE)*$E24*0.01","v":0},{"$f":"VLOOKUP($C24,'食品成分表（抜粋）'!$B$4:$O$19995,12,FALSE)*$E24*0.01","v":0},{"$f":"VLOOKUP($C24,'食品成分表（抜粋）'!$B$4:$O$19995,13,FALSE)*$E24*0.01","v":0},{"$f":"VLOOKUP($C24,'食品成分表（抜粋）'!$B$4:$O$19995,14,FALSE)*$E24*0.01","v":0},null,null,16,null,{"$f":"IFERROR(VLOOKUP($C$2,料理データ!$A$2:$BK$19990,49,FALSE),\"-\")","v":"-"},{"$f":"IFERROR(VLOOKUP($C$2,料理データ!$A$2:$BK$19990,51,FALSE),\"0\")","v":"0"}]
[null,17,null,{"$f":"IFERROR(VLOOKUP($C25,'食品成分表（抜粋）'!$B$4:$C$19995,2,FALSE),\"\")","v":"-"},null,"g",{"$f":"VLOOKUP($C25,'食品成分表（抜粋）'!$B$4:$O$19995,4,FALSE)*$E25*0.01","v":0},{"$f":"VLOOKUP($C25,'食品成分表（抜粋）'!$B$4:$O$19995,5,FALSE)*$E25*0.01","v":0},{"$f":"VLOOKUP($C25,'食品成分表（抜粋）'!$B$4:$O$19995,6,FALSE)*$E25*0.01","v":0},{"$f":"VLOOKUP($C25,'食品成分表（抜粋）'!$B$4:$O$19995,7,FALSE)*$E25*0.01","v":0},{"$f":"VLOOKUP($C25,'食品成分表（抜粋）'!$B$4:$O$19995,8,FALSE)*$E25*0.01","v":0},{"$f":"VLOOKUP($C25,'食品成分表（抜粋）'!$B$4:$O$19995,9,FALSE)*$E25*0.01","v":0},{"$f":"VLOOKUP($C25,'食品成分表（抜粋）'!$B$4:$O$19995,10,FALSE)*$E25*0.01","v":0},{"$f":"VLOOKUP($C25,'食品成分表（抜粋）'!$B$4:$O$19995,11,FALSE)*$E25*0.01","v":0},{"$f":"VLOOKUP($C25,'食品成分表（抜粋）'!$B$4:$O$19995,12,FALSE)*$E25*0.01","v":0},{"$f":"VLOOKUP($C25,'食品成分表（抜粋）'!$B$4:$O$19995,13,FALSE)*$E25*0.01","v":0},{"$f":"VLOOKUP($C25,'食品成分表（抜粋）'!$B$4:$O$19995,14,FALSE)*$E25*0.01","v":0},null,null,17,null,{"$f":"IFERROR(VLOOKUP($C$2,料理データ!$A$2:$BK$19990,52,FALSE),\"-\")","v":"-"},{"$f":"IFERROR(VLOOKUP($C$2,料理データ!$A$2:$BK$19990,54,FALSE),\"0\")","v":"0"}]
[null,18,null,{"$f":"IFERROR(VLOOKUP($C26,'食品成分表（抜粋）'!$B$4:$C$19995,2,FALSE),\"\")","v":"-"},null,"g",{"$f":"VLOOKUP($C26,'食品成分表（抜粋）'!$B$4:$O$19995,4,FALSE)*$E26*0.01","v":0},{"$f":"VLOOKUP($C26,'食品成分表（抜粋）'!$B$4:$O$19995,5,FALSE)*$E26*0.01","v":0},{"$f":"VLOOKUP($C26,'食品成分表（抜粋）'!$B$4:$O$19995,6,FALSE)*$E26*0.01","v":0},{"$f":"VLOOKUP($C26,'食品成分表（抜粋）'!$B$4:$O$19995,7,FALSE)*$E26*0.01","v":0},{"$f":"VLOOKUP($C26,'食品成分表（抜粋）'!$B$4:$O$19995,8,FALSE)*$E26*0.01","v":0},{"$f":"VLOOKUP($C26,'食品成分表（抜粋）'!$B$4:$O$19995,9,FALSE)*$E26*0.01","v":0},{"$f":"VLOOKUP($C26,'食品成分表（抜粋）'!$B$4:$O$19995,10,FALSE)*$E26*0.01","v":0},{"$f":"VLOOKUP($C26,'食品成分表（抜粋）'!$B$4:$O$19995,11,FALSE)*$E26*0.01","v":0},{"$f":"VLOOKUP($C26,'食品成分表（抜粋）'!$B$4:$O$19995,12,FALSE)*$E26*0.01","v":0},{"$f":"VLOOKUP($C26,'食品成分表（抜粋）'!$B$4:$O$19995,13,FALSE)*$E26*0.01","v":0},{"$f":"VLOOKUP($C26,'食品成分表（抜粋）'!$B$4:$O$19995,14,FALSE)*$E26*0.01","v":0},null,null,18,null,{"$f":"IFERROR(VLOOKUP($C$2,料理データ!$A$2:$BK$19990,55,FALSE),\"-\")","v":"-"},{"$f":"IFERROR(VLOOKUP($C$2,料理データ!$A$2:$BK$19990,57,FALSE),\"0\")","v":"0"}]
[null,19,null,{"$f":"IFERROR(VLOOKUP($C27,'食品成分表（抜粋）'!$B$4:$C$19995,2,FALSE),\"\")","v":"-"},null,"g",{"$f":"VLOOKUP($C27,'食品成分表（抜粋）'!$B$4:$O$19995,4,FALSE)*$E27*0.01","v":0},{"$f":"VLOOKUP($C27,'食品成分表（抜粋）'!$B$4:$O$19995,5,FALSE)*$E27*0.01","v":0},{"$f":"VLOOKUP($C27,'食品成分表（抜粋）'!$B$4:$O$19995,6,FALSE)*$E27*0.01","v":0},{"$f":"VLOOKUP($C27,'食品成分表（抜粋）'!$B$4:$O$19995,7,FALSE)*$E27*0.01","v":0},{"$f":"VLOOKUP($C27,'食品成分表（抜粋）'!$B$4:$O$19995,8,FALSE)*$E27*0.01","v":0},{"$f":"VLOOKUP($C27,'食品成分表（抜粋）'!$B$4:$O$19995,9,FALSE)*$E27*0.01","v":0},{"$f":"VLOOKUP($C27,'食品成分表（抜粋）'!$B$4:$O$19995,10,FALSE)*$E27*0.01","v":0},{"$f":"VLOOKUP($C27,'食品成分表（抜粋）'!$B$4:$O$19995,11,FALSE)*$E27*0.01","v":0},{"$f":"VLOOKUP($C27,'食品成分表（抜粋）'!$B$4:$O$19995,12,FALSE)*$E27*0.01","v":0},{"$f":"VLOOKUP($C27,'食品成分表（抜粋）'!$B$4:$O$19995,13,FALSE)*$E27*0.01","v":0},{"$f":"VLOOKUP($C27,'食品成分表（抜粋）'!$B$4:$O$19995,14,FALSE)*$E27*0.01","v":0},null,null,19,null,{"$f":"IFERROR(VLOOKUP($C$2,料理データ!$A$2:$BK$19990,58,FALSE),\"-\")","v":"-"},{"$f":"IFERROR(VLOOKUP($C$2,料理データ!$A$2:$BK$19990,60,FALSE),\"0\")","v":"0"}]
[null,20,null,{"$f":"IFERROR(VLOOKUP($C28,'食品成分表（抜粋）'!$B$4:$C$19995,2,FALSE),\"\")","v":"-"},null,"g",{"$f":"VLOOKUP($C28,'食品成分表（抜粋）'!$B$4:$O$19995,4,FALSE)*$E28*0.01","v":0},{"$f":"VLOOKUP($C28,'食品成分表（抜粋）'!$B$4:$O$19995,5,FALSE)*$E28*0.01","v":0},{"$f":"VLOOKUP($C28,'食品成分表（抜粋）'!$B$4:$O$19995,6,FALSE)*$E28*0.01","v":0},{"$f":"VLOOKUP($C28,'食品成分表（抜粋）'!$B$4:$O$19995,7,FALSE)*$E28*0.01","v":0},{"$f":"VLOOKUP($C28,'食品成分表（抜粋）'!$B$4:$O$19995,8,FALSE)*$E28*0.01","v":0},{"$f":"VLOOKUP($C28,'食品成分表（抜粋）'!$B$4:$O$19995,9,FALSE)*$E28*0.01","v":0},{"$f":"VLOOKUP($C28,'食品成分表（抜粋）'!$B$4:$O$19995,10,FALSE)*$E28*0.01","v":0},{"$f":"VLOOKUP($C28,'食品成分表（抜粋）'!$B$4:$O$19995,11,FALSE)*$E28*0.01","v":0},{"$f":"VLOOKUP($C28,'食品成分表（抜粋）'!$B$4:$O$19995,12,FALSE)*$E28*0.01","v":0},{"$f":"VLOOKUP($C28,'食品成分表（抜粋）'!$B$4:$O$19995,13,FALSE)*$E28*0.01","v":0},{"$f":"VLOOKUP($C28,'食品成分表（抜粋）'!$B$4:$O$19995,14,FALSE)*$E28*0.01","v":0},null,null,20,null,{"$f":"IFERROR(VLOOKUP($C$2,料理データ!$A$2:$BK$19990,61,FALSE),\"-\")","v":"-"},{"$f":"IFERROR(VLOOKUP($C$2,料理データ!$A$2:$BK$19990,63,FALSE),\"0\")","v":"0"}]
[]
[null,null,null,null,"合計",null,"エネルギー\n（kcal）","たんぱく質\n(g)","脂   質\n(g)","食物繊維総量\n(g)","カルシウム\n(mg)","鉄\n(mg)","ビタミンA\n(μgRAE)","ビタミンB１\n(mg)","ビタミンB２\n(mｇ)","ビタミンC\n(mg)","食塩相当量\n(ｇ)"]
[null,null,null,null,"幼児",null,{"$f":"SUM(G9:G28)","v":0},0,0,0,0,0,0,0,0,0,0]
[null,null,null,null,"乳児",null,{"$f":"G31*($H33*0.01)","v":0},{"$f":"H31*($H33*0.01)","v":0},0,0,{"$f":"K31*($H33*0.01)","v":0},0,0,0,0,0,0]
[null,null,null,"＊乳児食は幼児食の",null,null,null,null,"％"]
[]
[]
["★料理データに転送される"]
["No.",null,{"$f":"+C2","v":0}]
["料理区分",null,{"$f":"+C4","v":0}]
["料理名",null,{"$f":"+E6","v":0}]
["食品番号",null,{"$f":"+C9","v":0}]
["食品名",null,{"$f":"+D9","v":"-"}]
["重量",null,{"$f":"+E9","v":0}]
["料理名",null,{"$f":"+C10","v":0}]
["食品番号",null,{"$f":"+D10","v":"-"}]
["食品名",null,{"$f":"+E10","v":0}]
["重量",null,{"$f":"+C11","v":0}]
["料理名",null,{"$f":"+D11","v":"-"}]
["食品番号",null,{"$f":"+E11","v":0}]
["食品名",null,{"$f":"+C12","v":0}]
["重量",null,{"$f":"+D12","v":"-"}]
["料理名",null,{"$f":"+E12","v":0}]
["食品番号",null,{"$f":"+C13","v":0}]
["食品名",null,{"$f":"+D13","v":"-"}]
["重量",null,{"$f":"+E13","v":0}]
["料理名",null,{"$f":"+C14","v":0}]
["食品番号",null,{"$f":"+D14","v":"-"}]
["食品名",null,{"$f":"+E14","v":0}]
["重量",null,{"$f":"+C15","v":0}]
["料理名",null,{"$f":"+D15","v":"-"}]
["食品番号",null,{"$f":"+E15","v":0}]
["食品名",null,{"$f":"+C16","v":0}]
["重量",null,{"$f":"+D16","v":"-"}]
["料理名",null,{"$f":"+E16","v":0}]
["食品番号",null,{"$f":"+C17","v":0}]
["食品名",null,{"$f":"+D17","v":"-"}]
["重量",null,{"$f":"+E17","v":0}]
["料理名",null,{"$f":"+C18","v":0}]
["食品番号",null,{"$f":"+D18","v":"-"}]
["食品名",null,{"$f":"+E18","v":0}]
["重量",null,{"$f":"+C19","v":0}]
["料理名",null,{"$f":"+D19","v":"-"}]
["食品番号",null,{"$f":"+E19","v":0}]
["食品名",null,{"$f":"+C20","v":0}]
["重量",null,{"$f":"+D20","v":"-"}]
["料理名",null,{"$f":"+E20","v":0}]
["食品番号",null,{"$f":"+C21","v":0}]
["食品名",null,{"$f":"+D21","v":"-"}]
["重量",null,{"$f":"+E21","v":0}]
["料理名",null,{"$f":"+C22","v":0}]
["食品番号",null,{"$f":"+D22","v":"-"}]
["食品名",null,{"$f":"+E22","v":0}]
["重量",null,{"$f":"+C23","v":0}]
["料理名",null,{"$f":"+D23","v":"-"}]
["食品番号",null,{"$f":"+E23","v":0}]
["食品名",null,{"$f":"+C24","v":0}]
["重量",null,{"$f":"+D24","v":"-"}]
["料理名",null,{"$f":"+E24","v":0}]
["食品番号",null,{"$f":"+C25","v":0}]
["食品名",null,{"$f":"+D25","v":"-"}]
["重量",null,{"$f":"+E25","v":0}]
["料理名",null,{"$f":"+C26","v":0}]
["食品番号",null,{"$f":"+D26","v":"-"}]
["食品名",null,{"$f":"+E26","v":0}]
["重量",null,{"$f":"+C27","v":0}]
["料理名",null,{"$f":"+D27","v":"-"}]
["食品番号",null,{"$f":"+E27","v":0}]
["食品名",null,{"$f":"+C28","v":0}]
["重量",null,{"$f":"+D28","v":"-"}]
["料理名",null,{"$f":"+E28","v":0}]
["食品番号",null,{"$f":"+C29","v":0}]
["食品名",null,{"$f":"+D29","v":0}]
["重量",null,{"$f":"+E29","v":0}]

{"sheet":"料理一覧","index":3,"n_rows":3,"n_cols":15,"rows_kept":3,"cut":false,"hidden":false,"merged":[]}
["No.","料理区分","料理名","エネルギー","たんぱく質","脂質","食物繊維総量","カルシウム","鉄","レチノール活性当量","ビタミンＢ１","ビタミンB２","ビタミンC","食塩相当量"]
[0,null,null,0,0,0,0,0,0,0,0,0,0,0,"触るとエラーの原因になります"]
[0,null,null,0,0,0,0,0,0,0,0,0,0,0,"触るとエラーの原因になります"]

{"sheet":"料理データ","index":4,"n_rows":3,"n_cols":63,"rows_kept":3,"cut":false,"hidden":false,"merged":[[2,36,2,38],[2,3,2,5],[2,6,2,8],[2,9,2,11],[2,12,2,14],[2,15,2,17],[2,18,2,20],[2,21,2,23],[2,24,2,26],[2,27,2,29],[2,30,2,32],[2,33,2,35],[2,57,2,59],[2,60,2,62],[2,39,2,41],[2,42,2,44],[2,45,2,47],[2,48,2,50],[2,51,2,53],[2,54,2,56]]}
[1,2,3,4,5,6,7,8,9,10,11,12,13,14,15,16,17,18,19,20,21,22,23,24,25,26,27,28,29,30,31,32,33,34,35,36,37,38,39,40,41,42,43,44,45,46,47,48,49,50,51,52,53,54,55,56,57,58,59,60,61,62,63]
["No.","料理区分","料理名","食品番号","食品名","ｇ","食品番号","食品名","ｇ","食品番号","食品名","ｇ","食品番号","食品名","ｇ","食品番号","食品名","ｇ","食品番号","食品名","ｇ","食品番号","食品名","ｇ","食品番号","食品名","ｇ","食品番号","食品名","ｇ","食品番号","食品名","ｇ","食品番号","食品名","ｇ","食品番号","食品名","ｇ","食品番号","食品名","ｇ","食品番号","食品名","ｇ","食品番号","食品名","ｇ","食品番号","食品名","ｇ","食品番号","食品名","ｇ","食品番号","食品名","ｇ","食品番号","食品名","ｇ","食品番号","食品名","ｇ"]
[null,null,null,1,null,null,2,null,null,3,null,null,4,null,null,5,null,null,6,null,null,7,null,null,8,null,null,9,null,null,10,null,null,11,null,null,12,null,null,13,null,null,14,null,null,15,null,null,16,null,null,17,null,null,18,null,null,19,null,null,20]

{"sheet":"月間献立（幼児）","index":5,"n_rows":42,"n_cols":141,"rows_kept":42,"cut":false,"hidden":false,"merged":[[2,0,3,0],[37,17,37,19],[36,17,36,19],[35,17,35,19],[1,25,1,29],[2,17,3,19],[2,20,2,30],[3,3,3,7],[2,1,3,1],[2,2,2,7],[2,8,2,10],[2,11,2,16],[3,8,3,10],[3,12,3,16]]}
[]
[null,null,null,null,null,null,null,null,null,null,null,null,2021,"年",5,"月分",null,null,null,null,null,null,null,null,null,"幼児用献立"]
["日","曜日","昼食",null,null,null,null,null,"午後おやつ",null,null,"昼食",null,null,null,null,null,"午後おやつ",null,null,"栄養価の合計",null,null,null,null,null,null,null,null,null,null,"主食",null,null,null,null,null,null,null,null,null,null,"①",null,null,null,null,null,null,null,null,null,null,"②",null,null,null,null,null,null,null,null,null,null,"③",null,null,null,null,null,null,null,null,null,null,"④",null,null,null,null,null,null,null,null,null,null,"⑤",null,null,null,null,null,null,null,null,null,null,"⑥",null,null,null,null,null,null,null,null,null,null,"⑦",null,null,null,null,null,null,null,null,null,null,"⑧",null,null,null,null,null,null,null,null,null,null,"合計"]
[null,null,"主食","No.",null,null,null,null,"No.",null,null,"主食","料理名",null,null,null,null,null,null,null,"E","P","F","食物繊維","Ca","Fe","V.A","V.B1","V.B2","V.C","食塩相当量","E","P","F","食物繊維","Ca","Fe","V.A","V.B1","V.B2","V.C","食塩相当","E","P","F","食物繊維","Ca","Fe","V.A","V.B1","V.B2","V.C","食塩相当","E","P","F","食物繊維","Ca","Fe","V.A","V.B1","V.B2","V.C","食塩相当","E","P","F","食物繊維","Ca","Fe","V.A","V.B1","V.B2","V.C","食塩相当","E","P","F","食物繊維","Ca","Fe","V.A","V.B1","V.B2","V.C","食塩相当","E","P","F","食物繊維","Ca","Fe","V.A","V.B1","V.B2","V.C","食塩相当","E","P","F","食物繊維","Ca","Fe","V.A","V.B1","V.B2","V.C","食塩相当","E","P","F","食物繊維","Ca","Fe","V.A","V.B1","V.B2","V.C","食塩相当","E","P","F","食物繊維","Ca","Fe","V.A","V.B1","V.B2","V.C","食塩相当","E","P","F","食物繊維","Ca","Fe","V.A","V.B1","V.B2","V.C","食塩相当"]
[1,{"$f":"TEXT(WEEKDAY(DATE($M$2,$O$2,A5)),\"(aaa)\")","v":"(土)"},null,null,null,null,null,null,null,null,null,{"$f":"IFERROR(VLOOKUP($C5,料理一覧!$A$3:$N$19998,3,FALSE),\"\")","v":0},{"$f":"IFERROR(VLOOKUP($D5,料理一覧!$A$3:$N$19998,3,FALSE),\"\")","v":0},{"$f":"IFERROR(VLOOKUP($E5,料理一覧!$A$3:$N$19998,3,FALSE),\"\")","v":0},{"$f":"IFERROR(VLOOKUP($F5,料理一覧!$A$3:$N$19998,3,FALSE),\"\")","v":0},{"$f":"IFERROR(VLOOKUP($G5,料理一覧!$A$3:$N$19998,3,FALSE),\"\")","v":0},{"$f":"IFERROR(VLOOKUP($H5,料理一覧!$A$3:$N$19998,3,FALSE),\"\")","v":0},{"$f":"IFERROR(VLOOKUP($I5,料理一覧!$A$3:$N$19998,3,FALSE),\"\")","v":0},{"$f":"IFERROR(VLOOKUP($J5,料理一覧!$A$3:$N$19998,3,FALSE),\"\")","v":0},{"$f":"IFERROR(VLOOKUP($K5,料理一覧!$A$3:$N$19998,3,FALSE),\"\")","v":0},{"$f":"+EA5","v":0},{"$f":"+EB5","v":0},{"$f":"+EC5","v":0},{"$f":"+ED5","v":0},{"$f":"+EE5","v":0},{"$f":"+EF5","v":0},{"$f":"+EG5","v":0},{"$f":"+EH5","v":0},{"$f":"+EI5","v":0},{"$f":"+EJ5","v":0},{"$f":"+EK5","v":0},{"$f":"IFERROR(VLOOKUP($C5,料理一覧!$A$3:$N$19998,4,FALSE),\"0\")","v":0},{"$f":"IFERROR(VLOOKUP($C5,料理一覧!$A$3:$N$19998,5,FALSE),\"0\")","v":0},{"$f":"IFERROR(VLOOKUP($C5,料理一覧!$A$3:$N$19998,6,FALSE),\"0\")","v":0},{"$f":"IFERROR(VLOOKUP($C5,料理一覧!$A$3:$N$19998,7,FALSE),\"0\")","v":0},{"$f":"IFERROR(VLOOKUP($C5,料理一覧!$A$3:$N$19998,8,FALSE),\"0\")","v":0},{"$f":"IFERROR(VLOOKUP($C5,料理一覧!$A$3:$N$19998,9,FALSE),\"0\")","v":0},{"$f":"IFERROR(VLOOKUP($C5,料理一覧!$A$3:$N$19998,10,FALSE),\"0\")","v":0},{"$f":"IFERROR(VLOOKUP($C5,料理一覧!$A$3:$N$19998,11,FALSE),\"0\")","v":0},{"$f":"IFERROR(VLOOKUP($C5,料理一覧!$A$3:$N$19998,12,FALSE),\"0\")","v":0},{"$f":"IFERROR(VLOOKUP($C5,料理一覧!$A$3:$N$19998,13,FALSE),\"0\")","v":0},{"$f":"IFERROR(VLOOKUP($C5,料理一覧!$A$3:$N$19998,14,FALSE),\"0\")","v":0},{"$f":"IFERROR(VLOOKUP($D5,料理一覧!$A$3:$N$19998,4,FALSE),\"0\")","v":0},{"$f":"IFERROR(VLOOKUP($D5,料理一覧!$A$3:$N$19998,5,FALSE),\"0\")","v":0},{"$f":"IFERROR(VLOOKUP($D5,料理一覧!$A$3:$N$19998,6,FALSE),\"0\")","v":0},{"$f":"IFERROR(VLOOKUP($D5,料理一覧!$A$3:$N$19998,7,FALSE),\"0\")","v":0},{"$f":"IFERROR(VLOOKUP($D5,料理一覧!$A$3:$N$19998,8,FALSE),\"0\")","v":0},{"$f":"IFERROR(VLOOKUP($D5,料理一覧!$A$3:$N$19998,9,FALSE),\"0\")","v":0},{"$f":"IFERROR(VLOOKUP($D5,料理一覧!$A$3:$N$19998,10,FALSE),\"0\")","v":0},{"$f":"IFERROR(VLOOKUP($D5,料理一覧!$A$3:$N$19998,11,FALSE),\"0\")","v":0},{"$f":"IFERROR(VLOOKUP($D5,料理一覧!$A$3:$N$19998,12,FALSE),\"0\")","v":0},{"$f":"IFERROR(VLOOKUP($D5,料理一覧!$A$3:$N$19998,13,FALSE),\"0\")","v":0},{"$f":"IFERROR(VLOOKUP($D5,料理一覧!$A$3:$N$19998,14,FALSE),\"0\")","v":0},{"$f":"IFERROR(VLOOKUP($E5,料理一覧!$A$3:$N$19998,4,FALSE),\"0\")","v":0},{"$f":"IFERROR(VLOOKUP($E5,料理一覧!$A$3:$N$19998,5,FALSE),\"0\")","v":0},{"$f":"IFERROR(VLOOKUP($E5,料理一覧!$A$3:$N$19998,6,FALSE),\"0\")","v":0},{"$f":"IFERROR(VLOOKUP($E5,料理一覧!$A$3:$N$19998,7,FALSE),\"0\")","v":0},{"$f":"IFERROR(VLOOKUP($E5,料理一覧!$A$3:$N$19998,8,FALSE),\"0\")","v":0},{"$f":"IFERROR(VLOOKUP($E5,料理一覧!$A$3:$N$19998,9,FALSE),\"0\")","v":0},{"$f":"IFERROR(VLOOKUP($E5,料理一覧!$A$3:$N$19998,10,FALSE),\"0\")","v":0},{"$f":"IFERROR(VLOOKUP($E5,料理一覧!$A$3:$N$19998,11,FALSE),\"0\")","v":0},{"$f":"IFERROR(VLOOKUP($E5,料理一覧!$A$3:$N$19998,12,FALSE),\"0\")","v":0},{"$f":"IFERROR(VLOOKUP($E5,料理一覧!$A$3:$N$19998,13,FALSE),\"0\")","v":0},{"$f":"IFERROR(VLOOKUP($E5,料理一覧!$A$3:$N$19998,14,FALSE),\"0\")","v":0},{"$f":"IFERROR(VLOOKUP($F5,料理一覧!$A$3:$N$19998,4,FALSE),\"0\")","v":0},{"$f":"IFERROR(VLOOKUP($F5,料理一覧!$A$3:$N$19998,5,FALSE),\"0\")","v":0},{"$f":"IFERROR(VLOOKUP($F5,料理一覧!$A$3:$N$19998,6,FALSE),\"0\")","v":0},{"$f":"IFERROR(VLOOKUP($F5,料理一覧!$A$3:$N$19998,7,FALSE),\"0\")","v":0},{"$f":"IFERROR(VLOOKUP($F5,料理一覧!$A$3:$N$19998,8,FALSE),\"0\")","v":0},{"$f":"IFERROR(VLOOKUP($F5,料理一覧!$A$3:$N$19998,9,FALSE),\"0\")","v":0},{"$f":"IFERROR(VLOOKUP($F5,料理一覧!$A$3:$N$19998,10,FALSE),\"0\")","v":0},{"$f":"IFERROR(VLOOKUP($F5,料理一覧!$A$3:$N$19998,11,FALSE),\"0\")","v":0},{"$f":"IFERROR(VLOOKUP($F5,料理一覧!$A$3:$N$19998,12,FALSE),\"0\")","v":0},{"$f":"IFERROR(VLOOKUP($F5,料理一覧!$A$3:$N$19998,13,FALSE),\"0\")","v":0},{"$f":"IFERROR(VLOOKUP($F5,料理一覧!$A$3:$N$19998,14,FALSE),\"0\")","v":0},{"$f":"IFERROR(VLOOKUP($G5,料理一覧!$A$3:$N$19998,4,FALSE),\"0\")","v":0},{"$f":"IFERROR(VLOOKUP($G5,料理一覧!$A$3:$N$19998,5,FALSE),\"0\")","v":0},{"$f":"IFERROR(VLOOKUP($G5,料理一覧!$A$3:$N$19998,6,FALSE),\"0\")","v":0},{"$f":"IFERROR(VLOOKUP($G5,料理一覧!$A$3:$N$19998,7,FALSE),\"0\")","v":0},{"$f":"IFERROR(VLOOKUP($G5,料理一覧!$A$3:$N$19998,8,FALSE),\"0\")","v":0},{"$f":"IFERROR(VLOOKUP($G5,料理一覧!$A$3:$N$19998,9,FALSE),\"0\")","v":0},{"$f":"IFERROR(VLOOKUP($G5,料理一覧!$A$3:$N$19998,10,FALSE),\"0\")","v":0},{"$f":"IFERROR(VLOOKUP($G5,料理一覧!$A$3:$N$19998,11,FALSE),\"0\")","v":0},{"$f":"IFERROR(VLOOKUP($G5,料理一覧!$A$3:$N$19998,12,FALSE),\"0\")","v":0},{"$f":"IFERROR(VLOOKUP($G5,料理一覧!$A$3:$N$19998,13,FALSE),\"0\")","v":0},{"$f":"IFERROR(VLOOKUP($G5,料理一覧!$A$3:$N$19998,14,FALSE),\"0\")","v":0},{"$f":"IFERROR(VLOOKUP($H5,料理一覧!$A$3:$N$19998,4,FALSE),\"0\")","v":0},{"$f":"IFERROR(VLOOKUP($H5,料理一覧!$A$3:$N$19998,5,FALSE),\"0\")","v":0},{"$f":"IFERROR(VLOOKUP($H5,料理一覧!$A$3:$N$19998,6,FALSE),\"0\")","v":0},{"$f":"IFERROR(VLOOKUP($H5,料理一覧!$A$3:$N$19998,7,FALSE),\"0\")","v":0},{"$f":"IFERROR(VLOOKUP($H5,料理一覧!$A$3:$N$19998,8,FALSE),\"0\")","v":0},{"$f":"IFERROR(VLOOKUP($H5,料理一覧!$A$3:$N$19998,9,FALSE),\"0\")","v":0},{"$f":"IFERROR(VLOOKUP($H5,料理一覧!$A$3:$N$19998,10,FALSE),\"0\")","v":0},{"$f":"IFERROR(VLOOKUP($H5,料理一覧!$A$3:$N$19998,11,FALSE),\"0\")","v":0},{"$f":"IFERROR(VLOOKUP($H5,料理一覧!$A$3:$N$19998,12,FALSE),\"0\")","v":0},{"$f":"IFERROR(VLOOKUP($H5,料理一覧!$A$3:$N$19998,13,FALSE),\"0\")","v":0},{"$f":"IFERROR(VLOOKUP($H5,料理一覧!$A$3:$N$19998,14,FALSE),\"0\")","v":0},{"$f":"IFERROR(VLOOKUP($I5,料理一覧!$A$3:$N$19998,4,FALSE),\"0\")","v":0},{"$f":"IFERROR(VLOOKUP($I5,料理一覧!$A$3:$N$19998,5,FALSE),\"0\")","v":0},{"$f":"IFERROR(VLOOKUP($I5,料理一覧!$A$3:$N$19998,6,FALSE),\"0\")","v":0},{"$f":"IFERROR(VLOOKUP($I5,料理一覧!$A$3:$N$19998,7,FALSE),\"0\")","v":0},{"$f":"IFERROR(VLOOKUP($I5,料理一覧!$A$3:$N$19998,8,FALSE),\"0\")","v":0},{"$f":"IFERROR(VLOOKUP($I5,料理一覧!$A$3:$N$19998,9,FALSE),\"0\")","v":0},{"$f":"IFERROR(VLOOKUP($I5,料理一覧!$A$3:$N$19998,10,FALSE),\"0\")","v":0},{"$f":"IFERROR(VLOOKUP($I5,料理一覧!$A$3:$N$19998,11,FALSE),\"0\")","v":0},{"$f":"IFERROR(VLOOKUP($I5,料理一覧!$A$3:$N$19998,12,FALSE),\"0\")","v":0},{"$f":"IFERROR(VLOOKUP($I5,料理一覧!$A$3:$N$19998,13,FALSE),\"0\")","v":0},{"$f":"IFERROR(VLOOKUP($I5,料理一覧!$A$3:$N$19998,14,FALSE),\"0\")","v":0},{"$f":"IFERROR(VLOOKUP($J5,料理一覧!$A$3:$N$19998,4,FALSE),\"0\")","v":0},{"$f":"IFERROR(VLOOKUP($J5,料理一覧!$A$3:$N$19998,5,FALSE),\"0\")","v":0},{"$f":"IFERROR(VLOOKUP($J5,料理一覧!$A$3:$N$19998,6,FALSE),\"0\")","v":0},{"$f":"IFERROR(VLOOKUP($J5,料理一覧!$A$3:$N$19998,7,FALSE),\"0\")","v":0},{"$f":"IFERROR(VLOOKUP($J5,料理一覧!$A$3:$N$19998,8,FALSE),\"0\")","v":0},{"$f":"IFERROR(VLOOKUP($J5,料理一覧!$A$3:$N$19998,9,FALSE),\"0\")","v":0},{"$f":"IFERROR(VLOOKUP($J5,料理一覧!$A$3:$N$19998,10,FALSE),\"0\")","v":0},{"$f":"IFERROR(VLOOKUP($J5,料理一覧!$A$3:$N$19998,11,FALSE),\"0\")","v":0},{"$f":"IFERROR(VLOOKUP($J5,料理一覧!$A$3:$N$19998,12,FALSE),\"0\")","v":0},{"$f":"IFERROR(VLOOKUP($J5,料理一覧!$A$3:$N$19998,13,FALSE),\"0\")","v":0},{"$f":"IFERROR(VLOOKUP($J5,料理一覧!$A$3:$N$19998,14,FALSE),\"0\")","v":0},{"$f":"IFERROR(VLOOKUP($K5,料理一覧!$A$3:$N$19998,4,FALSE),\"0\")","v":0},{"$f":"IFERROR(VLOOKUP($K5,料理一覧!$A$3:$N$19998,5,FALSE),\"0\")","v":0},{"$f":"IFERROR(VLOOKUP($K5,料理一覧!$A$3:$N$19998,6,FALSE),\"0\")","v":0},{"$f":"IFERROR(VLOOKUP($K5,料理一覧!$A$3:$N$19998,7,FALSE),\"0\")","v":0},{"$f":"IFERROR(VLOOKUP($K5,料理一覧!$A$3:$N$19998,8,FALSE),\"0\")","v":0},{"$f":"IFERROR(VLOOKUP($K5,料理一覧!$A$3:$N$19998,9,FALSE),\"0\")","v":0},{"$f":"IFERROR(VLOOKUP($K5,料理一覧!$A$3:$N$19998,10,FALSE),\"0\")","v":0},{"$f":"IFERROR(VLOOKUP($K5,料理一覧!$A$3:$N$19998,11,FALSE),\"0\")","v":0},{"$f":"IFERROR(VLOOKUP($K5,料理一覧!$A$3:$N$19998,12,FALSE),\"0\")","v":0},{"$f":"IFERROR(VLOOKUP($K5,料理一覧!$A$3:$N$19998,13,FALSE),\"0\")","v":0},{"$f":"IFERROR(VLOOKUP($K5,料理一覧!$A$3:$N$19998,14,FALSE),\"0\")","v":0},{"$f":"AF5+AQ5+BB5+BM5+BX5+CI5+CT5+DE5+DP5","v":0},{"$f":"AG5+AR5+BC5+BN5+BY5+CJ5+CU5+DF5+DQ5","v":0},{"$f":"AH5+AS5+BD5+BO5+BZ5+CK5+CV5+DG5+DR5","v":0},{"$f":"AI5+AT5+BE5+BP5+CA5+CL5+CW5+DH5+DS5","v":0},{"$f":"AJ5+AU5+BF5+BQ5+CB5+CM5+CX5+DI5+DT5","v":0},{"$f":"AK5+AV5+BG5+BR5+CC5+CN5+CY5+DJ5+DU5","v":0},{"$f":"AL5+AW5+BH5+BS5+CD5+CO5+CZ5+DK5+DV5","v":0},{"$f":"AM5+AX5+BI5+BT5+CE5+CP5+DA5+DL5+DW5","v":0},{"$f":"AN5+AY5+BJ5+BU5+CF5+CQ5+DB5+DM5+DX5","v":0},{"$f":"AO5+AZ5+BK5+BV5+CG5+CR5+DC5+DN5+DY5","v":0},{"$f":"AP5+BA5+BL5+BW5+CH5+CS5+DD5+DO5+DZ5","v":0}]
[2,{"$f":"TEXT(WEEKDAY(DATE($M$2,$O$2,A6)),\"(aaa)\")","v":"(日)"},null,null,null,null,null,null,null,null,null,{"$f":"IFERROR(VLOOKUP($C6,料理一覧!$A$3:$N$19998,3,FALSE),\"\")","v":0},{"$f":"IFERROR(VLOOKUP($D6,料理一覧!$A$3:$N$19998,3,FALSE),\"\")","v":0},{"$f":"IFERROR(VLOOKUP($E6,料理一覧!$A$3:$N$19998,3,FALSE),\"\")","v":0},{"$f":"IFERROR(VLOOKUP($F6,料理一覧!$A$3:$N$19998,3,FALSE),\"\")","v":0},{"$f":"IFERROR(VLOOKUP($G6,料理一覧!$A$3:$N$19998,3,FALSE),\"\")","v":0},{"$f":"IFERROR(VLOOKUP($H6,料理一覧!$A$3:$N$19998,3,FALSE),\"\")","v":0},{"$f":"IFERROR(VLOOKUP($I6,料理一覧!$A$3:$N$19998,3,FALSE),\"\")","v":0},{"$f":"IFERROR(VLOOKUP($J6,料理一覧!$A$3:$N$19998,3,FALSE),\"\")","v":0},{"$f":"IFERROR(VLOOKUP($K6,料理一覧!$A$3:$N$19998,3,FALSE),\"\")","v":0},0,0,0,0,0,0,0,0,0,0,0,{"$f":"IFERROR(VLOOKUP($C6,料理一覧!$A$3:$N$19998,4,FALSE),\"0\")","v":0},{"$f":"IFERROR(VLOOKUP($C6,料理一覧!$A$3:$N$19998,5,FALSE),\"0\")","v":0},{"$f":"IFERROR(VLOOKUP($C6,料理一覧!$A$3:$N$19998,6,FALSE),\"0\")","v":0},{"$f":"IFERROR(VLOOKUP($C6,料理一覧!$A$3:$N$19998,7,FALSE),\"0\")","v":0},{"$f":"IFERROR(VLOOKUP($C6,料理一覧!$A$3:$N$19998,8,FALSE),\"0\")","v":0},{"$f":"IFERROR(VLOOKUP($C6,料理一覧!$A$3:$N$19998,9,FALSE),\"0\")","v":0},{"$f":"IFERROR(VLOOKUP($C6,料理一覧!$A$3:$N$19998,10,FALSE),\"0\")","v":0},{"$f":"IFERROR(VLOOKUP($C6,料理一覧!$A$3:$N$19998,11,FALSE),\"0\")","v":0},{"$f":"IFERROR(VLOOKUP($C6,料理一覧!$A$3:$N$19998,12,FALSE),\"0\")","v":0},{"$f":"IFERROR(VLOOKUP($C6,料理一覧!$A$3:$N$19998,13,FALSE),\"0\")","v":0},{"$f":"IFERROR(VLOOKUP($C6,料理一覧!$A$3:$N$19998,14,FALSE),\"0\")","v":0},{"$f":"IFERROR(VLOOKUP($D6,料理一覧!$A$3:$N$19998,4,FALSE),\"0\")","v":0},{"$f":"IFERROR(VLOOKUP($D6,料理一覧!$A$3:$N$19998,5,FALSE),\"0\")","v":0},{"$f":"IFERROR(VLOOKUP($D6,料理一覧!$A$3:$N$19998,6,FALSE),\"0\")","v":0},{"$f":"IFERROR(VLOOKUP($D6,料理一覧!$A$3:$N$19998,7,FALSE),\"0\")","v":0},{"$f":"IFERROR(VLOOKUP($D6,料理一覧!$A$3:$N$19998,8,FALSE),\"0\")","v":0},{"$f":"IFERROR(VLOOKUP($D6,料理一覧!$A$3:$N$19998,9,FALSE),\"0\")","v":0},{"$f":"IFERROR(VLOOKUP($D6,料理一覧!$A$3:$N$19998,10,FALSE),\"0\")","v":0},{"$f":"IFERROR(VLOOKUP($D6,料理一覧!$A$3:$N$19998,11,FALSE),\"0\")","v":0},{"$f":"IFERROR(VLOOKUP($D6,料理一覧!$A$3:$N$19998,12,FALSE),\"0\")","v":0},{"$f":"IFERROR(VLOOKUP($D6,料理一覧!$A$3:$N$19998,13,FALSE),\"0\")","v":0},{"$f":"IFERROR(VLOOKUP($D6,料理一覧!$A$3:$N$19998,14,FALSE),\"0\")","v":0},{"$f":"IFERROR(VLOOKUP($E6,料理一覧!$A$3:$N$19998,4,FALSE),\"0\")","v":0},{"$f":"IFERROR(VLOOKUP($E6,料理一覧!$A$3:$N$19998,5,FALSE),\"0\")","v":0},{"$f":"IFERROR(VLOOKUP($E6,料理一覧!$A$3:$N$19998,6,FALSE),\"0\")","v":0},{"$f":"IFERROR(VLOOKUP($E6,料理一覧!$A$3:$N$19998,7,FALSE),\"0\")","v":0},{"$f":"IFERROR(VLOOKUP($E6,料理一覧!$A$3:$N$19998,8,FALSE),\"0\")","v":0},{"$f":"IFERROR(VLOOKUP($E6,料理一覧!$A$3:$N$19998,9,FALSE),\"0\")","v":0},{"$f":"IFERROR(VLOOKUP($E6,料理一覧!$A$3:$N$19998,10,FALSE),\"0\")","v":0},{"$f":"IFERROR(VLOOKUP($E6,料理一覧!$A$3:$N$19998,11,FALSE),\"0\")","v":0},{"$f":"IFERROR(VLOOKUP($E6,料理一覧!$A$3:$N$19998,12,FALSE),\"0\")","v":0},{"$f":"IFERROR(VLOOKUP($E6,料理一覧!$A$3:$N$19998,13,FALSE),\"0\")","v":0},{"$f":"IFERROR(VLOOKUP($E6,料理一覧!$A$3:$N$19998,14,FALSE),\"0\")","v":0},{"$f":"IFERROR(VLOOKUP($F6,料理一覧!$A$3:$N$19998,4,FALSE),\"0\")","v":0},{"$f":"IFERROR(VLOOKUP($F6,料理一覧!$A$3:$N$19998,5,FALSE),\"0\")","v":0},{"$f":"IFERROR(VLOOKUP($F6,料理一覧!$A$3:$N$19998,6,FALSE),\"0\")","v":0},{"$f":"IFERROR(VLOOKUP($F6,料理一覧!$A$3:$N$19998,7,FALSE),\"0\")","v":0},{"$f":"IFERROR(VLOOKUP($F6,料理一覧!$A$3:$N$19998,8,FALSE),\"0\")","v":0},{"$f":"IFERROR(VLOOKUP($F6,料理一覧!$A$3:$N$19998,9,FALSE),\"0\")","v":0},{"$f":"IFERROR(VLOOKUP($F6,料理一覧!$A$3:$N$19998,10,FALSE),\"0\")","v":0},{"$f":"IFERROR(VLOOKUP($F6,料理一覧!$A$3:$N$19998,11,FALSE),\"0\")","v":0},{"$f":"IFERROR(VLOOKUP($F6,料理一覧!$A$3:$N$19998,12,FALSE),\"0\")","v":0},{"$f":"IFERROR(VLOOKUP($F6,料理一覧!$A$3:$N$19998,13,FALSE),\"0\")","v":0},{"$f":"IFERROR(VLOOKUP($F6,料理一覧!$A$3:$N$19998,14,FALSE),\"0\")","v":0},{"$f":"IFERROR(VLOOKUP($G6,料理一覧!$A$3:$N$19998,4,FALSE),\"0\")","v":0},{"$f":"IFERROR(VLOOKUP($G6,料理一覧!$A$3:$N$19998,5,FALSE),\"0\")","v":0},{"$f":"IFERROR(VLOOKUP($G6,料理一覧!$A$3:$N$19998,6,FALSE),\"0\")","v":0},{"$f":"IFERROR(VLOOKUP($G6,料理一覧!$A$3:$N$19998,7,FALSE),\"0\")","v":0},{"$f":"IFERROR(VLOOKUP($G6,料理一覧!$A$3:$N$19998,8,FALSE),\"0\")","v":0},{"$f":"IFERROR(VLOOKUP($G6,料理一覧!$A$3:$N$19998,9,FALSE),\"0\")","v":0},{"$f":"IFERROR(VLOOKUP($G6,料理一覧!$A$3:$N$19998,10,FALSE),\"0\")","v":0},{"$f":"IFERROR(VLOOKUP($G6,料理一覧!$A$3:$N$19998,11,FALSE),\"0\")","v":0},{"$f":"IFERROR(VLOOKUP($G6,料理一覧!$A$3:$N$19998,12,FALSE),\"0\")","v":0},{"$f":"IFERROR(VLOOKUP($G6,料理一覧!$A$3:$N$19998,13,FALSE),\"0\")","v":0},{"$f":"IFERROR(VLOOKUP($G6,料理一覧!$A$3:$N$19998,14,FALSE),\"0\")","v":0},{"$f":"IFERROR(VLOOKUP($H6,料理一覧!$A$3:$N$19998,4,FALSE),\"0\")","v":0},{"$f":"IFERROR(VLOOKUP($H6,料理一覧!$A$3:$N$19998,5,FALSE),\"0\")","v":0},{"$f":"IFERROR(VLOOKUP($H6,料理一覧!$A$3:$N$19998,6,FALSE),\"0\")","v":0},{"$f":"IFERROR(VLOOKUP($H6,料理一覧!$A$3:$N$19998,7,FALSE),\"0\")","v":0},{"$f":"IFERROR(VLOOKUP($H6,料理一覧!$A$3:$N$19998,8,FALSE),\"0\")","v":0},{"$f":"IFERROR(VLOOKUP($H6,料理一覧!$A$3:$N$19998,9,FALSE),\"0\")","v":0},{"$f":"IFERROR(VLOOKUP($H6,料理一覧!$A$3:$N$19998,10,FALSE),\"0\")","v":0},{"$f":"IFERROR(VLOOKUP($H6,料理一覧!$A$3:$N$19998,11,FALSE),\"0\")","v":0},{"$f":"IFERROR(VLOOKUP($H6,料理一覧!$A$3:$N$19998,12,FALSE),\"0\")","v":0},{"$f":"IFERROR(VLOOKUP($H6,料理一覧!$A$3:$N$19998,13,FALSE),\"0\")","v":0},{"$f":"IFERROR(VLOOKUP($H6,料理一覧!$A$3:$N$19998,14,FALSE),\"0\")","v":0},{"$f":"IFERROR(VLOOKUP($I6,料理一覧!$A$3:$N$19998,4,FALSE),\"0\")","v":0},{"$f":"IFERROR(VLOOKUP($I6,料理一覧!$A$3:$N$19998,5,FALSE),\"0\")","v":0},{"$f":"IFERROR(VLOOKUP($I6,料理一覧!$A$3:$N$19998,6,FALSE),\"0\")","v":0},{"$f":"IFERROR(VLOOKUP($I6,料理一覧!$A$3:$N$19998,7,FALSE),\"0\")","v":0},{"$f":"IFERROR(VLOOKUP($I6,料理一覧!$A$3:$N$19998,8,FALSE),\"0\")","v":0},{"$f":"IFERROR(VLOOKUP($I6,料理一覧!$A$3:$N$19998,9,FALSE),\"0\")","v":0},{"$f":"IFERROR(VLOOKUP($I6,料理一覧!$A$3:$N$19998,10,FALSE),\"0\")","v":0},{"$f":"IFERROR(VLOOKUP($I6,料理一覧!$A$3:$N$19998,11,FALSE),\"0\")","v":0},{"$f":"IFERROR(VLOOKUP($I6,料理一覧!$A$3:$N$19998,12,FALSE),\"0\")","v":0},{"$f":"IFERROR(VLOOKUP($I6,料理一覧!$A$3:$N$19998,13,FALSE),\"0\")","v":0},{"$f":"IFERROR(VLOOKUP($I6,料理一覧!$A$3:$N$19998,14,FALSE),\"0\")","v":0},{"$f":"IFERROR(VLOOKUP($J6,料理一覧!$A$3:$N$19998,4,FALSE),\"0\")","v":0},{"$f":"IFERROR(VLOOKUP($J6,料理一覧!$A$3:$N$19998,5,FALSE),\"0\")","v":0},{"$f":"IFERROR(VLOOKUP($J6,料理一覧!$A$3:$N$19998,6,FALSE),\"0\")","v":0},{"$f":"IFERROR(VLOOKUP($J6,料理一覧!$A$3:$N$19998,7,FALSE),\"0\")","v":0},{"$f":"IFERROR(VLOOKUP($J6,料理一覧!$A$3:$N$19998,8,FALSE),\"0\")","v":0},{"$f":"IFERROR(VLOOKUP($J6,料理一覧!$A$3:$N$19998,9,FALSE),\"0\")","v":0},{"$f":"IFERROR(VLOOKUP($J6,料理一覧!$A$3:$N$19998,10,FALSE),\"0\")","v":0},{"$f":"IFERROR(VLOOKUP($J6,料理一覧!$A$3:$N$19998,11,FALSE),\"0\")","v":0},{"$f":"IFERROR(VLOOKUP($J6,料理一覧!$A$3:$N$19998,12,FALSE),\"0\")","v":0},{"$f":"IFERROR(VLOOKUP($J6,料理一覧!$A$3:$N$19998,13,FALSE),\"0\")","v":0},{"$f":"IFERROR(VLOOKUP($J6,料理一覧!$A$3:$N$19998,14,FALSE),\"0\")","v":0},{"$f":"IFERROR(VLOOKUP($K6,料理一覧!$A$3:$N$19998,4,FALSE),\"0\")","v":0},{"$f":"IFERROR(VLOOKUP($K6,料理一覧!$A$3:$N$19998,5,FALSE),\"0\")","v":0},{"$f":"IFERROR(VLOOKUP($K6,料理一覧!$A$3:$N$19998,6,FALSE),\"0\")","v":0},{"$f":"IFERROR(VLOOKUP($K6,料理一覧!$A$3:$N$19998,7,FALSE),\"0\")","v":0},{"$f":"IFERROR(VLOOKUP($K6,料理一覧!$A$3:$N$19998,8,FALSE),\"0\")","v":0},{"$f":"IFERROR(VLOOKUP($K6,料理一覧!$A$3:$N$19998,9,FALSE),\"0\")","v":0},{"$f":"IFERROR(VLOOKUP($K6,料理一覧!$A$3:$N$19998,10,FALSE),\"0\")","v":0},{"$f":"IFERROR(VLOOKUP($K6,料理一覧!$A$3:$N$19998,11,FALSE),\"0\")","v":0},{"$f":"IFERROR(VLOOKUP($K6,料理一覧!$A$3:$N$19998,12,FALSE),\"0\")","v":0},{"$f":"IFERROR(VLOOKUP($K6,料理一覧!$A$3:$N$19998,13,FALSE),\"0\")","v":0},{"$f":"IFERROR(VLOOKUP($K6,料理一覧!$A$3:$N$19998,14,FALSE),\"0\")","v":0},0,0,0,0,0,0,0,0,0,0,0]
[3,{"$f":"TEXT(WEEKDAY(DATE($M$2,$O$2,A7)),\"(aaa)\")","v":"(月)"},null,null,null,null,null,null,null,null,null,{"$f":"IFERROR(VLOOKUP($C7,料理一覧!$A$3:$N$19998,3,FALSE),\"\")","v":0},{"$f":"IFERROR(VLOOKUP($D7,料理一覧!$A$3:$N$19998,3,FALSE),\"\")","v":0},{"$f":"IFERROR(VLOOKUP($E7,料理一覧!$A$3:$N$19998,3,FALSE),\"\")","v":0},{"$f":"IFERROR(VLOOKUP($F7,料理一覧!$A$3:$N$19998,3,FALSE),\"\")","v":0},{"$f":"IFERROR(VLOOKUP($G7,料理一覧!$A$3:$N$19998,3,FALSE),\"\")","v":0},{"$f":"IFERROR(VLOOKUP($H7,料理一覧!$A$3:$N$19998,3,FALSE),\"\")","v":0},{"$f":"IFERROR(VLOOKUP($I7,料理一覧!$A$3:$N$19998,3,FALSE),\"\")","v":0},{"$f":"IFERROR(VLOOKUP($J7,料理一覧!$A$3:$N$19998,3,FALSE),\"\")","v":0},{"$f":"IFERROR(VLOOKUP($K7,料理一覧!$A$3:$N$19998,3,FALSE),\"\")","v":0},0,0,0,0,0,0,0,0,0,0,0,{"$f":"IFERROR(VLOOKUP($C7,料理一覧!$A$3:$N$19998,4,FALSE),\"0\")","v":0},{"$f":"IFERROR(VLOOKUP($C7,料理一覧!$A$3:$N$19998,5,FALSE),\"0\")","v":0},{"$f":"IFERROR(VLOOKUP($C7,料理一覧!$A$3:$N$19998,6,FALSE),\"0\")","v":0},{"$f":"IFERROR(VLOOKUP($C7,料理一覧!$A$3:$N$19998,7,FALSE),\"0\")","v":0},{"$f":"IFERROR(VLOOKUP($C7,料理一覧!$A$3:$N$19998,8,FALSE),\"0\")","v":0},{"$f":"IFERROR(VLOOKUP($C7,料理一覧!$A$3:$N$19998,9,FALSE),\"0\")","v":0},{"$f":"IFERROR(VLOOKUP($C7,料理一覧!$A$3:$N$19998,10,FALSE),\"0\")","v":0},{"$f":"IFERROR(VLOOKUP($C7,料理一覧!$A$3:$N$19998,11,FALSE),\"0\")","v":0},{"$f":"IFERROR(VLOOKUP($C7,料理一覧!$A$3:$N$19998,12,FALSE),\"0\")","v":0},{"$f":"IFERROR(VLOOKUP($C7,料理一覧!$A$3:$N$19998,13,FALSE),\"0\")","v":0},{"$f":"IFERROR(VLOOKUP($C7,料理一覧!$A$3:$N$19998,14,FALSE),\"0\")","v":0},{"$f":"IFERROR(VLOOKUP($D7,料理一覧!$A$3:$N$19998,4,FALSE),\"0\")","v":0},{"$f":"IFERROR(VLOOKUP($D7,料理一覧!$A$3:$N$19998,5,FALSE),\"0\")","v":0},{"$f":"IFERROR(VLOOKUP($D7,料理一覧!$A$3:$N$19998,6,FALSE),\"0\")","v":0},{"$f":"IFERROR(VLOOKUP($D7,料理一覧!$A$3:$N$19998,7,FALSE),\"0\")","v":0},{"$f":"IFERROR(VLOOKUP($D7,料理一覧!$A$3:$N$19998,8,FALSE),\"0\")","v":0},{"$f":"IFERROR(VLOOKUP($D7,料理一覧!$A$3:$N$19998,9,FALSE),\"0\")","v":0},{"$f":"IFERROR(VLOOKUP($D7,料理一覧!$A$3:$N$19998,10,FALSE),\"0\")","v":0},{"$f":"IFERROR(VLOOKUP($D7,料理一覧!$A$3:$N$19998,11,FALSE),\"0\")","v":0},{"$f":"IFERROR(VLOOKUP($D7,料理一覧!$A$3:$N$19998,12,FALSE),\"0\")","v":0},{"$f":"IFERROR(VLOOKUP($D7,料理一覧!$A$3:$N$19998,13,FALSE),\"0\")","v":0},{"$f":"IFERROR(VLOOKUP($D7,料理一覧!$A$3:$N$19998,14,FALSE),\"0\")","v":0},{"$f":"IFERROR(VLOOKUP($E7,料理一覧!$A$3:$N$19998,4,FALSE),\"0\")","v":0},{"$f":"IFERROR(VLOOKUP($E7,料理一覧!$A$3:$N$19998,5,FALSE),\"0\")","v":0},{"$f":"IFERROR(VLOOKUP($E7,料理一覧!$A$3:$N$19998,6,FALSE),\"0\")","v":0},{"$f":"IFERROR(VLOOKUP($E7,料理一覧!$A$3:$N$19998,7,FALSE),\"0\")","v":0},{"$f":"IFERROR(VLOOKUP($E7,料理一覧!$A$3:$N$19998,8,FALSE),\"0\")","v":0},{"$f":"IFERROR(VLOOKUP($E7,料理一覧!$A$3:$N$19998,9,FALSE),\"0\")","v":0},{"$f":"IFERROR(VLOOKUP($E7,料理一覧!$A$3:$N$19998,10,FALSE),\"0\")","v":0},{"$f":"IFERROR(VLOOKUP($E7,料理一覧!$A$3:$N$19998,11,FALSE),\"0\")","v":0},{"$f":"IFERROR(VLOOKUP($E7,料理一覧!$A$3:$N$19998,12,FALSE),\"0\")","v":0},{"$f":"IFERROR(VLOOKUP($E7,料理一覧!$A$3:$N$19998,13,FALSE),\"0\")","v":0},{"$f":"IFERROR(VLOOKUP($E7,料理一覧!$A$3:$N$19998,14,FALSE),\"0\")","v":0},{"$f":"IFERROR(VLOOKUP($F7,料理一覧!$A$3:$N$19998,4,FALSE),\"0\")","v":0},{"$f":"IFERROR(VLOOKUP($F7,料理一覧!$A$3:$N$19998,5,FALSE),\"0\")","v":0},{"$f":"IFERROR(VLOOKUP($F7,料理一覧!$A$3:$N$19998,6,FALSE),\"0\")","v":0},{"$f":"IFERROR(VLOOKUP($F7,料理一覧!$A$3:$N$19998,7,FALSE),\"0\")","v":0},{"$f":"IFERROR(VLOOKUP($F7,料理一覧!$A$3:$N$19998,8,FALSE),\"0\")","v":0},{"$f":"IFERROR(VLOOKUP($F7,料理一覧!$A$3:$N$19998,9,FALSE),\"0\")","v":0},{"$f":"IFERROR(VLOOKUP($F7,料理一覧!$A$3:$N$19998,10,FALSE),\"0\")","v":0},{"$f":"IFERROR(VLOOKUP($F7,料理一覧!$A$3:$N$19998,11,FALSE),\"0\")","v":0},{"$f":"IFERROR(VLOOKUP($F7,料理一覧!$A$3:$N$19998,12,FALSE),\"0\")","v":0},{"$f":"IFERROR(VLOOKUP($F7,料理一覧!$A$3:$N$19998,13,FALSE),\"0\")","v":0},{"$f":"IFERROR(VLOOKUP($F7,料理一覧!$A$3:$N$19998,14,FALSE),\"0\")","v":0},{"$f":"IFERROR(VLOOKUP($G7,料理一覧!$A$3:$N$19998,4,FALSE),\"0\")","v":0},{"$f":"IFERROR(VLOOKUP($G7,料理一覧!$A$3:$N$19998,5,FALSE),\"0\")","v":0},{"$f":"IFERROR(VLOOKUP($G7,料理一覧!$A$3:$N$19998,6,FALSE),\"0\")","v":0},{"$f":"IFERROR(VLOOKUP($G7,料理一覧!$A$3:$N$19998,7,FALSE),\"0\")","v":0},{"$f":"IFERROR(VLOOKUP($G7,料理一覧!$A$3:$N$19998,8,FALSE),\"0\")","v":0},{"$f":"IFERROR(VLOOKUP($G7,料理一覧!$A$3:$N$19998,9,FALSE),\"0\")","v":0},{"$f":"IFERROR(VLOOKUP($G7,料理一覧!$A$3:$N$19998,10,FALSE),\"0\")","v":0},{"$f":"IFERROR(VLOOKUP($G7,料理一覧!$A$3:$N$19998,11,FALSE),\"0\")","v":0},{"$f":"IFERROR(VLOOKUP($G7,料理一覧!$A$3:$N$19998,12,FALSE),\"0\")","v":0},{"$f":"IFERROR(VLOOKUP($G7,料理一覧!$A$3:$N$19998,13,FALSE),\"0\")","v":0},{"$f":"IFERROR(VLOOKUP($G7,料理一覧!$A$3:$N$19998,14,FALSE),\"0\")","v":0},{"$f":"IFERROR(VLOOKUP($H7,料理一覧!$A$3:$N$19998,4,FALSE),\"0\")","v":0},{"$f":"IFERROR(VLOOKUP($H7,料理一覧!$A$3:$N$19998,5,FALSE),\"0\")","v":0},{"$f":"IFERROR(VLOOKUP($H7,料理一覧!$A$3:$N$19998,6,FALSE),\"0\")","v":0},{"$f":"IFERROR(VLOOKUP($H7,料理一覧!$A$3:$N$19998,7,FALSE),\"0\")","v":0},{"$f":"IFERROR(VLOOKUP($H7,料理一覧!$A$3:$N$19998,8,FALSE),\"0\")","v":0},{"$f":"IFERROR(VLOOKUP($H7,料理一覧!$A$3:$N$19998,9,FALSE),\"0\")","v":0},{"$f":"IFERROR(VLOOKUP($H7,料理一覧!$A$3:$N$19998,10,FALSE),\"0\")","v":0},{"$f":"IFERROR(VLOOKUP($H7,料理一覧!$A$3:$N$19998,11,FALSE),\"0\")","v":0},{"$f":"IFERROR(VLOOKUP($H7,料理一覧!$A$3:$N$19998,12,FALSE),\"0\")","v":0},{"$f":"IFERROR(VLOOKUP($H7,料理一覧!$A$3:$N$19998,13,FALSE),\"0\")","v":0},{"$f":"IFERROR(VLOOKUP($H7,料理一覧!$A$3:$N$19998,14,FALSE),\"0\")","v":0},{"$f":"IFERROR(VLOOKUP($I7,料理一覧!$A$3:$N$19998,4,FALSE),\"0\")","v":0},{"$f":"IFERROR(VLOOKUP($I7,料理一覧!$A$3:$N$19998,5,FALSE),\"0\")","v":0},{"$f":"IFERROR(VLOOKUP($I7,料理一覧!$A$3:$N$19998,6,FALSE),\"0\")","v":0},{"$f":"IFERROR(VLOOKUP($I7,料理一覧!$A$3:$N$19998,7,FALSE),\"0\")","v":0},{"$f":"IFERROR(VLOOKUP($I7,料理一覧!$A$3:$N$19998,8,FALSE),\"0\")","v":0},{"$f":"IFERROR(VLOOKUP($I7,料理一覧!$A$3:$N$19998,9,FALSE),\"0\")","v":0},{"$f":"IFERROR(VLOOKUP($I7,料理一覧!$A$3:$N$19998,10,FALSE),\"0\")","v":0},{"$f":"IFERROR(VLOOKUP($I7,料理一覧!$A$3:$N$19998,11,FALSE),\"0\")","v":0},{"$f":"IFERROR(VLOOKUP($I7,料理一覧!$A$3:$N$19998,12,FALSE),\"0\")","v":0},{"$f":"IFERROR(VLOOKUP($I7,料理一覧!$A$3:$N$19998,13,FALSE),\"0\")","v":0},{"$f":"IFERROR(VLOOKUP($I7,料理一覧!$A$3:$N$19998,14,FALSE),\"0\")","v":0},{"$f":"IFERROR(VLOOKUP($J7,料理一覧!$A$3:$N$19998,4,FALSE),\"0\")","v":0},{"$f":"IFERROR(VLOOKUP($J7,料理一覧!$A$3:$N$19998,5,FALSE),\"0\")","v":0},{"$f":"IFERROR(VLOOKUP($J7,料理一覧!$A$3:$N$19998,6,FALSE),\"0\")","v":0},{"$f":"IFERROR(VLOOKUP($J7,料理一覧!$A$3:$N$19998,7,FALSE),\"0\")","v":0},{"$f":"IFERROR(VLOOKUP($J7,料理一覧!$A$3:$N$19998,8,FALSE),\"0\")","v":0},{"$f":"IFERROR(VLOOKUP($J7,料理一覧!$A$3:$N$19998,9,FALSE),\"0\")","v":0},{"$f":"IFERROR(VLOOKUP($J7,料理一覧!$A$3:$N$19998,10,FALSE),\"0\")","v":0},{"$f":"IFERROR(VLOOKUP($J7,料理一覧!$A$3:$N$19998,11,FALSE),\"0\")","v":0},{"$f":"IFERROR(VLOOKUP($J7,料理一覧!$A$3:$N$19998,12,FALSE),\"0\")","v":0},{"$f":"IFERROR(VLOOKUP($J7,料理一覧!$A$3:$N$19998,13,FALSE),\"0\")","v":0},{"$f":"IFERROR(VLOOKUP($J7,料理一覧!$A$3:$N$19998,14,FALSE),\"0\")","v":0},{"$f":"IFERROR(VLOOKUP($K7,料理一覧!$A$3:$N$19998,4,FALSE),\"0\")","v":0},{"$f":"IFERROR(VLOOKUP($K7,料理一覧!$A$3:$N$19998,5,FALSE),\"0\")","v":0},{"$f":"IFERROR(VLOOKUP($K7,料理一覧!$A$3:$N$19998,6,FALSE),\"0\")","v":0},{"$f":"IFERROR(VLOOKUP($K7,料理一覧!$A$3:$N$19998,7,FALSE),\"0\")","v":0},{"$f":"IFERROR(VLOOKUP($K7,料理一覧!$A$3:$N$19998,8,FALSE),\"0\")","v":0},{"$f":"IFERROR(VLOOKUP($K7,料理一覧!$A$3:$N$19998,9,FALSE),\"0\")","v":0},{"$f":"IFERROR(VLOOKUP($K7,料理一覧!$A$3:$N$19998,10,FALSE),\"0\")","v":0},{"$f":"IFERROR(VLOOKUP($K7,料理一覧!$A$3:$N$19998,11,FALSE),\"0\")","v":0},{"$f":"IFERROR(VLOOKUP($K7,料理一覧!$A$3:$N$19998,12,FALSE),\"0\")","v":0},{"$f":"IFERROR(VLOOKUP($K7,料理一覧!$A$3:$N$19998,13,FALSE),\"0\")","v":0},{"$f":"IFERROR(VLOOKUP($K7,料理一覧!$A$3:$N$19998,14,FALSE),\"0\")","v":0},0,0,0,0,0,0,0,0,0,0,0]
[4,"(火)",null,null,null,null,null,null,null,null,null,{"$f":"IFERROR(VLOOKUP($C8,料理一覧!$A$3:$N$19998,3,FALSE),\"\")","v":0},{"$f":"IFERROR(VLOOKUP($D8,料理一覧!$A$3:$N$19998,3,FALSE),\"\")","v":0},{"$f":"IFERROR(VLOOKUP($E8,料理一覧!$A$3:$N$19998,3,FALSE),\"\")","v":0},{"$f":"IFERROR(VLOOKUP($F8,料理一覧!$A$3:$N$19998,3,FALSE),\"\")","v":0},{"$f":"IFERROR(VLOOKUP($G8,料理一覧!$A$3:$N$19998,3,FALSE),\"\")","v":0},{"$f":"IFERROR(VLOOKUP($H8,料理一覧!$A$3:$N$19998,3,FALSE),\"\")","v":0},{"$f":"IFERROR(VLOOKUP($I8,料理一覧!$A$3:$N$19998,3,FALSE),\"\")","v":0},{"$f":"IFERROR(VLOOKUP($J8,料理一覧!$A$3:$N$19998,3,FALSE),\"\")","v":0},{"$f":"IFERROR(VLOOKUP($K8,料理一覧!$A$3:$N$19998,3,FALSE),\"\")","v":0},0,0,0,0,0,0,0,0,0,0,0,{"$f":"IFERROR(VLOOKUP($C8,料理一覧!$A$3:$N$19998,4,FALSE),\"0\")","v":0},{"$f":"IFERROR(VLOOKUP($C8,料理一覧!$A$3:$N$19998,5,FALSE),\"0\")","v":0},{"$f":"IFERROR(VLOOKUP($C8,料理一覧!$A$3:$N$19998,6,FALSE),\"0\")","v":0},{"$f":"IFERROR(VLOOKUP($C8,料理一覧!$A$3:$N$19998,7,FALSE),\"0\")","v":0},{"$f":"IFERROR(VLOOKUP($C8,料理一覧!$A$3:$N$19998,8,FALSE),\"0\")","v":0},{"$f":"IFERROR(VLOOKUP($C8,料理一覧!$A$3:$N$19998,9,FALSE),\"0\")","v":0},{"$f":"IFERROR(VLOOKUP($C8,料理一覧!$A$3:$N$19998,10,FALSE),\"0\")","v":0},{"$f":"IFERROR(VLOOKUP($C8,料理一覧!$A$3:$N$19998,11,FALSE),\"0\")","v":0},{"$f":"IFERROR(VLOOKUP($C8,料理一覧!$A$3:$N$19998,12,FALSE),\"0\")","v":0},{"$f":"IFERROR(VLOOKUP($C8,料理一覧!$A$3:$N$19998,13,FALSE),\"0\")","v":0},{"$f":"IFERROR(VLOOKUP($C8,料理一覧!$A$3:$N$19998,14,FALSE),\"0\")","v":0},{"$f":"IFERROR(VLOOKUP($D8,料理一覧!$A$3:$N$19998,4,FALSE),\"0\")","v":0},{"$f":"IFERROR(VLOOKUP($D8,料理一覧!$A$3:$N$19998,5,FALSE),\"0\")","v":0},{"$f":"IFERROR(VLOOKUP($D8,料理一覧!$A$3:$N$19998,6,FALSE),\"0\")","v":0},{"$f":"IFERROR(VLOOKUP($D8,料理一覧!$A$3:$N$19998,7,FALSE),\"0\")","v":0},{"$f":"IFERROR(VLOOKUP($D8,料理一覧!$A$3:$N$19998,8,FALSE),\"0\")","v":0},{"$f":"IFERROR(VLOOKUP($D8,料理一覧!$A$3:$N$19998,9,FALSE),\"0\")","v":0},{"$f":"IFERROR(VLOOKUP($D8,料理一覧!$A$3:$N$19998,10,FALSE),\"0\")","v":0},{"$f":"IFERROR(VLOOKUP($D8,料理一覧!$A$3:$N$19998,11,FALSE),\"0\")","v":0},{"$f":"IFERROR(VLOOKUP($D8,料理一覧!$A$3:$N$19998,12,FALSE),\"0\")","v":0},{"$f":"IFERROR(VLOOKUP($D8,料理一覧!$A$3:$N$19998,13,FALSE),\"0\")","v":0},{"$f":"IFERROR(VLOOKUP($D8,料理一覧!$A$3:$N$19998,14,FALSE),\"0\")","v":0},{"$f":"IFERROR(VLOOKUP($E8,料理一覧!$A$3:$N$19998,4,FALSE),\"0\")","v":0},{"$f":"IFERROR(VLOOKUP($E8,料理一覧!$A$3:$N$19998,5,FALSE),\"0\")","v":0},{"$f":"IFERROR(VLOOKUP($E8,料理一覧!$A$3:$N$19998,6,FALSE),\"0\")","v":0},{"$f":"IFERROR(VLOOKUP($E8,料理一覧!$A$3:$N$19998,7,FALSE),\"0\")","v":0},{"$f":"IFERROR(VLOOKUP($E8,料理一覧!$A$3:$N$19998,8,FALSE),\"0\")","v":0},{"$f":"IFERROR(VLOOKUP($E8,料理一覧!$A$3:$N$19998,9,FALSE),\"0\")","v":0},{"$f":"IFERROR(VLOOKUP($E8,料理一覧!$A$3:$N$19998,10,FALSE),\"0\")","v":0},{"$f":"IFERROR(VLOOKUP($E8,料理一覧!$A$3:$N$19998,11,FALSE),\"0\")","v":0},{"$f":"IFERROR(VLOOKUP($E8,料理一覧!$A$3:$N$19998,12,FALSE),\"0\")","v":0},{"$f":"IFERROR(VLOOKUP($E8,料理一覧!$A$3:$N$19998,13,FALSE),\"0\")","v":0},{"$f":"IFERROR(VLOOKUP($E8,料理一覧!$A$3:$N$19998,14,FALSE),\"0\")","v":0},{"$f":"IFERROR(VLOOKUP($F8,料理一覧!$A$3:$N$19998,4,FALSE),\"0\")","v":0},{"$f":"IFERROR(VLOOKUP($F8,料理一覧!$A$3:$N$19998,5,FALSE),\"0\")","v":0},{"$f":"IFERROR(VLOOKUP($F8,料理一覧!$A$3:$N$19998,6,FALSE),\"0\")","v":0},{"$f":"IFERROR(VLOOKUP($F8,料理一覧!$A$3:$N$19998,7,FALSE),\"0\")","v":0},{"$f":"IFERROR(VLOOKUP($F8,料理一覧!$A$3:$N$19998,8,FALSE),\"0\")","v":0},{"$f":"IFERROR(VLOOKUP($F8,料理一覧!$A$3:$N$19998,9,FALSE),\"0\")","v":0},{"$f":"IFERROR(VLOOKUP($F8,料理一覧!$A$3:$N$19998,10,FALSE),\"0\")","v":0},{"$f":"IFERROR(VLOOKUP($F8,料理一覧!$A$3:$N$19998,11,FALSE),\"0\")","v":0},{"$f":"IFERROR(VLOOKUP($F8,料理一覧!$A$3:$N$19998,12,FALSE),\"0\")","v":0},{"$f":"IFERROR(VLOOKUP($F8,料理一覧!$A$3:$N$19998,13,FALSE),\"0\")","v":0},{"$f":"IFERROR(VLOOKUP($F8,料理一覧!$A$3:$N$19998,14,FALSE),\"0\")","v":0},{"$f":"IFERROR(VLOOKUP($G8,料理一覧!$A$3:$N$19998,4,FALSE),\"0\")","v":0},{"$f":"IFERROR(VLOOKUP($G8,料理一覧!$A$3:$N$19998,5,FALSE),\"0\")","v":0},{"$f":"IFERROR(VLOOKUP($G8,料理一覧!$A$3:$N$19998,6,FALSE),\"0\")","v":0},{"$f":"IFERROR(VLOOKUP($G8,料理一覧!$A$3:$N$19998,7,FALSE),\"0\")","v":0},{"$f":"IFERROR(VLOOKUP($G8,料理一覧!$A$3:$N$19998,8,FALSE),\"0\")","v":0},{"$f":"IFERROR(VLOOKUP($G8,料理一覧!$A$3:$N$19998,9,FALSE),\"0\")","v":0},{"$f":"IFERROR(VLOOKUP($G8,料理一覧!$A$3:$N$19998,10,FALSE),\"0\")","v":0},{"$f":"IFERROR(VLOOKUP($G8,料理一覧!$A$3:$N$19998,11,FALSE),\"0\")","v":0},{"$f":"IFERROR(VLOOKUP($G8,料理一覧!$A$3:$N$19998,12,FALSE),\"0\")","v":0},{"$f":"IFERROR(VLOOKUP($G8,料理一覧!$A$3:$N$19998,13,FALSE),\"0\")","v":0},{"$f":"IFERROR(VLOOKUP($G8,料理一覧!$A$3:$N$19998,14,FALSE),\"0\")","v":0},{"$f":"IFERROR(VLOOKUP($H8,料理一覧!$A$3:$N$19998,4,FALSE),\"0\")","v":0},{"$f":"IFERROR(VLOOKUP($H8,料理一覧!$A$3:$N$19998,5,FALSE),\"0\")","v":0},{"$f":"IFERROR(VLOOKUP($H8,料理一覧!$A$3:$N$19998,6,FALSE),\"0\")","v":0},{"$f":"IFERROR(VLOOKUP($H8,料理一覧!$A$3:$N$19998,7,FALSE),\"0\")","v":0},{"$f":"IFERROR(VLOOKUP($H8,料理一覧!$A$3:$N$19998,8,FALSE),\"0\")","v":0},{"$f":"IFERROR(VLOOKUP($H8,料理一覧!$A$3:$N$19998,9,FALSE),\"0\")","v":0},{"$f":"IFERROR(VLOOKUP($H8,料理一覧!$A$3:$N$19998,10,FALSE),\"0\")","v":0},{"$f":"IFERROR(VLOOKUP($H8,料理一覧!$A$3:$N$19998,11,FALSE),\"0\")","v":0},{"$f":"IFERROR(VLOOKUP($H8,料理一覧!$A$3:$N$19998,12,FALSE),\"0\")","v":0},{"$f":"IFERROR(VLOOKUP($H8,料理一覧!$A$3:$N$19998,13,FALSE),\"0\")","v":0},{"$f":"IFERROR(VLOOKUP($H8,料理一覧!$A$3:$N$19998,14,FALSE),\"0\")","v":0},{"$f":"IFERROR(VLOOKUP($I8,料理一覧!$A$3:$N$19998,4,FALSE),\"0\")","v":0},{"$f":"IFERROR(VLOOKUP($I8,料理一覧!$A$3:$N$19998,5,FALSE),\"0\")","v":0},{"$f":"IFERROR(VLOOKUP($I8,料理一覧!$A$3:$N$19998,6,FALSE),\"0\")","v":0},{"$f":"IFERROR(VLOOKUP($I8,料理一覧!$A$3:$N$19998,7,FALSE),\"0\")","v":0},{"$f":"IFERROR(VLOOKUP($I8,料理一覧!$A$3:$N$19998,8,FALSE),\"0\")","v":0},{"$f":"IFERROR(VLOOKUP($I8,料理一覧!$A$3:$N$19998,9,FALSE),\"0\")","v":0},{"$f":"IFERROR(VLOOKUP($I8,料理一覧!$A$3:$N$19998,10,FALSE),\"0\")","v":0},{"$f":"IFERROR(VLOOKUP($I8,料理一覧!$A$3:$N$19998,11,FALSE),\"0\")","v":0},{"$f":"IFERROR(VLOOKUP($I8,料理一覧!$A$3:$N$19998,12,FALSE),\"0\")","v":0},{"$f":"IFERROR(VLOOKUP($I8,料理一覧!$A$3:$N$19998,13,FALSE),\"0\")","v":0},{"$f":"IFERROR(VLOOKUP($I8,料理一覧!$A$3:$N$19998,14,FALSE),\"0\")","v":0},{"$f":"IFERROR(VLOOKUP($J8,料理一覧!$A$3:$N$19998,4,FALSE),\"0\")","v":0},{"$f":"IFERROR(VLOOKUP($J8,料理一覧!$A$3:$N$19998,5,FALSE),\"0\")","v":0},{"$f":"IFERROR(VLOOKUP($J8,料理一覧!$A$3:$N$19998,6,FALSE),\"0\")","v":0},{"$f":"IFERROR(VLOOKUP($J8,料理一覧!$A$3:$N$19998,7,FALSE),\"0\")","v":0},{"$f":"IFERROR(VLOOKUP($J8,料理一覧!$A$3:$N$19998,8,FALSE),\"0\")","v":0},{"$f":"IFERROR(VLOOKUP($J8,料理一覧!$A$3:$N$19998,9,FALSE),\"0\")","v":0},{"$f":"IFERROR(VLOOKUP($J8,料理一覧!$A$3:$N$19998,10,FALSE),\"0\")","v":0},{"$f":"IFERROR(VLOOKUP($J8,料理一覧!$A$3:$N$19998,11,FALSE),\"0\")","v":0},{"$f":"IFERROR(VLOOKUP($J8,料理一覧!$A$3:$N$19998,12,FALSE),\"0\")","v":0},{"$f":"IFERROR(VLOOKUP($J8,料理一覧!$A$3:$N$19998,13,FALSE),\"0\")","v":0},{"$f":"IFERROR(VLOOKUP($J8,料理一覧!$A$3:$N$19998,14,FALSE),\"0\")","v":0},{"$f":"IFERROR(VLOOKUP($K8,料理一覧!$A$3:$N$19998,4,FALSE),\"0\")","v":0},{"$f":"IFERROR(VLOOKUP($K8,料理一覧!$A$3:$N$19998,5,FALSE),\"0\")","v":0},{"$f":"IFERROR(VLOOKUP($K8,料理一覧!$A$3:$N$19998,6,FALSE),\"0\")","v":0},{"$f":"IFERROR(VLOOKUP($K8,料理一覧!$A$3:$N$19998,7,FALSE),\"0\")","v":0},{"$f":"IFERROR(VLOOKUP($K8,料理一覧!$A$3:$N$19998,8,FALSE),\"0\")","v":0},{"$f":"IFERROR(VLOOKUP($K8,料理一覧!$A$3:$N$19998,9,FALSE),\"0\")","v":0},{"$f":"IFERROR(VLOOKUP($K8,料理一覧!$A$3:$N$19998,10,FALSE),\"0\")","v":0},{"$f":"IFERROR(VLOOKUP($K8,料理一覧!$A$3:$N$19998,11,FALSE),\"0\")","v":0},{"$f":"IFERROR(VLOOKUP($K8,料理一覧!$A$3:$N$19998,12,FALSE),\"0\")","v":0},{"$f":"IFERROR(VLOOKUP($K8,料理一覧!$A$3:$N$19998,13,FALSE),\"0\")","v":0},{"$f":"IFERROR(VLOOKUP($K8,料理一覧!$A$3:$N$19998,14,FALSE),\"0\")","v":0},0,0,0,0,0,0,0,0,0,0,0]
[5,"(水)",null,null,null,null,null,null,null,null,null,{"$f":"IFERROR(VLOOKUP($C9,料理一覧!$A$3:$N$19998,3,FALSE),\"\")","v":0},{"$f":"IFERROR(VLOOKUP($D9,料理一覧!$A$3:$N$19998,3,FALSE),\"\")","v":0},{"$f":"IFERROR(VLOOKUP($E9,料理一覧!$A$3:$N$19998,3,FALSE),\"\")","v":0},{"$f":"IFERROR(VLOOKUP($F9,料理一覧!$A$3:$N$19998,3,FALSE),\"\")","v":0},{"$f":"IFERROR(VLOOKUP($G9,料理一覧!$A$3:$N$19998,3,FALSE),\"\")","v":0},{"$f":"IFERROR(VLOOKUP($H9,料理一覧!$A$3:$N$19998,3,FALSE),\"\")","v":0},{"$f":"IFERROR(VLOOKUP($I9,料理一覧!$A$3:$N$19998,3,FALSE),\"\")","v":0},{"$f":"IFERROR(VLOOKUP($J9,料理一覧!$A$3:$N$19998,3,FALSE),\"\")","v":0},{"$f":"IFERROR(VLOOKUP($K9,料理一覧!$A$3:$N$19998,3,FALSE),\"\")","v":0},0,0,0,0,0,0,0,0,0,0,0,{"$f":"IFERROR(VLOOKUP($C9,料理一覧!$A$3:$N$19998,4,FALSE),\"0\")","v":0},{"$f":"IFERROR(VLOOKUP($C9,料理一覧!$A$3:$N$19998,5,FALSE),\"0\")","v":0},{"$f":"IFERROR(VLOOKUP($C9,料理一覧!$A$3:$N$19998,6,FALSE),\"0\")","v":0},{"$f":"IFERROR(VLOOKUP($C9,料理一覧!$A$3:$N$19998,7,FALSE),\"0\")","v":0},{"$f":"IFERROR(VLOOKUP($C9,料理一覧!$A$3:$N$19998,8,FALSE),\"0\")","v":0},{"$f":"IFERROR(VLOOKUP($C9,料理一覧!$A$3:$N$19998,9,FALSE),\"0\")","v":0},{"$f":"IFERROR(VLOOKUP($C9,料理一覧!$A$3:$N$19998,10,FALSE),\"0\")","v":0},{"$f":"IFERROR(VLOOKUP($C9,料理一覧!$A$3:$N$19998,11,FALSE),\"0\")","v":0},{"$f":"IFERROR(VLOOKUP($C9,料理一覧!$A$3:$N$19998,12,FALSE),\"0\")","v":0},{"$f":"IFERROR(VLOOKUP($C9,料理一覧!$A$3:$N$19998,13,FALSE),\"0\")","v":0},{"$f":"IFERROR(VLOOKUP($C9,料理一覧!$A$3:$N$19998,14,FALSE),\"0\")","v":0},{"$f":"IFERROR(VLOOKUP($D9,料理一覧!$A$3:$N$19998,4,FALSE),\"0\")","v":0},{"$f":"IFERROR(VLOOKUP($D9,料理一覧!$A$3:$N$19998,5,FALSE),\"0\")","v":0},{"$f":"IFERROR(VLOOKUP($D9,料理一覧!$A$3:$N$19998,6,FALSE),\"0\")","v":0},{"$f":"IFERROR(VLOOKUP($D9,料理一覧!$A$3:$N$19998,7,FALSE),\"0\")","v":0},{"$f":"IFERROR(VLOOKUP($D9,料理一覧!$A$3:$N$19998,8,FALSE),\"0\")","v":0},{"$f":"IFERROR(VLOOKUP($D9,料理一覧!$A$3:$N$19998,9,FALSE),\"0\")","v":0},{"$f":"IFERROR(VLOOKUP($D9,料理一覧!$A$3:$N$19998,10,FALSE),\"0\")","v":0},{"$f":"IFERROR(VLOOKUP($D9,料理一覧!$A$3:$N$19998,11,FALSE),\"0\")","v":0},{"$f":"IFERROR(VLOOKUP($D9,料理一覧!$A$3:$N$19998,12,FALSE),\"0\")","v":0},{"$f":"IFERROR(VLOOKUP($D9,料理一覧!$A$3:$N$19998,13,FALSE),\"0\")","v":0},{"$f":"IFERROR(VLOOKUP($D9,料理一覧!$A$3:$N$19998,14,FALSE),\"0\")","v":0},{"$f":"IFERROR(VLOOKUP($E9,料理一覧!$A$3:$N$19998,4,FALSE),\"0\")","v":0},{"$f":"IFERROR(VLOOKUP($E9,料理一覧!$A$3:$N$19998,5,FALSE),\"0\")","v":0},{"$f":"IFERROR(VLOOKUP($E9,料理一覧!$A$3:$N$19998,6,FALSE),\"0\")","v":0},{"$f":"IFERROR(VLOOKUP($E9,料理一覧!$A$3:$N$19998,7,FALSE),\"0\")","v":0},{"$f":"IFERROR(VLOOKUP($E9,料理一覧!$A$3:$N$19998,8,FALSE),\"0\")","v":0},{"$f":"IFERROR(VLOOKUP($E9,料理一覧!$A$3:$N$19998,9,FALSE),\"0\")","v":0},{"$f":"IFERROR(VLOOKUP($E9,料理一覧!$A$3:$N$19998,10,FALSE),\"0\")","v":0},{"$f":"IFERROR(VLOOKUP($E9,料理一覧!$A$3:$N$19998,11,FALSE),\"0\")","v":0},{"$f":"IFERROR(VLOOKUP($E9,料理一覧!$A$3:$N$19998,12,FALSE),\"0\")","v":0},{"$f":"IFERROR(VLOOKUP($E9,料理一覧!$A$3:$N$19998,13,FALSE),\"0\")","v":0},{"$f":"IFERROR(VLOOKUP($E9,料理一覧!$A$3:$N$19998,14,FALSE),\"0\")","v":0},{"$f":"IFERROR(VLOOKUP($F9,料理一覧!$A$3:$N$19998,4,FALSE),\"0\")","v":0},{"$f":"IFERROR(VLOOKUP($F9,料理一覧!$A$3:$N$19998,5,FALSE),\"0\")","v":0},{"$f":"IFERROR(VLOOKUP($F9,料理一覧!$A$3:$N$19998,6,FALSE),\"0\")","v":0},{"$f":"IFERROR(VLOOKUP($F9,料理一覧!$A$3:$N$19998,7,FALSE),\"0\")","v":0},{"$f":"IFERROR(VLOOKUP($F9,料理一覧!$A$3:$N$19998,8,FALSE),\"0\")","v":0},{"$f":"IFERROR(VLOOKUP($F9,料理一覧!$A$3:$N$19998,9,FALSE),\"0\")","v":0},{"$f":"IFERROR(VLOOKUP($F9,料理一覧!$A$3:$N$19998,10,FALSE),\"0\")","v":0},{"$f":"IFERROR(VLOOKUP($F9,料理一覧!$A$3:$N$19998,11,FALSE),\"0\")","v":0},{"$f":"IFERROR(VLOOKUP($F9,料理一覧!$A$3:$N$19998,12,FALSE),\"0\")","v":0},{"$f":"IFERROR(VLOOKUP($F9,料理一覧!$A$3:$N$19998,13,FALSE),\"0\")","v":0},{"$f":"IFERROR(VLOOKUP($F9,料理一覧!$A$3:$N$19998,14,FALSE),\"0\")","v":0},{"$f":"IFERROR(VLOOKUP($G9,料理一覧!$A$3:$N$19998,4,FALSE),\"0\")","v":0},{"$f":"IFERROR(VLOOKUP($G9,料理一覧!$A$3:$N$19998,5,FALSE),\"0\")","v":0},{"$f":"IFERROR(VLOOKUP($G9,料理一覧!$A$3:$N$19998,6,FALSE),\"0\")","v":0},{"$f":"IFERROR(VLOOKUP($G9,料理一覧!$A$3:$N$19998,7,FALSE),\"0\")","v":0},{"$f":"IFERROR(VLOOKUP($G9,料理一覧!$A$3:$N$19998,8,FALSE),\"0\")","v":0},{"$f":"IFERROR(VLOOKUP($G9,料理一覧!$A$3:$N$19998,9,FALSE),\"0\")","v":0},{"$f":"IFERROR(VLOOKUP($G9,料理一覧!$A$3:$N$19998,10,FALSE),\"0\")","v":0},{"$f":"IFERROR(VLOOKUP($G9,料理一覧!$A$3:$N$19998,11,FALSE),\"0\")","v":0},{"$f":"IFERROR(VLOOKUP($G9,料理一覧!$A$3:$N$19998,12,FALSE),\"0\")","v":0},{"$f":"IFERROR(VLOOKUP($G9,料理一覧!$A$3:$N$19998,13,FALSE),\"0\")","v":0},{"$f":"IFERROR(VLOOKUP($G9,料理一覧!$A$3:$N$19998,14,FALSE),\"0\")","v":0},{"$f":"IFERROR(VLOOKUP($H9,料理一覧!$A$3:$N$19998,4,FALSE),\"0\")","v":0},{"$f":"IFERROR(VLOOKUP($H9,料理一覧!$A$3:$N$19998,5,FALSE),\"0\")","v":0},{"$f":"IFERROR(VLOOKUP($H9,料理一覧!$A$3:$N$19998,6,FALSE),\"0\")","v":0},{"$f":"IFERROR(VLOOKUP($H9,料理一覧!$A$3:$N$19998,7,FALSE),\"0\")","v":0},{"$f":"IFERROR(VLOOKUP($H9,料理一覧!$A$3:$N$19998,8,FALSE),\"0\")","v":0},{"$f":"IFERROR(VLOOKUP($H9,料理一覧!$A$3:$N$19998,9,FALSE),\"0\")","v":0},{"$f":"IFERROR(VLOOKUP($H9,料理一覧!$A$3:$N$19998,10,FALSE),\"0\")","v":0},{"$f":"IFERROR(VLOOKUP($H9,料理一覧!$A$3:$N$19998,11,FALSE),\"0\")","v":0},{"$f":"IFERROR(VLOOKUP($H9,料理一覧!$A$3:$N$19998,12,FALSE),\"0\")","v":0},{"$f":"IFERROR(VLOOKUP($H9,料理一覧!$A$3:$N$19998,13,FALSE),\"0\")","v":0},{"$f":"IFERROR(VLOOKUP($H9,料理一覧!$A$3:$N$19998,14,FALSE),\"0\")","v":0},{"$f":"IFERROR(VLOOKUP($I9,料理一覧!$A$3:$N$19998,4,FALSE),\"0\")","v":0},{"$f":"IFERROR(VLOOKUP($I9,料理一覧!$A$3:$N$19998,5,FALSE),\"0\")","v":0},{"$f":"IFERROR(VLOOKUP($I9,料理一覧!$A$3:$N$19998,6,FALSE),\"0\")","v":0},{"$f":"IFERROR(VLOOKUP($I9,料理一覧!$A$3:$N$19998,7,FALSE),\"0\")","v":0},{"$f":"IFERROR(VLOOKUP($I9,料理一覧!$A$3:$N$19998,8,FALSE),\"0\")","v":0},{"$f":"IFERROR(VLOOKUP($I9,料理一覧!$A$3:$N$19998,9,FALSE),\"0\")","v":0},{"$f":"IFERROR(VLOOKUP($I9,料理一覧!$A$3:$N$19998,10,FALSE),\"0\")","v":0},{"$f":"IFERROR(VLOOKUP($I9,料理一覧!$A$3:$N$19998,11,FALSE),\"0\")","v":0},{"$f":"IFERROR(VLOOKUP($I9,料理一覧!$A$3:$N$19998,12,FALSE),\"0\")","v":0},{"$f":"IFERROR(VLOOKUP($I9,料理一覧!$A$3:$N$19998,13,FALSE),\"0\")","v":0},{"$f":"IFERROR(VLOOKUP($I9,料理一覧!$A$3:$N$19998,14,FALSE),\"0\")","v":0},{"$f":"IFERROR(VLOOKUP($J9,料理一覧!$A$3:$N$19998,4,FALSE),\"0\")","v":0},{"$f":"IFERROR(VLOOKUP($J9,料理一覧!$A$3:$N$19998,5,FALSE),\"0\")","v":0},{"$f":"IFERROR(VLOOKUP($J9,料理一覧!$A$3:$N$19998,6,FALSE),\"0\")","v":0},{"$f":"IFERROR(VLOOKUP($J9,料理一覧!$A$3:$N$19998,7,FALSE),\"0\")","v":0},{"$f":"IFERROR(VLOOKUP($J9,料理一覧!$A$3:$N$19998,8,FALSE),\"0\")","v":0},{"$f":"IFERROR(VLOOKUP($J9,料理一覧!$A$3:$N$19998,9,FALSE),\"0\")","v":0},{"$f":"IFERROR(VLOOKUP($J9,料理一覧!$A$3:$N$19998,10,FALSE),\"0\")","v":0},{"$f":"IFERROR(VLOOKUP($J9,料理一覧!$A$3:$N$19998,11,FALSE),\"0\")","v":0},{"$f":"IFERROR(VLOOKUP($J9,料理一覧!$A$3:$N$19998,12,FALSE),\"0\")","v":0},{"$f":"IFERROR(VLOOKUP($J9,料理一覧!$A$3:$N$19998,13,FALSE),\"0\")","v":0},{"$f":"IFERROR(VLOOKUP($J9,料理一覧!$A$3:$N$19998,14,FALSE),\"0\")","v":0},{"$f":"IFERROR(VLOOKUP($K9,料理一覧!$A$3:$N$19998,4,FALSE),\"0\")","v":0},{"$f":"IFERROR(VLOOKUP($K9,料理一覧!$A$3:$N$19998,5,FALSE),\"0\")","v":0},{"$f":"IFERROR(VLOOKUP($K9,料理一覧!$A$3:$N$19998,6,FALSE),\"0\")","v":0},{"$f":"IFERROR(VLOOKUP($K9,料理一覧!$A$3:$N$19998,7,FALSE),\"0\")","v":0},{"$f":"IFERROR(VLOOKUP($K9,料理一覧!$A$3:$N$19998,8,FALSE),\"0\")","v":0},{"$f":"IFERROR(VLOOKUP($K9,料理一覧!$A$3:$N$19998,9,FALSE),\"0\")","v":0},{"$f":"IFERROR(VLOOKUP($K9,料理一覧!$A$3:$N$19998,10,FALSE),\"0\")","v":0},{"$f":"IFERROR(VLOOKUP($K9,料理一覧!$A$3:$N$19998,11,FALSE),\"0\")","v":0},{"$f":"IFERROR(VLOOKUP($K9,料理一覧!$A$3:$N$19998,12,FALSE),\"0\")","v":0},{"$f":"IFERROR(VLOOKUP($K9,料理一覧!$A$3:$N$19998,13,FALSE),\"0\")","v":0},{"$f":"IFERROR(VLOOKUP($K9,料理一覧!$A$3:$N$19998,14,FALSE),\"0\")","v":0},0,0,0,0,0,0,0,0,0,0,0]
[6,"(木)",null,null,null,null,null,null,null,null,null,{"$f":"IFERROR(VLOOKUP($C10,料理一覧!$A$3:$N$19998,3,FALSE),\"\")","v":0},{"$f":"IFERROR(VLOOKUP($D10,料理一覧!$A$3:$N$19998,3,FALSE),\"\")","v":0},{"$f":"IFERROR(VLOOKUP($E10,料理一覧!$A$3:$N$19998,3,FALSE),\"\")","v":0},{"$f":"IFERROR(VLOOKUP($F10,料理一覧!$A$3:$N$19998,3,FALSE),\"\")","v":0},{"$f":"IFERROR(VLOOKUP($G10,料理一覧!$A$3:$N$19998,3,FALSE),\"\")","v":0},{"$f":"IFERROR(VLOOKUP($H10,料理一覧!$A$3:$N$19998,3,FALSE),\"\")","v":0},{"$f":"IFERROR(VLOOKUP($I10,料理一覧!$A$3:$N$19998,3,FALSE),\"\")","v":0},{"$f":"IFERROR(VLOOKUP($J10,料理一覧!$A$3:$N$19998,3,FALSE),\"\")","v":0},{"$f":"IFERROR(VLOOKUP($K10,料理一覧!$A$3:$N$19998,3,FALSE),\"\")","v":0},0,0,0,0,0,0,0,0,0,0,0,{"$f":"IFERROR(VLOOKUP($C10,料理一覧!$A$3:$N$19998,4,FALSE),\"0\")","v":0},{"$f":"IFERROR(VLOOKUP($C10,料理一覧!$A$3:$N$19998,5,FALSE),\"0\")","v":0},{"$f":"IFERROR(VLOOKUP($C10,料理一覧!$A$3:$N$19998,6,FALSE),\"0\")","v":0},{"$f":"IFERROR(VLOOKUP($C10,料理一覧!$A$3:$N$19998,7,FALSE),\"0\")","v":0},{"$f":"IFERROR(VLOOKUP($C10,料理一覧!$A$3:$N$19998,8,FALSE),\"0\")","v":0},{"$f":"IFERROR(VLOOKUP($C10,料理一覧!$A$3:$N$19998,9,FALSE),\"0\")","v":0},{"$f":"IFERROR(VLOOKUP($C10,料理一覧!$A$3:$N$19998,10,FALSE),\"0\")","v":0},{"$f":"IFERROR(VLOOKUP($C10,料理一覧!$A$3:$N$19998,11,FALSE),\"0\")","v":0},{"$f":"IFERROR(VLOOKUP($C10,料理一覧!$A$3:$N$19998,12,FALSE),\"0\")","v":0},{"$f":"IFERROR(VLOOKUP($C10,料理一覧!$A$3:$N$19998,13,FALSE),\"0\")","v":0},{"$f":"IFERROR(VLOOKUP($C10,料理一覧!$A$3:$N$19998,14,FALSE),\"0\")","v":0},{"$f":"IFERROR(VLOOKUP($D10,料理一覧!$A$3:$N$19998,4,FALSE),\"0\")","v":0},{"$f":"IFERROR(VLOOKUP($D10,料理一覧!$A$3:$N$19998,5,FALSE),\"0\")","v":0},{"$f":"IFERROR(VLOOKUP($D10,料理一覧!$A$3:$N$19998,6,FALSE),\"0\")","v":0},{"$f":"IFERROR(VLOOKUP($D10,料理一覧!$A$3:$N$19998,7,FALSE),\"0\")","v":0},{"$f":"IFERROR(VLOOKUP($D10,料理一覧!$A$3:$N$19998,8,FALSE),\"0\")","v":0},{"$f":"IFERROR(VLOOKUP($D10,料理一覧!$A$3:$N$19998,9,FALSE),\"0\")","v":0},{"$f":"IFERROR(VLOOKUP($D10,料理一覧!$A$3:$N$19998,10,FALSE),\"0\")","v":0},{"$f":"IFERROR(VLOOKUP($D10,料理一覧!$A$3:$N$19998,11,FALSE),\"0\")","v":0},{"$f":"IFERROR(VLOOKUP($D10,料理一覧!$A$3:$N$19998,12,FALSE),\"0\")","v":0},{"$f":"IFERROR(VLOOKUP($D10,料理一覧!$A$3:$N$19998,13,FALSE),\"0\")","v":0},{"$f":"IFERROR(VLOOKUP($D10,料理一覧!$A$3:$N$19998,14,FALSE),\"0\")","v":0},{"$f":"IFERROR(VLOOKUP($E10,料理一覧!$A$3:$N$19998,4,FALSE),\"0\")","v":0},{"$f":"IFERROR(VLOOKUP($E10,料理一覧!$A$3:$N$19998,5,FALSE),\"0\")","v":0},{"$f":"IFERROR(VLOOKUP($E10,料理一覧!$A$3:$N$19998,6,FALSE),\"0\")","v":0},{"$f":"IFERROR(VLOOKUP($E10,料理一覧!$A$3:$N$19998,7,FALSE),\"0\")","v":0},{"$f":"IFERROR(VLOOKUP($E10,料理一覧!$A$3:$N$19998,8,FALSE),\"0\")","v":0},{"$f":"IFERROR(VLOOKUP($E10,料理一覧!$A$3:$N$19998,9,FALSE),\"0\")","v":0},{"$f":"IFERROR(VLOOKUP($E10,料理一覧!$A$3:$N$19998,10,FALSE),\"0\")","v":0},{"$f":"IFERROR(VLOOKUP($E10,料理一覧!$A$3:$N$19998,11,FALSE),\"0\")","v":0},{"$f":"IFERROR(VLOOKUP($E10,料理一覧!$A$3:$N$19998,12,FALSE),\"0\")","v":0},{"$f":"IFERROR(VLOOKUP($E10,料理一覧!$A$3:$N$19998,13,FALSE),\"0\")","v":0},{"$f":"IFERROR(VLOOKUP($E10,料理一覧!$A$3:$N$19998,14,FALSE),\"0\")","v":0},{"$f":"IFERROR(VLOOKUP($F10,料理一覧!$A$3:$N$19998,4,FALSE),\"0\")","v":0},{"$f":"IFERROR(VLOOKUP($F10,料理一覧!$A$3:$N$19998,5,FALSE),\"0\")","v":0},{"$f":"IFERROR(VLOOKUP($F10,料理一覧!$A$3:$N$19998,6,FALSE),\"0\")","v":0},{"$f":"IFERROR(VLOOKUP($F10,料理一覧!$A$3:$N$19998,7,FALSE),\"0\")","v":0},{"$f":"IFERROR(VLOOKUP($F10,料理一覧!$A$3:$N$19998,8,FALSE),\"0\")","v":0},{"$f":"IFERROR(VLOOKUP($F10,料理一覧!$A$3:$N$19998,9,FALSE),\"0\")","v":0},{"$f":"IFERROR(VLOOKUP($F10,料理一覧!$A$3:$N$19998,10,FALSE),\"0\")","v":0},{"$f":"IFERROR(VLOOKUP($F10,料理一覧!$A$3:$N$19998,11,FALSE),\"0\")","v":0},{"$f":"IFERROR(VLOOKUP($F10,料理一覧!$A$3:$N$19998,12,FALSE),\"0\")","v":0},{"$f":"IFERROR(VLOOKUP($F10,料理一覧!$A$3:$N$19998,13,FALSE),\"0\")","v":0},{"$f":"IFERROR(VLOOKUP($F10,料理一覧!$A$3:$N$19998,14,FALSE),\"0\")","v":0},{"$f":"IFERROR(VLOOKUP($G10,料理一覧!$A$3:$N$19998,4,FALSE),\"0\")","v":0},{"$f":"IFERROR(VLOOKUP($G10,料理一覧!$A$3:$N$19998,5,FALSE),\"0\")","v":0},{"$f":"IFERROR(VLOOKUP($G10,料理一覧!$A$3:$N$19998,6,FALSE),\"0\")","v":0},{"$f":"IFERROR(VLOOKUP($G10,料理一覧!$A$3:$N$19998,7,FALSE),\"0\")","v":0},{"$f":"IFERROR(VLOOKUP($G10,料理一覧!$A$3:$N$19998,8,FALSE),\"0\")","v":0},{"$f":"IFERROR(VLOOKUP($G10,料理一覧!$A$3:$N$19998,9,FALSE),\"0\")","v":0},{"$f":"IFERROR(VLOOKUP($G10,料理一覧!$A$3:$N$19998,10,FALSE),\"0\")","v":0},{"$f":"IFERROR(VLOOKUP($G10,料理一覧!$A$3:$N$19998,11,FALSE),\"0\")","v":0},{"$f":"IFERROR(VLOOKUP($G10,料理一覧!$A$3:$N$19998,12,FALSE),\"0\")","v":0},{"$f":"IFERROR(VLOOKUP($G10,料理一覧!$A$3:$N$19998,13,FALSE),\"0\")","v":0},{"$f":"IFERROR(VLOOKUP($G10,料理一覧!$A$3:$N$19998,14,FALSE),\"0\")","v":0},{"$f":"IFERROR(VLOOKUP($H10,料理一覧!$A$3:$N$19998,4,FALSE),\"0\")","v":0},{"$f":"IFERROR(VLOOKUP($H10,料理一覧!$A$3:$N$19998,5,FALSE),\"0\")","v":0},{"$f":"IFERROR(VLOOKUP($H10,料理一覧!$A$3:$N$19998,6,FALSE),\"0\")","v":0},{"$f":"IFERROR(VLOOKUP($H10,料理一覧!$A$3:$N$19998,7,FALSE),\"0\")","v":0},{"$f":"IFERROR(VLOOKUP($H10,料理一覧!$A$3:$N$19998,8,FALSE),\"0\")","v":0},{"$f":"IFERROR(VLOOKUP($H10,料理一覧!$A$3:$N$19998,9,FALSE),\"0\")","v":0},{"$f":"IFERROR(VLOOKUP($H10,料理一覧!$A$3:$N$19998,10,FALSE),\"0\")","v":0},{"$f":"IFERROR(VLOOKUP($H10,料理一覧!$A$3:$N$19998,11,FALSE),\"0\")","v":0},{"$f":"IFERROR(VLOOKUP($H10,料理一覧!$A$3:$N$19998,12,FALSE),\"0\")","v":0},{"$f":"IFERROR(VLOOKUP($H10,料理一覧!$A$3:$N$19998,13,FALSE),\"0\")","v":0},{"$f":"IFERROR(VLOOKUP($H10,料理一覧!$A$3:$N$19998,14,FALSE),\"0\")","v":0},{"$f":"IFERROR(VLOOKUP($I10,料理一覧!$A$3:$N$19998,4,FALSE),\"0\")","v":0},{"$f":"IFERROR(VLOOKUP($I10,料理一覧!$A$3:$N$19998,5,FALSE),\"0\")","v":0},{"$f":"IFERROR(VLOOKUP($I10,料理一覧!$A$3:$N$19998,6,FALSE),\"0\")","v":0},{"$f":"IFERROR(VLOOKUP($I10,料理一覧!$A$3:$N$19998,7,FALSE),\"0\")","v":0},{"$f":"IFERROR(VLOOKUP($I10,料理一覧!$A$3:$N$19998,8,FALSE),\"0\")","v":0},{"$f":"IFERROR(VLOOKUP($I10,料理一覧!$A$3:$N$19998,9,FALSE),\"0\")","v":0},{"$f":"IFERROR(VLOOKUP($I10,料理一覧!$A$3:$N$19998,10,FALSE),\"0\")","v":0},{"$f":"IFERROR(VLOOKUP($I10,料理一覧!$A$3:$N$19998,11,FALSE),\"0\")","v":0},{"$f":"IFERROR(VLOOKUP($I10,料理一覧!$A$3:$N$19998,12,FALSE),\"0\")","v":0},{"$f":"IFERROR(VLOOKUP($I10,料理一覧!$A$3:$N$19998,13,FALSE),\"0\")","v":0},{"$f":"IFERROR(VLOOKUP($I10,料理一覧!$A$3:$N$19998,14,FALSE),\"0\")","v":0},{"$f":"IFERROR(VLOOKUP($J10,料理一覧!$A$3:$N$19998,4,FALSE),\"0\")","v":0},{"$f":"IFERROR(VLOOKUP($J10,料理一覧!$A$3:$N$19998,5,FALSE),\"0\")","v":0},{"$f":"IFERROR(VLOOKUP($J10,料理一覧!$A$3:$N$19998,6,FALSE),\"0\")","v":0},{"$f":"IFERROR(VLOOKUP($J10,料理一覧!$A$3:$N$19998,7,FALSE),\"0\")","v":0},{"$f":"IFERROR(VLOOKUP($J10,料理一覧!$A$3:$N$19998,8,FALSE),\"0\")","v":0},{"$f":"IFERROR(VLOOKUP($J10,料理一覧!$A$3:$N$19998,9,FALSE),\"0\")","v":0},{"$f":"IFERROR(VLOOKUP($J10,料理一覧!$A$3:$N$19998,10,FALSE),\"0\")","v":0},{"$f":"IFERROR(VLOOKUP($J10,料理一覧!$A$3:$N$19998,11,FALSE),\"0\")","v":0},{"$f":"IFERROR(VLOOKUP($J10,料理一覧!$A$3:$N$19998,12,FALSE),\"0\")","v":0},{"$f":"IFERROR(VLOOKUP($J10,料理一覧!$A$3:$N$19998,13,FALSE),\"0\")","v":0},{"$f":"IFERROR(VLOOKUP($J10,料理一覧!$A$3:$N$19998,14,FALSE),\"0\")","v":0},{"$f":"IFERROR(VLOOKUP($K10,料理一覧!$A$3:$N$19998,4,FALSE),\"0\")","v":0},{"$f":"IFERROR(VLOOKUP($K10,料理一覧!$A$3:$N$19998,5,FALSE),\"0\")","v":0},{"$f":"IFERROR(VLOOKUP($K10,料理一覧!$A$3:$N$19998,6,FALSE),\"0\")","v":0},{"$f":"IFERROR(VLOOKUP($K10,料理一覧!$A$3:$N$19998,7,FALSE),\"0\")","v":0},{"$f":"IFERROR(VLOOKUP($K10,料理一覧!$A$3:$N$19998,8,FALSE),\"0\")","v":0},{"$f":"IFERROR(VLOOKUP($K10,料理一覧!$A$3:$N$19998,9,FALSE),\"0\")","v":0},{"$f":"IFERROR(VLOOKUP($K10,料理一覧!$A$3:$N$19998,10,FALSE),\"0\")","v":0},{"$f":"IFERROR(VLOOKUP($K10,料理一覧!$A$3:$N$19998,11,FALSE),\"0\")","v":0},{"$f":"IFERROR(VLOOKUP($K10,料理一覧!$A$3:$N$19998,12,FALSE),\"0\")","v":0},{"$f":"IFERROR(VLOOKUP($K10,料理一覧!$A$3:$N$19998,13,FALSE),\"0\")","v":0},{"$f":"IFERROR(VLOOKUP($K10,料理一覧!$A$3:$N$19998,14,FALSE),\"0\")","v":0},0,0,0,0,0,0,0,0,0,0,0]
[7,"(金)",null,null,null,null,null,null,null,null,null,{"$f":"IFERROR(VLOOKUP($C11,料理一覧!$A$3:$N$19998,3,FALSE),\"\")","v":0},{"$f":"IFERROR(VLOOKUP($D11,料理一覧!$A$3:$N$19998,3,FALSE),\"\")","v":0},{"$f":"IFERROR(VLOOKUP($E11,料理一覧!$A$3:$N$19998,3,FALSE),\"\")","v":0},{"$f":"IFERROR(VLOOKUP($F11,料理一覧!$A$3:$N$19998,3,FALSE),\"\")","v":0},{"$f":"IFERROR(VLOOKUP($G11,料理一覧!$A$3:$N$19998,3,FALSE),\"\")","v":0},{"$f":"IFERROR(VLOOKUP($H11,料理一覧!$A$3:$N$19998,3,FALSE),\"\")","v":0},{"$f":"IFERROR(VLOOKUP($I11,料理一覧!$A$3:$N$19998,3,FALSE),\"\")","v":0},{"$f":"IFERROR(VLOOKUP($J11,料理一覧!$A$3:$N$19998,3,FALSE),\"\")","v":0},{"$f":"IFERROR(VLOOKUP($K11,料理一覧!$A$3:$N$19998,3,FALSE),\"\")","v":0},0,0,0,0,0,0,0,0,0,0,0,{"$f":"IFERROR(VLOOKUP($C11,料理一覧!$A$3:$N$19998,4,FALSE),\"0\")","v":0},{"$f":"IFERROR(VLOOKUP($C11,料理一覧!$A$3:$N$19998,5,FALSE),\"0\")","v":0},{"$f":"IFERROR(VLOOKUP($C11,料理一覧!$A$3:$N$19998,6,FALSE),\"0\")","v":0},{"$f":"IFERROR(VLOOKUP($C11,料理一覧!$A$3:$N$19998,7,FALSE),\"0\")","v":0},{"$f":"IFERROR(VLOOKUP($C11,料理一覧!$A$3:$N$19998,8,FALSE),\"0\")","v":0},{"$f":"IFERROR(VLOOKUP($C11,料理一覧!$A$3:$N$19998,9,FALSE),\"0\")","v":0},{"$f":"IFERROR(VLOOKUP($C11,料理一覧!$A$3:$N$19998,10,FALSE),\"0\")","v":0},{"$f":"IFERROR(VLOOKUP($C11,料理一覧!$A$3:$N$19998,11,FALSE),\"0\")","v":0},{"$f":"IFERROR(VLOOKUP($C11,料理一覧!$A$3:$N$19998,12,FALSE),\"0\")","v":0},{"$f":"IFERROR(VLOOKUP($C11,料理一覧!$A$3:$N$19998,13,FALSE),\"0\")","v":0},{"$f":"IFERROR(VLOOKUP($C11,料理一覧!$A$3:$N$19998,14,FALSE),\"0\")","v":0},{"$f":"IFERROR(VLOOKUP($D11,料理一覧!$A$3:$N$19998,4,FALSE),\"0\")","v":0},{"$f":"IFERROR(VLOOKUP($D11,料理一覧!$A$3:$N$19998,5,FALSE),\"0\")","v":0},{"$f":"IFERROR(VLOOKUP($D11,料理一覧!$A$3:$N$19998,6,FALSE),\"0\")","v":0},{"$f":"IFERROR(VLOOKUP($D11,料理一覧!$A$3:$N$19998,7,FALSE),\"0\")","v":0},{"$f":"IFERROR(VLOOKUP($D11,料理一覧!$A$3:$N$19998,8,FALSE),\"0\")","v":0},{"$f":"IFERROR(VLOOKUP($D11,料理一覧!$A$3:$N$19998,9,FALSE),\"0\")","v":0},{"$f":"IFERROR(VLOOKUP($D11,料理一覧!$A$3:$N$19998,10,FALSE),\"0\")","v":0},{"$f":"IFERROR(VLOOKUP($D11,料理一覧!$A$3:$N$19998,11,FALSE),\"0\")","v":0},{"$f":"IFERROR(VLOOKUP($D11,料理一覧!$A$3:$N$19998,12,FALSE),\"0\")","v":0},{"$f":"IFERROR(VLOOKUP($D11,料理一覧!$A$3:$N$19998,13,FALSE),\"0\")","v":0},{"$f":"IFERROR(VLOOKUP($D11,料理一覧!$A$3:$N$19998,14,FALSE),\"0\")","v":0},{"$f":"IFERROR(VLOOKUP($E11,料理一覧!$A$3:$N$19998,4,FALSE),\"0\")","v":0},{"$f":"IFERROR(VLOOKUP($E11,料理一覧!$A$3:$N$19998,5,FALSE),\"0\")","v":0},{"$f":"IFERROR(VLOOKUP($E11,料理一覧!$A$3:$N$19998,6,FALSE),\"0\")","v":0},{"$f":"IFERROR(VLOOKUP($E11,料理一覧!$A$3:$N$19998,7,FALSE),\"0\")","v":0},{"$f":"IFERROR(VLOOKUP($E11,料理一覧!$A$3:$N$19998,8,FALSE),\"0\")","v":0},{"$f":"IFERROR(VLOOKUP($E11,料理一覧!$A$3:$N$19998,9,FALSE),\"0\")","v":0},{"$f":"IFERROR(VLOOKUP($E11,料理一覧!$A$3:$N$19998,10,FALSE),\"0\")","v":0},{"$f":"IFERROR(VLOOKUP($E11,料理一覧!$A$3:$N$19998,11,FALSE),\"0\")","v":0},{"$f":"IFERROR(VLOOKUP($E11,料理一覧!$A$3:$N$19998,12,FALSE),\"0\")","v":0},{"$f":"IFERROR(VLOOKUP($E11,料理一覧!$A$3:$N$19998,13,FALSE),\"0\")","v":0},{"$f":"IFERROR(VLOOKUP($E11,料理一覧!$A$3:$N$19998,14,FALSE),\"0\")","v":0},{"$f":"IFERROR(VLOOKUP($F11,料理一覧!$A$3:$N$19998,4,FALSE),\"0\")","v":0},{"$f":"IFERROR(VLOOKUP($F11,料理一覧!$A$3:$N$19998,5,FALSE),\"0\")","v":0},{"$f":"IFERROR(VLOOKUP($F11,料理一覧!$A$3:$N$19998,6,FALSE),\"0\")","v":0},{"$f":"IFERROR(VLOOKUP($F11,料理一覧!$A$3:$N$19998,7,FALSE),\"0\")","v":0},{"$f":"IFERROR(VLOOKUP($F11,料理一覧!$A$3:$N$19998,8,FALSE),\"0\")","v":0},{"$f":"IFERROR(VLOOKUP($F11,料理一覧!$A$3:$N$19998,9,FALSE),\"0\")","v":0},{"$f":"IFERROR(VLOOKUP($F11,料理一覧!$A$3:$N$19998,10,FALSE),\"0\")","v":0},{"$f":"IFERROR(VLOOKUP($F11,料理一覧!$A$3:$N$19998,11,FALSE),\"0\")","v":0},{"$f":"IFERROR(VLOOKUP($F11,料理一覧!$A$3:$N$19998,12,FALSE),\"0\")","v":0},{"$f":"IFERROR(VLOOKUP($F11,料理一覧!$A$3:$N$19998,13,FALSE),\"0\")","v":0},{"$f":"IFERROR(VLOOKUP($F11,料理一覧!$A$3:$N$19998,14,FALSE),\"0\")","v":0},{"$f":"IFERROR(VLOOKUP($G11,料理一覧!$A$3:$N$19998,4,FALSE),\"0\")","v":0},{"$f":"IFERROR(VLOOKUP($G11,料理一覧!$A$3:$N$19998,5,FALSE),\"0\")","v":0},{"$f":"IFERROR(VLOOKUP($G11,料理一覧!$A$3:$N$19998,6,FALSE),\"0\")","v":0},{"$f":"IFERROR(VLOOKUP($G11,料理一覧!$A$3:$N$19998,7,FALSE),\"0\")","v":0},{"$f":"IFERROR(VLOOKUP($G11,料理一覧!$A$3:$N$19998,8,FALSE),\"0\")","v":0},{"$f":"IFERROR(VLOOKUP($G11,料理一覧!$A$3:$N$19998,9,FALSE),\"0\")","v":0},{"$f":"IFERROR(VLOOKUP($G11,料理一覧!$A$3:$N$19998,10,FALSE),\"0\")","v":0},{"$f":"IFERROR(VLOOKUP($G11,料理一覧!$A$3:$N$19998,11,FALSE),\"0\")","v":0},{"$f":"IFERROR(VLOOKUP($G11,料理一覧!$A$3:$N$19998,12,FALSE),\"0\")","v":0},{"$f":"IFERROR(VLOOKUP($G11,料理一覧!$A$3:$N$19998,13,FALSE),\"0\")","v":0},{"$f":"IFERROR(VLOOKUP($G11,料理一覧!$A$3:$N$19998,14,FALSE),\"0\")","v":0},{"$f":"IFERROR(VLOOKUP($H11,料理一覧!$A$3:$N$19998,4,FALSE),\"0\")","v":0},{"$f":"IFERROR(VLOOKUP($H11,料理一覧!$A$3:$N$19998,5,FALSE),\"0\")","v":0},{"$f":"IFERROR(VLOOKUP($H11,料理一覧!$A$3:$N$19998,6,FALSE),\"0\")","v":0},{"$f":"IFERROR(VLOOKUP($H11,料理一覧!$A$3:$N$19998,7,FALSE),\"0\")","v":0},{"$f":"IFERROR(VLOOKUP($H11,料理一覧!$A$3:$N$19998,8,FALSE),\"0\")","v":0},{"$f":"IFERROR(VLOOKUP($H11,料理一覧!$A$3:$N$19998,9,FALSE),\"0\")","v":0},{"$f":"IFERROR(VLOOKUP($H11,料理一覧!$A$3:$N$19998,10,FALSE),\"0\")","v":0},{"$f":"IFERROR(VLOOKUP($H11,料理一覧!$A$3:$N$19998,11,FALSE),\"0\")","v":0},{"$f":"IFERROR(VLOOKUP($H11,料理一覧!$A$3:$N$19998,12,FALSE),\"0\")","v":0},{"$f":"IFERROR(VLOOKUP($H11,料理一覧!$A$3:$N$19998,13,FALSE),\"0\")","v":0},{"$f":"IFERROR(VLOOKUP($H11,料理一覧!$A$3:$N$19998,14,FALSE),\"0\")","v":0},{"$f":"IFERROR(VLOOKUP($I11,料理一覧!$A$3:$N$19998,4,FALSE),\"0\")","v":0},{"$f":"IFERROR(VLOOKUP($I11,料理一覧!$A$3:$N$19998,5,FALSE),\"0\")","v":0},{"$f":"IFERROR(VLOOKUP($I11,料理一覧!$A$3:$N$19998,6,FALSE),\"0\")","v":0},{"$f":"IFERROR(VLOOKUP($I11,料理一覧!$A$3:$N$19998,7,FALSE),\"0\")","v":0},{"$f":"IFERROR(VLOOKUP($I11,料理一覧!$A$3:$N$19998,8,FALSE),\"0\")","v":0},{"$f":"IFERROR(VLOOKUP($I11,料理一覧!$A$3:$N$19998,9,FALSE),\"0\")","v":0},{"$f":"IFERROR(VLOOKUP($I11,料理一覧!$A$3:$N$19998,10,FALSE),\"0\")","v":0},{"$f":"IFERROR(VLOOKUP($I11,料理一覧!$A$3:$N$19998,11,FALSE),\"0\")","v":0},{"$f":"IFERROR(VLOOKUP($I11,料理一覧!$A$3:$N$19998,12,FALSE),\"0\")","v":0},{"$f":"IFERROR(VLOOKUP($I11,料理一覧!$A$3:$N$19998,13,FALSE),\"0\")","v":0},{"$f":"IFERROR(VLOOKUP($I11,料理一覧!$A$3:$N$19998,14,FALSE),\"0\")","v":0},{"$f":"IFERROR(VLOOKUP($J11,料理一覧!$A$3:$N$19998,4,FALSE),\"0\")","v":0},{"$f":"IFERROR(VLOOKUP($J11,料理一覧!$A$3:$N$19998,5,FALSE),\"0\")","v":0},{"$f":"IFERROR(VLOOKUP($J11,料理一覧!$A$3:$N$19998,6,FALSE),\"0\")","v":0},{"$f":"IFERROR(VLOOKUP($J11,料理一覧!$A$3:$N$19998,7,FALSE),\"0\")","v":0},{"$f":"IFERROR(VLOOKUP($J11,料理一覧!$A$3:$N$19998,8,FALSE),\"0\")","v":0},{"$f":"IFERROR(VLOOKUP($J11,料理一覧!$A$3:$N$19998,9,FALSE),\"0\")","v":0},{"$f":"IFERROR(VLOOKUP($J11,料理一覧!$A$3:$N$19998,10,FALSE),\"0\")","v":0},{"$f":"IFERROR(VLOOKUP($J11,料理一覧!$A$3:$N$19998,11,FALSE),\"0\")","v":0},{"$f":"IFERROR(VLOOKUP($J11,料理一覧!$A$3:$N$19998,12,FALSE),\"0\")","v":0},{"$f":"IFERROR(VLOOKUP($J11,料理一覧!$A$3:$N$19998,13,FALSE),\"0\")","v":0},{"$f":"IFERROR(VLOOKUP($J11,料理一覧!$A$3:$N$19998,14,FALSE),\"0\")","v":0},{"$f":"IFERROR(VLOOKUP($K11,料理一覧!$A$3:$N$19998,4,FALSE),\"0\")","v":0},{"$f":"IFERROR(VLOOKUP($K11,料理一覧!$A$3:$N$19998,5,FALSE),\"0\")","v":0},{"$f":"IFERROR(VLOOKUP($K11,料理一覧!$A$3:$N$19998,6,FALSE),\"0\")","v":0},{"$f":"IFERROR(VLOOKUP($K11,料理一覧!$A$3:$N$19998,7,FALSE),\"0\")","v":0},{"$f":"IFERROR(VLOOKUP($K11,料理一覧!$A$3:$N$19998,8,FALSE),\"0\")","v":0},{"$f":"IFERROR(VLOOKUP($K11,料理一覧!$A$3:$N$19998,9,FALSE),\"0\")","v":0},{"$f":"IFERROR(VLOOKUP($K11,料理一覧!$A$3:$N$19998,10,FALSE),\"0\")","v":0},{"$f":"IFERROR(VLOOKUP($K11,料理一覧!$A$3:$N$19998,11,FALSE),\"0\")","v":0},{"$f":"IFERROR(VLOOKUP($K11,料理一覧!$A$3:$N$19998,12,FALSE),\"0\")","v":0},{"$f":"IFERROR(VLOOKUP($K11,料理一覧!$A$3:$N$19998,13,FALSE),\"0\")","v":0},{"$f":"IFERROR(VLOOKUP($K11,料理一覧!$A$3:$N$19998,14,FALSE),\"0\")","v":0},0,0,0,0,0,0,0,0,0,0,0]
[8,"(土)",null,null,null,null,null,null,null,null,null,{"$f":"IFERROR(VLOOKUP($C12,料理一覧!$A$3:$N$19998,3,FALSE),\"\")","v":0},{"$f":"IFERROR(VLOOKUP($D12,料理一覧!$A$3:$N$19998,3,FALSE),\"\")","v":0},{"$f":"IFERROR(VLOOKUP($E12,料理一覧!$A$3:$N$19998,3,FALSE),\"\")","v":0},{"$f":"IFERROR(VLOOKUP($F12,料理一覧!$A$3:$N$19998,3,FALSE),\"\")","v":0},{"$f":"IFERROR(VLOOKUP($G12,料理一覧!$A$3:$N$19998,3,FALSE),\"\")","v":0},{"$f":"IFERROR(VLOOKUP($H12,料理一覧!$A$3:$N$19998,3,FALSE),\"\")","v":0},{"$f":"IFERROR(VLOOKUP($I12,料理一覧!$A$3:$N$19998,3,FALSE),\"\")","v":0},{"$f":"IFERROR(VLOOKUP($J12,料理一覧!$A$3:$N$19998,3,FALSE),\"\")","v":0},{"$f":"IFERROR(VLOOKUP($K12,料理一覧!$A$3:$N$19998,3,FALSE),\"\")","v":0},0,0,0,0,0,0,0,0,0,0,0,{"$f":"IFERROR(VLOOKUP($C12,料理一覧!$A$3:$N$19998,4,FALSE),\"0\")","v":0},{"$f":"IFERROR(VLOOKUP($C12,料理一覧!$A$3:$N$19998,5,FALSE),\"0\")","v":0},{"$f":"IFERROR(VLOOKUP($C12,料理一覧!$A$3:$N$19998,6,FALSE),\"0\")","v":0},{"$f":"IFERROR(VLOOKUP($C12,料理一覧!$A$3:$N$19998,7,FALSE),\"0\")","v":0},{"$f":"IFERROR(VLOOKUP($C12,料理一覧!$A$3:$N$19998,8,FALSE),\"0\")","v":0},{"$f":"IFERROR(VLOOKUP($C12,料理一覧!$A$3:$N$19998,9,FALSE),\"0\")","v":0},{"$f":"IFERROR(VLOOKUP($C12,料理一覧!$A$3:$N$19998,10,FALSE),\"0\")","v":0},{"$f":"IFERROR(VLOOKUP($C12,料理一覧!$A$3:$N$19998,11,FALSE),\"0\")","v":0},{"$f":"IFERROR(VLOOKUP($C12,料理一覧!$A$3:$N$19998,12,FALSE),\"0\")","v":0},{"$f":"IFERROR(VLOOKUP($C12,料理一覧!$A$3:$N$19998,13,FALSE),\"0\")","v":0},{"$f":"IFERROR(VLOOKUP($C12,料理一覧!$A$3:$N$19998,14,FALSE),\"0\")","v":0},{"$f":"IFERROR(VLOOKUP($D12,料理一覧!$A$3:$N$19998,4,FALSE),\"0\")","v":0},{"$f":"IFERROR(VLOOKUP($D12,料理一覧!$A$3:$N$19998,5,FALSE),\"0\")","v":0},{"$f":"IFERROR(VLOOKUP($D12,料理一覧!$A$3:$N$19998,6,FALSE),\"0\")","v":0},{"$f":"IFERROR(VLOOKUP($D12,料理一覧!$A$3:$N$19998,7,FALSE),\"0\")","v":0},{"$f":"IFERROR(VLOOKUP($D12,料理一覧!$A$3:$N$19998,8,FALSE),\"0\")","v":0},{"$f":"IFERROR(VLOOKUP($D12,料理一覧!$A$3:$N$19998,9,FALSE),\"0\")","v":0},{"$f":"IFERROR(VLOOKUP($D12,料理一覧!$A$3:$N$19998,10,FALSE),\"0\")","v":0},{"$f":"IFERROR(VLOOKUP($D12,料理一覧!$A$3:$N$19998,11,FALSE),\"0\")","v":0},{"$f":"IFERROR(VLOOKUP($D12,料理一覧!$A$3:$N$19998,12,FALSE),\"0\")","v":0},{"$f":"IFERROR(VLOOKUP($D12,料理一覧!$A$3:$N$19998,13,FALSE),\"0\")","v":0},{"$f":"IFERROR(VLOOKUP($D12,料理一覧!$A$3:$N$19998,14,FALSE),\"0\")","v":0},{"$f":"IFERROR(VLOOKUP($E12,料理一覧!$A$3:$N$19998,4,FALSE),\"0\")","v":0},{"$f":"IFERROR(VLOOKUP($E12,料理一覧!$A$3:$N$19998,5,FALSE),\"0\")","v":0},{"$f":"IFERROR(VLOOKUP($E12,料理一覧!$A$3:$N$19998,6,FALSE),\"0\")","v":0},{"$f":"IFERROR(VLOOKUP($E12,料理一覧!$A$3:$N$19998,7,FALSE),\"0\")","v":0},{"$f":"IFERROR(VLOOKUP($E12,料理一覧!$A$3:$N$19998,8,FALSE),\"0\")","v":0},{"$f":"IFERROR(VLOOKUP($E12,料理一覧!$A$3:$N$19998,9,FALSE),\"0\")","v":0},{"$f":"IFERROR(VLOOKUP($E12,料理一覧!$A$3:$N$19998,10,FALSE),\"0\")","v":0},{"$f":"IFERROR(VLOOKUP($E12,料理一覧!$A$3:$N$19998,11,FALSE),\"0\")","v":0},{"$f":"IFERROR(VLOOKUP($E12,料理一覧!$A$3:$N$19998,12,FALSE),\"0\")","v":0},{"$f":"IFERROR(VLOOKUP($E12,料理一覧!$A$3:$N$19998,13,FALSE),\"0\")","v":0},{"$f":"IFERROR(VLOOKUP($E12,料理一覧!$A$3:$N$19998,14,FALSE),\"0\")","v":0},{"$f":"IFERROR(VLOOKUP($F12,料理一覧!$A$3:$N$19998,4,FALSE),\"0\")","v":0},{"$f":"IFERROR(VLOOKUP($F12,料理一覧!$A$3:$N$19998,5,FALSE),\"0\")","v":0},{"$f":"IFERROR(VLOOKUP($F12,料理一覧!$A$3:$N$19998,6,FALSE),\"0\")","v":0},{"$f":"IFERROR(VLOOKUP($F12,料理一覧!$A$3:$N$19998,7,FALSE),\"0\")","v":0},{"$f":"IFERROR(VLOOKUP($F12,料理一覧!$A$3:$N$19998,8,FALSE),\"0\")","v":0},{"$f":"IFERROR(VLOOKUP($F12,料理一覧!$A$3:$N$19998,9,FALSE),\"0\")","v":0},{"$f":"IFERROR(VLOOKUP($F12,料理一覧!$A$3:$N$19998,10,FALSE),\"0\")","v":0},{"$f":"IFERROR(VLOOKUP($F12,料理一覧!$A$3:$N$19998,11,FALSE),\"0\")","v":0},{"$f":"IFERROR(VLOOKUP($F12,料理一覧!$A$3:$N$19998,12,FALSE),\"0\")","v":0},{"$f":"IFERROR(VLOOKUP($F12,料理一覧!$A$3:$N$19998,13,FALSE),\"0\")","v":0},{"$f":"IFERROR(VLOOKUP($F12,料理一覧!$A$3:$N$19998,14,FALSE),\"0\")","v":0},{"$f":"IFERROR(VLOOKUP($G12,料理一覧!$A$3:$N$19998,4,FALSE),\"0\")","v":0},{"$f":"IFERROR(VLOOKUP($G12,料理一覧!$A$3:$N$19998,5,FALSE),\"0\")","v":0},{"$f":"IFERROR(VLOOKUP($G12,料理一覧!$A$3:$N$19998,6,FALSE),\"0\")","v":0},{"$f":"IFERROR(VLOOKUP($G12,料理一覧!$A$3:$N$19998,7,FALSE),\"0\")","v":0},{"$f":"IFERROR(VLOOKUP($G12,料理一覧!$A$3:$N$19998,8,FALSE),\"0\")","v":0},{"$f":"IFERROR(VLOOKUP($G12,料理一覧!$A$3:$N$19998,9,FALSE),\"0\")","v":0},{"$f":"IFERROR(VLOOKUP($G12,料理一覧!$A$3:$N$19998,10,FALSE),\"0\")","v":0},{"$f":"IFERROR(VLOOKUP($G12,料理一覧!$A$3:$N$19998,11,FALSE),\"0\")","v":0},{"$f":"IFERROR(VLOOKUP($G12,料理一覧!$A$3:$N$19998,12,FALSE),\"0\")","v":0},{"$f":"IFERROR(VLOOKUP($G12,料理一覧!$A$3:$N$19998,13,FALSE),\"0\")","v":0},{"$f":"IFERROR(VLOOKUP($G12,料理一覧!$A$3:$N$19998,14,FALSE),\"0\")","v":0},{"$f":"IFERROR(VLOOKUP($H12,料理一覧!$A$3:$N$19998,4,FALSE),\"0\")","v":0},{"$f":"IFERROR(VLOOKUP($H12,料理一覧!$A$3:$N$19998,5,FALSE),\"0\")","v":0},{"$f":"IFERROR(VLOOKUP($H12,料理一覧!$A$3:$N$19998,6,FALSE),\"0\")","v":0},{"$f":"IFERROR(VLOOKUP($H12,料理一覧!$A$3:$N$19998,7,FALSE),\"0\")","v":0},{"$f":"IFERROR(VLOOKUP($H12,料理一覧!$A$3:$N$19998,8,FALSE),\"0\")","v":0},{"$f":"IFERROR(VLOOKUP($H12,料理一覧!$A$3:$N$19998,9,FALSE),\"0\")","v":0},{"$f":"IFERROR(VLOOKUP($H12,料理一覧!$A$3:$N$19998,10,FALSE),\"0\")","v":0},{"$f":"IFERROR(VLOOKUP($H12,料理一覧!$A$3:$N$19998,11,FALSE),\"0\")","v":0},{"$f":"IFERROR(VLOOKUP($H12,料理一覧!$A$3:$N$19998,12,FALSE),\"0\")","v":0},{"$f":"IFERROR(VLOOKUP($H12,料理一覧!$A$3:$N$19998,13,FALSE),\"0\")","v":0},{"$f":"IFERROR(VLOOKUP($H12,料理一覧!$A$3:$N$19998,14,FALSE),\"0\")","v":0},{"$f":"IFERROR(VLOOKUP($I12,料理一覧!$A$3:$N$19998,4,FALSE),\"0\")","v":0},{"$f":"IFERROR(VLOOKUP($I12,料理一覧!$A$3:$N$19998,5,FALSE),\"0\")","v":0},{"$f":"IFERROR(VLOOKUP($I12,料理一覧!$A$3:$N$19998,6,FALSE),\"0\")","v":0},{"$f":"IFERROR(VLOOKUP($I12,料理一覧!$A$3:$N$19998,7,FALSE),\"0\")","v":0},{"$f":"IFERROR(VLOOKUP($I12,料理一覧!$A$3:$N$19998,8,FALSE),\"0\")","v":0},{"$f":"IFERROR(VLOOKUP($I12,料理一覧!$A$3:$N$19998,9,FALSE),\"0\")","v":0},{"$f":"IFERROR(VLOOKUP($I12,料理一覧!$A$3:$N$19998,10,FALSE),\"0\")","v":0},{"$f":"IFERROR(VLOOKUP($I12,料理一覧!$A$3:$N$19998,11,FALSE),\"0\")","v":0},{"$f":"IFERROR(VLOOKUP($I12,料理一覧!$A$3:$N$19998,12,FALSE),\"0\")","v":0},{"$f":"IFERROR(VLOOKUP($I12,料理一覧!$A$3:$N$19998,13,FALSE),\"0\")","v":0},{"$f":"IFERROR(VLOOKUP($I12,料理一覧!$A$3:$N$19998,14,FALSE),\"0\")","v":0},{"$f":"IFERROR(VLOOKUP($J12,料理一覧!$A$3:$N$19998,4,FALSE),\"0\")","v":0},{"$f":"IFERROR(VLOOKUP($J12,料理一覧!$A$3:$N$19998,5,FALSE),\"0\")","v":0},{"$f":"IFERROR(VLOOKUP($J12,料理一覧!$A$3:$N$19998,6,FALSE),\"0\")","v":0},{"$f":"IFERROR(VLOOKUP($J12,料理一覧!$A$3:$N$19998,7,FALSE),\"0\")","v":0},{"$f":"IFERROR(VLOOKUP($J12,料理一覧!$A$3:$N$19998,8,FALSE),\"0\")","v":0},{"$f":"IFERROR(VLOOKUP($J12,料理一覧!$A$3:$N$19998,9,FALSE),\"0\")","v":0},{"$f":"IFERROR(VLOOKUP($J12,料理一覧!$A$3:$N$19998,10,FALSE),\"0\")","v":0},{"$f":"IFERROR(VLOOKUP($J12,料理一覧!$A$3:$N$19998,11,FALSE),\"0\")","v":0},{"$f":"IFERROR(VLOOKUP($J12,料理一覧!$A$3:$N$19998,12,FALSE),\"0\")","v":0},{"$f":"IFERROR(VLOOKUP($J12,料理一覧!$A$3:$N$19998,13,FALSE),\"0\")","v":0},{"$f":"IFERROR(VLOOKUP($J12,料理一覧!$A$3:$N$19998,14,FALSE),\"0\")","v":0},{"$f":"IFERROR(VLOOKUP($K12,料理一覧!$A$3:$N$19998,4,FALSE),\"0\")","v":0},{"$f":"IFERROR(VLOOKUP($K12,料理一覧!$A$3:$N$19998,5,FALSE),\"0\")","v":0},{"$f":"IFERROR(VLOOKUP($K12,料理一覧!$A$3:$N$19998,6,FALSE),\"0\")","v":0},{"$f":"IFERROR(VLOOKUP($K12,料理一覧!$A$3:$N$19998,7,FALSE),\"0\")","v":0},{"$f":"IFERROR(VLOOKUP($K12,料理一覧!$A$3:$N$19998,8,FALSE),\"0\")","v":0},{"$f":"IFERROR(VLOOKUP($K12,料理一覧!$A$3:$N$19998,9,FALSE),\"0\")","v":0},{"$f":"IFERROR(VLOOKUP($K12,料理一覧!$A$3:$N$19998,10,FALSE),\"0\")","v":0},{"$f":"IFERROR(VLOOKUP($K12,料理一覧!$A$3:$N$19998,11,FALSE),\"0\")","v":0},{"$f":"IFERROR(VLOOKUP($K12,料理一覧!$A$3:$N$19998,12,FALSE),\"0\")","v":0},{"$f":"IFERROR(VLOOKUP($K12,料理一覧!$A$3:$N$19998,13,FALSE),\"0\")","v":0},{"$f":"IFERROR(VLOOKUP($K12,料理一覧!$A$3:$N$19998,14,FALSE),\"0\")","v":0},0,0,0,0,0,0,0,0,0,0,0]
[9,"(日)",null,null,null,null,null,null,null,null,null,{"$f":"IFERROR(VLOOKUP($C13,料理一覧!$A$3:$N$19998,3,FALSE),\"\")","v":0},{"$f":"IFERROR(VLOOKUP($D13,料理一覧!$A$3:$N$19998,3,FALSE),\"\")","v":0},{"$f":"IFERROR(VLOOKUP($E13,料理一覧!$A$3:$N$19998,3,FALSE),\"\")","v":0},{"$f":"IFERROR(VLOOKUP($F13,料理一覧!$A$3:$N$19998,3,FALSE),\"\")","v":0},{"$f":"IFERROR(VLOOKUP($G13,料理一覧!$A$3:$N$19998,3,FALSE),\"\")","v":0},{"$f":"IFERROR(VLOOKUP($H13,料理一覧!$A$3:$N$19998,3,FALSE),\"\")","v":0},{"$f":"IFERROR(VLOOKUP($I13,料理一覧!$A$3:$N$19998,3,FALSE),\"\")","v":0},{"$f":"IFERROR(VLOOKUP($J13,料理一覧!$A$3:$N$19998,3,FALSE),\"\")","v":0},{"$f":"IFERROR(VLOOKUP($K13,料理一覧!$A$3:$N$19998,3,FALSE),\"\")","v":0},0,0,0,0,0,0,0,0,0,0,0,{"$f":"IFERROR(VLOOKUP($C13,料理一覧!$A$3:$N$19998,4,FALSE),\"0\")","v":0},{"$f":"IFERROR(VLOOKUP($C13,料理一覧!$A$3:$N$19998,5,FALSE),\"0\")","v":0},{"$f":"IFERROR(VLOOKUP($C13,料理一覧!$A$3:$N$19998,6,FALSE),\"0\")","v":0},{"$f":"IFERROR(VLOOKUP($C13,料理一覧!$A$3:$N$19998,7,FALSE),\"0\")","v":0},{"$f":"IFERROR(VLOOKUP($C13,料理一覧!$A$3:$N$19998,8,FALSE),\"0\")","v":0},{"$f":"IFERROR(VLOOKUP($C13,料理一覧!$A$3:$N$19998,9,FALSE),\"0\")","v":0},{"$f":"IFERROR(VLOOKUP($C13,料理一覧!$A$3:$N$19998,10,FALSE),\"0\")","v":0},{"$f":"IFERROR(VLOOKUP($C13,料理一覧!$A$3:$N$19998,11,FALSE),\"0\")","v":0},{"$f":"IFERROR(VLOOKUP($C13,料理一覧!$A$3:$N$19998,12,FALSE),\"0\")","v":0},{"$f":"IFERROR(VLOOKUP($C13,料理一覧!$A$3:$N$19998,13,FALSE),\"0\")","v":0},{"$f":"IFERROR(VLOOKUP($C13,料理一覧!$A$3:$N$19998,14,FALSE),\"0\")","v":0},{"$f":"IFERROR(VLOOKUP($D13,料理一覧!$A$3:$N$19998,4,FALSE),\"0\")","v":0},{"$f":"IFERROR(VLOOKUP($D13,料理一覧!$A$3:$N$19998,5,FALSE),\"0\")","v":0},{"$f":"IFERROR(VLOOKUP($D13,料理一覧!$A$3:$N$19998,6,FALSE),\"0\")","v":0},{"$f":"IFERROR(VLOOKUP($D13,料理一覧!$A$3:$N$19998,7,FALSE),\"0\")","v":0},{"$f":"IFERROR(VLOOKUP($D13,料理一覧!$A$3:$N$19998,8,FALSE),\"0\")","v":0},{"$f":"IFERROR(VLOOKUP($D13,料理一覧!$A$3:$N$19998,9,FALSE),\"0\")","v":0},{"$f":"IFERROR(VLOOKUP($D13,料理一覧!$A$3:$N$19998,10,FALSE),\"0\")","v":0},{"$f":"IFERROR(VLOOKUP($D13,料理一覧!$A$3:$N$19998,11,FALSE),\"0\")","v":0},{"$f":"IFERROR(VLOOKUP($D13,料理一覧!$A$3:$N$19998,12,FALSE),\"0\")","v":0},{"$f":"IFERROR(VLOOKUP($D13,料理一覧!$A$3:$N$19998,13,FALSE),\"0\")","v":0},{"$f":"IFERROR(VLOOKUP($D13,料理一覧!$A$3:$N$19998,14,FALSE),\"0\")","v":0},{"$f":"IFERROR(VLOOKUP($E13,料理一覧!$A$3:$N$19998,4,FALSE),\"0\")","v":0},{"$f":"IFERROR(VLOOKUP($E13,料理一覧!$A$3:$N$19998,5,FALSE),\"0\")","v":0},{"$f":"IFERROR(VLOOKUP($E13,料理一覧!$A$3:$N$19998,6,FALSE),\"0\")","v":0},{"$f":"IFERROR(VLOOKUP($E13,料理一覧!$A$3:$N$19998,7,FALSE),\"0\")","v":0},{"$f":"IFERROR(VLOOKUP($E13,料理一覧!$A$3:$N$19998,8,FALSE),\"0\")","v":0},{"$f":"IFERROR(VLOOKUP($E13,料理一覧!$A$3:$N$19998,9,FALSE),\"0\")","v":0},{"$f":"IFERROR(VLOOKUP($E13,料理一覧!$A$3:$N$19998,10,FALSE),\"0\")","v":0},{"$f":"IFERROR(VLOOKUP($E13,料理一覧!$A$3:$N$19998,11,FALSE),\"0\")","v":0},{"$f":"IFERROR(VLOOKUP($E13,料理一覧!$A$3:$N$19998,12,FALSE),\"0\")","v":0},{"$f":"IFERROR(VLOOKUP($E13,料理一覧!$A$3:$N$19998,13,FALSE),\"0\")","v":0},{"$f":"IFERROR(VLOOKUP($E13,料理一覧!$A$3:$N$19998,14,FALSE),\"0\")","v":0},{"$f":"IFERROR(VLOOKUP($F13,料理一覧!$A$3:$N$19998,4,FALSE),\"0\")","v":0},{"$f":"IFERROR(VLOOKUP($F13,料理一覧!$A$3:$N$19998,5,FALSE),\"0\")","v":0},{"$f":"IFERROR(VLOOKUP($F13,料理一覧!$A$3:$N$19998,6,FALSE),\"0\")","v":0},{"$f":"IFERROR(VLOOKUP($F13,料理一覧!$A$3:$N$19998,7,FALSE),\"0\")","v":0},{"$f":"IFERROR(VLOOKUP($F13,料理一覧!$A$3:$N$19998,8,FALSE),\"0\")","v":0},{"$f":"IFERROR(VLOOKUP($F13,料理一覧!$A$3:$N$19998,9,FALSE),\"0\")","v":0},{"$f":"IFERROR(VLOOKUP($F13,料理一覧!$A$3:$N$19998,10,FALSE),\"0\")","v":0},{"$f":"IFERROR(VLOOKUP($F13,料理一覧!$A$3:$N$19998,11,FALSE),\"0\")","v":0},{"$f":"IFERROR(VLOOKUP($F13,料理一覧!$A$3:$N$19998,12,FALSE),\"0\")","v":0},{"$f":"IFERROR(VLOOKUP($F13,料理一覧!$A$3:$N$19998,13,FALSE),\"0\")","v":0},{"$f":"IFERROR(VLOOKUP($F13,料理一覧!$A$3:$N$19998,14,FALSE),\"0\")","v":0},{"$f":"IFERROR(VLOOKUP($G13,料理一覧!$A$3:$N$19998,4,FALSE),\"0\")","v":0},{"$f":"IFERROR(VLOOKUP($G13,料理一覧!$A$3:$N$19998,5,FALSE),\"0\")","v":0},{"$f":"IFERROR(VLOOKUP($G13,料理一覧!$A$3:$N$19998,6,FALSE),\"0\")","v":0},{"$f":"IFERROR(VLOOKUP($G13,料理一覧!$A$3:$N$19998,7,FALSE),\"0\")","v":0},{"$f":"IFERROR(VLOOKUP($G13,料理一覧!$A$3:$N$19998,8,FALSE),\"0\")","v":0},{"$f":"IFERROR(VLOOKUP($G13,料理一覧!$A$3:$N$19998,9,FALSE),\"0\")","v":0},{"$f":"IFERROR(VLOOKUP($G13,料理一覧!$A$3:$N$19998,10,FALSE),\"0\")","v":0},{"$f":"IFERROR(VLOOKUP($G13,料理一覧!$A$3:$N$19998,11,FALSE),\"0\")","v":0},{"$f":"IFERROR(VLOOKUP($G13,料理一覧!$A$3:$N$19998,12,FALSE),\"0\")","v":0},{"$f":"IFERROR(VLOOKUP($G13,料理一覧!$A$3:$N$19998,13,FALSE),\"0\")","v":0},{"$f":"IFERROR(VLOOKUP($G13,料理一覧!$A$3:$N$19998,14,FALSE),\"0\")","v":0},{"$f":"IFERROR(VLOOKUP($H13,料理一覧!$A$3:$N$19998,4,FALSE),\"0\")","v":0},{"$f":"IFERROR(VLOOKUP($H13,料理一覧!$A$3:$N$19998,5,FALSE),\"0\")","v":0},{"$f":"IFERROR(VLOOKUP($H13,料理一覧!$A$3:$N$19998,6,FALSE),\"0\")","v":0},{"$f":"IFERROR(VLOOKUP($H13,料理一覧!$A$3:$N$19998,7,FALSE),\"0\")","v":0},{"$f":"IFERROR(VLOOKUP($H13,料理一覧!$A$3:$N$19998,8,FALSE),\"0\")","v":0},{"$f":"IFERROR(VLOOKUP($H13,料理一覧!$A$3:$N$19998,9,FALSE),\"0\")","v":0},{"$f":"IFERROR(VLOOKUP($H13,料理一覧!$A$3:$N$19998,10,FALSE),\"0\")","v":0},{"$f":"IFERROR(VLOOKUP($H13,料理一覧!$A$3:$N$19998,11,FALSE),\"0\")","v":0},{"$f":"IFERROR(VLOOKUP($H13,料理一覧!$A$3:$N$19998,12,FALSE),\"0\")","v":0},{"$f":"IFERROR(VLOOKUP($H13,料理一覧!$A$3:$N$19998,13,FALSE),\"0\")","v":0},{"$f":"IFERROR(VLOOKUP($H13,料理一覧!$A$3:$N$19998,14,FALSE),\"0\")","v":0},{"$f":"IFERROR(VLOOKUP($I13,料理一覧!$A$3:$N$19998,4,FALSE),\"0\")","v":0},{"$f":"IFERROR(VLOOKUP($I13,料理一覧!$A$3:$N$19998,5,FALSE),\"0\")","v":0},{"$f":"IFERROR(VLOOKUP($I13,料理一覧!$A$3:$N$19998,6,FALSE),\"0\")","v":0},{"$f":"IFERROR(VLOOKUP($I13,料理一覧!$A$3:$N$19998,7,FALSE),\"0\")","v":0},{"$f":"IFERROR(VLOOKUP($I13,料理一覧!$A$3:$N$19998,8,FALSE),\"0\")","v":0},{"$f":"IFERROR(VLOOKUP($I13,料理一覧!$A$3:$N$19998,9,FALSE),\"0\")","v":0},{"$f":"IFERROR(VLOOKUP($I13,料理一覧!$A$3:$N$19998,10,FALSE),\"0\")","v":0},{"$f":"IFERROR(VLOOKUP($I13,料理一覧!$A$3:$N$19998,11,FALSE),\"0\")","v":0},{"$f":"IFERROR(VLOOKUP($I13,料理一覧!$A$3:$N$19998,12,FALSE),\"0\")","v":0},{"$f":"IFERROR(VLOOKUP($I13,料理一覧!$A$3:$N$19998,13,FALSE),\"0\")","v":0},{"$f":"IFERROR(VLOOKUP($I13,料理一覧!$A$3:$N$19998,14,FALSE),\"0\")","v":0},{"$f":"IFERROR(VLOOKUP($J13,料理一覧!$A$3:$N$19998,4,FALSE),\"0\")","v":0},{"$f":"IFERROR(VLOOKUP($J13,料理一覧!$A$3:$N$19998,5,FALSE),\"0\")","v":0},{"$f":"IFERROR(VLOOKUP($J13,料理一覧!$A$3:$N$19998,6,FALSE),\"0\")","v":0},{"$f":"IFERROR(VLOOKUP($J13,料理一覧!$A$3:$N$19998,7,FALSE),\"0\")","v":0},{"$f":"IFERROR(VLOOKUP($J13,料理一覧!$A$3:$N$19998,8,FALSE),\"0\")","v":0},{"$f":"IFERROR(VLOOKUP($J13,料理一覧!$A$3:$N$19998,9,FALSE),\"0\")","v":0},{"$f":"IFERROR(VLOOKUP($J13,料理一覧!$A$3:$N$19998,10,FALSE),\"0\")","v":0},{"$f":"IFERROR(VLOOKUP($J13,料理一覧!$A$3:$N$19998,11,FALSE),\"0\")","v":0},{"$f":"IFERROR(VLOOKUP($J13,料理一覧!$A$3:$N$19998,12,FALSE),\"0\")","v":0},{"$f":"IFERROR(VLOOKUP($J13,料理一覧!$A$3:$N$19998,13,FALSE),\"0\")","v":0},{"$f":"IFERROR(VLOOKUP($J13,料理一覧!$A$3:$N$19998,14,FALSE),\"0\")","v":0},{"$f":"IFERROR(VLOOKUP($K13,料理一覧!$A$3:$N$19998,4,FALSE),\"0\")","v":0},{"$f":"IFERROR(VLOOKUP($K13,料理一覧!$A$3:$N$19998,5,FALSE),\"0\")","v":0},{"$f":"IFERROR(VLOOKUP($K13,料理一覧!$A$3:$N$19998,6,FALSE),\"0\")","v":0},{"$f":"IFERROR(VLOOKUP($K13,料理一覧!$A$3:$N$19998,7,FALSE),\"0\")","v":0},{"$f":"IFERROR(VLOOKUP($K13,料理一覧!$A$3:$N$19998,8,FALSE),\"0\")","v":0},{"$f":"IFERROR(VLOOKUP($K13,料理一覧!$A$3:$N$19998,9,FALSE),\"0\")","v":0},{"$f":"IFERROR(VLOOKUP($K13,料理一覧!$A$3:$N$19998,10,FALSE),\"0\")","v":0},{"$f":"IFERROR(VLOOKUP($K13,料理一覧!$A$3:$N$19998,11,FALSE),\"0\")","v":0},{"$f":"IFERROR(VLOOKUP($K13,料理一覧!$A$3:$N$19998,12,FALSE),\"0\")","v":0},{"$f":"IFERROR(VLOOKUP($K13,料理一覧!$A$3:$N$19998,13,FALSE),\"0\")","v":0},{"$f":"IFERROR(VLOOKUP($K13,料理一覧!$A$3:$N$19998,14,FALSE),\"0\")","v":0},0,0,0,0,0,0,0,0,0,0,0]
[10,"(月)",null,null,null,null,null,null,null,null,null,{"$f":"IFERROR(VLOOKUP($C14,料理一覧!$A$3:$N$19998,3,FALSE),\"\")","v":0},{"$f":"IFERROR(VLOOKUP($D14,料理一覧!$A$3:$N$19998,3,FALSE),\"\")","v":0},{"$f":"IFERROR(VLOOKUP($E14,料理一覧!$A$3:$N$19998,3,FALSE),\"\")","v":0},{"$f":"IFERROR(VLOOKUP($F14,料理一覧!$A$3:$N$19998,3,FALSE),\"\")","v":0},{"$f":"IFERROR(VLOOKUP($G14,料理一覧!$A$3:$N$19998,3,FALSE),\"\")","v":0},{"$f":"IFERROR(VLOOKUP($H14,料理一覧!$A$3:$N$19998,3,FALSE),\"\")","v":0},{"$f":"IFERROR(VLOOKUP($I14,料理一覧!$A$3:$N$19998,3,FALSE),\"\")","v":0},{"$f":"IFERROR(VLOOKUP($J14,料理一覧!$A$3:$N$19998,3,FALSE),\"\")","v":0},{"$f":"IFERROR(VLOOKUP($K14,料理一覧!$A$3:$N$19998,3,FALSE),\"\")","v":0},0,0,0,0,0,0,0,0,0,0,0,{"$f":"IFERROR(VLOOKUP($C14,料理一覧!$A$3:$N$19998,4,FALSE),\"0\")","v":0},{"$f":"IFERROR(VLOOKUP($C14,料理一覧!$A$3:$N$19998,5,FALSE),\"0\")","v":0},{"$f":"IFERROR(VLOOKUP($C14,料理一覧!$A$3:$N$19998,6,FALSE),\"0\")","v":0},{"$f":"IFERROR(VLOOKUP($C14,料理一覧!$A$3:$N$19998,7,FALSE),\"0\")","v":0},{"$f":"IFERROR(VLOOKUP($C14,料理一覧!$A$3:$N$19998,8,FALSE),\"0\")","v":0},{"$f":"IFERROR(VLOOKUP($C14,料理一覧!$A$3:$N$19998,9,FALSE),\"0\")","v":0},{"$f":"IFERROR(VLOOKUP($C14,料理一覧!$A$3:$N$19998,10,FALSE),\"0\")","v":0},{"$f":"IFERROR(VLOOKUP($C14,料理一覧!$A$3:$N$19998,11,FALSE),\"0\")","v":0},{"$f":"IFERROR(VLOOKUP($C14,料理一覧!$A$3:$N$19998,12,FALSE),\"0\")","v":0},{"$f":"IFERROR(VLOOKUP($C14,料理一覧!$A$3:$N$19998,13,FALSE),\"0\")","v":0},{"$f":"IFERROR(VLOOKUP($C14,料理一覧!$A$3:$N$19998,14,FALSE),\"0\")","v":0},{"$f":"IFERROR(VLOOKUP($D14,料理一覧!$A$3:$N$19998,4,FALSE),\"0\")","v":0},{"$f":"IFERROR(VLOOKUP($D14,料理一覧!$A$3:$N$19998,5,FALSE),\"0\")","v":0},{"$f":"IFERROR(VLOOKUP($D14,料理一覧!$A$3:$N$19998,6,FALSE),\"0\")","v":0},{"$f":"IFERROR(VLOOKUP($D14,料理一覧!$A$3:$N$19998,7,FALSE),\"0\")","v":0},{"$f":"IFERROR(VLOOKUP($D14,料理一覧!$A$3:$N$19998,8,FALSE),\"0\")","v":0},{"$f":"IFERROR(VLOOKUP($D14,料理一覧!$A$3:$N$19998,9,FALSE),\"0\")","v":0},{"$f":"IFERROR(VLOOKUP($D14,料理一覧!$A$3:$N$19998,10,FALSE),\"0\")","v":0},{"$f":"IFERROR(VLOOKUP($D14,料理一覧!$A$3:$N$19998,11,FALSE),\"0\")","v":0},{"$f":"IFERROR(VLOOKUP($D14,料理一覧!$A$3:$N$19998,12,FALSE),\"0\")","v":0},{"$f":"IFERROR(VLOOKUP($D14,料理一覧!$A$3:$N$19998,13,FALSE),\"0\")","v":0},{"$f":"IFERROR(VLOOKUP($D14,料理一覧!$A$3:$N$19998,14,FALSE),\"0\")","v":0},{"$f":"IFERROR(VLOOKUP($E14,料理一覧!$A$3:$N$19998,4,FALSE),\"0\")","v":0},{"$f":"IFERROR(VLOOKUP($E14,料理一覧!$A$3:$N$19998,5,FALSE),\"0\")","v":0},{"$f":"IFERROR(VLOOKUP($E14,料理一覧!$A$3:$N$19998,6,FALSE),\"0\")","v":0},{"$f":"IFERROR(VLOOKUP($E14,料理一覧!$A$3:$N$19998,7,FALSE),\"0\")","v":0},{"$f":"IFERROR(VLOOKUP($E14,料理一覧!$A$3:$N$19998,8,FALSE),\"0\")","v":0},{"$f":"IFERROR(VLOOKUP($E14,料理一覧!$A$3:$N$19998,9,FALSE),\"0\")","v":0},{"$f":"IFERROR(VLOOKUP($E14,料理一覧!$A$3:$N$19998,10,FALSE),\"0\")","v":0},{"$f":"IFERROR(VLOOKUP($E14,料理一覧!$A$3:$N$19998,11,FALSE),\"0\")","v":0},{"$f":"IFERROR(VLOOKUP($E14,料理一覧!$A$3:$N$19998,12,FALSE),\"0\")","v":0},{"$f":"IFERROR(VLOOKUP($E14,料理一覧!$A$3:$N$19998,13,FALSE),\"0\")","v":0},{"$f":"IFERROR(VLOOKUP($E14,料理一覧!$A$3:$N$19998,14,FALSE),\"0\")","v":0},{"$f":"IFERROR(VLOOKUP($F14,料理一覧!$A$3:$N$19998,4,FALSE),\"0\")","v":0},{"$f":"IFERROR(VLOOKUP($F14,料理一覧!$A$3:$N$19998,5,FALSE),\"0\")","v":0},{"$f":"IFERROR(VLOOKUP($F14,料理一覧!$A$3:$N$19998,6,FALSE),\"0\")","v":0},{"$f":"IFERROR(VLOOKUP($F14,料理一覧!$A$3:$N$19998,7,FALSE),\"0\")","v":0},{"$f":"IFERROR(VLOOKUP($F14,料理一覧!$A$3:$N$19998,8,FALSE),\"0\")","v":0},{"$f":"IFERROR(VLOOKUP($F14,料理一覧!$A$3:$N$19998,9,FALSE),\"0\")","v":0},{"$f":"IFERROR(VLOOKUP($F14,料理一覧!$A$3:$N$19998,10,FALSE),\"0\")","v":0},{"$f":"IFERROR(VLOOKUP($F14,料理一覧!$A$3:$N$19998,11,FALSE),\"0\")","v":0},{"$f":"IFERROR(VLOOKUP($F14,料理一覧!$A$3:$N$19998,12,FALSE),\"0\")","v":0},{"$f":"IFERROR(VLOOKUP($F14,料理一覧!$A$3:$N$19998,13,FALSE),\"0\")","v":0},{"$f":"IFERROR(VLOOKUP($F14,料理一覧!$A$3:$N$19998,14,FALSE),\"0\")","v":0},{"$f":"IFERROR(VLOOKUP($G14,料理一覧!$A$3:$N$19998,4,FALSE),\"0\")","v":0},{"$f":"IFERROR(VLOOKUP($G14,料理一覧!$A$3:$N$19998,5,FALSE),\"0\")","v":0},{"$f":"IFERROR(VLOOKUP($G14,料理一覧!$A$3:$N$19998,6,FALSE),\"0\")","v":0},{"$f":"IFERROR(VLOOKUP($G14,料理一覧!$A$3:$N$19998,7,FALSE),\"0\")","v":0},{"$f":"IFERROR(VLOOKUP($G14,料理一覧!$A$3:$N$19998,8,FALSE),\"0\")","v":0},{"$f":"IFERROR(VLOOKUP($G14,料理一覧!$A$3:$N$19998,9,FALSE),\"0\")","v":0},{"$f":"IFERROR(VLOOKUP($G14,料理一覧!$A$3:$N$19998,10,FALSE),\"0\")","v":0},{"$f":"IFERROR(VLOOKUP($G14,料理一覧!$A$3:$N$19998,11,FALSE),\"0\")","v":0},{"$f":"IFERROR(VLOOKUP($G14,料理一覧!$A$3:$N$19998,12,FALSE),\"0\")","v":0},{"$f":"IFERROR(VLOOKUP($G14,料理一覧!$A$3:$N$19998,13,FALSE),\"0\")","v":0},{"$f":"IFERROR(VLOOKUP($G14,料理一覧!$A$3:$N$19998,14,FALSE),\"0\")","v":0},{"$f":"IFERROR(VLOOKUP($H14,料理一覧!$A$3:$N$19998,4,FALSE),\"0\")","v":0},{"$f":"IFERROR(VLOOKUP($H14,料理一覧!$A$3:$N$19998,5,FALSE),\"0\")","v":0},{"$f":"IFERROR(VLOOKUP($H14,料理一覧!$A$3:$N$19998,6,FALSE),\"0\")","v":0},{"$f":"IFERROR(VLOOKUP($H14,料理一覧!$A$3:$N$19998,7,FALSE),\"0\")","v":0},{"$f":"IFERROR(VLOOKUP($H14,料理一覧!$A$3:$N$19998,8,FALSE),\"0\")","v":0},{"$f":"IFERROR(VLOOKUP($H14,料理一覧!$A$3:$N$19998,9,FALSE),\"0\")","v":0},{"$f":"IFERROR(VLOOKUP($H14,料理一覧!$A$3:$N$19998,10,FALSE),\"0\")","v":0},{"$f":"IFERROR(VLOOKUP($H14,料理一覧!$A$3:$N$19998,11,FALSE),\"0\")","v":0},{"$f":"IFERROR(VLOOKUP($H14,料理一覧!$A$3:$N$19998,12,FALSE),\"0\")","v":0},{"$f":"IFERROR(VLOOKUP($H14,料理一覧!$A$3:$N$19998,13,FALSE),\"0\")","v":0},{"$f":"IFERROR(VLOOKUP($H14,料理一覧!$A$3:$N$19998,14,FALSE),\"0\")","v":0},{"$f":"IFERROR(VLOOKUP($I14,料理一覧!$A$3:$N$19998,4,FALSE),\"0\")","v":0},{"$f":"IFERROR(VLOOKUP($I14,料理一覧!$A$3:$N$19998,5,FALSE),\"0\")","v":0},{"$f":"IFERROR(VLOOKUP($I14,料理一覧!$A$3:$N$19998,6,FALSE),\"0\")","v":0},{"$f":"IFERROR(VLOOKUP($I14,料理一覧!$A$3:$N$19998,7,FALSE),\"0\")","v":0},{"$f":"IFERROR(VLOOKUP($I14,料理一覧!$A$3:$N$19998,8,FALSE),\"0\")","v":0},{"$f":"IFERROR(VLOOKUP($I14,料理一覧!$A$3:$N$19998,9,FALSE),\"0\")","v":0},{"$f":"IFERROR(VLOOKUP($I14,料理一覧!$A$3:$N$19998,10,FALSE),\"0\")","v":0},{"$f":"IFERROR(VLOOKUP($I14,料理一覧!$A$3:$N$19998,11,FALSE),\"0\")","v":0},{"$f":"IFERROR(VLOOKUP($I14,料理一覧!$A$3:$N$19998,12,FALSE),\"0\")","v":0},{"$f":"IFERROR(VLOOKUP($I14,料理一覧!$A$3:$N$19998,13,FALSE),\"0\")","v":0},{"$f":"IFERROR(VLOOKUP($I14,料理一覧!$A$3:$N$19998,14,FALSE),\"0\")","v":0},{"$f":"IFERROR(VLOOKUP($J14,料理一覧!$A$3:$N$19998,4,FALSE),\"0\")","v":0},{"$f":"IFERROR(VLOOKUP($J14,料理一覧!$A$3:$N$19998,5,FALSE),\"0\")","v":0},{"$f":"IFERROR(VLOOKUP($J14,料理一覧!$A$3:$N$19998,6,FALSE),\"0\")","v":0},{"$f":"IFERROR(VLOOKUP($J14,料理一覧!$A$3:$N$19998,7,FALSE),\"0\")","v":0},{"$f":"IFERROR(VLOOKUP($J14,料理一覧!$A$3:$N$19998,8,FALSE),\"0\")","v":0},{"$f":"IFERROR(VLOOKUP($J14,料理一覧!$A$3:$N$19998,9,FALSE),\"0\")","v":0},{"$f":"IFERROR(VLOOKUP($J14,料理一覧!$A$3:$N$19998,10,FALSE),\"0\")","v":0},{"$f":"IFERROR(VLOOKUP($J14,料理一覧!$A$3:$N$19998,11,FALSE),\"0\")","v":0},{"$f":"IFERROR(VLOOKUP($J14,料理一覧!$A$3:$N$19998,12,FALSE),\"0\")","v":0},{"$f":"IFERROR(VLOOKUP($J14,料理一覧!$A$3:$N$19998,13,FALSE),\"0\")","v":0},{"$f":"IFERROR(VLOOKUP($J14,料理一覧!$A$3:$N$19998,14,FALSE),\"0\")","v":0},{"$f":"IFERROR(VLOOKUP($K14,料理一覧!$A$3:$N$19998,4,FALSE),\"0\")","v":0},{"$f":"IFERROR(VLOOKUP($K14,料理一覧!$A$3:$N$19998,5,FALSE),\"0\")","v":0},{"$f":"IFERROR(VLOOKUP($K14,料理一覧!$A$3:$N$19998,6,FALSE),\"0\")","v":0},{"$f":"IFERROR(VLOOKUP($K14,料理一覧!$A$3:$N$19998,7,FALSE),\"0\")","v":0},{"$f":"IFERROR(VLOOKUP($K14,料理一覧!$A$3:$N$19998,8,FALSE),\"0\")","v":0},{"$f":"IFERROR(VLOOKUP($K14,料理一覧!$A$3:$N$19998,9,FALSE),\"0\")","v":0},{"$f":"IFERROR(VLOOKUP($K14,料理一覧!$A$3:$N$19998,10,FALSE),\"0\")","v":0},{"$f":"IFERROR(VLOOKUP($K14,料理一覧!$A$3:$N$19998,11,FALSE),\"0\")","v":0},{"$f":"IFERROR(VLOOKUP($K14,料理一覧!$A$3:$N$19998,12,FALSE),\"0\")","v":0},{"$f":"IFERROR(VLOOKUP($K14,料理一覧!$A$3:$N$19998,13,FALSE),\"0\")","v":0},{"$f":"IFERROR(VLOOKUP($K14,料理一覧!$A$3:$N$19998,14,FALSE),\"0\")","v":0},0,0,0,0,0,0,0,0,0,0,0]
[11,"(火)",null,null,null,null,null,null,null,null,null,{"$f":"IFERROR(VLOOKUP($C15,料理一覧!$A$3:$N$19998,3,FALSE),\"\")","v":0},{"$f":"IFERROR(VLOOKUP($D15,料理一覧!$A$3:$N$19998,3,FALSE),\"\")","v":0},{"$f":"IFERROR(VLOOKUP($E15,料理一覧!$A$3:$N$19998,3,FALSE),\"\")","v":0},{"$f":"IFERROR(VLOOKUP($F15,料理一覧!$A$3:$N$19998,3,FALSE),\"\")","v":0},{"$f":"IFERROR(VLOOKUP($G15,料理一覧!$A$3:$N$19998,3,FALSE),\"\")","v":0},{"$f":"IFERROR(VLOOKUP($H15,料理一覧!$A$3:$N$19998,3,FALSE),\"\")","v":0},{"$f":"IFERROR(VLOOKUP($I15,料理一覧!$A$3:$N$19998,3,FALSE),\"\")","v":0},{"$f":"IFERROR(VLOOKUP($J15,料理一覧!$A$3:$N$19998,3,FALSE),\"\")","v":0},{"$f":"IFERROR(VLOOKUP($K15,料理一覧!$A$3:$N$19998,3,FALSE),\"\")","v":0},0,0,0,0,0,0,0,0,0,0,0,{"$f":"IFERROR(VLOOKUP($C15,料理一覧!$A$3:$N$19998,4,FALSE),\"0\")","v":0},{"$f":"IFERROR(VLOOKUP($C15,料理一覧!$A$3:$N$19998,5,FALSE),\"0\")","v":0},{"$f":"IFERROR(VLOOKUP($C15,料理一覧!$A$3:$N$19998,6,FALSE),\"0\")","v":0},{"$f":"IFERROR(VLOOKUP($C15,料理一覧!$A$3:$N$19998,7,FALSE),\"0\")","v":0},{"$f":"IFERROR(VLOOKUP($C15,料理一覧!$A$3:$N$19998,8,FALSE),\"0\")","v":0},{"$f":"IFERROR(VLOOKUP($C15,料理一覧!$A$3:$N$19998,9,FALSE),\"0\")","v":0},{"$f":"IFERROR(VLOOKUP($C15,料理一覧!$A$3:$N$19998,10,FALSE),\"0\")","v":0},{"$f":"IFERROR(VLOOKUP($C15,料理一覧!$A$3:$N$19998,11,FALSE),\"0\")","v":0},{"$f":"IFERROR(VLOOKUP($C15,料理一覧!$A$3:$N$19998,12,FALSE),\"0\")","v":0},{"$f":"IFERROR(VLOOKUP($C15,料理一覧!$A$3:$N$19998,13,FALSE),\"0\")","v":0},{"$f":"IFERROR(VLOOKUP($C15,料理一覧!$A$3:$N$19998,14,FALSE),\"0\")","v":0},{"$f":"IFERROR(VLOOKUP($D15,料理一覧!$A$3:$N$19998,4,FALSE),\"0\")","v":0},{"$f":"IFERROR(VLOOKUP($D15,料理一覧!$A$3:$N$19998,5,FALSE),\"0\")","v":0},{"$f":"IFERROR(VLOOKUP($D15,料理一覧!$A$3:$N$19998,6,FALSE),\"0\")","v":0},{"$f":"IFERROR(VLOOKUP($D15,料理一覧!$A$3:$N$19998,7,FALSE),\"0\")","v":0},{"$f":"IFERROR(VLOOKUP($D15,料理一覧!$A$3:$N$19998,8,FALSE),\"0\")","v":0},{"$f":"IFERROR(VLOOKUP($D15,料理一覧!$A$3:$N$19998,9,FALSE),\"0\")","v":0},{"$f":"IFERROR(VLOOKUP($D15,料理一覧!$A$3:$N$19998,10,FALSE),\"0\")","v":0},{"$f":"IFERROR(VLOOKUP($D15,料理一覧!$A$3:$N$19998,11,FALSE),\"0\")","v":0},{"$f":"IFERROR(VLOOKUP($D15,料理一覧!$A$3:$N$19998,12,FALSE),\"0\")","v":0},{"$f":"IFERROR(VLOOKUP($D15,料理一覧!$A$3:$N$19998,13,FALSE),\"0\")","v":0},{"$f":"IFERROR(VLOOKUP($D15,料理一覧!$A$3:$N$19998,14,FALSE),\"0\")","v":0},{"$f":"IFERROR(VLOOKUP($E15,料理一覧!$A$3:$N$19998,4,FALSE),\"0\")","v":0},{"$f":"IFERROR(VLOOKUP($E15,料理一覧!$A$3:$N$19998,5,FALSE),\"0\")","v":0},{"$f":"IFERROR(VLOOKUP($E15,料理一覧!$A$3:$N$19998,6,FALSE),\"0\")","v":0},{"$f":"IFERROR(VLOOKUP($E15,料理一覧!$A$3:$N$19998,7,FALSE),\"0\")","v":0},{"$f":"IFERROR(VLOOKUP($E15,料理一覧!$A$3:$N$19998,8,FALSE),\"0\")","v":0},{"$f":"IFERROR(VLOOKUP($E15,料理一覧!$A$3:$N$19998,9,FALSE),\"0\")","v":0},{"$f":"IFERROR(VLOOKUP($E15,料理一覧!$A$3:$N$19998,10,FALSE),\"0\")","v":0},{"$f":"IFERROR(VLOOKUP($E15,料理一覧!$A$3:$N$19998,11,FALSE),\"0\")","v":0},{"$f":"IFERROR(VLOOKUP($E15,料理一覧!$A$3:$N$19998,12,FALSE),\"0\")","v":0},{"$f":"IFERROR(VLOOKUP($E15,料理一覧!$A$3:$N$19998,13,FALSE),\"0\")","v":0},{"$f":"IFERROR(VLOOKUP($E15,料理一覧!$A$3:$N$19998,14,FALSE),\"0\")","v":0},{"$f":"IFERROR(VLOOKUP($F15,料理一覧!$A$3:$N$19998,4,FALSE),\"0\")","v":0},{"$f":"IFERROR(VLOOKUP($F15,料理一覧!$A$3:$N$19998,5,FALSE),\"0\")","v":0},{"$f":"IFERROR(VLOOKUP($F15,料理一覧!$A$3:$N$19998,6,FALSE),\"0\")","v":0},{"$f":"IFERROR(VLOOKUP($F15,料理一覧!$A$3:$N$19998,7,FALSE),\"0\")","v":0},{"$f":"IFERROR(VLOOKUP($F15,料理一覧!$A$3:$N$19998,8,FALSE),\"0\")","v":0},{"$f":"IFERROR(VLOOKUP($F15,料理一覧!$A$3:$N$19998,9,FALSE),\"0\")","v":0},{"$f":"IFERROR(VLOOKUP($F15,料理一覧!$A$3:$N$19998,10,FALSE),\"0\")","v":0},{"$f":"IFERROR(VLOOKUP($F15,料理一覧!$A$3:$N$19998,11,FALSE),\"0\")","v":0},{"$f":"IFERROR(VLOOKUP($F15,料理一覧!$A$3:$N$19998,12,FALSE),\"0\")","v":0},{"$f":"IFERROR(VLOOKUP($F15,料理一覧!$A$3:$N$19998,13,FALSE),\"0\")","v":0},{"$f":"IFERROR(VLOOKUP($F15,料理一覧!$A$3:$N$19998,14,FALSE),\"0\")","v":0},{"$f":"IFERROR(VLOOKUP($G15,料理一覧!$A$3:$N$19998,4,FALSE),\"0\")","v":0},{"$f":"IFERROR(VLOOKUP($G15,料理一覧!$A$3:$N$19998,5,FALSE),\"0\")","v":0},{"$f":"IFERROR(VLOOKUP($G15,料理一覧!$A$3:$N$19998,6,FALSE),\"0\")","v":0},{"$f":"IFERROR(VLOOKUP($G15,料理一覧!$A$3:$N$19998,7,FALSE),\"0\")","v":0},{"$f":"IFERROR(VLOOKUP($G15,料理一覧!$A$3:$N$19998,8,FALSE),\"0\")","v":0},{"$f":"IFERROR(VLOOKUP($G15,料理一覧!$A$3:$N$19998,9,FALSE),\"0\")","v":0},{"$f":"IFERROR(VLOOKUP($G15,料理一覧!$A$3:$N$19998,10,FALSE),\"0\")","v":0},{"$f":"IFERROR(VLOOKUP($G15,料理一覧!$A$3:$N$19998,11,FALSE),\"0\")","v":0},{"$f":"IFERROR(VLOOKUP($G15,料理一覧!$A$3:$N$19998,12,FALSE),\"0\")","v":0},{"$f":"IFERROR(VLOOKUP($G15,料理一覧!$A$3:$N$19998,13,FALSE),\"0\")","v":0},{"$f":"IFERROR(VLOOKUP($G15,料理一覧!$A$3:$N$19998,14,FALSE),\"0\")","v":0},{"$f":"IFERROR(VLOOKUP($H15,料理一覧!$A$3:$N$19998,4,FALSE),\"0\")","v":0},{"$f":"IFERROR(VLOOKUP($H15,料理一覧!$A$3:$N$19998,5,FALSE),\"0\")","v":0},{"$f":"IFERROR(VLOOKUP($H15,料理一覧!$A$3:$N$19998,6,FALSE),\"0\")","v":0},{"$f":"IFERROR(VLOOKUP($H15,料理一覧!$A$3:$N$19998,7,FALSE),\"0\")","v":0},{"$f":"IFERROR(VLOOKUP($H15,料理一覧!$A$3:$N$19998,8,FALSE),\"0\")","v":0},{"$f":"IFERROR(VLOOKUP($H15,料理一覧!$A$3:$N$19998,9,FALSE),\"0\")","v":0},{"$f":"IFERROR(VLOOKUP($H15,料理一覧!$A$3:$N$19998,10,FALSE),\"0\")","v":0},{"$f":"IFERROR(VLOOKUP($H15,料理一覧!$A$3:$N$19998,11,FALSE),\"0\")","v":0},{"$f":"IFERROR(VLOOKUP($H15,料理一覧!$A$3:$N$19998,12,FALSE),\"0\")","v":0},{"$f":"IFERROR(VLOOKUP($H15,料理一覧!$A$3:$N$19998,13,FALSE),\"0\")","v":0},{"$f":"IFERROR(VLOOKUP($H15,料理一覧!$A$3:$N$19998,14,FALSE),\"0\")","v":0},{"$f":"IFERROR(VLOOKUP($I15,料理一覧!$A$3:$N$19998,4,FALSE),\"0\")","v":0},{"$f":"IFERROR(VLOOKUP($I15,料理一覧!$A$3:$N$19998,5,FALSE),\"0\")","v":0},{"$f":"IFERROR(VLOOKUP($I15,料理一覧!$A$3:$N$19998,6,FALSE),\"0\")","v":0},{"$f":"IFERROR(VLOOKUP($I15,料理一覧!$A$3:$N$19998,7,FALSE),\"0\")","v":0},{"$f":"IFERROR(VLOOKUP($I15,料理一覧!$A$3:$N$19998,8,FALSE),\"0\")","v":0},{"$f":"IFERROR(VLOOKUP($I15,料理一覧!$A$3:$N$19998,9,FALSE),\"0\")","v":0},{"$f":"IFERROR(VLOOKUP($I15,料理一覧!$A$3:$N$19998,10,FALSE),\"0\")","v":0},{"$f":"IFERROR(VLOOKUP($I15,料理一覧!$A$3:$N$19998,11,FALSE),\"0\")","v":0},{"$f":"IFERROR(VLOOKUP($I15,料理一覧!$A$3:$N$19998,12,FALSE),\"0\")","v":0},{"$f":"IFERROR(VLOOKUP($I15,料理一覧!$A$3:$N$19998,13,FALSE),\"0\")","v":0},{"$f":"IFERROR(VLOOKUP($I15,料理一覧!$A$3:$N$19998,14,FALSE),\"0\")","v":0},{"$f":"IFERROR(VLOOKUP($J15,料理一覧!$A$3:$N$19998,4,FALSE),\"0\")","v":0},{"$f":"IFERROR(VLOOKUP($J15,料理一覧!$A$3:$N$19998,5,FALSE),\"0\")","v":0},{"$f":"IFERROR(VLOOKUP($J15,料理一覧!$A$3:$N$19998,6,FALSE),\"0\")","v":0},{"$f":"IFERROR(VLOOKUP($J15,料理一覧!$A$3:$N$19998,7,FALSE),\"0\")","v":0},{"$f":"IFERROR(VLOOKUP($J15,料理一覧!$A$3:$N$19998,8,FALSE),\"0\")","v":0},{"$f":"IFERROR(VLOOKUP($J15,料理一覧!$A$3:$N$19998,9,FALSE),\"0\")","v":0},{"$f":"IFERROR(VLOOKUP($J15,料理一覧!$A$3:$N$19998,10,FALSE),\"0\")","v":0},{"$f":"IFERROR(VLOOKUP($J15,料理一覧!$A$3:$N$19998,11,FALSE),\"0\")","v":0},{"$f":"IFERROR(VLOOKUP($J15,料理一覧!$A$3:$N$19998,12,FALSE),\"0\")","v":0},{"$f":"IFERROR(VLOOKUP($J15,料理一覧!$A$3:$N$19998,13,FALSE),\"0\")","v":0},{"$f":"IFERROR(VLOOKUP($J15,料理一覧!$A$3:$N$19998,14,FALSE),\"0\")","v":0},{"$f":"IFERROR(VLOOKUP($K15,料理一覧!$A$3:$N$19998,4,FALSE),\"0\")","v":0},{"$f":"IFERROR(VLOOKUP($K15,料理一覧!$A$3:$N$19998,5,FALSE),\"0\")","v":0},{"$f":"IFERROR(VLOOKUP($K15,料理一覧!$A$3:$N$19998,6,FALSE),\"0\")","v":0},{"$f":"IFERROR(VLOOKUP($K15,料理一覧!$A$3:$N$19998,7,FALSE),\"0\")","v":0},{"$f":"IFERROR(VLOOKUP($K15,料理一覧!$A$3:$N$19998,8,FALSE),\"0\")","v":0},{"$f":"IFERROR(VLOOKUP($K15,料理一覧!$A$3:$N$19998,9,FALSE),\"0\")","v":0},{"$f":"IFERROR(VLOOKUP($K15,料理一覧!$A$3:$N$19998,10,FALSE),\"0\")","v":0},{"$f":"IFERROR(VLOOKUP($K15,料理一覧!$A$3:$N$19998,11,FALSE),\"0\")","v":0},{"$f":"IFERROR(VLOOKUP($K15,料理一覧!$A$3:$N$19998,12,FALSE),\"0\")","v":0},{"$f":"IFERROR(VLOOKUP($K15,料理一覧!$A$3:$N$19998,13,FALSE),\"0\")","v":0},{"$f":"IFERROR(VLOOKUP($K15,料理一覧!$A$3:$N$19998,14,FALSE),\"0\")","v":0},0,0,0,0,0,0,0,0,0,0,0]
[12,"(水)",null,null,null,null,null,null,null,null,null,{"$f":"IFERROR(VLOOKUP($C16,料理一覧!$A$3:$N$19998,3,FALSE),\"\")","v":0},{"$f":"IFERROR(VLOOKUP($D16,料理一覧!$A$3:$N$19998,3,FALSE),\"\")","v":0},{"$f":"IFERROR(VLOOKUP($E16,料理一覧!$A$3:$N$19998,3,FALSE),\"\")","v":0},{"$f":"IFERROR(VLOOKUP($F16,料理一覧!$A$3:$N$19998,3,FALSE),\"\")","v":0},{"$f":"IFERROR(VLOOKUP($G16,料理一覧!$A$3:$N$19998,3,FALSE),\"\")","v":0},{"$f":"IFERROR(VLOOKUP($H16,料理一覧!$A$3:$N$19998,3,FALSE),\"\")","v":0},{"$f":"IFERROR(VLOOKUP($I16,料理一覧!$A$3:$N$19998,3,FALSE),\"\")","v":0},{"$f":"IFERROR(VLOOKUP($J16,料理一覧!$A$3:$N$19998,3,FALSE),\"\")","v":0},{"$f":"IFERROR(VLOOKUP($K16,料理一覧!$A$3:$N$19998,3,FALSE),\"\")","v":0},0,0,0,0,0,0,0,0,0,0,0,{"$f":"IFERROR(VLOOKUP($C16,料理一覧!$A$3:$N$19998,4,FALSE),\"0\")","v":0},{"$f":"IFERROR(VLOOKUP($C16,料理一覧!$A$3:$N$19998,5,FALSE),\"0\")","v":0},{"$f":"IFERROR(VLOOKUP($C16,料理一覧!$A$3:$N$19998,6,FALSE),\"0\")","v":0},{"$f":"IFERROR(VLOOKUP($C16,料理一覧!$A$3:$N$19998,7,FALSE),\"0\")","v":0},{"$f":"IFERROR(VLOOKUP($C16,料理一覧!$A$3:$N$19998,8,FALSE),\"0\")","v":0},{"$f":"IFERROR(VLOOKUP($C16,料理一覧!$A$3:$N$19998,9,FALSE),\"0\")","v":0},{"$f":"IFERROR(VLOOKUP($C16,料理一覧!$A$3:$N$19998,10,FALSE),\"0\")","v":0},{"$f":"IFERROR(VLOOKUP($C16,料理一覧!$A$3:$N$19998,11,FALSE),\"0\")","v":0},{"$f":"IFERROR(VLOOKUP($C16,料理一覧!$A$3:$N$19998,12,FALSE),\"0\")","v":0},{"$f":"IFERROR(VLOOKUP($C16,料理一覧!$A$3:$N$19998,13,FALSE),\"0\")","v":0},{"$f":"IFERROR(VLOOKUP($C16,料理一覧!$A$3:$N$19998,14,FALSE),\"0\")","v":0},{"$f":"IFERROR(VLOOKUP($D16,料理一覧!$A$3:$N$19998,4,FALSE),\"0\")","v":0},{"$f":"IFERROR(VLOOKUP($D16,料理一覧!$A$3:$N$19998,5,FALSE),\"0\")","v":0},{"$f":"IFERROR(VLOOKUP($D16,料理一覧!$A$3:$N$19998,6,FALSE),\"0\")","v":0},{"$f":"IFERROR(VLOOKUP($D16,料理一覧!$A$3:$N$19998,7,FALSE),\"0\")","v":0},{"$f":"IFERROR(VLOOKUP($D16,料理一覧!$A$3:$N$19998,8,FALSE),\"0\")","v":0},{"$f":"IFERROR(VLOOKUP($D16,料理一覧!$A$3:$N$19998,9,FALSE),\"0\")","v":0},{"$f":"IFERROR(VLOOKUP($D16,料理一覧!$A$3:$N$19998,10,FALSE),\"0\")","v":0},{"$f":"IFERROR(VLOOKUP($D16,料理一覧!$A$3:$N$19998,11,FALSE),\"0\")","v":0},{"$f":"IFERROR(VLOOKUP($D16,料理一覧!$A$3:$N$19998,12,FALSE),\"0\")","v":0},{"$f":"IFERROR(VLOOKUP($D16,料理一覧!$A$3:$N$19998,13,FALSE),\"0\")","v":0},{"$f":"IFERROR(VLOOKUP($D16,料理一覧!$A$3:$N$19998,14,FALSE),\"0\")","v":0},{"$f":"IFERROR(VLOOKUP($E16,料理一覧!$A$3:$N$19998,4,FALSE),\"0\")","v":0},{"$f":"IFERROR(VLOOKUP($E16,料理一覧!$A$3:$N$19998,5,FALSE),\"0\")","v":0},{"$f":"IFERROR(VLOOKUP($E16,料理一覧!$A$3:$N$19998,6,FALSE),\"0\")","v":0},{"$f":"IFERROR(VLOOKUP($E16,料理一覧!$A$3:$N$19998,7,FALSE),\"0\")","v":0},{"$f":"IFERROR(VLOOKUP($E16,料理一覧!$A$3:$N$19998,8,FALSE),\"0\")","v":0},{"$f":"IFERROR(VLOOKUP($E16,料理一覧!$A$3:$N$19998,9,FALSE),\"0\")","v":0},{"$f":"IFERROR(VLOOKUP($E16,料理一覧!$A$3:$N$19998,10,FALSE),\"0\")","v":0},{"$f":"IFERROR(VLOOKUP($E16,料理一覧!$A$3:$N$19998,11,FALSE),\"0\")","v":0},{"$f":"IFERROR(VLOOKUP($E16,料理一覧!$A$3:$N$19998,12,FALSE),\"0\")","v":0},{"$f":"IFERROR(VLOOKUP($E16,料理一覧!$A$3:$N$19998,13,FALSE),\"0\")","v":0},{"$f":"IFERROR(VLOOKUP($E16,料理一覧!$A$3:$N$19998,14,FALSE),\"0\")","v":0},{"$f":"IFERROR(VLOOKUP($F16,料理一覧!$A$3:$N$19998,4,FALSE),\"0\")","v":0},{"$f":"IFERROR(VLOOKUP($F16,料理一覧!$A$3:$N$19998,5,FALSE),\"0\")","v":0},{"$f":"IFERROR(VLOOKUP($F16,料理一覧!$A$3:$N$19998,6,FALSE),\"0\")","v":0},{"$f":"IFERROR(VLOOKUP($F16,料理一覧!$A$3:$N$19998,7,FALSE),\"0\")","v":0},{"$f":"IFERROR(VLOOKUP($F16,料理一覧!$A$3:$N$19998,8,FALSE),\"0\")","v":0},{"$f":"IFERROR(VLOOKUP($F16,料理一覧!$A$3:$N$19998,9,FALSE),\"0\")","v":0},{"$f":"IFERROR(VLOOKUP($F16,料理一覧!$A$3:$N$19998,10,FALSE),\"0\")","v":0},{"$f":"IFERROR(VLOOKUP($F16,料理一覧!$A$3:$N$19998,11,FALSE),\"0\")","v":0},{"$f":"IFERROR(VLOOKUP($F16,料理一覧!$A$3:$N$19998,12,FALSE),\"0\")","v":0},{"$f":"IFERROR(VLOOKUP($F16,料理一覧!$A$3:$N$19998,13,FALSE),\"0\")","v":0},{"$f":"IFERROR(VLOOKUP($F16,料理一覧!$A$3:$N$19998,14,FALSE),\"0\")","v":0},{"$f":"IFERROR(VLOOKUP($G16,料理一覧!$A$3:$N$19998,4,FALSE),\"0\")","v":0},{"$f":"IFERROR(VLOOKUP($G16,料理一覧!$A$3:$N$19998,5,FALSE),\"0\")","v":0},{"$f":"IFERROR(VLOOKUP($G16,料理一覧!$A$3:$N$19998,6,FALSE),\"0\")","v":0},{"$f":"IFERROR(VLOOKUP($G16,料理一覧!$A$3:$N$19998,7,FALSE),\"0\")","v":0},{"$f":"IFERROR(VLOOKUP($G16,料理一覧!$A$3:$N$19998,8,FALSE),\"0\")","v":0},{"$f":"IFERROR(VLOOKUP($G16,料理一覧!$A$3:$N$19998,9,FALSE),\"0\")","v":0},{"$f":"IFERROR(VLOOKUP($G16,料理一覧!$A$3:$N$19998,10,FALSE),\"0\")","v":0},{"$f":"IFERROR(VLOOKUP($G16,料理一覧!$A$3:$N$19998,11,FALSE),\"0\")","v":0},{"$f":"IFERROR(VLOOKUP($G16,料理一覧!$A$3:$N$19998,12,FALSE),\"0\")","v":0},{"$f":"IFERROR(VLOOKUP($G16,料理一覧!$A$3:$N$19998,13,FALSE),\"0\")","v":0},{"$f":"IFERROR(VLOOKUP($G16,料理一覧!$A$3:$N$19998,14,FALSE),\"0\")","v":0},{"$f":"IFERROR(VLOOKUP($H16,料理一覧!$A$3:$N$19998,4,FALSE),\"0\")","v":0},{"$f":"IFERROR(VLOOKUP($H16,料理一覧!$A$3:$N$19998,5,FALSE),\"0\")","v":0},{"$f":"IFERROR(VLOOKUP($H16,料理一覧!$A$3:$N$19998,6,FALSE),\"0\")","v":0},{"$f":"IFERROR(VLOOKUP($H16,料理一覧!$A$3:$N$19998,7,FALSE),\"0\")","v":0},{"$f":"IFERROR(VLOOKUP($H16,料理一覧!$A$3:$N$19998,8,FALSE),\"0\")","v":0},{"$f":"IFERROR(VLOOKUP($H16,料理一覧!$A$3:$N$19998,9,FALSE),\"0\")","v":0},{"$f":"IFERROR(VLOOKUP($H16,料理一覧!$A$3:$N$19998,10,FALSE),\"0\")","v":0},{"$f":"IFERROR(VLOOKUP($H16,料理一覧!$A$3:$N$19998,11,FALSE),\"0\")","v":0},{"$f":"IFERROR(VLOOKUP($H16,料理一覧!$A$3:$N$19998,12,FALSE),\"0\")","v":0},{"$f":"IFERROR(VLOOKUP($H16,料理一覧!$A$3:$N$19998,13,FALSE),\"0\")","v":0},{"$f":"IFERROR(VLOOKUP($H16,料理一覧!$A$3:$N$19998,14,FALSE),\"0\")","v":0},{"$f":"IFERROR(VLOOKUP($I16,料理一覧!$A$3:$N$19998,4,FALSE),\"0\")","v":0},{"$f":"IFERROR(VLOOKUP($I16,料理一覧!$A$3:$N$19998,5,FALSE),\"0\")","v":0},{"$f":"IFERROR(VLOOKUP($I16,料理一覧!$A$3:$N$19998,6,FALSE),\"0\")","v":0},{"$f":"IFERROR(VLOOKUP($I16,料理一覧!$A$3:$N$19998,7,FALSE),\"0\")","v":0},{"$f":"IFERROR(VLOOKUP($I16,料理一覧!$A$3:$N$19998,8,FALSE),\"0\")","v":0},{"$f":"IFERROR(VLOOKUP($I16,料理一覧!$A$3:$N$19998,9,FALSE),\"0\")","v":0},{"$f":"IFERROR(VLOOKUP($I16,料理一覧!$A$3:$N$19998,10,FALSE),\"0\")","v":0},{"$f":"IFERROR(VLOOKUP($I16,料理一覧!$A$3:$N$19998,11,FALSE),\"0\")","v":0},{"$f":"IFERROR(VLOOKUP($I16,料理一覧!$A$3:$N$19998,12,FALSE),\"0\")","v":0},{"$f":"IFERROR(VLOOKUP($I16,料理一覧!$A$3:$N$19998,13,FALSE),\"0\")","v":0},{"$f":"IFERROR(VLOOKUP($I16,料理一覧!$A$3:$N$19998,14,FALSE),\"0\")","v":0},{"$f":"IFERROR(VLOOKUP($J16,料理一覧!$A$3:$N$19998,4,FALSE),\"0\")","v":0},{"$f":"IFERROR(VLOOKUP($J16,料理一覧!$A$3:$N$19998,5,FALSE),\"0\")","v":0},{"$f":"IFERROR(VLOOKUP($J16,料理一覧!$A$3:$N$19998,6,FALSE),\"0\")","v":0},{"$f":"IFERROR(VLOOKUP($J16,料理一覧!$A$3:$N$19998,7,FALSE),\"0\")","v":0},{"$f":"IFERROR(VLOOKUP($J16,料理一覧!$A$3:$N$19998,8,FALSE),\"0\")","v":0},{"$f":"IFERROR(VLOOKUP($J16,料理一覧!$A$3:$N$19998,9,FALSE),\"0\")","v":0},{"$f":"IFERROR(VLOOKUP($J16,料理一覧!$A$3:$N$19998,10,FALSE),\"0\")","v":0},{"$f":"IFERROR(VLOOKUP($J16,料理一覧!$A$3:$N$19998,11,FALSE),\"0\")","v":0},{"$f":"IFERROR(VLOOKUP($J16,料理一覧!$A$3:$N$19998,12,FALSE),\"0\")","v":0},{"$f":"IFERROR(VLOOKUP($J16,料理一覧!$A$3:$N$19998,13,FALSE),\"0\")","v":0},{"$f":"IFERROR(VLOOKUP($J16,料理一覧!$A$3:$N$19998,14,FALSE),\"0\")","v":0},{"$f":"IFERROR(VLOOKUP($K16,料理一覧!$A$3:$N$19998,4,FALSE),\"0\")","v":0},{"$f":"IFERROR(VLOOKUP($K16,料理一覧!$A$3:$N$19998,5,FALSE),\"0\")","v":0},{"$f":"IFERROR(VLOOKUP($K16,料理一覧!$A$3:$N$19998,6,FALSE),\"0\")","v":0},{"$f":"IFERROR(VLOOKUP($K16,料理一覧!$A$3:$N$19998,7,FALSE),\"0\")","v":0},{"$f":"IFERROR(VLOOKUP($K16,料理一覧!$A$3:$N$19998,8,FALSE),\"0\")","v":0},{"$f":"IFERROR(VLOOKUP($K16,料理一覧!$A$3:$N$19998,9,FALSE),\"0\")","v":0},{"$f":"IFERROR(VLOOKUP($K16,料理一覧!$A$3:$N$19998,10,FALSE),\"0\")","v":0},{"$f":"IFERROR(VLOOKUP($K16,料理一覧!$A$3:$N$19998,11,FALSE),\"0\")","v":0},{"$f":"IFERROR(VLOOKUP($K16,料理一覧!$A$3:$N$19998,12,FALSE),\"0\")","v":0},{"$f":"IFERROR(VLOOKUP($K16,料理一覧!$A$3:$N$19998,13,FALSE),\"0\")","v":0},{"$f":"IFERROR(VLOOKUP($K16,料理一覧!$A$3:$N$19998,14,FALSE),\"0\")","v":0},0,0,0,0,0,0,0,0,0,0,0]
[13,"(木)",null,null,null,null,null,null,null,null,null,{"$f":"IFERROR(VLOOKUP($C17,料理一覧!$A$3:$N$19998,3,FALSE),\"\")","v":0},{"$f":"IFERROR(VLOOKUP($D17,料理一覧!$A$3:$N$19998,3,FALSE),\"\")","v":0},{"$f":"IFERROR(VLOOKUP($E17,料理一覧!$A$3:$N$19998,3,FALSE),\"\")","v":0},{"$f":"IFERROR(VLOOKUP($F17,料理一覧!$A$3:$N$19998,3,FALSE),\"\")","v":0},{"$f":"IFERROR(VLOOKUP($G17,料理一覧!$A$3:$N$19998,3,FALSE),\"\")","v":0},{"$f":"IFERROR(VLOOKUP($H17,料理一覧!$A$3:$N$19998,3,FALSE),\"\")","v":0},{"$f":"IFERROR(VLOOKUP($I17,料理一覧!$A$3:$N$19998,3,FALSE),\"\")","v":0},{"$f":"IFERROR(VLOOKUP($J17,料理一覧!$A$3:$N$19998,3,FALSE),\"\")","v":0},{"$f":"IFERROR(VLOOKUP($K17,料理一覧!$A$3:$N$19998,3,FALSE),\"\")","v":0},0,0,0,0,0,0,0,0,0,0,0,{"$f":"IFERROR(VLOOKUP($C17,料理一覧!$A$3:$N$19998,4,FALSE),\"0\")","v":0},{"$f":"IFERROR(VLOOKUP($C17,料理一覧!$A$3:$N$19998,5,FALSE),\"0\")","v":0},{"$f":"IFERROR(VLOOKUP($C17,料理一覧!$A$3:$N$19998,6,FALSE),\"0\")","v":0},{"$f":"IFERROR(VLOOKUP($C17,料理一覧!$A$3:$N$19998,7,FALSE),\"0\")","v":0},{"$f":"IFERROR(VLOOKUP($C17,料理一覧!$A$3:$N$19998,8,FALSE),\"0\")","v":0},{"$f":"IFERROR(VLOOKUP($C17,料理一覧!$A$3:$N$19998,9,FALSE),\"0\")","v":0},{"$f":"IFERROR(VLOOKUP($C17,料理一覧!$A$3:$N$19998,10,FALSE),\"0\")","v":0},{"$f":"IFERROR(VLOOKUP($C17,料理一覧!$A$3:$N$19998,11,FALSE),\"0\")","v":0},{"$f":"IFERROR(VLOOKUP($C17,料理一覧!$A$3:$N$19998,12,FALSE),\"0\")","v":0},{"$f":"IFERROR(VLOOKUP($C17,料理一覧!$A$3:$N$19998,13,FALSE),\"0\")","v":0},{"$f":"IFERROR(VLOOKUP($C17,料理一覧!$A$3:$N$19998,14,FALSE),\"0\")","v":0},{"$f":"IFERROR(VLOOKUP($D17,料理一覧!$A$3:$N$19998,4,FALSE),\"0\")","v":0},{"$f":"IFERROR(VLOOKUP($D17,料理一覧!$A$3:$N$19998,5,FALSE),\"0\")","v":0},{"$f":"IFERROR(VLOOKUP($D17,料理一覧!$A$3:$N$19998,6,FALSE),\"0\")","v":0},{"$f":"IFERROR(VLOOKUP($D17,料理一覧!$A$3:$N$19998,7,FALSE),\"0\")","v":0},{"$f":"IFERROR(VLOOKUP($D17,料理一覧!$A$3:$N$19998,8,FALSE),\"0\")","v":0},{"$f":"IFERROR(VLOOKUP($D17,料理一覧!$A$3:$N$19998,9,FALSE),\"0\")","v":0},{"$f":"IFERROR(VLOOKUP($D17,料理一覧!$A$3:$N$19998,10,FALSE),\"0\")","v":0},{"$f":"IFERROR(VLOOKUP($D17,料理一覧!$A$3:$N$19998,11,FALSE),\"0\")","v":0},{"$f":"IFERROR(VLOOKUP($D17,料理一覧!$A$3:$N$19998,12,FALSE),\"0\")","v":0},{"$f":"IFERROR(VLOOKUP($D17,料理一覧!$A$3:$N$19998,13,FALSE),\"0\")","v":0},{"$f":"IFERROR(VLOOKUP($D17,料理一覧!$A$3:$N$19998,14,FALSE),\"0\")","v":0},{"$f":"IFERROR(VLOOKUP($E17,料理一覧!$A$3:$N$19998,4,FALSE),\"0\")","v":0},{"$f":"IFERROR(VLOOKUP($E17,料理一覧!$A$3:$N$19998,5,FALSE),\"0\")","v":0},{"$f":"IFERROR(VLOOKUP($E17,料理一覧!$A$3:$N$19998,6,FALSE),\"0\")","v":0},{"$f":"IFERROR(VLOOKUP($E17,料理一覧!$A$3:$N$19998,7,FALSE),\"0\")","v":0},{"$f":"IFERROR(VLOOKUP($E17,料理一覧!$A$3:$N$19998,8,FALSE),\"0\")","v":0},{"$f":"IFERROR(VLOOKUP($E17,料理一覧!$A$3:$N$19998,9,FALSE),\"0\")","v":0},{"$f":"IFERROR(VLOOKUP($E17,料理一覧!$A$3:$N$19998,10,FALSE),\"0\")","v":0},{"$f":"IFERROR(VLOOKUP($E17,料理一覧!$A$3:$N$19998,11,FALSE),\"0\")","v":0},{"$f":"IFERROR(VLOOKUP($E17,料理一覧!$A$3:$N$19998,12,FALSE),\"0\")","v":0},{"$f":"IFERROR(VLOOKUP($E17,料理一覧!$A$3:$N$19998,13,FALSE),\"0\")","v":0},{"$f":"IFERROR(VLOOKUP($E17,料理一覧!$A$3:$N$19998,14,FALSE),\"0\")","v":0},{"$f":"IFERROR(VLOOKUP($F17,料理一覧!$A$3:$N$19998,4,FALSE),\"0\")","v":0},{"$f":"IFERROR(VLOOKUP($F17,料理一覧!$A$3:$N$19998,5,FALSE),\"0\")","v":0},{"$f":"IFERROR(VLOOKUP($F17,料理一覧!$A$3:$N$19998,6,FALSE),\"0\")","v":0},{"$f":"IFERROR(VLOOKUP($F17,料理一覧!$A$3:$N$19998,7,FALSE),\"0\")","v":0},{"$f":"IFERROR(VLOOKUP($F17,料理一覧!$A$3:$N$19998,8,FALSE),\"0\")","v":0},{"$f":"IFERROR(VLOOKUP($F17,料理一覧!$A$3:$N$19998,9,FALSE),\"0\")","v":0},{"$f":"IFERROR(VLOOKUP($F17,料理一覧!$A$3:$N$19998,10,FALSE),\"0\")","v":0},{"$f":"IFERROR(VLOOKUP($F17,料理一覧!$A$3:$N$19998,11,FALSE),\"0\")","v":0},{"$f":"IFERROR(VLOOKUP($F17,料理一覧!$A$3:$N$19998,12,FALSE),\"0\")","v":0},{"$f":"IFERROR(VLOOKUP($F17,料理一覧!$A$3:$N$19998,13,FALSE),\"0\")","v":0},{"$f":"IFERROR(VLOOKUP($F17,料理一覧!$A$3:$N$19998,14,FALSE),\"0\")","v":0},{"$f":"IFERROR(VLOOKUP($G17,料理一覧!$A$3:$N$19998,4,FALSE),\"0\")","v":0},{"$f":"IFERROR(VLOOKUP($G17,料理一覧!$A$3:$N$19998,5,FALSE),\"0\")","v":0},{"$f":"IFERROR(VLOOKUP($G17,料理一覧!$A$3:$N$19998,6,FALSE),\"0\")","v":0},{"$f":"IFERROR(VLOOKUP($G17,料理一覧!$A$3:$N$19998,7,FALSE),\"0\")","v":0},{"$f":"IFERROR(VLOOKUP($G17,料理一覧!$A$3:$N$19998,8,FALSE),\"0\")","v":0},{"$f":"IFERROR(VLOOKUP($G17,料理一覧!$A$3:$N$19998,9,FALSE),\"0\")","v":0},{"$f":"IFERROR(VLOOKUP($G17,料理一覧!$A$3:$N$19998,10,FALSE),\"0\")","v":0},{"$f":"IFERROR(VLOOKUP($G17,料理一覧!$A$3:$N$19998,11,FALSE),\"0\")","v":0},{"$f":"IFERROR(VLOOKUP($G17,料理一覧!$A$3:$N$19998,12,FALSE),\"0\")","v":0},{"$f":"IFERROR(VLOOKUP($G17,料理一覧!$A$3:$N$19998,13,FALSE),\"0\")","v":0},{"$f":"IFERROR(VLOOKUP($G17,料理一覧!$A$3:$N$19998,14,FALSE),\"0\")","v":0},{"$f":"IFERROR(VLOOKUP($H17,料理一覧!$A$3:$N$19998,4,FALSE),\"0\")","v":0},{"$f":"IFERROR(VLOOKUP($H17,料理一覧!$A$3:$N$19998,5,FALSE),\"0\")","v":0},{"$f":"IFERROR(VLOOKUP($H17,料理一覧!$A$3:$N$19998,6,FALSE),\"0\")","v":0},{"$f":"IFERROR(VLOOKUP($H17,料理一覧!$A$3:$N$19998,7,FALSE),\"0\")","v":0},{"$f":"IFERROR(VLOOKUP($H17,料理一覧!$A$3:$N$19998,8,FALSE),\"0\")","v":0},{"$f":"IFERROR(VLOOKUP($H17,料理一覧!$A$3:$N$19998,9,FALSE),\"0\")","v":0},{"$f":"IFERROR(VLOOKUP($H17,料理一覧!$A$3:$N$19998,10,FALSE),\"0\")","v":0},{"$f":"IFERROR(VLOOKUP($H17,料理一覧!$A$3:$N$19998,11,FALSE),\"0\")","v":0},{"$f":"IFERROR(VLOOKUP($H17,料理一覧!$A$3:$N$19998,12,FALSE),\"0\")","v":0},{"$f":"IFERROR(VLOOKUP($H17,料理一覧!$A$3:$N$19998,13,FALSE),\"0\")","v":0},{"$f":"IFERROR(VLOOKUP($H17,料理一覧!$A$3:$N$19998,14,FALSE),\"0\")","v":0},{"$f":"IFERROR(VLOOKUP($I17,料理一覧!$A$3:$N$19998,4,FALSE),\"0\")","v":0},{"$f":"IFERROR(VLOOKUP($I17,料理一覧!$A$3:$N$19998,5,FALSE),\"0\")","v":0},{"$f":"IFERROR(VLOOKUP($I17,料理一覧!$A$3:$N$19998,6,FALSE),\"0\")","v":0},{"$f":"IFERROR(VLOOKUP($I17,料理一覧!$A$3:$N$19998,7,FALSE),\"0\")","v":0},{"$f":"IFERROR(VLOOKUP($I17,料理一覧!$A$3:$N$19998,8,FALSE),\"0\")","v":0},{"$f":"IFERROR(VLOOKUP($I17,料理一覧!$A$3:$N$19998,9,FALSE),\"0\")","v":0},{"$f":"IFERROR(VLOOKUP($I17,料理一覧!$A$3:$N$19998,10,FALSE),\"0\")","v":0},{"$f":"IFERROR(VLOOKUP($I17,料理一覧!$A$3:$N$19998,11,FALSE),\"0\")","v":0},{"$f":"IFERROR(VLOOKUP($I17,料理一覧!$A$3:$N$19998,12,FALSE),\"0\")","v":0},{"$f":"IFERROR(VLOOKUP($I17,料理一覧!$A$3:$N$19998,13,FALSE),\"0\")","v":0},{"$f":"IFERROR(VLOOKUP($I17,料理一覧!$A$3:$N$19998,14,FALSE),\"0\")","v":0},{"$f":"IFERROR(VLOOKUP($J17,料理一覧!$A$3:$N$19998,4,FALSE),\"0\")","v":0},{"$f":"IFERROR(VLOOKUP($J17,料理一覧!$A$3:$N$19998,5,FALSE),\"0\")","v":0},{"$f":"IFERROR(VLOOKUP($J17,料理一覧!$A$3:$N$19998,6,FALSE),\"0\")","v":0},{"$f":"IFERROR(VLOOKUP($J17,料理一覧!$A$3:$N$19998,7,FALSE),\"0\")","v":0},{"$f":"IFERROR(VLOOKUP($J17,料理一覧!$A$3:$N$19998,8,FALSE),\"0\")","v":0},{"$f":"IFERROR(VLOOKUP($J17,料理一覧!$A$3:$N$19998,9,FALSE),\"0\")","v":0},{"$f":"IFERROR(VLOOKUP($J17,料理一覧!$A$3:$N$19998,10,FALSE),\"0\")","v":0},{"$f":"IFERROR(VLOOKUP($J17,料理一覧!$A$3:$N$19998,11,FALSE),\"0\")","v":0},{"$f":"IFERROR(VLOOKUP($J17,料理一覧!$A$3:$N$19998,12,FALSE),\"0\")","v":0},{"$f":"IFERROR(VLOOKUP($J17,料理一覧!$A$3:$N$19998,13,FALSE),\"0\")","v":0},{"$f":"IFERROR(VLOOKUP($J17,料理一覧!$A$3:$N$19998,14,FALSE),\"0\")","v":0},{"$f":"IFERROR(VLOOKUP($K17,料理一覧!$A$3:$N$19998,4,FALSE),\"0\")","v":0},{"$f":"IFERROR(VLOOKUP($K17,料理一覧!$A$3:$N$19998,5,FALSE),\"0\")","v":0},{"$f":"IFERROR(VLOOKUP($K17,料理一覧!$A$3:$N$19998,6,FALSE),\"0\")","v":0},{"$f":"IFERROR(VLOOKUP($K17,料理一覧!$A$3:$N$19998,7,FALSE),\"0\")","v":0},{"$f":"IFERROR(VLOOKUP($K17,料理一覧!$A$3:$N$19998,8,FALSE),\"0\")","v":0},{"$f":"IFERROR(VLOOKUP($K17,料理一覧!$A$3:$N$19998,9,FALSE),\"0\")","v":0},{"$f":"IFERROR(VLOOKUP($K17,料理一覧!$A$3:$N$19998,10,FALSE),\"0\")","v":0},{"$f":"IFERROR(VLOOKUP($K17,料理一覧!$A$3:$N$19998,11,FALSE),\"0\")","v":0},{"$f":"IFERROR(VLOOKUP($K17,料理一覧!$A$3:$N$19998,12,FALSE),\"0\")","v":0},{"$f":"IFERROR(VLOOKUP($K17,料理一覧!$A$3:$N$19998,13,FALSE),\"0\")","v":0},{"$f":"IFERROR(VLOOKUP($K17,料理一覧!$A$3:$N$19998,14,FALSE),\"0\")","v":0},0,0,0,0,0,0,0,0,0,0,0]
[14,"(金)",null,null,null,null,null,null,null,null,null,{"$f":"IFERROR(VLOOKUP($C18,料理一覧!$A$3:$N$19998,3,FALSE),\"\")","v":0},{"$f":"IFERROR(VLOOKUP($D18,料理一覧!$A$3:$N$19998,3,FALSE),\"\")","v":0},{"$f":"IFERROR(VLOOKUP($E18,料理一覧!$A$3:$N$19998,3,FALSE),\"\")","v":0},{"$f":"IFERROR(VLOOKUP($F18,料理一覧!$A$3:$N$19998,3,FALSE),\"\")","v":0},{"$f":"IFERROR(VLOOKUP($G18,料理一覧!$A$3:$N$19998,3,FALSE),\"\")","v":0},{"$f":"IFERROR(VLOOKUP($H18,料理一覧!$A$3:$N$19998,3,FALSE),\"\")","v":0},{"$f":"IFERROR(VLOOKUP($I18,料理一覧!$A$3:$N$19998,3,FALSE),\"\")","v":0},{"$f":"IFERROR(VLOOKUP($J18,料理一覧!$A$3:$N$19998,3,FALSE),\"\")","v":0},{"$f":"IFERROR(VLOOKUP($K18,料理一覧!$A$3:$N$19998,3,FALSE),\"\")","v":0},0,0,0,0,0,0,0,0,0,0,0,{"$f":"IFERROR(VLOOKUP($C18,料理一覧!$A$3:$N$19998,4,FALSE),\"0\")","v":0},{"$f":"IFERROR(VLOOKUP($C18,料理一覧!$A$3:$N$19998,5,FALSE),\"0\")","v":0},{"$f":"IFERROR(VLOOKUP($C18,料理一覧!$A$3:$N$19998,6,FALSE),\"0\")","v":0},{"$f":"IFERROR(VLOOKUP($C18,料理一覧!$A$3:$N$19998,7,FALSE),\"0\")","v":0},{"$f":"IFERROR(VLOOKUP($C18,料理一覧!$A$3:$N$19998,8,FALSE),\"0\")","v":0},{"$f":"IFERROR(VLOOKUP($C18,料理一覧!$A$3:$N$19998,9,FALSE),\"0\")","v":0},{"$f":"IFERROR(VLOOKUP($C18,料理一覧!$A$3:$N$19998,10,FALSE),\"0\")","v":0},{"$f":"IFERROR(VLOOKUP($C18,料理一覧!$A$3:$N$19998,11,FALSE),\"0\")","v":0},{"$f":"IFERROR(VLOOKUP($C18,料理一覧!$A$3:$N$19998,12,FALSE),\"0\")","v":0},{"$f":"IFERROR(VLOOKUP($C18,料理一覧!$A$3:$N$19998,13,FALSE),\"0\")","v":0},{"$f":"IFERROR(VLOOKUP($C18,料理一覧!$A$3:$N$19998,14,FALSE),\"0\")","v":0},{"$f":"IFERROR(VLOOKUP($D18,料理一覧!$A$3:$N$19998,4,FALSE),\"0\")","v":0},{"$f":"IFERROR(VLOOKUP($D18,料理一覧!$A$3:$N$19998,5,FALSE),\"0\")","v":0},{"$f":"IFERROR(VLOOKUP($D18,料理一覧!$A$3:$N$19998,6,FALSE),\"0\")","v":0},{"$f":"IFERROR(VLOOKUP($D18,料理一覧!$A$3:$N$19998,7,FALSE),\"0\")","v":0},{"$f":"IFERROR(VLOOKUP($D18,料理一覧!$A$3:$N$19998,8,FALSE),\"0\")","v":0},{"$f":"IFERROR(VLOOKUP($D18,料理一覧!$A$3:$N$19998,9,FALSE),\"0\")","v":0},{"$f":"IFERROR(VLOOKUP($D18,料理一覧!$A$3:$N$19998,10,FALSE),\"0\")","v":0},{"$f":"IFERROR(VLOOKUP($D18,料理一覧!$A$3:$N$19998,11,FALSE),\"0\")","v":0},{"$f":"IFERROR(VLOOKUP($D18,料理一覧!$A$3:$N$19998,12,FALSE),\"0\")","v":0},{"$f":"IFERROR(VLOOKUP($D18,料理一覧!$A$3:$N$19998,13,FALSE),\"0\")","v":0},{"$f":"IFERROR(VLOOKUP($D18,料理一覧!$A$3:$N$19998,14,FALSE),\"0\")","v":0},{"$f":"IFERROR(VLOOKUP($E18,料理一覧!$A$3:$N$19998,4,FALSE),\"0\")","v":0},{"$f":"IFERROR(VLOOKUP($E18,料理一覧!$A$3:$N$19998,5,FALSE),\"0\")","v":0},{"$f":"IFERROR(VLOOKUP($E18,料理一覧!$A$3:$N$19998,6,FALSE),\"0\")","v":0},{"$f":"IFERROR(VLOOKUP($E18,料理一覧!$A$3:$N$19998,7,FALSE),\"0\")","v":0},{"$f":"IFERROR(VLOOKUP($E18,料理一覧!$A$3:$N$19998,8,FALSE),\"0\")","v":0},{"$f":"IFERROR(VLOOKUP($E18,料理一覧!$A$3:$N$19998,9,FALSE),\"0\")","v":0},{"$f":"IFERROR(VLOOKUP($E18,料理一覧!$A$3:$N$19998,10,FALSE),\"0\")","v":0},{"$f":"IFERROR(VLOOKUP($E18,料理一覧!$A$3:$N$19998,11,FALSE),\"0\")","v":0},{"$f":"IFERROR(VLOOKUP($E18,料理一覧!$A$3:$N$19998,12,FALSE),\"0\")","v":0},{"$f":"IFERROR(VLOOKUP($E18,料理一覧!$A$3:$N$19998,13,FALSE),\"0\")","v":0},{"$f":"IFERROR(VLOOKUP($E18,料理一覧!$A$3:$N$19998,14,FALSE),\"0\")","v":0},{"$f":"IFERROR(VLOOKUP($F18,料理一覧!$A$3:$N$19998,4,FALSE),\"0\")","v":0},{"$f":"IFERROR(VLOOKUP($F18,料理一覧!$A$3:$N$19998,5,FALSE),\"0\")","v":0},{"$f":"IFERROR(VLOOKUP($F18,料理一覧!$A$3:$N$19998,6,FALSE),\"0\")","v":0},{"$f":"IFERROR(VLOOKUP($F18,料理一覧!$A$3:$N$19998,7,FALSE),\"0\")","v":0},{"$f":"IFERROR(VLOOKUP($F18,料理一覧!$A$3:$N$19998,8,FALSE),\"0\")","v":0},{"$f":"IFERROR(VLOOKUP($F18,料理一覧!$A$3:$N$19998,9,FALSE),\"0\")","v":0},{"$f":"IFERROR(VLOOKUP($F18,料理一覧!$A$3:$N$19998,10,FALSE),\"0\")","v":0},{"$f":"IFERROR(VLOOKUP($F18,料理一覧!$A$3:$N$19998,11,FALSE),\"0\")","v":0},{"$f":"IFERROR(VLOOKUP($F18,料理一覧!$A$3:$N$19998,12,FALSE),\"0\")","v":0},{"$f":"IFERROR(VLOOKUP($F18,料理一覧!$A$3:$N$19998,13,FALSE),\"0\")","v":0},{"$f":"IFERROR(VLOOKUP($F18,料理一覧!$A$3:$N$19998,14,FALSE),\"0\")","v":0},{"$f":"IFERROR(VLOOKUP($G18,料理一覧!$A$3:$N$19998,4,FALSE),\"0\")","v":0},{"$f":"IFERROR(VLOOKUP($G18,料理一覧!$A$3:$N$19998,5,FALSE),\"0\")","v":0},{"$f":"IFERROR(VLOOKUP($G18,料理一覧!$A$3:$N$19998,6,FALSE),\"0\")","v":0},{"$f":"IFERROR(VLOOKUP($G18,料理一覧!$A$3:$N$19998,7,FALSE),\"0\")","v":0},{"$f":"IFERROR(VLOOKUP($G18,料理一覧!$A$3:$N$19998,8,FALSE),\"0\")","v":0},{"$f":"IFERROR(VLOOKUP($G18,料理一覧!$A$3:$N$19998,9,FALSE),\"0\")","v":0},{"$f":"IFERROR(VLOOKUP($G18,料理一覧!$A$3:$N$19998,10,FALSE),\"0\")","v":0},{"$f":"IFERROR(VLOOKUP($G18,料理一覧!$A$3:$N$19998,11,FALSE),\"0\")","v":0},{"$f":"IFERROR(VLOOKUP($G18,料理一覧!$A$3:$N$19998,12,FALSE),\"0\")","v":0},{"$f":"IFERROR(VLOOKUP($G18,料理一覧!$A$3:$N$19998,13,FALSE),\"0\")","v":0},{"$f":"IFERROR(VLOOKUP($G18,料理一覧!$A$3:$N$19998,14,FALSE),\"0\")","v":0},{"$f":"IFERROR(VLOOKUP($H18,料理一覧!$A$3:$N$19998,4,FALSE),\"0\")","v":0},{"$f":"IFERROR(VLOOKUP($H18,料理一覧!$A$3:$N$19998,5,FALSE),\"0\")","v":0},{"$f":"IFERROR(VLOOKUP($H18,料理一覧!$A$3:$N$19998,6,FALSE),\"0\")","v":0},{"$f":"IFERROR(VLOOKUP($H18,料理一覧!$A$3:$N$19998,7,FALSE),\"0\")","v":0},{"$f":"IFERROR(VLOOKUP($H18,料理一覧!$A$3:$N$19998,8,FALSE),\"0\")","v":0},{"$f":"IFERROR(VLOOKUP($H18,料理一覧!$A$3:$N$19998,9,FALSE),\"0\")","v":0},{"$f":"IFERROR(VLOOKUP($H18,料理一覧!$A$3:$N$19998,10,FALSE),\"0\")","v":0},{"$f":"IFERROR(VLOOKUP($H18,料理一覧!$A$3:$N$19998,11,FALSE),\"0\")","v":0},{"$f":"IFERROR(VLOOKUP($H18,料理一覧!$A$3:$N$19998,12,FALSE),\"0\")","v":0},{"$f":"IFERROR(VLOOKUP($H18,料理一覧!$A$3:$N$19998,13,FALSE),\"0\")","v":0},{"$f":"IFERROR(VLOOKUP($H18,料理一覧!$A$3:$N$19998,14,FALSE),\"0\")","v":0},{"$f":"IFERROR(VLOOKUP($I18,料理一覧!$A$3:$N$19998,4,FALSE),\"0\")","v":0},{"$f":"IFERROR(VLOOKUP($I18,料理一覧!$A$3:$N$19998,5,FALSE),\"0\")","v":0},{"$f":"IFERROR(VLOOKUP($I18,料理一覧!$A$3:$N$19998,6,FALSE),\"0\")","v":0},{"$f":"IFERROR(VLOOKUP($I18,料理一覧!$A$3:$N$19998,7,FALSE),\"0\")","v":0},{"$f":"IFERROR(VLOOKUP($I18,料理一覧!$A$3:$N$19998,8,FALSE),\"0\")","v":0},{"$f":"IFERROR(VLOOKUP($I18,料理一覧!$A$3:$N$19998,9,FALSE),\"0\")","v":0},{"$f":"IFERROR(VLOOKUP($I18,料理一覧!$A$3:$N$19998,10,FALSE),\"0\")","v":0},{"$f":"IFERROR(VLOOKUP($I18,料理一覧!$A$3:$N$19998,11,FALSE),\"0\")","v":0},{"$f":"IFERROR(VLOOKUP($I18,料理一覧!$A$3:$N$19998,12,FALSE),\"0\")","v":0},{"$f":"IFERROR(VLOOKUP($I18,料理一覧!$A$3:$N$19998,13,FALSE),\"0\")","v":0},{"$f":"IFERROR(VLOOKUP($I18,料理一覧!$A$3:$N$19998,14,FALSE),\"0\")","v":0},{"$f":"IFERROR(VLOOKUP($J18,料理一覧!$A$3:$N$19998,4,FALSE),\"0\")","v":0},{"$f":"IFERROR(VLOOKUP($J18,料理一覧!$A$3:$N$19998,5,FALSE),\"0\")","v":0},{"$f":"IFERROR(VLOOKUP($J18,料理一覧!$A$3:$N$19998,6,FALSE),\"0\")","v":0},{"$f":"IFERROR(VLOOKUP($J18,料理一覧!$A$3:$N$19998,7,FALSE),\"0\")","v":0},{"$f":"IFERROR(VLOOKUP($J18,料理一覧!$A$3:$N$19998,8,FALSE),\"0\")","v":0},{"$f":"IFERROR(VLOOKUP($J18,料理一覧!$A$3:$N$19998,9,FALSE),\"0\")","v":0},{"$f":"IFERROR(VLOOKUP($J18,料理一覧!$A$3:$N$19998,10,FALSE),\"0\")","v":0},{"$f":"IFERROR(VLOOKUP($J18,料理一覧!$A$3:$N$19998,11,FALSE),\"0\")","v":0},{"$f":"IFERROR(VLOOKUP($J18,料理一覧!$A$3:$N$19998,12,FALSE),\"0\")","v":0},{"$f":"IFERROR(VLOOKUP($J18,料理一覧!$A$3:$N$19998,13,FALSE),\"0\")","v":0},{"$f":"IFERROR(VLOOKUP($J18,料理一覧!$A$3:$N$19998,14,FALSE),\"0\")","v":0},{"$f":"IFERROR(VLOOKUP($K18,料理一覧!$A$3:$N$19998,4,FALSE),\"0\")","v":0},{"$f":"IFERROR(VLOOKUP($K18,料理一覧!$A$3:$N$19998,5,FALSE),\"0\")","v":0},{"$f":"IFERROR(VLOOKUP($K18,料理一覧!$A$3:$N$19998,6,FALSE),\"0\")","v":0},{"$f":"IFERROR(VLOOKUP($K18,料理一覧!$A$3:$N$19998,7,FALSE),\"0\")","v":0},{"$f":"IFERROR(VLOOKUP($K18,料理一覧!$A$3:$N$19998,8,FALSE),\"0\")","v":0},{"$f":"IFERROR(VLOOKUP($K18,料理一覧!$A$3:$N$19998,9,FALSE),\"0\")","v":0},{"$f":"IFERROR(VLOOKUP($K18,料理一覧!$A$3:$N$19998,10,FALSE),\"0\")","v":0},{"$f":"IFERROR(VLOOKUP($K18,料理一覧!$A$3:$N$19998,11,FALSE),\"0\")","v":0},{"$f":"IFERROR(VLOOKUP($K18,料理一覧!$A$3:$N$19998,12,FALSE),\"0\")","v":0},{"$f":"IFERROR(VLOOKUP($K18,料理一覧!$A$3:$N$19998,13,FALSE),\"0\")","v":0},{"$f":"IFERROR(VLOOKUP($K18,料理一覧!$A$3:$N$19998,14,FALSE),\"0\")","v":0},0,0,0,0,0,0,0,0,0,0,0]
[15,"(土)",null,null,null,null,null,null,null,null,null,{"$f":"IFERROR(VLOOKUP($C19,料理一覧!$A$3:$N$19998,3,FALSE),\"\")","v":0},{"$f":"IFERROR(VLOOKUP($D19,料理一覧!$A$3:$N$19998,3,FALSE),\"\")","v":0},{"$f":"IFERROR(VLOOKUP($E19,料理一覧!$A$3:$N$19998,3,FALSE),\"\")","v":0},{"$f":"IFERROR(VLOOKUP($F19,料理一覧!$A$3:$N$19998,3,FALSE),\"\")","v":0},{"$f":"IFERROR(VLOOKUP($G19,料理一覧!$A$3:$N$19998,3,FALSE),\"\")","v":0},{"$f":"IFERROR(VLOOKUP($H19,料理一覧!$A$3:$N$19998,3,FALSE),\"\")","v":0},{"$f":"IFERROR(VLOOKUP($I19,料理一覧!$A$3:$N$19998,3,FALSE),\"\")","v":0},{"$f":"IFERROR(VLOOKUP($J19,料理一覧!$A$3:$N$19998,3,FALSE),\"\")","v":0},{"$f":"IFERROR(VLOOKUP($K19,料理一覧!$A$3:$N$19998,3,FALSE),\"\")","v":0},0,0,0,0,0,0,0,0,0,0,0,{"$f":"IFERROR(VLOOKUP($C19,料理一覧!$A$3:$N$19998,4,FALSE),\"0\")","v":0},{"$f":"IFERROR(VLOOKUP($C19,料理一覧!$A$3:$N$19998,5,FALSE),\"0\")","v":0},{"$f":"IFERROR(VLOOKUP($C19,料理一覧!$A$3:$N$19998,6,FALSE),\"0\")","v":0},{"$f":"IFERROR(VLOOKUP($C19,料理一覧!$A$3:$N$19998,7,FALSE),\"0\")","v":0},{"$f":"IFERROR(VLOOKUP($C19,料理一覧!$A$3:$N$19998,8,FALSE),\"0\")","v":0},{"$f":"IFERROR(VLOOKUP($C19,料理一覧!$A$3:$N$19998,9,FALSE),\"0\")","v":0},{"$f":"IFERROR(VLOOKUP($C19,料理一覧!$A$3:$N$19998,10,FALSE),\"0\")","v":0},{"$f":"IFERROR(VLOOKUP($C19,料理一覧!$A$3:$N$19998,11,FALSE),\"0\")","v":0},{"$f":"IFERROR(VLOOKUP($C19,料理一覧!$A$3:$N$19998,12,FALSE),\"0\")","v":0},{"$f":"IFERROR(VLOOKUP($C19,料理一覧!$A$3:$N$19998,13,FALSE),\"0\")","v":0},{"$f":"IFERROR(VLOOKUP($C19,料理一覧!$A$3:$N$19998,14,FALSE),\"0\")","v":0},{"$f":"IFERROR(VLOOKUP($D19,料理一覧!$A$3:$N$19998,4,FALSE),\"0\")","v":0},{"$f":"IFERROR(VLOOKUP($D19,料理一覧!$A$3:$N$19998,5,FALSE),\"0\")","v":0},{"$f":"IFERROR(VLOOKUP($D19,料理一覧!$A$3:$N$19998,6,FALSE),\"0\")","v":0},{"$f":"IFERROR(VLOOKUP($D19,料理一覧!$A$3:$N$19998,7,FALSE),\"0\")","v":0},{"$f":"IFERROR(VLOOKUP($D19,料理一覧!$A$3:$N$19998,8,FALSE),\"0\")","v":0},{"$f":"IFERROR(VLOOKUP($D19,料理一覧!$A$3:$N$19998,9,FALSE),\"0\")","v":0},{"$f":"IFERROR(VLOOKUP($D19,料理一覧!$A$3:$N$19998,10,FALSE),\"0\")","v":0},{"$f":"IFERROR(VLOOKUP($D19,料理一覧!$A$3:$N$19998,11,FALSE),\"0\")","v":0},{"$f":"IFERROR(VLOOKUP($D19,料理一覧!$A$3:$N$19998,12,FALSE),\"0\")","v":0},{"$f":"IFERROR(VLOOKUP($D19,料理一覧!$A$3:$N$19998,13,FALSE),\"0\")","v":0},{"$f":"IFERROR(VLOOKUP($D19,料理一覧!$A$3:$N$19998,14,FALSE),\"0\")","v":0},{"$f":"IFERROR(VLOOKUP($E19,料理一覧!$A$3:$N$19998,4,FALSE),\"0\")","v":0},{"$f":"IFERROR(VLOOKUP($E19,料理一覧!$A$3:$N$19998,5,FALSE),\"0\")","v":0},{"$f":"IFERROR(VLOOKUP($E19,料理一覧!$A$3:$N$19998,6,FALSE),\"0\")","v":0},{"$f":"IFERROR(VLOOKUP($E19,料理一覧!$A$3:$N$19998,7,FALSE),\"0\")","v":0},{"$f":"IFERROR(VLOOKUP($E19,料理一覧!$A$3:$N$19998,8,FALSE),\"0\")","v":0},{"$f":"IFERROR(VLOOKUP($E19,料理一覧!$A$3:$N$19998,9,FALSE),\"0\")","v":0},{"$f":"IFERROR(VLOOKUP($E19,料理一覧!$A$3:$N$19998,10,FALSE),\"0\")","v":0},{"$f":"IFERROR(VLOOKUP($E19,料理一覧!$A$3:$N$19998,11,FALSE),\"0\")","v":0},{"$f":"IFERROR(VLOOKUP($E19,料理一覧!$A$3:$N$19998,12,FALSE),\"0\")","v":0},{"$f":"IFERROR(VLOOKUP($E19,料理一覧!$A$3:$N$19998,13,FALSE),\"0\")","v":0},{"$f":"IFERROR(VLOOKUP($E19,料理一覧!$A$3:$N$19998,14,FALSE),\"0\")","v":0},{"$f":"IFERROR(VLOOKUP($F19,料理一覧!$A$3:$N$19998,4,FALSE),\"0\")","v":0},{"$f":"IFERROR(VLOOKUP($F19,料理一覧!$A$3:$N$19998,5,FALSE),\"0\")","v":0},{"$f":"IFERROR(VLOOKUP($F19,料理一覧!$A$3:$N$19998,6,FALSE),\"0\")","v":0},{"$f":"IFERROR(VLOOKUP($F19,料理一覧!$A$3:$N$19998,7,FALSE),\"0\")","v":0},{"$f":"IFERROR(VLOOKUP($F19,料理一覧!$A$3:$N$19998,8,FALSE),\"0\")","v":0},{"$f":"IFERROR(VLOOKUP($F19,料理一覧!$A$3:$N$19998,9,FALSE),\"0\")","v":0},{"$f":"IFERROR(VLOOKUP($F19,料理一覧!$A$3:$N$19998,10,FALSE),\"0\")","v":0},{"$f":"IFERROR(VLOOKUP($F19,料理一覧!$A$3:$N$19998,11,FALSE),\"0\")","v":0},{"$f":"IFERROR(VLOOKUP($F19,料理一覧!$A$3:$N$19998,12,FALSE),\"0\")","v":0},{"$f":"IFERROR(VLOOKUP($F19,料理一覧!$A$3:$N$19998,13,FALSE),\"0\")","v":0},{"$f":"IFERROR(VLOOKUP($F19,料理一覧!$A$3:$N$19998,14,FALSE),\"0\")","v":0},{"$f":"IFERROR(VLOOKUP($G19,料理一覧!$A$3:$N$19998,4,FALSE),\"0\")","v":0},{"$f":"IFERROR(VLOOKUP($G19,料理一覧!$A$3:$N$19998,5,FALSE),\"0\")","v":0},{"$f":"IFERROR(VLOOKUP($G19,料理一覧!$A$3:$N$19998,6,FALSE),\"0\")","v":0},{"$f":"IFERROR(VLOOKUP($G19,料理一覧!$A$3:$N$19998,7,FALSE),\"0\")","v":0},{"$f":"IFERROR(VLOOKUP($G19,料理一覧!$A$3:$N$19998,8,FALSE),\"0\")","v":0},{"$f":"IFERROR(VLOOKUP($G19,料理一覧!$A$3:$N$19998,9,FALSE),\"0\")","v":0},{"$f":"IFERROR(VLOOKUP($G19,料理一覧!$A$3:$N$19998,10,FALSE),\"0\")","v":0},{"$f":"IFERROR(VLOOKUP($G19,料理一覧!$A$3:$N$19998,11,FALSE),\"0\")","v":0},{"$f":"IFERROR(VLOOKUP($G19,料理一覧!$A$3:$N$19998,12,FALSE),\"0\")","v":0},{"$f":"IFERROR(VLOOKUP($G19,料理一覧!$A$3:$N$19998,13,FALSE),\"0\")","v":0},{"$f":"IFERROR(VLOOKUP($G19,料理一覧!$A$3:$N$19998,14,FALSE),\"0\")","v":0},{"$f":"IFERROR(VLOOKUP($H19,料理一覧!$A$3:$N$19998,4,FALSE),\"0\")","v":0},{"$f":"IFERROR(VLOOKUP($H19,料理一覧!$A$3:$N$19998,5,FALSE),\"0\")","v":0},{"$f":"IFERROR(VLOOKUP($H19,料理一覧!$A$3:$N$19998,6,FALSE),\"0\")","v":0},{"$f":"IFERROR(VLOOKUP($H19,料理一覧!$A$3:$N$19998,7,FALSE),\"0\")","v":0},{"$f":"IFERROR(VLOOKUP($H19,料理一覧!$A$3:$N$19998,8,FALSE),\"0\")","v":0},{"$f":"IFERROR(VLOOKUP($H19,料理一覧!$A$3:$N$19998,9,FALSE),\"0\")","v":0},{"$f":"IFERROR(VLOOKUP($H19,料理一覧!$A$3:$N$19998,10,FALSE),\"0\")","v":0},{"$f":"IFERROR(VLOOKUP($H19,料理一覧!$A$3:$N$19998,11,FALSE),\"0\")","v":0},{"$f":"IFERROR(VLOOKUP($H19,料理一覧!$A$3:$N$19998,12,FALSE),\"0\")","v":0},{"$f":"IFERROR(VLOOKUP($H19,料理一覧!$A$3:$N$19998,13,FALSE),\"0\")","v":0},{"$f":"IFERROR(VLOOKUP($H19,料理一覧!$A$3:$N$19998,14,FALSE),\"0\")","v":0},{"$f":"IFERROR(VLOOKUP($I19,料理一覧!$A$3:$N$19998,4,FALSE),\"0\")","v":0},{"$f":"IFERROR(VLOOKUP($I19,料理一覧!$A$3:$N$19998,5,FALSE),\"0\")","v":0},{"$f":"IFERROR(VLOOKUP($I19,料理一覧!$A$3:$N$19998,6,FALSE),\"0\")","v":0},{"$f":"IFERROR(VLOOKUP($I19,料理一覧!$A$3:$N$19998,7,FALSE),\"0\")","v":0},{"$f":"IFERROR(VLOOKUP($I19,料理一覧!$A$3:$N$19998,8,FALSE),\"0\")","v":0},{"$f":"IFERROR(VLOOKUP($I19,料理一覧!$A$3:$N$19998,9,FALSE),\"0\")","v":0},{"$f":"IFERROR(VLOOKUP($I19,料理一覧!$A$3:$N$19998,10,FALSE),\"0\")","v":0},{"$f":"IFERROR(VLOOKUP($I19,料理一覧!$A$3:$N$19998,11,FALSE),\"0\")","v":0},{"$f":"IFERROR(VLOOKUP($I19,料理一覧!$A$3:$N$19998,12,FALSE),\"0\")","v":0},{"$f":"IFERROR(VLOOKUP($I19,料理一覧!$A$3:$N$19998,13,FALSE),\"0\")","v":0},{"$f":"IFERROR(VLOOKUP($I19,料理一覧!$A$3:$N$19998,14,FALSE),\"0\")","v":0},{"$f":"IFERROR(VLOOKUP($J19,料理一覧!$A$3:$N$19998,4,FALSE),\"0\")","v":0},{"$f":"IFERROR(VLOOKUP($J19,料理一覧!$A$3:$N$19998,5,FALSE),\"0\")","v":0},{"$f":"IFERROR(VLOOKUP($J19,料理一覧!$A$3:$N$19998,6,FALSE),\"0\")","v":0},{"$f":"IFERROR(VLOOKUP($J19,料理一覧!$A$3:$N$19998,7,FALSE),\"0\")","v":0},{"$f":"IFERROR(VLOOKUP($J19,料理一覧!$A$3:$N$19998,8,FALSE),\"0\")","v":0},{"$f":"IFERROR(VLOOKUP($J19,料理一覧!$A$3:$N$19998,9,FALSE),\"0\")","v":0},{"$f":"IFERROR(VLOOKUP($J19,料理一覧!$A$3:$N$19998,10,FALSE),\"0\")","v":0},{"$f":"IFERROR(VLOOKUP($J19,料理一覧!$A$3:$N$19998,11,FALSE),\"0\")","v":0},{"$f":"IFERROR(VLOOKUP($J19,料理一覧!$A$3:$N$19998,12,FALSE),\"0\")","v":0},{"$f":"IFERROR(VLOOKUP($J19,料理一覧!$A$3:$N$19998,13,FALSE),\"0\")","v":0},{"$f":"IFERROR(VLOOKUP($J19,料理一覧!$A$3:$N$19998,14,FALSE),\"0\")","v":0},{"$f":"IFERROR(VLOOKUP($K19,料理一覧!$A$3:$N$19998,4,FALSE),\"0\")","v":0},{"$f":"IFERROR(VLOOKUP($K19,料理一覧!$A$3:$N$19998,5,FALSE),\"0\")","v":0},{"$f":"IFERROR(VLOOKUP($K19,料理一覧!$A$3:$N$19998,6,FALSE),\"0\")","v":0},{"$f":"IFERROR(VLOOKUP($K19,料理一覧!$A$3:$N$19998,7,FALSE),\"0\")","v":0},{"$f":"IFERROR(VLOOKUP($K19,料理一覧!$A$3:$N$19998,8,FALSE),\"0\")","v":0},{"$f":"IFERROR(VLOOKUP($K19,料理一覧!$A$3:$N$19998,9,FALSE),\"0\")","v":0},{"$f":"IFERROR(VLOOKUP($K19,料理一覧!$A$3:$N$19998,10,FALSE),\"0\")","v":0},{"$f":"IFERROR(VLOOKUP($K19,料理一覧!$A$3:$N$19998,11,FALSE),\"0\")","v":0},{"$f":"IFERROR(VLOOKUP($K19,料理一覧!$A$3:$N$19998,12,FALSE),\"0\")","v":0},{"$f":"IFERROR(VLOOKUP($K19,料理一覧!$A$3:$N$19998,13,FALSE),\"0\")","v":0},{"$f":"IFERROR(VLOOKUP($K19,料理一覧!$A$3:$N$19998,14,FALSE),\"0\")","v":0},0,0,0,0,0,0,0,0,0,0,0]
[16,"(日)",null,null,null,null,null,null,null,null,null,{"$f":"IFERROR(VLOOKUP($C20,料理一覧!$A$3:$N$19998,3,FALSE),\"\")","v":0},{"$f":"IFERROR(VLOOKUP($D20,料理一覧!$A$3:$N$19998,3,FALSE),\"\")","v":0},{"$f":"IFERROR(VLOOKUP($E20,料理一覧!$A$3:$N$19998,3,FALSE),\"\")","v":0},{"$f":"IFERROR(VLOOKUP($F20,料理一覧!$A$3:$N$19998,3,FALSE),\"\")","v":0},{"$f":"IFERROR(VLOOKUP($G20,料理一覧!$A$3:$N$19998,3,FALSE),\"\")","v":0},{"$f":"IFERROR(VLOOKUP($H20,料理一覧!$A$3:$N$19998,3,FALSE),\"\")","v":0},{"$f":"IFERROR(VLOOKUP($I20,料理一覧!$A$3:$N$19998,3,FALSE),\"\")","v":0},{"$f":"IFERROR(VLOOKUP($J20,料理一覧!$A$3:$N$19998,3,FALSE),\"\")","v":0},{"$f":"IFERROR(VLOOKUP($K20,料理一覧!$A$3:$N$19998,3,FALSE),\"\")","v":0},0,0,0,0,0,0,0,0,0,0,0,{"$f":"IFERROR(VLOOKUP($C20,料理一覧!$A$3:$N$19998,4,FALSE),\"0\")","v":0},{"$f":"IFERROR(VLOOKUP($C20,料理一覧!$A$3:$N$19998,5,FALSE),\"0\")","v":0},{"$f":"IFERROR(VLOOKUP($C20,料理一覧!$A$3:$N$19998,6,FALSE),\"0\")","v":0},{"$f":"IFERROR(VLOOKUP($C20,料理一覧!$A$3:$N$19998,7,FALSE),\"0\")","v":0},{"$f":"IFERROR(VLOOKUP($C20,料理一覧!$A$3:$N$19998,8,FALSE),\"0\")","v":0},{"$f":"IFERROR(VLOOKUP($C20,料理一覧!$A$3:$N$19998,9,FALSE),\"0\")","v":0},{"$f":"IFERROR(VLOOKUP($C20,料理一覧!$A$3:$N$19998,10,FALSE),\"0\")","v":0},{"$f":"IFERROR(VLOOKUP($C20,料理一覧!$A$3:$N$19998,11,FALSE),\"0\")","v":0},{"$f":"IFERROR(VLOOKUP($C20,料理一覧!$A$3:$N$19998,12,FALSE),\"0\")","v":0},{"$f":"IFERROR(VLOOKUP($C20,料理一覧!$A$3:$N$19998,13,FALSE),\"0\")","v":0},{"$f":"IFERROR(VLOOKUP($C20,料理一覧!$A$3:$N$19998,14,FALSE),\"0\")","v":0},{"$f":"IFERROR(VLOOKUP($D20,料理一覧!$A$3:$N$19998,4,FALSE),\"0\")","v":0},{"$f":"IFERROR(VLOOKUP($D20,料理一覧!$A$3:$N$19998,5,FALSE),\"0\")","v":0},{"$f":"IFERROR(VLOOKUP($D20,料理一覧!$A$3:$N$19998,6,FALSE),\"0\")","v":0},{"$f":"IFERROR(VLOOKUP($D20,料理一覧!$A$3:$N$19998,7,FALSE),\"0\")","v":0},{"$f":"IFERROR(VLOOKUP($D20,料理一覧!$A$3:$N$19998,8,FALSE),\"0\")","v":0},{"$f":"IFERROR(VLOOKUP($D20,料理一覧!$A$3:$N$19998,9,FALSE),\"0\")","v":0},{"$f":"IFERROR(VLOOKUP($D20,料理一覧!$A$3:$N$19998,10,FALSE),\"0\")","v":0},{"$f":"IFERROR(VLOOKUP($D20,料理一覧!$A$3:$N$19998,11,FALSE),\"0\")","v":0},{"$f":"IFERROR(VLOOKUP($D20,料理一覧!$A$3:$N$19998,12,FALSE),\"0\")","v":0},{"$f":"IFERROR(VLOOKUP($D20,料理一覧!$A$3:$N$19998,13,FALSE),\"0\")","v":0},{"$f":"IFERROR(VLOOKUP($D20,料理一覧!$A$3:$N$19998,14,FALSE),\"0\")","v":0},{"$f":"IFERROR(VLOOKUP($E20,料理一覧!$A$3:$N$19998,4,FALSE),\"0\")","v":0},{"$f":"IFERROR(VLOOKUP($E20,料理一覧!$A$3:$N$19998,5,FALSE),\"0\")","v":0},{"$f":"IFERROR(VLOOKUP($E20,料理一覧!$A$3:$N$19998,6,FALSE),\"0\")","v":0},{"$f":"IFERROR(VLOOKUP($E20,料理一覧!$A$3:$N$19998,7,FALSE),\"0\")","v":0},{"$f":"IFERROR(VLOOKUP($E20,料理一覧!$A$3:$N$19998,8,FALSE),\"0\")","v":0},{"$f":"IFERROR(VLOOKUP($E20,料理一覧!$A$3:$N$19998,9,FALSE),\"0\")","v":0},{"$f":"IFERROR(VLOOKUP($E20,料理一覧!$A$3:$N$19998,10,FALSE),\"0\")","v":0},{"$f":"IFERROR(VLOOKUP($E20,料理一覧!$A$3:$N$19998,11,FALSE),\"0\")","v":0},{"$f":"IFERROR(VLOOKUP($E20,料理一覧!$A$3:$N$19998,12,FALSE),\"0\")","v":0},{"$f":"IFERROR(VLOOKUP($E20,料理一覧!$A$3:$N$19998,13,FALSE),\"0\")","v":0},{"$f":"IFERROR(VLOOKUP($E20,料理一覧!$A$3:$N$19998,14,FALSE),\"0\")","v":0},{"$f":"IFERROR(VLOOKUP($F20,料理一覧!$A$3:$N$19998,4,FALSE),\"0\")","v":0},{"$f":"IFERROR(VLOOKUP($F20,料理一覧!$A$3:$N$19998,5,FALSE),\"0\")","v":0},{"$f":"IFERROR(VLOOKUP($F20,料理一覧!$A$3:$N$19998,6,FALSE),\"0\")","v":0},{"$f":"IFERROR(VLOOKUP($F20,料理一覧!$A$3:$N$19998,7,FALSE),\"0\")","v":0},{"$f":"IFERROR(VLOOKUP($F20,料理一覧!$A$3:$N$19998,8,FALSE),\"0\")","v":0},{"$f":"IFERROR(VLOOKUP($F20,料理一覧!$A$3:$N$19998,9,FALSE),\"0\")","v":0},{"$f":"IFERROR(VLOOKUP($F20,料理一覧!$A$3:$N$19998,10,FALSE),\"0\")","v":0},{"$f":"IFERROR(VLOOKUP($F20,料理一覧!$A$3:$N$19998,11,FALSE),\"0\")","v":0},{"$f":"IFERROR(VLOOKUP($F20,料理一覧!$A$3:$N$19998,12,FALSE),\"0\")","v":0},{"$f":"IFERROR(VLOOKUP($F20,料理一覧!$A$3:$N$19998,13,FALSE),\"0\")","v":0},{"$f":"IFERROR(VLOOKUP($F20,料理一覧!$A$3:$N$19998,14,FALSE),\"0\")","v":0},{"$f":"IFERROR(VLOOKUP($G20,料理一覧!$A$3:$N$19998,4,FALSE),\"0\")","v":0},{"$f":"IFERROR(VLOOKUP($G20,料理一覧!$A$3:$N$19998,5,FALSE),\"0\")","v":0},{"$f":"IFERROR(VLOOKUP($G20,料理一覧!$A$3:$N$19998,6,FALSE),\"0\")","v":0},{"$f":"IFERROR(VLOOKUP($G20,料理一覧!$A$3:$N$19998,7,FALSE),\"0\")","v":0},{"$f":"IFERROR(VLOOKUP($G20,料理一覧!$A$3:$N$19998,8,FALSE),\"0\")","v":0},{"$f":"IFERROR(VLOOKUP($G20,料理一覧!$A$3:$N$19998,9,FALSE),\"0\")","v":0},{"$f":"IFERROR(VLOOKUP($G20,料理一覧!$A$3:$N$19998,10,FALSE),\"0\")","v":0},{"$f":"IFERROR(VLOOKUP($G20,料理一覧!$A$3:$N$19998,11,FALSE),\"0\")","v":0},{"$f":"IFERROR(VLOOKUP($G20,料理一覧!$A$3:$N$19998,12,FALSE),\"0\")","v":0},{"$f":"IFERROR(VLOOKUP($G20,料理一覧!$A$3:$N$19998,13,FALSE),\"0\")","v":0},{"$f":"IFERROR(VLOOKUP($G20,料理一覧!$A$3:$N$19998,14,FALSE),\"0\")","v":0},{"$f":"IFERROR(VLOOKUP($H20,料理一覧!$A$3:$N$19998,4,FALSE),\"0\")","v":0},{"$f":"IFERROR(VLOOKUP($H20,料理一覧!$A$3:$N$19998,5,FALSE),\"0\")","v":0},{"$f":"IFERROR(VLOOKUP($H20,料理一覧!$A$3:$N$19998,6,FALSE),\"0\")","v":0},{"$f":"IFERROR(VLOOKUP($H20,料理一覧!$A$3:$N$19998,7,FALSE),\"0\")","v":0},{"$f":"IFERROR(VLOOKUP($H20,料理一覧!$A$3:$N$19998,8,FALSE),\"0\")","v":0},{"$f":"IFERROR(VLOOKUP($H20,料理一覧!$A$3:$N$19998,9,FALSE),\"0\")","v":0},{"$f":"IFERROR(VLOOKUP($H20,料理一覧!$A$3:$N$19998,10,FALSE),\"0\")","v":0},{"$f":"IFERROR(VLOOKUP($H20,料理一覧!$A$3:$N$19998,11,FALSE),\"0\")","v":0},{"$f":"IFERROR(VLOOKUP($H20,料理一覧!$A$3:$N$19998,12,FALSE),\"0\")","v":0},{"$f":"IFERROR(VLOOKUP($H20,料理一覧!$A$3:$N$19998,13,FALSE),\"0\")","v":0},{"$f":"IFERROR(VLOOKUP($H20,料理一覧!$A$3:$N$19998,14,FALSE),\"0\")","v":0},{"$f":"IFERROR(VLOOKUP($I20,料理一覧!$A$3:$N$19998,4,FALSE),\"0\")","v":0},{"$f":"IFERROR(VLOOKUP($I20,料理一覧!$A$3:$N$19998,5,FALSE),\"0\")","v":0},{"$f":"IFERROR(VLOOKUP($I20,料理一覧!$A$3:$N$19998,6,FALSE),\"0\")","v":0},{"$f":"IFERROR(VLOOKUP($I20,料理一覧!$A$3:$N$19998,7,FALSE),\"0\")","v":0},{"$f":"IFERROR(VLOOKUP($I20,料理一覧!$A$3:$N$19998,8,FALSE),\"0\")","v":0},{"$f":"IFERROR(VLOOKUP($I20,料理一覧!$A$3:$N$19998,9,FALSE),\"0\")","v":0},{"$f":"IFERROR(VLOOKUP($I20,料理一覧!$A$3:$N$19998,10,FALSE),\"0\")","v":0},{"$f":"IFERROR(VLOOKUP($I20,料理一覧!$A$3:$N$19998,11,FALSE),\"0\")","v":0},{"$f":"IFERROR(VLOOKUP($I20,料理一覧!$A$3:$N$19998,12,FALSE),\"0\")","v":0},{"$f":"IFERROR(VLOOKUP($I20,料理一覧!$A$3:$N$19998,13,FALSE),\"0\")","v":0},{"$f":"IFERROR(VLOOKUP($I20,料理一覧!$A$3:$N$19998,14,FALSE),\"0\")","v":0},{"$f":"IFERROR(VLOOKUP($J20,料理一覧!$A$3:$N$19998,4,FALSE),\"0\")","v":0},{"$f":"IFERROR(VLOOKUP($J20,料理一覧!$A$3:$N$19998,5,FALSE),\"0\")","v":0},{"$f":"IFERROR(VLOOKUP($J20,料理一覧!$A$3:$N$19998,6,FALSE),\"0\")","v":0},{"$f":"IFERROR(VLOOKUP($J20,料理一覧!$A$3:$N$19998,7,FALSE),\"0\")","v":0},{"$f":"IFERROR(VLOOKUP($J20,料理一覧!$A$3:$N$19998,8,FALSE),\"0\")","v":0},{"$f":"IFERROR(VLOOKUP($J20,料理一覧!$A$3:$N$19998,9,FALSE),\"0\")","v":0},{"$f":"IFERROR(VLOOKUP($J20,料理一覧!$A$3:$N$19998,10,FALSE),\"0\")","v":0},{"$f":"IFERROR(VLOOKUP($J20,料理一覧!$A$3:$N$19998,11,FALSE),\"0\")","v":0},{"$f":"IFERROR(VLOOKUP($J20,料理一覧!$A$3:$N$19998,12,FALSE),\"0\")","v":0},{"$f":"IFERROR(VLOOKUP($J20,料理一覧!$A$3:$N$19998,13,FALSE),\"0\")","v":0},{"$f":"IFERROR(VLOOKUP($J20,料理一覧!$A$3:$N$19998,14,FALSE),\"0\")","v":0},{"$f":"IFERROR(VLOOKUP($K20,料理一覧!$A$3:$N$19998,4,FALSE),\"0\")","v":0},{"$f":"IFERROR(VLOOKUP($K20,料理一覧!$A$3:$N$19998,5,FALSE),\"0\")","v":0},{"$f":"IFERROR(VLOOKUP($K20,料理一覧!$A$3:$N$19998,6,FALSE),\"0\")","v":0},{"$f":"IFERROR(VLOOKUP($K20,料理一覧!$A$3:$N$19998,7,FALSE),\"0\")","v":0},{"$f":"IFERROR(VLOOKUP($K20,料理一覧!$A$3:$N$19998,8,FALSE),\"0\")","v":0},{"$f":"IFERROR(VLOOKUP($K20,料理一覧!$A$3:$N$19998,9,FALSE),\"0\")","v":0},{"$f":"IFERROR(VLOOKUP($K20,料理一覧!$A$3:$N$19998,10,FALSE),\"0\")","v":0},{"$f":"IFERROR(VLOOKUP($K20,料理一覧!$A$3:$N$19998,11,FALSE),\"0\")","v":0},{"$f":"IFERROR(VLOOKUP($K20,料理一覧!$A$3:$N$19998,12,FALSE),\"0\")","v":0},{"$f":"IFERROR(VLOOKUP($K20,料理一覧!$A$3:$N$19998,13,FALSE),\"0\")","v":0},{"$f":"IFERROR(VLOOKUP($K20,料理一覧!$A$3:$N$19998,14,FALSE),\"0\")","v":0},0,0,0,0,0,0,0,0,0,0,0]
[17,"(月)",null,null,null,null,null,null,null,null,null,{"$f":"IFERROR(VLOOKUP($C21,料理一覧!$A$3:$N$19998,3,FALSE),\"\")","v":0},{"$f":"IFERROR(VLOOKUP($D21,料理一覧!$A$3:$N$19998,3,FALSE),\"\")","v":0},{"$f":"IFERROR(VLOOKUP($E21,料理一覧!$A$3:$N$19998,3,FALSE),\"\")","v":0},{"$f":"IFERROR(VLOOKUP($F21,料理一覧!$A$3:$N$19998,3,FALSE),\"\")","v":0},{"$f":"IFERROR(VLOOKUP($G21,料理一覧!$A$3:$N$19998,3,FALSE),\"\")","v":0},{"$f":"IFERROR(VLOOKUP($H21,料理一覧!$A$3:$N$19998,3,FALSE),\"\")","v":0},{"$f":"IFERROR(VLOOKUP($I21,料理一覧!$A$3:$N$19998,3,FALSE),\"\")","v":0},{"$f":"IFERROR(VLOOKUP($J21,料理一覧!$A$3:$N$19998,3,FALSE),\"\")","v":0},{"$f":"IFERROR(VLOOKUP($K21,料理一覧!$A$3:$N$19998,3,FALSE),\"\")","v":0},0,0,0,0,0,0,0,0,0,0,0,{"$f":"IFERROR(VLOOKUP($C21,料理一覧!$A$3:$N$19998,4,FALSE),\"0\")","v":0},{"$f":"IFERROR(VLOOKUP($C21,料理一覧!$A$3:$N$19998,5,FALSE),\"0\")","v":0},{"$f":"IFERROR(VLOOKUP($C21,料理一覧!$A$3:$N$19998,6,FALSE),\"0\")","v":0},{"$f":"IFERROR(VLOOKUP($C21,料理一覧!$A$3:$N$19998,7,FALSE),\"0\")","v":0},{"$f":"IFERROR(VLOOKUP($C21,料理一覧!$A$3:$N$19998,8,FALSE),\"0\")","v":0},{"$f":"IFERROR(VLOOKUP($C21,料理一覧!$A$3:$N$19998,9,FALSE),\"0\")","v":0},{"$f":"IFERROR(VLOOKUP($C21,料理一覧!$A$3:$N$19998,10,FALSE),\"0\")","v":0},{"$f":"IFERROR(VLOOKUP($C21,料理一覧!$A$3:$N$19998,11,FALSE),\"0\")","v":0},{"$f":"IFERROR(VLOOKUP($C21,料理一覧!$A$3:$N$19998,12,FALSE),\"0\")","v":0},{"$f":"IFERROR(VLOOKUP($C21,料理一覧!$A$3:$N$19998,13,FALSE),\"0\")","v":0},{"$f":"IFERROR(VLOOKUP($C21,料理一覧!$A$3:$N$19998,14,FALSE),\"0\")","v":0},{"$f":"IFERROR(VLOOKUP($D21,料理一覧!$A$3:$N$19998,4,FALSE),\"0\")","v":0},{"$f":"IFERROR(VLOOKUP($D21,料理一覧!$A$3:$N$19998,5,FALSE),\"0\")","v":0},{"$f":"IFERROR(VLOOKUP($D21,料理一覧!$A$3:$N$19998,6,FALSE),\"0\")","v":0},{"$f":"IFERROR(VLOOKUP($D21,料理一覧!$A$3:$N$19998,7,FALSE),\"0\")","v":0},{"$f":"IFERROR(VLOOKUP($D21,料理一覧!$A$3:$N$19998,8,FALSE),\"0\")","v":0},{"$f":"IFERROR(VLOOKUP($D21,料理一覧!$A$3:$N$19998,9,FALSE),\"0\")","v":0},{"$f":"IFERROR(VLOOKUP($D21,料理一覧!$A$3:$N$19998,10,FALSE),\"0\")","v":0},{"$f":"IFERROR(VLOOKUP($D21,料理一覧!$A$3:$N$19998,11,FALSE),\"0\")","v":0},{"$f":"IFERROR(VLOOKUP($D21,料理一覧!$A$3:$N$19998,12,FALSE),\"0\")","v":0},{"$f":"IFERROR(VLOOKUP($D21,料理一覧!$A$3:$N$19998,13,FALSE),\"0\")","v":0},{"$f":"IFERROR(VLOOKUP($D21,料理一覧!$A$3:$N$19998,14,FALSE),\"0\")","v":0},{"$f":"IFERROR(VLOOKUP($E21,料理一覧!$A$3:$N$19998,4,FALSE),\"0\")","v":0},{"$f":"IFERROR(VLOOKUP($E21,料理一覧!$A$3:$N$19998,5,FALSE),\"0\")","v":0},{"$f":"IFERROR(VLOOKUP($E21,料理一覧!$A$3:$N$19998,6,FALSE),\"0\")","v":0},{"$f":"IFERROR(VLOOKUP($E21,料理一覧!$A$3:$N$19998,7,FALSE),\"0\")","v":0},{"$f":"IFERROR(VLOOKUP($E21,料理一覧!$A$3:$N$19998,8,FALSE),\"0\")","v":0},{"$f":"IFERROR(VLOOKUP($E21,料理一覧!$A$3:$N$19998,9,FALSE),\"0\")","v":0},{"$f":"IFERROR(VLOOKUP($E21,料理一覧!$A$3:$N$19998,10,FALSE),\"0\")","v":0},{"$f":"IFERROR(VLOOKUP($E21,料理一覧!$A$3:$N$19998,11,FALSE),\"0\")","v":0},{"$f":"IFERROR(VLOOKUP($E21,料理一覧!$A$3:$N$19998,12,FALSE),\"0\")","v":0},{"$f":"IFERROR(VLOOKUP($E21,料理一覧!$A$3:$N$19998,13,FALSE),\"0\")","v":0},{"$f":"IFERROR(VLOOKUP($E21,料理一覧!$A$3:$N$19998,14,FALSE),\"0\")","v":0},{"$f":"IFERROR(VLOOKUP($F21,料理一覧!$A$3:$N$19998,4,FALSE),\"0\")","v":0},{"$f":"IFERROR(VLOOKUP($F21,料理一覧!$A$3:$N$19998,5,FALSE),\"0\")","v":0},{"$f":"IFERROR(VLOOKUP($F21,料理一覧!$A$3:$N$19998,6,FALSE),\"0\")","v":0},{"$f":"IFERROR(VLOOKUP($F21,料理一覧!$A$3:$N$19998,7,FALSE),\"0\")","v":0},{"$f":"IFERROR(VLOOKUP($F21,料理一覧!$A$3:$N$19998,8,FALSE),\"0\")","v":0},{"$f":"IFERROR(VLOOKUP($F21,料理一覧!$A$3:$N$19998,9,FALSE),\"0\")","v":0},{"$f":"IFERROR(VLOOKUP($F21,料理一覧!$A$3:$N$19998,10,FALSE),\"0\")","v":0},{"$f":"IFERROR(VLOOKUP($F21,料理一覧!$A$3:$N$19998,11,FALSE),\"0\")","v":0},{"$f":"IFERROR(VLOOKUP($F21,料理一覧!$A$3:$N$19998,12,FALSE),\"0\")","v":0},{"$f":"IFERROR(VLOOKUP($F21,料理一覧!$A$3:$N$19998,13,FALSE),\"0\")","v":0},{"$f":"IFERROR(VLOOKUP($F21,料理一覧!$A$3:$N$19998,14,FALSE),\"0\")","v":0},{"$f":"IFERROR(VLOOKUP($G21,料理一覧!$A$3:$N$19998,4,FALSE),\"0\")","v":0},{"$f":"IFERROR(VLOOKUP($G21,料理一覧!$A$3:$N$19998,5,FALSE),\"0\")","v":0},{"$f":"IFERROR(VLOOKUP($G21,料理一覧!$A$3:$N$19998,6,FALSE),\"0\")","v":0},{"$f":"IFERROR(VLOOKUP($G21,料理一覧!$A$3:$N$19998,7,FALSE),\"0\")","v":0},{"$f":"IFERROR(VLOOKUP($G21,料理一覧!$A$3:$N$19998,8,FALSE),\"0\")","v":0},{"$f":"IFERROR(VLOOKUP($G21,料理一覧!$A$3:$N$19998,9,FALSE),\"0\")","v":0},{"$f":"IFERROR(VLOOKUP($G21,料理一覧!$A$3:$N$19998,10,FALSE),\"0\")","v":0},{"$f":"IFERROR(VLOOKUP($G21,料理一覧!$A$3:$N$19998,11,FALSE),\"0\")","v":0},{"$f":"IFERROR(VLOOKUP($G21,料理一覧!$A$3:$N$19998,12,FALSE),\"0\")","v":0},{"$f":"IFERROR(VLOOKUP($G21,料理一覧!$A$3:$N$19998,13,FALSE),\"0\")","v":0},{"$f":"IFERROR(VLOOKUP($G21,料理一覧!$A$3:$N$19998,14,FALSE),\"0\")","v":0},{"$f":"IFERROR(VLOOKUP($H21,料理一覧!$A$3:$N$19998,4,FALSE),\"0\")","v":0},{"$f":"IFERROR(VLOOKUP($H21,料理一覧!$A$3:$N$19998,5,FALSE),\"0\")","v":0},{"$f":"IFERROR(VLOOKUP($H21,料理一覧!$A$3:$N$19998,6,FALSE),\"0\")","v":0},{"$f":"IFERROR(VLOOKUP($H21,料理一覧!$A$3:$N$19998,7,FALSE),\"0\")","v":0},{"$f":"IFERROR(VLOOKUP($H21,料理一覧!$A$3:$N$19998,8,FALSE),\"0\")","v":0},{"$f":"IFERROR(VLOOKUP($H21,料理一覧!$A$3:$N$19998,9,FALSE),\"0\")","v":0},{"$f":"IFERROR(VLOOKUP($H21,料理一覧!$A$3:$N$19998,10,FALSE),\"0\")","v":0},{"$f":"IFERROR(VLOOKUP($H21,料理一覧!$A$3:$N$19998,11,FALSE),\"0\")","v":0},{"$f":"IFERROR(VLOOKUP($H21,料理一覧!$A$3:$N$19998,12,FALSE),\"0\")","v":0},{"$f":"IFERROR(VLOOKUP($H21,料理一覧!$A$3:$N$19998,13,FALSE),\"0\")","v":0},{"$f":"IFERROR(VLOOKUP($H21,料理一覧!$A$3:$N$19998,14,FALSE),\"0\")","v":0},{"$f":"IFERROR(VLOOKUP($I21,料理一覧!$A$3:$N$19998,4,FALSE),\"0\")","v":0},{"$f":"IFERROR(VLOOKUP($I21,料理一覧!$A$3:$N$19998,5,FALSE),\"0\")","v":0},{"$f":"IFERROR(VLOOKUP($I21,料理一覧!$A$3:$N$19998,6,FALSE),\"0\")","v":0},{"$f":"IFERROR(VLOOKUP($I21,料理一覧!$A$3:$N$19998,7,FALSE),\"0\")","v":0},{"$f":"IFERROR(VLOOKUP($I21,料理一覧!$A$3:$N$19998,8,FALSE),\"0\")","v":0},{"$f":"IFERROR(VLOOKUP($I21,料理一覧!$A$3:$N$19998,9,FALSE),\"0\")","v":0},{"$f":"IFERROR(VLOOKUP($I21,料理一覧!$A$3:$N$19998,10,FALSE),\"0\")","v":0},{"$f":"IFERROR(VLOOKUP($I21,料理一覧!$A$3:$N$19998,11,FALSE),\"0\")","v":0},{"$f":"IFERROR(VLOOKUP($I21,料理一覧!$A$3:$N$19998,12,FALSE),\"0\")","v":0},{"$f":"IFERROR(VLOOKUP($I21,料理一覧!$A$3:$N$19998,13,FALSE),\"0\")","v":0},{"$f":"IFERROR(VLOOKUP($I21,料理一覧!$A$3:$N$19998,14,FALSE),\"0\")","v":0},{"$f":"IFERROR(VLOOKUP($J21,料理一覧!$A$3:$N$19998,4,FALSE),\"0\")","v":0},{"$f":"IFERROR(VLOOKUP($J21,料理一覧!$A$3:$N$19998,5,FALSE),\"0\")","v":0},{"$f":"IFERROR(VLOOKUP($J21,料理一覧!$A$3:$N$19998,6,FALSE),\"0\")","v":0},{"$f":"IFERROR(VLOOKUP($J21,料理一覧!$A$3:$N$19998,7,FALSE),\"0\")","v":0},{"$f":"IFERROR(VLOOKUP($J21,料理一覧!$A$3:$N$19998,8,FALSE),\"0\")","v":0},{"$f":"IFERROR(VLOOKUP($J21,料理一覧!$A$3:$N$19998,9,FALSE),\"0\")","v":0},{"$f":"IFERROR(VLOOKUP($J21,料理一覧!$A$3:$N$19998,10,FALSE),\"0\")","v":0},{"$f":"IFERROR(VLOOKUP($J21,料理一覧!$A$3:$N$19998,11,FALSE),\"0\")","v":0},{"$f":"IFERROR(VLOOKUP($J21,料理一覧!$A$3:$N$19998,12,FALSE),\"0\")","v":0},{"$f":"IFERROR(VLOOKUP($J21,料理一覧!$A$3:$N$19998,13,FALSE),\"0\")","v":0},{"$f":"IFERROR(VLOOKUP($J21,料理一覧!$A$3:$N$19998,14,FALSE),\"0\")","v":0},{"$f":"IFERROR(VLOOKUP($K21,料理一覧!$A$3:$N$19998,4,FALSE),\"0\")","v":0},{"$f":"IFERROR(VLOOKUP($K21,料理一覧!$A$3:$N$19998,5,FALSE),\"0\")","v":0},{"$f":"IFERROR(VLOOKUP($K21,料理一覧!$A$3:$N$19998,6,FALSE),\"0\")","v":0},{"$f":"IFERROR(VLOOKUP($K21,料理一覧!$A$3:$N$19998,7,FALSE),\"0\")","v":0},{"$f":"IFERROR(VLOOKUP($K21,料理一覧!$A$3:$N$19998,8,FALSE),\"0\")","v":0},{"$f":"IFERROR(VLOOKUP($K21,料理一覧!$A$3:$N$19998,9,FALSE),\"0\")","v":0},{"$f":"IFERROR(VLOOKUP($K21,料理一覧!$A$3:$N$19998,10,FALSE),\"0\")","v":0},{"$f":"IFERROR(VLOOKUP($K21,料理一覧!$A$3:$N$19998,11,FALSE),\"0\")","v":0},{"$f":"IFERROR(VLOOKUP($K21,料理一覧!$A$3:$N$19998,12,FALSE),\"0\")","v":0},{"$f":"IFERROR(VLOOKUP($K21,料理一覧!$A$3:$N$19998,13,FALSE),\"0\")","v":0},{"$f":"IFERROR(VLOOKUP($K21,料理一覧!$A$3:$N$19998,14,FALSE),\"0\")","v":0},0,0,0,0,0,0,0,0,0,0,0]
[18,"(火)",null,null,null,null,null,null,null,null,null,{"$f":"IFERROR(VLOOKUP($C22,料理一覧!$A$3:$N$19998,3,FALSE),\"\")","v":0},{"$f":"IFERROR(VLOOKUP($D22,料理一覧!$A$3:$N$19998,3,FALSE),\"\")","v":0},{"$f":"IFERROR(VLOOKUP($E22,料理一覧!$A$3:$N$19998,3,FALSE),\"\")","v":0},{"$f":"IFERROR(VLOOKUP($F22,料理一覧!$A$3:$N$19998,3,FALSE),\"\")","v":0},{"$f":"IFERROR(VLOOKUP($G22,料理一覧!$A$3:$N$19998,3,FALSE),\"\")","v":0},{"$f":"IFERROR(VLOOKUP($H22,料理一覧!$A$3:$N$19998,3,FALSE),\"\")","v":0},{"$f":"IFERROR(VLOOKUP($I22,料理一覧!$A$3:$N$19998,3,FALSE),\"\")","v":0},{"$f":"IFERROR(VLOOKUP($J22,料理一覧!$A$3:$N$19998,3,FALSE),\"\")","v":0},{"$f":"IFERROR(VLOOKUP($K22,料理一覧!$A$3:$N$19998,3,FALSE),\"\")","v":0},0,0,0,0,0,0,0,0,0,0,0,{"$f":"IFERROR(VLOOKUP($C22,料理一覧!$A$3:$N$19998,4,FALSE),\"0\")","v":0},{"$f":"IFERROR(VLOOKUP($C22,料理一覧!$A$3:$N$19998,5,FALSE),\"0\")","v":0},{"$f":"IFERROR(VLOOKUP($C22,料理一覧!$A$3:$N$19998,6,FALSE),\"0\")","v":0},{"$f":"IFERROR(VLOOKUP($C22,料理一覧!$A$3:$N$19998,7,FALSE),\"0\")","v":0},{"$f":"IFERROR(VLOOKUP($C22,料理一覧!$A$3:$N$19998,8,FALSE),\"0\")","v":0},{"$f":"IFERROR(VLOOKUP($C22,料理一覧!$A$3:$N$19998,9,FALSE),\"0\")","v":0},{"$f":"IFERROR(VLOOKUP($C22,料理一覧!$A$3:$N$19998,10,FALSE),\"0\")","v":0},{"$f":"IFERROR(VLOOKUP($C22,料理一覧!$A$3:$N$19998,11,FALSE),\"0\")","v":0},{"$f":"IFERROR(VLOOKUP($C22,料理一覧!$A$3:$N$19998,12,FALSE),\"0\")","v":0},{"$f":"IFERROR(VLOOKUP($C22,料理一覧!$A$3:$N$19998,13,FALSE),\"0\")","v":0},{"$f":"IFERROR(VLOOKUP($C22,料理一覧!$A$3:$N$19998,14,FALSE),\"0\")","v":0},{"$f":"IFERROR(VLOOKUP($D22,料理一覧!$A$3:$N$19998,4,FALSE),\"0\")","v":0},{"$f":"IFERROR(VLOOKUP($D22,料理一覧!$A$3:$N$19998,5,FALSE),\"0\")","v":0},{"$f":"IFERROR(VLOOKUP($D22,料理一覧!$A$3:$N$19998,6,FALSE),\"0\")","v":0},{"$f":"IFERROR(VLOOKUP($D22,料理一覧!$A$3:$N$19998,7,FALSE),\"0\")","v":0},{"$f":"IFERROR(VLOOKUP($D22,料理一覧!$A$3:$N$19998,8,FALSE),\"0\")","v":0},{"$f":"IFERROR(VLOOKUP($D22,料理一覧!$A$3:$N$19998,9,FALSE),\"0\")","v":0},{"$f":"IFERROR(VLOOKUP($D22,料理一覧!$A$3:$N$19998,10,FALSE),\"0\")","v":0},{"$f":"IFERROR(VLOOKUP($D22,料理一覧!$A$3:$N$19998,11,FALSE),\"0\")","v":0},{"$f":"IFERROR(VLOOKUP($D22,料理一覧!$A$3:$N$19998,12,FALSE),\"0\")","v":0},{"$f":"IFERROR(VLOOKUP($D22,料理一覧!$A$3:$N$19998,13,FALSE),\"0\")","v":0},{"$f":"IFERROR(VLOOKUP($D22,料理一覧!$A$3:$N$19998,14,FALSE),\"0\")","v":0},{"$f":"IFERROR(VLOOKUP($E22,料理一覧!$A$3:$N$19998,4,FALSE),\"0\")","v":0},{"$f":"IFERROR(VLOOKUP($E22,料理一覧!$A$3:$N$19998,5,FALSE),\"0\")","v":0},{"$f":"IFERROR(VLOOKUP($E22,料理一覧!$A$3:$N$19998,6,FALSE),\"0\")","v":0},{"$f":"IFERROR(VLOOKUP($E22,料理一覧!$A$3:$N$19998,7,FALSE),\"0\")","v":0},{"$f":"IFERROR(VLOOKUP($E22,料理一覧!$A$3:$N$19998,8,FALSE),\"0\")","v":0},{"$f":"IFERROR(VLOOKUP($E22,料理一覧!$A$3:$N$19998,9,FALSE),\"0\")","v":0},{"$f":"IFERROR(VLOOKUP($E22,料理一覧!$A$3:$N$19998,10,FALSE),\"0\")","v":0},{"$f":"IFERROR(VLOOKUP($E22,料理一覧!$A$3:$N$19998,11,FALSE),\"0\")","v":0},{"$f":"IFERROR(VLOOKUP($E22,料理一覧!$A$3:$N$19998,12,FALSE),\"0\")","v":0},{"$f":"IFERROR(VLOOKUP($E22,料理一覧!$A$3:$N$19998,13,FALSE),\"0\")","v":0},{"$f":"IFERROR(VLOOKUP($E22,料理一覧!$A$3:$N$19998,14,FALSE),\"0\")","v":0},{"$f":"IFERROR(VLOOKUP($F22,料理一覧!$A$3:$N$19998,4,FALSE),\"0\")","v":0},{"$f":"IFERROR(VLOOKUP($F22,料理一覧!$A$3:$N$19998,5,FALSE),\"0\")","v":0},{"$f":"IFERROR(VLOOKUP($F22,料理一覧!$A$3:$N$19998,6,FALSE),\"0\")","v":0},{"$f":"IFERROR(VLOOKUP($F22,料理一覧!$A$3:$N$19998,7,FALSE),\"0\")","v":0},{"$f":"IFERROR(VLOOKUP($F22,料理一覧!$A$3:$N$19998,8,FALSE),\"0\")","v":0},{"$f":"IFERROR(VLOOKUP($F22,料理一覧!$A$3:$N$19998,9,FALSE),\"0\")","v":0},{"$f":"IFERROR(VLOOKUP($F22,料理一覧!$A$3:$N$19998,10,FALSE),\"0\")","v":0},{"$f":"IFERROR(VLOOKUP($F22,料理一覧!$A$3:$N$19998,11,FALSE),\"0\")","v":0},{"$f":"IFERROR(VLOOKUP($F22,料理一覧!$A$3:$N$19998,12,FALSE),\"0\")","v":0},{"$f":"IFERROR(VLOOKUP($F22,料理一覧!$A$3:$N$19998,13,FALSE),\"0\")","v":0},{"$f":"IFERROR(VLOOKUP($F22,料理一覧!$A$3:$N$19998,14,FALSE),\"0\")","v":0},{"$f":"IFERROR(VLOOKUP($G22,料理一覧!$A$3:$N$19998,4,FALSE),\"0\")","v":0},{"$f":"IFERROR(VLOOKUP($G22,料理一覧!$A$3:$N$19998,5,FALSE),\"0\")","v":0},{"$f":"IFERROR(VLOOKUP($G22,料理一覧!$A$3:$N$19998,6,FALSE),\"0\")","v":0},{"$f":"IFERROR(VLOOKUP($G22,料理一覧!$A$3:$N$19998,7,FALSE),\"0\")","v":0},{"$f":"IFERROR(VLOOKUP($G22,料理一覧!$A$3:$N$19998,8,FALSE),\"0\")","v":0},{"$f":"IFERROR(VLOOKUP($G22,料理一覧!$A$3:$N$19998,9,FALSE),\"0\")","v":0},{"$f":"IFERROR(VLOOKUP($G22,料理一覧!$A$3:$N$19998,10,FALSE),\"0\")","v":0},{"$f":"IFERROR(VLOOKUP($G22,料理一覧!$A$3:$N$19998,11,FALSE),\"0\")","v":0},{"$f":"IFERROR(VLOOKUP($G22,料理一覧!$A$3:$N$19998,12,FALSE),\"0\")","v":0},{"$f":"IFERROR(VLOOKUP($G22,料理一覧!$A$3:$N$19998,13,FALSE),\"0\")","v":0},{"$f":"IFERROR(VLOOKUP($G22,料理一覧!$A$3:$N$19998,14,FALSE),\"0\")","v":0},{"$f":"IFERROR(VLOOKUP($H22,料理一覧!$A$3:$N$19998,4,FALSE),\"0\")","v":0},{"$f":"IFERROR(VLOOKUP($H22,料理一覧!$A$3:$N$19998,5,FALSE),\"0\")","v":0},{"$f":"IFERROR(VLOOKUP($H22,料理一覧!$A$3:$N$19998,6,FALSE),\"0\")","v":0},{"$f":"IFERROR(VLOOKUP($H22,料理一覧!$A$3:$N$19998,7,FALSE),\"0\")","v":0},{"$f":"IFERROR(VLOOKUP($H22,料理一覧!$A$3:$N$19998,8,FALSE),\"0\")","v":0},{"$f":"IFERROR(VLOOKUP($H22,料理一覧!$A$3:$N$19998,9,FALSE),\"0\")","v":0},{"$f":"IFERROR(VLOOKUP($H22,料理一覧!$A$3:$N$19998,10,FALSE),\"0\")","v":0},{"$f":"IFERROR(VLOOKUP($H22,料理一覧!$A$3:$N$19998,11,FALSE),\"0\")","v":0},{"$f":"IFERROR(VLOOKUP($H22,料理一覧!$A$3:$N$19998,12,FALSE),\"0\")","v":0},{"$f":"IFERROR(VLOOKUP($H22,料理一覧!$A$3:$N$19998,13,FALSE),\"0\")","v":0},{"$f":"IFERROR(VLOOKUP($H22,料理一覧!$A$3:$N$19998,14,FALSE),\"0\")","v":0},{"$f":"IFERROR(VLOOKUP($I22,料理一覧!$A$3:$N$19998,4,FALSE),\"0\")","v":0},{"$f":"IFERROR(VLOOKUP($I22,料理一覧!$A$3:$N$19998,5,FALSE),\"0\")","v":0},{"$f":"IFERROR(VLOOKUP($I22,料理一覧!$A$3:$N$19998,6,FALSE),\"0\")","v":0},{"$f":"IFERROR(VLOOKUP($I22,料理一覧!$A$3:$N$19998,7,FALSE),\"0\")","v":0},{"$f":"IFERROR(VLOOKUP($I22,料理一覧!$A$3:$N$19998,8,FALSE),\"0\")","v":0},{"$f":"IFERROR(VLOOKUP($I22,料理一覧!$A$3:$N$19998,9,FALSE),\"0\")","v":0},{"$f":"IFERROR(VLOOKUP($I22,料理一覧!$A$3:$N$19998,10,FALSE),\"0\")","v":0},{"$f":"IFERROR(VLOOKUP($I22,料理一覧!$A$3:$N$19998,11,FALSE),\"0\")","v":0},{"$f":"IFERROR(VLOOKUP($I22,料理一覧!$A$3:$N$19998,12,FALSE),\"0\")","v":0},{"$f":"IFERROR(VLOOKUP($I22,料理一覧!$A$3:$N$19998,13,FALSE),\"0\")","v":0},{"$f":"IFERROR(VLOOKUP($I22,料理一覧!$A$3:$N$19998,14,FALSE),\"0\")","v":0},{"$f":"IFERROR(VLOOKUP($J22,料理一覧!$A$3:$N$19998,4,FALSE),\"0\")","v":0},{"$f":"IFERROR(VLOOKUP($J22,料理一覧!$A$3:$N$19998,5,FALSE),\"0\")","v":0},{"$f":"IFERROR(VLOOKUP($J22,料理一覧!$A$3:$N$19998,6,FALSE),\"0\")","v":0},{"$f":"IFERROR(VLOOKUP($J22,料理一覧!$A$3:$N$19998,7,FALSE),\"0\")","v":0},{"$f":"IFERROR(VLOOKUP($J22,料理一覧!$A$3:$N$19998,8,FALSE),\"0\")","v":0},{"$f":"IFERROR(VLOOKUP($J22,料理一覧!$A$3:$N$19998,9,FALSE),\"0\")","v":0},{"$f":"IFERROR(VLOOKUP($J22,料理一覧!$A$3:$N$19998,10,FALSE),\"0\")","v":0},{"$f":"IFERROR(VLOOKUP($J22,料理一覧!$A$3:$N$19998,11,FALSE),\"0\")","v":0},{"$f":"IFERROR(VLOOKUP($J22,料理一覧!$A$3:$N$19998,12,FALSE),\"0\")","v":0},{"$f":"IFERROR(VLOOKUP($J22,料理一覧!$A$3:$N$19998,13,FALSE),\"0\")","v":0},{"$f":"IFERROR(VLOOKUP($J22,料理一覧!$A$3:$N$19998,14,FALSE),\"0\")","v":0},{"$f":"IFERROR(VLOOKUP($K22,料理一覧!$A$3:$N$19998,4,FALSE),\"0\")","v":0},{"$f":"IFERROR(VLOOKUP($K22,料理一覧!$A$3:$N$19998,5,FALSE),\"0\")","v":0},{"$f":"IFERROR(VLOOKUP($K22,料理一覧!$A$3:$N$19998,6,FALSE),\"0\")","v":0},{"$f":"IFERROR(VLOOKUP($K22,料理一覧!$A$3:$N$19998,7,FALSE),\"0\")","v":0},{"$f":"IFERROR(VLOOKUP($K22,料理一覧!$A$3:$N$19998,8,FALSE),\"0\")","v":0},{"$f":"IFERROR(VLOOKUP($K22,料理一覧!$A$3:$N$19998,9,FALSE),\"0\")","v":0},{"$f":"IFERROR(VLOOKUP($K22,料理一覧!$A$3:$N$19998,10,FALSE),\"0\")","v":0},{"$f":"IFERROR(VLOOKUP($K22,料理一覧!$A$3:$N$19998,11,FALSE),\"0\")","v":0},{"$f":"IFERROR(VLOOKUP($K22,料理一覧!$A$3:$N$19998,12,FALSE),\"0\")","v":0},{"$f":"IFERROR(VLOOKUP($K22,料理一覧!$A$3:$N$19998,13,FALSE),\"0\")","v":0},{"$f":"IFERROR(VLOOKUP($K22,料理一覧!$A$3:$N$19998,14,FALSE),\"0\")","v":0},0,0,0,0,0,0,0,0,0,0,0]
[19,"(水)",null,null,null,null,null,null,null,null,null,{"$f":"IFERROR(VLOOKUP($C23,料理一覧!$A$3:$N$19998,3,FALSE),\"\")","v":0},{"$f":"IFERROR(VLOOKUP($D23,料理一覧!$A$3:$N$19998,3,FALSE),\"\")","v":0},{"$f":"IFERROR(VLOOKUP($E23,料理一覧!$A$3:$N$19998,3,FALSE),\"\")","v":0},{"$f":"IFERROR(VLOOKUP($F23,料理一覧!$A$3:$N$19998,3,FALSE),\"\")","v":0},{"$f":"IFERROR(VLOOKUP($G23,料理一覧!$A$3:$N$19998,3,FALSE),\"\")","v":0},{"$f":"IFERROR(VLOOKUP($H23,料理一覧!$A$3:$N$19998,3,FALSE),\"\")","v":0},{"$f":"IFERROR(VLOOKUP($I23,料理一覧!$A$3:$N$19998,3,FALSE),\"\")","v":0},{"$f":"IFERROR(VLOOKUP($J23,料理一覧!$A$3:$N$19998,3,FALSE),\"\")","v":0},{"$f":"IFERROR(VLOOKUP($K23,料理一覧!$A$3:$N$19998,3,FALSE),\"\")","v":0},0,0,0,0,0,0,0,0,0,0,0,{"$f":"IFERROR(VLOOKUP($C23,料理一覧!$A$3:$N$19998,4,FALSE),\"0\")","v":0},{"$f":"IFERROR(VLOOKUP($C23,料理一覧!$A$3:$N$19998,5,FALSE),\"0\")","v":0},{"$f":"IFERROR(VLOOKUP($C23,料理一覧!$A$3:$N$19998,6,FALSE),\"0\")","v":0},{"$f":"IFERROR(VLOOKUP($C23,料理一覧!$A$3:$N$19998,7,FALSE),\"0\")","v":0},{"$f":"IFERROR(VLOOKUP($C23,料理一覧!$A$3:$N$19998,8,FALSE),\"0\")","v":0},{"$f":"IFERROR(VLOOKUP($C23,料理一覧!$A$3:$N$19998,9,FALSE),\"0\")","v":0},{"$f":"IFERROR(VLOOKUP($C23,料理一覧!$A$3:$N$19998,10,FALSE),\"0\")","v":0},{"$f":"IFERROR(VLOOKUP($C23,料理一覧!$A$3:$N$19998,11,FALSE),\"0\")","v":0},{"$f":"IFERROR(VLOOKUP($C23,料理一覧!$A$3:$N$19998,12,FALSE),\"0\")","v":0},{"$f":"IFERROR(VLOOKUP($C23,料理一覧!$A$3:$N$19998,13,FALSE),\"0\")","v":0},{"$f":"IFERROR(VLOOKUP($C23,料理一覧!$A$3:$N$19998,14,FALSE),\"0\")","v":0},{"$f":"IFERROR(VLOOKUP($D23,料理一覧!$A$3:$N$19998,4,FALSE),\"0\")","v":0},{"$f":"IFERROR(VLOOKUP($D23,料理一覧!$A$3:$N$19998,5,FALSE),\"0\")","v":0},{"$f":"IFERROR(VLOOKUP($D23,料理一覧!$A$3:$N$19998,6,FALSE),\"0\")","v":0},{"$f":"IFERROR(VLOOKUP($D23,料理一覧!$A$3:$N$19998,7,FALSE),\"0\")","v":0},{"$f":"IFERROR(VLOOKUP($D23,料理一覧!$A$3:$N$19998,8,FALSE),\"0\")","v":0},{"$f":"IFERROR(VLOOKUP($D23,料理一覧!$A$3:$N$19998,9,FALSE),\"0\")","v":0},{"$f":"IFERROR(VLOOKUP($D23,料理一覧!$A$3:$N$19998,10,FALSE),\"0\")","v":0},{"$f":"IFERROR(VLOOKUP($D23,料理一覧!$A$3:$N$19998,11,FALSE),\"0\")","v":0},{"$f":"IFERROR(VLOOKUP($D23,料理一覧!$A$3:$N$19998,12,FALSE),\"0\")","v":0},{"$f":"IFERROR(VLOOKUP($D23,料理一覧!$A$3:$N$19998,13,FALSE),\"0\")","v":0},{"$f":"IFERROR(VLOOKUP($D23,料理一覧!$A$3:$N$19998,14,FALSE),\"0\")","v":0},{"$f":"IFERROR(VLOOKUP($E23,料理一覧!$A$3:$N$19998,4,FALSE),\"0\")","v":0},{"$f":"IFERROR(VLOOKUP($E23,料理一覧!$A$3:$N$19998,5,FALSE),\"0\")","v":0},{"$f":"IFERROR(VLOOKUP($E23,料理一覧!$A$3:$N$19998,6,FALSE),\"0\")","v":0},{"$f":"IFERROR(VLOOKUP($E23,料理一覧!$A$3:$N$19998,7,FALSE),\"0\")","v":0},{"$f":"IFERROR(VLOOKUP($E23,料理一覧!$A$3:$N$19998,8,FALSE),\"0\")","v":0},{"$f":"IFERROR(VLOOKUP($E23,料理一覧!$A$3:$N$19998,9,FALSE),\"0\")","v":0},{"$f":"IFERROR(VLOOKUP($E23,料理一覧!$A$3:$N$19998,10,FALSE),\"0\")","v":0},{"$f":"IFERROR(VLOOKUP($E23,料理一覧!$A$3:$N$19998,11,FALSE),\"0\")","v":0},{"$f":"IFERROR(VLOOKUP($E23,料理一覧!$A$3:$N$19998,12,FALSE),\"0\")","v":0},{"$f":"IFERROR(VLOOKUP($E23,料理一覧!$A$3:$N$19998,13,FALSE),\"0\")","v":0},{"$f":"IFERROR(VLOOKUP($E23,料理一覧!$A$3:$N$19998,14,FALSE),\"0\")","v":0},{"$f":"IFERROR(VLOOKUP($F23,料理一覧!$A$3:$N$19998,4,FALSE),\"0\")","v":0},{"$f":"IFERROR(VLOOKUP($F23,料理一覧!$A$3:$N$19998,5,FALSE),\"0\")","v":0},{"$f":"IFERROR(VLOOKUP($F23,料理一覧!$A$3:$N$19998,6,FALSE),\"0\")","v":0},{"$f":"IFERROR(VLOOKUP($F23,料理一覧!$A$3:$N$19998,7,FALSE),\"0\")","v":0},{"$f":"IFERROR(VLOOKUP($F23,料理一覧!$A$3:$N$19998,8,FALSE),\"0\")","v":0},{"$f":"IFERROR(VLOOKUP($F23,料理一覧!$A$3:$N$19998,9,FALSE),\"0\")","v":0},{"$f":"IFERROR(VLOOKUP($F23,料理一覧!$A$3:$N$19998,10,FALSE),\"0\")","v":0},{"$f":"IFERROR(VLOOKUP($F23,料理一覧!$A$3:$N$19998,11,FALSE),\"0\")","v":0},{"$f":"IFERROR(VLOOKUP($F23,料理一覧!$A$3:$N$19998,12,FALSE),\"0\")","v":0},{"$f":"IFERROR(VLOOKUP($F23,料理一覧!$A$3:$N$19998,13,FALSE),\"0\")","v":0},{"$f":"IFERROR(VLOOKUP($F23,料理一覧!$A$3:$N$19998,14,FALSE),\"0\")","v":0},{"$f":"IFERROR(VLOOKUP($G23,料理一覧!$A$3:$N$19998,4,FALSE),\"0\")","v":0},{"$f":"IFERROR(VLOOKUP($G23,料理一覧!$A$3:$N$19998,5,FALSE),\"0\")","v":0},{"$f":"IFERROR(VLOOKUP($G23,料理一覧!$A$3:$N$19998,6,FALSE),\"0\")","v":0},{"$f":"IFERROR(VLOOKUP($G23,料理一覧!$A$3:$N$19998,7,FALSE),\"0\")","v":0},{"$f":"IFERROR(VLOOKUP($G23,料理一覧!$A$3:$N$19998,8,FALSE),\"0\")","v":0},{"$f":"IFERROR(VLOOKUP($G23,料理一覧!$A$3:$N$19998,9,FALSE),\"0\")","v":0},{"$f":"IFERROR(VLOOKUP($G23,料理一覧!$A$3:$N$19998,10,FALSE),\"0\")","v":0},{"$f":"IFERROR(VLOOKUP($G23,料理一覧!$A$3:$N$19998,11,FALSE),\"0\")","v":0},{"$f":"IFERROR(VLOOKUP($G23,料理一覧!$A$3:$N$19998,12,FALSE),\"0\")","v":0},{"$f":"IFERROR(VLOOKUP($G23,料理一覧!$A$3:$N$19998,13,FALSE),\"0\")","v":0},{"$f":"IFERROR(VLOOKUP($G23,料理一覧!$A$3:$N$19998,14,FALSE),\"0\")","v":0},{"$f":"IFERROR(VLOOKUP($H23,料理一覧!$A$3:$N$19998,4,FALSE),\"0\")","v":0},{"$f":"IFERROR(VLOOKUP($H23,料理一覧!$A$3:$N$19998,5,FALSE),\"0\")","v":0},{"$f":"IFERROR(VLOOKUP($H23,料理一覧!$A$3:$N$19998,6,FALSE),\"0\")","v":0},{"$f":"IFERROR(VLOOKUP($H23,料理一覧!$A$3:$N$19998,7,FALSE),\"0\")","v":0},{"$f":"IFERROR(VLOOKUP($H23,料理一覧!$A$3:$N$19998,8,FALSE),\"0\")","v":0},{"$f":"IFERROR(VLOOKUP($H23,料理一覧!$A$3:$N$19998,9,FALSE),\"0\")","v":0},{"$f":"IFERROR(VLOOKUP($H23,料理一覧!$A$3:$N$19998,10,FALSE),\"0\")","v":0},{"$f":"IFERROR(VLOOKUP($H23,料理一覧!$A$3:$N$19998,11,FALSE),\"0\")","v":0},{"$f":"IFERROR(VLOOKUP($H23,料理一覧!$A$3:$N$19998,12,FALSE),\"0\")","v":0},{"$f":"IFERROR(VLOOKUP($H23,料理一覧!$A$3:$N$19998,13,FALSE),\"0\")","v":0},{"$f":"IFERROR(VLOOKUP($H23,料理一覧!$A$3:$N$19998,14,FALSE),\"0\")","v":0},{"$f":"IFERROR(VLOOKUP($I23,料理一覧!$A$3:$N$19998,4,FALSE),\"0\")","v":0},{"$f":"IFERROR(VLOOKUP($I23,料理一覧!$A$3:$N$19998,5,FALSE),\"0\")","v":0},{"$f":"IFERROR(VLOOKUP($I23,料理一覧!$A$3:$N$19998,6,FALSE),\"0\")","v":0},{"$f":"IFERROR(VLOOKUP($I23,料理一覧!$A$3:$N$19998,7,FALSE),\"0\")","v":0},{"$f":"IFERROR(VLOOKUP($I23,料理一覧!$A$3:$N$19998,8,FALSE),\"0\")","v":0},{"$f":"IFERROR(VLOOKUP($I23,料理一覧!$A$3:$N$19998,9,FALSE),\"0\")","v":0},{"$f":"IFERROR(VLOOKUP($I23,料理一覧!$A$3:$N$19998,10,FALSE),\"0\")","v":0},{"$f":"IFERROR(VLOOKUP($I23,料理一覧!$A$3:$N$19998,11,FALSE),\"0\")","v":0},{"$f":"IFERROR(VLOOKUP($I23,料理一覧!$A$3:$N$19998,12,FALSE),\"0\")","v":0},{"$f":"IFERROR(VLOOKUP($I23,料理一覧!$A$3:$N$19998,13,FALSE),\"0\")","v":0},{"$f":"IFERROR(VLOOKUP($I23,料理一覧!$A$3:$N$19998,14,FALSE),\"0\")","v":0},{"$f":"IFERROR(VLOOKUP($J23,料理一覧!$A$3:$N$19998,4,FALSE),\"0\")","v":0},{"$f":"IFERROR(VLOOKUP($J23,料理一覧!$A$3:$N$19998,5,FALSE),\"0\")","v":0},{"$f":"IFERROR(VLOOKUP($J23,料理一覧!$A$3:$N$19998,6,FALSE),\"0\")","v":0},{"$f":"IFERROR(VLOOKUP($J23,料理一覧!$A$3:$N$19998,7,FALSE),\"0\")","v":0},{"$f":"IFERROR(VLOOKUP($J23,料理一覧!$A$3:$N$19998,8,FALSE),\"0\")","v":0},{"$f":"IFERROR(VLOOKUP($J23,料理一覧!$A$3:$N$19998,9,FALSE),\"0\")","v":0},{"$f":"IFERROR(VLOOKUP($J23,料理一覧!$A$3:$N$19998,10,FALSE),\"0\")","v":0},{"$f":"IFERROR(VLOOKUP($J23,料理一覧!$A$3:$N$19998,11,FALSE),\"0\")","v":0},{"$f":"IFERROR(VLOOKUP($J23,料理一覧!$A$3:$N$19998,12,FALSE),\"0\")","v":0},{"$f":"IFERROR(VLOOKUP($J23,料理一覧!$A$3:$N$19998,13,FALSE),\"0\")","v":0},{"$f":"IFERROR(VLOOKUP($J23,料理一覧!$A$3:$N$19998,14,FALSE),\"0\")","v":0},{"$f":"IFERROR(VLOOKUP($K23,料理一覧!$A$3:$N$19998,4,FALSE),\"0\")","v":0},{"$f":"IFERROR(VLOOKUP($K23,料理一覧!$A$3:$N$19998,5,FALSE),\"0\")","v":0},{"$f":"IFERROR(VLOOKUP($K23,料理一覧!$A$3:$N$19998,6,FALSE),\"0\")","v":0},{"$f":"IFERROR(VLOOKUP($K23,料理一覧!$A$3:$N$19998,7,FALSE),\"0\")","v":0},{"$f":"IFERROR(VLOOKUP($K23,料理一覧!$A$3:$N$19998,8,FALSE),\"0\")","v":0},{"$f":"IFERROR(VLOOKUP($K23,料理一覧!$A$3:$N$19998,9,FALSE),\"0\")","v":0},{"$f":"IFERROR(VLOOKUP($K23,料理一覧!$A$3:$N$19998,10,FALSE),\"0\")","v":0},{"$f":"IFERROR(VLOOKUP($K23,料理一覧!$A$3:$N$19998,11,FALSE),\"0\")","v":0},{"$f":"IFERROR(VLOOKUP($K23,料理一覧!$A$3:$N$19998,12,FALSE),\"0\")","v":0},{"$f":"IFERROR(VLOOKUP($K23,料理一覧!$A$3:$N$19998,13,FALSE),\"0\")","v":0},{"$f":"IFERROR(VLOOKUP($K23,料理一覧!$A$3:$N$19998,14,FALSE),\"0\")","v":0},0,0,0,0,0,0,0,0,0,0,0]
[20,"(木)",null,null,null,null,null,null,null,null,null,{"$f":"IFERROR(VLOOKUP($C24,料理一覧!$A$3:$N$19998,3,FALSE),\"\")","v":0},{"$f":"IFERROR(VLOOKUP($D24,料理一覧!$A$3:$N$19998,3,FALSE),\"\")","v":0},{"$f":"IFERROR(VLOOKUP($E24,料理一覧!$A$3:$N$19998,3,FALSE),\"\")","v":0},{"$f":"IFERROR(VLOOKUP($F24,料理一覧!$A$3:$N$19998,3,FALSE),\"\")","v":0},{"$f":"IFERROR(VLOOKUP($G24,料理一覧!$A$3:$N$19998,3,FALSE),\"\")","v":0},{"$f":"IFERROR(VLOOKUP($H24,料理一覧!$A$3:$N$19998,3,FALSE),\"\")","v":0},{"$f":"IFERROR(VLOOKUP($I24,料理一覧!$A$3:$N$19998,3,FALSE),\"\")","v":0},{"$f":"IFERROR(VLOOKUP($J24,料理一覧!$A$3:$N$19998,3,FALSE),\"\")","v":0},{"$f":"IFERROR(VLOOKUP($K24,料理一覧!$A$3:$N$19998,3,FALSE),\"\")","v":0},0,0,0,0,0,0,0,0,0,0,0,{"$f":"IFERROR(VLOOKUP($C24,料理一覧!$A$3:$N$19998,4,FALSE),\"0\")","v":0},{"$f":"IFERROR(VLOOKUP($C24,料理一覧!$A$3:$N$19998,5,FALSE),\"0\")","v":0},{"$f":"IFERROR(VLOOKUP($C24,料理一覧!$A$3:$N$19998,6,FALSE),\"0\")","v":0},{"$f":"IFERROR(VLOOKUP($C24,料理一覧!$A$3:$N$19998,7,FALSE),\"0\")","v":0},{"$f":"IFERROR(VLOOKUP($C24,料理一覧!$A$3:$N$19998,8,FALSE),\"0\")","v":0},{"$f":"IFERROR(VLOOKUP($C24,料理一覧!$A$3:$N$19998,9,FALSE),\"0\")","v":0},{"$f":"IFERROR(VLOOKUP($C24,料理一覧!$A$3:$N$19998,10,FALSE),\"0\")","v":0},{"$f":"IFERROR(VLOOKUP($C24,料理一覧!$A$3:$N$19998,11,FALSE),\"0\")","v":0},{"$f":"IFERROR(VLOOKUP($C24,料理一覧!$A$3:$N$19998,12,FALSE),\"0\")","v":0},{"$f":"IFERROR(VLOOKUP($C24,料理一覧!$A$3:$N$19998,13,FALSE),\"0\")","v":0},{"$f":"IFERROR(VLOOKUP($C24,料理一覧!$A$3:$N$19998,14,FALSE),\"0\")","v":0},{"$f":"IFERROR(VLOOKUP($D24,料理一覧!$A$3:$N$19998,4,FALSE),\"0\")","v":0},{"$f":"IFERROR(VLOOKUP($D24,料理一覧!$A$3:$N$19998,5,FALSE),\"0\")","v":0},{"$f":"IFERROR(VLOOKUP($D24,料理一覧!$A$3:$N$19998,6,FALSE),\"0\")","v":0},{"$f":"IFERROR(VLOOKUP($D24,料理一覧!$A$3:$N$19998,7,FALSE),\"0\")","v":0},{"$f":"IFERROR(VLOOKUP($D24,料理一覧!$A$3:$N$19998,8,FALSE),\"0\")","v":0},{"$f":"IFERROR(VLOOKUP($D24,料理一覧!$A$3:$N$19998,9,FALSE),\"0\")","v":0},{"$f":"IFERROR(VLOOKUP($D24,料理一覧!$A$3:$N$19998,10,FALSE),\"0\")","v":0},{"$f":"IFERROR(VLOOKUP($D24,料理一覧!$A$3:$N$19998,11,FALSE),\"0\")","v":0},{"$f":"IFERROR(VLOOKUP($D24,料理一覧!$A$3:$N$19998,12,FALSE),\"0\")","v":0},{"$f":"IFERROR(VLOOKUP($D24,料理一覧!$A$3:$N$19998,13,FALSE),\"0\")","v":0},{"$f":"IFERROR(VLOOKUP($D24,料理一覧!$A$3:$N$19998,14,FALSE),\"0\")","v":0},{"$f":"IFERROR(VLOOKUP($E24,料理一覧!$A$3:$N$19998,4,FALSE),\"0\")","v":0},{"$f":"IFERROR(VLOOKUP($E24,料理一覧!$A$3:$N$19998,5,FALSE),\"0\")","v":0},{"$f":"IFERROR(VLOOKUP($E24,料理一覧!$A$3:$N$19998,6,FALSE),\"0\")","v":0},{"$f":"IFERROR(VLOOKUP($E24,料理一覧!$A$3:$N$19998,7,FALSE),\"0\")","v":0},{"$f":"IFERROR(VLOOKUP($E24,料理一覧!$A$3:$N$19998,8,FALSE),\"0\")","v":0},{"$f":"IFERROR(VLOOKUP($E24,料理一覧!$A$3:$N$19998,9,FALSE),\"0\")","v":0},{"$f":"IFERROR(VLOOKUP($E24,料理一覧!$A$3:$N$19998,10,FALSE),\"0\")","v":0},{"$f":"IFERROR(VLOOKUP($E24,料理一覧!$A$3:$N$19998,11,FALSE),\"0\")","v":0},{"$f":"IFERROR(VLOOKUP($E24,料理一覧!$A$3:$N$19998,12,FALSE),\"0\")","v":0},{"$f":"IFERROR(VLOOKUP($E24,料理一覧!$A$3:$N$19998,13,FALSE),\"0\")","v":0},{"$f":"IFERROR(VLOOKUP($E24,料理一覧!$A$3:$N$19998,14,FALSE),\"0\")","v":0},{"$f":"IFERROR(VLOOKUP($F24,料理一覧!$A$3:$N$19998,4,FALSE),\"0\")","v":0},{"$f":"IFERROR(VLOOKUP($F24,料理一覧!$A$3:$N$19998,5,FALSE),\"0\")","v":0},{"$f":"IFERROR(VLOOKUP($F24,料理一覧!$A$3:$N$19998,6,FALSE),\"0\")","v":0},{"$f":"IFERROR(VLOOKUP($F24,料理一覧!$A$3:$N$19998,7,FALSE),\"0\")","v":0},{"$f":"IFERROR(VLOOKUP($F24,料理一覧!$A$3:$N$19998,8,FALSE),\"0\")","v":0},{"$f":"IFERROR(VLOOKUP($F24,料理一覧!$A$3:$N$19998,9,FALSE),\"0\")","v":0},{"$f":"IFERROR(VLOOKUP($F24,料理一覧!$A$3:$N$19998,10,FALSE),\"0\")","v":0},{"$f":"IFERROR(VLOOKUP($F24,料理一覧!$A$3:$N$19998,11,FALSE),\"0\")","v":0},{"$f":"IFERROR(VLOOKUP($F24,料理一覧!$A$3:$N$19998,12,FALSE),\"0\")","v":0},{"$f":"IFERROR(VLOOKUP($F24,料理一覧!$A$3:$N$19998,13,FALSE),\"0\")","v":0},{"$f":"IFERROR(VLOOKUP($F24,料理一覧!$A$3:$N$19998,14,FALSE),\"0\")","v":0},{"$f":"IFERROR(VLOOKUP($G24,料理一覧!$A$3:$N$19998,4,FALSE),\"0\")","v":0},{"$f":"IFERROR(VLOOKUP($G24,料理一覧!$A$3:$N$19998,5,FALSE),\"0\")","v":0},{"$f":"IFERROR(VLOOKUP($G24,料理一覧!$A$3:$N$19998,6,FALSE),\"0\")","v":0},{"$f":"IFERROR(VLOOKUP($G24,料理一覧!$A$3:$N$19998,7,FALSE),\"0\")","v":0},{"$f":"IFERROR(VLOOKUP($G24,料理一覧!$A$3:$N$19998,8,FALSE),\"0\")","v":0},{"$f":"IFERROR(VLOOKUP($G24,料理一覧!$A$3:$N$19998,9,FALSE),\"0\")","v":0},{"$f":"IFERROR(VLOOKUP($G24,料理一覧!$A$3:$N$19998,10,FALSE),\"0\")","v":0},{"$f":"IFERROR(VLOOKUP($G24,料理一覧!$A$3:$N$19998,11,FALSE),\"0\")","v":0},{"$f":"IFERROR(VLOOKUP($G24,料理一覧!$A$3:$N$19998,12,FALSE),\"0\")","v":0},{"$f":"IFERROR(VLOOKUP($G24,料理一覧!$A$3:$N$19998,13,FALSE),\"0\")","v":0},{"$f":"IFERROR(VLOOKUP($G24,料理一覧!$A$3:$N$19998,14,FALSE),\"0\")","v":0},{"$f":"IFERROR(VLOOKUP($H24,料理一覧!$A$3:$N$19998,4,FALSE),\"0\")","v":0},{"$f":"IFERROR(VLOOKUP($H24,料理一覧!$A$3:$N$19998,5,FALSE),\"0\")","v":0},{"$f":"IFERROR(VLOOKUP($H24,料理一覧!$A$3:$N$19998,6,FALSE),\"0\")","v":0},{"$f":"IFERROR(VLOOKUP($H24,料理一覧!$A$3:$N$19998,7,FALSE),\"0\")","v":0},{"$f":"IFERROR(VLOOKUP($H24,料理一覧!$A$3:$N$19998,8,FALSE),\"0\")","v":0},{"$f":"IFERROR(VLOOKUP($H24,料理一覧!$A$3:$N$19998,9,FALSE),\"0\")","v":0},{"$f":"IFERROR(VLOOKUP($H24,料理一覧!$A$3:$N$19998,10,FALSE),\"0\")","v":0},{"$f":"IFERROR(VLOOKUP($H24,料理一覧!$A$3:$N$19998,11,FALSE),\"0\")","v":0},{"$f":"IFERROR(VLOOKUP($H24,料理一覧!$A$3:$N$19998,12,FALSE),\"0\")","v":0},{"$f":"IFERROR(VLOOKUP($H24,料理一覧!$A$3:$N$19998,13,FALSE),\"0\")","v":0},{"$f":"IFERROR(VLOOKUP($H24,料理一覧!$A$3:$N$19998,14,FALSE),\"0\")","v":0},{"$f":"IFERROR(VLOOKUP($I24,料理一覧!$A$3:$N$19998,4,FALSE),\"0\")","v":0},{"$f":"IFERROR(VLOOKUP($I24,料理一覧!$A$3:$N$19998,5,FALSE),\"0\")","v":0},{"$f":"IFERROR(VLOOKUP($I24,料理一覧!$A$3:$N$19998,6,FALSE),\"0\")","v":0},{"$f":"IFERROR(VLOOKUP($I24,料理一覧!$A$3:$N$19998,7,FALSE),\"0\")","v":0},{"$f":"IFERROR(VLOOKUP($I24,料理一覧!$A$3:$N$19998,8,FALSE),\"0\")","v":0},{"$f":"IFERROR(VLOOKUP($I24,料理一覧!$A$3:$N$19998,9,FALSE),\"0\")","v":0},{"$f":"IFERROR(VLOOKUP($I24,料理一覧!$A$3:$N$19998,10,FALSE),\"0\")","v":0},{"$f":"IFERROR(VLOOKUP($I24,料理一覧!$A$3:$N$19998,11,FALSE),\"0\")","v":0},{"$f":"IFERROR(VLOOKUP($I24,料理一覧!$A$3:$N$19998,12,FALSE),\"0\")","v":0},{"$f":"IFERROR(VLOOKUP($I24,料理一覧!$A$3:$N$19998,13,FALSE),\"0\")","v":0},{"$f":"IFERROR(VLOOKUP($I24,料理一覧!$A$3:$N$19998,14,FALSE),\"0\")","v":0},{"$f":"IFERROR(VLOOKUP($J24,料理一覧!$A$3:$N$19998,4,FALSE),\"0\")","v":0},{"$f":"IFERROR(VLOOKUP($J24,料理一覧!$A$3:$N$19998,5,FALSE),\"0\")","v":0},{"$f":"IFERROR(VLOOKUP($J24,料理一覧!$A$3:$N$19998,6,FALSE),\"0\")","v":0},{"$f":"IFERROR(VLOOKUP($J24,料理一覧!$A$3:$N$19998,7,FALSE),\"0\")","v":0},{"$f":"IFERROR(VLOOKUP($J24,料理一覧!$A$3:$N$19998,8,FALSE),\"0\")","v":0},{"$f":"IFERROR(VLOOKUP($J24,料理一覧!$A$3:$N$19998,9,FALSE),\"0\")","v":0},{"$f":"IFERROR(VLOOKUP($J24,料理一覧!$A$3:$N$19998,10,FALSE),\"0\")","v":0},{"$f":"IFERROR(VLOOKUP($J24,料理一覧!$A$3:$N$19998,11,FALSE),\"0\")","v":0},{"$f":"IFERROR(VLOOKUP($J24,料理一覧!$A$3:$N$19998,12,FALSE),\"0\")","v":0},{"$f":"IFERROR(VLOOKUP($J24,料理一覧!$A$3:$N$19998,13,FALSE),\"0\")","v":0},{"$f":"IFERROR(VLOOKUP($J24,料理一覧!$A$3:$N$19998,14,FALSE),\"0\")","v":0},{"$f":"IFERROR(VLOOKUP($K24,料理一覧!$A$3:$N$19998,4,FALSE),\"0\")","v":0},{"$f":"IFERROR(VLOOKUP($K24,料理一覧!$A$3:$N$19998,5,FALSE),\"0\")","v":0},{"$f":"IFERROR(VLOOKUP($K24,料理一覧!$A$3:$N$19998,6,FALSE),\"0\")","v":0},{"$f":"IFERROR(VLOOKUP($K24,料理一覧!$A$3:$N$19998,7,FALSE),\"0\")","v":0},{"$f":"IFERROR(VLOOKUP($K24,料理一覧!$A$3:$N$19998,8,FALSE),\"0\")","v":0},{"$f":"IFERROR(VLOOKUP($K24,料理一覧!$A$3:$N$19998,9,FALSE),\"0\")","v":0},{"$f":"IFERROR(VLOOKUP($K24,料理一覧!$A$3:$N$19998,10,FALSE),\"0\")","v":0},{"$f":"IFERROR(VLOOKUP($K24,料理一覧!$A$3:$N$19998,11,FALSE),\"0\")","v":0},{"$f":"IFERROR(VLOOKUP($K24,料理一覧!$A$3:$N$19998,12,FALSE),\"0\")","v":0},{"$f":"IFERROR(VLOOKUP($K24,料理一覧!$A$3:$N$19998,13,FALSE),\"0\")","v":0},{"$f":"IFERROR(VLOOKUP($K24,料理一覧!$A$3:$N$19998,14,FALSE),\"0\")","v":0},0,0,0,0,0,0,0,0,0,0,0]
[21,"(金)",null,null,null,null,null,null,null,null,null,{"$f":"IFERROR(VLOOKUP($C25,料理一覧!$A$3:$N$19998,3,FALSE),\"\")","v":0},{"$f":"IFERROR(VLOOKUP($D25,料理一覧!$A$3:$N$19998,3,FALSE),\"\")","v":0},{"$f":"IFERROR(VLOOKUP($E25,料理一覧!$A$3:$N$19998,3,FALSE),\"\")","v":0},{"$f":"IFERROR(VLOOKUP($F25,料理一覧!$A$3:$N$19998,3,FALSE),\"\")","v":0},{"$f":"IFERROR(VLOOKUP($G25,料理一覧!$A$3:$N$19998,3,FALSE),\"\")","v":0},{"$f":"IFERROR(VLOOKUP($H25,料理一覧!$A$3:$N$19998,3,FALSE),\"\")","v":0},{"$f":"IFERROR(VLOOKUP($I25,料理一覧!$A$3:$N$19998,3,FALSE),\"\")","v":0},{"$f":"IFERROR(VLOOKUP($J25,料理一覧!$A$3:$N$19998,3,FALSE),\"\")","v":0},{"$f":"IFERROR(VLOOKUP($K25,料理一覧!$A$3:$N$19998,3,FALSE),\"\")","v":0},0,0,0,0,0,0,0,0,0,0,0,{"$f":"IFERROR(VLOOKUP($C25,料理一覧!$A$3:$N$19998,4,FALSE),\"0\")","v":0},{"$f":"IFERROR(VLOOKUP($C25,料理一覧!$A$3:$N$19998,5,FALSE),\"0\")","v":0},{"$f":"IFERROR(VLOOKUP($C25,料理一覧!$A$3:$N$19998,6,FALSE),\"0\")","v":0},{"$f":"IFERROR(VLOOKUP($C25,料理一覧!$A$3:$N$19998,7,FALSE),\"0\")","v":0},{"$f":"IFERROR(VLOOKUP($C25,料理一覧!$A$3:$N$19998,8,FALSE),\"0\")","v":0},{"$f":"IFERROR(VLOOKUP($C25,料理一覧!$A$3:$N$19998,9,FALSE),\"0\")","v":0},{"$f":"IFERROR(VLOOKUP($C25,料理一覧!$A$3:$N$19998,10,FALSE),\"0\")","v":0},{"$f":"IFERROR(VLOOKUP($C25,料理一覧!$A$3:$N$19998,11,FALSE),\"0\")","v":0},{"$f":"IFERROR(VLOOKUP($C25,料理一覧!$A$3:$N$19998,12,FALSE),\"0\")","v":0},{"$f":"IFERROR(VLOOKUP($C25,料理一覧!$A$3:$N$19998,13,FALSE),\"0\")","v":0},{"$f":"IFERROR(VLOOKUP($C25,料理一覧!$A$3:$N$19998,14,FALSE),\"0\")","v":0},{"$f":"IFERROR(VLOOKUP($D25,料理一覧!$A$3:$N$19998,4,FALSE),\"0\")","v":0},{"$f":"IFERROR(VLOOKUP($D25,料理一覧!$A$3:$N$19998,5,FALSE),\"0\")","v":0},{"$f":"IFERROR(VLOOKUP($D25,料理一覧!$A$3:$N$19998,6,FALSE),\"0\")","v":0},{"$f":"IFERROR(VLOOKUP($D25,料理一覧!$A$3:$N$19998,7,FALSE),\"0\")","v":0},{"$f":"IFERROR(VLOOKUP($D25,料理一覧!$A$3:$N$19998,8,FALSE),\"0\")","v":0},{"$f":"IFERROR(VLOOKUP($D25,料理一覧!$A$3:$N$19998,9,FALSE),\"0\")","v":0},{"$f":"IFERROR(VLOOKUP($D25,料理一覧!$A$3:$N$19998,10,FALSE),\"0\")","v":0},{"$f":"IFERROR(VLOOKUP($D25,料理一覧!$A$3:$N$19998,11,FALSE),\"0\")","v":0},{"$f":"IFERROR(VLOOKUP($D25,料理一覧!$A$3:$N$19998,12,FALSE),\"0\")","v":0},{"$f":"IFERROR(VLOOKUP($D25,料理一覧!$A$3:$N$19998,13,FALSE),\"0\")","v":0},{"$f":"IFERROR(VLOOKUP($D25,料理一覧!$A$3:$N$19998,14,FALSE),\"0\")","v":0},{"$f":"IFERROR(VLOOKUP($E25,料理一覧!$A$3:$N$19998,4,FALSE),\"0\")","v":0},{"$f":"IFERROR(VLOOKUP($E25,料理一覧!$A$3:$N$19998,5,FALSE),\"0\")","v":0},{"$f":"IFERROR(VLOOKUP($E25,料理一覧!$A$3:$N$19998,6,FALSE),\"0\")","v":0},{"$f":"IFERROR(VLOOKUP($E25,料理一覧!$A$3:$N$19998,7,FALSE),\"0\")","v":0},{"$f":"IFERROR(VLOOKUP($E25,料理一覧!$A$3:$N$19998,8,FALSE),\"0\")","v":0},{"$f":"IFERROR(VLOOKUP($E25,料理一覧!$A$3:$N$19998,9,FALSE),\"0\")","v":0},{"$f":"IFERROR(VLOOKUP($E25,料理一覧!$A$3:$N$19998,10,FALSE),\"0\")","v":0},{"$f":"IFERROR(VLOOKUP($E25,料理一覧!$A$3:$N$19998,11,FALSE),\"0\")","v":0},{"$f":"IFERROR(VLOOKUP($E25,料理一覧!$A$3:$N$19998,12,FALSE),\"0\")","v":0},{"$f":"IFERROR(VLOOKUP($E25,料理一覧!$A$3:$N$19998,13,FALSE),\"0\")","v":0},{"$f":"IFERROR(VLOOKUP($E25,料理一覧!$A$3:$N$19998,14,FALSE),\"0\")","v":0},{"$f":"IFERROR(VLOOKUP($F25,料理一覧!$A$3:$N$19998,4,FALSE),\"0\")","v":0},{"$f":"IFERROR(VLOOKUP($F25,料理一覧!$A$3:$N$19998,5,FALSE),\"0\")","v":0},{"$f":"IFERROR(VLOOKUP($F25,料理一覧!$A$3:$N$19998,6,FALSE),\"0\")","v":0},{"$f":"IFERROR(VLOOKUP($F25,料理一覧!$A$3:$N$19998,7,FALSE),\"0\")","v":0},{"$f":"IFERROR(VLOOKUP($F25,料理一覧!$A$3:$N$19998,8,FALSE),\"0\")","v":0},{"$f":"IFERROR(VLOOKUP($F25,料理一覧!$A$3:$N$19998,9,FALSE),\"0\")","v":0},{"$f":"IFERROR(VLOOKUP($F25,料理一覧!$A$3:$N$19998,10,FALSE),\"0\")","v":0},{"$f":"IFERROR(VLOOKUP($F25,料理一覧!$A$3:$N$19998,11,FALSE),\"0\")","v":0},{"$f":"IFERROR(VLOOKUP($F25,料理一覧!$A$3:$N$19998,12,FALSE),\"0\")","v":0},{"$f":"IFERROR(VLOOKUP($F25,料理一覧!$A$3:$N$19998,13,FALSE),\"0\")","v":0},{"$f":"IFERROR(VLOOKUP($F25,料理一覧!$A$3:$N$19998,14,FALSE),\"0\")","v":0},{"$f":"IFERROR(VLOOKUP($G25,料理一覧!$A$3:$N$19998,4,FALSE),\"0\")","v":0},{"$f":"IFERROR(VLOOKUP($G25,料理一覧!$A$3:$N$19998,5,FALSE),\"0\")","v":0},{"$f":"IFERROR(VLOOKUP($G25,料理一覧!$A$3:$N$19998,6,FALSE),\"0\")","v":0},{"$f":"IFERROR(VLOOKUP($G25,料理一覧!$A$3:$N$19998,7,FALSE),\"0\")","v":0},{"$f":"IFERROR(VLOOKUP($G25,料理一覧!$A$3:$N$19998,8,FALSE),\"0\")","v":0},{"$f":"IFERROR(VLOOKUP($G25,料理一覧!$A$3:$N$19998,9,FALSE),\"0\")","v":0},{"$f":"IFERROR(VLOOKUP($G25,料理一覧!$A$3:$N$19998,10,FALSE),\"0\")","v":0},{"$f":"IFERROR(VLOOKUP($G25,料理一覧!$A$3:$N$19998,11,FALSE),\"0\")","v":0},{"$f":"IFERROR(VLOOKUP($G25,料理一覧!$A$3:$N$19998,12,FALSE),\"0\")","v":0},{"$f":"IFERROR(VLOOKUP($G25,料理一覧!$A$3:$N$19998,13,FALSE),\"0\")","v":0},{"$f":"IFERROR(VLOOKUP($G25,料理一覧!$A$3:$N$19998,14,FALSE),\"0\")","v":0},{"$f":"IFERROR(VLOOKUP($H25,料理一覧!$A$3:$N$19998,4,FALSE),\"0\")","v":0},{"$f":"IFERROR(VLOOKUP($H25,料理一覧!$A$3:$N$19998,5,FALSE),\"0\")","v":0},{"$f":"IFERROR(VLOOKUP($H25,料理一覧!$A$3:$N$19998,6,FALSE),\"0\")","v":0},{"$f":"IFERROR(VLOOKUP($H25,料理一覧!$A$3:$N$19998,7,FALSE),\"0\")","v":0},{"$f":"IFERROR(VLOOKUP($H25,料理一覧!$A$3:$N$19998,8,FALSE),\"0\")","v":0},{"$f":"IFERROR(VLOOKUP($H25,料理一覧!$A$3:$N$19998,9,FALSE),\"0\")","v":0},{"$f":"IFERROR(VLOOKUP($H25,料理一覧!$A$3:$N$19998,10,FALSE),\"0\")","v":0},{"$f":"IFERROR(VLOOKUP($H25,料理一覧!$A$3:$N$19998,11,FALSE),\"0\")","v":0},{"$f":"IFERROR(VLOOKUP($H25,料理一覧!$A$3:$N$19998,12,FALSE),\"0\")","v":0},{"$f":"IFERROR(VLOOKUP($H25,料理一覧!$A$3:$N$19998,13,FALSE),\"0\")","v":0},{"$f":"IFERROR(VLOOKUP($H25,料理一覧!$A$3:$N$19998,14,FALSE),\"0\")","v":0},{"$f":"IFERROR(VLOOKUP($I25,料理一覧!$A$3:$N$19998,4,FALSE),\"0\")","v":0},{"$f":"IFERROR(VLOOKUP($I25,料理一覧!$A$3:$N$19998,5,FALSE),\"0\")","v":0},{"$f":"IFERROR(VLOOKUP($I25,料理一覧!$A$3:$N$19998,6,FALSE),\"0\")","v":0},{"$f":"IFERROR(VLOOKUP($I25,料理一覧!$A$3:$N$19998,7,FALSE),\"0\")","v":0},{"$f":"IFERROR(VLOOKUP($I25,料理一覧!$A$3:$N$19998,8,FALSE),\"0\")","v":0},{"$f":"IFERROR(VLOOKUP($I25,料理一覧!$A$3:$N$19998,9,FALSE),\"0\")","v":0},{"$f":"IFERROR(VLOOKUP($I25,料理一覧!$A$3:$N$19998,10,FALSE),\"0\")","v":0},{"$f":"IFERROR(VLOOKUP($I25,料理一覧!$A$3:$N$19998,11,FALSE),\"0\")","v":0},{"$f":"IFERROR(VLOOKUP($I25,料理一覧!$A$3:$N$19998,12,FALSE),\"0\")","v":0},{"$f":"IFERROR(VLOOKUP($I25,料理一覧!$A$3:$N$19998,13,FALSE),\"0\")","v":0},{"$f":"IFERROR(VLOOKUP($I25,料理一覧!$A$3:$N$19998,14,FALSE),\"0\")","v":0},{"$f":"IFERROR(VLOOKUP($J25,料理一覧!$A$3:$N$19998,4,FALSE),\"0\")","v":0},{"$f":"IFERROR(VLOOKUP($J25,料理一覧!$A$3:$N$19998,5,FALSE),\"0\")","v":0},{"$f":"IFERROR(VLOOKUP($J25,料理一覧!$A$3:$N$19998,6,FALSE),\"0\")","v":0},{"$f":"IFERROR(VLOOKUP($J25,料理一覧!$A$3:$N$19998,7,FALSE),\"0\")","v":0},{"$f":"IFERROR(VLOOKUP($J25,料理一覧!$A$3:$N$19998,8,FALSE),\"0\")","v":0},{"$f":"IFERROR(VLOOKUP($J25,料理一覧!$A$3:$N$19998,9,FALSE),\"0\")","v":0},{"$f":"IFERROR(VLOOKUP($J25,料理一覧!$A$3:$N$19998,10,FALSE),\"0\")","v":0},{"$f":"IFERROR(VLOOKUP($J25,料理一覧!$A$3:$N$19998,11,FALSE),\"0\")","v":0},{"$f":"IFERROR(VLOOKUP($J25,料理一覧!$A$3:$N$19998,12,FALSE),\"0\")","v":0},{"$f":"IFERROR(VLOOKUP($J25,料理一覧!$A$3:$N$19998,13,FALSE),\"0\")","v":0},{"$f":"IFERROR(VLOOKUP($J25,料理一覧!$A$3:$N$19998,14,FALSE),\"0\")","v":0},{"$f":"IFERROR(VLOOKUP($K25,料理一覧!$A$3:$N$19998,4,FALSE),\"0\")","v":0},{"$f":"IFERROR(VLOOKUP($K25,料理一覧!$A$3:$N$19998,5,FALSE),\"0\")","v":0},{"$f":"IFERROR(VLOOKUP($K25,料理一覧!$A$3:$N$19998,6,FALSE),\"0\")","v":0},{"$f":"IFERROR(VLOOKUP($K25,料理一覧!$A$3:$N$19998,7,FALSE),\"0\")","v":0},{"$f":"IFERROR(VLOOKUP($K25,料理一覧!$A$3:$N$19998,8,FALSE),\"0\")","v":0},{"$f":"IFERROR(VLOOKUP($K25,料理一覧!$A$3:$N$19998,9,FALSE),\"0\")","v":0},{"$f":"IFERROR(VLOOKUP($K25,料理一覧!$A$3:$N$19998,10,FALSE),\"0\")","v":0},{"$f":"IFERROR(VLOOKUP($K25,料理一覧!$A$3:$N$19998,11,FALSE),\"0\")","v":0},{"$f":"IFERROR(VLOOKUP($K25,料理一覧!$A$3:$N$19998,12,FALSE),\"0\")","v":0},{"$f":"IFERROR(VLOOKUP($K25,料理一覧!$A$3:$N$19998,13,FALSE),\"0\")","v":0},{"$f":"IFERROR(VLOOKUP($K25,料理一覧!$A$3:$N$19998,14,FALSE),\"0\")","v":0},0,0,0,0,0,0,0,0,0,0,0]
[22,"(土)",null,null,null,null,null,null,null,null,null,{"$f":"IFERROR(VLOOKUP($C26,料理一覧!$A$3:$N$19998,3,FALSE),\"\")","v":0},{"$f":"IFERROR(VLOOKUP($D26,料理一覧!$A$3:$N$19998,3,FALSE),\"\")","v":0},{"$f":"IFERROR(VLOOKUP($E26,料理一覧!$A$3:$N$19998,3,FALSE),\"\")","v":0},{"$f":"IFERROR(VLOOKUP($F26,料理一覧!$A$3:$N$19998,3,FALSE),\"\")","v":0},{"$f":"IFERROR(VLOOKUP($G26,料理一覧!$A$3:$N$19998,3,FALSE),\"\")","v":0},{"$f":"IFERROR(VLOOKUP($H26,料理一覧!$A$3:$N$19998,3,FALSE),\"\")","v":0},{"$f":"IFERROR(VLOOKUP($I26,料理一覧!$A$3:$N$19998,3,FALSE),\"\")","v":0},{"$f":"IFERROR(VLOOKUP($J26,料理一覧!$A$3:$N$19998,3,FALSE),\"\")","v":0},{"$f":"IFERROR(VLOOKUP($K26,料理一覧!$A$3:$N$19998,3,FALSE),\"\")","v":0},0,0,0,0,0,0,0,0,0,0,0,{"$f":"IFERROR(VLOOKUP($C26,料理一覧!$A$3:$N$19998,4,FALSE),\"0\")","v":0},{"$f":"IFERROR(VLOOKUP($C26,料理一覧!$A$3:$N$19998,5,FALSE),\"0\")","v":0},{"$f":"IFERROR(VLOOKUP($C26,料理一覧!$A$3:$N$19998,6,FALSE),\"0\")","v":0},{"$f":"IFERROR(VLOOKUP($C26,料理一覧!$A$3:$N$19998,7,FALSE),\"0\")","v":0},{"$f":"IFERROR(VLOOKUP($C26,料理一覧!$A$3:$N$19998,8,FALSE),\"0\")","v":0},{"$f":"IFERROR(VLOOKUP($C26,料理一覧!$A$3:$N$19998,9,FALSE),\"0\")","v":0},{"$f":"IFERROR(VLOOKUP($C26,料理一覧!$A$3:$N$19998,10,FALSE),\"0\")","v":0},{"$f":"IFERROR(VLOOKUP($C26,料理一覧!$A$3:$N$19998,11,FALSE),\"0\")","v":0},{"$f":"IFERROR(VLOOKUP($C26,料理一覧!$A$3:$N$19998,12,FALSE),\"0\")","v":0},{"$f":"IFERROR(VLOOKUP($C26,料理一覧!$A$3:$N$19998,13,FALSE),\"0\")","v":0},{"$f":"IFERROR(VLOOKUP($C26,料理一覧!$A$3:$N$19998,14,FALSE),\"0\")","v":0},{"$f":"IFERROR(VLOOKUP($D26,料理一覧!$A$3:$N$19998,4,FALSE),\"0\")","v":0},{"$f":"IFERROR(VLOOKUP($D26,料理一覧!$A$3:$N$19998,5,FALSE),\"0\")","v":0},{"$f":"IFERROR(VLOOKUP($D26,料理一覧!$A$3:$N$19998,6,FALSE),\"0\")","v":0},{"$f":"IFERROR(VLOOKUP($D26,料理一覧!$A$3:$N$19998,7,FALSE),\"0\")","v":0},{"$f":"IFERROR(VLOOKUP($D26,料理一覧!$A$3:$N$19998,8,FALSE),\"0\")","v":0},{"$f":"IFERROR(VLOOKUP($D26,料理一覧!$A$3:$N$19998,9,FALSE),\"0\")","v":0},{"$f":"IFERROR(VLOOKUP($D26,料理一覧!$A$3:$N$19998,10,FALSE),\"0\")","v":0},{"$f":"IFERROR(VLOOKUP($D26,料理一覧!$A$3:$N$19998,11,FALSE),\"0\")","v":0},{"$f":"IFERROR(VLOOKUP($D26,料理一覧!$A$3:$N$19998,12,FALSE),\"0\")","v":0},{"$f":"IFERROR(VLOOKUP($D26,料理一覧!$A$3:$N$19998,13,FALSE),\"0\")","v":0},{"$f":"IFERROR(VLOOKUP($D26,料理一覧!$A$3:$N$19998,14,FALSE),\"0\")","v":0},{"$f":"IFERROR(VLOOKUP($E26,料理一覧!$A$3:$N$19998,4,FALSE),\"0\")","v":0},{"$f":"IFERROR(VLOOKUP($E26,料理一覧!$A$3:$N$19998,5,FALSE),\"0\")","v":0},{"$f":"IFERROR(VLOOKUP($E26,料理一覧!$A$3:$N$19998,6,FALSE),\"0\")","v":0},{"$f":"IFERROR(VLOOKUP($E26,料理一覧!$A$3:$N$19998,7,FALSE),\"0\")","v":0},{"$f":"IFERROR(VLOOKUP($E26,料理一覧!$A$3:$N$19998,8,FALSE),\"0\")","v":0},{"$f":"IFERROR(VLOOKUP($E26,料理一覧!$A$3:$N$19998,9,FALSE),\"0\")","v":0},{"$f":"IFERROR(VLOOKUP($E26,料理一覧!$A$3:$N$19998,10,FALSE),\"0\")","v":0},{"$f":"IFERROR(VLOOKUP($E26,料理一覧!$A$3:$N$19998,11,FALSE),\"0\")","v":0},{"$f":"IFERROR(VLOOKUP($E26,料理一覧!$A$3:$N$19998,12,FALSE),\"0\")","v":0},{"$f":"IFERROR(VLOOKUP($E26,料理一覧!$A$3:$N$19998,13,FALSE),\"0\")","v":0},{"$f":"IFERROR(VLOOKUP($E26,料理一覧!$A$3:$N$19998,14,FALSE),\"0\")","v":0},{"$f":"IFERROR(VLOOKUP($F26,料理一覧!$A$3:$N$19998,4,FALSE),\"0\")","v":0},{"$f":"IFERROR(VLOOKUP($F26,料理一覧!$A$3:$N$19998,5,FALSE),\"0\")","v":0},{"$f":"IFERROR(VLOOKUP($F26,料理一覧!$A$3:$N$19998,6,FALSE),\"0\")","v":0},{"$f":"IFERROR(VLOOKUP($F26,料理一覧!$A$3:$N$19998,7,FALSE),\"0\")","v":0},{"$f":"IFERROR(VLOOKUP($F26,料理一覧!$A$3:$N$19998,8,FALSE),\"0\")","v":0},{"$f":"IFERROR(VLOOKUP($F26,料理一覧!$A$3:$N$19998,9,FALSE),\"0\")","v":0},{"$f":"IFERROR(VLOOKUP($F26,料理一覧!$A$3:$N$19998,10,FALSE),\"0\")","v":0},{"$f":"IFERROR(VLOOKUP($F26,料理一覧!$A$3:$N$19998,11,FALSE),\"0\")","v":0},{"$f":"IFERROR(VLOOKUP($F26,料理一覧!$A$3:$N$19998,12,FALSE),\"0\")","v":0},{"$f":"IFERROR(VLOOKUP($F26,料理一覧!$A$3:$N$19998,13,FALSE),\"0\")","v":0},{"$f":"IFERROR(VLOOKUP($F26,料理一覧!$A$3:$N$19998,14,FALSE),\"0\")","v":0},{"$f":"IFERROR(VLOOKUP($G26,料理一覧!$A$3:$N$19998,4,FALSE),\"0\")","v":0},{"$f":"IFERROR(VLOOKUP($G26,料理一覧!$A$3:$N$19998,5,FALSE),\"0\")","v":0},{"$f":"IFERROR(VLOOKUP($G26,料理一覧!$A$3:$N$19998,6,FALSE),\"0\")","v":0},{"$f":"IFERROR(VLOOKUP($G26,料理一覧!$A$3:$N$19998,7,FALSE),\"0\")","v":0},{"$f":"IFERROR(VLOOKUP($G26,料理一覧!$A$3:$N$19998,8,FALSE),\"0\")","v":0},{"$f":"IFERROR(VLOOKUP($G26,料理一覧!$A$3:$N$19998,9,FALSE),\"0\")","v":0},{"$f":"IFERROR(VLOOKUP($G26,料理一覧!$A$3:$N$19998,10,FALSE),\"0\")","v":0},{"$f":"IFERROR(VLOOKUP($G26,料理一覧!$A$3:$N$19998,11,FALSE),\"0\")","v":0},{"$f":"IFERROR(VLOOKUP($G26,料理一覧!$A$3:$N$19998,12,FALSE),\"0\")","v":0},{"$f":"IFERROR(VLOOKUP($G26,料理一覧!$A$3:$N$19998,13,FALSE),\"0\")","v":0},{"$f":"IFERROR(VLOOKUP($G26,料理一覧!$A$3:$N$19998,14,FALSE),\"0\")","v":0},{"$f":"IFERROR(VLOOKUP($H26,料理一覧!$A$3:$N$19998,4,FALSE),\"0\")","v":0},{"$f":"IFERROR(VLOOKUP($H26,料理一覧!$A$3:$N$19998,5,FALSE),\"0\")","v":0},{"$f":"IFERROR(VLOOKUP($H26,料理一覧!$A$3:$N$19998,6,FALSE),\"0\")","v":0},{"$f":"IFERROR(VLOOKUP($H26,料理一覧!$A$3:$N$19998,7,FALSE),\"0\")","v":0},{"$f":"IFERROR(VLOOKUP($H26,料理一覧!$A$3:$N$19998,8,FALSE),\"0\")","v":0},{"$f":"IFERROR(VLOOKUP($H26,料理一覧!$A$3:$N$19998,9,FALSE),\"0\")","v":0},{"$f":"IFERROR(VLOOKUP($H26,料理一覧!$A$3:$N$19998,10,FALSE),\"0\")","v":0},{"$f":"IFERROR(VLOOKUP($H26,料理一覧!$A$3:$N$19998,11,FALSE),\"0\")","v":0},{"$f":"IFERROR(VLOOKUP($H26,料理一覧!$A$3:$N$19998,12,FALSE),\"0\")","v":0},{"$f":"IFERROR(VLOOKUP($H26,料理一覧!$A$3:$N$19998,13,FALSE),\"0\")","v":0},{"$f":"IFERROR(VLOOKUP($H26,料理一覧!$A$3:$N$19998,14,FALSE),\"0\")","v":0},{"$f":"IFERROR(VLOOKUP($I26,料理一覧!$A$3:$N$19998,4,FALSE),\"0\")","v":0},{"$f":"IFERROR(VLOOKUP($I26,料理一覧!$A$3:$N$19998,5,FALSE),\"0\")","v":0},{"$f":"IFERROR(VLOOKUP($I26,料理一覧!$A$3:$N$19998,6,FALSE),\"0\")","v":0},{"$f":"IFERROR(VLOOKUP($I26,料理一覧!$A$3:$N$19998,7,FALSE),\"0\")","v":0},{"$f":"IFERROR(VLOOKUP($I26,料理一覧!$A$3:$N$19998,8,FALSE),\"0\")","v":0},{"$f":"IFERROR(VLOOKUP($I26,料理一覧!$A$3:$N$19998,9,FALSE),\"0\")","v":0},{"$f":"IFERROR(VLOOKUP($I26,料理一覧!$A$3:$N$19998,10,FALSE),\"0\")","v":0},{"$f":"IFERROR(VLOOKUP($I26,料理一覧!$A$3:$N$19998,11,FALSE),\"0\")","v":0},{"$f":"IFERROR(VLOOKUP($I26,料理一覧!$A$3:$N$19998,12,FALSE),\"0\")","v":0},{"$f":"IFERROR(VLOOKUP($I26,料理一覧!$A$3:$N$19998,13,FALSE),\"0\")","v":0},{"$f":"IFERROR(VLOOKUP($I26,料理一覧!$A$3:$N$19998,14,FALSE),\"0\")","v":0},{"$f":"IFERROR(VLOOKUP($J26,料理一覧!$A$3:$N$19998,4,FALSE),\"0\")","v":0},{"$f":"IFERROR(VLOOKUP($J26,料理一覧!$A$3:$N$19998,5,FALSE),\"0\")","v":0},{"$f":"IFERROR(VLOOKUP($J26,料理一覧!$A$3:$N$19998,6,FALSE),\"0\")","v":0},{"$f":"IFERROR(VLOOKUP($J26,料理一覧!$A$3:$N$19998,7,FALSE),\"0\")","v":0},{"$f":"IFERROR(VLOOKUP($J26,料理一覧!$A$3:$N$19998,8,FALSE),\"0\")","v":0},{"$f":"IFERROR(VLOOKUP($J26,料理一覧!$A$3:$N$19998,9,FALSE),\"0\")","v":0},{"$f":"IFERROR(VLOOKUP($J26,料理一覧!$A$3:$N$19998,10,FALSE),\"0\")","v":0},{"$f":"IFERROR(VLOOKUP($J26,料理一覧!$A$3:$N$19998,11,FALSE),\"0\")","v":0},{"$f":"IFERROR(VLOOKUP($J26,料理一覧!$A$3:$N$19998,12,FALSE),\"0\")","v":0},{"$f":"IFERROR(VLOOKUP($J26,料理一覧!$A$3:$N$19998,13,FALSE),\"0\")","v":0},{"$f":"IFERROR(VLOOKUP($J26,料理一覧!$A$3:$N$19998,14,FALSE),\"0\")","v":0},{"$f":"IFERROR(VLOOKUP($K26,料理一覧!$A$3:$N$19998,4,FALSE),\"0\")","v":0},{"$f":"IFERROR(VLOOKUP($K26,料理一覧!$A$3:$N$19998,5,FALSE),\"0\")","v":0},{"$f":"IFERROR(VLOOKUP($K26,料理一覧!$A$3:$N$19998,6,FALSE),\"0\")","v":0},{"$f":"IFERROR(VLOOKUP($K26,料理一覧!$A$3:$N$19998,7,FALSE),\"0\")","v":0},{"$f":"IFERROR(VLOOKUP($K26,料理一覧!$A$3:$N$19998,8,FALSE),\"0\")","v":0},{"$f":"IFERROR(VLOOKUP($K26,料理一覧!$A$3:$N$19998,9,FALSE),\"0\")","v":0},{"$f":"IFERROR(VLOOKUP($K26,料理一覧!$A$3:$N$19998,10,FALSE),\"0\")","v":0},{"$f":"IFERROR(VLOOKUP($K26,料理一覧!$A$3:$N$19998,11,FALSE),\"0\")","v":0},{"$f":"IFERROR(VLOOKUP($K26,料理一覧!$A$3:$N$19998,12,FALSE),\"0\")","v":0},{"$f":"IFERROR(VLOOKUP($K26,料理一覧!$A$3:$N$19998,13,FALSE),\"0\")","v":0},{"$f":"IFERROR(VLOOKUP($K26,料理一覧!$A$3:$N$19998,14,FALSE),\"0\")","v":0},0,0,0,0,0,0,0,0,0,0,0]
[23,"(日)",null,null,null,null,null,null,null,null,null,{"$f":"IFERROR(VLOOKUP($C27,料理一覧!$A$3:$N$19998,3,FALSE),\"\")","v":0},{"$f":"IFERROR(VLOOKUP($D27,料理一覧!$A$3:$N$19998,3,FALSE),\"\")","v":0},{"$f":"IFERROR(VLOOKUP($E27,料理一覧!$A$3:$N$19998,3,FALSE),\"\")","v":0},{"$f":"IFERROR(VLOOKUP($F27,料理一覧!$A$3:$N$19998,3,FALSE),\"\")","v":0},{"$f":"IFERROR(VLOOKUP($G27,料理一覧!$A$3:$N$19998,3,FALSE),\"\")","v":0},{"$f":"IFERROR(VLOOKUP($H27,料理一覧!$A$3:$N$19998,3,FALSE),\"\")","v":0},{"$f":"IFERROR(VLOOKUP($I27,料理一覧!$A$3:$N$19998,3,FALSE),\"\")","v":0},{"$f":"IFERROR(VLOOKUP($J27,料理一覧!$A$3:$N$19998,3,FALSE),\"\")","v":0},{"$f":"IFERROR(VLOOKUP($K27,料理一覧!$A$3:$N$19998,3,FALSE),\"\")","v":0},0,0,0,0,0,0,0,0,0,0,0,{"$f":"IFERROR(VLOOKUP($C27,料理一覧!$A$3:$N$19998,4,FALSE),\"0\")","v":0},{"$f":"IFERROR(VLOOKUP($C27,料理一覧!$A$3:$N$19998,5,FALSE),\"0\")","v":0},{"$f":"IFERROR(VLOOKUP($C27,料理一覧!$A$3:$N$19998,6,FALSE),\"0\")","v":0},{"$f":"IFERROR(VLOOKUP($C27,料理一覧!$A$3:$N$19998,7,FALSE),\"0\")","v":0},{"$f":"IFERROR(VLOOKUP($C27,料理一覧!$A$3:$N$19998,8,FALSE),\"0\")","v":0},{"$f":"IFERROR(VLOOKUP($C27,料理一覧!$A$3:$N$19998,9,FALSE),\"0\")","v":0},{"$f":"IFERROR(VLOOKUP($C27,料理一覧!$A$3:$N$19998,10,FALSE),\"0\")","v":0},{"$f":"IFERROR(VLOOKUP($C27,料理一覧!$A$3:$N$19998,11,FALSE),\"0\")","v":0},{"$f":"IFERROR(VLOOKUP($C27,料理一覧!$A$3:$N$19998,12,FALSE),\"0\")","v":0},{"$f":"IFERROR(VLOOKUP($C27,料理一覧!$A$3:$N$19998,13,FALSE),\"0\")","v":0},{"$f":"IFERROR(VLOOKUP($C27,料理一覧!$A$3:$N$19998,14,FALSE),\"0\")","v":0},{"$f":"IFERROR(VLOOKUP($D27,料理一覧!$A$3:$N$19998,4,FALSE),\"0\")","v":0},{"$f":"IFERROR(VLOOKUP($D27,料理一覧!$A$3:$N$19998,5,FALSE),\"0\")","v":0},{"$f":"IFERROR(VLOOKUP($D27,料理一覧!$A$3:$N$19998,6,FALSE),\"0\")","v":0},{"$f":"IFERROR(VLOOKUP($D27,料理一覧!$A$3:$N$19998,7,FALSE),\"0\")","v":0},{"$f":"IFERROR(VLOOKUP($D27,料理一覧!$A$3:$N$19998,8,FALSE),\"0\")","v":0},{"$f":"IFERROR(VLOOKUP($D27,料理一覧!$A$3:$N$19998,9,FALSE),\"0\")","v":0},{"$f":"IFERROR(VLOOKUP($D27,料理一覧!$A$3:$N$19998,10,FALSE),\"0\")","v":0},{"$f":"IFERROR(VLOOKUP($D27,料理一覧!$A$3:$N$19998,11,FALSE),\"0\")","v":0},{"$f":"IFERROR(VLOOKUP($D27,料理一覧!$A$3:$N$19998,12,FALSE),\"0\")","v":0},{"$f":"IFERROR(VLOOKUP($D27,料理一覧!$A$3:$N$19998,13,FALSE),\"0\")","v":0},{"$f":"IFERROR(VLOOKUP($D27,料理一覧!$A$3:$N$19998,14,FALSE),\"0\")","v":0},{"$f":"IFERROR(VLOOKUP($E27,料理一覧!$A$3:$N$19998,4,FALSE),\"0\")","v":0},{"$f":"IFERROR(VLOOKUP($E27,料理一覧!$A$3:$N$19998,5,FALSE),\"0\")","v":0},{"$f":"IFERROR(VLOOKUP($E27,料理一覧!$A$3:$N$19998,6,FALSE),\"0\")","v":0},{"$f":"IFERROR(VLOOKUP($E27,料理一覧!$A$3:$N$19998,7,FALSE),\"0\")","v":0},{"$f":"IFERROR(VLOOKUP($E27,料理一覧!$A$3:$N$19998,8,FALSE),\"0\")","v":0},{"$f":"IFERROR(VLOOKUP($E27,料理一覧!$A$3:$N$19998,9,FALSE),\"0\")","v":0},{"$f":"IFERROR(VLOOKUP($E27,料理一覧!$A$3:$N$19998,10,FALSE),\"0\")","v":0},{"$f":"IFERROR(VLOOKUP($E27,料理一覧!$A$3:$N$19998,11,FALSE),\"0\")","v":0},{"$f":"IFERROR(VLOOKUP($E27,料理一覧!$A$3:$N$19998,12,FALSE),\"0\")","v":0},{"$f":"IFERROR(VLOOKUP($E27,料理一覧!$A$3:$N$19998,13,FALSE),\"0\")","v":0},{"$f":"IFERROR(VLOOKUP($E27,料理一覧!$A$3:$N$19998,14,FALSE),\"0\")","v":0},{"$f":"IFERROR(VLOOKUP($F27,料理一覧!$A$3:$N$19998,4,FALSE),\"0\")","v":0},{"$f":"IFERROR(VLOOKUP($F27,料理一覧!$A$3:$N$19998,5,FALSE),\"0\")","v":0},{"$f":"IFERROR(VLOOKUP($F27,料理一覧!$A$3:$N$19998,6,FALSE),\"0\")","v":0},{"$f":"IFERROR(VLOOKUP($F27,料理一覧!$A$3:$N$19998,7,FALSE),\"0\")","v":0},{"$f":"IFERROR(VLOOKUP($F27,料理一覧!$A$3:$N$19998,8,FALSE),\"0\")","v":0},{"$f":"IFERROR(VLOOKUP($F27,料理一覧!$A$3:$N$19998,9,FALSE),\"0\")","v":0},{"$f":"IFERROR(VLOOKUP($F27,料理一覧!$A$3:$N$19998,10,FALSE),\"0\")","v":0},{"$f":"IFERROR(VLOOKUP($F27,料理一覧!$A$3:$N$19998,11,FALSE),\"0\")","v":0},{"$f":"IFERROR(VLOOKUP($F27,料理一覧!$A$3:$N$19998,12,FALSE),\"0\")","v":0},{"$f":"IFERROR(VLOOKUP($F27,料理一覧!$A$3:$N$19998,13,FALSE),\"0\")","v":0},{"$f":"IFERROR(VLOOKUP($F27,料理一覧!$A$3:$N$19998,14,FALSE),\"0\")","v":0},{"$f":"IFERROR(VLOOKUP($G27,料理一覧!$A$3:$N$19998,4,FALSE),\"0\")","v":0},{"$f":"IFERROR(VLOOKUP($G27,料理一覧!$A$3:$N$19998,5,FALSE),\"0\")","v":0},{"$f":"IFERROR(VLOOKUP($G27,料理一覧!$A$3:$N$19998,6,FALSE),\"0\")","v":0},{"$f":"IFERROR(VLOOKUP($G27,料理一覧!$A$3:$N$19998,7,FALSE),\"0\")","v":0},{"$f":"IFERROR(VLOOKUP($G27,料理一覧!$A$3:$N$19998,8,FALSE),\"0\")","v":0},{"$f":"IFERROR(VLOOKUP($G27,料理一覧!$A$3:$N$19998,9,FALSE),\"0\")","v":0},{"$f":"IFERROR(VLOOKUP($G27,料理一覧!$A$3:$N$19998,10,FALSE),\"0\")","v":0},{"$f":"IFERROR(VLOOKUP($G27,料理一覧!$A$3:$N$19998,11,FALSE),\"0\")","v":0},{"$f":"IFERROR(VLOOKUP($G27,料理一覧!$A$3:$N$19998,12,FALSE),\"0\")","v":0},{"$f":"IFERROR(VLOOKUP($G27,料理一覧!$A$3:$N$19998,13,FALSE),\"0\")","v":0},{"$f":"IFERROR(VLOOKUP($G27,料理一覧!$A$3:$N$19998,14,FALSE),\"0\")","v":0},{"$f":"IFERROR(VLOOKUP($H27,料理一覧!$A$3:$N$19998,4,FALSE),\"0\")","v":0},{"$f":"IFERROR(VLOOKUP($H27,料理一覧!$A$3:$N$19998,5,FALSE),\"0\")","v":0},{"$f":"IFERROR(VLOOKUP($H27,料理一覧!$A$3:$N$19998,6,FALSE),\"0\")","v":0},{"$f":"IFERROR(VLOOKUP($H27,料理一覧!$A$3:$N$19998,7,FALSE),\"0\")","v":0},{"$f":"IFERROR(VLOOKUP($H27,料理一覧!$A$3:$N$19998,8,FALSE),\"0\")","v":0},{"$f":"IFERROR(VLOOKUP($H27,料理一覧!$A$3:$N$19998,9,FALSE),\"0\")","v":0},{"$f":"IFERROR(VLOOKUP($H27,料理一覧!$A$3:$N$19998,10,FALSE),\"0\")","v":0},{"$f":"IFERROR(VLOOKUP($H27,料理一覧!$A$3:$N$19998,11,FALSE),\"0\")","v":0},{"$f":"IFERROR(VLOOKUP($H27,料理一覧!$A$3:$N$19998,12,FALSE),\"0\")","v":0},{"$f":"IFERROR(VLOOKUP($H27,料理一覧!$A$3:$N$19998,13,FALSE),\"0\")","v":0},{"$f":"IFERROR(VLOOKUP($H27,料理一覧!$A$3:$N$19998,14,FALSE),\"0\")","v":0},{"$f":"IFERROR(VLOOKUP($I27,料理一覧!$A$3:$N$19998,4,FALSE),\"0\")","v":0},{"$f":"IFERROR(VLOOKUP($I27,料理一覧!$A$3:$N$19998,5,FALSE),\"0\")","v":0},{"$f":"IFERROR(VLOOKUP($I27,料理一覧!$A$3:$N$19998,6,FALSE),\"0\")","v":0},{"$f":"IFERROR(VLOOKUP($I27,料理一覧!$A$3:$N$19998,7,FALSE),\"0\")","v":0},{"$f":"IFERROR(VLOOKUP($I27,料理一覧!$A$3:$N$19998,8,FALSE),\"0\")","v":0},{"$f":"IFERROR(VLOOKUP($I27,料理一覧!$A$3:$N$19998,9,FALSE),\"0\")","v":0},{"$f":"IFERROR(VLOOKUP($I27,料理一覧!$A$3:$N$19998,10,FALSE),\"0\")","v":0},{"$f":"IFERROR(VLOOKUP($I27,料理一覧!$A$3:$N$19998,11,FALSE),\"0\")","v":0},{"$f":"IFERROR(VLOOKUP($I27,料理一覧!$A$3:$N$19998,12,FALSE),\"0\")","v":0},{"$f":"IFERROR(VLOOKUP($I27,料理一覧!$A$3:$N$19998,13,FALSE),\"0\")","v":0},{"$f":"IFERROR(VLOOKUP($I27,料理一覧!$A$3:$N$19998,14,FALSE),\"0\")","v":0},{"$f":"IFERROR(VLOOKUP($J27,料理一覧!$A$3:$N$19998,4,FALSE),\"0\")","v":0},{"$f":"IFERROR(VLOOKUP($J27,料理一覧!$A$3:$N$19998,5,FALSE),\"0\")","v":0},{"$f":"IFERROR(VLOOKUP($J27,料理一覧!$A$3:$N$19998,6,FALSE),\"0\")","v":0},{"$f":"IFERROR(VLOOKUP($J27,料理一覧!$A$3:$N$19998,7,FALSE),\"0\")","v":0},{"$f":"IFERROR(VLOOKUP($J27,料理一覧!$A$3:$N$19998,8,FALSE),\"0\")","v":0},{"$f":"IFERROR(VLOOKUP($J27,料理一覧!$A$3:$N$19998,9,FALSE),\"0\")","v":0},{"$f":"IFERROR(VLOOKUP($J27,料理一覧!$A$3:$N$19998,10,FALSE),\"0\")","v":0},{"$f":"IFERROR(VLOOKUP($J27,料理一覧!$A$3:$N$19998,11,FALSE),\"0\")","v":0},{"$f":"IFERROR(VLOOKUP($J27,料理一覧!$A$3:$N$19998,12,FALSE),\"0\")","v":0},{"$f":"IFERROR(VLOOKUP($J27,料理一覧!$A$3:$N$19998,13,FALSE),\"0\")","v":0},{"$f":"IFERROR(VLOOKUP($J27,料理一覧!$A$3:$N$19998,14,FALSE),\"0\")","v":0},{"$f":"IFERROR(VLOOKUP($K27,料理一覧!$A$3:$N$19998,4,FALSE),\"0\")","v":0},{"$f":"IFERROR(VLOOKUP($K27,料理一覧!$A$3:$N$19998,5,FALSE),\"0\")","v":0},{"$f":"IFERROR(VLOOKUP($K27,料理一覧!$A$3:$N$19998,6,FALSE),\"0\")","v":0},{"$f":"IFERROR(VLOOKUP($K27,料理一覧!$A$3:$N$19998,7,FALSE),\"0\")","v":0},{"$f":"IFERROR(VLOOKUP($K27,料理一覧!$A$3:$N$19998,8,FALSE),\"0\")","v":0},{"$f":"IFERROR(VLOOKUP($K27,料理一覧!$A$3:$N$19998,9,FALSE),\"0\")","v":0},{"$f":"IFERROR(VLOOKUP($K27,料理一覧!$A$3:$N$19998,10,FALSE),\"0\")","v":0},{"$f":"IFERROR(VLOOKUP($K27,料理一覧!$A$3:$N$19998,11,FALSE),\"0\")","v":0},{"$f":"IFERROR(VLOOKUP($K27,料理一覧!$A$3:$N$19998,12,FALSE),\"0\")","v":0},{"$f":"IFERROR(VLOOKUP($K27,料理一覧!$A$3:$N$19998,13,FALSE),\"0\")","v":0},{"$f":"IFERROR(VLOOKUP($K27,料理一覧!$A$3:$N$19998,14,FALSE),\"0\")","v":0},0,0,0,0,0,0,0,0,0,0,0]
[24,"(月)",null,null,null,null,null,null,null,null,null,{"$f":"IFERROR(VLOOKUP($C28,料理一覧!$A$3:$N$19998,3,FALSE),\"\")","v":0},{"$f":"IFERROR(VLOOKUP($D28,料理一覧!$A$3:$N$19998,3,FALSE),\"\")","v":0},{"$f":"IFERROR(VLOOKUP($E28,料理一覧!$A$3:$N$19998,3,FALSE),\"\")","v":0},{"$f":"IFERROR(VLOOKUP($F28,料理一覧!$A$3:$N$19998,3,FALSE),\"\")","v":0},{"$f":"IFERROR(VLOOKUP($G28,料理一覧!$A$3:$N$19998,3,FALSE),\"\")","v":0},{"$f":"IFERROR(VLOOKUP($H28,料理一覧!$A$3:$N$19998,3,FALSE),\"\")","v":0},{"$f":"IFERROR(VLOOKUP($I28,料理一覧!$A$3:$N$19998,3,FALSE),\"\")","v":0},{"$f":"IFERROR(VLOOKUP($J28,料理一覧!$A$3:$N$19998,3,FALSE),\"\")","v":0},{"$f":"IFERROR(VLOOKUP($K28,料理一覧!$A$3:$N$19998,3,FALSE),\"\")","v":0},0,0,0,0,0,0,0,0,0,0,0,{"$f":"IFERROR(VLOOKUP($C28,料理一覧!$A$3:$N$19998,4,FALSE),\"0\")","v":0},{"$f":"IFERROR(VLOOKUP($C28,料理一覧!$A$3:$N$19998,5,FALSE),\"0\")","v":0},{"$f":"IFERROR(VLOOKUP($C28,料理一覧!$A$3:$N$19998,6,FALSE),\"0\")","v":0},{"$f":"IFERROR(VLOOKUP($C28,料理一覧!$A$3:$N$19998,7,FALSE),\"0\")","v":0},{"$f":"IFERROR(VLOOKUP($C28,料理一覧!$A$3:$N$19998,8,FALSE),\"0\")","v":0},{"$f":"IFERROR(VLOOKUP($C28,料理一覧!$A$3:$N$19998,9,FALSE),\"0\")","v":0},{"$f":"IFERROR(VLOOKUP($C28,料理一覧!$A$3:$N$19998,10,FALSE),\"0\")","v":0},{"$f":"IFERROR(VLOOKUP($C28,料理一覧!$A$3:$N$19998,11,FALSE),\"0\")","v":0},{"$f":"IFERROR(VLOOKUP($C28,料理一覧!$A$3:$N$19998,12,FALSE),\"0\")","v":0},{"$f":"IFERROR(VLOOKUP($C28,料理一覧!$A$3:$N$19998,13,FALSE),\"0\")","v":0},{"$f":"IFERROR(VLOOKUP($C28,料理一覧!$A$3:$N$19998,14,FALSE),\"0\")","v":0},{"$f":"IFERROR(VLOOKUP($D28,料理一覧!$A$3:$N$19998,4,FALSE),\"0\")","v":0},{"$f":"IFERROR(VLOOKUP($D28,料理一覧!$A$3:$N$19998,5,FALSE),\"0\")","v":0},{"$f":"IFERROR(VLOOKUP($D28,料理一覧!$A$3:$N$19998,6,FALSE),\"0\")","v":0},{"$f":"IFERROR(VLOOKUP($D28,料理一覧!$A$3:$N$19998,7,FALSE),\"0\")","v":0},{"$f":"IFERROR(VLOOKUP($D28,料理一覧!$A$3:$N$19998,8,FALSE),\"0\")","v":0},{"$f":"IFERROR(VLOOKUP($D28,料理一覧!$A$3:$N$19998,9,FALSE),\"0\")","v":0},{"$f":"IFERROR(VLOOKUP($D28,料理一覧!$A$3:$N$19998,10,FALSE),\"0\")","v":0},{"$f":"IFERROR(VLOOKUP($D28,料理一覧!$A$3:$N$19998,11,FALSE),\"0\")","v":0},{"$f":"IFERROR(VLOOKUP($D28,料理一覧!$A$3:$N$19998,12,FALSE),\"0\")","v":0},{"$f":"IFERROR(VLOOKUP($D28,料理一覧!$A$3:$N$19998,13,FALSE),\"0\")","v":0},{"$f":"IFERROR(VLOOKUP($D28,料理一覧!$A$3:$N$19998,14,FALSE),\"0\")","v":0},{"$f":"IFERROR(VLOOKUP($E28,料理一覧!$A$3:$N$19998,4,FALSE),\"0\")","v":0},{"$f":"IFERROR(VLOOKUP($E28,料理一覧!$A$3:$N$19998,5,FALSE),\"0\")","v":0},{"$f":"IFERROR(VLOOKUP($E28,料理一覧!$A$3:$N$19998,6,FALSE),\"0\")","v":0},{"$f":"IFERROR(VLOOKUP($E28,料理一覧!$A$3:$N$19998,7,FALSE),\"0\")","v":0},{"$f":"IFERROR(VLOOKUP($E28,料理一覧!$A$3:$N$19998,8,FALSE),\"0\")","v":0},{"$f":"IFERROR(VLOOKUP($E28,料理一覧!$A$3:$N$19998,9,FALSE),\"0\")","v":0},{"$f":"IFERROR(VLOOKUP($E28,料理一覧!$A$3:$N$19998,10,FALSE),\"0\")","v":0},{"$f":"IFERROR(VLOOKUP($E28,料理一覧!$A$3:$N$19998,11,FALSE),\"0\")","v":0},{"$f":"IFERROR(VLOOKUP($E28,料理一覧!$A$3:$N$19998,12,FALSE),\"0\")","v":0},{"$f":"IFERROR(VLOOKUP($E28,料理一覧!$A$3:$N$19998,13,FALSE),\"0\")","v":0},{"$f":"IFERROR(VLOOKUP($E28,料理一覧!$A$3:$N$19998,14,FALSE),\"0\")","v":0},{"$f":"IFERROR(VLOOKUP($F28,料理一覧!$A$3:$N$19998,4,FALSE),\"0\")","v":0},{"$f":"IFERROR(VLOOKUP($F28,料理一覧!$A$3:$N$19998,5,FALSE),\"0\")","v":0},{"$f":"IFERROR(VLOOKUP($F28,料理一覧!$A$3:$N$19998,6,FALSE),\"0\")","v":0},{"$f":"IFERROR(VLOOKUP($F28,料理一覧!$A$3:$N$19998,7,FALSE),\"0\")","v":0},{"$f":"IFERROR(VLOOKUP($F28,料理一覧!$A$3:$N$19998,8,FALSE),\"0\")","v":0},{"$f":"IFERROR(VLOOKUP($F28,料理一覧!$A$3:$N$19998,9,FALSE),\"0\")","v":0},{"$f":"IFERROR(VLOOKUP($F28,料理一覧!$A$3:$N$19998,10,FALSE),\"0\")","v":0},{"$f":"IFERROR(VLOOKUP($F28,料理一覧!$A$3:$N$19998,11,FALSE),\"0\")","v":0},{"$f":"IFERROR(VLOOKUP($F28,料理一覧!$A$3:$N$19998,12,FALSE),\"0\")","v":0},{"$f":"IFERROR(VLOOKUP($F28,料理一覧!$A$3:$N$19998,13,FALSE),\"0\")","v":0},{"$f":"IFERROR(VLOOKUP($F28,料理一覧!$A$3:$N$19998,14,FALSE),\"0\")","v":0},{"$f":"IFERROR(VLOOKUP($G28,料理一覧!$A$3:$N$19998,4,FALSE),\"0\")","v":0},{"$f":"IFERROR(VLOOKUP($G28,料理一覧!$A$3:$N$19998,5,FALSE),\"0\")","v":0},{"$f":"IFERROR(VLOOKUP($G28,料理一覧!$A$3:$N$19998,6,FALSE),\"0\")","v":0},{"$f":"IFERROR(VLOOKUP($G28,料理一覧!$A$3:$N$19998,7,FALSE),\"0\")","v":0},{"$f":"IFERROR(VLOOKUP($G28,料理一覧!$A$3:$N$19998,8,FALSE),\"0\")","v":0},{"$f":"IFERROR(VLOOKUP($G28,料理一覧!$A$3:$N$19998,9,FALSE),\"0\")","v":0},{"$f":"IFERROR(VLOOKUP($G28,料理一覧!$A$3:$N$19998,10,FALSE),\"0\")","v":0},{"$f":"IFERROR(VLOOKUP($G28,料理一覧!$A$3:$N$19998,11,FALSE),\"0\")","v":0},{"$f":"IFERROR(VLOOKUP($G28,料理一覧!$A$3:$N$19998,12,FALSE),\"0\")","v":0},{"$f":"IFERROR(VLOOKUP($G28,料理一覧!$A$3:$N$19998,13,FALSE),\"0\")","v":0},{"$f":"IFERROR(VLOOKUP($G28,料理一覧!$A$3:$N$19998,14,FALSE),\"0\")","v":0},{"$f":"IFERROR(VLOOKUP($H28,料理一覧!$A$3:$N$19998,4,FALSE),\"0\")","v":0},{"$f":"IFERROR(VLOOKUP($H28,料理一覧!$A$3:$N$19998,5,FALSE),\"0\")","v":0},{"$f":"IFERROR(VLOOKUP($H28,料理一覧!$A$3:$N$19998,6,FALSE),\"0\")","v":0},{"$f":"IFERROR(VLOOKUP($H28,料理一覧!$A$3:$N$19998,7,FALSE),\"0\")","v":0},{"$f":"IFERROR(VLOOKUP($H28,料理一覧!$A$3:$N$19998,8,FALSE),\"0\")","v":0},{"$f":"IFERROR(VLOOKUP($H28,料理一覧!$A$3:$N$19998,9,FALSE),\"0\")","v":0},{"$f":"IFERROR(VLOOKUP($H28,料理一覧!$A$3:$N$19998,10,FALSE),\"0\")","v":0},{"$f":"IFERROR(VLOOKUP($H28,料理一覧!$A$3:$N$19998,11,FALSE),\"0\")","v":0},{"$f":"IFERROR(VLOOKUP($H28,料理一覧!$A$3:$N$19998,12,FALSE),\"0\")","v":0},{"$f":"IFERROR(VLOOKUP($H28,料理一覧!$A$3:$N$19998,13,FALSE),\"0\")","v":0},{"$f":"IFERROR(VLOOKUP($H28,料理一覧!$A$3:$N$19998,14,FALSE),\"0\")","v":0},{"$f":"IFERROR(VLOOKUP($I28,料理一覧!$A$3:$N$19998,4,FALSE),\"0\")","v":0},{"$f":"IFERROR(VLOOKUP($I28,料理一覧!$A$3:$N$19998,5,FALSE),\"0\")","v":0},{"$f":"IFERROR(VLOOKUP($I28,料理一覧!$A$3:$N$19998,6,FALSE),\"0\")","v":0},{"$f":"IFERROR(VLOOKUP($I28,料理一覧!$A$3:$N$19998,7,FALSE),\"0\")","v":0},{"$f":"IFERROR(VLOOKUP($I28,料理一覧!$A$3:$N$19998,8,FALSE),\"0\")","v":0},{"$f":"IFERROR(VLOOKUP($I28,料理一覧!$A$3:$N$19998,9,FALSE),\"0\")","v":0},{"$f":"IFERROR(VLOOKUP($I28,料理一覧!$A$3:$N$19998,10,FALSE),\"0\")","v":0},{"$f":"IFERROR(VLOOKUP($I28,料理一覧!$A$3:$N$19998,11,FALSE),\"0\")","v":0},{"$f":"IFERROR(VLOOKUP($I28,料理一覧!$A$3:$N$19998,12,FALSE),\"0\")","v":0},{"$f":"IFERROR(VLOOKUP($I28,料理一覧!$A$3:$N$19998,13,FALSE),\"0\")","v":0},{"$f":"IFERROR(VLOOKUP($I28,料理一覧!$A$3:$N$19998,14,FALSE),\"0\")","v":0},{"$f":"IFERROR(VLOOKUP($J28,料理一覧!$A$3:$N$19998,4,FALSE),\"0\")","v":0},{"$f":"IFERROR(VLOOKUP($J28,料理一覧!$A$3:$N$19998,5,FALSE),\"0\")","v":0},{"$f":"IFERROR(VLOOKUP($J28,料理一覧!$A$3:$N$19998,6,FALSE),\"0\")","v":0},{"$f":"IFERROR(VLOOKUP($J28,料理一覧!$A$3:$N$19998,7,FALSE),\"0\")","v":0},{"$f":"IFERROR(VLOOKUP($J28,料理一覧!$A$3:$N$19998,8,FALSE),\"0\")","v":0},{"$f":"IFERROR(VLOOKUP($J28,料理一覧!$A$3:$N$19998,9,FALSE),\"0\")","v":0},{"$f":"IFERROR(VLOOKUP($J28,料理一覧!$A$3:$N$19998,10,FALSE),\"0\")","v":0},{"$f":"IFERROR(VLOOKUP($J28,料理一覧!$A$3:$N$19998,11,FALSE),\"0\")","v":0},{"$f":"IFERROR(VLOOKUP($J28,料理一覧!$A$3:$N$19998,12,FALSE),\"0\")","v":0},{"$f":"IFERROR(VLOOKUP($J28,料理一覧!$A$3:$N$19998,13,FALSE),\"0\")","v":0},{"$f":"IFERROR(VLOOKUP($J28,料理一覧!$A$3:$N$19998,14,FALSE),\"0\")","v":0},{"$f":"IFERROR(VLOOKUP($K28,料理一覧!$A$3:$N$19998,4,FALSE),\"0\")","v":0},{"$f":"IFERROR(VLOOKUP($K28,料理一覧!$A$3:$N$19998,5,FALSE),\"0\")","v":0},{"$f":"IFERROR(VLOOKUP($K28,料理一覧!$A$3:$N$19998,6,FALSE),\"0\")","v":0},{"$f":"IFERROR(VLOOKUP($K28,料理一覧!$A$3:$N$19998,7,FALSE),\"0\")","v":0},{"$f":"IFERROR(VLOOKUP($K28,料理一覧!$A$3:$N$19998,8,FALSE),\"0\")","v":0},{"$f":"IFERROR(VLOOKUP($K28,料理一覧!$A$3:$N$19998,9,FALSE),\"0\")","v":0},{"$f":"IFERROR(VLOOKUP($K28,料理一覧!$A$3:$N$19998,10,FALSE),\"0\")","v":0},{"$f":"IFERROR(VLOOKUP($K28,料理一覧!$A$3:$N$19998,11,FALSE),\"0\")","v":0},{"$f":"IFERROR(VLOOKUP($K28,料理一覧!$A$3:$N$19998,12,FALSE),\"0\")","v":0},{"$f":"IFERROR(VLOOKUP($K28,料理一覧!$A$3:$N$19998,13,FALSE),\"0\")","v":0},{"$f":"IFERROR(VLOOKUP($K28,料理一覧!$A$3:$N$19998,14,FALSE),\"0\")","v":0},0,0,0,0,0,0,0,0,0,0,0]
[25,"(火)",null,null,null,null,null,null,null,null,null,{"$f":"IFERROR(VLOOKUP($C29,料理一覧!$A$3:$N$19998,3,FALSE),\"\")","v":0},{"$f":"IFERROR(VLOOKUP($D29,料理一覧!$A$3:$N$19998,3,FALSE),\"\")","v":0},{"$f":"IFERROR(VLOOKUP($E29,料理一覧!$A$3:$N$19998,3,FALSE),\"\")","v":0},{"$f":"IFERROR(VLOOKUP($F29,料理一覧!$A$3:$N$19998,3,FALSE),\"\")","v":0},{"$f":"IFERROR(VLOOKUP($G29,料理一覧!$A$3:$N$19998,3,FALSE),\"\")","v":0},{"$f":"IFERROR(VLOOKUP($H29,料理一覧!$A$3:$N$19998,3,FALSE),\"\")","v":0},{"$f":"IFERROR(VLOOKUP($I29,料理一覧!$A$3:$N$19998,3,FALSE),\"\")","v":0},{"$f":"IFERROR(VLOOKUP($J29,料理一覧!$A$3:$N$19998,3,FALSE),\"\")","v":0},{"$f":"IFERROR(VLOOKUP($K29,料理一覧!$A$3:$N$19998,3,FALSE),\"\")","v":0},0,0,0,0,0,0,0,0,0,0,0,{"$f":"IFERROR(VLOOKUP($C29,料理一覧!$A$3:$N$19998,4,FALSE),\"0\")","v":0},{"$f":"IFERROR(VLOOKUP($C29,料理一覧!$A$3:$N$19998,5,FALSE),\"0\")","v":0},{"$f":"IFERROR(VLOOKUP($C29,料理一覧!$A$3:$N$19998,6,FALSE),\"0\")","v":0},{"$f":"IFERROR(VLOOKUP($C29,料理一覧!$A$3:$N$19998,7,FALSE),\"0\")","v":0},{"$f":"IFERROR(VLOOKUP($C29,料理一覧!$A$3:$N$19998,8,FALSE),\"0\")","v":0},{"$f":"IFERROR(VLOOKUP($C29,料理一覧!$A$3:$N$19998,9,FALSE),\"0\")","v":0},{"$f":"IFERROR(VLOOKUP($C29,料理一覧!$A$3:$N$19998,10,FALSE),\"0\")","v":0},{"$f":"IFERROR(VLOOKUP($C29,料理一覧!$A$3:$N$19998,11,FALSE),\"0\")","v":0},{"$f":"IFERROR(VLOOKUP($C29,料理一覧!$A$3:$N$19998,12,FALSE),\"0\")","v":0},{"$f":"IFERROR(VLOOKUP($C29,料理一覧!$A$3:$N$19998,13,FALSE),\"0\")","v":0},{"$f":"IFERROR(VLOOKUP($C29,料理一覧!$A$3:$N$19998,14,FALSE),\"0\")","v":0},{"$f":"IFERROR(VLOOKUP($D29,料理一覧!$A$3:$N$19998,4,FALSE),\"0\")","v":0},{"$f":"IFERROR(VLOOKUP($D29,料理一覧!$A$3:$N$19998,5,FALSE),\"0\")","v":0},{"$f":"IFERROR(VLOOKUP($D29,料理一覧!$A$3:$N$19998,6,FALSE),\"0\")","v":0},{"$f":"IFERROR(VLOOKUP($D29,料理一覧!$A$3:$N$19998,7,FALSE),\"0\")","v":0},{"$f":"IFERROR(VLOOKUP($D29,料理一覧!$A$3:$N$19998,8,FALSE),\"0\")","v":0},{"$f":"IFERROR(VLOOKUP($D29,料理一覧!$A$3:$N$19998,9,FALSE),\"0\")","v":0},{"$f":"IFERROR(VLOOKUP($D29,料理一覧!$A$3:$N$19998,10,FALSE),\"0\")","v":0},{"$f":"IFERROR(VLOOKUP($D29,料理一覧!$A$3:$N$19998,11,FALSE),\"0\")","v":0},{"$f":"IFERROR(VLOOKUP($D29,料理一覧!$A$3:$N$19998,12,FALSE),\"0\")","v":0},{"$f":"IFERROR(VLOOKUP($D29,料理一覧!$A$3:$N$19998,13,FALSE),\"0\")","v":0},{"$f":"IFERROR(VLOOKUP($D29,料理一覧!$A$3:$N$19998,14,FALSE),\"0\")","v":0},{"$f":"IFERROR(VLOOKUP($E29,料理一覧!$A$3:$N$19998,4,FALSE),\"0\")","v":0},{"$f":"IFERROR(VLOOKUP($E29,料理一覧!$A$3:$N$19998,5,FALSE),\"0\")","v":0},{"$f":"IFERROR(VLOOKUP($E29,料理一覧!$A$3:$N$19998,6,FALSE),\"0\")","v":0},{"$f":"IFERROR(VLOOKUP($E29,料理一覧!$A$3:$N$19998,7,FALSE),\"0\")","v":0},{"$f":"IFERROR(VLOOKUP($E29,料理一覧!$A$3:$N$19998,8,FALSE),\"0\")","v":0},{"$f":"IFERROR(VLOOKUP($E29,料理一覧!$A$3:$N$19998,9,FALSE),\"0\")","v":0},{"$f":"IFERROR(VLOOKUP($E29,料理一覧!$A$3:$N$19998,10,FALSE),\"0\")","v":0},{"$f":"IFERROR(VLOOKUP($E29,料理一覧!$A$3:$N$19998,11,FALSE),\"0\")","v":0},{"$f":"IFERROR(VLOOKUP($E29,料理一覧!$A$3:$N$19998,12,FALSE),\"0\")","v":0},{"$f":"IFERROR(VLOOKUP($E29,料理一覧!$A$3:$N$19998,13,FALSE),\"0\")","v":0},{"$f":"IFERROR(VLOOKUP($E29,料理一覧!$A$3:$N$19998,14,FALSE),\"0\")","v":0},{"$f":"IFERROR(VLOOKUP($F29,料理一覧!$A$3:$N$19998,4,FALSE),\"0\")","v":0},{"$f":"IFERROR(VLOOKUP($F29,料理一覧!$A$3:$N$19998,5,FALSE),\"0\")","v":0},{"$f":"IFERROR(VLOOKUP($F29,料理一覧!$A$3:$N$19998,6,FALSE),\"0\")","v":0},{"$f":"IFERROR(VLOOKUP($F29,料理一覧!$A$3:$N$19998,7,FALSE),\"0\")","v":0},{"$f":"IFERROR(VLOOKUP($F29,料理一覧!$A$3:$N$19998,8,FALSE),\"0\")","v":0},{"$f":"IFERROR(VLOOKUP($F29,料理一覧!$A$3:$N$19998,9,FALSE),\"0\")","v":0},{"$f":"IFERROR(VLOOKUP($F29,料理一覧!$A$3:$N$19998,10,FALSE),\"0\")","v":0},{"$f":"IFERROR(VLOOKUP($F29,料理一覧!$A$3:$N$19998,11,FALSE),\"0\")","v":0},{"$f":"IFERROR(VLOOKUP($F29,料理一覧!$A$3:$N$19998,12,FALSE),\"0\")","v":0},{"$f":"IFERROR(VLOOKUP($F29,料理一覧!$A$3:$N$19998,13,FALSE),\"0\")","v":0},{"$f":"IFERROR(VLOOKUP($F29,料理一覧!$A$3:$N$19998,14,FALSE),\"0\")","v":0},{"$f":"IFERROR(VLOOKUP($G29,料理一覧!$A$3:$N$19998,4,FALSE),\"0\")","v":0},{"$f":"IFERROR(VLOOKUP($G29,料理一覧!$A$3:$N$19998,5,FALSE),\"0\")","v":0},{"$f":"IFERROR(VLOOKUP($G29,料理一覧!$A$3:$N$19998,6,FALSE),\"0\")","v":0},{"$f":"IFERROR(VLOOKUP($G29,料理一覧!$A$3:$N$19998,7,FALSE),\"0\")","v":0},{"$f":"IFERROR(VLOOKUP($G29,料理一覧!$A$3:$N$19998,8,FALSE),\"0\")","v":0},{"$f":"IFERROR(VLOOKUP($G29,料理一覧!$A$3:$N$19998,9,FALSE),\"0\")","v":0},{"$f":"IFERROR(VLOOKUP($G29,料理一覧!$A$3:$N$19998,10,FALSE),\"0\")","v":0},{"$f":"IFERROR(VLOOKUP($G29,料理一覧!$A$3:$N$19998,11,FALSE),\"0\")","v":0},{"$f":"IFERROR(VLOOKUP($G29,料理一覧!$A$3:$N$19998,12,FALSE),\"0\")","v":0},{"$f":"IFERROR(VLOOKUP($G29,料理一覧!$A$3:$N$19998,13,FALSE),\"0\")","v":0},{"$f":"IFERROR(VLOOKUP($G29,料理一覧!$A$3:$N$19998,14,FALSE),\"0\")","v":0},{"$f":"IFERROR(VLOOKUP($H29,料理一覧!$A$3:$N$19998,4,FALSE),\"0\")","v":0},{"$f":"IFERROR(VLOOKUP($H29,料理一覧!$A$3:$N$19998,5,FALSE),\"0\")","v":0},{"$f":"IFERROR(VLOOKUP($H29,料理一覧!$A$3:$N$19998,6,FALSE),\"0\")","v":0},{"$f":"IFERROR(VLOOKUP($H29,料理一覧!$A$3:$N$19998,7,FALSE),\"0\")","v":0},{"$f":"IFERROR(VLOOKUP($H29,料理一覧!$A$3:$N$19998,8,FALSE),\"0\")","v":0},{"$f":"IFERROR(VLOOKUP($H29,料理一覧!$A$3:$N$19998,9,FALSE),\"0\")","v":0},{"$f":"IFERROR(VLOOKUP($H29,料理一覧!$A$3:$N$19998,10,FALSE),\"0\")","v":0},{"$f":"IFERROR(VLOOKUP($H29,料理一覧!$A$3:$N$19998,11,FALSE),\"0\")","v":0},{"$f":"IFERROR(VLOOKUP($H29,料理一覧!$A$3:$N$19998,12,FALSE),\"0\")","v":0},{"$f":"IFERROR(VLOOKUP($H29,料理一覧!$A$3:$N$19998,13,FALSE),\"0\")","v":0},{"$f":"IFERROR(VLOOKUP($H29,料理一覧!$A$3:$N$19998,14,FALSE),\"0\")","v":0},{"$f":"IFERROR(VLOOKUP($I29,料理一覧!$A$3:$N$19998,4,FALSE),\"0\")","v":0},{"$f":"IFERROR(VLOOKUP($I29,料理一覧!$A$3:$N$19998,5,FALSE),\"0\")","v":0},{"$f":"IFERROR(VLOOKUP($I29,料理一覧!$A$3:$N$19998,6,FALSE),\"0\")","v":0},{"$f":"IFERROR(VLOOKUP($I29,料理一覧!$A$3:$N$19998,7,FALSE),\"0\")","v":0},{"$f":"IFERROR(VLOOKUP($I29,料理一覧!$A$3:$N$19998,8,FALSE),\"0\")","v":0},{"$f":"IFERROR(VLOOKUP($I29,料理一覧!$A$3:$N$19998,9,FALSE),\"0\")","v":0},{"$f":"IFERROR(VLOOKUP($I29,料理一覧!$A$3:$N$19998,10,FALSE),\"0\")","v":0},{"$f":"IFERROR(VLOOKUP($I29,料理一覧!$A$3:$N$19998,11,FALSE),\"0\")","v":0},{"$f":"IFERROR(VLOOKUP($I29,料理一覧!$A$3:$N$19998,12,FALSE),\"0\")","v":0},{"$f":"IFERROR(VLOOKUP($I29,料理一覧!$A$3:$N$19998,13,FALSE),\"0\")","v":0},{"$f":"IFERROR(VLOOKUP($I29,料理一覧!$A$3:$N$19998,14,FALSE),\"0\")","v":0},{"$f":"IFERROR(VLOOKUP($J29,料理一覧!$A$3:$N$19998,4,FALSE),\"0\")","v":0},{"$f":"IFERROR(VLOOKUP($J29,料理一覧!$A$3:$N$19998,5,FALSE),\"0\")","v":0},{"$f":"IFERROR(VLOOKUP($J29,料理一覧!$A$3:$N$19998,6,FALSE),\"0\")","v":0},{"$f":"IFERROR(VLOOKUP($J29,料理一覧!$A$3:$N$19998,7,FALSE),\"0\")","v":0},{"$f":"IFERROR(VLOOKUP($J29,料理一覧!$A$3:$N$19998,8,FALSE),\"0\")","v":0},{"$f":"IFERROR(VLOOKUP($J29,料理一覧!$A$3:$N$19998,9,FALSE),\"0\")","v":0},{"$f":"IFERROR(VLOOKUP($J29,料理一覧!$A$3:$N$19998,10,FALSE),\"0\")","v":0},{"$f":"IFERROR(VLOOKUP($J29,料理一覧!$A$3:$N$19998,11,FALSE),\"0\")","v":0},{"$f":"IFERROR(VLOOKUP($J29,料理一覧!$A$3:$N$19998,12,FALSE),\"0\")","v":0},{"$f":"IFERROR(VLOOKUP($J29,料理一覧!$A$3:$N$19998,13,FALSE),\"0\")","v":0},{"$f":"IFERROR(VLOOKUP($J29,料理一覧!$A$3:$N$19998,14,FALSE),\"0\")","v":0},{"$f":"IFERROR(VLOOKUP($K29,料理一覧!$A$3:$N$19998,4,FALSE),\"0\")","v":0},{"$f":"IFERROR(VLOOKUP($K29,料理一覧!$A$3:$N$19998,5,FALSE),\"0\")","v":0},{"$f":"IFERROR(VLOOKUP($K29,料理一覧!$A$3:$N$19998,6,FALSE),\"0\")","v":0},{"$f":"IFERROR(VLOOKUP($K29,料理一覧!$A$3:$N$19998,7,FALSE),\"0\")","v":0},{"$f":"IFERROR(VLOOKUP($K29,料理一覧!$A$3:$N$19998,8,FALSE),\"0\")","v":0},{"$f":"IFERROR(VLOOKUP($K29,料理一覧!$A$3:$N$19998,9,FALSE),\"0\")","v":0},{"$f":"IFERROR(VLOOKUP($K29,料理一覧!$A$3:$N$19998,10,FALSE),\"0\")","v":0},{"$f":"IFERROR(VLOOKUP($K29,料理一覧!$A$3:$N$19998,11,FALSE),\"0\")","v":0},{"$f":"IFERROR(VLOOKUP($K29,料理一覧!$A$3:$N$19998,12,FALSE),\"0\")","v":0},{"$f":"IFERROR(VLOOKUP($K29,料理一覧!$A$3:$N$19998,13,FALSE),\"0\")","v":0},{"$f":"IFERROR(VLOOKUP($K29,料理一覧!$A$3:$N$19998,14,FALSE),\"0\")","v":0},0,0,0,0,0,0,0,0,0,0,0]
[26,"(水)",null,null,null,null,null,null,null,null,null,{"$f":"IFERROR(VLOOKUP($C30,料理一覧!$A$3:$N$19998,3,FALSE),\"\")","v":0},{"$f":"IFERROR(VLOOKUP($D30,料理一覧!$A$3:$N$19998,3,FALSE),\"\")","v":0},{"$f":"IFERROR(VLOOKUP($E30,料理一覧!$A$3:$N$19998,3,FALSE),\"\")","v":0},{"$f":"IFERROR(VLOOKUP($F30,料理一覧!$A$3:$N$19998,3,FALSE),\"\")","v":0},{"$f":"IFERROR(VLOOKUP($G30,料理一覧!$A$3:$N$19998,3,FALSE),\"\")","v":0},{"$f":"IFERROR(VLOOKUP($H30,料理一覧!$A$3:$N$19998,3,FALSE),\"\")","v":0},{"$f":"IFERROR(VLOOKUP($I30,料理一覧!$A$3:$N$19998,3,FALSE),\"\")","v":0},{"$f":"IFERROR(VLOOKUP($J30,料理一覧!$A$3:$N$19998,3,FALSE),\"\")","v":0},{"$f":"IFERROR(VLOOKUP($K30,料理一覧!$A$3:$N$19998,3,FALSE),\"\")","v":0},0,0,0,0,0,0,0,0,0,0,0,{"$f":"IFERROR(VLOOKUP($C30,料理一覧!$A$3:$N$19998,4,FALSE),\"0\")","v":0},{"$f":"IFERROR(VLOOKUP($C30,料理一覧!$A$3:$N$19998,5,FALSE),\"0\")","v":0},{"$f":"IFERROR(VLOOKUP($C30,料理一覧!$A$3:$N$19998,6,FALSE),\"0\")","v":0},{"$f":"IFERROR(VLOOKUP($C30,料理一覧!$A$3:$N$19998,7,FALSE),\"0\")","v":0},{"$f":"IFERROR(VLOOKUP($C30,料理一覧!$A$3:$N$19998,8,FALSE),\"0\")","v":0},{"$f":"IFERROR(VLOOKUP($C30,料理一覧!$A$3:$N$19998,9,FALSE),\"0\")","v":0},{"$f":"IFERROR(VLOOKUP($C30,料理一覧!$A$3:$N$19998,10,FALSE),\"0\")","v":0},{"$f":"IFERROR(VLOOKUP($C30,料理一覧!$A$3:$N$19998,11,FALSE),\"0\")","v":0},{"$f":"IFERROR(VLOOKUP($C30,料理一覧!$A$3:$N$19998,12,FALSE),\"0\")","v":0},{"$f":"IFERROR(VLOOKUP($C30,料理一覧!$A$3:$N$19998,13,FALSE),\"0\")","v":0},{"$f":"IFERROR(VLOOKUP($C30,料理一覧!$A$3:$N$19998,14,FALSE),\"0\")","v":0},{"$f":"IFERROR(VLOOKUP($D30,料理一覧!$A$3:$N$19998,4,FALSE),\"0\")","v":0},{"$f":"IFERROR(VLOOKUP($D30,料理一覧!$A$3:$N$19998,5,FALSE),\"0\")","v":0},{"$f":"IFERROR(VLOOKUP($D30,料理一覧!$A$3:$N$19998,6,FALSE),\"0\")","v":0},{"$f":"IFERROR(VLOOKUP($D30,料理一覧!$A$3:$N$19998,7,FALSE),\"0\")","v":0},{"$f":"IFERROR(VLOOKUP($D30,料理一覧!$A$3:$N$19998,8,FALSE),\"0\")","v":0},{"$f":"IFERROR(VLOOKUP($D30,料理一覧!$A$3:$N$19998,9,FALSE),\"0\")","v":0},{"$f":"IFERROR(VLOOKUP($D30,料理一覧!$A$3:$N$19998,10,FALSE),\"0\")","v":0},{"$f":"IFERROR(VLOOKUP($D30,料理一覧!$A$3:$N$19998,11,FALSE),\"0\")","v":0},{"$f":"IFERROR(VLOOKUP($D30,料理一覧!$A$3:$N$19998,12,FALSE),\"0\")","v":0},{"$f":"IFERROR(VLOOKUP($D30,料理一覧!$A$3:$N$19998,13,FALSE),\"0\")","v":0},{"$f":"IFERROR(VLOOKUP($D30,料理一覧!$A$3:$N$19998,14,FALSE),\"0\")","v":0},{"$f":"IFERROR(VLOOKUP($E30,料理一覧!$A$3:$N$19998,4,FALSE),\"0\")","v":0},{"$f":"IFERROR(VLOOKUP($E30,料理一覧!$A$3:$N$19998,5,FALSE),\"0\")","v":0},{"$f":"IFERROR(VLOOKUP($E30,料理一覧!$A$3:$N$19998,6,FALSE),\"0\")","v":0},{"$f":"IFERROR(VLOOKUP($E30,料理一覧!$A$3:$N$19998,7,FALSE),\"0\")","v":0},{"$f":"IFERROR(VLOOKUP($E30,料理一覧!$A$3:$N$19998,8,FALSE),\"0\")","v":0},{"$f":"IFERROR(VLOOKUP($E30,料理一覧!$A$3:$N$19998,9,FALSE),\"0\")","v":0},{"$f":"IFERROR(VLOOKUP($E30,料理一覧!$A$3:$N$19998,10,FALSE),\"0\")","v":0},{"$f":"IFERROR(VLOOKUP($E30,料理一覧!$A$3:$N$19998,11,FALSE),\"0\")","v":0},{"$f":"IFERROR(VLOOKUP($E30,料理一覧!$A$3:$N$19998,12,FALSE),\"0\")","v":0},{"$f":"IFERROR(VLOOKUP($E30,料理一覧!$A$3:$N$19998,13,FALSE),\"0\")","v":0},{"$f":"IFERROR(VLOOKUP($E30,料理一覧!$A$3:$N$19998,14,FALSE),\"0\")","v":0},{"$f":"IFERROR(VLOOKUP($F30,料理一覧!$A$3:$N$19998,4,FALSE),\"0\")","v":0},{"$f":"IFERROR(VLOOKUP($F30,料理一覧!$A$3:$N$19998,5,FALSE),\"0\")","v":0},{"$f":"IFERROR(VLOOKUP($F30,料理一覧!$A$3:$N$19998,6,FALSE),\"0\")","v":0},{"$f":"IFERROR(VLOOKUP($F30,料理一覧!$A$3:$N$19998,7,FALSE),\"0\")","v":0},{"$f":"IFERROR(VLOOKUP($F30,料理一覧!$A$3:$N$19998,8,FALSE),\"0\")","v":0},{"$f":"IFERROR(VLOOKUP($F30,料理一覧!$A$3:$N$19998,9,FALSE),\"0\")","v":0},{"$f":"IFERROR(VLOOKUP($F30,料理一覧!$A$3:$N$19998,10,FALSE),\"0\")","v":0},{"$f":"IFERROR(VLOOKUP($F30,料理一覧!$A$3:$N$19998,11,FALSE),\"0\")","v":0},{"$f":"IFERROR(VLOOKUP($F30,料理一覧!$A$3:$N$19998,12,FALSE),\"0\")","v":0},{"$f":"IFERROR(VLOOKUP($F30,料理一覧!$A$3:$N$19998,13,FALSE),\"0\")","v":0},{"$f":"IFERROR(VLOOKUP($F30,料理一覧!$A$3:$N$19998,14,FALSE),\"0\")","v":0},{"$f":"IFERROR(VLOOKUP($G30,料理一覧!$A$3:$N$19998,4,FALSE),\"0\")","v":0},{"$f":"IFERROR(VLOOKUP($G30,料理一覧!$A$3:$N$19998,5,FALSE),\"0\")","v":0},{"$f":"IFERROR(VLOOKUP($G30,料理一覧!$A$3:$N$19998,6,FALSE),\"0\")","v":0},{"$f":"IFERROR(VLOOKUP($G30,料理一覧!$A$3:$N$19998,7,FALSE),\"0\")","v":0},{"$f":"IFERROR(VLOOKUP($G30,料理一覧!$A$3:$N$19998,8,FALSE),\"0\")","v":0},{"$f":"IFERROR(VLOOKUP($G30,料理一覧!$A$3:$N$19998,9,FALSE),\"0\")","v":0},{"$f":"IFERROR(VLOOKUP($G30,料理一覧!$A$3:$N$19998,10,FALSE),\"0\")","v":0},{"$f":"IFERROR(VLOOKUP($G30,料理一覧!$A$3:$N$19998,11,FALSE),\"0\")","v":0},{"$f":"IFERROR(VLOOKUP($G30,料理一覧!$A$3:$N$19998,12,FALSE),\"0\")","v":0},{"$f":"IFERROR(VLOOKUP($G30,料理一覧!$A$3:$N$19998,13,FALSE),\"0\")","v":0},{"$f":"IFERROR(VLOOKUP($G30,料理一覧!$A$3:$N$19998,14,FALSE),\"0\")","v":0},{"$f":"IFERROR(VLOOKUP($H30,料理一覧!$A$3:$N$19998,4,FALSE),\"0\")","v":0},{"$f":"IFERROR(VLOOKUP($H30,料理一覧!$A$3:$N$19998,5,FALSE),\"0\")","v":0},{"$f":"IFERROR(VLOOKUP($H30,料理一覧!$A$3:$N$19998,6,FALSE),\"0\")","v":0},{"$f":"IFERROR(VLOOKUP($H30,料理一覧!$A$3:$N$19998,7,FALSE),\"0\")","v":0},{"$f":"IFERROR(VLOOKUP($H30,料理一覧!$A$3:$N$19998,8,FALSE),\"0\")","v":0},{"$f":"IFERROR(VLOOKUP($H30,料理一覧!$A$3:$N$19998,9,FALSE),\"0\")","v":0},{"$f":"IFERROR(VLOOKUP($H30,料理一覧!$A$3:$N$19998,10,FALSE),\"0\")","v":0},{"$f":"IFERROR(VLOOKUP($H30,料理一覧!$A$3:$N$19998,11,FALSE),\"0\")","v":0},{"$f":"IFERROR(VLOOKUP($H30,料理一覧!$A$3:$N$19998,12,FALSE),\"0\")","v":0},{"$f":"IFERROR(VLOOKUP($H30,料理一覧!$A$3:$N$19998,13,FALSE),\"0\")","v":0},{"$f":"IFERROR(VLOOKUP($H30,料理一覧!$A$3:$N$19998,14,FALSE),\"0\")","v":0},{"$f":"IFERROR(VLOOKUP($I30,料理一覧!$A$3:$N$19998,4,FALSE),\"0\")","v":0},{"$f":"IFERROR(VLOOKUP($I30,料理一覧!$A$3:$N$19998,5,FALSE),\"0\")","v":0},{"$f":"IFERROR(VLOOKUP($I30,料理一覧!$A$3:$N$19998,6,FALSE),\"0\")","v":0},{"$f":"IFERROR(VLOOKUP($I30,料理一覧!$A$3:$N$19998,7,FALSE),\"0\")","v":0},{"$f":"IFERROR(VLOOKUP($I30,料理一覧!$A$3:$N$19998,8,FALSE),\"0\")","v":0},{"$f":"IFERROR(VLOOKUP($I30,料理一覧!$A$3:$N$19998,9,FALSE),\"0\")","v":0},{"$f":"IFERROR(VLOOKUP($I30,料理一覧!$A$3:$N$19998,10,FALSE),\"0\")","v":0},{"$f":"IFERROR(VLOOKUP($I30,料理一覧!$A$3:$N$19998,11,FALSE),\"0\")","v":0},{"$f":"IFERROR(VLOOKUP($I30,料理一覧!$A$3:$N$19998,12,FALSE),\"0\")","v":0},{"$f":"IFERROR(VLOOKUP($I30,料理一覧!$A$3:$N$19998,13,FALSE),\"0\")","v":0},{"$f":"IFERROR(VLOOKUP($I30,料理一覧!$A$3:$N$19998,14,FALSE),\"0\")","v":0},{"$f":"IFERROR(VLOOKUP($J30,料理一覧!$A$3:$N$19998,4,FALSE),\"0\")","v":0},{"$f":"IFERROR(VLOOKUP($J30,料理一覧!$A$3:$N$19998,5,FALSE),\"0\")","v":0},{"$f":"IFERROR(VLOOKUP($J30,料理一覧!$A$3:$N$19998,6,FALSE),\"0\")","v":0},{"$f":"IFERROR(VLOOKUP($J30,料理一覧!$A$3:$N$19998,7,FALSE),\"0\")","v":0},{"$f":"IFERROR(VLOOKUP($J30,料理一覧!$A$3:$N$19998,8,FALSE),\"0\")","v":0},{"$f":"IFERROR(VLOOKUP($J30,料理一覧!$A$3:$N$19998,9,FALSE),\"0\")","v":0},{"$f":"IFERROR(VLOOKUP($J30,料理一覧!$A$3:$N$19998,10,FALSE),\"0\")","v":0},{"$f":"IFERROR(VLOOKUP($J30,料理一覧!$A$3:$N$19998,11,FALSE),\"0\")","v":0},{"$f":"IFERROR(VLOOKUP($J30,料理一覧!$A$3:$N$19998,12,FALSE),\"0\")","v":0},{"$f":"IFERROR(VLOOKUP($J30,料理一覧!$A$3:$N$19998,13,FALSE),\"0\")","v":0},{"$f":"IFERROR(VLOOKUP($J30,料理一覧!$A$3:$N$19998,14,FALSE),\"0\")","v":0},{"$f":"IFERROR(VLOOKUP($K30,料理一覧!$A$3:$N$19998,4,FALSE),\"0\")","v":0},{"$f":"IFERROR(VLOOKUP($K30,料理一覧!$A$3:$N$19998,5,FALSE),\"0\")","v":0},{"$f":"IFERROR(VLOOKUP($K30,料理一覧!$A$3:$N$19998,6,FALSE),\"0\")","v":0},{"$f":"IFERROR(VLOOKUP($K30,料理一覧!$A$3:$N$19998,7,FALSE),\"0\")","v":0},{"$f":"IFERROR(VLOOKUP($K30,料理一覧!$A$3:$N$19998,8,FALSE),\"0\")","v":0},{"$f":"IFERROR(VLOOKUP($K30,料理一覧!$A$3:$N$19998,9,FALSE),\"0\")","v":0},{"$f":"IFERROR(VLOOKUP($K30,料理一覧!$A$3:$N$19998,10,FALSE),\"0\")","v":0},{"$f":"IFERROR(VLOOKUP($K30,料理一覧!$A$3:$N$19998,11,FALSE),\"0\")","v":0},{"$f":"IFERROR(VLOOKUP($K30,料理一覧!$A$3:$N$19998,12,FALSE),\"0\")","v":0},{"$f":"IFERROR(VLOOKUP($K30,料理一覧!$A$3:$N$19998,13,FALSE),\"0\")","v":0},{"$f":"IFERROR(VLOOKUP($K30,料理一覧!$A$3:$N$19998,14,FALSE),\"0\")","v":0},0,0,0,0,0,0,0,0,0,0,0]
[27,"(木)",null,null,null,null,null,null,null,null,null,{"$f":"IFERROR(VLOOKUP($C31,料理一覧!$A$3:$N$19998,3,FALSE),\"\")","v":0},{"$f":"IFERROR(VLOOKUP($D31,料理一覧!$A$3:$N$19998,3,FALSE),\"\")","v":0},{"$f":"IFERROR(VLOOKUP($E31,料理一覧!$A$3:$N$19998,3,FALSE),\"\")","v":0},{"$f":"IFERROR(VLOOKUP($F31,料理一覧!$A$3:$N$19998,3,FALSE),\"\")","v":0},{"$f":"IFERROR(VLOOKUP($G31,料理一覧!$A$3:$N$19998,3,FALSE),\"\")","v":0},{"$f":"IFERROR(VLOOKUP($H31,料理一覧!$A$3:$N$19998,3,FALSE),\"\")","v":0},{"$f":"IFERROR(VLOOKUP($I31,料理一覧!$A$3:$N$19998,3,FALSE),\"\")","v":0},{"$f":"IFERROR(VLOOKUP($J31,料理一覧!$A$3:$N$19998,3,FALSE),\"\")","v":0},{"$f":"IFERROR(VLOOKUP($K31,料理一覧!$A$3:$N$19998,3,FALSE),\"\")","v":0},0,0,0,0,0,0,0,0,0,0,0,{"$f":"IFERROR(VLOOKUP($C31,料理一覧!$A$3:$N$19998,4,FALSE),\"0\")","v":0},{"$f":"IFERROR(VLOOKUP($C31,料理一覧!$A$3:$N$19998,5,FALSE),\"0\")","v":0},{"$f":"IFERROR(VLOOKUP($C31,料理一覧!$A$3:$N$19998,6,FALSE),\"0\")","v":0},{"$f":"IFERROR(VLOOKUP($C31,料理一覧!$A$3:$N$19998,7,FALSE),\"0\")","v":0},{"$f":"IFERROR(VLOOKUP($C31,料理一覧!$A$3:$N$19998,8,FALSE),\"0\")","v":0},{"$f":"IFERROR(VLOOKUP($C31,料理一覧!$A$3:$N$19998,9,FALSE),\"0\")","v":0},{"$f":"IFERROR(VLOOKUP($C31,料理一覧!$A$3:$N$19998,10,FALSE),\"0\")","v":0},{"$f":"IFERROR(VLOOKUP($C31,料理一覧!$A$3:$N$19998,11,FALSE),\"0\")","v":0},{"$f":"IFERROR(VLOOKUP($C31,料理一覧!$A$3:$N$19998,12,FALSE),\"0\")","v":0},{"$f":"IFERROR(VLOOKUP($C31,料理一覧!$A$3:$N$19998,13,FALSE),\"0\")","v":0},{"$f":"IFERROR(VLOOKUP($C31,料理一覧!$A$3:$N$19998,14,FALSE),\"0\")","v":0},{"$f":"IFERROR(VLOOKUP($D31,料理一覧!$A$3:$N$19998,4,FALSE),\"0\")","v":0},{"$f":"IFERROR(VLOOKUP($D31,料理一覧!$A$3:$N$19998,5,FALSE),\"0\")","v":0},{"$f":"IFERROR(VLOOKUP($D31,料理一覧!$A$3:$N$19998,6,FALSE),\"0\")","v":0},{"$f":"IFERROR(VLOOKUP($D31,料理一覧!$A$3:$N$19998,7,FALSE),\"0\")","v":0},{"$f":"IFERROR(VLOOKUP($D31,料理一覧!$A$3:$N$19998,8,FALSE),\"0\")","v":0},{"$f":"IFERROR(VLOOKUP($D31,料理一覧!$A$3:$N$19998,9,FALSE),\"0\")","v":0},{"$f":"IFERROR(VLOOKUP($D31,料理一覧!$A$3:$N$19998,10,FALSE),\"0\")","v":0},{"$f":"IFERROR(VLOOKUP($D31,料理一覧!$A$3:$N$19998,11,FALSE),\"0\")","v":0},{"$f":"IFERROR(VLOOKUP($D31,料理一覧!$A$3:$N$19998,12,FALSE),\"0\")","v":0},{"$f":"IFERROR(VLOOKUP($D31,料理一覧!$A$3:$N$19998,13,FALSE),\"0\")","v":0},{"$f":"IFERROR(VLOOKUP($D31,料理一覧!$A$3:$N$19998,14,FALSE),\"0\")","v":0},{"$f":"IFERROR(VLOOKUP($E31,料理一覧!$A$3:$N$19998,4,FALSE),\"0\")","v":0},{"$f":"IFERROR(VLOOKUP($E31,料理一覧!$A$3:$N$19998,5,FALSE),\"0\")","v":0},{"$f":"IFERROR(VLOOKUP($E31,料理一覧!$A$3:$N$19998,6,FALSE),\"0\")","v":0},{"$f":"IFERROR(VLOOKUP($E31,料理一覧!$A$3:$N$19998,7,FALSE),\"0\")","v":0},{"$f":"IFERROR(VLOOKUP($E31,料理一覧!$A$3:$N$19998,8,FALSE),\"0\")","v":0},{"$f":"IFERROR(VLOOKUP($E31,料理一覧!$A$3:$N$19998,9,FALSE),\"0\")","v":0},{"$f":"IFERROR(VLOOKUP($E31,料理一覧!$A$3:$N$19998,10,FALSE),\"0\")","v":0},{"$f":"IFERROR(VLOOKUP($E31,料理一覧!$A$3:$N$19998,11,FALSE),\"0\")","v":0},{"$f":"IFERROR(VLOOKUP($E31,料理一覧!$A$3:$N$19998,12,FALSE),\"0\")","v":0},{"$f":"IFERROR(VLOOKUP($E31,料理一覧!$A$3:$N$19998,13,FALSE),\"0\")","v":0},{"$f":"IFERROR(VLOOKUP($E31,料理一覧!$A$3:$N$19998,14,FALSE),\"0\")","v":0},{"$f":"IFERROR(VLOOKUP($F31,料理一覧!$A$3:$N$19998,4,FALSE),\"0\")","v":0},{"$f":"IFERROR(VLOOKUP($F31,料理一覧!$A$3:$N$19998,5,FALSE),\"0\")","v":0},{"$f":"IFERROR(VLOOKUP($F31,料理一覧!$A$3:$N$19998,6,FALSE),\"0\")","v":0},{"$f":"IFERROR(VLOOKUP($F31,料理一覧!$A$3:$N$19998,7,FALSE),\"0\")","v":0},{"$f":"IFERROR(VLOOKUP($F31,料理一覧!$A$3:$N$19998,8,FALSE),\"0\")","v":0},{"$f":"IFERROR(VLOOKUP($F31,料理一覧!$A$3:$N$19998,9,FALSE),\"0\")","v":0},{"$f":"IFERROR(VLOOKUP($F31,料理一覧!$A$3:$N$19998,10,FALSE),\"0\")","v":0},{"$f":"IFERROR(VLOOKUP($F31,料理一覧!$A$3:$N$19998,11,FALSE),\"0\")","v":0},{"$f":"IFERROR(VLOOKUP($F31,料理一覧!$A$3:$N$19998,12,FALSE),\"0\")","v":0},{"$f":"IFERROR(VLOOKUP($F31,料理一覧!$A$3:$N$19998,13,FALSE),\"0\")","v":0},{"$f":"IFERROR(VLOOKUP($F31,料理一覧!$A$3:$N$19998,14,FALSE),\"0\")","v":0},{"$f":"IFERROR(VLOOKUP($G31,料理一覧!$A$3:$N$19998,4,FALSE),\"0\")","v":0},{"$f":"IFERROR(VLOOKUP($G31,料理一覧!$A$3:$N$19998,5,FALSE),\"0\")","v":0},{"$f":"IFERROR(VLOOKUP($G31,料理一覧!$A$3:$N$19998,6,FALSE),\"0\")","v":0},{"$f":"IFERROR(VLOOKUP($G31,料理一覧!$A$3:$N$19998,7,FALSE),\"0\")","v":0},{"$f":"IFERROR(VLOOKUP($G31,料理一覧!$A$3:$N$19998,8,FALSE),\"0\")","v":0},{"$f":"IFERROR(VLOOKUP($G31,料理一覧!$A$3:$N$19998,9,FALSE),\"0\")","v":0},{"$f":"IFERROR(VLOOKUP($G31,料理一覧!$A$3:$N$19998,10,FALSE),\"0\")","v":0},{"$f":"IFERROR(VLOOKUP($G31,料理一覧!$A$3:$N$19998,11,FALSE),\"0\")","v":0},{"$f":"IFERROR(VLOOKUP($G31,料理一覧!$A$3:$N$19998,12,FALSE),\"0\")","v":0},{"$f":"IFERROR(VLOOKUP($G31,料理一覧!$A$3:$N$19998,13,FALSE),\"0\")","v":0},{"$f":"IFERROR(VLOOKUP($G31,料理一覧!$A$3:$N$19998,14,FALSE),\"0\")","v":0},{"$f":"IFERROR(VLOOKUP($H31,料理一覧!$A$3:$N$19998,4,FALSE),\"0\")","v":0},{"$f":"IFERROR(VLOOKUP($H31,料理一覧!$A$3:$N$19998,5,FALSE),\"0\")","v":0},{"$f":"IFERROR(VLOOKUP($H31,料理一覧!$A$3:$N$19998,6,FALSE),\"0\")","v":0},{"$f":"IFERROR(VLOOKUP($H31,料理一覧!$A$3:$N$19998,7,FALSE),\"0\")","v":0},{"$f":"IFERROR(VLOOKUP($H31,料理一覧!$A$3:$N$19998,8,FALSE),\"0\")","v":0},{"$f":"IFERROR(VLOOKUP($H31,料理一覧!$A$3:$N$19998,9,FALSE),\"0\")","v":0},{"$f":"IFERROR(VLOOKUP($H31,料理一覧!$A$3:$N$19998,10,FALSE),\"0\")","v":0},{"$f":"IFERROR(VLOOKUP($H31,料理一覧!$A$3:$N$19998,11,FALSE),\"0\")","v":0},{"$f":"IFERROR(VLOOKUP($H31,料理一覧!$A$3:$N$19998,12,FALSE),\"0\")","v":0},{"$f":"IFERROR(VLOOKUP($H31,料理一覧!$A$3:$N$19998,13,FALSE),\"0\")","v":0},{"$f":"IFERROR(VLOOKUP($H31,料理一覧!$A$3:$N$19998,14,FALSE),\"0\")","v":0},{"$f":"IFERROR(VLOOKUP($I31,料理一覧!$A$3:$N$19998,4,FALSE),\"0\")","v":0},{"$f":"IFERROR(VLOOKUP($I31,料理一覧!$A$3:$N$19998,5,FALSE),\"0\")","v":0},{"$f":"IFERROR(VLOOKUP($I31,料理一覧!$A$3:$N$19998,6,FALSE),\"0\")","v":0},{"$f":"IFERROR(VLOOKUP($I31,料理一覧!$A$3:$N$19998,7,FALSE),\"0\")","v":0},{"$f":"IFERROR(VLOOKUP($I31,料理一覧!$A$3:$N$19998,8,FALSE),\"0\")","v":0},{"$f":"IFERROR(VLOOKUP($I31,料理一覧!$A$3:$N$19998,9,FALSE),\"0\")","v":0},{"$f":"IFERROR(VLOOKUP($I31,料理一覧!$A$3:$N$19998,10,FALSE),\"0\")","v":0},{"$f":"IFERROR(VLOOKUP($I31,料理一覧!$A$3:$N$19998,11,FALSE),\"0\")","v":0},{"$f":"IFERROR(VLOOKUP($I31,料理一覧!$A$3:$N$19998,12,FALSE),\"0\")","v":0},{"$f":"IFERROR(VLOOKUP($I31,料理一覧!$A$3:$N$19998,13,FALSE),\"0\")","v":0},{"$f":"IFERROR(VLOOKUP($I31,料理一覧!$A$3:$N$19998,14,FALSE),\"0\")","v":0},{"$f":"IFERROR(VLOOKUP($J31,料理一覧!$A$3:$N$19998,4,FALSE),\"0\")","v":0},{"$f":"IFERROR(VLOOKUP($J31,料理一覧!$A$3:$N$19998,5,FALSE),\"0\")","v":0},{"$f":"IFERROR(VLOOKUP($J31,料理一覧!$A$3:$N$19998,6,FALSE),\"0\")","v":0},{"$f":"IFERROR(VLOOKUP($J31,料理一覧!$A$3:$N$19998,7,FALSE),\"0\")","v":0},{"$f":"IFERROR(VLOOKUP($J31,料理一覧!$A$3:$N$19998,8,FALSE),\"0\")","v":0},{"$f":"IFERROR(VLOOKUP($J31,料理一覧!$A$3:$N$19998,9,FALSE),\"0\")","v":0},{"$f":"IFERROR(VLOOKUP($J31,料理一覧!$A$3:$N$19998,10,FALSE),\"0\")","v":0},{"$f":"IFERROR(VLOOKUP($J31,料理一覧!$A$3:$N$19998,11,FALSE),\"0\")","v":0},{"$f":"IFERROR(VLOOKUP($J31,料理一覧!$A$3:$N$19998,12,FALSE),\"0\")","v":0},{"$f":"IFERROR(VLOOKUP($J31,料理一覧!$A$3:$N$19998,13,FALSE),\"0\")","v":0},{"$f":"IFERROR(VLOOKUP($J31,料理一覧!$A$3:$N$19998,14,FALSE),\"0\")","v":0},{"$f":"IFERROR(VLOOKUP($K31,料理一覧!$A$3:$N$19998,4,FALSE),\"0\")","v":0},{"$f":"IFERROR(VLOOKUP($K31,料理一覧!$A$3:$N$19998,5,FALSE),\"0\")","v":0},{"$f":"IFERROR(VLOOKUP($K31,料理一覧!$A$3:$N$19998,6,FALSE),\"0\")","v":0},{"$f":"IFERROR(VLOOKUP($K31,料理一覧!$A$3:$N$19998,7,FALSE),\"0\")","v":0},{"$f":"IFERROR(VLOOKUP($K31,料理一覧!$A$3:$N$19998,8,FALSE),\"0\")","v":0},{"$f":"IFERROR(VLOOKUP($K31,料理一覧!$A$3:$N$19998,9,FALSE),\"0\")","v":0},{"$f":"IFERROR(VLOOKUP($K31,料理一覧!$A$3:$N$19998,10,FALSE),\"0\")","v":0},{"$f":"IFERROR(VLOOKUP($K31,料理一覧!$A$3:$N$19998,11,FALSE),\"0\")","v":0},{"$f":"IFERROR(VLOOKUP($K31,料理一覧!$A$3:$N$19998,12,FALSE),\"0\")","v":0},{"$f":"IFERROR(VLOOKUP($K31,料理一覧!$A$3:$N$19998,13,FALSE),\"0\")","v":0},{"$f":"IFERROR(VLOOKUP($K31,料理一覧!$A$3:$N$19998,14,FALSE),\"0\")","v":0},0,0,0,0,0,0,0,0,0,0,0]
[28,{"$f":"TEXT(WEEKDAY(DATE($M$2,$O$2,A32)),\"(aaa)\")","v":"(金)"},null,null,null,null,null,null,null,null,null,{"$f":"IFERROR(VLOOKUP($C32,料理一覧!$A$3:$N$19998,3,FALSE),\"\")","v":0},{"$f":"IFERROR(VLOOKUP($D32,料理一覧!$A$3:$N$19998,3,FALSE),\"\")","v":0},{"$f":"IFERROR(VLOOKUP($E32,料理一覧!$A$3:$N$19998,3,FALSE),\"\")","v":0},{"$f":"IFERROR(VLOOKUP($F32,料理一覧!$A$3:$N$19998,3,FALSE),\"\")","v":0},{"$f":"IFERROR(VLOOKUP($G32,料理一覧!$A$3:$N$19998,3,FALSE),\"\")","v":0},{"$f":"IFERROR(VLOOKUP($H32,料理一覧!$A$3:$N$19998,3,FALSE),\"\")","v":0},{"$f":"IFERROR(VLOOKUP($I32,料理一覧!$A$3:$N$19998,3,FALSE),\"\")","v":0},{"$f":"IFERROR(VLOOKUP($J32,料理一覧!$A$3:$N$19998,3,FALSE),\"\")","v":0},{"$f":"IFERROR(VLOOKUP($K32,料理一覧!$A$3:$N$19998,3,FALSE),\"\")","v":0},0,0,0,0,0,0,0,0,0,0,0,{"$f":"IFERROR(VLOOKUP($C32,料理一覧!$A$3:$N$19998,4,FALSE),\"0\")","v":0},{"$f":"IFERROR(VLOOKUP($C32,料理一覧!$A$3:$N$19998,5,FALSE),\"0\")","v":0},{"$f":"IFERROR(VLOOKUP($C32,料理一覧!$A$3:$N$19998,6,FALSE),\"0\")","v":0},{"$f":"IFERROR(VLOOKUP($C32,料理一覧!$A$3:$N$19998,7,FALSE),\"0\")","v":0},{"$f":"IFERROR(VLOOKUP($C32,料理一覧!$A$3:$N$19998,8,FALSE),\"0\")","v":0},{"$f":"IFERROR(VLOOKUP($C32,料理一覧!$A$3:$N$19998,9,FALSE),\"0\")","v":0},{"$f":"IFERROR(VLOOKUP($C32,料理一覧!$A$3:$N$19998,10,FALSE),\"0\")","v":0},{"$f":"IFERROR(VLOOKUP($C32,料理一覧!$A$3:$N$19998,11,FALSE),\"0\")","v":0},{"$f":"IFERROR(VLOOKUP($C32,料理一覧!$A$3:$N$19998,12,FALSE),\"0\")","v":0},{"$f":"IFERROR(VLOOKUP($C32,料理一覧!$A$3:$N$19998,13,FALSE),\"0\")","v":0},{"$f":"IFERROR(VLOOKUP($C32,料理一覧!$A$3:$N$19998,14,FALSE),\"0\")","v":0},{"$f":"IFERROR(VLOOKUP($D32,料理一覧!$A$3:$N$19998,4,FALSE),\"0\")","v":0},{"$f":"IFERROR(VLOOKUP($D32,料理一覧!$A$3:$N$19998,5,FALSE),\"0\")","v":0},{"$f":"IFERROR(VLOOKUP($D32,料理一覧!$A$3:$N$19998,6,FALSE),\"0\")","v":0},{"$f":"IFERROR(VLOOKUP($D32,料理一覧!$A$3:$N$19998,7,FALSE),\"0\")","v":0},{"$f":"IFERROR(VLOOKUP($D32,料理一覧!$A$3:$N$19998,8,FALSE),\"0\")","v":0},{"$f":"IFERROR(VLOOKUP($D32,料理一覧!$A$3:$N$19998,9,FALSE),\"0\")","v":0},{"$f":"IFERROR(VLOOKUP($D32,料理一覧!$A$3:$N$19998,10,FALSE),\"0\")","v":0},{"$f":"IFERROR(VLOOKUP($D32,料理一覧!$A$3:$N$19998,11,FALSE),\"0\")","v":0},{"$f":"IFERROR(VLOOKUP($D32,料理一覧!$A$3:$N$19998,12,FALSE),\"0\")","v":0},{"$f":"IFERROR(VLOOKUP($D32,料理一覧!$A$3:$N$19998,13,FALSE),\"0\")","v":0},{"$f":"IFERROR(VLOOKUP($D32,料理一覧!$A$3:$N$19998,14,FALSE),\"0\")","v":0},{"$f":"IFERROR(VLOOKUP($E32,料理一覧!$A$3:$N$19998,4,FALSE),\"0\")","v":0},{"$f":"IFERROR(VLOOKUP($E32,料理一覧!$A$3:$N$19998,5,FALSE),\"0\")","v":0},{"$f":"IFERROR(VLOOKUP($E32,料理一覧!$A$3:$N$19998,6,FALSE),\"0\")","v":0},{"$f":"IFERROR(VLOOKUP($E32,料理一覧!$A$3:$N$19998,7,FALSE),\"0\")","v":0},{"$f":"IFERROR(VLOOKUP($E32,料理一覧!$A$3:$N$19998,8,FALSE),\"0\")","v":0},{"$f":"IFERROR(VLOOKUP($E32,料理一覧!$A$3:$N$19998,9,FALSE),\"0\")","v":0},{"$f":"IFERROR(VLOOKUP($E32,料理一覧!$A$3:$N$19998,10,FALSE),\"0\")","v":0},{"$f":"IFERROR(VLOOKUP($E32,料理一覧!$A$3:$N$19998,11,FALSE),\"0\")","v":0},{"$f":"IFERROR(VLOOKUP($E32,料理一覧!$A$3:$N$19998,12,FALSE),\"0\")","v":0},{"$f":"IFERROR(VLOOKUP($E32,料理一覧!$A$3:$N$19998,13,FALSE),\"0\")","v":0},{"$f":"IFERROR(VLOOKUP($E32,料理一覧!$A$3:$N$19998,14,FALSE),\"0\")","v":0},{"$f":"IFERROR(VLOOKUP($F32,料理一覧!$A$3:$N$19998,4,FALSE),\"0\")","v":0},{"$f":"IFERROR(VLOOKUP($F32,料理一覧!$A$3:$N$19998,5,FALSE),\"0\")","v":0},{"$f":"IFERROR(VLOOKUP($F32,料理一覧!$A$3:$N$19998,6,FALSE),\"0\")","v":0},{"$f":"IFERROR(VLOOKUP($F32,料理一覧!$A$3:$N$19998,7,FALSE),\"0\")","v":0},{"$f":"IFERROR(VLOOKUP($F32,料理一覧!$A$3:$N$19998,8,FALSE),\"0\")","v":0},{"$f":"IFERROR(VLOOKUP($F32,料理一覧!$A$3:$N$19998,9,FALSE),\"0\")","v":0},{"$f":"IFERROR(VLOOKUP($F32,料理一覧!$A$3:$N$19998,10,FALSE),\"0\")","v":0},{"$f":"IFERROR(VLOOKUP($F32,料理一覧!$A$3:$N$19998,11,FALSE),\"0\")","v":0},{"$f":"IFERROR(VLOOKUP($F32,料理一覧!$A$3:$N$19998,12,FALSE),\"0\")","v":0},{"$f":"IFERROR(VLOOKUP($F32,料理一覧!$A$3:$N$19998,13,FALSE),\"0\")","v":0},{"$f":"IFERROR(VLOOKUP($F32,料理一覧!$A$3:$N$19998,14,FALSE),\"0\")","v":0},{"$f":"IFERROR(VLOOKUP($G32,料理一覧!$A$3:$N$19998,4,FALSE),\"0\")","v":0},{"$f":"IFERROR(VLOOKUP($G32,料理一覧!$A$3:$N$19998,5,FALSE),\"0\")","v":0},{"$f":"IFERROR(VLOOKUP($G32,料理一覧!$A$3:$N$19998,6,FALSE),\"0\")","v":0},{"$f":"IFERROR(VLOOKUP($G32,料理一覧!$A$3:$N$19998,7,FALSE),\"0\")","v":0},{"$f":"IFERROR(VLOOKUP($G32,料理一覧!$A$3:$N$19998,8,FALSE),\"0\")","v":0},{"$f":"IFERROR(VLOOKUP($G32,料理一覧!$A$3:$N$19998,9,FALSE),\"0\")","v":0},{"$f":"IFERROR(VLOOKUP($G32,料理一覧!$A$3:$N$19998,10,FALSE),\"0\")","v":0},{"$f":"IFERROR(VLOOKUP($G32,料理一覧!$A$3:$N$19998,11,FALSE),\"0\")","v":0},{"$f":"IFERROR(VLOOKUP($G32,料理一覧!$A$3:$N$19998,12,FALSE),\"0\")","v":0},{"$f":"IFERROR(VLOOKUP($G32,料理一覧!$A$3:$N$19998,13,FALSE),\"0\")","v":0},{"$f":"IFERROR(VLOOKUP($G32,料理一覧!$A$3:$N$19998,14,FALSE),\"0\")","v":0},{"$f":"IFERROR(VLOOKUP($H32,料理一覧!$A$3:$N$19998,4,FALSE),\"0\")","v":0},{"$f":"IFERROR(VLOOKUP($H32,料理一覧!$A$3:$N$19998,5,FALSE),\"0\")","v":0},{"$f":"IFERROR(VLOOKUP($H32,料理一覧!$A$3:$N$19998,6,FALSE),\"0\")","v":0},{"$f":"IFERROR(VLOOKUP($H32,料理一覧!$A$3:$N$19998,7,FALSE),\"0\")","v":0},{"$f":"IFERROR(VLOOKUP($H32,料理一覧!$A$3:$N$19998,8,FALSE),\"0\")","v":0},{"$f":"IFERROR(VLOOKUP($H32,料理一覧!$A$3:$N$19998,9,FALSE),\"0\")","v":0},{"$f":"IFERROR(VLOOKUP($H32,料理一覧!$A$3:$N$19998,10,FALSE),\"0\")","v":0},{"$f":"IFERROR(VLOOKUP($H32,料理一覧!$A$3:$N$19998,11,FALSE),\"0\")","v":0},{"$f":"IFERROR(VLOOKUP($H32,料理一覧!$A$3:$N$19998,12,FALSE),\"0\")","v":0},{"$f":"IFERROR(VLOOKUP($H32,料理一覧!$A$3:$N$19998,13,FALSE),\"0\")","v":0},{"$f":"IFERROR(VLOOKUP($H32,料理一覧!$A$3:$N$19998,14,FALSE),\"0\")","v":0},{"$f":"IFERROR(VLOOKUP($I32,料理一覧!$A$3:$N$19998,4,FALSE),\"0\")","v":0},{"$f":"IFERROR(VLOOKUP($I32,料理一覧!$A$3:$N$19998,5,FALSE),\"0\")","v":0},{"$f":"IFERROR(VLOOKUP($I32,料理一覧!$A$3:$N$19998,6,FALSE),\"0\")","v":0},{"$f":"IFERROR(VLOOKUP($I32,料理一覧!$A$3:$N$19998,7,FALSE),\"0\")","v":0},{"$f":"IFERROR(VLOOKUP($I32,料理一覧!$A$3:$N$19998,8,FALSE),\"0\")","v":0},{"$f":"IFERROR(VLOOKUP($I32,料理一覧!$A$3:$N$19998,9,FALSE),\"0\")","v":0},{"$f":"IFERROR(VLOOKUP($I32,料理一覧!$A$3:$N$19998,10,FALSE),\"0\")","v":0},{"$f":"IFERROR(VLOOKUP($I32,料理一覧!$A$3:$N$19998,11,FALSE),\"0\")","v":0},{"$f":"IFERROR(VLOOKUP($I32,料理一覧!$A$3:$N$19998,12,FALSE),\"0\")","v":0},{"$f":"IFERROR(VLOOKUP($I32,料理一覧!$A$3:$N$19998,13,FALSE),\"0\")","v":0},{"$f":"IFERROR(VLOOKUP($I32,料理一覧!$A$3:$N$19998,14,FALSE),\"0\")","v":0},{"$f":"IFERROR(VLOOKUP($J32,料理一覧!$A$3:$N$19998,4,FALSE),\"0\")","v":0},{"$f":"IFERROR(VLOOKUP($J32,料理一覧!$A$3:$N$19998,5,FALSE),\"0\")","v":0},{"$f":"IFERROR(VLOOKUP($J32,料理一覧!$A$3:$N$19998,6,FALSE),\"0\")","v":0},{"$f":"IFERROR(VLOOKUP($J32,料理一覧!$A$3:$N$19998,7,FALSE),\"0\")","v":0},{"$f":"IFERROR(VLOOKUP($J32,料理一覧!$A$3:$N$19998,8,FALSE),\"0\")","v":0},{"$f":"IFERROR(VLOOKUP($J32,料理一覧!$A$3:$N$19998,9,FALSE),\"0\")","v":0},{"$f":"IFERROR(VLOOKUP($J32,料理一覧!$A$3:$N$19998,10,FALSE),\"0\")","v":0},{"$f":"IFERROR(VLOOKUP($J32,料理一覧!$A$3:$N$19998,11,FALSE),\"0\")","v":0},{"$f":"IFERROR(VLOOKUP($J32,料理一覧!$A$3:$N$19998,12,FALSE),\"0\")","v":0},{"$f":"IFERROR(VLOOKUP($J32,料理一覧!$A$3:$N$19998,13,FALSE),\"0\")","v":0},{"$f":"IFERROR(VLOOKUP($J32,料理一覧!$A$3:$N$19998,14,FALSE),\"0\")","v":0},{"$f":"IFERROR(VLOOKUP($K32,料理一覧!$A$3:$N$19998,4,FALSE),\"0\")","v":0},{"$f":"IFERROR(VLOOKUP($K32,料理一覧!$A$3:$N$19998,5,FALSE),\"0\")","v":0},{"$f":"IFERROR(VLOOKUP($K32,料理一覧!$A$3:$N$19998,6,FALSE),\"0\")","v":0},{"$f":"IFERROR(VLOOKUP($K32,料理一覧!$A$3:$N$19998,7,FALSE),\"0\")","v":0},{"$f":"IFERROR(VLOOKUP($K32,料理一覧!$A$3:$N$19998,8,FALSE),\"0\")","v":0},{"$f":"IFERROR(VLOOKUP($K32,料理一覧!$A$3:$N$19998,9,FALSE),\"0\")","v":0},{"$f":"IFERROR(VLOOKUP($K32,料理一覧!$A$3:$N$19998,10,FALSE),\"0\")","v":0},{"$f":"IFERROR(VLOOKUP($K32,料理一覧!$A$3:$N$19998,11,FALSE),\"0\")","v":0},{"$f":"IFERROR(VLOOKUP($K32,料理一覧!$A$3:$N$19998,12,FALSE),\"0\")","v":0},{"$f":"IFERROR(VLOOKUP($K32,料理一覧!$A$3:$N$19998,13,FALSE),\"0\")","v":0},{"$f":"IFERROR(VLOOKUP($K32,料理一覧!$A$3:$N$19998,14,FALSE),\"0\")","v":0},0,0,0,0,0,0,0,0,0,0,0]
[{"$f":"IF(DAY(DATE($M$2,$O$2,29))=29,29,\"\")","v":29},{"$f":"IF(A33=\"\",\"\",TEXT(WEEKDAY(DATE($M$2,$O$2,A33)),\"(aaa)\"))","v":"(土)"},null,null,null,null,null,null,null,null,null,{"$f":"IFERROR(VLOOKUP($C33,料理一覧!$A$3:$N$19998,3,FALSE),\"\")","v":0},{"$f":"IFERROR(VLOOKUP($D33,料理一覧!$A$3:$N$19998,3,FALSE),\"\")","v":0},{"$f":"IFERROR(VLOOKUP($E33,料理一覧!$A$3:$N$19998,3,FALSE),\"\")","v":0},{"$f":"IFERROR(VLOOKUP($F33,料理一覧!$A$3:$N$19998,3,FALSE),\"\")","v":0},{"$f":"IFERROR(VLOOKUP($G33,料理一覧!$A$3:$N$19998,3,FALSE),\"\")","v":0},{"$f":"IFERROR(VLOOKUP($H33,料理一覧!$A$3:$N$19998,3,FALSE),\"\")","v":0},{"$f":"IFERROR(VLOOKUP($I33,料理一覧!$A$3:$N$19998,3,FALSE),\"\")","v":0},{"$f":"IFERROR(VLOOKUP($J33,料理一覧!$A$3:$N$19998,3,FALSE),\"\")","v":0},{"$f":"IFERROR(VLOOKUP($K33,料理一覧!$A$3:$N$19998,3,FALSE),\"\")","v":0},0,0,0,0,0,0,0,0,0,0,0,{"$f":"IFERROR(VLOOKUP($C33,料理一覧!$A$3:$N$19998,4,FALSE),\"0\")","v":0},{"$f":"IFERROR(VLOOKUP($C33,料理一覧!$A$3:$N$19998,5,FALSE),\"0\")","v":0},{"$f":"IFERROR(VLOOKUP($C33,料理一覧!$A$3:$N$19998,6,FALSE),\"0\")","v":0},{"$f":"IFERROR(VLOOKUP($C33,料理一覧!$A$3:$N$19998,7,FALSE),\"0\")","v":0},{"$f":"IFERROR(VLOOKUP($C33,料理一覧!$A$3:$N$19998,8,FALSE),\"0\")","v":0},{"$f":"IFERROR(VLOOKUP($C33,料理一覧!$A$3:$N$19998,9,FALSE),\"0\")","v":0},{"$f":"IFERROR(VLOOKUP($C33,料理一覧!$A$3:$N$19998,10,FALSE),\"0\")","v":0},{"$f":"IFERROR(VLOOKUP($C33,料理一覧!$A$3:$N$19998,11,FALSE),\"0\")","v":0},{"$f":"IFERROR(VLOOKUP($C33,料理一覧!$A$3:$N$19998,12,FALSE),\"0\")","v":0},{"$f":"IFERROR(VLOOKUP($C33,料理一覧!$A$3:$N$19998,13,FALSE),\"0\")","v":0},{"$f":"IFERROR(VLOOKUP($C33,料理一覧!$A$3:$N$19998,14,FALSE),\"0\")","v":0},{"$f":"IFERROR(VLOOKUP($D33,料理一覧!$A$3:$N$19998,4,FALSE),\"0\")","v":0},{"$f":"IFERROR(VLOOKUP($D33,料理一覧!$A$3:$N$19998,5,FALSE),\"0\")","v":0},{"$f":"IFERROR(VLOOKUP($D33,料理一覧!$A$3:$N$19998,6,FALSE),\"0\")","v":0},{"$f":"IFERROR(VLOOKUP($D33,料理一覧!$A$3:$N$19998,7,FALSE),\"0\")","v":0},{"$f":"IFERROR(VLOOKUP($D33,料理一覧!$A$3:$N$19998,8,FALSE),\"0\")","v":0},{"$f":"IFERROR(VLOOKUP($D33,料理一覧!$A$3:$N$19998,9,FALSE),\"0\")","v":0},{"$f":"IFERROR(VLOOKUP($D33,料理一覧!$A$3:$N$19998,10,FALSE),\"0\")","v":0},{"$f":"IFERROR(VLOOKUP($D33,料理一覧!$A$3:$N$19998,11,FALSE),\"0\")","v":0},{"$f":"IFERROR(VLOOKUP($D33,料理一覧!$A$3:$N$19998,12,FALSE),\"0\")","v":0},{"$f":"IFERROR(VLOOKUP($D33,料理一覧!$A$3:$N$19998,13,FALSE),\"0\")","v":0},{"$f":"IFERROR(VLOOKUP($D33,料理一覧!$A$3:$N$19998,14,FALSE),\"0\")","v":0},{"$f":"IFERROR(VLOOKUP($E33,料理一覧!$A$3:$N$19998,4,FALSE),\"0\")","v":0},{"$f":"IFERROR(VLOOKUP($E33,料理一覧!$A$3:$N$19998,5,FALSE),\"0\")","v":0},{"$f":"IFERROR(VLOOKUP($E33,料理一覧!$A$3:$N$19998,6,FALSE),\"0\")","v":0},{"$f":"IFERROR(VLOOKUP($E33,料理一覧!$A$3:$N$19998,7,FALSE),\"0\")","v":0},{"$f":"IFERROR(VLOOKUP($E33,料理一覧!$A$3:$N$19998,8,FALSE),\"0\")","v":0},{"$f":"IFERROR(VLOOKUP($E33,料理一覧!$A$3:$N$19998,9,FALSE),\"0\")","v":0},{"$f":"IFERROR(VLOOKUP($E33,料理一覧!$A$3:$N$19998,10,FALSE),\"0\")","v":0},{"$f":"IFERROR(VLOOKUP($E33,料理一覧!$A$3:$N$19998,11,FALSE),\"0\")","v":0},{"$f":"IFERROR(VLOOKUP($E33,料理一覧!$A$3:$N$19998,12,FALSE),\"0\")","v":0},{"$f":"IFERROR(VLOOKUP($E33,料理一覧!$A$3:$N$19998,13,FALSE),\"0\")","v":0},{"$f":"IFERROR(VLOOKUP($E33,料理一覧!$A$3:$N$19998,14,FALSE),\"0\")","v":0},{"$f":"IFERROR(VLOOKUP($F33,料理一覧!$A$3:$N$19998,4,FALSE),\"0\")","v":0},{"$f":"IFERROR(VLOOKUP($F33,料理一覧!$A$3:$N$19998,5,FALSE),\"0\")","v":0},{"$f":"IFERROR(VLOOKUP($F33,料理一覧!$A$3:$N$19998,6,FALSE),\"0\")","v":0},{"$f":"IFERROR(VLOOKUP($F33,料理一覧!$A$3:$N$19998,7,FALSE),\"0\")","v":0},{"$f":"IFERROR(VLOOKUP($F33,料理一覧!$A$3:$N$19998,8,FALSE),\"0\")","v":0},{"$f":"IFERROR(VLOOKUP($F33,料理一覧!$A$3:$N$19998,9,FALSE),\"0\")","v":0},{"$f":"IFERROR(VLOOKUP($F33,料理一覧!$A$3:$N$19998,10,FALSE),\"0\")","v":0},{"$f":"IFERROR(VLOOKUP($F33,料理一覧!$A$3:$N$19998,11,FALSE),\"0\")","v":0},{"$f":"IFERROR(VLOOKUP($F33,料理一覧!$A$3:$N$19998,12,FALSE),\"0\")","v":0},{"$f":"IFERROR(VLOOKUP($F33,料理一覧!$A$3:$N$19998,13,FALSE),\"0\")","v":0},{"$f":"IFERROR(VLOOKUP($F33,料理一覧!$A$3:$N$19998,14,FALSE),\"0\")","v":0},{"$f":"IFERROR(VLOOKUP($G33,料理一覧!$A$3:$N$19998,4,FALSE),\"0\")","v":0},{"$f":"IFERROR(VLOOKUP($G33,料理一覧!$A$3:$N$19998,5,FALSE),\"0\")","v":0},{"$f":"IFERROR(VLOOKUP($G33,料理一覧!$A$3:$N$19998,6,FALSE),\"0\")","v":0},{"$f":"IFERROR(VLOOKUP($G33,料理一覧!$A$3:$N$19998,7,FALSE),\"0\")","v":0},{"$f":"IFERROR(VLOOKUP($G33,料理一覧!$A$3:$N$19998,8,FALSE),\"0\")","v":0},{"$f":"IFERROR(VLOOKUP($G33,料理一覧!$A$3:$N$19998,9,FALSE),\"0\")","v":0},{"$f":"IFERROR(VLOOKUP($G33,料理一覧!$A$3:$N$19998,10,FALSE),\"0\")","v":0},{"$f":"IFERROR(VLOOKUP($G33,料理一覧!$A$3:$N$19998,11,FALSE),\"0\")","v":0},{"$f":"IFERROR(VLOOKUP($G33,料理一覧!$A$3:$N$19998,12,FALSE),\"0\")","v":0},{"$f":"IFERROR(VLOOKUP($G33,料理一覧!$A$3:$N$19998,13,FALSE),\"0\")","v":0},{"$f":"IFERROR(VLOOKUP($G33,料理一覧!$A$3:$N$19998,14,FALSE),\"0\")","v":0},{"$f":"IFERROR(VLOOKUP($H33,料理一覧!$A$3:$N$19998,4,FALSE),\"0\")","v":0},{"$f":"IFERROR(VLOOKUP($H33,料理一覧!$A$3:$N$19998,5,FALSE),\"0\")","v":0},{"$f":"IFERROR(VLOOKUP($H33,料理一覧!$A$3:$N$19998,6,FALSE),\"0\")","v":0},{"$f":"IFERROR(VLOOKUP($H33,料理一覧!$A$3:$N$19998,7,FALSE),\"0\")","v":0},{"$f":"IFERROR(VLOOKUP($H33,料理一覧!$A$3:$N$19998,8,FALSE),\"0\")","v":0},{"$f":"IFERROR(VLOOKUP($H33,料理一覧!$A$3:$N$19998,9,FALSE),\"0\")","v":0},{"$f":"IFERROR(VLOOKUP($H33,料理一覧!$A$3:$N$19998,10,FALSE),\"0\")","v":0},{"$f":"IFERROR(VLOOKUP($H33,料理一覧!$A$3:$N$19998,11,FALSE),\"0\")","v":0},{"$f":"IFERROR(VLOOKUP($H33,料理一覧!$A$3:$N$19998,12,FALSE),\"0\")","v":0},{"$f":"IFERROR(VLOOKUP($H33,料理一覧!$A$3:$N$19998,13,FALSE),\"0\")","v":0},{"$f":"IFERROR(VLOOKUP($H33,料理一覧!$A$3:$N$19998,14,FALSE),\"0\")","v":0},{"$f":"IFERROR(VLOOKUP($I33,料理一覧!$A$3:$N$19998,4,FALSE),\"0\")","v":0},{"$f":"IFERROR(VLOOKUP($I33,料理一覧!$A$3:$N$19998,5,FALSE),\"0\")","v":0},{"$f":"IFERROR(VLOOKUP($I33,料理一覧!$A$3:$N$19998,6,FALSE),\"0\")","v":0},{"$f":"IFERROR(VLOOKUP($I33,料理一覧!$A$3:$N$19998,7,FALSE),\"0\")","v":0},{"$f":"IFERROR(VLOOKUP($I33,料理一覧!$A$3:$N$19998,8,FALSE),\"0\")","v":0},{"$f":"IFERROR(VLOOKUP($I33,料理一覧!$A$3:$N$19998,9,FALSE),\"0\")","v":0},{"$f":"IFERROR(VLOOKUP($I33,料理一覧!$A$3:$N$19998,10,FALSE),\"0\")","v":0},{"$f":"IFERROR(VLOOKUP($I33,料理一覧!$A$3:$N$19998,11,FALSE),\"0\")","v":0},{"$f":"IFERROR(VLOOKUP($I33,料理一覧!$A$3:$N$19998,12,FALSE),\"0\")","v":0},{"$f":"IFERROR(VLOOKUP($I33,料理一覧!$A$3:$N$19998,13,FALSE),\"0\")","v":0},{"$f":"IFERROR(VLOOKUP($I33,料理一覧!$A$3:$N$19998,14,FALSE),\"0\")","v":0},{"$f":"IFERROR(VLOOKUP($J33,料理一覧!$A$3:$N$19998,4,FALSE),\"0\")","v":0},{"$f":"IFERROR(VLOOKUP($J33,料理一覧!$A$3:$N$19998,5,FALSE),\"0\")","v":0},{"$f":"IFERROR(VLOOKUP($J33,料理一覧!$A$3:$N$19998,6,FALSE),\"0\")","v":0},{"$f":"IFERROR(VLOOKUP($J33,料理一覧!$A$3:$N$19998,7,FALSE),\"0\")","v":0},{"$f":"IFERROR(VLOOKUP($J33,料理一覧!$A$3:$N$19998,8,FALSE),\"0\")","v":0},{"$f":"IFERROR(VLOOKUP($J33,料理一覧!$A$3:$N$19998,9,FALSE),\"0\")","v":0},{"$f":"IFERROR(VLOOKUP($J33,料理一覧!$A$3:$N$19998,10,FALSE),\"0\")","v":0},{"$f":"IFERROR(VLOOKUP($J33,料理一覧!$A$3:$N$19998,11,FALSE),\"0\")","v":0},{"$f":"IFERROR(VLOOKUP($J33,料理一覧!$A$3:$N$19998,12,FALSE),\"0\")","v":0},{"$f":"IFERROR(VLOOKUP($J33,料理一覧!$A$3:$N$19998,13,FALSE),\"0\")","v":0},{"$f":"IFERROR(VLOOKUP($J33,料理一覧!$A$3:$N$19998,14,FALSE),\"0\")","v":0},{"$f":"IFERROR(VLOOKUP($K33,料理一覧!$A$3:$N$19998,4,FALSE),\"0\")","v":0},{"$f":"IFERROR(VLOOKUP($K33,料理一覧!$A$3:$N$19998,5,FALSE),\"0\")","v":0},{"$f":"IFERROR(VLOOKUP($K33,料理一覧!$A$3:$N$19998,6,FALSE),\"0\")","v":0},{"$f":"IFERROR(VLOOKUP($K33,料理一覧!$A$3:$N$19998,7,FALSE),\"0\")","v":0},{"$f":"IFERROR(VLOOKUP($K33,料理一覧!$A$3:$N$19998,8,FALSE),\"0\")","v":0},{"$f":"IFERROR(VLOOKUP($K33,料理一覧!$A$3:$N$19998,9,FALSE),\"0\")","v":0},{"$f":"IFERROR(VLOOKUP($K33,料理一覧!$A$3:$N$19998,10,FALSE),\"0\")","v":0},{"$f":"IFERROR(VLOOKUP($K33,料理一覧!$A$3:$N$19998,11,FALSE),\"0\")","v":0},{"$f":"IFERROR(VLOOKUP($K33,料理一覧!$A$3:$N$19998,12,FALSE),\"0\")","v":0},{"$f":"IFERROR(VLOOKUP($K33,料理一覧!$A$3:$N$19998,13,FALSE),\"0\")","v":0},{"$f":"IFERROR(VLOOKUP($K33,料理一覧!$A$3:$N$19998,14,FALSE),\"0\")","v":0},0,0,0,0,0,0,0,0,0,0,0]
[{"$f":"IF(DAY(DATE($M$2,$O$2,30))=30,30,\"\")","v":30},{"$f":"IF(A34=\"\",\"\",TEXT(WEEKDAY(DATE($M$2,$O$2,A34)),\"(aaa)\"))","v":"(日)"},null,null,null,null,null,null,null,null,null,{"$f":"IFERROR(VLOOKUP($C34,料理一覧!$A$3:$N$19998,3,FALSE),\"\")","v":0},{"$f":"IFERROR(VLOOKUP($D34,料理一覧!$A$3:$N$19998,3,FALSE),\"\")","v":0},{"$f":"IFERROR(VLOOKUP($E34,料理一覧!$A$3:$N$19998,3,FALSE),\"\")","v":0},{"$f":"IFERROR(VLOOKUP($F34,料理一覧!$A$3:$N$19998,3,FALSE),\"\")","v":0},{"$f":"IFERROR(VLOOKUP($G34,料理一覧!$A$3:$N$19998,3,FALSE),\"\")","v":0},{"$f":"IFERROR(VLOOKUP($H34,料理一覧!$A$3:$N$19998,3,FALSE),\"\")","v":0},{"$f":"IFERROR(VLOOKUP($I34,料理一覧!$A$3:$N$19998,3,FALSE),\"\")","v":0},{"$f":"IFERROR(VLOOKUP($J34,料理一覧!$A$3:$N$19998,3,FALSE),\"\")","v":0},{"$f":"IFERROR(VLOOKUP($K34,料理一覧!$A$3:$N$19998,3,FALSE),\"\")","v":0},0,0,0,0,0,0,0,0,0,0,0,{"$f":"IFERROR(VLOOKUP($C34,料理一覧!$A$3:$N$19998,4,FALSE),\"0\")","v":0},{"$f":"IFERROR(VLOOKUP($C34,料理一覧!$A$3:$N$19998,5,FALSE),\"0\")","v":0},{"$f":"IFERROR(VLOOKUP($C34,料理一覧!$A$3:$N$19998,6,FALSE),\"0\")","v":0},{"$f":"IFERROR(VLOOKUP($C34,料理一覧!$A$3:$N$19998,7,FALSE),\"0\")","v":0},{"$f":"IFERROR(VLOOKUP($C34,料理一覧!$A$3:$N$19998,8,FALSE),\"0\")","v":0},{"$f":"IFERROR(VLOOKUP($C34,料理一覧!$A$3:$N$19998,9,FALSE),\"0\")","v":0},{"$f":"IFERROR(VLOOKUP($C34,料理一覧!$A$3:$N$19998,10,FALSE),\"0\")","v":0},{"$f":"IFERROR(VLOOKUP($C34,料理一覧!$A$3:$N$19998,11,FALSE),\"0\")","v":0},{"$f":"IFERROR(VLOOKUP($C34,料理一覧!$A$3:$N$19998,12,FALSE),\"0\")","v":0},{"$f":"IFERROR(VLOOKUP($C34,料理一覧!$A$3:$N$19998,13,FALSE),\"0\")","v":0},{"$f":"IFERROR(VLOOKUP($C34,料理一覧!$A$3:$N$19998,14,FALSE),\"0\")","v":0},{"$f":"IFERROR(VLOOKUP($D34,料理一覧!$A$3:$N$19998,4,FALSE),\"0\")","v":0},{"$f":"IFERROR(VLOOKUP($D34,料理一覧!$A$3:$N$19998,5,FALSE),\"0\")","v":0},{"$f":"IFERROR(VLOOKUP($D34,料理一覧!$A$3:$N$19998,6,FALSE),\"0\")","v":0},{"$f":"IFERROR(VLOOKUP($D34,料理一覧!$A$3:$N$19998,7,FALSE),\"0\")","v":0},{"$f":"IFERROR(VLOOKUP($D34,料理一覧!$A$3:$N$19998,8,FALSE),\"0\")","v":0},{"$f":"IFERROR(VLOOKUP($D34,料理一覧!$A$3:$N$19998,9,FALSE),\"0\")","v":0},{"$f":"IFERROR(VLOOKUP($D34,料理一覧!$A$3:$N$19998,10,FALSE),\"0\")","v":0},{"$f":"IFERROR(VLOOKUP($D34,料理一覧!$A$3:$N$19998,11,FALSE),\"0\")","v":0},{"$f":"IFERROR(VLOOKUP($D34,料理一覧!$A$3:$N$19998,12,FALSE),\"0\")","v":0},{"$f":"IFERROR(VLOOKUP($D34,料理一覧!$A$3:$N$19998,13,FALSE),\"0\")","v":0},{"$f":"IFERROR(VLOOKUP($D34,料理一覧!$A$3:$N$19998,14,FALSE),\"0\")","v":0},{"$f":"IFERROR(VLOOKUP($E34,料理一覧!$A$3:$N$19998,4,FALSE),\"0\")","v":0},{"$f":"IFERROR(VLOOKUP($E34,料理一覧!$A$3:$N$19998,5,FALSE),\"0\")","v":0},{"$f":"IFERROR(VLOOKUP($E34,料理一覧!$A$3:$N$19998,6,FALSE),\"0\")","v":0},{"$f":"IFERROR(VLOOKUP($E34,料理一覧!$A$3:$N$19998,7,FALSE),\"0\")","v":0},{"$f":"IFERROR(VLOOKUP($E34,料理一覧!$A$3:$N$19998,8,FALSE),\"0\")","v":0},{"$f":"IFERROR(VLOOKUP($E34,料理一覧!$A$3:$N$19998,9,FALSE),\"0\")","v":0},{"$f":"IFERROR(VLOOKUP($E34,料理一覧!$A$3:$N$19998,10,FALSE),\"0\")","v":0},{"$f":"IFERROR(VLOOKUP($E34,料理一覧!$A$3:$N$19998,11,FALSE),\"0\")","v":0},{"$f":"IFERROR(VLOOKUP($E34,料理一覧!$A$3:$N$19998,12,FALSE),\"0\")","v":0},{"$f":"IFERROR(VLOOKUP($E34,料理一覧!$A$3:$N$19998,13,FALSE),\"0\")","v":0},{"$f":"IFERROR(VLOOKUP($E34,料理一覧!$A$3:$N$19998,14,FALSE),\"0\")","v":0},{"$f":"IFERROR(VLOOKUP($F34,料理一覧!$A$3:$N$19998,4,FALSE),\"0\")","v":0},{"$f":"IFERROR(VLOOKUP($F34,料理一覧!$A$3:$N$19998,5,FALSE),\"0\")","v":0},{"$f":"IFERROR(VLOOKUP($F34,料理一覧!$A$3:$N$19998,6,FALSE),\"0\")","v":0},{"$f":"IFERROR(VLOOKUP($F34,料理一覧!$A$3:$N$19998,7,FALSE),\"0\")","v":0},{"$f":"IFERROR(VLOOKUP($F34,料理一覧!$A$3:$N$19998,8,FALSE),\"0\")","v":0},{"$f":"IFERROR(VLOOKUP($F34,料理一覧!$A$3:$N$19998,9,FALSE),\"0\")","v":0},{"$f":"IFERROR(VLOOKUP($F34,料理一覧!$A$3:$N$19998,10,FALSE),\"0\")","v":0},{"$f":"IFERROR(VLOOKUP($F34,料理一覧!$A$3:$N$19998,11,FALSE),\"0\")","v":0},{"$f":"IFERROR(VLOOKUP($F34,料理一覧!$A$3:$N$19998,12,FALSE),\"0\")","v":0},{"$f":"IFERROR(VLOOKUP($F34,料理一覧!$A$3:$N$19998,13,FALSE),\"0\")","v":0},{"$f":"IFERROR(VLOOKUP($F34,料理一覧!$A$3:$N$19998,14,FALSE),\"0\")","v":0},{"$f":"IFERROR(VLOOKUP($G34,料理一覧!$A$3:$N$19998,4,FALSE),\"0\")","v":0},{"$f":"IFERROR(VLOOKUP($G34,料理一覧!$A$3:$N$19998,5,FALSE),\"0\")","v":0},{"$f":"IFERROR(VLOOKUP($G34,料理一覧!$A$3:$N$19998,6,FALSE),\"0\")","v":0},{"$f":"IFERROR(VLOOKUP($G34,料理一覧!$A$3:$N$19998,7,FALSE),\"0\")","v":0},{"$f":"IFERROR(VLOOKUP($G34,料理一覧!$A$3:$N$19998,8,FALSE),\"0\")","v":0},{"$f":"IFERROR(VLOOKUP($G34,料理一覧!$A$3:$N$19998,9,FALSE),\"0\")","v":0},{"$f":"IFERROR(VLOOKUP($G34,料理一覧!$A$3:$N$19998,10,FALSE),\"0\")","v":0},{"$f":"IFERROR(VLOOKUP($G34,料理一覧!$A$3:$N$19998,11,FALSE),\"0\")","v":0},{"$f":"IFERROR(VLOOKUP($G34,料理一覧!$A$3:$N$19998,12,FALSE),\"0\")","v":0},{"$f":"IFERROR(VLOOKUP($G34,料理一覧!$A$3:$N$19998,13,FALSE),\"0\")","v":0},{"$f":"IFERROR(VLOOKUP($G34,料理一覧!$A$3:$N$19998,14,FALSE),\"0\")","v":0},{"$f":"IFERROR(VLOOKUP($H34,料理一覧!$A$3:$N$19998,4,FALSE),\"0\")","v":0},{"$f":"IFERROR(VLOOKUP($H34,料理一覧!$A$3:$N$19998,5,FALSE),\"0\")","v":0},{"$f":"IFERROR(VLOOKUP($H34,料理一覧!$A$3:$N$19998,6,FALSE),\"0\")","v":0},{"$f":"IFERROR(VLOOKUP($H34,料理一覧!$A$3:$N$19998,7,FALSE),\"0\")","v":0},{"$f":"IFERROR(VLOOKUP($H34,料理一覧!$A$3:$N$19998,8,FALSE),\"0\")","v":0},{"$f":"IFERROR(VLOOKUP($H34,料理一覧!$A$3:$N$19998,9,FALSE),\"0\")","v":0},{"$f":"IFERROR(VLOOKUP($H34,料理一覧!$A$3:$N$19998,10,FALSE),\"0\")","v":0},{"$f":"IFERROR(VLOOKUP($H34,料理一覧!$A$3:$N$19998,11,FALSE),\"0\")","v":0},{"$f":"IFERROR(VLOOKUP($H34,料理一覧!$A$3:$N$19998,12,FALSE),\"0\")","v":0},{"$f":"IFERROR(VLOOKUP($H34,料理一覧!$A$3:$N$19998,13,FALSE),\"0\")","v":0},{"$f":"IFERROR(VLOOKUP($H34,料理一覧!$A$3:$N$19998,14,FALSE),\"0\")","v":0},{"$f":"IFERROR(VLOOKUP($I34,料理一覧!$A$3:$N$19998,4,FALSE),\"0\")","v":0},{"$f":"IFERROR(VLOOKUP($I34,料理一覧!$A$3:$N$19998,5,FALSE),\"0\")","v":0},{"$f":"IFERROR(VLOOKUP($I34,料理一覧!$A$3:$N$19998,6,FALSE),\"0\")","v":0},{"$f":"IFERROR(VLOOKUP($I34,料理一覧!$A$3:$N$19998,7,FALSE),\"0\")","v":0},{"$f":"IFERROR(VLOOKUP($I34,料理一覧!$A$3:$N$19998,8,FALSE),\"0\")","v":0},{"$f":"IFERROR(VLOOKUP($I34,料理一覧!$A$3:$N$19998,9,FALSE),\"0\")","v":0},{"$f":"IFERROR(VLOOKUP($I34,料理一覧!$A$3:$N$19998,10,FALSE),\"0\")","v":0},{"$f":"IFERROR(VLOOKUP($I34,料理一覧!$A$3:$N$19998,11,FALSE),\"0\")","v":0},{"$f":"IFERROR(VLOOKUP($I34,料理一覧!$A$3:$N$19998,12,FALSE),\"0\")","v":0},{"$f":"IFERROR(VLOOKUP($I34,料理一覧!$A$3:$N$19998,13,FALSE),\"0\")","v":0},{"$f":"IFERROR(VLOOKUP($I34,料理一覧!$A$3:$N$19998,14,FALSE),\"0\")","v":0},{"$f":"IFERROR(VLOOKUP($J34,料理一覧!$A$3:$N$19998,4,FALSE),\"0\")","v":0},{"$f":"IFERROR(VLOOKUP($J34,料理一覧!$A$3:$N$19998,5,FALSE),\"0\")","v":0},{"$f":"IFERROR(VLOOKUP($J34,料理一覧!$A$3:$N$19998,6,FALSE),\"0\")","v":0},{"$f":"IFERROR(VLOOKUP($J34,料理一覧!$A$3:$N$19998,7,FALSE),\"0\")","v":0},{"$f":"IFERROR(VLOOKUP($J34,料理一覧!$A$3:$N$19998,8,FALSE),\"0\")","v":0},{"$f":"IFERROR(VLOOKUP($J34,料理一覧!$A$3:$N$19998,9,FALSE),\"0\")","v":0},{"$f":"IFERROR(VLOOKUP($J34,料理一覧!$A$3:$N$19998,10,FALSE),\"0\")","v":0},{"$f":"IFERROR(VLOOKUP($J34,料理一覧!$A$3:$N$19998,11,FALSE),\"0\")","v":0},{"$f":"IFERROR(VLOOKUP($J34,料理一覧!$A$3:$N$19998,12,FALSE),\"0\")","v":0},{"$f":"IFERROR(VLOOKUP($J34,料理一覧!$A$3:$N$19998,13,FALSE),\"0\")","v":0},{"$f":"IFERROR(VLOOKUP($J34,料理一覧!$A$3:$N$19998,14,FALSE),\"0\")","v":0},{"$f":"IFERROR(VLOOKUP($K34,料理一覧!$A$3:$N$19998,4,FALSE),\"0\")","v":0},{"$f":"IFERROR(VLOOKUP($K34,料理一覧!$A$3:$N$19998,5,FALSE),\"0\")","v":0},{"$f":"IFERROR(VLOOKUP($K34,料理一覧!$A$3:$N$19998,6,FALSE),\"0\")","v":0},{"$f":"IFERROR(VLOOKUP($K34,料理一覧!$A$3:$N$19998,7,FALSE),\"0\")","v":0},{"$f":"IFERROR(VLOOKUP($K34,料理一覧!$A$3:$N$19998,8,FALSE),\"0\")","v":0},{"$f":"IFERROR(VLOOKUP($K34,料理一覧!$A$3:$N$19998,9,FALSE),\"0\")","v":0},{"$f":"IFERROR(VLOOKUP($K34,料理一覧!$A$3:$N$19998,10,FALSE),\"0\")","v":0},{"$f":"IFERROR(VLOOKUP($K34,料理一覧!$A$3:$N$19998,11,FALSE),\"0\")","v":0},{"$f":"IFERROR(VLOOKUP($K34,料理一覧!$A$3:$N$19998,12,FALSE),\"0\")","v":0},{"$f":"IFERROR(VLOOKUP($K34,料理一覧!$A$3:$N$19998,13,FALSE),\"0\")","v":0},{"$f":"IFERROR(VLOOKUP($K34,料理一覧!$A$3:$N$19998,14,FALSE),\"0\")","v":0},0,0,0,0,0,0,0,0,0,0,0]
[{"$f":"IF(DAY(DATE($M$2,$O$2,31))=31,31,\"\")","v":31},"(月)",null,null,null,null,null,null,null,null,null,{"$f":"IFERROR(VLOOKUP($C35,料理一覧!$A$3:$N$19998,3,FALSE),\"\")","v":0},{"$f":"IFERROR(VLOOKUP($D35,料理一覧!$A$3:$N$19998,3,FALSE),\"\")","v":0},{"$f":"IFERROR(VLOOKUP($E35,料理一覧!$A$3:$N$19998,3,FALSE),\"\")","v":0},{"$f":"IFERROR(VLOOKUP($F35,料理一覧!$A$3:$N$19998,3,FALSE),\"\")","v":0},{"$f":"IFERROR(VLOOKUP($G35,料理一覧!$A$3:$N$19998,3,FALSE),\"\")","v":0},{"$f":"IFERROR(VLOOKUP($H35,料理一覧!$A$3:$N$19998,3,FALSE),\"\")","v":0},{"$f":"IFERROR(VLOOKUP($I35,料理一覧!$A$3:$N$19998,3,FALSE),\"\")","v":0},{"$f":"IFERROR(VLOOKUP($J35,料理一覧!$A$3:$N$19998,3,FALSE),\"\")","v":0},{"$f":"IFERROR(VLOOKUP($K35,料理一覧!$A$3:$N$19998,3,FALSE),\"\")","v":0},0,0,0,0,0,0,0,0,0,0,0,{"$f":"IFERROR(VLOOKUP($C35,料理一覧!$A$3:$N$19998,4,FALSE),\"0\")","v":0},{"$f":"IFERROR(VLOOKUP($C35,料理一覧!$A$3:$N$19998,5,FALSE),\"0\")","v":0},{"$f":"IFERROR(VLOOKUP($C35,料理一覧!$A$3:$N$19998,6,FALSE),\"0\")","v":0},{"$f":"IFERROR(VLOOKUP($C35,料理一覧!$A$3:$N$19998,7,FALSE),\"0\")","v":0},{"$f":"IFERROR(VLOOKUP($C35,料理一覧!$A$3:$N$19998,8,FALSE),\"0\")","v":0},{"$f":"IFERROR(VLOOKUP($C35,料理一覧!$A$3:$N$19998,9,FALSE),\"0\")","v":0},{"$f":"IFERROR(VLOOKUP($C35,料理一覧!$A$3:$N$19998,10,FALSE),\"0\")","v":0},{"$f":"IFERROR(VLOOKUP($C35,料理一覧!$A$3:$N$19998,11,FALSE),\"0\")","v":0},{"$f":"IFERROR(VLOOKUP($C35,料理一覧!$A$3:$N$19998,12,FALSE),\"0\")","v":0},{"$f":"IFERROR(VLOOKUP($C35,料理一覧!$A$3:$N$19998,13,FALSE),\"0\")","v":0},{"$f":"IFERROR(VLOOKUP($C35,料理一覧!$A$3:$N$19998,14,FALSE),\"0\")","v":0},{"$f":"IFERROR(VLOOKUP($D35,料理一覧!$A$3:$N$19998,4,FALSE),\"0\")","v":0},{"$f":"IFERROR(VLOOKUP($D35,料理一覧!$A$3:$N$19998,5,FALSE),\"0\")","v":0},{"$f":"IFERROR(VLOOKUP($D35,料理一覧!$A$3:$N$19998,6,FALSE),\"0\")","v":0},{"$f":"IFERROR(VLOOKUP($D35,料理一覧!$A$3:$N$19998,7,FALSE),\"0\")","v":0},{"$f":"IFERROR(VLOOKUP($D35,料理一覧!$A$3:$N$19998,8,FALSE),\"0\")","v":0},{"$f":"IFERROR(VLOOKUP($D35,料理一覧!$A$3:$N$19998,9,FALSE),\"0\")","v":0},{"$f":"IFERROR(VLOOKUP($D35,料理一覧!$A$3:$N$19998,10,FALSE),\"0\")","v":0},{"$f":"IFERROR(VLOOKUP($D35,料理一覧!$A$3:$N$19998,11,FALSE),\"0\")","v":0},{"$f":"IFERROR(VLOOKUP($D35,料理一覧!$A$3:$N$19998,12,FALSE),\"0\")","v":0},{"$f":"IFERROR(VLOOKUP($D35,料理一覧!$A$3:$N$19998,13,FALSE),\"0\")","v":0},{"$f":"IFERROR(VLOOKUP($D35,料理一覧!$A$3:$N$19998,14,FALSE),\"0\")","v":0},{"$f":"IFERROR(VLOOKUP($E35,料理一覧!$A$3:$N$19998,4,FALSE),\"0\")","v":0},{"$f":"IFERROR(VLOOKUP($E35,料理一覧!$A$3:$N$19998,5,FALSE),\"0\")","v":0},{"$f":"IFERROR(VLOOKUP($E35,料理一覧!$A$3:$N$19998,6,FALSE),\"0\")","v":0},{"$f":"IFERROR(VLOOKUP($E35,料理一覧!$A$3:$N$19998,7,FALSE),\"0\")","v":0},{"$f":"IFERROR(VLOOKUP($E35,料理一覧!$A$3:$N$19998,8,FALSE),\"0\")","v":0},{"$f":"IFERROR(VLOOKUP($E35,料理一覧!$A$3:$N$19998,9,FALSE),\"0\")","v":0},{"$f":"IFERROR(VLOOKUP($E35,料理一覧!$A$3:$N$19998,10,FALSE),\"0\")","v":0},{"$f":"IFERROR(VLOOKUP($E35,料理一覧!$A$3:$N$19998,11,FALSE),\"0\")","v":0},{"$f":"IFERROR(VLOOKUP($E35,料理一覧!$A$3:$N$19998,12,FALSE),\"0\")","v":0},{"$f":"IFERROR(VLOOKUP($E35,料理一覧!$A$3:$N$19998,13,FALSE),\"0\")","v":0},{"$f":"IFERROR(VLOOKUP($E35,料理一覧!$A$3:$N$19998,14,FALSE),\"0\")","v":0},{"$f":"IFERROR(VLOOKUP($F35,料理一覧!$A$3:$N$19998,4,FALSE),\"0\")","v":0},{"$f":"IFERROR(VLOOKUP($F35,料理一覧!$A$3:$N$19998,5,FALSE),\"0\")","v":0},{"$f":"IFERROR(VLOOKUP($F35,料理一覧!$A$3:$N$19998,6,FALSE),\"0\")","v":0},{"$f":"IFERROR(VLOOKUP($F35,料理一覧!$A$3:$N$19998,7,FALSE),\"0\")","v":0},{"$f":"IFERROR(VLOOKUP($F35,料理一覧!$A$3:$N$19998,8,FALSE),\"0\")","v":0},{"$f":"IFERROR(VLOOKUP($F35,料理一覧!$A$3:$N$19998,9,FALSE),\"0\")","v":0},{"$f":"IFERROR(VLOOKUP($F35,料理一覧!$A$3:$N$19998,10,FALSE),\"0\")","v":0},{"$f":"IFERROR(VLOOKUP($F35,料理一覧!$A$3:$N$19998,11,FALSE),\"0\")","v":0},{"$f":"IFERROR(VLOOKUP($F35,料理一覧!$A$3:$N$19998,12,FALSE),\"0\")","v":0},{"$f":"IFERROR(VLOOKUP($F35,料理一覧!$A$3:$N$19998,13,FALSE),\"0\")","v":0},{"$f":"IFERROR(VLOOKUP($F35,料理一覧!$A$3:$N$19998,14,FALSE),\"0\")","v":0},{"$f":"IFERROR(VLOOKUP($G35,料理一覧!$A$3:$N$19998,4,FALSE),\"0\")","v":0},{"$f":"IFERROR(VLOOKUP($G35,料理一覧!$A$3:$N$19998,5,FALSE),\"0\")","v":0},{"$f":"IFERROR(VLOOKUP($G35,料理一覧!$A$3:$N$19998,6,FALSE),\"0\")","v":0},{"$f":"IFERROR(VLOOKUP($G35,料理一覧!$A$3:$N$19998,7,FALSE),\"0\")","v":0},{"$f":"IFERROR(VLOOKUP($G35,料理一覧!$A$3:$N$19998,8,FALSE),\"0\")","v":0},{"$f":"IFERROR(VLOOKUP($G35,料理一覧!$A$3:$N$19998,9,FALSE),\"0\")","v":0},{"$f":"IFERROR(VLOOKUP($G35,料理一覧!$A$3:$N$19998,10,FALSE),\"0\")","v":0},{"$f":"IFERROR(VLOOKUP($G35,料理一覧!$A$3:$N$19998,11,FALSE),\"0\")","v":0},{"$f":"IFERROR(VLOOKUP($G35,料理一覧!$A$3:$N$19998,12,FALSE),\"0\")","v":0},{"$f":"IFERROR(VLOOKUP($G35,料理一覧!$A$3:$N$19998,13,FALSE),\"0\")","v":0},{"$f":"IFERROR(VLOOKUP($G35,料理一覧!$A$3:$N$19998,14,FALSE),\"0\")","v":0},{"$f":"IFERROR(VLOOKUP($H35,料理一覧!$A$3:$N$19998,4,FALSE),\"0\")","v":0},{"$f":"IFERROR(VLOOKUP($H35,料理一覧!$A$3:$N$19998,5,FALSE),\"0\")","v":0},{"$f":"IFERROR(VLOOKUP($H35,料理一覧!$A$3:$N$19998,6,FALSE),\"0\")","v":0},{"$f":"IFERROR(VLOOKUP($H35,料理一覧!$A$3:$N$19998,7,FALSE),\"0\")","v":0},{"$f":"IFERROR(VLOOKUP($H35,料理一覧!$A$3:$N$19998,8,FALSE),\"0\")","v":0},{"$f":"IFERROR(VLOOKUP($H35,料理一覧!$A$3:$N$19998,9,FALSE),\"0\")","v":0},{"$f":"IFERROR(VLOOKUP($H35,料理一覧!$A$3:$N$19998,10,FALSE),\"0\")","v":0},{"$f":"IFERROR(VLOOKUP($H35,料理一覧!$A$3:$N$19998,11,FALSE),\"0\")","v":0},{"$f":"IFERROR(VLOOKUP($H35,料理一覧!$A$3:$N$19998,12,FALSE),\"0\")","v":0},{"$f":"IFERROR(VLOOKUP($H35,料理一覧!$A$3:$N$19998,13,FALSE),\"0\")","v":0},{"$f":"IFERROR(VLOOKUP($H35,料理一覧!$A$3:$N$19998,14,FALSE),\"0\")","v":0},{"$f":"IFERROR(VLOOKUP($I35,料理一覧!$A$3:$N$19998,4,FALSE),\"0\")","v":0},{"$f":"IFERROR(VLOOKUP($I35,料理一覧!$A$3:$N$19998,5,FALSE),\"0\")","v":0},{"$f":"IFERROR(VLOOKUP($I35,料理一覧!$A$3:$N$19998,6,FALSE),\"0\")","v":0},{"$f":"IFERROR(VLOOKUP($I35,料理一覧!$A$3:$N$19998,7,FALSE),\"0\")","v":0},{"$f":"IFERROR(VLOOKUP($I35,料理一覧!$A$3:$N$19998,8,FALSE),\"0\")","v":0},{"$f":"IFERROR(VLOOKUP($I35,料理一覧!$A$3:$N$19998,9,FALSE),\"0\")","v":0},{"$f":"IFERROR(VLOOKUP($I35,料理一覧!$A$3:$N$19998,10,FALSE),\"0\")","v":0},{"$f":"IFERROR(VLOOKUP($I35,料理一覧!$A$3:$N$19998,11,FALSE),\"0\")","v":0},{"$f":"IFERROR(VLOOKUP($I35,料理一覧!$A$3:$N$19998,12,FALSE),\"0\")","v":0},{"$f":"IFERROR(VLOOKUP($I35,料理一覧!$A$3:$N$19998,13,FALSE),\"0\")","v":0},{"$f":"IFERROR(VLOOKUP($I35,料理一覧!$A$3:$N$19998,14,FALSE),\"0\")","v":0},{"$f":"IFERROR(VLOOKUP($J35,料理一覧!$A$3:$N$19998,4,FALSE),\"0\")","v":0},{"$f":"IFERROR(VLOOKUP($J35,料理一覧!$A$3:$N$19998,5,FALSE),\"0\")","v":0},{"$f":"IFERROR(VLOOKUP($J35,料理一覧!$A$3:$N$19998,6,FALSE),\"0\")","v":0},{"$f":"IFERROR(VLOOKUP($J35,料理一覧!$A$3:$N$19998,7,FALSE),\"0\")","v":0},{"$f":"IFERROR(VLOOKUP($J35,料理一覧!$A$3:$N$19998,8,FALSE),\"0\")","v":0},{"$f":"IFERROR(VLOOKUP($J35,料理一覧!$A$3:$N$19998,9,FALSE),\"0\")","v":0},{"$f":"IFERROR(VLOOKUP($J35,料理一覧!$A$3:$N$19998,10,FALSE),\"0\")","v":0},{"$f":"IFERROR(VLOOKUP($J35,料理一覧!$A$3:$N$19998,11,FALSE),\"0\")","v":0},{"$f":"IFERROR(VLOOKUP($J35,料理一覧!$A$3:$N$19998,12,FALSE),\"0\")","v":0},{"$f":"IFERROR(VLOOKUP($J35,料理一覧!$A$3:$N$19998,13,FALSE),\"0\")","v":0},{"$f":"IFERROR(VLOOKUP($J35,料理一覧!$A$3:$N$19998,14,FALSE),\"0\")","v":0},{"$f":"IFERROR(VLOOKUP($K35,料理一覧!$A$3:$N$19998,4,FALSE),\"0\")","v":0},{"$f":"IFERROR(VLOOKUP($K35,料理一覧!$A$3:$N$19998,5,FALSE),\"0\")","v":0},{"$f":"IFERROR(VLOOKUP($K35,料理一覧!$A$3:$N$19998,6,FALSE),\"0\")","v":0},{"$f":"IFERROR(VLOOKUP($K35,料理一覧!$A$3:$N$19998,7,FALSE),\"0\")","v":0},{"$f":"IFERROR(VLOOKUP($K35,料理一覧!$A$3:$N$19998,8,FALSE),\"0\")","v":0},{"$f":"IFERROR(VLOOKUP($K35,料理一覧!$A$3:$N$19998,9,FALSE),\"0\")","v":0},{"$f":"IFERROR(VLOOKUP($K35,料理一覧!$A$3:$N$19998,10,FALSE),\"0\")","v":0},{"$f":"IFERROR(VLOOKUP($K35,料理一覧!$A$3:$N$19998,11,FALSE),\"0\")","v":0},{"$f":"IFERROR(VLOOKUP($K35,料理一覧!$A$3:$N$19998,12,FALSE),\"0\")","v":0},{"$f":"IFERROR(VLOOKUP($K35,料理一覧!$A$3:$N$19998,13,FALSE),\"0\")","v":0},{"$f":"IFERROR(VLOOKUP($K35,料理一覧!$A$3:$N$19998,14,FALSE),\"0\")","v":0},0,0,0,0,0,0,0,0,0,0,0]
[null,null,null,null,null,null,null,null,null,null,null,null,null,null,null,null,null,"月平均",null,null,{"$f":"SUM(U5:U35)/$O37","v":{"$error":"#DIV/0!"}},{"$f":"SUM(V5:V35)/$O37","v":{"$error":"#DIV/0!"}},{"$error":"#DIV/0!"},{"$error":"#DIV/0!"},{"$error":"#DIV/0!"},{"$error":"#DIV/0!"},{"$error":"#DIV/0!"},{"$error":"#DIV/0!"},{"$error":"#DIV/0!"},{"$error":"#DIV/0!"},{"$error":"#DIV/0!"},null,null,null,null,null,null,null,null,null,null,null,null,null,null,null,null,null,null,null,null,null,null,null,null,null,null,null,null,null,null,null,null,null,null,null,null,null,null,null,null,null,null,null,null,null,null,null,null,null,null,null,null,null,null,null,null,null,null,null,null,null,null,null,null,null,null,null,null,null,null,null,null,null,null,null,null,null,null,null,null,null,null,null,null,null,null,null,null,null,null,null,null,null,null,null,null,null,null,null,{"$f":"SUM(EA5:EA35)/$O37","v":{"$error":"#DIV/0!"}},{"$f":"SUM(EB5:EB35)/$O37","v":{"$error":"#DIV/0!"}},{"$error":"#DIV/0!"},{"$error":"#DIV/0!"},{"$error":"#DIV/0!"},{"$error":"#DIV/0!"},{"$error":"#DIV/0!"},{"$error":"#DIV/0!"},{"$f":"SUM(EI5:EI35)/$O37","v":{"$error":"#DIV/0!"}},{"$error":"#DIV/0!"},{"$error":"#DIV/0!"}]
[null,null,null,null,null,null,null,null,null,null,null,null,null,"今月は",{"$f":"+P40","v":0},"日提供",null,"施設の給与栄養目標量"]
[null,null,null,null,null,null,null,null,null,null,null,null,null,null,null,null,null,"充足率(％）",null,null,{"$f":"U36/U37*100","v":{"$error":"#DIV/0!"}},{"$error":"#DIV/0!"},{"$error":"#DIV/0!"},{"$error":"#DIV/0!"},{"$error":"#DIV/0!"},{"$error":"#DIV/0!"},{"$error":"#DIV/0!"},{"$error":"#DIV/0!"},{"$error":"#DIV/0!"},{"$error":"#DIV/0!"},{"$error":"#DIV/0!"}]
[]
[null,null,null,null,null,null,null,null,null,null,null,null,null,null,null,{"$f":"DCOUNT(U4:AE35,1,P41:P42)","v":0}]
[null,null,null,null,null,null,null,null,null,null,null,null,null,null,null,"E"]
[null,null,null,null,null,null,null,null,null,null,null,null,null,null,null,">0"]

{"sheet":"月間献立（乳児）","index":6,"n_rows":41,"n_cols":92,"rows_kept":41,"cut":false,"hidden":false,"merged":[[1,37,1,47],[1,48,1,58],[1,59,1,69],[1,70,1,80],[1,81,1,91],[34,24,34,25],[35,24,35,25],[36,24,36,25],[1,2,1,4],[2,2,2,4],[1,14,2,16],[2,18,2,22],[1,17,1,22],[1,5,1,10],[1,11,1,13],[1,0,2,0],[1,1,2,1],[0,32,0,36],[1,23,2,25],[1,26,1,36],[2,6,2,10],[2,11,2,13]]}
[null,null,null,null,null,null,null,null,null,null,null,null,null,null,null,null,null,null,null,null,{"$f":"+'月間献立（幼児）'!M2","v":2021},"年",{"$f":"+'月間献立（幼児）'!O2","v":5},"月分",null,null,null,null,null,null,null,null,"乳児用献立"]
["日","曜日","午前おやつ",null,null,"昼食",null,null,null,null,null,"午後おやつ",null,null,"午前おやつ",null,null,"昼食",null,null,null,null,null,"午後おやつ",null,null,"栄養価の合計",null,null,null,null,null,null,null,null,null,null,"午前のおやつ①",null,null,null,null,null,null,null,null,null,null,"午前のおやつ②",null,null,null,null,null,null,null,null,null,null,"午前のおやつ③",null,null,null,null,null,null,null,null,null,null,"午前おやつの合計",null,null,null,null,null,null,null,null,null,null,"一日の合計"]
[null,null,"No.",null,null,"主食","No.",null,null,null,null,"No.",null,null,null,null,null,"主食","料理名",null,null,null,null,null,null,null,"E","P","F","食物繊維","Ca","Fe","V.A","V.B1","V.B2","V.C","食塩相当量","E","P","F","食物繊維","Ca","Fe","V.a","V.B1","V.B2","V.C","食塩相当","E","P","F","食物繊維","Ca","Fe","V.a","V.B1","V.B2","V.C","食塩相当","E","P","F","食物繊維","Ca","Fe","V.a","V.B1","V.B2","V.C","食塩相当","E","P","F","食物繊維","Ca","Fe","V.a","V.B1","V.B2","V.C","食塩相当","E","P","F","食物繊維","Ca","Fe","V.a","V.B1","V.B2","V.C","食塩相当"]
[{"$f":"+'月間献立（幼児）'!A5","v":1},{"$f":"+'月間献立（幼児）'!B5","v":"(土)"},null,null,null,{"$f":"+'月間献立（幼児）'!C5","v":0},{"$f":"+'月間献立（幼児）'!D5","v":0},{"$f":"+'月間献立（幼児）'!E5","v":0},{"$f":"+'月間献立（幼児）'!F5","v":0},{"$f":"+'月間献立（幼児）'!G5","v":0},{"$f":"+'月間献立（幼児）'!H5","v":0},{"$f":"+'月間献立（幼児）'!I5","v":0},{"$f":"+'月間献立（幼児）'!J5","v":0},{"$f":"+'月間献立（幼児）'!K5","v":0},{"$f":"IFERROR(VLOOKUP($C4,料理一覧!$A$3:$N$20000,3,FALSE),\"\")","v":0},{"$f":"IFERROR(VLOOKUP($D4,料理一覧!$A$3:$N$20000,3,FALSE),\"\")","v":0},{"$f":"IFERROR(VLOOKUP($E4,料理一覧!$A$3:$N$20000,3,FALSE),\"\")","v":0},{"$f":"+'月間献立（幼児）'!L5","v":0},{"$f":"+'月間献立（幼児）'!M5","v":0},{"$f":"+'月間献立（幼児）'!N5","v":0},{"$f":"+'月間献立（幼児）'!O5","v":0},{"$f":"+'月間献立（幼児）'!P5","v":0},{"$f":"+'月間献立（幼児）'!Q5","v":0},{"$f":"+'月間献立（幼児）'!R5","v":0},{"$f":"+'月間献立（幼児）'!S5","v":0},{"$f":"+'月間献立（幼児）'!T5","v":0},{"$f":"+CD4","v":0},0,0,0,0,0,0,0,0,0,0,{"$f":"IFERROR(VLOOKUP($C4,料理一覧!$A$3:$N$20000,4,FALSE),\"0\")","v":0},{"$f":"IFERROR(VLOOKUP($C4,料理一覧!$A$3:$N$20000,5,FALSE),\"0\")","v":0},{"$f":"IFERROR(VLOOKUP($C4,料理一覧!$A$3:$N$20000,6,FALSE),\"0\")","v":0},{"$f":"IFERROR(VLOOKUP($C4,料理一覧!$A$3:$N$20000,7,FALSE),\"0\")","v":0},{"$f":"IFERROR(VLOOKUP($C4,料理一覧!$A$3:$N$20000,8,FALSE),\"0\")","v":0},{"$f":"IFERROR(VLOOKUP($C4,料理一覧!$A$3:$N$20000,9,FALSE),\"0\")","v":0},{"$f":"IFERROR(VLOOKUP($C4,料理一覧!$A$3:$N$20000,10,FALSE),\"0\")","v":0},{"$f":"IFERROR(VLOOKUP($C4,料理一覧!$A$3:$N$20000,11,FALSE),\"0\")","v":0},{"$f":"IFERROR(VLOOKUP($C4,料理一覧!$A$3:$N$20000,12,FALSE),\"0\")","v":0},{"$f":"IFERROR(VLOOKUP($C4,料理一覧!$A$3:$N$20000,13,FALSE),\"0\")","v":0},{"$f":"IFERROR(VLOOKUP($C4,料理一覧!$A$3:$N$20000,14,FALSE),\"0\")","v":0},{"$f":"IFERROR(VLOOKUP($D4,料理一覧!$A$3:$N$20000,4,FALSE),\"0\")","v":0},{"$f":"IFERROR(VLOOKUP($D4,料理一覧!$A$3:$N$20000,5,FALSE),\"0\")","v":0},{"$f":"IFERROR(VLOOKUP($D4,料理一覧!$A$3:$N$20000,6,FALSE),\"0\")","v":0},{"$f":"IFERROR(VLOOKUP($D4,料理一覧!$A$3:$N$20000,7,FALSE),\"0\")","v":0},{"$f":"IFERROR(VLOOKUP($D4,料理一覧!$A$3:$N$20000,8,FALSE),\"0\")","v":0},{"$f":"IFERROR(VLOOKUP($D4,料理一覧!$A$3:$N$20000,9,FALSE),\"0\")","v":0},{"$f":"IFERROR(VLOOKUP($D4,料理一覧!$A$3:$N$20000,10,FALSE),\"0\")","v":0},{"$f":"IFERROR(VLOOKUP($D4,料理一覧!$A$3:$N$20000,11,FALSE),\"0\")","v":0},{"$f":"IFERROR(VLOOKUP($D4,料理一覧!$A$3:$N$20000,12,FALSE),\"0\")","v":0},{"$f":"IFERROR(VLOOKUP($D4,料理一覧!$A$3:$N$20000,13,FALSE),\"0\")","v":0},{"$f":"IFERROR(VLOOKUP($D4,料理一覧!$A$3:$N$20000,14,FALSE),\"0\")","v":0},{"$f":"IFERROR(VLOOKUP($E4,料理一覧!$A$3:$N$20000,4,FALSE),\"0\")","v":0},{"$f":"IFERROR(VLOOKUP($E4,料理一覧!$A$3:$N$20000,5,FALSE),\"0\")","v":0},{"$f":"IFERROR(VLOOKUP($E4,料理一覧!$A$3:$N$20000,6,FALSE),\"0\")","v":0},{"$f":"IFERROR(VLOOKUP($E4,料理一覧!$A$3:$N$20000,7,FALSE),\"0\")","v":0},{"$f":"IFERROR(VLOOKUP($E4,料理一覧!$A$3:$N$20000,8,FALSE),\"0\")","v":0},{"$f":"IFERROR(VLOOKUP($E4,料理一覧!$A$3:$N$20000,9,FALSE),\"0\")","v":0},{"$f":"IFERROR(VLOOKUP($E4,料理一覧!$A$3:$N$20000,10,FALSE),\"0\")","v":0},{"$f":"IFERROR(VLOOKUP($E4,料理一覧!$A$3:$N$20000,11,FALSE),\"0\")","v":0},{"$f":"IFERROR(VLOOKUP($E4,料理一覧!$A$3:$N$20000,12,FALSE),\"0\")","v":0},{"$f":"IFERROR(VLOOKUP($E4,料理一覧!$A$3:$N$20000,13,FALSE),\"0\")","v":0},{"$f":"IFERROR(VLOOKUP($E4,料理一覧!$A$3:$N$20000,14,FALSE),\"0\")","v":0},{"$f":"SUM(AL4,AW4,BH4)","v":0},{"$f":"SUM(AM4,AX4,BI4)","v":0},{"$f":"SUM(AN4,AY4,BJ4)","v":0},{"$f":"SUM(AO4,AZ4,BK4)","v":0},{"$f":"SUM(AP4,BA4,BL4)","v":0},{"$f":"SUM(AQ4,BB4,BM4)","v":0},{"$f":"SUM(AR4,BC4,BN4)","v":0},{"$f":"SUM(AS4,BD4,BO4)","v":0},{"$f":"SUM(AT4,BE4,BP4)","v":0},{"$f":"SUM(AU4,BF4,BQ4)","v":0},{"$f":"SUM(AV4,BG4,BR4)","v":0},{"$f":"SUM(BS4+'月間献立（幼児）'!$U5*('月間献立（乳児）'!P$36*0.01))","v":0},{"$f":"SUM(BT4+'月間献立（幼児）'!$V5*('月間献立（乳児）'!P$36*0.01))","v":0},{"$f":"SUM(BU4+'月間献立（幼児）'!$W5*('月間献立（乳児）'!P$36*0.01))","v":0},{"$f":"SUM(BV4+'月間献立（幼児）'!$X5*('月間献立（乳児）'!P$36*0.01))","v":0},{"$f":"SUM(BW4+'月間献立（幼児）'!$Y5*('月間献立（乳児）'!P$36*0.01))","v":0},{"$f":"SUM(BX4+'月間献立（幼児）'!$Z5*('月間献立（乳児）'!P$36*0.01))","v":0},{"$f":"SUM(BY4+'月間献立（幼児）'!$AA5*('月間献立（乳児）'!P$36*0.01))","v":0},{"$f":"SUM(BZ4+'月間献立（幼児）'!$AB5*('月間献立（乳児）'!P$36*0.01))","v":0},{"$f":"SUM(CA4+'月間献立（幼児）'!$AC5*('月間献立（乳児）'!P$36*0.01))","v":0},{"$f":"SUM(CB4+'月間献立（幼児）'!$AD5*('月間献立（乳児）'!P$36*0.01))","v":0},{"$f":"SUM(CC4+'月間献立（幼児）'!$AE5*('月間献立（乳児）'!P$36*0.01))","v":0}]
[{"$f":"+'月間献立（幼児）'!A6","v":2},{"$f":"+'月間献立（幼児）'!B6","v":"(日)"},null,null,null,{"$f":"+'月間献立（幼児）'!C6","v":0},{"$f":"+'月間献立（幼児）'!D6","v":0},{"$f":"+'月間献立（幼児）'!E6","v":0},{"$f":"+'月間献立（幼児）'!F6","v":0},{"$f":"+'月間献立（幼児）'!G6","v":0},{"$f":"+'月間献立（幼児）'!H6","v":0},{"$f":"+'月間献立（幼児）'!I6","v":0},{"$f":"+'月間献立（幼児）'!J6","v":0},{"$f":"+'月間献立（幼児）'!K6","v":0},{"$f":"IFERROR(VLOOKUP($C5,料理一覧!$A$3:$N$20000,3,FALSE),\"\")","v":0},{"$f":"IFERROR(VLOOKUP($D5,料理一覧!$A$3:$N$20000,3,FALSE),\"\")","v":0},{"$f":"IFERROR(VLOOKUP($E5,料理一覧!$A$3:$N$20000,3,FALSE),\"\")","v":0},{"$f":"+'月間献立（幼児）'!L6","v":0},{"$f":"+'月間献立（幼児）'!M6","v":0},{"$f":"+'月間献立（幼児）'!N6","v":0},{"$f":"+'月間献立（幼児）'!O6","v":0},{"$f":"+'月間献立（幼児）'!P6","v":0},{"$f":"+'月間献立（幼児）'!Q6","v":0},{"$f":"+'月間献立（幼児）'!R6","v":0},{"$f":"+'月間献立（幼児）'!S6","v":0},{"$f":"+'月間献立（幼児）'!T6","v":0},{"$f":"+CD5","v":0},{"$f":"+CE5","v":0},{"$f":"+CF5","v":0},{"$f":"+CG5","v":0},{"$f":"+CH5","v":0},{"$f":"+CI5","v":0},{"$f":"+CJ5","v":0},{"$f":"+CK5","v":0},{"$f":"+CL5","v":0},{"$f":"+CM5","v":0},{"$f":"+CN5","v":0},{"$f":"IFERROR(VLOOKUP($C5,料理一覧!$A$3:$N$20000,4,FALSE),\"0\")","v":0},{"$f":"IFERROR(VLOOKUP($C5,料理一覧!$A$3:$N$20000,5,FALSE),\"0\")","v":0},{"$f":"IFERROR(VLOOKUP($C5,料理一覧!$A$3:$N$20000,6,FALSE),\"0\")","v":0},{"$f":"IFERROR(VLOOKUP($C5,料理一覧!$A$3:$N$20000,7,FALSE),\"0\")","v":0},{"$f":"IFERROR(VLOOKUP($C5,料理一覧!$A$3:$N$20000,8,FALSE),\"0\")","v":0},{"$f":"IFERROR(VLOOKUP($C5,料理一覧!$A$3:$N$20000,9,FALSE),\"0\")","v":0},{"$f":"IFERROR(VLOOKUP($C5,料理一覧!$A$3:$N$20000,10,FALSE),\"0\")","v":0},{"$f":"IFERROR(VLOOKUP($C5,料理一覧!$A$3:$N$20000,11,FALSE),\"0\")","v":0},{"$f":"IFERROR(VLOOKUP($C5,料理一覧!$A$3:$N$20000,12,FALSE),\"0\")","v":0},{"$f":"IFERROR(VLOOKUP($C5,料理一覧!$A$3:$N$20000,13,FALSE),\"0\")","v":0},{"$f":"IFERROR(VLOOKUP($C5,料理一覧!$A$3:$N$20000,14,FALSE),\"0\")","v":0},{"$f":"IFERROR(VLOOKUP($D5,料理一覧!$A$3:$N$20000,4,FALSE),\"0\")","v":0},{"$f":"IFERROR(VLOOKUP($D5,料理一覧!$A$3:$N$20000,5,FALSE),\"0\")","v":0},{"$f":"IFERROR(VLOOKUP($D5,料理一覧!$A$3:$N$20000,6,FALSE),\"0\")","v":0},{"$f":"IFERROR(VLOOKUP($D5,料理一覧!$A$3:$N$20000,7,FALSE),\"0\")","v":0},{"$f":"IFERROR(VLOOKUP($D5,料理一覧!$A$3:$N$20000,8,FALSE),\"0\")","v":0},{"$f":"IFERROR(VLOOKUP($D5,料理一覧!$A$3:$N$20000,9,FALSE),\"0\")","v":0},{"$f":"IFERROR(VLOOKUP($D5,料理一覧!$A$3:$N$20000,10,FALSE),\"0\")","v":0},{"$f":"IFERROR(VLOOKUP($D5,料理一覧!$A$3:$N$20000,11,FALSE),\"0\")","v":0},{"$f":"IFERROR(VLOOKUP($D5,料理一覧!$A$3:$N$20000,12,FALSE),\"0\")","v":0},{"$f":"IFERROR(VLOOKUP($D5,料理一覧!$A$3:$N$20000,13,FALSE),\"0\")","v":0},{"$f":"IFERROR(VLOOKUP($D5,料理一覧!$A$3:$N$20000,14,FALSE),\"0\")","v":0},{"$f":"IFERROR(VLOOKUP($E5,料理一覧!$A$3:$N$20000,4,FALSE),\"0\")","v":0},{"$f":"IFERROR(VLOOKUP($E5,料理一覧!$A$3:$N$20000,5,FALSE),\"0\")","v":0},{"$f":"IFERROR(VLOOKUP($E5,料理一覧!$A$3:$N$20000,6,FALSE),\"0\")","v":0},{"$f":"IFERROR(VLOOKUP($E5,料理一覧!$A$3:$N$20000,7,FALSE),\"0\")","v":0},{"$f":"IFERROR(VLOOKUP($E5,料理一覧!$A$3:$N$20000,8,FALSE),\"0\")","v":0},{"$f":"IFERROR(VLOOKUP($E5,料理一覧!$A$3:$N$20000,9,FALSE),\"0\")","v":0},{"$f":"IFERROR(VLOOKUP($E5,料理一覧!$A$3:$N$20000,10,FALSE),\"0\")","v":0},{"$f":"IFERROR(VLOOKUP($E5,料理一覧!$A$3:$N$20000,11,FALSE),\"0\")","v":0},{"$f":"IFERROR(VLOOKUP($E5,料理一覧!$A$3:$N$20000,12,FALSE),\"0\")","v":0},{"$f":"IFERROR(VLOOKUP($E5,料理一覧!$A$3:$N$20000,13,FALSE),\"0\")","v":0},{"$f":"IFERROR(VLOOKUP($E5,料理一覧!$A$3:$N$20000,14,FALSE),\"0\")","v":0},0,0,0,0,0,0,0,0,0,0,0,{"$f":"SUM(BS5+'月間献立（幼児）'!$U6*('月間献立（乳児）'!P$36*0.01))","v":0},{"$f":"SUM(BT5+'月間献立（幼児）'!$V6*('月間献立（乳児）'!P$36*0.01))","v":0},{"$f":"SUM(BU5+'月間献立（幼児）'!$W6*('月間献立（乳児）'!P$36*0.01))","v":0},{"$f":"SUM(BV5+'月間献立（幼児）'!$X6*('月間献立（乳児）'!P$36*0.01))","v":0},{"$f":"SUM(BW5+'月間献立（幼児）'!$Y6*('月間献立（乳児）'!P$36*0.01))","v":0},{"$f":"SUM(BX5+'月間献立（幼児）'!$Z6*('月間献立（乳児）'!P$36*0.01))","v":0},{"$f":"SUM(BY5+'月間献立（幼児）'!$AA6*('月間献立（乳児）'!P$36*0.01))","v":0},{"$f":"SUM(BZ5+'月間献立（幼児）'!$AB6*('月間献立（乳児）'!P$36*0.01))","v":0},{"$f":"SUM(CA5+'月間献立（幼児）'!$AC6*('月間献立（乳児）'!P$36*0.01))","v":0},{"$f":"SUM(CB5+'月間献立（幼児）'!$AD6*('月間献立（乳児）'!P$36*0.01))","v":0},{"$f":"SUM(CC5+'月間献立（幼児）'!$AE6*('月間献立（乳児）'!P$36*0.01))","v":0}]
[{"$f":"+'月間献立（幼児）'!A7","v":3},{"$f":"+'月間献立（幼児）'!B7","v":"(月)"},null,null,null,{"$f":"+'月間献立（幼児）'!C7","v":0},{"$f":"+'月間献立（幼児）'!D7","v":0},{"$f":"+'月間献立（幼児）'!E7","v":0},{"$f":"+'月間献立（幼児）'!F7","v":0},{"$f":"+'月間献立（幼児）'!G7","v":0},{"$f":"+'月間献立（幼児）'!H7","v":0},{"$f":"+'月間献立（幼児）'!I7","v":0},{"$f":"+'月間献立（幼児）'!J7","v":0},{"$f":"+'月間献立（幼児）'!K7","v":0},{"$f":"IFERROR(VLOOKUP($C6,料理一覧!$A$3:$N$20000,3,FALSE),\"\")","v":0},{"$f":"IFERROR(VLOOKUP($D6,料理一覧!$A$3:$N$20000,3,FALSE),\"\")","v":0},{"$f":"IFERROR(VLOOKUP($E6,料理一覧!$A$3:$N$20000,3,FALSE),\"\")","v":0},{"$f":"+'月間献立（幼児）'!L7","v":0},{"$f":"+'月間献立（幼児）'!M7","v":0},{"$f":"+'月間献立（幼児）'!N7","v":0},{"$f":"+'月間献立（幼児）'!O7","v":0},{"$f":"+'月間献立（幼児）'!P7","v":0},{"$f":"+'月間献立（幼児）'!Q7","v":0},{"$f":"+'月間献立（幼児）'!R7","v":0},{"$f":"+'月間献立（幼児）'!S7","v":0},{"$f":"+'月間献立（幼児）'!T7","v":0},0,0,0,0,0,0,0,0,0,0,0,{"$f":"IFERROR(VLOOKUP($C6,料理一覧!$A$3:$N$20000,4,FALSE),\"0\")","v":0},{"$f":"IFERROR(VLOOKUP($C6,料理一覧!$A$3:$N$20000,5,FALSE),\"0\")","v":0},{"$f":"IFERROR(VLOOKUP($C6,料理一覧!$A$3:$N$20000,6,FALSE),\"0\")","v":0},{"$f":"IFERROR(VLOOKUP($C6,料理一覧!$A$3:$N$20000,7,FALSE),\"0\")","v":0},{"$f":"IFERROR(VLOOKUP($C6,料理一覧!$A$3:$N$20000,8,FALSE),\"0\")","v":0},{"$f":"IFERROR(VLOOKUP($C6,料理一覧!$A$3:$N$20000,9,FALSE),\"0\")","v":0},{"$f":"IFERROR(VLOOKUP($C6,料理一覧!$A$3:$N$20000,10,FALSE),\"0\")","v":0},{"$f":"IFERROR(VLOOKUP($C6,料理一覧!$A$3:$N$20000,11,FALSE),\"0\")","v":0},{"$f":"IFERROR(VLOOKUP($C6,料理一覧!$A$3:$N$20000,12,FALSE),\"0\")","v":0},{"$f":"IFERROR(VLOOKUP($C6,料理一覧!$A$3:$N$20000,13,FALSE),\"0\")","v":0},{"$f":"IFERROR(VLOOKUP($C6,料理一覧!$A$3:$N$20000,14,FALSE),\"0\")","v":0},{"$f":"IFERROR(VLOOKUP($D6,料理一覧!$A$3:$N$20000,4,FALSE),\"0\")","v":0},{"$f":"IFERROR(VLOOKUP($D6,料理一覧!$A$3:$N$20000,5,FALSE),\"0\")","v":0},{"$f":"IFERROR(VLOOKUP($D6,料理一覧!$A$3:$N$20000,6,FALSE),\"0\")","v":0},{"$f":"IFERROR(VLOOKUP($D6,料理一覧!$A$3:$N$20000,7,FALSE),\"0\")","v":0},{"$f":"IFERROR(VLOOKUP($D6,料理一覧!$A$3:$N$20000,8,FALSE),\"0\")","v":0},{"$f":"IFERROR(VLOOKUP($D6,料理一覧!$A$3:$N$20000,9,FALSE),\"0\")","v":0},{"$f":"IFERROR(VLOOKUP($D6,料理一覧!$A$3:$N$20000,10,FALSE),\"0\")","v":0},{"$f":"IFERROR(VLOOKUP($D6,料理一覧!$A$3:$N$20000,11,FALSE),\"0\")","v":0},{"$f":"IFERROR(VLOOKUP($D6,料理一覧!$A$3:$N$20000,12,FALSE),\"0\")","v":0},{"$f":"IFERROR(VLOOKUP($D6,料理一覧!$A$3:$N$20000,13,FALSE),\"0\")","v":0},{"$f":"IFERROR(VLOOKUP($D6,料理一覧!$A$3:$N$20000,14,FALSE),\"0\")","v":0},{"$f":"IFERROR(VLOOKUP($E6,料理一覧!$A$3:$N$20000,4,FALSE),\"0\")","v":0},{"$f":"IFERROR(VLOOKUP($E6,料理一覧!$A$3:$N$20000,5,FALSE),\"0\")","v":0},{"$f":"IFERROR(VLOOKUP($E6,料理一覧!$A$3:$N$20000,6,FALSE),\"0\")","v":0},{"$f":"IFERROR(VLOOKUP($E6,料理一覧!$A$3:$N$20000,7,FALSE),\"0\")","v":0},{"$f":"IFERROR(VLOOKUP($E6,料理一覧!$A$3:$N$20000,8,FALSE),\"0\")","v":0},{"$f":"IFERROR(VLOOKUP($E6,料理一覧!$A$3:$N$20000,9,FALSE),\"0\")","v":0},{"$f":"IFERROR(VLOOKUP($E6,料理一覧!$A$3:$N$20000,10,FALSE),\"0\")","v":0},{"$f":"IFERROR(VLOOKUP($E6,料理一覧!$A$3:$N$20000,11,FALSE),\"0\")","v":0},{"$f":"IFERROR(VLOOKUP($E6,料理一覧!$A$3:$N$20000,12,FALSE),\"0\")","v":0},{"$f":"IFERROR(VLOOKUP($E6,料理一覧!$A$3:$N$20000,13,FALSE),\"0\")","v":0},{"$f":"IFERROR(VLOOKUP($E6,料理一覧!$A$3:$N$20000,14,FALSE),\"0\")","v":0},0,0,0,0,0,0,0,0,0,0,0,{"$f":"SUM(BS6+'月間献立（幼児）'!$U7*('月間献立（乳児）'!P$36*0.01))","v":0},{"$f":"SUM(BT6+'月間献立（幼児）'!$V7*('月間献立（乳児）'!P$36*0.01))","v":0},{"$f":"SUM(BU6+'月間献立（幼児）'!$W7*('月間献立（乳児）'!P$36*0.01))","v":0},{"$f":"SUM(BV6+'月間献立（幼児）'!$X7*('月間献立（乳児）'!P$36*0.01))","v":0},{"$f":"SUM(BW6+'月間献立（幼児）'!$Y7*('月間献立（乳児）'!P$36*0.01))","v":0},{"$f":"SUM(BX6+'月間献立（幼児）'!$Z7*('月間献立（乳児）'!P$36*0.01))","v":0},{"$f":"SUM(BY6+'月間献立（幼児）'!$AA7*('月間献立（乳児）'!P$36*0.01))","v":0},{"$f":"SUM(BZ6+'月間献立（幼児）'!$AB7*('月間献立（乳児）'!P$36*0.01))","v":0},{"$f":"SUM(CA6+'月間献立（幼児）'!$AC7*('月間献立（乳児）'!P$36*0.01))","v":0},{"$f":"SUM(CB6+'月間献立（幼児）'!$AD7*('月間献立（乳児）'!P$36*0.01))","v":0},{"$f":"SUM(CC6+'月間献立（幼児）'!$AE7*('月間献立（乳児）'!P$36*0.01))","v":0}]
[{"$f":"+'月間献立（幼児）'!A8","v":4},{"$f":"+'月間献立（幼児）'!B8","v":"(火)"},null,null,null,{"$f":"+'月間献立（幼児）'!C8","v":0},{"$f":"+'月間献立（幼児）'!D8","v":0},{"$f":"+'月間献立（幼児）'!E8","v":0},{"$f":"+'月間献立（幼児）'!F8","v":0},{"$f":"+'月間献立（幼児）'!G8","v":0},{"$f":"+'月間献立（幼児）'!H8","v":0},{"$f":"+'月間献立（幼児）'!I8","v":0},{"$f":"+'月間献立（幼児）'!J8","v":0},{"$f":"+'月間献立（幼児）'!K8","v":0},{"$f":"IFERROR(VLOOKUP($C7,料理一覧!$A$3:$N$20000,3,FALSE),\"\")","v":0},{"$f":"IFERROR(VLOOKUP($D7,料理一覧!$A$3:$N$20000,3,FALSE),\"\")","v":0},{"$f":"IFERROR(VLOOKUP($E7,料理一覧!$A$3:$N$20000,3,FALSE),\"\")","v":0},{"$f":"+'月間献立（幼児）'!L8","v":0},{"$f":"+'月間献立（幼児）'!M8","v":0},{"$f":"+'月間献立（幼児）'!N8","v":0},{"$f":"+'月間献立（幼児）'!O8","v":0},{"$f":"+'月間献立（幼児）'!P8","v":0},{"$f":"+'月間献立（幼児）'!Q8","v":0},{"$f":"+'月間献立（幼児）'!R8","v":0},{"$f":"+'月間献立（幼児）'!S8","v":0},{"$f":"+'月間献立（幼児）'!T8","v":0},0,0,0,0,0,0,0,0,0,0,0,{"$f":"IFERROR(VLOOKUP($C7,料理一覧!$A$3:$N$20000,4,FALSE),\"0\")","v":0},{"$f":"IFERROR(VLOOKUP($C7,料理一覧!$A$3:$N$20000,5,FALSE),\"0\")","v":0},{"$f":"IFERROR(VLOOKUP($C7,料理一覧!$A$3:$N$20000,6,FALSE),\"0\")","v":0},{"$f":"IFERROR(VLOOKUP($C7,料理一覧!$A$3:$N$20000,7,FALSE),\"0\")","v":0},{"$f":"IFERROR(VLOOKUP($C7,料理一覧!$A$3:$N$20000,8,FALSE),\"0\")","v":0},{"$f":"IFERROR(VLOOKUP($C7,料理一覧!$A$3:$N$20000,9,FALSE),\"0\")","v":0},{"$f":"IFERROR(VLOOKUP($C7,料理一覧!$A$3:$N$20000,10,FALSE),\"0\")","v":0},{"$f":"IFERROR(VLOOKUP($C7,料理一覧!$A$3:$N$20000,11,FALSE),\"0\")","v":0},{"$f":"IFERROR(VLOOKUP($C7,料理一覧!$A$3:$N$20000,12,FALSE),\"0\")","v":0},{"$f":"IFERROR(VLOOKUP($C7,料理一覧!$A$3:$N$20000,13,FALSE),\"0\")","v":0},{"$f":"IFERROR(VLOOKUP($C7,料理一覧!$A$3:$N$20000,14,FALSE),\"0\")","v":0},{"$f":"IFERROR(VLOOKUP($D7,料理一覧!$A$3:$N$20000,4,FALSE),\"0\")","v":0},{"$f":"IFERROR(VLOOKUP($D7,料理一覧!$A$3:$N$20000,5,FALSE),\"0\")","v":0},{"$f":"IFERROR(VLOOKUP($D7,料理一覧!$A$3:$N$20000,6,FALSE),\"0\")","v":0},{"$f":"IFERROR(VLOOKUP($D7,料理一覧!$A$3:$N$20000,7,FALSE),\"0\")","v":0},{"$f":"IFERROR(VLOOKUP($D7,料理一覧!$A$3:$N$20000,8,FALSE),\"0\")","v":0},{"$f":"IFERROR(VLOOKUP($D7,料理一覧!$A$3:$N$20000,9,FALSE),\"0\")","v":0},{"$f":"IFERROR(VLOOKUP($D7,料理一覧!$A$3:$N$20000,10,FALSE),\"0\")","v":0},{"$f":"IFERROR(VLOOKUP($D7,料理一覧!$A$3:$N$20000,11,FALSE),\"0\")","v":0},{"$f":"IFERROR(VLOOKUP($D7,料理一覧!$A$3:$N$20000,12,FALSE),\"0\")","v":0},{"$f":"IFERROR(VLOOKUP($D7,料理一覧!$A$3:$N$20000,13,FALSE),\"0\")","v":0},{"$f":"IFERROR(VLOOKUP($D7,料理一覧!$A$3:$N$20000,14,FALSE),\"0\")","v":0},{"$f":"IFERROR(VLOOKUP($E7,料理一覧!$A$3:$N$20000,4,FALSE),\"0\")","v":0},{"$f":"IFERROR(VLOOKUP($E7,料理一覧!$A$3:$N$20000,5,FALSE),\"0\")","v":0},{"$f":"IFERROR(VLOOKUP($E7,料理一覧!$A$3:$N$20000,6,FALSE),\"0\")","v":0},{"$f":"IFERROR(VLOOKUP($E7,料理一覧!$A$3:$N$20000,7,FALSE),\"0\")","v":0},{"$f":"IFERROR(VLOOKUP($E7,料理一覧!$A$3:$N$20000,8,FALSE),\"0\")","v":0},{"$f":"IFERROR(VLOOKUP($E7,料理一覧!$A$3:$N$20000,9,FALSE),\"0\")","v":0},{"$f":"IFERROR(VLOOKUP($E7,料理一覧!$A$3:$N$20000,10,FALSE),\"0\")","v":0},{"$f":"IFERROR(VLOOKUP($E7,料理一覧!$A$3:$N$20000,11,FALSE),\"0\")","v":0},{"$f":"IFERROR(VLOOKUP($E7,料理一覧!$A$3:$N$20000,12,FALSE),\"0\")","v":0},{"$f":"IFERROR(VLOOKUP($E7,料理一覧!$A$3:$N$20000,13,FALSE),\"0\")","v":0},{"$f":"IFERROR(VLOOKUP($E7,料理一覧!$A$3:$N$20000,14,FALSE),\"0\")","v":0},0,0,0,0,0,0,0,0,0,0,0,{"$f":"SUM(BS7+'月間献立（幼児）'!$U8*('月間献立（乳児）'!P$36*0.01))","v":0},{"$f":"SUM(BT7+'月間献立（幼児）'!$V8*('月間献立（乳児）'!P$36*0.01))","v":0},{"$f":"SUM(BU7+'月間献立（幼児）'!$W8*('月間献立（乳児）'!P$36*0.01))","v":0},{"$f":"SUM(BV7+'月間献立（幼児）'!$X8*('月間献立（乳児）'!P$36*0.01))","v":0},{"$f":"SUM(BW7+'月間献立（幼児）'!$Y8*('月間献立（乳児）'!P$36*0.01))","v":0},{"$f":"SUM(BX7+'月間献立（幼児）'!$Z8*('月間献立（乳児）'!P$36*0.01))","v":0},{"$f":"SUM(BY7+'月間献立（幼児）'!$AA8*('月間献立（乳児）'!P$36*0.01))","v":0},{"$f":"SUM(BZ7+'月間献立（幼児）'!$AB8*('月間献立（乳児）'!P$36*0.01))","v":0},{"$f":"SUM(CA7+'月間献立（幼児）'!$AC8*('月間献立（乳児）'!P$36*0.01))","v":0},{"$f":"SUM(CB7+'月間献立（幼児）'!$AD8*('月間献立（乳児）'!P$36*0.01))","v":0},{"$f":"SUM(CC7+'月間献立（幼児）'!$AE8*('月間献立（乳児）'!P$36*0.01))","v":0}]
[{"$f":"+'月間献立（幼児）'!A9","v":5},{"$f":"+'月間献立（幼児）'!B9","v":"(水)"},null,null,null,{"$f":"+'月間献立（幼児）'!C9","v":0},{"$f":"+'月間献立（幼児）'!D9","v":0},{"$f":"+'月間献立（幼児）'!E9","v":0},{"$f":"+'月間献立（幼児）'!F9","v":0},{"$f":"+'月間献立（幼児）'!G9","v":0},{"$f":"+'月間献立（幼児）'!H9","v":0},{"$f":"+'月間献立（幼児）'!I9","v":0},{"$f":"+'月間献立（幼児）'!J9","v":0},{"$f":"+'月間献立（幼児）'!K9","v":0},{"$f":"IFERROR(VLOOKUP($C8,料理一覧!$A$3:$N$20000,3,FALSE),\"\")","v":0},{"$f":"IFERROR(VLOOKUP($D8,料理一覧!$A$3:$N$20000,3,FALSE),\"\")","v":0},{"$f":"IFERROR(VLOOKUP($E8,料理一覧!$A$3:$N$20000,3,FALSE),\"\")","v":0},{"$f":"+'月間献立（幼児）'!L9","v":0},{"$f":"+'月間献立（幼児）'!M9","v":0},{"$f":"+'月間献立（幼児）'!N9","v":0},{"$f":"+'月間献立（幼児）'!O9","v":0},{"$f":"+'月間献立（幼児）'!P9","v":0},{"$f":"+'月間献立（幼児）'!Q9","v":0},{"$f":"+'月間献立（幼児）'!R9","v":0},{"$f":"+'月間献立（幼児）'!S9","v":0},{"$f":"+'月間献立（幼児）'!T9","v":0},0,0,0,0,0,0,0,0,0,0,0,{"$f":"IFERROR(VLOOKUP($C8,料理一覧!$A$3:$N$20000,4,FALSE),\"0\")","v":0},{"$f":"IFERROR(VLOOKUP($C8,料理一覧!$A$3:$N$20000,5,FALSE),\"0\")","v":0},{"$f":"IFERROR(VLOOKUP($C8,料理一覧!$A$3:$N$20000,6,FALSE),\"0\")","v":0},{"$f":"IFERROR(VLOOKUP($C8,料理一覧!$A$3:$N$20000,7,FALSE),\"0\")","v":0},{"$f":"IFERROR(VLOOKUP($C8,料理一覧!$A$3:$N$20000,8,FALSE),\"0\")","v":0},{"$f":"IFERROR(VLOOKUP($C8,料理一覧!$A$3:$N$20000,9,FALSE),\"0\")","v":0},{"$f":"IFERROR(VLOOKUP($C8,料理一覧!$A$3:$N$20000,10,FALSE),\"0\")","v":0},{"$f":"IFERROR(VLOOKUP($C8,料理一覧!$A$3:$N$20000,11,FALSE),\"0\")","v":0},{"$f":"IFERROR(VLOOKUP($C8,料理一覧!$A$3:$N$20000,12,FALSE),\"0\")","v":0},{"$f":"IFERROR(VLOOKUP($C8,料理一覧!$A$3:$N$20000,13,FALSE),\"0\")","v":0},{"$f":"IFERROR(VLOOKUP($C8,料理一覧!$A$3:$N$20000,14,FALSE),\"0\")","v":0},{"$f":"IFERROR(VLOOKUP($D8,料理一覧!$A$3:$N$20000,4,FALSE),\"0\")","v":0},{"$f":"IFERROR(VLOOKUP($D8,料理一覧!$A$3:$N$20000,5,FALSE),\"0\")","v":0},{"$f":"IFERROR(VLOOKUP($D8,料理一覧!$A$3:$N$20000,6,FALSE),\"0\")","v":0},{"$f":"IFERROR(VLOOKUP($D8,料理一覧!$A$3:$N$20000,7,FALSE),\"0\")","v":0},{"$f":"IFERROR(VLOOKUP($D8,料理一覧!$A$3:$N$20000,8,FALSE),\"0\")","v":0},{"$f":"IFERROR(VLOOKUP($D8,料理一覧!$A$3:$N$20000,9,FALSE),\"0\")","v":0},{"$f":"IFERROR(VLOOKUP($D8,料理一覧!$A$3:$N$20000,10,FALSE),\"0\")","v":0},{"$f":"IFERROR(VLOOKUP($D8,料理一覧!$A$3:$N$20000,11,FALSE),\"0\")","v":0},{"$f":"IFERROR(VLOOKUP($D8,料理一覧!$A$3:$N$20000,12,FALSE),\"0\")","v":0},{"$f":"IFERROR(VLOOKUP($D8,料理一覧!$A$3:$N$20000,13,FALSE),\"0\")","v":0},{"$f":"IFERROR(VLOOKUP($D8,料理一覧!$A$3:$N$20000,14,FALSE),\"0\")","v":0},{"$f":"IFERROR(VLOOKUP($E8,料理一覧!$A$3:$N$20000,4,FALSE),\"0\")","v":0},{"$f":"IFERROR(VLOOKUP($E8,料理一覧!$A$3:$N$20000,5,FALSE),\"0\")","v":0},{"$f":"IFERROR(VLOOKUP($E8,料理一覧!$A$3:$N$20000,6,FALSE),\"0\")","v":0},{"$f":"IFERROR(VLOOKUP($E8,料理一覧!$A$3:$N$20000,7,FALSE),\"0\")","v":0},{"$f":"IFERROR(VLOOKUP($E8,料理一覧!$A$3:$N$20000,8,FALSE),\"0\")","v":0},{"$f":"IFERROR(VLOOKUP($E8,料理一覧!$A$3:$N$20000,9,FALSE),\"0\")","v":0},{"$f":"IFERROR(VLOOKUP($E8,料理一覧!$A$3:$N$20000,10,FALSE),\"0\")","v":0},{"$f":"IFERROR(VLOOKUP($E8,料理一覧!$A$3:$N$20000,11,FALSE),\"0\")","v":0},{"$f":"IFERROR(VLOOKUP($E8,料理一覧!$A$3:$N$20000,12,FALSE),\"0\")","v":0},{"$f":"IFERROR(VLOOKUP($E8,料理一覧!$A$3:$N$20000,13,FALSE),\"0\")","v":0},{"$f":"IFERROR(VLOOKUP($E8,料理一覧!$A$3:$N$20000,14,FALSE),\"0\")","v":0},0,0,0,0,0,0,0,0,0,0,0,{"$f":"SUM(BS8+'月間献立（幼児）'!$U9*('月間献立（乳児）'!P$36*0.01))","v":0},{"$f":"SUM(BT8+'月間献立（幼児）'!$V9*('月間献立（乳児）'!P$36*0.01))","v":0},{"$f":"SUM(BU8+'月間献立（幼児）'!$W9*('月間献立（乳児）'!P$36*0.01))","v":0},{"$f":"SUM(BV8+'月間献立（幼児）'!$X9*('月間献立（乳児）'!P$36*0.01))","v":0},{"$f":"SUM(BW8+'月間献立（幼児）'!$Y9*('月間献立（乳児）'!P$36*0.01))","v":0},{"$f":"SUM(BX8+'月間献立（幼児）'!$Z9*('月間献立（乳児）'!P$36*0.01))","v":0},{"$f":"SUM(BY8+'月間献立（幼児）'!$AA9*('月間献立（乳児）'!P$36*0.01))","v":0},{"$f":"SUM(BZ8+'月間献立（幼児）'!$AB9*('月間献立（乳児）'!P$36*0.01))","v":0},{"$f":"SUM(CA8+'月間献立（幼児）'!$AC9*('月間献立（乳児）'!P$36*0.01))","v":0},{"$f":"SUM(CB8+'月間献立（幼児）'!$AD9*('月間献立（乳児）'!P$36*0.01))","v":0},{"$f":"SUM(CC8+'月間献立（幼児）'!$AE9*('月間献立（乳児）'!P$36*0.01))","v":0}]
[{"$f":"+'月間献立（幼児）'!A10","v":6},{"$f":"+'月間献立（幼児）'!B10","v":"(木)"},null,null,null,{"$f":"+'月間献立（幼児）'!C10","v":0},{"$f":"+'月間献立（幼児）'!D10","v":0},{"$f":"+'月間献立（幼児）'!E10","v":0},{"$f":"+'月間献立（幼児）'!F10","v":0},{"$f":"+'月間献立（幼児）'!G10","v":0},{"$f":"+'月間献立（幼児）'!H10","v":0},{"$f":"+'月間献立（幼児）'!I10","v":0},{"$f":"+'月間献立（幼児）'!J10","v":0},{"$f":"+'月間献立（幼児）'!K10","v":0},{"$f":"IFERROR(VLOOKUP($C9,料理一覧!$A$3:$N$20000,3,FALSE),\"\")","v":0},{"$f":"IFERROR(VLOOKUP($D9,料理一覧!$A$3:$N$20000,3,FALSE),\"\")","v":0},{"$f":"IFERROR(VLOOKUP($E9,料理一覧!$A$3:$N$20000,3,FALSE),\"\")","v":0},{"$f":"+'月間献立（幼児）'!L10","v":0},{"$f":"+'月間献立（幼児）'!M10","v":0},{"$f":"+'月間献立（幼児）'!N10","v":0},{"$f":"+'月間献立（幼児）'!O10","v":0},{"$f":"+'月間献立（幼児）'!P10","v":0},{"$f":"+'月間献立（幼児）'!Q10","v":0},{"$f":"+'月間献立（幼児）'!R10","v":0},{"$f":"+'月間献立（幼児）'!S10","v":0},{"$f":"+'月間献立（幼児）'!T10","v":0},0,0,0,0,0,0,0,0,0,0,0,{"$f":"IFERROR(VLOOKUP($C9,料理一覧!$A$3:$N$20000,4,FALSE),\"0\")","v":0},{"$f":"IFERROR(VLOOKUP($C9,料理一覧!$A$3:$N$20000,5,FALSE),\"0\")","v":0},{"$f":"IFERROR(VLOOKUP($C9,料理一覧!$A$3:$N$20000,6,FALSE),\"0\")","v":0},{"$f":"IFERROR(VLOOKUP($C9,料理一覧!$A$3:$N$20000,7,FALSE),\"0\")","v":0},{"$f":"IFERROR(VLOOKUP($C9,料理一覧!$A$3:$N$20000,8,FALSE),\"0\")","v":0},{"$f":"IFERROR(VLOOKUP($C9,料理一覧!$A$3:$N$20000,9,FALSE),\"0\")","v":0},{"$f":"IFERROR(VLOOKUP($C9,料理一覧!$A$3:$N$20000,10,FALSE),\"0\")","v":0},{"$f":"IFERROR(VLOOKUP($C9,料理一覧!$A$3:$N$20000,11,FALSE),\"0\")","v":0},{"$f":"IFERROR(VLOOKUP($C9,料理一覧!$A$3:$N$20000,12,FALSE),\"0\")","v":0},{"$f":"IFERROR(VLOOKUP($C9,料理一覧!$A$3:$N$20000,13,FALSE),\"0\")","v":0},{"$f":"IFERROR(VLOOKUP($C9,料理一覧!$A$3:$N$20000,14,FALSE),\"0\")","v":0},{"$f":"IFERROR(VLOOKUP($D9,料理一覧!$A$3:$N$20000,4,FALSE),\"0\")","v":0},{"$f":"IFERROR(VLOOKUP($D9,料理一覧!$A$3:$N$20000,5,FALSE),\"0\")","v":0},{"$f":"IFERROR(VLOOKUP($D9,料理一覧!$A$3:$N$20000,6,FALSE),\"0\")","v":0},{"$f":"IFERROR(VLOOKUP($D9,料理一覧!$A$3:$N$20000,7,FALSE),\"0\")","v":0},{"$f":"IFERROR(VLOOKUP($D9,料理一覧!$A$3:$N$20000,8,FALSE),\"0\")","v":0},{"$f":"IFERROR(VLOOKUP($D9,料理一覧!$A$3:$N$20000,9,FALSE),\"0\")","v":0},{"$f":"IFERROR(VLOOKUP($D9,料理一覧!$A$3:$N$20000,10,FALSE),\"0\")","v":0},{"$f":"IFERROR(VLOOKUP($D9,料理一覧!$A$3:$N$20000,11,FALSE),\"0\")","v":0},{"$f":"IFERROR(VLOOKUP($D9,料理一覧!$A$3:$N$20000,12,FALSE),\"0\")","v":0},{"$f":"IFERROR(VLOOKUP($D9,料理一覧!$A$3:$N$20000,13,FALSE),\"0\")","v":0},{"$f":"IFERROR(VLOOKUP($D9,料理一覧!$A$3:$N$20000,14,FALSE),\"0\")","v":0},{"$f":"IFERROR(VLOOKUP($E9,料理一覧!$A$3:$N$20000,4,FALSE),\"0\")","v":0},{"$f":"IFERROR(VLOOKUP($E9,料理一覧!$A$3:$N$20000,5,FALSE),\"0\")","v":0},{"$f":"IFERROR(VLOOKUP($E9,料理一覧!$A$3:$N$20000,6,FALSE),\"0\")","v":0},{"$f":"IFERROR(VLOOKUP($E9,料理一覧!$A$3:$N$20000,7,FALSE),\"0\")","v":0},{"$f":"IFERROR(VLOOKUP($E9,料理一覧!$A$3:$N$20000,8,FALSE),\"0\")","v":0},{"$f":"IFERROR(VLOOKUP($E9,料理一覧!$A$3:$N$20000,9,FALSE),\"0\")","v":0},{"$f":"IFERROR(VLOOKUP($E9,料理一覧!$A$3:$N$20000,10,FALSE),\"0\")","v":0},{"$f":"IFERROR(VLOOKUP($E9,料理一覧!$A$3:$N$20000,11,FALSE),\"0\")","v":0},{"$f":"IFERROR(VLOOKUP($E9,料理一覧!$A$3:$N$20000,12,FALSE),\"0\")","v":0},{"$f":"IFERROR(VLOOKUP($E9,料理一覧!$A$3:$N$20000,13,FALSE),\"0\")","v":0},{"$f":"IFERROR(VLOOKUP($E9,料理一覧!$A$3:$N$20000,14,FALSE),\"0\")","v":0},0,0,0,0,0,0,0,0,0,0,0,{"$f":"SUM(BS9+'月間献立（幼児）'!$U10*('月間献立（乳児）'!P$36*0.01))","v":0},{"$f":"SUM(BT9+'月間献立（幼児）'!$V10*('月間献立（乳児）'!P$36*0.01))","v":0},{"$f":"SUM(BU9+'月間献立（幼児）'!$W10*('月間献立（乳児）'!P$36*0.01))","v":0},{"$f":"SUM(BV9+'月間献立（幼児）'!$X10*('月間献立（乳児）'!P$36*0.01))","v":0},{"$f":"SUM(BW9+'月間献立（幼児）'!$Y10*('月間献立（乳児）'!P$36*0.01))","v":0},{"$f":"SUM(BX9+'月間献立（幼児）'!$Z10*('月間献立（乳児）'!P$36*0.01))","v":0},{"$f":"SUM(BY9+'月間献立（幼児）'!$AA10*('月間献立（乳児）'!P$36*0.01))","v":0},{"$f":"SUM(BZ9+'月間献立（幼児）'!$AB10*('月間献立（乳児）'!P$36*0.01))","v":0},{"$f":"SUM(CA9+'月間献立（幼児）'!$AC10*('月間献立（乳児）'!P$36*0.01))","v":0},{"$f":"SUM(CB9+'月間献立（幼児）'!$AD10*('月間献立（乳児）'!P$36*0.01))","v":0},{"$f":"SUM(CC9+'月間献立（幼児）'!$AE10*('月間献立（乳児）'!P$36*0.01))","v":0}]
[{"$f":"+'月間献立（幼児）'!A11","v":7},{"$f":"+'月間献立（幼児）'!B11","v":"(金)"},null,null,null,{"$f":"+'月間献立（幼児）'!C11","v":0},{"$f":"+'月間献立（幼児）'!D11","v":0},{"$f":"+'月間献立（幼児）'!E11","v":0},{"$f":"+'月間献立（幼児）'!F11","v":0},{"$f":"+'月間献立（幼児）'!G11","v":0},{"$f":"+'月間献立（幼児）'!H11","v":0},{"$f":"+'月間献立（幼児）'!I11","v":0},{"$f":"+'月間献立（幼児）'!J11","v":0},{"$f":"+'月間献立（幼児）'!K11","v":0},{"$f":"IFERROR(VLOOKUP($C10,料理一覧!$A$3:$N$20000,3,FALSE),\"\")","v":0},{"$f":"IFERROR(VLOOKUP($D10,料理一覧!$A$3:$N$20000,3,FALSE),\"\")","v":0},{"$f":"IFERROR(VLOOKUP($E10,料理一覧!$A$3:$N$20000,3,FALSE),\"\")","v":0},{"$f":"+'月間献立（幼児）'!L11","v":0},{"$f":"+'月間献立（幼児）'!M11","v":0},{"$f":"+'月間献立（幼児）'!N11","v":0},{"$f":"+'月間献立（幼児）'!O11","v":0},{"$f":"+'月間献立（幼児）'!P11","v":0},{"$f":"+'月間献立（幼児）'!Q11","v":0},{"$f":"+'月間献立（幼児）'!R11","v":0},{"$f":"+'月間献立（幼児）'!S11","v":0},{"$f":"+'月間献立（幼児）'!T11","v":0},0,0,0,0,0,0,0,0,0,0,0,{"$f":"IFERROR(VLOOKUP($C10,料理一覧!$A$3:$N$20000,4,FALSE),\"0\")","v":0},{"$f":"IFERROR(VLOOKUP($C10,料理一覧!$A$3:$N$20000,5,FALSE),\"0\")","v":0},{"$f":"IFERROR(VLOOKUP($C10,料理一覧!$A$3:$N$20000,6,FALSE),\"0\")","v":0},{"$f":"IFERROR(VLOOKUP($C10,料理一覧!$A$3:$N$20000,7,FALSE),\"0\")","v":0},{"$f":"IFERROR(VLOOKUP($C10,料理一覧!$A$3:$N$20000,8,FALSE),\"0\")","v":0},{"$f":"IFERROR(VLOOKUP($C10,料理一覧!$A$3:$N$20000,9,FALSE),\"0\")","v":0},{"$f":"IFERROR(VLOOKUP($C10,料理一覧!$A$3:$N$20000,10,FALSE),\"0\")","v":0},{"$f":"IFERROR(VLOOKUP($C10,料理一覧!$A$3:$N$20000,11,FALSE),\"0\")","v":0},{"$f":"IFERROR(VLOOKUP($C10,料理一覧!$A$3:$N$20000,12,FALSE),\"0\")","v":0},{"$f":"IFERROR(VLOOKUP($C10,料理一覧!$A$3:$N$20000,13,FALSE),\"0\")","v":0},{"$f":"IFERROR(VLOOKUP($C10,料理一覧!$A$3:$N$20000,14,FALSE),\"0\")","v":0},{"$f":"IFERROR(VLOOKUP($D10,料理一覧!$A$3:$N$20000,4,FALSE),\"0\")","v":0},{"$f":"IFERROR(VLOOKUP($D10,料理一覧!$A$3:$N$20000,5,FALSE),\"0\")","v":0},{"$f":"IFERROR(VLOOKUP($D10,料理一覧!$A$3:$N$20000,6,FALSE),\"0\")","v":0},{"$f":"IFERROR(VLOOKUP($D10,料理一覧!$A$3:$N$20000,7,FALSE),\"0\")","v":0},{"$f":"IFERROR(VLOOKUP($D10,料理一覧!$A$3:$N$20000,8,FALSE),\"0\")","v":0},{"$f":"IFERROR(VLOOKUP($D10,料理一覧!$A$3:$N$20000,9,FALSE),\"0\")","v":0},{"$f":"IFERROR(VLOOKUP($D10,料理一覧!$A$3:$N$20000,10,FALSE),\"0\")","v":0},{"$f":"IFERROR(VLOOKUP($D10,料理一覧!$A$3:$N$20000,11,FALSE),\"0\")","v":0},{"$f":"IFERROR(VLOOKUP($D10,料理一覧!$A$3:$N$20000,12,FALSE),\"0\")","v":0},{"$f":"IFERROR(VLOOKUP($D10,料理一覧!$A$3:$N$20000,13,FALSE),\"0\")","v":0},{"$f":"IFERROR(VLOOKUP($D10,料理一覧!$A$3:$N$20000,14,FALSE),\"0\")","v":0},{"$f":"IFERROR(VLOOKUP($E10,料理一覧!$A$3:$N$20000,4,FALSE),\"0\")","v":0},{"$f":"IFERROR(VLOOKUP($E10,料理一覧!$A$3:$N$20000,5,FALSE),\"0\")","v":0},{"$f":"IFERROR(VLOOKUP($E10,料理一覧!$A$3:$N$20000,6,FALSE),\"0\")","v":0},{"$f":"IFERROR(VLOOKUP($E10,料理一覧!$A$3:$N$20000,7,FALSE),\"0\")","v":0},{"$f":"IFERROR(VLOOKUP($E10,料理一覧!$A$3:$N$20000,8,FALSE),\"0\")","v":0},{"$f":"IFERROR(VLOOKUP($E10,料理一覧!$A$3:$N$20000,9,FALSE),\"0\")","v":0},{"$f":"IFERROR(VLOOKUP($E10,料理一覧!$A$3:$N$20000,10,FALSE),\"0\")","v":0},{"$f":"IFERROR(VLOOKUP($E10,料理一覧!$A$3:$N$20000,11,FALSE),\"0\")","v":0},{"$f":"IFERROR(VLOOKUP($E10,料理一覧!$A$3:$N$20000,12,FALSE),\"0\")","v":0},{"$f":"IFERROR(VLOOKUP($E10,料理一覧!$A$3:$N$20000,13,FALSE),\"0\")","v":0},{"$f":"IFERROR(VLOOKUP($E10,料理一覧!$A$3:$N$20000,14,FALSE),\"0\")","v":0},0,0,0,0,0,0,0,0,0,0,0,{"$f":"SUM(BS10+'月間献立（幼児）'!$U11*('月間献立（乳児）'!P$36*0.01))","v":0},{"$f":"SUM(BT10+'月間献立（幼児）'!$V11*('月間献立（乳児）'!P$36*0.01))","v":0},{"$f":"SUM(BU10+'月間献立（幼児）'!$W11*('月間献立（乳児）'!P$36*0.01))","v":0},{"$f":"SUM(BV10+'月間献立（幼児）'!$X11*('月間献立（乳児）'!P$36*0.01))","v":0},{"$f":"SUM(BW10+'月間献立（幼児）'!$Y11*('月間献立（乳児）'!P$36*0.01))","v":0},{"$f":"SUM(BX10+'月間献立（幼児）'!$Z11*('月間献立（乳児）'!P$36*0.01))","v":0},{"$f":"SUM(BY10+'月間献立（幼児）'!$AA11*('月間献立（乳児）'!P$36*0.01))","v":0},{"$f":"SUM(BZ10+'月間献立（幼児）'!$AB11*('月間献立（乳児）'!P$36*0.01))","v":0},{"$f":"SUM(CA10+'月間献立（幼児）'!$AC11*('月間献立（乳児）'!P$36*0.01))","v":0},{"$f":"SUM(CB10+'月間献立（幼児）'!$AD11*('月間献立（乳児）'!P$36*0.01))","v":0},{"$f":"SUM(CC10+'月間献立（幼児）'!$AE11*('月間献立（乳児）'!P$36*0.01))","v":0}]
[{"$f":"+'月間献立（幼児）'!A12","v":8},{"$f":"+'月間献立（幼児）'!B12","v":"(土)"},null,null,null,{"$f":"+'月間献立（幼児）'!C12","v":0},{"$f":"+'月間献立（幼児）'!D12","v":0},{"$f":"+'月間献立（幼児）'!E12","v":0},{"$f":"+'月間献立（幼児）'!F12","v":0},{"$f":"+'月間献立（幼児）'!G12","v":0},{"$f":"+'月間献立（幼児）'!H12","v":0},{"$f":"+'月間献立（幼児）'!I12","v":0},{"$f":"+'月間献立（幼児）'!J12","v":0},{"$f":"+'月間献立（幼児）'!K12","v":0},{"$f":"IFERROR(VLOOKUP($C11,料理一覧!$A$3:$N$20000,3,FALSE),\"\")","v":0},{"$f":"IFERROR(VLOOKUP($D11,料理一覧!$A$3:$N$20000,3,FALSE),\"\")","v":0},{"$f":"IFERROR(VLOOKUP($E11,料理一覧!$A$3:$N$20000,3,FALSE),\"\")","v":0},{"$f":"+'月間献立（幼児）'!L12","v":0},{"$f":"+'月間献立（幼児）'!M12","v":0},{"$f":"+'月間献立（幼児）'!N12","v":0},{"$f":"+'月間献立（幼児）'!O12","v":0},{"$f":"+'月間献立（幼児）'!P12","v":0},{"$f":"+'月間献立（幼児）'!Q12","v":0},{"$f":"+'月間献立（幼児）'!R12","v":0},{"$f":"+'月間献立（幼児）'!S12","v":0},{"$f":"+'月間献立（幼児）'!T12","v":0},0,0,0,0,0,0,0,0,0,0,0,{"$f":"IFERROR(VLOOKUP($C11,料理一覧!$A$3:$N$20000,4,FALSE),\"0\")","v":0},{"$f":"IFERROR(VLOOKUP($C11,料理一覧!$A$3:$N$20000,5,FALSE),\"0\")","v":0},{"$f":"IFERROR(VLOOKUP($C11,料理一覧!$A$3:$N$20000,6,FALSE),\"0\")","v":0},{"$f":"IFERROR(VLOOKUP($C11,料理一覧!$A$3:$N$20000,7,FALSE),\"0\")","v":0},{"$f":"IFERROR(VLOOKUP($C11,料理一覧!$A$3:$N$20000,8,FALSE),\"0\")","v":0},{"$f":"IFERROR(VLOOKUP($C11,料理一覧!$A$3:$N$20000,9,FALSE),\"0\")","v":0},{"$f":"IFERROR(VLOOKUP($C11,料理一覧!$A$3:$N$20000,10,FALSE),\"0\")","v":0},{"$f":"IFERROR(VLOOKUP($C11,料理一覧!$A$3:$N$20000,11,FALSE),\"0\")","v":0},{"$f":"IFERROR(VLOOKUP($C11,料理一覧!$A$3:$N$20000,12,FALSE),\"0\")","v":0},{"$f":"IFERROR(VLOOKUP($C11,料理一覧!$A$3:$N$20000,13,FALSE),\"0\")","v":0},{"$f":"IFERROR(VLOOKUP($C11,料理一覧!$A$3:$N$20000,14,FALSE),\"0\")","v":0},{"$f":"IFERROR(VLOOKUP($D11,料理一覧!$A$3:$N$20000,4,FALSE),\"0\")","v":0},{"$f":"IFERROR(VLOOKUP($D11,料理一覧!$A$3:$N$20000,5,FALSE),\"0\")","v":0},{"$f":"IFERROR(VLOOKUP($D11,料理一覧!$A$3:$N$20000,6,FALSE),\"0\")","v":0},{"$f":"IFERROR(VLOOKUP($D11,料理一覧!$A$3:$N$20000,7,FALSE),\"0\")","v":0},{"$f":"IFERROR(VLOOKUP($D11,料理一覧!$A$3:$N$20000,8,FALSE),\"0\")","v":0},{"$f":"IFERROR(VLOOKUP($D11,料理一覧!$A$3:$N$20000,9,FALSE),\"0\")","v":0},{"$f":"IFERROR(VLOOKUP($D11,料理一覧!$A$3:$N$20000,10,FALSE),\"0\")","v":0},{"$f":"IFERROR(VLOOKUP($D11,料理一覧!$A$3:$N$20000,11,FALSE),\"0\")","v":0},{"$f":"IFERROR(VLOOKUP($D11,料理一覧!$A$3:$N$20000,12,FALSE),\"0\")","v":0},{"$f":"IFERROR(VLOOKUP($D11,料理一覧!$A$3:$N$20000,13,FALSE),\"0\")","v":0},{"$f":"IFERROR(VLOOKUP($D11,料理一覧!$A$3:$N$20000,14,FALSE),\"0\")","v":0},{"$f":"IFERROR(VLOOKUP($E11,料理一覧!$A$3:$N$20000,4,FALSE),\"0\")","v":0},{"$f":"IFERROR(VLOOKUP($E11,料理一覧!$A$3:$N$20000,5,FALSE),\"0\")","v":0},{"$f":"IFERROR(VLOOKUP($E11,料理一覧!$A$3:$N$20000,6,FALSE),\"0\")","v":0},{"$f":"IFERROR(VLOOKUP($E11,料理一覧!$A$3:$N$20000,7,FALSE),\"0\")","v":0},{"$f":"IFERROR(VLOOKUP($E11,料理一覧!$A$3:$N$20000,8,FALSE),\"0\")","v":0},{"$f":"IFERROR(VLOOKUP($E11,料理一覧!$A$3:$N$20000,9,FALSE),\"0\")","v":0},{"$f":"IFERROR(VLOOKUP($E11,料理一覧!$A$3:$N$20000,10,FALSE),\"0\")","v":0},{"$f":"IFERROR(VLOOKUP($E11,料理一覧!$A$3:$N$20000,11,FALSE),\"0\")","v":0},{"$f":"IFERROR(VLOOKUP($E11,料理一覧!$A$3:$N$20000,12,FALSE),\"0\")","v":0},{"$f":"IFERROR(VLOOKUP($E11,料理一覧!$A$3:$N$20000,13,FALSE),\"0\")","v":0},{"$f":"IFERROR(VLOOKUP($E11,料理一覧!$A$3:$N$20000,14,FALSE),\"0\")","v":0},0,0,0,0,0,0,0,0,0,0,0,{"$f":"SUM(BS11+'月間献立（幼児）'!$U12*('月間献立（乳児）'!P$36*0.01))","v":0},{"$f":"SUM(BT11+'月間献立（幼児）'!$V12*('月間献立（乳児）'!P$36*0.01))","v":0},{"$f":"SUM(BU11+'月間献立（幼児）'!$W12*('月間献立（乳児）'!P$36*0.01))","v":0},{"$f":"SUM(BV11+'月間献立（幼児）'!$X12*('月間献立（乳児）'!P$36*0.01))","v":0},{"$f":"SUM(BW11+'月間献立（幼児）'!$Y12*('月間献立（乳児）'!P$36*0.01))","v":0},{"$f":"SUM(BX11+'月間献立（幼児）'!$Z12*('月間献立（乳児）'!P$36*0.01))","v":0},{"$f":"SUM(BY11+'月間献立（幼児）'!$AA12*('月間献立（乳児）'!P$36*0.01))","v":0},{"$f":"SUM(BZ11+'月間献立（幼児）'!$AB12*('月間献立（乳児）'!P$36*0.01))","v":0},{"$f":"SUM(CA11+'月間献立（幼児）'!$AC12*('月間献立（乳児）'!P$36*0.01))","v":0},{"$f":"SUM(CB11+'月間献立（幼児）'!$AD12*('月間献立（乳児）'!P$36*0.01))","v":0},{"$f":"SUM(CC11+'月間献立（幼児）'!$AE12*('月間献立（乳児）'!P$36*0.01))","v":0}]
[{"$f":"+'月間献立（幼児）'!A13","v":9},{"$f":"+'月間献立（幼児）'!B13","v":"(日)"},null,null,null,{"$f":"+'月間献立（幼児）'!C13","v":0},{"$f":"+'月間献立（幼児）'!D13","v":0},{"$f":"+'月間献立（幼児）'!E13","v":0},{"$f":"+'月間献立（幼児）'!F13","v":0},{"$f":"+'月間献立（幼児）'!G13","v":0},{"$f":"+'月間献立（幼児）'!H13","v":0},{"$f":"+'月間献立（幼児）'!I13","v":0},{"$f":"+'月間献立（幼児）'!J13","v":0},{"$f":"+'月間献立（幼児）'!K13","v":0},{"$f":"IFERROR(VLOOKUP($C12,料理一覧!$A$3:$N$20000,3,FALSE),\"\")","v":0},{"$f":"IFERROR(VLOOKUP($D12,料理一覧!$A$3:$N$20000,3,FALSE),\"\")","v":0},{"$f":"IFERROR(VLOOKUP($E12,料理一覧!$A$3:$N$20000,3,FALSE),\"\")","v":0},{"$f":"+'月間献立（幼児）'!L13","v":0},{"$f":"+'月間献立（幼児）'!M13","v":0},{"$f":"+'月間献立（幼児）'!N13","v":0},{"$f":"+'月間献立（幼児）'!O13","v":0},{"$f":"+'月間献立（幼児）'!P13","v":0},{"$f":"+'月間献立（幼児）'!Q13","v":0},{"$f":"+'月間献立（幼児）'!R13","v":0},{"$f":"+'月間献立（幼児）'!S13","v":0},{"$f":"+'月間献立（幼児）'!T13","v":0},0,0,0,0,0,0,0,0,0,0,0,{"$f":"IFERROR(VLOOKUP($C12,料理一覧!$A$3:$N$20000,4,FALSE),\"0\")","v":0},{"$f":"IFERROR(VLOOKUP($C12,料理一覧!$A$3:$N$20000,5,FALSE),\"0\")","v":0},{"$f":"IFERROR(VLOOKUP($C12,料理一覧!$A$3:$N$20000,6,FALSE),\"0\")","v":0},{"$f":"IFERROR(VLOOKUP($C12,料理一覧!$A$3:$N$20000,7,FALSE),\"0\")","v":0},{"$f":"IFERROR(VLOOKUP($C12,料理一覧!$A$3:$N$20000,8,FALSE),\"0\")","v":0},{"$f":"IFERROR(VLOOKUP($C12,料理一覧!$A$3:$N$20000,9,FALSE),\"0\")","v":0},{"$f":"IFERROR(VLOOKUP($C12,料理一覧!$A$3:$N$20000,10,FALSE),\"0\")","v":0},{"$f":"IFERROR(VLOOKUP($C12,料理一覧!$A$3:$N$20000,11,FALSE),\"0\")","v":0},{"$f":"IFERROR(VLOOKUP($C12,料理一覧!$A$3:$N$20000,12,FALSE),\"0\")","v":0},{"$f":"IFERROR(VLOOKUP($C12,料理一覧!$A$3:$N$20000,13,FALSE),\"0\")","v":0},{"$f":"IFERROR(VLOOKUP($C12,料理一覧!$A$3:$N$20000,14,FALSE),\"0\")","v":0},{"$f":"IFERROR(VLOOKUP($D12,料理一覧!$A$3:$N$20000,4,FALSE),\"0\")","v":0},{"$f":"IFERROR(VLOOKUP($D12,料理一覧!$A$3:$N$20000,5,FALSE),\"0\")","v":0},{"$f":"IFERROR(VLOOKUP($D12,料理一覧!$A$3:$N$20000,6,FALSE),\"0\")","v":0},{"$f":"IFERROR(VLOOKUP($D12,料理一覧!$A$3:$N$20000,7,FALSE),\"0\")","v":0},{"$f":"IFERROR(VLOOKUP($D12,料理一覧!$A$3:$N$20000,8,FALSE),\"0\")","v":0},{"$f":"IFERROR(VLOOKUP($D12,料理一覧!$A$3:$N$20000,9,FALSE),\"0\")","v":0},{"$f":"IFERROR(VLOOKUP($D12,料理一覧!$A$3:$N$20000,10,FALSE),\"0\")","v":0},{"$f":"IFERROR(VLOOKUP($D12,料理一覧!$A$3:$N$20000,11,FALSE),\"0\")","v":0},{"$f":"IFERROR(VLOOKUP($D12,料理一覧!$A$3:$N$20000,12,FALSE),\"0\")","v":0},{"$f":"IFERROR(VLOOKUP($D12,料理一覧!$A$3:$N$20000,13,FALSE),\"0\")","v":0},{"$f":"IFERROR(VLOOKUP($D12,料理一覧!$A$3:$N$20000,14,FALSE),\"0\")","v":0},{"$f":"IFERROR(VLOOKUP($E12,料理一覧!$A$3:$N$20000,4,FALSE),\"0\")","v":0},{"$f":"IFERROR(VLOOKUP($E12,料理一覧!$A$3:$N$20000,5,FALSE),\"0\")","v":0},{"$f":"IFERROR(VLOOKUP($E12,料理一覧!$A$3:$N$20000,6,FALSE),\"0\")","v":0},{"$f":"IFERROR(VLOOKUP($E12,料理一覧!$A$3:$N$20000,7,FALSE),\"0\")","v":0},{"$f":"IFERROR(VLOOKUP($E12,料理一覧!$A$3:$N$20000,8,FALSE),\"0\")","v":0},{"$f":"IFERROR(VLOOKUP($E12,料理一覧!$A$3:$N$20000,9,FALSE),\"0\")","v":0},{"$f":"IFERROR(VLOOKUP($E12,料理一覧!$A$3:$N$20000,10,FALSE),\"0\")","v":0},{"$f":"IFERROR(VLOOKUP($E12,料理一覧!$A$3:$N$20000,11,FALSE),\"0\")","v":0},{"$f":"IFERROR(VLOOKUP($E12,料理一覧!$A$3:$N$20000,12,FALSE),\"0\")","v":0},{"$f":"IFERROR(VLOOKUP($E12,料理一覧!$A$3:$N$20000,13,FALSE),\"0\")","v":0},{"$f":"IFERROR(VLOOKUP($E12,料理一覧!$A$3:$N$20000,14,FALSE),\"0\")","v":0},0,0,0,0,0,0,0,0,0,0,0,{"$f":"SUM(BS12+'月間献立（幼児）'!$U13*('月間献立（乳児）'!P$36*0.01))","v":0},{"$f":"SUM(BT12+'月間献立（幼児）'!$V13*('月間献立（乳児）'!P$36*0.01))","v":0},{"$f":"SUM(BU12+'月間献立（幼児）'!$W13*('月間献立（乳児）'!P$36*0.01))","v":0},{"$f":"SUM(BV12+'月間献立（幼児）'!$X13*('月間献立（乳児）'!P$36*0.01))","v":0},{"$f":"SUM(BW12+'月間献立（幼児）'!$Y13*('月間献立（乳児）'!P$36*0.01))","v":0},{"$f":"SUM(BX12+'月間献立（幼児）'!$Z13*('月間献立（乳児）'!P$36*0.01))","v":0},{"$f":"SUM(BY12+'月間献立（幼児）'!$AA13*('月間献立（乳児）'!P$36*0.01))","v":0},{"$f":"SUM(BZ12+'月間献立（幼児）'!$AB13*('月間献立（乳児）'!P$36*0.01))","v":0},{"$f":"SUM(CA12+'月間献立（幼児）'!$AC13*('月間献立（乳児）'!P$36*0.01))","v":0},{"$f":"SUM(CB12+'月間献立（幼児）'!$AD13*('月間献立（乳児）'!P$36*0.01))","v":0},{"$f":"SUM(CC12+'月間献立（幼児）'!$AE13*('月間献立（乳児）'!P$36*0.01))","v":0}]
[{"$f":"+'月間献立（幼児）'!A14","v":10},{"$f":"+'月間献立（幼児）'!B14","v":"(月)"},null,null,null,{"$f":"+'月間献立（幼児）'!C14","v":0},{"$f":"+'月間献立（幼児）'!D14","v":0},{"$f":"+'月間献立（幼児）'!E14","v":0},{"$f":"+'月間献立（幼児）'!F14","v":0},{"$f":"+'月間献立（幼児）'!G14","v":0},{"$f":"+'月間献立（幼児）'!H14","v":0},{"$f":"+'月間献立（幼児）'!I14","v":0},{"$f":"+'月間献立（幼児）'!J14","v":0},{"$f":"+'月間献立（幼児）'!K14","v":0},{"$f":"IFERROR(VLOOKUP($C13,料理一覧!$A$3:$N$20000,3,FALSE),\"\")","v":0},{"$f":"IFERROR(VLOOKUP($D13,料理一覧!$A$3:$N$20000,3,FALSE),\"\")","v":0},{"$f":"IFERROR(VLOOKUP($E13,料理一覧!$A$3:$N$20000,3,FALSE),\"\")","v":0},{"$f":"+'月間献立（幼児）'!L14","v":0},{"$f":"+'月間献立（幼児）'!M14","v":0},{"$f":"+'月間献立（幼児）'!N14","v":0},{"$f":"+'月間献立（幼児）'!O14","v":0},{"$f":"+'月間献立（幼児）'!P14","v":0},{"$f":"+'月間献立（幼児）'!Q14","v":0},{"$f":"+'月間献立（幼児）'!R14","v":0},{"$f":"+'月間献立（幼児）'!S14","v":0},{"$f":"+'月間献立（幼児）'!T14","v":0},0,0,0,0,0,0,0,0,0,0,0,{"$f":"IFERROR(VLOOKUP($C13,料理一覧!$A$3:$N$20000,4,FALSE),\"0\")","v":0},{"$f":"IFERROR(VLOOKUP($C13,料理一覧!$A$3:$N$20000,5,FALSE),\"0\")","v":0},{"$f":"IFERROR(VLOOKUP($C13,料理一覧!$A$3:$N$20000,6,FALSE),\"0\")","v":0},{"$f":"IFERROR(VLOOKUP($C13,料理一覧!$A$3:$N$20000,7,FALSE),\"0\")","v":0},{"$f":"IFERROR(VLOOKUP($C13,料理一覧!$A$3:$N$20000,8,FALSE),\"0\")","v":0},{"$f":"IFERROR(VLOOKUP($C13,料理一覧!$A$3:$N$20000,9,FALSE),\"0\")","v":0},{"$f":"IFERROR(VLOOKUP($C13,料理一覧!$A$3:$N$20000,10,FALSE),\"0\")","v":0},{"$f":"IFERROR(VLOOKUP($C13,料理一覧!$A$3:$N$20000,11,FALSE),\"0\")","v":0},{"$f":"IFERROR(VLOOKUP($C13,料理一覧!$A$3:$N$20000,12,FALSE),\"0\")","v":0},{"$f":"IFERROR(VLOOKUP($C13,料理一覧!$A$3:$N$20000,13,FALSE),\"0\")","v":0},{"$f":"IFERROR(VLOOKUP($C13,料理一覧!$A$3:$N$20000,14,FALSE),\"0\")","v":0},{"$f":"IFERROR(VLOOKUP($D13,料理一覧!$A$3:$N$20000,4,FALSE),\"0\")","v":0},{"$f":"IFERROR(VLOOKUP($D13,料理一覧!$A$3:$N$20000,5,FALSE),\"0\")","v":0},{"$f":"IFERROR(VLOOKUP($D13,料理一覧!$A$3:$N$20000,6,FALSE),\"0\")","v":0},{"$f":"IFERROR(VLOOKUP($D13,料理一覧!$A$3:$N$20000,7,FALSE),\"0\")","v":0},{"$f":"IFERROR(VLOOKUP($D13,料理一覧!$A$3:$N$20000,8,FALSE),\"0\")","v":0},{"$f":"IFERROR(VLOOKUP($D13,料理一覧!$A$3:$N$20000,9,FALSE),\"0\")","v":0},{"$f":"IFERROR(VLOOKUP($D13,料理一覧!$A$3:$N$20000,10,FALSE),\"0\")","v":0},{"$f":"IFERROR(VLOOKUP($D13,料理一覧!$A$3:$N$20000,11,FALSE),\"0\")","v":0},{"$f":"IFERROR(VLOOKUP($D13,料理一覧!$A$3:$N$20000,12,FALSE),\"0\")","v":0},{"$f":"IFERROR(VLOOKUP($D13,料理一覧!$A$3:$N$20000,13,FALSE),\"0\")","v":0},{"$f":"IFERROR(VLOOKUP($D13,料理一覧!$A$3:$N$20000,14,FALSE),\"0\")","v":0},{"$f":"IFERROR(VLOOKUP($E13,料理一覧!$A$3:$N$20000,4,FALSE),\"0\")","v":0},{"$f":"IFERROR(VLOOKUP($E13,料理一覧!$A$3:$N$20000,5,FALSE),\"0\")","v":0},{"$f":"IFERROR(VLOOKUP($E13,料理一覧!$A$3:$N$20000,6,FALSE),\"0\")","v":0},{"$f":"IFERROR(VLOOKUP($E13,料理一覧!$A$3:$N$20000,7,FALSE),\"0\")","v":0},{"$f":"IFERROR(VLOOKUP($E13,料理一覧!$A$3:$N$20000,8,FALSE),\"0\")","v":0},{"$f":"IFERROR(VLOOKUP($E13,料理一覧!$A$3:$N$20000,9,FALSE),\"0\")","v":0},{"$f":"IFERROR(VLOOKUP($E13,料理一覧!$A$3:$N$20000,10,FALSE),\"0\")","v":0},{"$f":"IFERROR(VLOOKUP($E13,料理一覧!$A$3:$N$20000,11,FALSE),\"0\")","v":0},{"$f":"IFERROR(VLOOKUP($E13,料理一覧!$A$3:$N$20000,12,FALSE),\"0\")","v":0},{"$f":"IFERROR(VLOOKUP($E13,料理一覧!$A$3:$N$20000,13,FALSE),\"0\")","v":0},{"$f":"IFERROR(VLOOKUP($E13,料理一覧!$A$3:$N$20000,14,FALSE),\"0\")","v":0},0,0,0,0,0,0,0,0,0,0,0,{"$f":"SUM(BS13+'月間献立（幼児）'!$U14*('月間献立（乳児）'!P$36*0.01))","v":0},{"$f":"SUM(BT13+'月間献立（幼児）'!$V14*('月間献立（乳児）'!P$36*0.01))","v":0},{"$f":"SUM(BU13+'月間献立（幼児）'!$W14*('月間献立（乳児）'!P$36*0.01))","v":0},{"$f":"SUM(BV13+'月間献立（幼児）'!$X14*('月間献立（乳児）'!P$36*0.01))","v":0},{"$f":"SUM(BW13+'月間献立（幼児）'!$Y14*('月間献立（乳児）'!P$36*0.01))","v":0},{"$f":"SUM(BX13+'月間献立（幼児）'!$Z14*('月間献立（乳児）'!P$36*0.01))","v":0},{"$f":"SUM(BY13+'月間献立（幼児）'!$AA14*('月間献立（乳児）'!P$36*0.01))","v":0},{"$f":"SUM(BZ13+'月間献立（幼児）'!$AB14*('月間献立（乳児）'!P$36*0.01))","v":0},{"$f":"SUM(CA13+'月間献立（幼児）'!$AC14*('月間献立（乳児）'!P$36*0.01))","v":0},{"$f":"SUM(CB13+'月間献立（幼児）'!$AD14*('月間献立（乳児）'!P$36*0.01))","v":0},{"$f":"SUM(CC13+'月間献立（幼児）'!$AE14*('月間献立（乳児）'!P$36*0.01))","v":0}]
[{"$f":"+'月間献立（幼児）'!A15","v":11},{"$f":"+'月間献立（幼児）'!B15","v":"(火)"},null,null,null,{"$f":"+'月間献立（幼児）'!C15","v":0},{"$f":"+'月間献立（幼児）'!D15","v":0},{"$f":"+'月間献立（幼児）'!E15","v":0},{"$f":"+'月間献立（幼児）'!F15","v":0},{"$f":"+'月間献立（幼児）'!G15","v":0},{"$f":"+'月間献立（幼児）'!H15","v":0},{"$f":"+'月間献立（幼児）'!I15","v":0},{"$f":"+'月間献立（幼児）'!J15","v":0},{"$f":"+'月間献立（幼児）'!K15","v":0},{"$f":"IFERROR(VLOOKUP($C14,料理一覧!$A$3:$N$20000,3,FALSE),\"\")","v":0},{"$f":"IFERROR(VLOOKUP($D14,料理一覧!$A$3:$N$20000,3,FALSE),\"\")","v":0},{"$f":"IFERROR(VLOOKUP($E14,料理一覧!$A$3:$N$20000,3,FALSE),\"\")","v":0},{"$f":"+'月間献立（幼児）'!L15","v":0},{"$f":"+'月間献立（幼児）'!M15","v":0},{"$f":"+'月間献立（幼児）'!N15","v":0},{"$f":"+'月間献立（幼児）'!O15","v":0},{"$f":"+'月間献立（幼児）'!P15","v":0},{"$f":"+'月間献立（幼児）'!Q15","v":0},{"$f":"+'月間献立（幼児）'!R15","v":0},{"$f":"+'月間献立（幼児）'!S15","v":0},{"$f":"+'月間献立（幼児）'!T15","v":0},0,0,0,0,0,0,0,0,0,0,0,{"$f":"IFERROR(VLOOKUP($C14,料理一覧!$A$3:$N$20000,4,FALSE),\"0\")","v":0},{"$f":"IFERROR(VLOOKUP($C14,料理一覧!$A$3:$N$20000,5,FALSE),\"0\")","v":0},{"$f":"IFERROR(VLOOKUP($C14,料理一覧!$A$3:$N$20000,6,FALSE),\"0\")","v":0},{"$f":"IFERROR(VLOOKUP($C14,料理一覧!$A$3:$N$20000,7,FALSE),\"0\")","v":0},{"$f":"IFERROR(VLOOKUP($C14,料理一覧!$A$3:$N$20000,8,FALSE),\"0\")","v":0},{"$f":"IFERROR(VLOOKUP($C14,料理一覧!$A$3:$N$20000,9,FALSE),\"0\")","v":0},{"$f":"IFERROR(VLOOKUP($C14,料理一覧!$A$3:$N$20000,10,FALSE),\"0\")","v":0},{"$f":"IFERROR(VLOOKUP($C14,料理一覧!$A$3:$N$20000,11,FALSE),\"0\")","v":0},{"$f":"IFERROR(VLOOKUP($C14,料理一覧!$A$3:$N$20000,12,FALSE),\"0\")","v":0},{"$f":"IFERROR(VLOOKUP($C14,料理一覧!$A$3:$N$20000,13,FALSE),\"0\")","v":0},{"$f":"IFERROR(VLOOKUP($C14,料理一覧!$A$3:$N$20000,14,FALSE),\"0\")","v":0},{"$f":"IFERROR(VLOOKUP($D14,料理一覧!$A$3:$N$20000,4,FALSE),\"0\")","v":0},{"$f":"IFERROR(VLOOKUP($D14,料理一覧!$A$3:$N$20000,5,FALSE),\"0\")","v":0},{"$f":"IFERROR(VLOOKUP($D14,料理一覧!$A$3:$N$20000,6,FALSE),\"0\")","v":0},{"$f":"IFERROR(VLOOKUP($D14,料理一覧!$A$3:$N$20000,7,FALSE),\"0\")","v":0},{"$f":"IFERROR(VLOOKUP($D14,料理一覧!$A$3:$N$20000,8,FALSE),\"0\")","v":0},{"$f":"IFERROR(VLOOKUP($D14,料理一覧!$A$3:$N$20000,9,FALSE),\"0\")","v":0},{"$f":"IFERROR(VLOOKUP($D14,料理一覧!$A$3:$N$20000,10,FALSE),\"0\")","v":0},{"$f":"IFERROR(VLOOKUP($D14,料理一覧!$A$3:$N$20000,11,FALSE),\"0\")","v":0},{"$f":"IFERROR(VLOOKUP($D14,料理一覧!$A$3:$N$20000,12,FALSE),\"0\")","v":0},{"$f":"IFERROR(VLOOKUP($D14,料理一覧!$A$3:$N$20000,13,FALSE),\"0\")","v":0},{"$f":"IFERROR(VLOOKUP($D14,料理一覧!$A$3:$N$20000,14,FALSE),\"0\")","v":0},{"$f":"IFERROR(VLOOKUP($E14,料理一覧!$A$3:$N$20000,4,FALSE),\"0\")","v":0},{"$f":"IFERROR(VLOOKUP($E14,料理一覧!$A$3:$N$20000,5,FALSE),\"0\")","v":0},{"$f":"IFERROR(VLOOKUP($E14,料理一覧!$A$3:$N$20000,6,FALSE),\"0\")","v":0},{"$f":"IFERROR(VLOOKUP($E14,料理一覧!$A$3:$N$20000,7,FALSE),\"0\")","v":0},{"$f":"IFERROR(VLOOKUP($E14,料理一覧!$A$3:$N$20000,8,FALSE),\"0\")","v":0},{"$f":"IFERROR(VLOOKUP($E14,料理一覧!$A$3:$N$20000,9,FALSE),\"0\")","v":0},{"$f":"IFERROR(VLOOKUP($E14,料理一覧!$A$3:$N$20000,10,FALSE),\"0\")","v":0},{"$f":"IFERROR(VLOOKUP($E14,料理一覧!$A$3:$N$20000,11,FALSE),\"0\")","v":0},{"$f":"IFERROR(VLOOKUP($E14,料理一覧!$A$3:$N$20000,12,FALSE),\"0\")","v":0},{"$f":"IFERROR(VLOOKUP($E14,料理一覧!$A$3:$N$20000,13,FALSE),\"0\")","v":0},{"$f":"IFERROR(VLOOKUP($E14,料理一覧!$A$3:$N$20000,14,FALSE),\"0\")","v":0},0,0,0,0,0,0,0,0,0,0,0,{"$f":"SUM(BS14+'月間献立（幼児）'!$U15*('月間献立（乳児）'!P$36*0.01))","v":0},{"$f":"SUM(BT14+'月間献立（幼児）'!$V15*('月間献立（乳児）'!P$36*0.01))","v":0},{"$f":"SUM(BU14+'月間献立（幼児）'!$W15*('月間献立（乳児）'!P$36*0.01))","v":0},{"$f":"SUM(BV14+'月間献立（幼児）'!$X15*('月間献立（乳児）'!P$36*0.01))","v":0},{"$f":"SUM(BW14+'月間献立（幼児）'!$Y15*('月間献立（乳児）'!P$36*0.01))","v":0},{"$f":"SUM(BX14+'月間献立（幼児）'!$Z15*('月間献立（乳児）'!P$36*0.01))","v":0},{"$f":"SUM(BY14+'月間献立（幼児）'!$AA15*('月間献立（乳児）'!P$36*0.01))","v":0},{"$f":"SUM(BZ14+'月間献立（幼児）'!$AB15*('月間献立（乳児）'!P$36*0.01))","v":0},{"$f":"SUM(CA14+'月間献立（幼児）'!$AC15*('月間献立（乳児）'!P$36*0.01))","v":0},{"$f":"SUM(CB14+'月間献立（幼児）'!$AD15*('月間献立（乳児）'!P$36*0.01))","v":0},{"$f":"SUM(CC14+'月間献立（幼児）'!$AE15*('月間献立（乳児）'!P$36*0.01))","v":0}]
[{"$f":"+'月間献立（幼児）'!A16","v":12},{"$f":"+'月間献立（幼児）'!B16","v":"(水)"},null,null,null,{"$f":"+'月間献立（幼児）'!C16","v":0},{"$f":"+'月間献立（幼児）'!D16","v":0},{"$f":"+'月間献立（幼児）'!E16","v":0},{"$f":"+'月間献立（幼児）'!F16","v":0},{"$f":"+'月間献立（幼児）'!G16","v":0},{"$f":"+'月間献立（幼児）'!H16","v":0},{"$f":"+'月間献立（幼児）'!I16","v":0},{"$f":"+'月間献立（幼児）'!J16","v":0},{"$f":"+'月間献立（幼児）'!K16","v":0},{"$f":"IFERROR(VLOOKUP($C15,料理一覧!$A$3:$N$20000,3,FALSE),\"\")","v":0},{"$f":"IFERROR(VLOOKUP($D15,料理一覧!$A$3:$N$20000,3,FALSE),\"\")","v":0},{"$f":"IFERROR(VLOOKUP($E15,料理一覧!$A$3:$N$20000,3,FALSE),\"\")","v":0},{"$f":"+'月間献立（幼児）'!L16","v":0},{"$f":"+'月間献立（幼児）'!M16","v":0},{"$f":"+'月間献立（幼児）'!N16","v":0},{"$f":"+'月間献立（幼児）'!O16","v":0},{"$f":"+'月間献立（幼児）'!P16","v":0},{"$f":"+'月間献立（幼児）'!Q16","v":0},{"$f":"+'月間献立（幼児）'!R16","v":0},{"$f":"+'月間献立（幼児）'!S16","v":0},{"$f":"+'月間献立（幼児）'!T16","v":0},0,0,0,0,0,0,0,0,0,0,0,{"$f":"IFERROR(VLOOKUP($C15,料理一覧!$A$3:$N$20000,4,FALSE),\"0\")","v":0},{"$f":"IFERROR(VLOOKUP($C15,料理一覧!$A$3:$N$20000,5,FALSE),\"0\")","v":0},{"$f":"IFERROR(VLOOKUP($C15,料理一覧!$A$3:$N$20000,6,FALSE),\"0\")","v":0},{"$f":"IFERROR(VLOOKUP($C15,料理一覧!$A$3:$N$20000,7,FALSE),\"0\")","v":0},{"$f":"IFERROR(VLOOKUP($C15,料理一覧!$A$3:$N$20000,8,FALSE),\"0\")","v":0},{"$f":"IFERROR(VLOOKUP($C15,料理一覧!$A$3:$N$20000,9,FALSE),\"0\")","v":0},{"$f":"IFERROR(VLOOKUP($C15,料理一覧!$A$3:$N$20000,10,FALSE),\"0\")","v":0},{"$f":"IFERROR(VLOOKUP($C15,料理一覧!$A$3:$N$20000,11,FALSE),\"0\")","v":0},{"$f":"IFERROR(VLOOKUP($C15,料理一覧!$A$3:$N$20000,12,FALSE),\"0\")","v":0},{"$f":"IFERROR(VLOOKUP($C15,料理一覧!$A$3:$N$20000,13,FALSE),\"0\")","v":0},{"$f":"IFERROR(VLOOKUP($C15,料理一覧!$A$3:$N$20000,14,FALSE),\"0\")","v":0},{"$f":"IFERROR(VLOOKUP($D15,料理一覧!$A$3:$N$20000,4,FALSE),\"0\")","v":0},{"$f":"IFERROR(VLOOKUP($D15,料理一覧!$A$3:$N$20000,5,FALSE),\"0\")","v":0},{"$f":"IFERROR(VLOOKUP($D15,料理一覧!$A$3:$N$20000,6,FALSE),\"0\")","v":0},{"$f":"IFERROR(VLOOKUP($D15,料理一覧!$A$3:$N$20000,7,FALSE),\"0\")","v":0},{"$f":"IFERROR(VLOOKUP($D15,料理一覧!$A$3:$N$20000,8,FALSE),\"0\")","v":0},{"$f":"IFERROR(VLOOKUP($D15,料理一覧!$A$3:$N$20000,9,FALSE),\"0\")","v":0},{"$f":"IFERROR(VLOOKUP($D15,料理一覧!$A$3:$N$20000,10,FALSE),\"0\")","v":0},{"$f":"IFERROR(VLOOKUP($D15,料理一覧!$A$3:$N$20000,11,FALSE),\"0\")","v":0},{"$f":"IFERROR(VLOOKUP($D15,料理一覧!$A$3:$N$20000,12,FALSE),\"0\")","v":0},{"$f":"IFERROR(VLOOKUP($D15,料理一覧!$A$3:$N$20000,13,FALSE),\"0\")","v":0},{"$f":"IFERROR(VLOOKUP($D15,料理一覧!$A$3:$N$20000,14,FALSE),\"0\")","v":0},{"$f":"IFERROR(VLOOKUP($E15,料理一覧!$A$3:$N$20000,4,FALSE),\"0\")","v":0},{"$f":"IFERROR(VLOOKUP($E15,料理一覧!$A$3:$N$20000,5,FALSE),\"0\")","v":0},{"$f":"IFERROR(VLOOKUP($E15,料理一覧!$A$3:$N$20000,6,FALSE),\"0\")","v":0},{"$f":"IFERROR(VLOOKUP($E15,料理一覧!$A$3:$N$20000,7,FALSE),\"0\")","v":0},{"$f":"IFERROR(VLOOKUP($E15,料理一覧!$A$3:$N$20000,8,FALSE),\"0\")","v":0},{"$f":"IFERROR(VLOOKUP($E15,料理一覧!$A$3:$N$20000,9,FALSE),\"0\")","v":0},{"$f":"IFERROR(VLOOKUP($E15,料理一覧!$A$3:$N$20000,10,FALSE),\"0\")","v":0},{"$f":"IFERROR(VLOOKUP($E15,料理一覧!$A$3:$N$20000,11,FALSE),\"0\")","v":0},{"$f":"IFERROR(VLOOKUP($E15,料理一覧!$A$3:$N$20000,12,FALSE),\"0\")","v":0},{"$f":"IFERROR(VLOOKUP($E15,料理一覧!$A$3:$N$20000,13,FALSE),\"0\")","v":0},{"$f":"IFERROR(VLOOKUP($E15,料理一覧!$A$3:$N$20000,14,FALSE),\"0\")","v":0},0,0,0,0,0,0,0,0,0,0,0,{"$f":"SUM(BS15+'月間献立（幼児）'!$U16*('月間献立（乳児）'!P$36*0.01))","v":0},{"$f":"SUM(BT15+'月間献立（幼児）'!$V16*('月間献立（乳児）'!P$36*0.01))","v":0},{"$f":"SUM(BU15+'月間献立（幼児）'!$W16*('月間献立（乳児）'!P$36*0.01))","v":0},{"$f":"SUM(BV15+'月間献立（幼児）'!$X16*('月間献立（乳児）'!P$36*0.01))","v":0},{"$f":"SUM(BW15+'月間献立（幼児）'!$Y16*('月間献立（乳児）'!P$36*0.01))","v":0},{"$f":"SUM(BX15+'月間献立（幼児）'!$Z16*('月間献立（乳児）'!P$36*0.01))","v":0},{"$f":"SUM(BY15+'月間献立（幼児）'!$AA16*('月間献立（乳児）'!P$36*0.01))","v":0},{"$f":"SUM(BZ15+'月間献立（幼児）'!$AB16*('月間献立（乳児）'!P$36*0.01))","v":0},{"$f":"SUM(CA15+'月間献立（幼児）'!$AC16*('月間献立（乳児）'!P$36*0.01))","v":0},{"$f":"SUM(CB15+'月間献立（幼児）'!$AD16*('月間献立（乳児）'!P$36*0.01))","v":0},{"$f":"SUM(CC15+'月間献立（幼児）'!$AE16*('月間献立（乳児）'!P$36*0.01))","v":0}]
[{"$f":"+'月間献立（幼児）'!A17","v":13},{"$f":"+'月間献立（幼児）'!B17","v":"(木)"},null,null,null,{"$f":"+'月間献立（幼児）'!C17","v":0},{"$f":"+'月間献立（幼児）'!D17","v":0},{"$f":"+'月間献立（幼児）'!E17","v":0},{"$f":"+'月間献立（幼児）'!F17","v":0},{"$f":"+'月間献立（幼児）'!G17","v":0},{"$f":"+'月間献立（幼児）'!H17","v":0},{"$f":"+'月間献立（幼児）'!I17","v":0},{"$f":"+'月間献立（幼児）'!J17","v":0},{"$f":"+'月間献立（幼児）'!K17","v":0},{"$f":"IFERROR(VLOOKUP($C16,料理一覧!$A$3:$N$20000,3,FALSE),\"\")","v":0},{"$f":"IFERROR(VLOOKUP($D16,料理一覧!$A$3:$N$20000,3,FALSE),\"\")","v":0},{"$f":"IFERROR(VLOOKUP($E16,料理一覧!$A$3:$N$20000,3,FALSE),\"\")","v":0},{"$f":"+'月間献立（幼児）'!L17","v":0},{"$f":"+'月間献立（幼児）'!M17","v":0},{"$f":"+'月間献立（幼児）'!N17","v":0},{"$f":"+'月間献立（幼児）'!O17","v":0},{"$f":"+'月間献立（幼児）'!P17","v":0},{"$f":"+'月間献立（幼児）'!Q17","v":0},{"$f":"+'月間献立（幼児）'!R17","v":0},{"$f":"+'月間献立（幼児）'!S17","v":0},{"$f":"+'月間献立（幼児）'!T17","v":0},0,0,0,0,0,0,0,0,0,0,0,{"$f":"IFERROR(VLOOKUP($C16,料理一覧!$A$3:$N$20000,4,FALSE),\"0\")","v":0},{"$f":"IFERROR(VLOOKUP($C16,料理一覧!$A$3:$N$20000,5,FALSE),\"0\")","v":0},{"$f":"IFERROR(VLOOKUP($C16,料理一覧!$A$3:$N$20000,6,FALSE),\"0\")","v":0},{"$f":"IFERROR(VLOOKUP($C16,料理一覧!$A$3:$N$20000,7,FALSE),\"0\")","v":0},{"$f":"IFERROR(VLOOKUP($C16,料理一覧!$A$3:$N$20000,8,FALSE),\"0\")","v":0},{"$f":"IFERROR(VLOOKUP($C16,料理一覧!$A$3:$N$20000,9,FALSE),\"0\")","v":0},{"$f":"IFERROR(VLOOKUP($C16,料理一覧!$A$3:$N$20000,10,FALSE),\"0\")","v":0},{"$f":"IFERROR(VLOOKUP($C16,料理一覧!$A$3:$N$20000,11,FALSE),\"0\")","v":0},{"$f":"IFERROR(VLOOKUP($C16,料理一覧!$A$3:$N$20000,12,FALSE),\"0\")","v":0},{"$f":"IFERROR(VLOOKUP($C16,料理一覧!$A$3:$N$20000,13,FALSE),\"0\")","v":0},{"$f":"IFERROR(VLOOKUP($C16,料理一覧!$A$3:$N$20000,14,FALSE),\"0\")","v":0},{"$f":"IFERROR(VLOOKUP($D16,料理一覧!$A$3:$N$20000,4,FALSE),\"0\")","v":0},{"$f":"IFERROR(VLOOKUP($D16,料理一覧!$A$3:$N$20000,5,FALSE),\"0\")","v":0},{"$f":"IFERROR(VLOOKUP($D16,料理一覧!$A$3:$N$20000,6,FALSE),\"0\")","v":0},{"$f":"IFERROR(VLOOKUP($D16,料理一覧!$A$3:$N$20000,7,FALSE),\"0\")","v":0},{"$f":"IFERROR(VLOOKUP($D16,料理一覧!$A$3:$N$20000,8,FALSE),\"0\")","v":0},{"$f":"IFERROR(VLOOKUP($D16,料理一覧!$A$3:$N$20000,9,FALSE),\"0\")","v":0},{"$f":"IFERROR(VLOOKUP($D16,料理一覧!$A$3:$N$20000,10,FALSE),\"0\")","v":0},{"$f":"IFERROR(VLOOKUP($D16,料理一覧!$A$3:$N$20000,11,FALSE),\"0\")","v":0},{"$f":"IFERROR(VLOOKUP($D16,料理一覧!$A$3:$N$20000,12,FALSE),\"0\")","v":0},{"$f":"IFERROR(VLOOKUP($D16,料理一覧!$A$3:$N$20000,13,FALSE),\"0\")","v":0},{"$f":"IFERROR(VLOOKUP($D16,料理一覧!$A$3:$N$20000,14,FALSE),\"0\")","v":0},{"$f":"IFERROR(VLOOKUP($E16,料理一覧!$A$3:$N$20000,4,FALSE),\"0\")","v":0},{"$f":"IFERROR(VLOOKUP($E16,料理一覧!$A$3:$N$20000,5,FALSE),\"0\")","v":0},{"$f":"IFERROR(VLOOKUP($E16,料理一覧!$A$3:$N$20000,6,FALSE),\"0\")","v":0},{"$f":"IFERROR(VLOOKUP($E16,料理一覧!$A$3:$N$20000,7,FALSE),\"0\")","v":0},{"$f":"IFERROR(VLOOKUP($E16,料理一覧!$A$3:$N$20000,8,FALSE),\"0\")","v":0},{"$f":"IFERROR(VLOOKUP($E16,料理一覧!$A$3:$N$20000,9,FALSE),\"0\")","v":0},{"$f":"IFERROR(VLOOKUP($E16,料理一覧!$A$3:$N$20000,10,FALSE),\"0\")","v":0},{"$f":"IFERROR(VLOOKUP($E16,料理一覧!$A$3:$N$20000,11,FALSE),\"0\")","v":0},{"$f":"IFERROR(VLOOKUP($E16,料理一覧!$A$3:$N$20000,12,FALSE),\"0\")","v":0},{"$f":"IFERROR(VLOOKUP($E16,料理一覧!$A$3:$N$20000,13,FALSE),\"0\")","v":0},{"$f":"IFERROR(VLOOKUP($E16,料理一覧!$A$3:$N$20000,14,FALSE),\"0\")","v":0},0,0,0,0,0,0,0,0,0,0,0,{"$f":"SUM(BS16+'月間献立（幼児）'!$U17*('月間献立（乳児）'!P$36*0.01))","v":0},{"$f":"SUM(BT16+'月間献立（幼児）'!$V17*('月間献立（乳児）'!P$36*0.01))","v":0},{"$f":"SUM(BU16+'月間献立（幼児）'!$W17*('月間献立（乳児）'!P$36*0.01))","v":0},{"$f":"SUM(BV16+'月間献立（幼児）'!$X17*('月間献立（乳児）'!P$36*0.01))","v":0},{"$f":"SUM(BW16+'月間献立（幼児）'!$Y17*('月間献立（乳児）'!P$36*0.01))","v":0},{"$f":"SUM(BX16+'月間献立（幼児）'!$Z17*('月間献立（乳児）'!P$36*0.01))","v":0},{"$f":"SUM(BY16+'月間献立（幼児）'!$AA17*('月間献立（乳児）'!P$36*0.01))","v":0},{"$f":"SUM(BZ16+'月間献立（幼児）'!$AB17*('月間献立（乳児）'!P$36*0.01))","v":0},{"$f":"SUM(CA16+'月間献立（幼児）'!$AC17*('月間献立（乳児）'!P$36*0.01))","v":0},{"$f":"SUM(CB16+'月間献立（幼児）'!$AD17*('月間献立（乳児）'!P$36*0.01))","v":0},{"$f":"SUM(CC16+'月間献立（幼児）'!$AE17*('月間献立（乳児）'!P$36*0.01))","v":0}]
[{"$f":"+'月間献立（幼児）'!A18","v":14},{"$f":"+'月間献立（幼児）'!B18","v":"(金)"},null,null,null,{"$f":"+'月間献立（幼児）'!C18","v":0},{"$f":"+'月間献立（幼児）'!D18","v":0},{"$f":"+'月間献立（幼児）'!E18","v":0},{"$f":"+'月間献立（幼児）'!F18","v":0},{"$f":"+'月間献立（幼児）'!G18","v":0},{"$f":"+'月間献立（幼児）'!H18","v":0},{"$f":"+'月間献立（幼児）'!I18","v":0},{"$f":"+'月間献立（幼児）'!J18","v":0},{"$f":"+'月間献立（幼児）'!K18","v":0},{"$f":"IFERROR(VLOOKUP($C17,料理一覧!$A$3:$N$20000,3,FALSE),\"\")","v":0},{"$f":"IFERROR(VLOOKUP($D17,料理一覧!$A$3:$N$20000,3,FALSE),\"\")","v":0},{"$f":"IFERROR(VLOOKUP($E17,料理一覧!$A$3:$N$20000,3,FALSE),\"\")","v":0},{"$f":"+'月間献立（幼児）'!L18","v":0},{"$f":"+'月間献立（幼児）'!M18","v":0},{"$f":"+'月間献立（幼児）'!N18","v":0},{"$f":"+'月間献立（幼児）'!O18","v":0},{"$f":"+'月間献立（幼児）'!P18","v":0},{"$f":"+'月間献立（幼児）'!Q18","v":0},{"$f":"+'月間献立（幼児）'!R18","v":0},{"$f":"+'月間献立（幼児）'!S18","v":0},{"$f":"+'月間献立（幼児）'!T18","v":0},0,0,0,0,0,0,0,0,0,0,0,{"$f":"IFERROR(VLOOKUP($C17,料理一覧!$A$3:$N$20000,4,FALSE),\"0\")","v":0},{"$f":"IFERROR(VLOOKUP($C17,料理一覧!$A$3:$N$20000,5,FALSE),\"0\")","v":0},{"$f":"IFERROR(VLOOKUP($C17,料理一覧!$A$3:$N$20000,6,FALSE),\"0\")","v":0},{"$f":"IFERROR(VLOOKUP($C17,料理一覧!$A$3:$N$20000,7,FALSE),\"0\")","v":0},{"$f":"IFERROR(VLOOKUP($C17,料理一覧!$A$3:$N$20000,8,FALSE),\"0\")","v":0},{"$f":"IFERROR(VLOOKUP($C17,料理一覧!$A$3:$N$20000,9,FALSE),\"0\")","v":0},{"$f":"IFERROR(VLOOKUP($C17,料理一覧!$A$3:$N$20000,10,FALSE),\"0\")","v":0},{"$f":"IFERROR(VLOOKUP($C17,料理一覧!$A$3:$N$20000,11,FALSE),\"0\")","v":0},{"$f":"IFERROR(VLOOKUP($C17,料理一覧!$A$3:$N$20000,12,FALSE),\"0\")","v":0},{"$f":"IFERROR(VLOOKUP($C17,料理一覧!$A$3:$N$20000,13,FALSE),\"0\")","v":0},{"$f":"IFERROR(VLOOKUP($C17,料理一覧!$A$3:$N$20000,14,FALSE),\"0\")","v":0},{"$f":"IFERROR(VLOOKUP($D17,料理一覧!$A$3:$N$20000,4,FALSE),\"0\")","v":0},{"$f":"IFERROR(VLOOKUP($D17,料理一覧!$A$3:$N$20000,5,FALSE),\"0\")","v":0},{"$f":"IFERROR(VLOOKUP($D17,料理一覧!$A$3:$N$20000,6,FALSE),\"0\")","v":0},{"$f":"IFERROR(VLOOKUP($D17,料理一覧!$A$3:$N$20000,7,FALSE),\"0\")","v":0},{"$f":"IFERROR(VLOOKUP($D17,料理一覧!$A$3:$N$20000,8,FALSE),\"0\")","v":0},{"$f":"IFERROR(VLOOKUP($D17,料理一覧!$A$3:$N$20000,9,FALSE),\"0\")","v":0},{"$f":"IFERROR(VLOOKUP($D17,料理一覧!$A$3:$N$20000,10,FALSE),\"0\")","v":0},{"$f":"IFERROR(VLOOKUP($D17,料理一覧!$A$3:$N$20000,11,FALSE),\"0\")","v":0},{"$f":"IFERROR(VLOOKUP($D17,料理一覧!$A$3:$N$20000,12,FALSE),\"0\")","v":0},{"$f":"IFERROR(VLOOKUP($D17,料理一覧!$A$3:$N$20000,13,FALSE),\"0\")","v":0},{"$f":"IFERROR(VLOOKUP($D17,料理一覧!$A$3:$N$20000,14,FALSE),\"0\")","v":0},{"$f":"IFERROR(VLOOKUP($E17,料理一覧!$A$3:$N$20000,4,FALSE),\"0\")","v":0},{"$f":"IFERROR(VLOOKUP($E17,料理一覧!$A$3:$N$20000,5,FALSE),\"0\")","v":0},{"$f":"IFERROR(VLOOKUP($E17,料理一覧!$A$3:$N$20000,6,FALSE),\"0\")","v":0},{"$f":"IFERROR(VLOOKUP($E17,料理一覧!$A$3:$N$20000,7,FALSE),\"0\")","v":0},{"$f":"IFERROR(VLOOKUP($E17,料理一覧!$A$3:$N$20000,8,FALSE),\"0\")","v":0},{"$f":"IFERROR(VLOOKUP($E17,料理一覧!$A$3:$N$20000,9,FALSE),\"0\")","v":0},{"$f":"IFERROR(VLOOKUP($E17,料理一覧!$A$3:$N$20000,10,FALSE),\"0\")","v":0},{"$f":"IFERROR(VLOOKUP($E17,料理一覧!$A$3:$N$20000,11,FALSE),\"0\")","v":0},{"$f":"IFERROR(VLOOKUP($E17,料理一覧!$A$3:$N$20000,12,FALSE),\"0\")","v":0},{"$f":"IFERROR(VLOOKUP($E17,料理一覧!$A$3:$N$20000,13,FALSE),\"0\")","v":0},{"$f":"IFERROR(VLOOKUP($E17,料理一覧!$A$3:$N$20000,14,FALSE),\"0\")","v":0},0,0,0,0,0,0,0,0,0,0,0,{"$f":"SUM(BS17+'月間献立（幼児）'!$U18*('月間献立（乳児）'!P$36*0.01))","v":0},{"$f":"SUM(BT17+'月間献立（幼児）'!$V18*('月間献立（乳児）'!P$36*0.01))","v":0},{"$f":"SUM(BU17+'月間献立（幼児）'!$W18*('月間献立（乳児）'!P$36*0.01))","v":0},{"$f":"SUM(BV17+'月間献立（幼児）'!$X18*('月間献立（乳児）'!P$36*0.01))","v":0},{"$f":"SUM(BW17+'月間献立（幼児）'!$Y18*('月間献立（乳児）'!P$36*0.01))","v":0},{"$f":"SUM(BX17+'月間献立（幼児）'!$Z18*('月間献立（乳児）'!P$36*0.01))","v":0},{"$f":"SUM(BY17+'月間献立（幼児）'!$AA18*('月間献立（乳児）'!P$36*0.01))","v":0},{"$f":"SUM(BZ17+'月間献立（幼児）'!$AB18*('月間献立（乳児）'!P$36*0.01))","v":0},{"$f":"SUM(CA17+'月間献立（幼児）'!$AC18*('月間献立（乳児）'!P$36*0.01))","v":0},{"$f":"SUM(CB17+'月間献立（幼児）'!$AD18*('月間献立（乳児）'!P$36*0.01))","v":0},{"$f":"SUM(CC17+'月間献立（幼児）'!$AE18*('月間献立（乳児）'!P$36*0.01))","v":0}]
[{"$f":"+'月間献立（幼児）'!A19","v":15},{"$f":"+'月間献立（幼児）'!B19","v":"(土)"},null,null,null,{"$f":"+'月間献立（幼児）'!C19","v":0},{"$f":"+'月間献立（幼児）'!D19","v":0},{"$f":"+'月間献立（幼児）'!E19","v":0},{"$f":"+'月間献立（幼児）'!F19","v":0},{"$f":"+'月間献立（幼児）'!G19","v":0},{"$f":"+'月間献立（幼児）'!H19","v":0},{"$f":"+'月間献立（幼児）'!I19","v":0},{"$f":"+'月間献立（幼児）'!J19","v":0},{"$f":"+'月間献立（幼児）'!K19","v":0},{"$f":"IFERROR(VLOOKUP($C18,料理一覧!$A$3:$N$20000,3,FALSE),\"\")","v":0},{"$f":"IFERROR(VLOOKUP($D18,料理一覧!$A$3:$N$20000,3,FALSE),\"\")","v":0},{"$f":"IFERROR(VLOOKUP($E18,料理一覧!$A$3:$N$20000,3,FALSE),\"\")","v":0},{"$f":"+'月間献立（幼児）'!L19","v":0},{"$f":"+'月間献立（幼児）'!M19","v":0},{"$f":"+'月間献立（幼児）'!N19","v":0},{"$f":"+'月間献立（幼児）'!O19","v":0},{"$f":"+'月間献立（幼児）'!P19","v":0},{"$f":"+'月間献立（幼児）'!Q19","v":0},{"$f":"+'月間献立（幼児）'!R19","v":0},{"$f":"+'月間献立（幼児）'!S19","v":0},{"$f":"+'月間献立（幼児）'!T19","v":0},0,0,0,0,0,0,0,0,0,0,0,{"$f":"IFERROR(VLOOKUP($C18,料理一覧!$A$3:$N$20000,4,FALSE),\"0\")","v":0},{"$f":"IFERROR(VLOOKUP($C18,料理一覧!$A$3:$N$20000,5,FALSE),\"0\")","v":0},{"$f":"IFERROR(VLOOKUP($C18,料理一覧!$A$3:$N$20000,6,FALSE),\"0\")","v":0},{"$f":"IFERROR(VLOOKUP($C18,料理一覧!$A$3:$N$20000,7,FALSE),\"0\")","v":0},{"$f":"IFERROR(VLOOKUP($C18,料理一覧!$A$3:$N$20000,8,FALSE),\"0\")","v":0},{"$f":"IFERROR(VLOOKUP($C18,料理一覧!$A$3:$N$20000,9,FALSE),\"0\")","v":0},{"$f":"IFERROR(VLOOKUP($C18,料理一覧!$A$3:$N$20000,10,FALSE),\"0\")","v":0},{"$f":"IFERROR(VLOOKUP($C18,料理一覧!$A$3:$N$20000,11,FALSE),\"0\")","v":0},{"$f":"IFERROR(VLOOKUP($C18,料理一覧!$A$3:$N$20000,12,FALSE),\"0\")","v":0},{"$f":"IFERROR(VLOOKUP($C18,料理一覧!$A$3:$N$20000,13,FALSE),\"0\")","v":0},{"$f":"IFERROR(VLOOKUP($C18,料理一覧!$A$3:$N$20000,14,FALSE),\"0\")","v":0},{"$f":"IFERROR(VLOOKUP($D18,料理一覧!$A$3:$N$20000,4,FALSE),\"0\")","v":0},{"$f":"IFERROR(VLOOKUP($D18,料理一覧!$A$3:$N$20000,5,FALSE),\"0\")","v":0},{"$f":"IFERROR(VLOOKUP($D18,料理一覧!$A$3:$N$20000,6,FALSE),\"0\")","v":0},{"$f":"IFERROR(VLOOKUP($D18,料理一覧!$A$3:$N$20000,7,FALSE),\"0\")","v":0},{"$f":"IFERROR(VLOOKUP($D18,料理一覧!$A$3:$N$20000,8,FALSE),\"0\")","v":0},{"$f":"IFERROR(VLOOKUP($D18,料理一覧!$A$3:$N$20000,9,FALSE),\"0\")","v":0},{"$f":"IFERROR(VLOOKUP($D18,料理一覧!$A$3:$N$20000,10,FALSE),\"0\")","v":0},{"$f":"IFERROR(VLOOKUP($D18,料理一覧!$A$3:$N$20000,11,FALSE),\"0\")","v":0},{"$f":"IFERROR(VLOOKUP($D18,料理一覧!$A$3:$N$20000,12,FALSE),\"0\")","v":0},{"$f":"IFERROR(VLOOKUP($D18,料理一覧!$A$3:$N$20000,13,FALSE),\"0\")","v":0},{"$f":"IFERROR(VLOOKUP($D18,料理一覧!$A$3:$N$20000,14,FALSE),\"0\")","v":0},{"$f":"IFERROR(VLOOKUP($E18,料理一覧!$A$3:$N$20000,4,FALSE),\"0\")","v":0},{"$f":"IFERROR(VLOOKUP($E18,料理一覧!$A$3:$N$20000,5,FALSE),\"0\")","v":0},{"$f":"IFERROR(VLOOKUP($E18,料理一覧!$A$3:$N$20000,6,FALSE),\"0\")","v":0},{"$f":"IFERROR(VLOOKUP($E18,料理一覧!$A$3:$N$20000,7,FALSE),\"0\")","v":0},{"$f":"IFERROR(VLOOKUP($E18,料理一覧!$A$3:$N$20000,8,FALSE),\"0\")","v":0},{"$f":"IFERROR(VLOOKUP($E18,料理一覧!$A$3:$N$20000,9,FALSE),\"0\")","v":0},{"$f":"IFERROR(VLOOKUP($E18,料理一覧!$A$3:$N$20000,10,FALSE),\"0\")","v":0},{"$f":"IFERROR(VLOOKUP($E18,料理一覧!$A$3:$N$20000,11,FALSE),\"0\")","v":0},{"$f":"IFERROR(VLOOKUP($E18,料理一覧!$A$3:$N$20000,12,FALSE),\"0\")","v":0},{"$f":"IFERROR(VLOOKUP($E18,料理一覧!$A$3:$N$20000,13,FALSE),\"0\")","v":0},{"$f":"IFERROR(VLOOKUP($E18,料理一覧!$A$3:$N$20000,14,FALSE),\"0\")","v":0},0,0,0,0,0,0,0,0,0,0,0,{"$f":"SUM(BS18+'月間献立（幼児）'!$U19*('月間献立（乳児）'!P$36*0.01))","v":0},{"$f":"SUM(BT18+'月間献立（幼児）'!$V19*('月間献立（乳児）'!P$36*0.01))","v":0},{"$f":"SUM(BU18+'月間献立（幼児）'!$W19*('月間献立（乳児）'!P$36*0.01))","v":0},{"$f":"SUM(BV18+'月間献立（幼児）'!$X19*('月間献立（乳児）'!P$36*0.01))","v":0},{"$f":"SUM(BW18+'月間献立（幼児）'!$Y19*('月間献立（乳児）'!P$36*0.01))","v":0},{"$f":"SUM(BX18+'月間献立（幼児）'!$Z19*('月間献立（乳児）'!P$36*0.01))","v":0},{"$f":"SUM(BY18+'月間献立（幼児）'!$AA19*('月間献立（乳児）'!P$36*0.01))","v":0},{"$f":"SUM(BZ18+'月間献立（幼児）'!$AB19*('月間献立（乳児）'!P$36*0.01))","v":0},{"$f":"SUM(CA18+'月間献立（幼児）'!$AC19*('月間献立（乳児）'!P$36*0.01))","v":0},{"$f":"SUM(CB18+'月間献立（幼児）'!$AD19*('月間献立（乳児）'!P$36*0.01))","v":0},{"$f":"SUM(CC18+'月間献立（幼児）'!$AE19*('月間献立（乳児）'!P$36*0.01))","v":0}]
[{"$f":"+'月間献立（幼児）'!A20","v":16},{"$f":"+'月間献立（幼児）'!B20","v":"(日)"},null,null,null,{"$f":"+'月間献立（幼児）'!C20","v":0},{"$f":"+'月間献立（幼児）'!D20","v":0},{"$f":"+'月間献立（幼児）'!E20","v":0},{"$f":"+'月間献立（幼児）'!F20","v":0},{"$f":"+'月間献立（幼児）'!G20","v":0},{"$f":"+'月間献立（幼児）'!H20","v":0},{"$f":"+'月間献立（幼児）'!I20","v":0},{"$f":"+'月間献立（幼児）'!J20","v":0},{"$f":"+'月間献立（幼児）'!K20","v":0},{"$f":"IFERROR(VLOOKUP($C19,料理一覧!$A$3:$N$20000,3,FALSE),\"\")","v":0},{"$f":"IFERROR(VLOOKUP($D19,料理一覧!$A$3:$N$20000,3,FALSE),\"\")","v":0},{"$f":"IFERROR(VLOOKUP($E19,料理一覧!$A$3:$N$20000,3,FALSE),\"\")","v":0},{"$f":"+'月間献立（幼児）'!L20","v":0},{"$f":"+'月間献立（幼児）'!M20","v":0},{"$f":"+'月間献立（幼児）'!N20","v":0},{"$f":"+'月間献立（幼児）'!O20","v":0},{"$f":"+'月間献立（幼児）'!P20","v":0},{"$f":"+'月間献立（幼児）'!Q20","v":0},{"$f":"+'月間献立（幼児）'!R20","v":0},{"$f":"+'月間献立（幼児）'!S20","v":0},{"$f":"+'月間献立（幼児）'!T20","v":0},0,0,0,0,0,0,0,0,0,0,0,{"$f":"IFERROR(VLOOKUP($C19,料理一覧!$A$3:$N$20000,4,FALSE),\"0\")","v":0},{"$f":"IFERROR(VLOOKUP($C19,料理一覧!$A$3:$N$20000,5,FALSE),\"0\")","v":0},{"$f":"IFERROR(VLOOKUP($C19,料理一覧!$A$3:$N$20000,6,FALSE),\"0\")","v":0},{"$f":"IFERROR(VLOOKUP($C19,料理一覧!$A$3:$N$20000,7,FALSE),\"0\")","v":0},{"$f":"IFERROR(VLOOKUP($C19,料理一覧!$A$3:$N$20000,8,FALSE),\"0\")","v":0},{"$f":"IFERROR(VLOOKUP($C19,料理一覧!$A$3:$N$20000,9,FALSE),\"0\")","v":0},{"$f":"IFERROR(VLOOKUP($C19,料理一覧!$A$3:$N$20000,10,FALSE),\"0\")","v":0},{"$f":"IFERROR(VLOOKUP($C19,料理一覧!$A$3:$N$20000,11,FALSE),\"0\")","v":0},{"$f":"IFERROR(VLOOKUP($C19,料理一覧!$A$3:$N$20000,12,FALSE),\"0\")","v":0},{"$f":"IFERROR(VLOOKUP($C19,料理一覧!$A$3:$N$20000,13,FALSE),\"0\")","v":0},{"$f":"IFERROR(VLOOKUP($C19,料理一覧!$A$3:$N$20000,14,FALSE),\"0\")","v":0},{"$f":"IFERROR(VLOOKUP($D19,料理一覧!$A$3:$N$20000,4,FALSE),\"0\")","v":0},{"$f":"IFERROR(VLOOKUP($D19,料理一覧!$A$3:$N$20000,5,FALSE),\"0\")","v":0},{"$f":"IFERROR(VLOOKUP($D19,料理一覧!$A$3:$N$20000,6,FALSE),\"0\")","v":0},{"$f":"IFERROR(VLOOKUP($D19,料理一覧!$A$3:$N$20000,7,FALSE),\"0\")","v":0},{"$f":"IFERROR(VLOOKUP($D19,料理一覧!$A$3:$N$20000,8,FALSE),\"0\")","v":0},{"$f":"IFERROR(VLOOKUP($D19,料理一覧!$A$3:$N$20000,9,FALSE),\"0\")","v":0},{"$f":"IFERROR(VLOOKUP($D19,料理一覧!$A$3:$N$20000,10,FALSE),\"0\")","v":0},{"$f":"IFERROR(VLOOKUP($D19,料理一覧!$A$3:$N$20000,11,FALSE),\"0\")","v":0},{"$f":"IFERROR(VLOOKUP($D19,料理一覧!$A$3:$N$20000,12,FALSE),\"0\")","v":0},{"$f":"IFERROR(VLOOKUP($D19,料理一覧!$A$3:$N$20000,13,FALSE),\"0\")","v":0},{"$f":"IFERROR(VLOOKUP($D19,料理一覧!$A$3:$N$20000,14,FALSE),\"0\")","v":0},{"$f":"IFERROR(VLOOKUP($E19,料理一覧!$A$3:$N$20000,4,FALSE),\"0\")","v":0},{"$f":"IFERROR(VLOOKUP($E19,料理一覧!$A$3:$N$20000,5,FALSE),\"0\")","v":0},{"$f":"IFERROR(VLOOKUP($E19,料理一覧!$A$3:$N$20000,6,FALSE),\"0\")","v":0},{"$f":"IFERROR(VLOOKUP($E19,料理一覧!$A$3:$N$20000,7,FALSE),\"0\")","v":0},{"$f":"IFERROR(VLOOKUP($E19,料理一覧!$A$3:$N$20000,8,FALSE),\"0\")","v":0},{"$f":"IFERROR(VLOOKUP($E19,料理一覧!$A$3:$N$20000,9,FALSE),\"0\")","v":0},{"$f":"IFERROR(VLOOKUP($E19,料理一覧!$A$3:$N$20000,10,FALSE),\"0\")","v":0},{"$f":"IFERROR(VLOOKUP($E19,料理一覧!$A$3:$N$20000,11,FALSE),\"0\")","v":0},{"$f":"IFERROR(VLOOKUP($E19,料理一覧!$A$3:$N$20000,12,FALSE),\"0\")","v":0},{"$f":"IFERROR(VLOOKUP($E19,料理一覧!$A$3:$N$20000,13,FALSE),\"0\")","v":0},{"$f":"IFERROR(VLOOKUP($E19,料理一覧!$A$3:$N$20000,14,FALSE),\"0\")","v":0},0,0,0,0,0,0,0,0,0,0,0,{"$f":"SUM(BS19+'月間献立（幼児）'!$U20*('月間献立（乳児）'!P$36*0.01))","v":0},{"$f":"SUM(BT19+'月間献立（幼児）'!$V20*('月間献立（乳児）'!P$36*0.01))","v":0},{"$f":"SUM(BU19+'月間献立（幼児）'!$W20*('月間献立（乳児）'!P$36*0.01))","v":0},{"$f":"SUM(BV19+'月間献立（幼児）'!$X20*('月間献立（乳児）'!P$36*0.01))","v":0},{"$f":"SUM(BW19+'月間献立（幼児）'!$Y20*('月間献立（乳児）'!P$36*0.01))","v":0},{"$f":"SUM(BX19+'月間献立（幼児）'!$Z20*('月間献立（乳児）'!P$36*0.01))","v":0},{"$f":"SUM(BY19+'月間献立（幼児）'!$AA20*('月間献立（乳児）'!P$36*0.01))","v":0},{"$f":"SUM(BZ19+'月間献立（幼児）'!$AB20*('月間献立（乳児）'!P$36*0.01))","v":0},{"$f":"SUM(CA19+'月間献立（幼児）'!$AC20*('月間献立（乳児）'!P$36*0.01))","v":0},{"$f":"SUM(CB19+'月間献立（幼児）'!$AD20*('月間献立（乳児）'!P$36*0.01))","v":0},{"$f":"SUM(CC19+'月間献立（幼児）'!$AE20*('月間献立（乳児）'!P$36*0.01))","v":0}]
[{"$f":"+'月間献立（幼児）'!A21","v":17},{"$f":"+'月間献立（幼児）'!B21","v":"(月)"},null,null,null,{"$f":"+'月間献立（幼児）'!C21","v":0},{"$f":"+'月間献立（幼児）'!D21","v":0},{"$f":"+'月間献立（幼児）'!E21","v":0},{"$f":"+'月間献立（幼児）'!F21","v":0},{"$f":"+'月間献立（幼児）'!G21","v":0},{"$f":"+'月間献立（幼児）'!H21","v":0},{"$f":"+'月間献立（幼児）'!I21","v":0},{"$f":"+'月間献立（幼児）'!J21","v":0},{"$f":"+'月間献立（幼児）'!K21","v":0},{"$f":"IFERROR(VLOOKUP($C20,料理一覧!$A$3:$N$20000,3,FALSE),\"\")","v":0},{"$f":"IFERROR(VLOOKUP($D20,料理一覧!$A$3:$N$20000,3,FALSE),\"\")","v":0},{"$f":"IFERROR(VLOOKUP($E20,料理一覧!$A$3:$N$20000,3,FALSE),\"\")","v":0},{"$f":"+'月間献立（幼児）'!L21","v":0},{"$f":"+'月間献立（幼児）'!M21","v":0},{"$f":"+'月間献立（幼児）'!N21","v":0},{"$f":"+'月間献立（幼児）'!O21","v":0},{"$f":"+'月間献立（幼児）'!P21","v":0},{"$f":"+'月間献立（幼児）'!Q21","v":0},{"$f":"+'月間献立（幼児）'!R21","v":0},{"$f":"+'月間献立（幼児）'!S21","v":0},{"$f":"+'月間献立（幼児）'!T21","v":0},0,0,0,0,0,0,0,0,0,0,0,{"$f":"IFERROR(VLOOKUP($C20,料理一覧!$A$3:$N$20000,4,FALSE),\"0\")","v":0},{"$f":"IFERROR(VLOOKUP($C20,料理一覧!$A$3:$N$20000,5,FALSE),\"0\")","v":0},{"$f":"IFERROR(VLOOKUP($C20,料理一覧!$A$3:$N$20000,6,FALSE),\"0\")","v":0},{"$f":"IFERROR(VLOOKUP($C20,料理一覧!$A$3:$N$20000,7,FALSE),\"0\")","v":0},{"$f":"IFERROR(VLOOKUP($C20,料理一覧!$A$3:$N$20000,8,FALSE),\"0\")","v":0},{"$f":"IFERROR(VLOOKUP($C20,料理一覧!$A$3:$N$20000,9,FALSE),\"0\")","v":0},{"$f":"IFERROR(VLOOKUP($C20,料理一覧!$A$3:$N$20000,10,FALSE),\"0\")","v":0},{"$f":"IFERROR(VLOOKUP($C20,料理一覧!$A$3:$N$20000,11,FALSE),\"0\")","v":0},{"$f":"IFERROR(VLOOKUP($C20,料理一覧!$A$3:$N$20000,12,FALSE),\"0\")","v":0},{"$f":"IFERROR(VLOOKUP($C20,料理一覧!$A$3:$N$20000,13,FALSE),\"0\")","v":0},{"$f":"IFERROR(VLOOKUP($C20,料理一覧!$A$3:$N$20000,14,FALSE),\"0\")","v":0},{"$f":"IFERROR(VLOOKUP($D20,料理一覧!$A$3:$N$20000,4,FALSE),\"0\")","v":0},{"$f":"IFERROR(VLOOKUP($D20,料理一覧!$A$3:$N$20000,5,FALSE),\"0\")","v":0},{"$f":"IFERROR(VLOOKUP($D20,料理一覧!$A$3:$N$20000,6,FALSE),\"0\")","v":0},{"$f":"IFERROR(VLOOKUP($D20,料理一覧!$A$3:$N$20000,7,FALSE),\"0\")","v":0},{"$f":"IFERROR(VLOOKUP($D20,料理一覧!$A$3:$N$20000,8,FALSE),\"0\")","v":0},{"$f":"IFERROR(VLOOKUP($D20,料理一覧!$A$3:$N$20000,9,FALSE),\"0\")","v":0},{"$f":"IFERROR(VLOOKUP($D20,料理一覧!$A$3:$N$20000,10,FALSE),\"0\")","v":0},{"$f":"IFERROR(VLOOKUP($D20,料理一覧!$A$3:$N$20000,11,FALSE),\"0\")","v":0},{"$f":"IFERROR(VLOOKUP($D20,料理一覧!$A$3:$N$20000,12,FALSE),\"0\")","v":0},{"$f":"IFERROR(VLOOKUP($D20,料理一覧!$A$3:$N$20000,13,FALSE),\"0\")","v":0},{"$f":"IFERROR(VLOOKUP($D20,料理一覧!$A$3:$N$20000,14,FALSE),\"0\")","v":0},{"$f":"IFERROR(VLOOKUP($E20,料理一覧!$A$3:$N$20000,4,FALSE),\"0\")","v":0},{"$f":"IFERROR(VLOOKUP($E20,料理一覧!$A$3:$N$20000,5,FALSE),\"0\")","v":0},{"$f":"IFERROR(VLOOKUP($E20,料理一覧!$A$3:$N$20000,6,FALSE),\"0\")","v":0},{"$f":"IFERROR(VLOOKUP($E20,料理一覧!$A$3:$N$20000,7,FALSE),\"0\")","v":0},{"$f":"IFERROR(VLOOKUP($E20,料理一覧!$A$3:$N$20000,8,FALSE),\"0\")","v":0},{"$f":"IFERROR(VLOOKUP($E20,料理一覧!$A$3:$N$20000,9,FALSE),\"0\")","v":0},{"$f":"IFERROR(VLOOKUP($E20,料理一覧!$A$3:$N$20000,10,FALSE),\"0\")","v":0},{"$f":"IFERROR(VLOOKUP($E20,料理一覧!$A$3:$N$20000,11,FALSE),\"0\")","v":0},{"$f":"IFERROR(VLOOKUP($E20,料理一覧!$A$3:$N$20000,12,FALSE),\"0\")","v":0},{"$f":"IFERROR(VLOOKUP($E20,料理一覧!$A$3:$N$20000,13,FALSE),\"0\")","v":0},{"$f":"IFERROR(VLOOKUP($E20,料理一覧!$A$3:$N$20000,14,FALSE),\"0\")","v":0},0,0,0,0,0,0,0,0,0,0,0,{"$f":"SUM(BS20+'月間献立（幼児）'!$U21*('月間献立（乳児）'!P$36*0.01))","v":0},{"$f":"SUM(BT20+'月間献立（幼児）'!$V21*('月間献立（乳児）'!P$36*0.01))","v":0},{"$f":"SUM(BU20+'月間献立（幼児）'!$W21*('月間献立（乳児）'!P$36*0.01))","v":0},{"$f":"SUM(BV20+'月間献立（幼児）'!$X21*('月間献立（乳児）'!P$36*0.01))","v":0},{"$f":"SUM(BW20+'月間献立（幼児）'!$Y21*('月間献立（乳児）'!P$36*0.01))","v":0},{"$f":"SUM(BX20+'月間献立（幼児）'!$Z21*('月間献立（乳児）'!P$36*0.01))","v":0},{"$f":"SUM(BY20+'月間献立（幼児）'!$AA21*('月間献立（乳児）'!P$36*0.01))","v":0},{"$f":"SUM(BZ20+'月間献立（幼児）'!$AB21*('月間献立（乳児）'!P$36*0.01))","v":0},{"$f":"SUM(CA20+'月間献立（幼児）'!$AC21*('月間献立（乳児）'!P$36*0.01))","v":0},{"$f":"SUM(CB20+'月間献立（幼児）'!$AD21*('月間献立（乳児）'!P$36*0.01))","v":0},{"$f":"SUM(CC20+'月間献立（幼児）'!$AE21*('月間献立（乳児）'!P$36*0.01))","v":0}]
[{"$f":"+'月間献立（幼児）'!A22","v":18},{"$f":"+'月間献立（幼児）'!B22","v":"(火)"},null,null,null,{"$f":"+'月間献立（幼児）'!C22","v":0},{"$f":"+'月間献立（幼児）'!D22","v":0},{"$f":"+'月間献立（幼児）'!E22","v":0},{"$f":"+'月間献立（幼児）'!F22","v":0},{"$f":"+'月間献立（幼児）'!G22","v":0},{"$f":"+'月間献立（幼児）'!H22","v":0},{"$f":"+'月間献立（幼児）'!I22","v":0},{"$f":"+'月間献立（幼児）'!J22","v":0},{"$f":"+'月間献立（幼児）'!K22","v":0},{"$f":"IFERROR(VLOOKUP($C21,料理一覧!$A$3:$N$20000,3,FALSE),\"\")","v":0},{"$f":"IFERROR(VLOOKUP($D21,料理一覧!$A$3:$N$20000,3,FALSE),\"\")","v":0},{"$f":"IFERROR(VLOOKUP($E21,料理一覧!$A$3:$N$20000,3,FALSE),\"\")","v":0},{"$f":"+'月間献立（幼児）'!L22","v":0},{"$f":"+'月間献立（幼児）'!M22","v":0},{"$f":"+'月間献立（幼児）'!N22","v":0},{"$f":"+'月間献立（幼児）'!O22","v":0},{"$f":"+'月間献立（幼児）'!P22","v":0},{"$f":"+'月間献立（幼児）'!Q22","v":0},{"$f":"+'月間献立（幼児）'!R22","v":0},{"$f":"+'月間献立（幼児）'!S22","v":0},{"$f":"+'月間献立（幼児）'!T22","v":0},0,0,0,0,0,0,0,0,0,0,0,{"$f":"IFERROR(VLOOKUP($C21,料理一覧!$A$3:$N$20000,4,FALSE),\"0\")","v":0},{"$f":"IFERROR(VLOOKUP($C21,料理一覧!$A$3:$N$20000,5,FALSE),\"0\")","v":0},{"$f":"IFERROR(VLOOKUP($C21,料理一覧!$A$3:$N$20000,6,FALSE),\"0\")","v":0},{"$f":"IFERROR(VLOOKUP($C21,料理一覧!$A$3:$N$20000,7,FALSE),\"0\")","v":0},{"$f":"IFERROR(VLOOKUP($C21,料理一覧!$A$3:$N$20000,8,FALSE),\"0\")","v":0},{"$f":"IFERROR(VLOOKUP($C21,料理一覧!$A$3:$N$20000,9,FALSE),\"0\")","v":0},{"$f":"IFERROR(VLOOKUP($C21,料理一覧!$A$3:$N$20000,10,FALSE),\"0\")","v":0},{"$f":"IFERROR(VLOOKUP($C21,料理一覧!$A$3:$N$20000,11,FALSE),\"0\")","v":0},{"$f":"IFERROR(VLOOKUP($C21,料理一覧!$A$3:$N$20000,12,FALSE),\"0\")","v":0},{"$f":"IFERROR(VLOOKUP($C21,料理一覧!$A$3:$N$20000,13,FALSE),\"0\")","v":0},{"$f":"IFERROR(VLOOKUP($C21,料理一覧!$A$3:$N$20000,14,FALSE),\"0\")","v":0},{"$f":"IFERROR(VLOOKUP($D21,料理一覧!$A$3:$N$20000,4,FALSE),\"0\")","v":0},{"$f":"IFERROR(VLOOKUP($D21,料理一覧!$A$3:$N$20000,5,FALSE),\"0\")","v":0},{"$f":"IFERROR(VLOOKUP($D21,料理一覧!$A$3:$N$20000,6,FALSE),\"0\")","v":0},{"$f":"IFERROR(VLOOKUP($D21,料理一覧!$A$3:$N$20000,7,FALSE),\"0\")","v":0},{"$f":"IFERROR(VLOOKUP($D21,料理一覧!$A$3:$N$20000,8,FALSE),\"0\")","v":0},{"$f":"IFERROR(VLOOKUP($D21,料理一覧!$A$3:$N$20000,9,FALSE),\"0\")","v":0},{"$f":"IFERROR(VLOOKUP($D21,料理一覧!$A$3:$N$20000,10,FALSE),\"0\")","v":0},{"$f":"IFERROR(VLOOKUP($D21,料理一覧!$A$3:$N$20000,11,FALSE),\"0\")","v":0},{"$f":"IFERROR(VLOOKUP($D21,料理一覧!$A$3:$N$20000,12,FALSE),\"0\")","v":0},{"$f":"IFERROR(VLOOKUP($D21,料理一覧!$A$3:$N$20000,13,FALSE),\"0\")","v":0},{"$f":"IFERROR(VLOOKUP($D21,料理一覧!$A$3:$N$20000,14,FALSE),\"0\")","v":0},{"$f":"IFERROR(VLOOKUP($E21,料理一覧!$A$3:$N$20000,4,FALSE),\"0\")","v":0},{"$f":"IFERROR(VLOOKUP($E21,料理一覧!$A$3:$N$20000,5,FALSE),\"0\")","v":0},{"$f":"IFERROR(VLOOKUP($E21,料理一覧!$A$3:$N$20000,6,FALSE),\"0\")","v":0},{"$f":"IFERROR(VLOOKUP($E21,料理一覧!$A$3:$N$20000,7,FALSE),\"0\")","v":0},{"$f":"IFERROR(VLOOKUP($E21,料理一覧!$A$3:$N$20000,8,FALSE),\"0\")","v":0},{"$f":"IFERROR(VLOOKUP($E21,料理一覧!$A$3:$N$20000,9,FALSE),\"0\")","v":0},{"$f":"IFERROR(VLOOKUP($E21,料理一覧!$A$3:$N$20000,10,FALSE),\"0\")","v":0},{"$f":"IFERROR(VLOOKUP($E21,料理一覧!$A$3:$N$20000,11,FALSE),\"0\")","v":0},{"$f":"IFERROR(VLOOKUP($E21,料理一覧!$A$3:$N$20000,12,FALSE),\"0\")","v":0},{"$f":"IFERROR(VLOOKUP($E21,料理一覧!$A$3:$N$20000,13,FALSE),\"0\")","v":0},{"$f":"IFERROR(VLOOKUP($E21,料理一覧!$A$3:$N$20000,14,FALSE),\"0\")","v":0},0,0,0,0,0,0,0,0,0,0,0,{"$f":"SUM(BS21+'月間献立（幼児）'!$U22*('月間献立（乳児）'!P$36*0.01))","v":0},{"$f":"SUM(BT21+'月間献立（幼児）'!$V22*('月間献立（乳児）'!P$36*0.01))","v":0},{"$f":"SUM(BU21+'月間献立（幼児）'!$W22*('月間献立（乳児）'!P$36*0.01))","v":0},{"$f":"SUM(BV21+'月間献立（幼児）'!$X22*('月間献立（乳児）'!P$36*0.01))","v":0},{"$f":"SUM(BW21+'月間献立（幼児）'!$Y22*('月間献立（乳児）'!P$36*0.01))","v":0},{"$f":"SUM(BX21+'月間献立（幼児）'!$Z22*('月間献立（乳児）'!P$36*0.01))","v":0},{"$f":"SUM(BY21+'月間献立（幼児）'!$AA22*('月間献立（乳児）'!P$36*0.01))","v":0},{"$f":"SUM(BZ21+'月間献立（幼児）'!$AB22*('月間献立（乳児）'!P$36*0.01))","v":0},{"$f":"SUM(CA21+'月間献立（幼児）'!$AC22*('月間献立（乳児）'!P$36*0.01))","v":0},{"$f":"SUM(CB21+'月間献立（幼児）'!$AD22*('月間献立（乳児）'!P$36*0.01))","v":0},{"$f":"SUM(CC21+'月間献立（幼児）'!$AE22*('月間献立（乳児）'!P$36*0.01))","v":0}]
[{"$f":"+'月間献立（幼児）'!A23","v":19},{"$f":"+'月間献立（幼児）'!B23","v":"(水)"},null,null,null,{"$f":"+'月間献立（幼児）'!C23","v":0},{"$f":"+'月間献立（幼児）'!D23","v":0},{"$f":"+'月間献立（幼児）'!E23","v":0},{"$f":"+'月間献立（幼児）'!F23","v":0},{"$f":"+'月間献立（幼児）'!G23","v":0},{"$f":"+'月間献立（幼児）'!H23","v":0},{"$f":"+'月間献立（幼児）'!I23","v":0},{"$f":"+'月間献立（幼児）'!J23","v":0},{"$f":"+'月間献立（幼児）'!K23","v":0},{"$f":"IFERROR(VLOOKUP($C22,料理一覧!$A$3:$N$20000,3,FALSE),\"\")","v":0},{"$f":"IFERROR(VLOOKUP($D22,料理一覧!$A$3:$N$20000,3,FALSE),\"\")","v":0},{"$f":"IFERROR(VLOOKUP($E22,料理一覧!$A$3:$N$20000,3,FALSE),\"\")","v":0},{"$f":"+'月間献立（幼児）'!L23","v":0},{"$f":"+'月間献立（幼児）'!M23","v":0},{"$f":"+'月間献立（幼児）'!N23","v":0},{"$f":"+'月間献立（幼児）'!O23","v":0},{"$f":"+'月間献立（幼児）'!P23","v":0},{"$f":"+'月間献立（幼児）'!Q23","v":0},{"$f":"+'月間献立（幼児）'!R23","v":0},{"$f":"+'月間献立（幼児）'!S23","v":0},{"$f":"+'月間献立（幼児）'!T23","v":0},0,0,0,0,0,0,0,0,0,0,0,{"$f":"IFERROR(VLOOKUP($C22,料理一覧!$A$3:$N$20000,4,FALSE),\"0\")","v":0},{"$f":"IFERROR(VLOOKUP($C22,料理一覧!$A$3:$N$20000,5,FALSE),\"0\")","v":0},{"$f":"IFERROR(VLOOKUP($C22,料理一覧!$A$3:$N$20000,6,FALSE),\"0\")","v":0},{"$f":"IFERROR(VLOOKUP($C22,料理一覧!$A$3:$N$20000,7,FALSE),\"0\")","v":0},{"$f":"IFERROR(VLOOKUP($C22,料理一覧!$A$3:$N$20000,8,FALSE),\"0\")","v":0},{"$f":"IFERROR(VLOOKUP($C22,料理一覧!$A$3:$N$20000,9,FALSE),\"0\")","v":0},{"$f":"IFERROR(VLOOKUP($C22,料理一覧!$A$3:$N$20000,10,FALSE),\"0\")","v":0},{"$f":"IFERROR(VLOOKUP($C22,料理一覧!$A$3:$N$20000,11,FALSE),\"0\")","v":0},{"$f":"IFERROR(VLOOKUP($C22,料理一覧!$A$3:$N$20000,12,FALSE),\"0\")","v":0},{"$f":"IFERROR(VLOOKUP($C22,料理一覧!$A$3:$N$20000,13,FALSE),\"0\")","v":0},{"$f":"IFERROR(VLOOKUP($C22,料理一覧!$A$3:$N$20000,14,FALSE),\"0\")","v":0},{"$f":"IFERROR(VLOOKUP($D22,料理一覧!$A$3:$N$20000,4,FALSE),\"0\")","v":0},{"$f":"IFERROR(VLOOKUP($D22,料理一覧!$A$3:$N$20000,5,FALSE),\"0\")","v":0},{"$f":"IFERROR(VLOOKUP($D22,料理一覧!$A$3:$N$20000,6,FALSE),\"0\")","v":0},{"$f":"IFERROR(VLOOKUP($D22,料理一覧!$A$3:$N$20000,7,FALSE),\"0\")","v":0},{"$f":"IFERROR(VLOOKUP($D22,料理一覧!$A$3:$N$20000,8,FALSE),\"0\")","v":0},{"$f":"IFERROR(VLOOKUP($D22,料理一覧!$A$3:$N$20000,9,FALSE),\"0\")","v":0},{"$f":"IFERROR(VLOOKUP($D22,料理一覧!$A$3:$N$20000,10,FALSE),\"0\")","v":0},{"$f":"IFERROR(VLOOKUP($D22,料理一覧!$A$3:$N$20000,11,FALSE),\"0\")","v":0},{"$f":"IFERROR(VLOOKUP($D22,料理一覧!$A$3:$N$20000,12,FALSE),\"0\")","v":0},{"$f":"IFERROR(VLOOKUP($D22,料理一覧!$A$3:$N$20000,13,FALSE),\"0\")","v":0},{"$f":"IFERROR(VLOOKUP($D22,料理一覧!$A$3:$N$20000,14,FALSE),\"0\")","v":0},{"$f":"IFERROR(VLOOKUP($E22,料理一覧!$A$3:$N$20000,4,FALSE),\"0\")","v":0},{"$f":"IFERROR(VLOOKUP($E22,料理一覧!$A$3:$N$20000,5,FALSE),\"0\")","v":0},{"$f":"IFERROR(VLOOKUP($E22,料理一覧!$A$3:$N$20000,6,FALSE),\"0\")","v":0},{"$f":"IFERROR(VLOOKUP($E22,料理一覧!$A$3:$N$20000,7,FALSE),\"0\")","v":0},{"$f":"IFERROR(VLOOKUP($E22,料理一覧!$A$3:$N$20000,8,FALSE),\"0\")","v":0},{"$f":"IFERROR(VLOOKUP($E22,料理一覧!$A$3:$N$20000,9,FALSE),\"0\")","v":0},{"$f":"IFERROR(VLOOKUP($E22,料理一覧!$A$3:$N$20000,10,FALSE),\"0\")","v":0},{"$f":"IFERROR(VLOOKUP($E22,料理一覧!$A$3:$N$20000,11,FALSE),\"0\")","v":0},{"$f":"IFERROR(VLOOKUP($E22,料理一覧!$A$3:$N$20000,12,FALSE),\"0\")","v":0},{"$f":"IFERROR(VLOOKUP($E22,料理一覧!$A$3:$N$20000,13,FALSE),\"0\")","v":0},{"$f":"IFERROR(VLOOKUP($E22,料理一覧!$A$3:$N$20000,14,FALSE),\"0\")","v":0},0,0,0,0,0,0,0,0,0,0,0,{"$f":"SUM(BS22+'月間献立（幼児）'!$U23*('月間献立（乳児）'!P$36*0.01))","v":0},{"$f":"SUM(BT22+'月間献立（幼児）'!$V23*('月間献立（乳児）'!P$36*0.01))","v":0},{"$f":"SUM(BU22+'月間献立（幼児）'!$W23*('月間献立（乳児）'!P$36*0.01))","v":0},{"$f":"SUM(BV22+'月間献立（幼児）'!$X23*('月間献立（乳児）'!P$36*0.01))","v":0},{"$f":"SUM(BW22+'月間献立（幼児）'!$Y23*('月間献立（乳児）'!P$36*0.01))","v":0},{"$f":"SUM(BX22+'月間献立（幼児）'!$Z23*('月間献立（乳児）'!P$36*0.01))","v":0},{"$f":"SUM(BY22+'月間献立（幼児）'!$AA23*('月間献立（乳児）'!P$36*0.01))","v":0},{"$f":"SUM(BZ22+'月間献立（幼児）'!$AB23*('月間献立（乳児）'!P$36*0.01))","v":0},{"$f":"SUM(CA22+'月間献立（幼児）'!$AC23*('月間献立（乳児）'!P$36*0.01))","v":0},{"$f":"SUM(CB22+'月間献立（幼児）'!$AD23*('月間献立（乳児）'!P$36*0.01))","v":0},{"$f":"SUM(CC22+'月間献立（幼児）'!$AE23*('月間献立（乳児）'!P$36*0.01))","v":0}]
[{"$f":"+'月間献立（幼児）'!A24","v":20},{"$f":"+'月間献立（幼児）'!B24","v":"(木)"},null,null,null,{"$f":"+'月間献立（幼児）'!C24","v":0},{"$f":"+'月間献立（幼児）'!D24","v":0},{"$f":"+'月間献立（幼児）'!E24","v":0},{"$f":"+'月間献立（幼児）'!F24","v":0},{"$f":"+'月間献立（幼児）'!G24","v":0},{"$f":"+'月間献立（幼児）'!H24","v":0},{"$f":"+'月間献立（幼児）'!I24","v":0},{"$f":"+'月間献立（幼児）'!J24","v":0},{"$f":"+'月間献立（幼児）'!K24","v":0},{"$f":"IFERROR(VLOOKUP($C23,料理一覧!$A$3:$N$20000,3,FALSE),\"\")","v":0},{"$f":"IFERROR(VLOOKUP($D23,料理一覧!$A$3:$N$20000,3,FALSE),\"\")","v":0},{"$f":"IFERROR(VLOOKUP($E23,料理一覧!$A$3:$N$20000,3,FALSE),\"\")","v":0},{"$f":"+'月間献立（幼児）'!L24","v":0},{"$f":"+'月間献立（幼児）'!M24","v":0},{"$f":"+'月間献立（幼児）'!N24","v":0},{"$f":"+'月間献立（幼児）'!O24","v":0},{"$f":"+'月間献立（幼児）'!P24","v":0},{"$f":"+'月間献立（幼児）'!Q24","v":0},{"$f":"+'月間献立（幼児）'!R24","v":0},{"$f":"+'月間献立（幼児）'!S24","v":0},{"$f":"+'月間献立（幼児）'!T24","v":0},0,0,0,0,0,0,0,0,0,0,0,{"$f":"IFERROR(VLOOKUP($C23,料理一覧!$A$3:$N$20000,4,FALSE),\"0\")","v":0},{"$f":"IFERROR(VLOOKUP($C23,料理一覧!$A$3:$N$20000,5,FALSE),\"0\")","v":0},{"$f":"IFERROR(VLOOKUP($C23,料理一覧!$A$3:$N$20000,6,FALSE),\"0\")","v":0},{"$f":"IFERROR(VLOOKUP($C23,料理一覧!$A$3:$N$20000,7,FALSE),\"0\")","v":0},{"$f":"IFERROR(VLOOKUP($C23,料理一覧!$A$3:$N$20000,8,FALSE),\"0\")","v":0},{"$f":"IFERROR(VLOOKUP($C23,料理一覧!$A$3:$N$20000,9,FALSE),\"0\")","v":0},{"$f":"IFERROR(VLOOKUP($C23,料理一覧!$A$3:$N$20000,10,FALSE),\"0\")","v":0},{"$f":"IFERROR(VLOOKUP($C23,料理一覧!$A$3:$N$20000,11,FALSE),\"0\")","v":0},{"$f":"IFERROR(VLOOKUP($C23,料理一覧!$A$3:$N$20000,12,FALSE),\"0\")","v":0},{"$f":"IFERROR(VLOOKUP($C23,料理一覧!$A$3:$N$20000,13,FALSE),\"0\")","v":0},{"$f":"IFERROR(VLOOKUP($C23,料理一覧!$A$3:$N$20000,14,FALSE),\"0\")","v":0},{"$f":"IFERROR(VLOOKUP($D23,料理一覧!$A$3:$N$20000,4,FALSE),\"0\")","v":0},{"$f":"IFERROR(VLOOKUP($D23,料理一覧!$A$3:$N$20000,5,FALSE),\"0\")","v":0},{"$f":"IFERROR(VLOOKUP($D23,料理一覧!$A$3:$N$20000,6,FALSE),\"0\")","v":0},{"$f":"IFERROR(VLOOKUP($D23,料理一覧!$A$3:$N$20000,7,FALSE),\"0\")","v":0},{"$f":"IFERROR(VLOOKUP($D23,料理一覧!$A$3:$N$20000,8,FALSE),\"0\")","v":0},{"$f":"IFERROR(VLOOKUP($D23,料理一覧!$A$3:$N$20000,9,FALSE),\"0\")","v":0},{"$f":"IFERROR(VLOOKUP($D23,料理一覧!$A$3:$N$20000,10,FALSE),\"0\")","v":0},{"$f":"IFERROR(VLOOKUP($D23,料理一覧!$A$3:$N$20000,11,FALSE),\"0\")","v":0},{"$f":"IFERROR(VLOOKUP($D23,料理一覧!$A$3:$N$20000,12,FALSE),\"0\")","v":0},{"$f":"IFERROR(VLOOKUP($D23,料理一覧!$A$3:$N$20000,13,FALSE),\"0\")","v":0},{"$f":"IFERROR(VLOOKUP($D23,料理一覧!$A$3:$N$20000,14,FALSE),\"0\")","v":0},{"$f":"IFERROR(VLOOKUP($E23,料理一覧!$A$3:$N$20000,4,FALSE),\"0\")","v":0},{"$f":"IFERROR(VLOOKUP($E23,料理一覧!$A$3:$N$20000,5,FALSE),\"0\")","v":0},{"$f":"IFERROR(VLOOKUP($E23,料理一覧!$A$3:$N$20000,6,FALSE),\"0\")","v":0},{"$f":"IFERROR(VLOOKUP($E23,料理一覧!$A$3:$N$20000,7,FALSE),\"0\")","v":0},{"$f":"IFERROR(VLOOKUP($E23,料理一覧!$A$3:$N$20000,8,FALSE),\"0\")","v":0},{"$f":"IFERROR(VLOOKUP($E23,料理一覧!$A$3:$N$20000,9,FALSE),\"0\")","v":0},{"$f":"IFERROR(VLOOKUP($E23,料理一覧!$A$3:$N$20000,10,FALSE),\"0\")","v":0},{"$f":"IFERROR(VLOOKUP($E23,料理一覧!$A$3:$N$20000,11,FALSE),\"0\")","v":0},{"$f":"IFERROR(VLOOKUP($E23,料理一覧!$A$3:$N$20000,12,FALSE),\"0\")","v":0},{"$f":"IFERROR(VLOOKUP($E23,料理一覧!$A$3:$N$20000,13,FALSE),\"0\")","v":0},{"$f":"IFERROR(VLOOKUP($E23,料理一覧!$A$3:$N$20000,14,FALSE),\"0\")","v":0},0,0,0,0,0,0,0,0,0,0,0,{"$f":"SUM(BS23+'月間献立（幼児）'!$U24*('月間献立（乳児）'!P$36*0.01))","v":0},{"$f":"SUM(BT23+'月間献立（幼児）'!$V24*('月間献立（乳児）'!P$36*0.01))","v":0},{"$f":"SUM(BU23+'月間献立（幼児）'!$W24*('月間献立（乳児）'!P$36*0.01))","v":0},{"$f":"SUM(BV23+'月間献立（幼児）'!$X24*('月間献立（乳児）'!P$36*0.01))","v":0},{"$f":"SUM(BW23+'月間献立（幼児）'!$Y24*('月間献立（乳児）'!P$36*0.01))","v":0},{"$f":"SUM(BX23+'月間献立（幼児）'!$Z24*('月間献立（乳児）'!P$36*0.01))","v":0},{"$f":"SUM(BY23+'月間献立（幼児）'!$AA24*('月間献立（乳児）'!P$36*0.01))","v":0},{"$f":"SUM(BZ23+'月間献立（幼児）'!$AB24*('月間献立（乳児）'!P$36*0.01))","v":0},{"$f":"SUM(CA23+'月間献立（幼児）'!$AC24*('月間献立（乳児）'!P$36*0.01))","v":0},{"$f":"SUM(CB23+'月間献立（幼児）'!$AD24*('月間献立（乳児）'!P$36*0.01))","v":0},{"$f":"SUM(CC23+'月間献立（幼児）'!$AE24*('月間献立（乳児）'!P$36*0.01))","v":0}]
[{"$f":"+'月間献立（幼児）'!A25","v":21},{"$f":"+'月間献立（幼児）'!B25","v":"(金)"},null,null,null,{"$f":"+'月間献立（幼児）'!C25","v":0},{"$f":"+'月間献立（幼児）'!D25","v":0},{"$f":"+'月間献立（幼児）'!E25","v":0},{"$f":"+'月間献立（幼児）'!F25","v":0},{"$f":"+'月間献立（幼児）'!G25","v":0},{"$f":"+'月間献立（幼児）'!H25","v":0},{"$f":"+'月間献立（幼児）'!I25","v":0},{"$f":"+'月間献立（幼児）'!J25","v":0},{"$f":"+'月間献立（幼児）'!K25","v":0},{"$f":"IFERROR(VLOOKUP($C24,料理一覧!$A$3:$N$20000,3,FALSE),\"\")","v":0},{"$f":"IFERROR(VLOOKUP($D24,料理一覧!$A$3:$N$20000,3,FALSE),\"\")","v":0},{"$f":"IFERROR(VLOOKUP($E24,料理一覧!$A$3:$N$20000,3,FALSE),\"\")","v":0},{"$f":"+'月間献立（幼児）'!L25","v":0},{"$f":"+'月間献立（幼児）'!M25","v":0},{"$f":"+'月間献立（幼児）'!N25","v":0},{"$f":"+'月間献立（幼児）'!O25","v":0},{"$f":"+'月間献立（幼児）'!P25","v":0},{"$f":"+'月間献立（幼児）'!Q25","v":0},{"$f":"+'月間献立（幼児）'!R25","v":0},{"$f":"+'月間献立（幼児）'!S25","v":0},{"$f":"+'月間献立（幼児）'!T25","v":0},0,0,0,0,0,0,0,0,0,0,0,{"$f":"IFERROR(VLOOKUP($C24,料理一覧!$A$3:$N$20000,4,FALSE),\"0\")","v":0},{"$f":"IFERROR(VLOOKUP($C24,料理一覧!$A$3:$N$20000,5,FALSE),\"0\")","v":0},{"$f":"IFERROR(VLOOKUP($C24,料理一覧!$A$3:$N$20000,6,FALSE),\"0\")","v":0},{"$f":"IFERROR(VLOOKUP($C24,料理一覧!$A$3:$N$20000,7,FALSE),\"0\")","v":0},{"$f":"IFERROR(VLOOKUP($C24,料理一覧!$A$3:$N$20000,8,FALSE),\"0\")","v":0},{"$f":"IFERROR(VLOOKUP($C24,料理一覧!$A$3:$N$20000,9,FALSE),\"0\")","v":0},{"$f":"IFERROR(VLOOKUP($C24,料理一覧!$A$3:$N$20000,10,FALSE),\"0\")","v":0},{"$f":"IFERROR(VLOOKUP($C24,料理一覧!$A$3:$N$20000,11,FALSE),\"0\")","v":0},{"$f":"IFERROR(VLOOKUP($C24,料理一覧!$A$3:$N$20000,12,FALSE),\"0\")","v":0},{"$f":"IFERROR(VLOOKUP($C24,料理一覧!$A$3:$N$20000,13,FALSE),\"0\")","v":0},{"$f":"IFERROR(VLOOKUP($C24,料理一覧!$A$3:$N$20000,14,FALSE),\"0\")","v":0},{"$f":"IFERROR(VLOOKUP($D24,料理一覧!$A$3:$N$20000,4,FALSE),\"0\")","v":0},{"$f":"IFERROR(VLOOKUP($D24,料理一覧!$A$3:$N$20000,5,FALSE),\"0\")","v":0},{"$f":"IFERROR(VLOOKUP($D24,料理一覧!$A$3:$N$20000,6,FALSE),\"0\")","v":0},{"$f":"IFERROR(VLOOKUP($D24,料理一覧!$A$3:$N$20000,7,FALSE),\"0\")","v":0},{"$f":"IFERROR(VLOOKUP($D24,料理一覧!$A$3:$N$20000,8,FALSE),\"0\")","v":0},{"$f":"IFERROR(VLOOKUP($D24,料理一覧!$A$3:$N$20000,9,FALSE),\"0\")","v":0},{"$f":"IFERROR(VLOOKUP($D24,料理一覧!$A$3:$N$20000,10,FALSE),\"0\")","v":0},{"$f":"IFERROR(VLOOKUP($D24,料理一覧!$A$3:$N$20000,11,FALSE),\"0\")","v":0},{"$f":"IFERROR(VLOOKUP($D24,料理一覧!$A$3:$N$20000,12,FALSE),\"0\")","v":0},{"$f":"IFERROR(VLOOKUP($D24,料理一覧!$A$3:$N$20000,13,FALSE),\"0\")","v":0},{"$f":"IFERROR(VLOOKUP($D24,料理一覧!$A$3:$N$20000,14,FALSE),\"0\")","v":0},{"$f":"IFERROR(VLOOKUP($E24,料理一覧!$A$3:$N$20000,4,FALSE),\"0\")","v":0},{"$f":"IFERROR(VLOOKUP($E24,料理一覧!$A$3:$N$20000,5,FALSE),\"0\")","v":0},{"$f":"IFERROR(VLOOKUP($E24,料理一覧!$A$3:$N$20000,6,FALSE),\"0\")","v":0},{"$f":"IFERROR(VLOOKUP($E24,料理一覧!$A$3:$N$20000,7,FALSE),\"0\")","v":0},{"$f":"IFERROR(VLOOKUP($E24,料理一覧!$A$3:$N$20000,8,FALSE),\"0\")","v":0},{"$f":"IFERROR(VLOOKUP($E24,料理一覧!$A$3:$N$20000,9,FALSE),\"0\")","v":0},{"$f":"IFERROR(VLOOKUP($E24,料理一覧!$A$3:$N$20000,10,FALSE),\"0\")","v":0},{"$f":"IFERROR(VLOOKUP($E24,料理一覧!$A$3:$N$20000,11,FALSE),\"0\")","v":0},{"$f":"IFERROR(VLOOKUP($E24,料理一覧!$A$3:$N$20000,12,FALSE),\"0\")","v":0},{"$f":"IFERROR(VLOOKUP($E24,料理一覧!$A$3:$N$20000,13,FALSE),\"0\")","v":0},{"$f":"IFERROR(VLOOKUP($E24,料理一覧!$A$3:$N$20000,14,FALSE),\"0\")","v":0},0,0,0,0,0,0,0,0,0,0,0,{"$f":"SUM(BS24+'月間献立（幼児）'!$U25*('月間献立（乳児）'!P$36*0.01))","v":0},{"$f":"SUM(BT24+'月間献立（幼児）'!$V25*('月間献立（乳児）'!P$36*0.01))","v":0},{"$f":"SUM(BU24+'月間献立（幼児）'!$W25*('月間献立（乳児）'!P$36*0.01))","v":0},{"$f":"SUM(BV24+'月間献立（幼児）'!$X25*('月間献立（乳児）'!P$36*0.01))","v":0},{"$f":"SUM(BW24+'月間献立（幼児）'!$Y25*('月間献立（乳児）'!P$36*0.01))","v":0},{"$f":"SUM(BX24+'月間献立（幼児）'!$Z25*('月間献立（乳児）'!P$36*0.01))","v":0},{"$f":"SUM(BY24+'月間献立（幼児）'!$AA25*('月間献立（乳児）'!P$36*0.01))","v":0},{"$f":"SUM(BZ24+'月間献立（幼児）'!$AB25*('月間献立（乳児）'!P$36*0.01))","v":0},{"$f":"SUM(CA24+'月間献立（幼児）'!$AC25*('月間献立（乳児）'!P$36*0.01))","v":0},{"$f":"SUM(CB24+'月間献立（幼児）'!$AD25*('月間献立（乳児）'!P$36*0.01))","v":0},{"$f":"SUM(CC24+'月間献立（幼児）'!$AE25*('月間献立（乳児）'!P$36*0.01))","v":0}]
[{"$f":"+'月間献立（幼児）'!A26","v":22},{"$f":"+'月間献立（幼児）'!B26","v":"(土)"},null,null,null,{"$f":"+'月間献立（幼児）'!C26","v":0},{"$f":"+'月間献立（幼児）'!D26","v":0},{"$f":"+'月間献立（幼児）'!E26","v":0},{"$f":"+'月間献立（幼児）'!F26","v":0},{"$f":"+'月間献立（幼児）'!G26","v":0},{"$f":"+'月間献立（幼児）'!H26","v":0},{"$f":"+'月間献立（幼児）'!I26","v":0},{"$f":"+'月間献立（幼児）'!J26","v":0},{"$f":"+'月間献立（幼児）'!K26","v":0},{"$f":"IFERROR(VLOOKUP($C25,料理一覧!$A$3:$N$20000,3,FALSE),\"\")","v":0},{"$f":"IFERROR(VLOOKUP($D25,料理一覧!$A$3:$N$20000,3,FALSE),\"\")","v":0},{"$f":"IFERROR(VLOOKUP($E25,料理一覧!$A$3:$N$20000,3,FALSE),\"\")","v":0},{"$f":"+'月間献立（幼児）'!L26","v":0},{"$f":"+'月間献立（幼児）'!M26","v":0},{"$f":"+'月間献立（幼児）'!N26","v":0},{"$f":"+'月間献立（幼児）'!O26","v":0},{"$f":"+'月間献立（幼児）'!P26","v":0},{"$f":"+'月間献立（幼児）'!Q26","v":0},{"$f":"+'月間献立（幼児）'!R26","v":0},{"$f":"+'月間献立（幼児）'!S26","v":0},{"$f":"+'月間献立（幼児）'!T26","v":0},0,0,0,0,0,0,0,0,0,0,0,{"$f":"IFERROR(VLOOKUP($C25,料理一覧!$A$3:$N$20000,4,FALSE),\"0\")","v":0},{"$f":"IFERROR(VLOOKUP($C25,料理一覧!$A$3:$N$20000,5,FALSE),\"0\")","v":0},{"$f":"IFERROR(VLOOKUP($C25,料理一覧!$A$3:$N$20000,6,FALSE),\"0\")","v":0},{"$f":"IFERROR(VLOOKUP($C25,料理一覧!$A$3:$N$20000,7,FALSE),\"0\")","v":0},{"$f":"IFERROR(VLOOKUP($C25,料理一覧!$A$3:$N$20000,8,FALSE),\"0\")","v":0},{"$f":"IFERROR(VLOOKUP($C25,料理一覧!$A$3:$N$20000,9,FALSE),\"0\")","v":0},{"$f":"IFERROR(VLOOKUP($C25,料理一覧!$A$3:$N$20000,10,FALSE),\"0\")","v":0},{"$f":"IFERROR(VLOOKUP($C25,料理一覧!$A$3:$N$20000,11,FALSE),\"0\")","v":0},{"$f":"IFERROR(VLOOKUP($C25,料理一覧!$A$3:$N$20000,12,FALSE),\"0\")","v":0},{"$f":"IFERROR(VLOOKUP($C25,料理一覧!$A$3:$N$20000,13,FALSE),\"0\")","v":0},{"$f":"IFERROR(VLOOKUP($C25,料理一覧!$A$3:$N$20000,14,FALSE),\"0\")","v":0},{"$f":"IFERROR(VLOOKUP($D25,料理一覧!$A$3:$N$20000,4,FALSE),\"0\")","v":0},{"$f":"IFERROR(VLOOKUP($D25,料理一覧!$A$3:$N$20000,5,FALSE),\"0\")","v":0},{"$f":"IFERROR(VLOOKUP($D25,料理一覧!$A$3:$N$20000,6,FALSE),\"0\")","v":0},{"$f":"IFERROR(VLOOKUP($D25,料理一覧!$A$3:$N$20000,7,FALSE),\"0\")","v":0},{"$f":"IFERROR(VLOOKUP($D25,料理一覧!$A$3:$N$20000,8,FALSE),\"0\")","v":0},{"$f":"IFERROR(VLOOKUP($D25,料理一覧!$A$3:$N$20000,9,FALSE),\"0\")","v":0},{"$f":"IFERROR(VLOOKUP($D25,料理一覧!$A$3:$N$20000,10,FALSE),\"0\")","v":0},{"$f":"IFERROR(VLOOKUP($D25,料理一覧!$A$3:$N$20000,11,FALSE),\"0\")","v":0},{"$f":"IFERROR(VLOOKUP($D25,料理一覧!$A$3:$N$20000,12,FALSE),\"0\")","v":0},{"$f":"IFERROR(VLOOKUP($D25,料理一覧!$A$3:$N$20000,13,FALSE),\"0\")","v":0},{"$f":"IFERROR(VLOOKUP($D25,料理一覧!$A$3:$N$20000,14,FALSE),\"0\")","v":0},{"$f":"IFERROR(VLOOKUP($E25,料理一覧!$A$3:$N$20000,4,FALSE),\"0\")","v":0},{"$f":"IFERROR(VLOOKUP($E25,料理一覧!$A$3:$N$20000,5,FALSE),\"0\")","v":0},{"$f":"IFERROR(VLOOKUP($E25,料理一覧!$A$3:$N$20000,6,FALSE),\"0\")","v":0},{"$f":"IFERROR(VLOOKUP($E25,料理一覧!$A$3:$N$20000,7,FALSE),\"0\")","v":0},{"$f":"IFERROR(VLOOKUP($E25,料理一覧!$A$3:$N$20000,8,FALSE),\"0\")","v":0},{"$f":"IFERROR(VLOOKUP($E25,料理一覧!$A$3:$N$20000,9,FALSE),\"0\")","v":0},{"$f":"IFERROR(VLOOKUP($E25,料理一覧!$A$3:$N$20000,10,FALSE),\"0\")","v":0},{"$f":"IFERROR(VLOOKUP($E25,料理一覧!$A$3:$N$20000,11,FALSE),\"0\")","v":0},{"$f":"IFERROR(VLOOKUP($E25,料理一覧!$A$3:$N$20000,12,FALSE),\"0\")","v":0},{"$f":"IFERROR(VLOOKUP($E25,料理一覧!$A$3:$N$20000,13,FALSE),\"0\")","v":0},{"$f":"IFERROR(VLOOKUP($E25,料理一覧!$A$3:$N$20000,14,FALSE),\"0\")","v":0},0,0,0,0,0,0,0,0,0,0,0,{"$f":"SUM(BS25+'月間献立（幼児）'!$U26*('月間献立（乳児）'!P$36*0.01))","v":0},{"$f":"SUM(BT25+'月間献立（幼児）'!$V26*('月間献立（乳児）'!P$36*0.01))","v":0},{"$f":"SUM(BU25+'月間献立（幼児）'!$W26*('月間献立（乳児）'!P$36*0.01))","v":0},{"$f":"SUM(BV25+'月間献立（幼児）'!$X26*('月間献立（乳児）'!P$36*0.01))","v":0},{"$f":"SUM(BW25+'月間献立（幼児）'!$Y26*('月間献立（乳児）'!P$36*0.01))","v":0},{"$f":"SUM(BX25+'月間献立（幼児）'!$Z26*('月間献立（乳児）'!P$36*0.01))","v":0},{"$f":"SUM(BY25+'月間献立（幼児）'!$AA26*('月間献立（乳児）'!P$36*0.01))","v":0},{"$f":"SUM(BZ25+'月間献立（幼児）'!$AB26*('月間献立（乳児）'!P$36*0.01))","v":0},{"$f":"SUM(CA25+'月間献立（幼児）'!$AC26*('月間献立（乳児）'!P$36*0.01))","v":0},{"$f":"SUM(CB25+'月間献立（幼児）'!$AD26*('月間献立（乳児）'!P$36*0.01))","v":0},{"$f":"SUM(CC25+'月間献立（幼児）'!$AE26*('月間献立（乳児）'!P$36*0.01))","v":0}]
[{"$f":"+'月間献立（幼児）'!A27","v":23},{"$f":"+'月間献立（幼児）'!B27","v":"(日)"},null,null,null,{"$f":"+'月間献立（幼児）'!C27","v":0},{"$f":"+'月間献立（幼児）'!D27","v":0},{"$f":"+'月間献立（幼児）'!E27","v":0},{"$f":"+'月間献立（幼児）'!F27","v":0},{"$f":"+'月間献立（幼児）'!G27","v":0},{"$f":"+'月間献立（幼児）'!H27","v":0},{"$f":"+'月間献立（幼児）'!I27","v":0},{"$f":"+'月間献立（幼児）'!J27","v":0},{"$f":"+'月間献立（幼児）'!K27","v":0},{"$f":"IFERROR(VLOOKUP($C26,料理一覧!$A$3:$N$20000,3,FALSE),\"\")","v":0},{"$f":"IFERROR(VLOOKUP($D26,料理一覧!$A$3:$N$20000,3,FALSE),\"\")","v":0},{"$f":"IFERROR(VLOOKUP($E26,料理一覧!$A$3:$N$20000,3,FALSE),\"\")","v":0},{"$f":"+'月間献立（幼児）'!L27","v":0},{"$f":"+'月間献立（幼児）'!M27","v":0},{"$f":"+'月間献立（幼児）'!N27","v":0},{"$f":"+'月間献立（幼児）'!O27","v":0},{"$f":"+'月間献立（幼児）'!P27","v":0},{"$f":"+'月間献立（幼児）'!Q27","v":0},{"$f":"+'月間献立（幼児）'!R27","v":0},{"$f":"+'月間献立（幼児）'!S27","v":0},{"$f":"+'月間献立（幼児）'!T27","v":0},0,0,0,0,0,0,0,0,0,0,0,{"$f":"IFERROR(VLOOKUP($C26,料理一覧!$A$3:$N$20000,4,FALSE),\"0\")","v":0},{"$f":"IFERROR(VLOOKUP($C26,料理一覧!$A$3:$N$20000,5,FALSE),\"0\")","v":0},{"$f":"IFERROR(VLOOKUP($C26,料理一覧!$A$3:$N$20000,6,FALSE),\"0\")","v":0},{"$f":"IFERROR(VLOOKUP($C26,料理一覧!$A$3:$N$20000,7,FALSE),\"0\")","v":0},{"$f":"IFERROR(VLOOKUP($C26,料理一覧!$A$3:$N$20000,8,FALSE),\"0\")","v":0},{"$f":"IFERROR(VLOOKUP($C26,料理一覧!$A$3:$N$20000,9,FALSE),\"0\")","v":0},{"$f":"IFERROR(VLOOKUP($C26,料理一覧!$A$3:$N$20000,10,FALSE),\"0\")","v":0},{"$f":"IFERROR(VLOOKUP($C26,料理一覧!$A$3:$N$20000,11,FALSE),\"0\")","v":0},{"$f":"IFERROR(VLOOKUP($C26,料理一覧!$A$3:$N$20000,12,FALSE),\"0\")","v":0},{"$f":"IFERROR(VLOOKUP($C26,料理一覧!$A$3:$N$20000,13,FALSE),\"0\")","v":0},{"$f":"IFERROR(VLOOKUP($C26,料理一覧!$A$3:$N$20000,14,FALSE),\"0\")","v":0},{"$f":"IFERROR(VLOOKUP($D26,料理一覧!$A$3:$N$20000,4,FALSE),\"0\")","v":0},{"$f":"IFERROR(VLOOKUP($D26,料理一覧!$A$3:$N$20000,5,FALSE),\"0\")","v":0},{"$f":"IFERROR(VLOOKUP($D26,料理一覧!$A$3:$N$20000,6,FALSE),\"0\")","v":0},{"$f":"IFERROR(VLOOKUP($D26,料理一覧!$A$3:$N$20000,7,FALSE),\"0\")","v":0},{"$f":"IFERROR(VLOOKUP($D26,料理一覧!$A$3:$N$20000,8,FALSE),\"0\")","v":0},{"$f":"IFERROR(VLOOKUP($D26,料理一覧!$A$3:$N$20000,9,FALSE),\"0\")","v":0},{"$f":"IFERROR(VLOOKUP($D26,料理一覧!$A$3:$N$20000,10,FALSE),\"0\")","v":0},{"$f":"IFERROR(VLOOKUP($D26,料理一覧!$A$3:$N$20000,11,FALSE),\"0\")","v":0},{"$f":"IFERROR(VLOOKUP($D26,料理一覧!$A$3:$N$20000,12,FALSE),\"0\")","v":0},{"$f":"IFERROR(VLOOKUP($D26,料理一覧!$A$3:$N$20000,13,FALSE),\"0\")","v":0},{"$f":"IFERROR(VLOOKUP($D26,料理一覧!$A$3:$N$20000,14,FALSE),\"0\")","v":0},{"$f":"IFERROR(VLOOKUP($E26,料理一覧!$A$3:$N$20000,4,FALSE),\"0\")","v":0},{"$f":"IFERROR(VLOOKUP($E26,料理一覧!$A$3:$N$20000,5,FALSE),\"0\")","v":0},{"$f":"IFERROR(VLOOKUP($E26,料理一覧!$A$3:$N$20000,6,FALSE),\"0\")","v":0},{"$f":"IFERROR(VLOOKUP($E26,料理一覧!$A$3:$N$20000,7,FALSE),\"0\")","v":0},{"$f":"IFERROR(VLOOKUP($E26,料理一覧!$A$3:$N$20000,8,FALSE),\"0\")","v":0},{"$f":"IFERROR(VLOOKUP($E26,料理一覧!$A$3:$N$20000,9,FALSE),\"0\")","v":0},{"$f":"IFERROR(VLOOKUP($E26,料理一覧!$A$3:$N$20000,10,FALSE),\"0\")","v":0},{"$f":"IFERROR(VLOOKUP($E26,料理一覧!$A$3:$N$20000,11,FALSE),\"0\")","v":0},{"$f":"IFERROR(VLOOKUP($E26,料理一覧!$A$3:$N$20000,12,FALSE),\"0\")","v":0},{"$f":"IFERROR(VLOOKUP($E26,料理一覧!$A$3:$N$20000,13,FALSE),\"0\")","v":0},{"$f":"IFERROR(VLOOKUP($E26,料理一覧!$A$3:$N$20000,14,FALSE),\"0\")","v":0},0,0,0,0,0,0,0,0,0,0,0,{"$f":"SUM(BS26+'月間献立（幼児）'!$U27*('月間献立（乳児）'!P$36*0.01))","v":0},{"$f":"SUM(BT26+'月間献立（幼児）'!$V27*('月間献立（乳児）'!P$36*0.01))","v":0},{"$f":"SUM(BU26+'月間献立（幼児）'!$W27*('月間献立（乳児）'!P$36*0.01))","v":0},{"$f":"SUM(BV26+'月間献立（幼児）'!$X27*('月間献立（乳児）'!P$36*0.01))","v":0},{"$f":"SUM(BW26+'月間献立（幼児）'!$Y27*('月間献立（乳児）'!P$36*0.01))","v":0},{"$f":"SUM(BX26+'月間献立（幼児）'!$Z27*('月間献立（乳児）'!P$36*0.01))","v":0},{"$f":"SUM(BY26+'月間献立（幼児）'!$AA27*('月間献立（乳児）'!P$36*0.01))","v":0},{"$f":"SUM(BZ26+'月間献立（幼児）'!$AB27*('月間献立（乳児）'!P$36*0.01))","v":0},{"$f":"SUM(CA26+'月間献立（幼児）'!$AC27*('月間献立（乳児）'!P$36*0.01))","v":0},{"$f":"SUM(CB26+'月間献立（幼児）'!$AD27*('月間献立（乳児）'!P$36*0.01))","v":0},{"$f":"SUM(CC26+'月間献立（幼児）'!$AE27*('月間献立（乳児）'!P$36*0.01))","v":0}]
[{"$f":"+'月間献立（幼児）'!A28","v":24},{"$f":"+'月間献立（幼児）'!B28","v":"(月)"},null,null,null,{"$f":"+'月間献立（幼児）'!C28","v":0},{"$f":"+'月間献立（幼児）'!D28","v":0},{"$f":"+'月間献立（幼児）'!E28","v":0},{"$f":"+'月間献立（幼児）'!F28","v":0},{"$f":"+'月間献立（幼児）'!G28","v":0},{"$f":"+'月間献立（幼児）'!H28","v":0},{"$f":"+'月間献立（幼児）'!I28","v":0},{"$f":"+'月間献立（幼児）'!J28","v":0},{"$f":"+'月間献立（幼児）'!K28","v":0},{"$f":"IFERROR(VLOOKUP($C27,料理一覧!$A$3:$N$20000,3,FALSE),\"\")","v":0},{"$f":"IFERROR(VLOOKUP($D27,料理一覧!$A$3:$N$20000,3,FALSE),\"\")","v":0},{"$f":"IFERROR(VLOOKUP($E27,料理一覧!$A$3:$N$20000,3,FALSE),\"\")","v":0},{"$f":"+'月間献立（幼児）'!L28","v":0},{"$f":"+'月間献立（幼児）'!M28","v":0},{"$f":"+'月間献立（幼児）'!N28","v":0},{"$f":"+'月間献立（幼児）'!O28","v":0},{"$f":"+'月間献立（幼児）'!P28","v":0},{"$f":"+'月間献立（幼児）'!Q28","v":0},{"$f":"+'月間献立（幼児）'!R28","v":0},{"$f":"+'月間献立（幼児）'!S28","v":0},{"$f":"+'月間献立（幼児）'!T28","v":0},0,0,0,0,0,0,0,0,0,0,0,{"$f":"IFERROR(VLOOKUP($C27,料理一覧!$A$3:$N$20000,4,FALSE),\"0\")","v":0},{"$f":"IFERROR(VLOOKUP($C27,料理一覧!$A$3:$N$20000,5,FALSE),\"0\")","v":0},{"$f":"IFERROR(VLOOKUP($C27,料理一覧!$A$3:$N$20000,6,FALSE),\"0\")","v":0},{"$f":"IFERROR(VLOOKUP($C27,料理一覧!$A$3:$N$20000,7,FALSE),\"0\")","v":0},{"$f":"IFERROR(VLOOKUP($C27,料理一覧!$A$3:$N$20000,8,FALSE),\"0\")","v":0},{"$f":"IFERROR(VLOOKUP($C27,料理一覧!$A$3:$N$20000,9,FALSE),\"0\")","v":0},{"$f":"IFERROR(VLOOKUP($C27,料理一覧!$A$3:$N$20000,10,FALSE),\"0\")","v":0},{"$f":"IFERROR(VLOOKUP($C27,料理一覧!$A$3:$N$20000,11,FALSE),\"0\")","v":0},{"$f":"IFERROR(VLOOKUP($C27,料理一覧!$A$3:$N$20000,12,FALSE),\"0\")","v":0},{"$f":"IFERROR(VLOOKUP($C27,料理一覧!$A$3:$N$20000,13,FALSE),\"0\")","v":0},{"$f":"IFERROR(VLOOKUP($C27,料理一覧!$A$3:$N$20000,14,FALSE),\"0\")","v":0},{"$f":"IFERROR(VLOOKUP($D27,料理一覧!$A$3:$N$20000,4,FALSE),\"0\")","v":0},{"$f":"IFERROR(VLOOKUP($D27,料理一覧!$A$3:$N$20000,5,FALSE),\"0\")","v":0},{"$f":"IFERROR(VLOOKUP($D27,料理一覧!$A$3:$N$20000,6,FALSE),\"0\")","v":0},{"$f":"IFERROR(VLOOKUP($D27,料理一覧!$A$3:$N$20000,7,FALSE),\"0\")","v":0},{"$f":"IFERROR(VLOOKUP($D27,料理一覧!$A$3:$N$20000,8,FALSE),\"0\")","v":0},{"$f":"IFERROR(VLOOKUP($D27,料理一覧!$A$3:$N$20000,9,FALSE),\"0\")","v":0},{"$f":"IFERROR(VLOOKUP($D27,料理一覧!$A$3:$N$20000,10,FALSE),\"0\")","v":0},{"$f":"IFERROR(VLOOKUP($D27,料理一覧!$A$3:$N$20000,11,FALSE),\"0\")","v":0},{"$f":"IFERROR(VLOOKUP($D27,料理一覧!$A$3:$N$20000,12,FALSE),\"0\")","v":0},{"$f":"IFERROR(VLOOKUP($D27,料理一覧!$A$3:$N$20000,13,FALSE),\"0\")","v":0},{"$f":"IFERROR(VLOOKUP($D27,料理一覧!$A$3:$N$20000,14,FALSE),\"0\")","v":0},{"$f":"IFERROR(VLOOKUP($E27,料理一覧!$A$3:$N$20000,4,FALSE),\"0\")","v":0},{"$f":"IFERROR(VLOOKUP($E27,料理一覧!$A$3:$N$20000,5,FALSE),\"0\")","v":0},{"$f":"IFERROR(VLOOKUP($E27,料理一覧!$A$3:$N$20000,6,FALSE),\"0\")","v":0},{"$f":"IFERROR(VLOOKUP($E27,料理一覧!$A$3:$N$20000,7,FALSE),\"0\")","v":0},{"$f":"IFERROR(VLOOKUP($E27,料理一覧!$A$3:$N$20000,8,FALSE),\"0\")","v":0},{"$f":"IFERROR(VLOOKUP($E27,料理一覧!$A$3:$N$20000,9,FALSE),\"0\")","v":0},{"$f":"IFERROR(VLOOKUP($E27,料理一覧!$A$3:$N$20000,10,FALSE),\"0\")","v":0},{"$f":"IFERROR(VLOOKUP($E27,料理一覧!$A$3:$N$20000,11,FALSE),\"0\")","v":0},{"$f":"IFERROR(VLOOKUP($E27,料理一覧!$A$3:$N$20000,12,FALSE),\"0\")","v":0},{"$f":"IFERROR(VLOOKUP($E27,料理一覧!$A$3:$N$20000,13,FALSE),\"0\")","v":0},{"$f":"IFERROR(VLOOKUP($E27,料理一覧!$A$3:$N$20000,14,FALSE),\"0\")","v":0},0,0,0,0,0,0,0,0,0,0,0,{"$f":"SUM(BS27+'月間献立（幼児）'!$U28*('月間献立（乳児）'!P$36*0.01))","v":0},{"$f":"SUM(BT27+'月間献立（幼児）'!$V28*('月間献立（乳児）'!P$36*0.01))","v":0},{"$f":"SUM(BU27+'月間献立（幼児）'!$W28*('月間献立（乳児）'!P$36*0.01))","v":0},{"$f":"SUM(BV27+'月間献立（幼児）'!$X28*('月間献立（乳児）'!P$36*0.01))","v":0},{"$f":"SUM(BW27+'月間献立（幼児）'!$Y28*('月間献立（乳児）'!P$36*0.01))","v":0},{"$f":"SUM(BX27+'月間献立（幼児）'!$Z28*('月間献立（乳児）'!P$36*0.01))","v":0},{"$f":"SUM(BY27+'月間献立（幼児）'!$AA28*('月間献立（乳児）'!P$36*0.01))","v":0},{"$f":"SUM(BZ27+'月間献立（幼児）'!$AB28*('月間献立（乳児）'!P$36*0.01))","v":0},{"$f":"SUM(CA27+'月間献立（幼児）'!$AC28*('月間献立（乳児）'!P$36*0.01))","v":0},{"$f":"SUM(CB27+'月間献立（幼児）'!$AD28*('月間献立（乳児）'!P$36*0.01))","v":0},{"$f":"SUM(CC27+'月間献立（幼児）'!$AE28*('月間献立（乳児）'!P$36*0.01))","v":0}]
[{"$f":"+'月間献立（幼児）'!A29","v":25},{"$f":"+'月間献立（幼児）'!B29","v":"(火)"},null,null,null,{"$f":"+'月間献立（幼児）'!C29","v":0},{"$f":"+'月間献立（幼児）'!D29","v":0},{"$f":"+'月間献立（幼児）'!E29","v":0},{"$f":"+'月間献立（幼児）'!F29","v":0},{"$f":"+'月間献立（幼児）'!G29","v":0},{"$f":"+'月間献立（幼児）'!H29","v":0},{"$f":"+'月間献立（幼児）'!I29","v":0},{"$f":"+'月間献立（幼児）'!J29","v":0},{"$f":"+'月間献立（幼児）'!K29","v":0},{"$f":"IFERROR(VLOOKUP($C28,料理一覧!$A$3:$N$20000,3,FALSE),\"\")","v":0},{"$f":"IFERROR(VLOOKUP($D28,料理一覧!$A$3:$N$20000,3,FALSE),\"\")","v":0},{"$f":"IFERROR(VLOOKUP($E28,料理一覧!$A$3:$N$20000,3,FALSE),\"\")","v":0},{"$f":"+'月間献立（幼児）'!L29","v":0},{"$f":"+'月間献立（幼児）'!M29","v":0},{"$f":"+'月間献立（幼児）'!N29","v":0},{"$f":"+'月間献立（幼児）'!O29","v":0},{"$f":"+'月間献立（幼児）'!P29","v":0},{"$f":"+'月間献立（幼児）'!Q29","v":0},{"$f":"+'月間献立（幼児）'!R29","v":0},{"$f":"+'月間献立（幼児）'!S29","v":0},{"$f":"+'月間献立（幼児）'!T29","v":0},0,0,0,0,0,0,0,0,0,0,0,{"$f":"IFERROR(VLOOKUP($C28,料理一覧!$A$3:$N$20000,4,FALSE),\"0\")","v":0},{"$f":"IFERROR(VLOOKUP($C28,料理一覧!$A$3:$N$20000,5,FALSE),\"0\")","v":0},{"$f":"IFERROR(VLOOKUP($C28,料理一覧!$A$3:$N$20000,6,FALSE),\"0\")","v":0},{"$f":"IFERROR(VLOOKUP($C28,料理一覧!$A$3:$N$20000,7,FALSE),\"0\")","v":0},{"$f":"IFERROR(VLOOKUP($C28,料理一覧!$A$3:$N$20000,8,FALSE),\"0\")","v":0},{"$f":"IFERROR(VLOOKUP($C28,料理一覧!$A$3:$N$20000,9,FALSE),\"0\")","v":0},{"$f":"IFERROR(VLOOKUP($C28,料理一覧!$A$3:$N$20000,10,FALSE),\"0\")","v":0},{"$f":"IFERROR(VLOOKUP($C28,料理一覧!$A$3:$N$20000,11,FALSE),\"0\")","v":0},{"$f":"IFERROR(VLOOKUP($C28,料理一覧!$A$3:$N$20000,12,FALSE),\"0\")","v":0},{"$f":"IFERROR(VLOOKUP($C28,料理一覧!$A$3:$N$20000,13,FALSE),\"0\")","v":0},{"$f":"IFERROR(VLOOKUP($C28,料理一覧!$A$3:$N$20000,14,FALSE),\"0\")","v":0},{"$f":"IFERROR(VLOOKUP($D28,料理一覧!$A$3:$N$20000,4,FALSE),\"0\")","v":0},{"$f":"IFERROR(VLOOKUP($D28,料理一覧!$A$3:$N$20000,5,FALSE),\"0\")","v":0},{"$f":"IFERROR(VLOOKUP($D28,料理一覧!$A$3:$N$20000,6,FALSE),\"0\")","v":0},{"$f":"IFERROR(VLOOKUP($D28,料理一覧!$A$3:$N$20000,7,FALSE),\"0\")","v":0},{"$f":"IFERROR(VLOOKUP($D28,料理一覧!$A$3:$N$20000,8,FALSE),\"0\")","v":0},{"$f":"IFERROR(VLOOKUP($D28,料理一覧!$A$3:$N$20000,9,FALSE),\"0\")","v":0},{"$f":"IFERROR(VLOOKUP($D28,料理一覧!$A$3:$N$20000,10,FALSE),\"0\")","v":0},{"$f":"IFERROR(VLOOKUP($D28,料理一覧!$A$3:$N$20000,11,FALSE),\"0\")","v":0},{"$f":"IFERROR(VLOOKUP($D28,料理一覧!$A$3:$N$20000,12,FALSE),\"0\")","v":0},{"$f":"IFERROR(VLOOKUP($D28,料理一覧!$A$3:$N$20000,13,FALSE),\"0\")","v":0},{"$f":"IFERROR(VLOOKUP($D28,料理一覧!$A$3:$N$20000,14,FALSE),\"0\")","v":0},{"$f":"IFERROR(VLOOKUP($E28,料理一覧!$A$3:$N$20000,4,FALSE),\"0\")","v":0},{"$f":"IFERROR(VLOOKUP($E28,料理一覧!$A$3:$N$20000,5,FALSE),\"0\")","v":0},{"$f":"IFERROR(VLOOKUP($E28,料理一覧!$A$3:$N$20000,6,FALSE),\"0\")","v":0},{"$f":"IFERROR(VLOOKUP($E28,料理一覧!$A$3:$N$20000,7,FALSE),\"0\")","v":0},{"$f":"IFERROR(VLOOKUP($E28,料理一覧!$A$3:$N$20000,8,FALSE),\"0\")","v":0},{"$f":"IFERROR(VLOOKUP($E28,料理一覧!$A$3:$N$20000,9,FALSE),\"0\")","v":0},{"$f":"IFERROR(VLOOKUP($E28,料理一覧!$A$3:$N$20000,10,FALSE),\"0\")","v":0},{"$f":"IFERROR(VLOOKUP($E28,料理一覧!$A$3:$N$20000,11,FALSE),\"0\")","v":0},{"$f":"IFERROR(VLOOKUP($E28,料理一覧!$A$3:$N$20000,12,FALSE),\"0\")","v":0},{"$f":"IFERROR(VLOOKUP($E28,料理一覧!$A$3:$N$20000,13,FALSE),\"0\")","v":0},{"$f":"IFERROR(VLOOKUP($E28,料理一覧!$A$3:$N$20000,14,FALSE),\"0\")","v":0},0,0,0,0,0,0,0,0,0,0,0,{"$f":"SUM(BS28+'月間献立（幼児）'!$U29*('月間献立（乳児）'!P$36*0.01))","v":0},{"$f":"SUM(BT28+'月間献立（幼児）'!$V29*('月間献立（乳児）'!P$36*0.01))","v":0},{"$f":"SUM(BU28+'月間献立（幼児）'!$W29*('月間献立（乳児）'!P$36*0.01))","v":0},{"$f":"SUM(BV28+'月間献立（幼児）'!$X29*('月間献立（乳児）'!P$36*0.01))","v":0},{"$f":"SUM(BW28+'月間献立（幼児）'!$Y29*('月間献立（乳児）'!P$36*0.01))","v":0},{"$f":"SUM(BX28+'月間献立（幼児）'!$Z29*('月間献立（乳児）'!P$36*0.01))","v":0},{"$f":"SUM(BY28+'月間献立（幼児）'!$AA29*('月間献立（乳児）'!P$36*0.01))","v":0},{"$f":"SUM(BZ28+'月間献立（幼児）'!$AB29*('月間献立（乳児）'!P$36*0.01))","v":0},{"$f":"SUM(CA28+'月間献立（幼児）'!$AC29*('月間献立（乳児）'!P$36*0.01))","v":0},{"$f":"SUM(CB28+'月間献立（幼児）'!$AD29*('月間献立（乳児）'!P$36*0.01))","v":0},{"$f":"SUM(CC28+'月間献立（幼児）'!$AE29*('月間献立（乳児）'!P$36*0.01))","v":0}]
[{"$f":"+'月間献立（幼児）'!A30","v":26},{"$f":"+'月間献立（幼児）'!B30","v":"(水)"},null,null,null,{"$f":"+'月間献立（幼児）'!C30","v":0},{"$f":"+'月間献立（幼児）'!D30","v":0},{"$f":"+'月間献立（幼児）'!E30","v":0},{"$f":"+'月間献立（幼児）'!F30","v":0},{"$f":"+'月間献立（幼児）'!G30","v":0},{"$f":"+'月間献立（幼児）'!H30","v":0},{"$f":"+'月間献立（幼児）'!I30","v":0},{"$f":"+'月間献立（幼児）'!J30","v":0},{"$f":"+'月間献立（幼児）'!K30","v":0},{"$f":"IFERROR(VLOOKUP($C29,料理一覧!$A$3:$N$20000,3,FALSE),\"\")","v":0},{"$f":"IFERROR(VLOOKUP($D29,料理一覧!$A$3:$N$20000,3,FALSE),\"\")","v":0},{"$f":"IFERROR(VLOOKUP($E29,料理一覧!$A$3:$N$20000,3,FALSE),\"\")","v":0},{"$f":"+'月間献立（幼児）'!L30","v":0},{"$f":"+'月間献立（幼児）'!M30","v":0},{"$f":"+'月間献立（幼児）'!N30","v":0},{"$f":"+'月間献立（幼児）'!O30","v":0},{"$f":"+'月間献立（幼児）'!P30","v":0},{"$f":"+'月間献立（幼児）'!Q30","v":0},{"$f":"+'月間献立（幼児）'!R30","v":0},{"$f":"+'月間献立（幼児）'!S30","v":0},{"$f":"+'月間献立（幼児）'!T30","v":0},0,0,0,0,0,0,0,0,0,0,0,{"$f":"IFERROR(VLOOKUP($C29,料理一覧!$A$3:$N$20000,4,FALSE),\"0\")","v":0},{"$f":"IFERROR(VLOOKUP($C29,料理一覧!$A$3:$N$20000,5,FALSE),\"0\")","v":0},{"$f":"IFERROR(VLOOKUP($C29,料理一覧!$A$3:$N$20000,6,FALSE),\"0\")","v":0},{"$f":"IFERROR(VLOOKUP($C29,料理一覧!$A$3:$N$20000,7,FALSE),\"0\")","v":0},{"$f":"IFERROR(VLOOKUP($C29,料理一覧!$A$3:$N$20000,8,FALSE),\"0\")","v":0},{"$f":"IFERROR(VLOOKUP($C29,料理一覧!$A$3:$N$20000,9,FALSE),\"0\")","v":0},{"$f":"IFERROR(VLOOKUP($C29,料理一覧!$A$3:$N$20000,10,FALSE),\"0\")","v":0},{"$f":"IFERROR(VLOOKUP($C29,料理一覧!$A$3:$N$20000,11,FALSE),\"0\")","v":0},{"$f":"IFERROR(VLOOKUP($C29,料理一覧!$A$3:$N$20000,12,FALSE),\"0\")","v":0},{"$f":"IFERROR(VLOOKUP($C29,料理一覧!$A$3:$N$20000,13,FALSE),\"0\")","v":0},{"$f":"IFERROR(VLOOKUP($C29,料理一覧!$A$3:$N$20000,14,FALSE),\"0\")","v":0},{"$f":"IFERROR(VLOOKUP($D29,料理一覧!$A$3:$N$20000,4,FALSE),\"0\")","v":0},{"$f":"IFERROR(VLOOKUP($D29,料理一覧!$A$3:$N$20000,5,FALSE),\"0\")","v":0},{"$f":"IFERROR(VLOOKUP($D29,料理一覧!$A$3:$N$20000,6,FALSE),\"0\")","v":0},{"$f":"IFERROR(VLOOKUP($D29,料理一覧!$A$3:$N$20000,7,FALSE),\"0\")","v":0},{"$f":"IFERROR(VLOOKUP($D29,料理一覧!$A$3:$N$20000,8,FALSE),\"0\")","v":0},{"$f":"IFERROR(VLOOKUP($D29,料理一覧!$A$3:$N$20000,9,FALSE),\"0\")","v":0},{"$f":"IFERROR(VLOOKUP($D29,料理一覧!$A$3:$N$20000,10,FALSE),\"0\")","v":0},{"$f":"IFERROR(VLOOKUP($D29,料理一覧!$A$3:$N$20000,11,FALSE),\"0\")","v":0},{"$f":"IFERROR(VLOOKUP($D29,料理一覧!$A$3:$N$20000,12,FALSE),\"0\")","v":0},{"$f":"IFERROR(VLOOKUP($D29,料理一覧!$A$3:$N$20000,13,FALSE),\"0\")","v":0},{"$f":"IFERROR(VLOOKUP($D29,料理一覧!$A$3:$N$20000,14,FALSE),\"0\")","v":0},{"$f":"IFERROR(VLOOKUP($E29,料理一覧!$A$3:$N$20000,4,FALSE),\"0\")","v":0},{"$f":"IFERROR(VLOOKUP($E29,料理一覧!$A$3:$N$20000,5,FALSE),\"0\")","v":0},{"$f":"IFERROR(VLOOKUP($E29,料理一覧!$A$3:$N$20000,6,FALSE),\"0\")","v":0},{"$f":"IFERROR(VLOOKUP($E29,料理一覧!$A$3:$N$20000,7,FALSE),\"0\")","v":0},{"$f":"IFERROR(VLOOKUP($E29,料理一覧!$A$3:$N$20000,8,FALSE),\"0\")","v":0},{"$f":"IFERROR(VLOOKUP($E29,料理一覧!$A$3:$N$20000,9,FALSE),\"0\")","v":0},{"$f":"IFERROR(VLOOKUP($E29,料理一覧!$A$3:$N$20000,10,FALSE),\"0\")","v":0},{"$f":"IFERROR(VLOOKUP($E29,料理一覧!$A$3:$N$20000,11,FALSE),\"0\")","v":0},{"$f":"IFERROR(VLOOKUP($E29,料理一覧!$A$3:$N$20000,12,FALSE),\"0\")","v":0},{"$f":"IFERROR(VLOOKUP($E29,料理一覧!$A$3:$N$20000,13,FALSE),\"0\")","v":0},{"$f":"IFERROR(VLOOKUP($E29,料理一覧!$A$3:$N$20000,14,FALSE),\"0\")","v":0},0,0,0,0,0,0,0,0,0,0,0,{"$f":"SUM(BS29+'月間献立（幼児）'!$U30*('月間献立（乳児）'!P$36*0.01))","v":0},{"$f":"SUM(BT29+'月間献立（幼児）'!$V30*('月間献立（乳児）'!P$36*0.01))","v":0},{"$f":"SUM(BU29+'月間献立（幼児）'!$W30*('月間献立（乳児）'!P$36*0.01))","v":0},{"$f":"SUM(BV29+'月間献立（幼児）'!$X30*('月間献立（乳児）'!P$36*0.01))","v":0},{"$f":"SUM(BW29+'月間献立（幼児）'!$Y30*('月間献立（乳児）'!P$36*0.01))","v":0},{"$f":"SUM(BX29+'月間献立（幼児）'!$Z30*('月間献立（乳児）'!P$36*0.01))","v":0},{"$f":"SUM(BY29+'月間献立（幼児）'!$AA30*('月間献立（乳児）'!P$36*0.01))","v":0},{"$f":"SUM(BZ29+'月間献立（幼児）'!$AB30*('月間献立（乳児）'!P$36*0.01))","v":0},{"$f":"SUM(CA29+'月間献立（幼児）'!$AC30*('月間献立（乳児）'!P$36*0.01))","v":0},{"$f":"SUM(CB29+'月間献立（幼児）'!$AD30*('月間献立（乳児）'!P$36*0.01))","v":0},{"$f":"SUM(CC29+'月間献立（幼児）'!$AE30*('月間献立（乳児）'!P$36*0.01))","v":0}]
[{"$f":"+'月間献立（幼児）'!A31","v":27},{"$f":"+'月間献立（幼児）'!B31","v":"(木)"},null,null,null,{"$f":"+'月間献立（幼児）'!C31","v":0},{"$f":"+'月間献立（幼児）'!D31","v":0},{"$f":"+'月間献立（幼児）'!E31","v":0},{"$f":"+'月間献立（幼児）'!F31","v":0},{"$f":"+'月間献立（幼児）'!G31","v":0},{"$f":"+'月間献立（幼児）'!H31","v":0},{"$f":"+'月間献立（幼児）'!I31","v":0},{"$f":"+'月間献立（幼児）'!J31","v":0},{"$f":"+'月間献立（幼児）'!K31","v":0},{"$f":"IFERROR(VLOOKUP($C30,料理一覧!$A$3:$N$20000,3,FALSE),\"\")","v":0},{"$f":"IFERROR(VLOOKUP($D30,料理一覧!$A$3:$N$20000,3,FALSE),\"\")","v":0},{"$f":"IFERROR(VLOOKUP($E30,料理一覧!$A$3:$N$20000,3,FALSE),\"\")","v":0},{"$f":"+'月間献立（幼児）'!L31","v":0},{"$f":"+'月間献立（幼児）'!M31","v":0},{"$f":"+'月間献立（幼児）'!N31","v":0},{"$f":"+'月間献立（幼児）'!O31","v":0},{"$f":"+'月間献立（幼児）'!P31","v":0},{"$f":"+'月間献立（幼児）'!Q31","v":0},{"$f":"+'月間献立（幼児）'!R31","v":0},{"$f":"+'月間献立（幼児）'!S31","v":0},{"$f":"+'月間献立（幼児）'!T31","v":0},0,0,0,0,0,0,0,0,0,0,0,{"$f":"IFERROR(VLOOKUP($C30,料理一覧!$A$3:$N$20000,4,FALSE),\"0\")","v":0},{"$f":"IFERROR(VLOOKUP($C30,料理一覧!$A$3:$N$20000,5,FALSE),\"0\")","v":0},{"$f":"IFERROR(VLOOKUP($C30,料理一覧!$A$3:$N$20000,6,FALSE),\"0\")","v":0},{"$f":"IFERROR(VLOOKUP($C30,料理一覧!$A$3:$N$20000,7,FALSE),\"0\")","v":0},{"$f":"IFERROR(VLOOKUP($C30,料理一覧!$A$3:$N$20000,8,FALSE),\"0\")","v":0},{"$f":"IFERROR(VLOOKUP($C30,料理一覧!$A$3:$N$20000,9,FALSE),\"0\")","v":0},{"$f":"IFERROR(VLOOKUP($C30,料理一覧!$A$3:$N$20000,10,FALSE),\"0\")","v":0},{"$f":"IFERROR(VLOOKUP($C30,料理一覧!$A$3:$N$20000,11,FALSE),\"0\")","v":0},{"$f":"IFERROR(VLOOKUP($C30,料理一覧!$A$3:$N$20000,12,FALSE),\"0\")","v":0},{"$f":"IFERROR(VLOOKUP($C30,料理一覧!$A$3:$N$20000,13,FALSE),\"0\")","v":0},{"$f":"IFERROR(VLOOKUP($C30,料理一覧!$A$3:$N$20000,14,FALSE),\"0\")","v":0},{"$f":"IFERROR(VLOOKUP($D30,料理一覧!$A$3:$N$20000,4,FALSE),\"0\")","v":0},{"$f":"IFERROR(VLOOKUP($D30,料理一覧!$A$3:$N$20000,5,FALSE),\"0\")","v":0},{"$f":"IFERROR(VLOOKUP($D30,料理一覧!$A$3:$N$20000,6,FALSE),\"0\")","v":0},{"$f":"IFERROR(VLOOKUP($D30,料理一覧!$A$3:$N$20000,7,FALSE),\"0\")","v":0},{"$f":"IFERROR(VLOOKUP($D30,料理一覧!$A$3:$N$20000,8,FALSE),\"0\")","v":0},{"$f":"IFERROR(VLOOKUP($D30,料理一覧!$A$3:$N$20000,9,FALSE),\"0\")","v":0},{"$f":"IFERROR(VLOOKUP($D30,料理一覧!$A$3:$N$20000,10,FALSE),\"0\")","v":0},{"$f":"IFERROR(VLOOKUP($D30,料理一覧!$A$3:$N$20000,11,FALSE),\"0\")","v":0},{"$f":"IFERROR(VLOOKUP($D30,料理一覧!$A$3:$N$20000,12,FALSE),\"0\")","v":0},{"$f":"IFERROR(VLOOKUP($D30,料理一覧!$A$3:$N$20000,13,FALSE),\"0\")","v":0},{"$f":"IFERROR(VLOOKUP($D30,料理一覧!$A$3:$N$20000,14,FALSE),\"0\")","v":0},{"$f":"IFERROR(VLOOKUP($E30,料理一覧!$A$3:$N$20000,4,FALSE),\"0\")","v":0},{"$f":"IFERROR(VLOOKUP($E30,料理一覧!$A$3:$N$20000,5,FALSE),\"0\")","v":0},{"$f":"IFERROR(VLOOKUP($E30,料理一覧!$A$3:$N$20000,6,FALSE),\"0\")","v":0},{"$f":"IFERROR(VLOOKUP($E30,料理一覧!$A$3:$N$20000,7,FALSE),\"0\")","v":0},{"$f":"IFERROR(VLOOKUP($E30,料理一覧!$A$3:$N$20000,8,FALSE),\"0\")","v":0},{"$f":"IFERROR(VLOOKUP($E30,料理一覧!$A$3:$N$20000,9,FALSE),\"0\")","v":0},{"$f":"IFERROR(VLOOKUP($E30,料理一覧!$A$3:$N$20000,10,FALSE),\"0\")","v":0},{"$f":"IFERROR(VLOOKUP($E30,料理一覧!$A$3:$N$20000,11,FALSE),\"0\")","v":0},{"$f":"IFERROR(VLOOKUP($E30,料理一覧!$A$3:$N$20000,12,FALSE),\"0\")","v":0},{"$f":"IFERROR(VLOOKUP($E30,料理一覧!$A$3:$N$20000,13,FALSE),\"0\")","v":0},{"$f":"IFERROR(VLOOKUP($E30,料理一覧!$A$3:$N$20000,14,FALSE),\"0\")","v":0},0,0,0,0,0,0,0,0,0,0,0,{"$f":"SUM(BS30+'月間献立（幼児）'!$U31*('月間献立（乳児）'!P$36*0.01))","v":0},{"$f":"SUM(BT30+'月間献立（幼児）'!$V31*('月間献立（乳児）'!P$36*0.01))","v":0},{"$f":"SUM(BU30+'月間献立（幼児）'!$W31*('月間献立（乳児）'!P$36*0.01))","v":0},{"$f":"SUM(BV30+'月間献立（幼児）'!$X31*('月間献立（乳児）'!P$36*0.01))","v":0},{"$f":"SUM(BW30+'月間献立（幼児）'!$Y31*('月間献立（乳児）'!P$36*0.01))","v":0},{"$f":"SUM(BX30+'月間献立（幼児）'!$Z31*('月間献立（乳児）'!P$36*0.01))","v":0},{"$f":"SUM(BY30+'月間献立（幼児）'!$AA31*('月間献立（乳児）'!P$36*0.01))","v":0},{"$f":"SUM(BZ30+'月間献立（幼児）'!$AB31*('月間献立（乳児）'!P$36*0.01))","v":0},{"$f":"SUM(CA30+'月間献立（幼児）'!$AC31*('月間献立（乳児）'!P$36*0.01))","v":0},{"$f":"SUM(CB30+'月間献立（幼児）'!$AD31*('月間献立（乳児）'!P$36*0.01))","v":0},{"$f":"SUM(CC30+'月間献立（幼児）'!$AE31*('月間献立（乳児）'!P$36*0.01))","v":0}]
[{"$f":"+'月間献立（幼児）'!A32","v":28},{"$f":"+'月間献立（幼児）'!B32","v":"(金)"},null,null,null,{"$f":"+'月間献立（幼児）'!C32","v":0},{"$f":"+'月間献立（幼児）'!D32","v":0},{"$f":"+'月間献立（幼児）'!E32","v":0},{"$f":"+'月間献立（幼児）'!F32","v":0},{"$f":"+'月間献立（幼児）'!G32","v":0},{"$f":"+'月間献立（幼児）'!H32","v":0},{"$f":"+'月間献立（幼児）'!I32","v":0},{"$f":"+'月間献立（幼児）'!J32","v":0},{"$f":"+'月間献立（幼児）'!K32","v":0},{"$f":"IFERROR(VLOOKUP($C31,料理一覧!$A$3:$N$20000,3,FALSE),\"\")","v":0},{"$f":"IFERROR(VLOOKUP($D31,料理一覧!$A$3:$N$20000,3,FALSE),\"\")","v":0},{"$f":"IFERROR(VLOOKUP($E31,料理一覧!$A$3:$N$20000,3,FALSE),\"\")","v":0},{"$f":"+'月間献立（幼児）'!L32","v":0},{"$f":"+'月間献立（幼児）'!M32","v":0},{"$f":"+'月間献立（幼児）'!N32","v":0},{"$f":"+'月間献立（幼児）'!O32","v":0},{"$f":"+'月間献立（幼児）'!P32","v":0},{"$f":"+'月間献立（幼児）'!Q32","v":0},{"$f":"+'月間献立（幼児）'!R32","v":0},{"$f":"+'月間献立（幼児）'!S32","v":0},{"$f":"+'月間献立（幼児）'!T32","v":0},0,0,0,0,0,0,0,0,0,0,0,{"$f":"IFERROR(VLOOKUP($C31,料理一覧!$A$3:$N$20000,4,FALSE),\"0\")","v":0},{"$f":"IFERROR(VLOOKUP($C31,料理一覧!$A$3:$N$20000,5,FALSE),\"0\")","v":0},{"$f":"IFERROR(VLOOKUP($C31,料理一覧!$A$3:$N$20000,6,FALSE),\"0\")","v":0},{"$f":"IFERROR(VLOOKUP($C31,料理一覧!$A$3:$N$20000,7,FALSE),\"0\")","v":0},{"$f":"IFERROR(VLOOKUP($C31,料理一覧!$A$3:$N$20000,8,FALSE),\"0\")","v":0},{"$f":"IFERROR(VLOOKUP($C31,料理一覧!$A$3:$N$20000,9,FALSE),\"0\")","v":0},{"$f":"IFERROR(VLOOKUP($C31,料理一覧!$A$3:$N$20000,10,FALSE),\"0\")","v":0},{"$f":"IFERROR(VLOOKUP($C31,料理一覧!$A$3:$N$20000,11,FALSE),\"0\")","v":0},{"$f":"IFERROR(VLOOKUP($C31,料理一覧!$A$3:$N$20000,12,FALSE),\"0\")","v":0},{"$f":"IFERROR(VLOOKUP($C31,料理一覧!$A$3:$N$20000,13,FALSE),\"0\")","v":0},{"$f":"IFERROR(VLOOKUP($C31,料理一覧!$A$3:$N$20000,14,FALSE),\"0\")","v":0},{"$f":"IFERROR(VLOOKUP($D31,料理一覧!$A$3:$N$20000,4,FALSE),\"0\")","v":0},{"$f":"IFERROR(VLOOKUP($D31,料理一覧!$A$3:$N$20000,5,FALSE),\"0\")","v":0},{"$f":"IFERROR(VLOOKUP($D31,料理一覧!$A$3:$N$20000,6,FALSE),\"0\")","v":0},{"$f":"IFERROR(VLOOKUP($D31,料理一覧!$A$3:$N$20000,7,FALSE),\"0\")","v":0},{"$f":"IFERROR(VLOOKUP($D31,料理一覧!$A$3:$N$20000,8,FALSE),\"0\")","v":0},{"$f":"IFERROR(VLOOKUP($D31,料理一覧!$A$3:$N$20000,9,FALSE),\"0\")","v":0},{"$f":"IFERROR(VLOOKUP($D31,料理一覧!$A$3:$N$20000,10,FALSE),\"0\")","v":0},{"$f":"IFERROR(VLOOKUP($D31,料理一覧!$A$3:$N$20000,11,FALSE),\"0\")","v":0},{"$f":"IFERROR(VLOOKUP($D31,料理一覧!$A$3:$N$20000,12,FALSE),\"0\")","v":0},{"$f":"IFERROR(VLOOKUP($D31,料理一覧!$A$3:$N$20000,13,FALSE),\"0\")","v":0},{"$f":"IFERROR(VLOOKUP($D31,料理一覧!$A$3:$N$20000,14,FALSE),\"0\")","v":0},{"$f":"IFERROR(VLOOKUP($E31,料理一覧!$A$3:$N$20000,4,FALSE),\"0\")","v":0},{"$f":"IFERROR(VLOOKUP($E31,料理一覧!$A$3:$N$20000,5,FALSE),\"0\")","v":0},{"$f":"IFERROR(VLOOKUP($E31,料理一覧!$A$3:$N$20000,6,FALSE),\"0\")","v":0},{"$f":"IFERROR(VLOOKUP($E31,料理一覧!$A$3:$N$20000,7,FALSE),\"0\")","v":0},{"$f":"IFERROR(VLOOKUP($E31,料理一覧!$A$3:$N$20000,8,FALSE),\"0\")","v":0},{"$f":"IFERROR(VLOOKUP($E31,料理一覧!$A$3:$N$20000,9,FALSE),\"0\")","v":0},{"$f":"IFERROR(VLOOKUP($E31,料理一覧!$A$3:$N$20000,10,FALSE),\"0\")","v":0},{"$f":"IFERROR(VLOOKUP($E31,料理一覧!$A$3:$N$20000,11,FALSE),\"0\")","v":0},{"$f":"IFERROR(VLOOKUP($E31,料理一覧!$A$3:$N$20000,12,FALSE),\"0\")","v":0},{"$f":"IFERROR(VLOOKUP($E31,料理一覧!$A$3:$N$20000,13,FALSE),\"0\")","v":0},{"$f":"IFERROR(VLOOKUP($E31,料理一覧!$A$3:$N$20000,14,FALSE),\"0\")","v":0},0,0,0,0,0,0,0,0,0,0,0,{"$f":"SUM(BS31+'月間献立（幼児）'!$U32*('月間献立（乳児）'!P$36*0.01))","v":0},{"$f":"SUM(BT31+'月間献立（幼児）'!$V32*('月間献立（乳児）'!P$36*0.01))","v":0},{"$f":"SUM(BU31+'月間献立（幼児）'!$W32*('月間献立（乳児）'!P$36*0.01))","v":0},{"$f":"SUM(BV31+'月間献立（幼児）'!$X32*('月間献立（乳児）'!P$36*0.01))","v":0},{"$f":"SUM(BW31+'月間献立（幼児）'!$Y32*('月間献立（乳児）'!P$36*0.01))","v":0},{"$f":"SUM(BX31+'月間献立（幼児）'!$Z32*('月間献立（乳児）'!P$36*0.01))","v":0},{"$f":"SUM(BY31+'月間献立（幼児）'!$AA32*('月間献立（乳児）'!P$36*0.01))","v":0},{"$f":"SUM(BZ31+'月間献立（幼児）'!$AB32*('月間献立（乳児）'!P$36*0.01))","v":0},{"$f":"SUM(CA31+'月間献立（幼児）'!$AC32*('月間献立（乳児）'!P$36*0.01))","v":0},{"$f":"SUM(CB31+'月間献立（幼児）'!$AD32*('月間献立（乳児）'!P$36*0.01))","v":0},{"$f":"SUM(CC31+'月間献立（幼児）'!$AE32*('月間献立（乳児）'!P$36*0.01))","v":0}]
[{"$f":"+'月間献立（幼児）'!A33","v":29},{"$f":"+'月間献立（幼児）'!B33","v":"(土)"},null,null,null,{"$f":"+'月間献立（幼児）'!C33","v":0},{"$f":"+'月間献立（幼児）'!D33","v":0},{"$f":"+'月間献立（幼児）'!E33","v":0},{"$f":"+'月間献立（幼児）'!F33","v":0},{"$f":"+'月間献立（幼児）'!G33","v":0},{"$f":"+'月間献立（幼児）'!H33","v":0},{"$f":"+'月間献立（幼児）'!I33","v":0},{"$f":"+'月間献立（幼児）'!J33","v":0},{"$f":"+'月間献立（幼児）'!K33","v":0},{"$f":"IFERROR(VLOOKUP($C32,料理一覧!$A$3:$N$20000,3,FALSE),\"\")","v":0},{"$f":"IFERROR(VLOOKUP($D32,料理一覧!$A$3:$N$20000,3,FALSE),\"\")","v":0},{"$f":"IFERROR(VLOOKUP($E32,料理一覧!$A$3:$N$20000,3,FALSE),\"\")","v":0},{"$f":"+'月間献立（幼児）'!L33","v":0},{"$f":"+'月間献立（幼児）'!M33","v":0},{"$f":"+'月間献立（幼児）'!N33","v":0},{"$f":"+'月間献立（幼児）'!O33","v":0},{"$f":"+'月間献立（幼児）'!P33","v":0},{"$f":"+'月間献立（幼児）'!Q33","v":0},{"$f":"+'月間献立（幼児）'!R33","v":0},{"$f":"+'月間献立（幼児）'!S33","v":0},{"$f":"+'月間献立（幼児）'!T33","v":0},0,0,0,0,0,0,0,0,0,0,0,{"$f":"IFERROR(VLOOKUP($C32,料理一覧!$A$3:$N$20000,4,FALSE),\"0\")","v":0},{"$f":"IFERROR(VLOOKUP($C32,料理一覧!$A$3:$N$20000,5,FALSE),\"0\")","v":0},{"$f":"IFERROR(VLOOKUP($C32,料理一覧!$A$3:$N$20000,6,FALSE),\"0\")","v":0},{"$f":"IFERROR(VLOOKUP($C32,料理一覧!$A$3:$N$20000,7,FALSE),\"0\")","v":0},{"$f":"IFERROR(VLOOKUP($C32,料理一覧!$A$3:$N$20000,8,FALSE),\"0\")","v":0},{"$f":"IFERROR(VLOOKUP($C32,料理一覧!$A$3:$N$20000,9,FALSE),\"0\")","v":0},{"$f":"IFERROR(VLOOKUP($C32,料理一覧!$A$3:$N$20000,10,FALSE),\"0\")","v":0},{"$f":"IFERROR(VLOOKUP($C32,料理一覧!$A$3:$N$20000,11,FALSE),\"0\")","v":0},{"$f":"IFERROR(VLOOKUP($C32,料理一覧!$A$3:$N$20000,12,FALSE),\"0\")","v":0},{"$f":"IFERROR(VLOOKUP($C32,料理一覧!$A$3:$N$20000,13,FALSE),\"0\")","v":0},{"$f":"IFERROR(VLOOKUP($C32,料理一覧!$A$3:$N$20000,14,FALSE),\"0\")","v":0},{"$f":"IFERROR(VLOOKUP($D32,料理一覧!$A$3:$N$20000,4,FALSE),\"0\")","v":0},{"$f":"IFERROR(VLOOKUP($D32,料理一覧!$A$3:$N$20000,5,FALSE),\"0\")","v":0},{"$f":"IFERROR(VLOOKUP($D32,料理一覧!$A$3:$N$20000,6,FALSE),\"0\")","v":0},{"$f":"IFERROR(VLOOKUP($D32,料理一覧!$A$3:$N$20000,7,FALSE),\"0\")","v":0},{"$f":"IFERROR(VLOOKUP($D32,料理一覧!$A$3:$N$20000,8,FALSE),\"0\")","v":0},{"$f":"IFERROR(VLOOKUP($D32,料理一覧!$A$3:$N$20000,9,FALSE),\"0\")","v":0},{"$f":"IFERROR(VLOOKUP($D32,料理一覧!$A$3:$N$20000,10,FALSE),\"0\")","v":0},{"$f":"IFERROR(VLOOKUP($D32,料理一覧!$A$3:$N$20000,11,FALSE),\"0\")","v":0},{"$f":"IFERROR(VLOOKUP($D32,料理一覧!$A$3:$N$20000,12,FALSE),\"0\")","v":0},{"$f":"IFERROR(VLOOKUP($D32,料理一覧!$A$3:$N$20000,13,FALSE),\"0\")","v":0},{"$f":"IFERROR(VLOOKUP($D32,料理一覧!$A$3:$N$20000,14,FALSE),\"0\")","v":0},{"$f":"IFERROR(VLOOKUP($E32,料理一覧!$A$3:$N$20000,4,FALSE),\"0\")","v":0},{"$f":"IFERROR(VLOOKUP($E32,料理一覧!$A$3:$N$20000,5,FALSE),\"0\")","v":0},{"$f":"IFERROR(VLOOKUP($E32,料理一覧!$A$3:$N$20000,6,FALSE),\"0\")","v":0},{"$f":"IFERROR(VLOOKUP($E32,料理一覧!$A$3:$N$20000,7,FALSE),\"0\")","v":0},{"$f":"IFERROR(VLOOKUP($E32,料理一覧!$A$3:$N$20000,8,FALSE),\"0\")","v":0},{"$f":"IFERROR(VLOOKUP($E32,料理一覧!$A$3:$N$20000,9,FALSE),\"0\")","v":0},{"$f":"IFERROR(VLOOKUP($E32,料理一覧!$A$3:$N$20000,10,FALSE),\"0\")","v":0},{"$f":"IFERROR(VLOOKUP($E32,料理一覧!$A$3:$N$20000,11,FALSE),\"0\")","v":0},{"$f":"IFERROR(VLOOKUP($E32,料理一覧!$A$3:$N$20000,12,FALSE),\"0\")","v":0},{"$f":"IFERROR(VLOOKUP($E32,料理一覧!$A$3:$N$20000,13,FALSE),\"0\")","v":0},{"$f":"IFERROR(VLOOKUP($E32,料理一覧!$A$3:$N$20000,14,FALSE),\"0\")","v":0},0,0,0,0,0,0,0,0,0,0,0,{"$f":"SUM(BS32+'月間献立（幼児）'!$U33*('月間献立（乳児）'!P$36*0.01))","v":0},{"$f":"SUM(BT32+'月間献立（幼児）'!$V33*('月間献立（乳児）'!P$36*0.01))","v":0},{"$f":"SUM(BU32+'月間献立（幼児）'!$W33*('月間献立（乳児）'!P$36*0.01))","v":0},{"$f":"SUM(BV32+'月間献立（幼児）'!$X33*('月間献立（乳児）'!P$36*0.01))","v":0},{"$f":"SUM(BW32+'月間献立（幼児）'!$Y33*('月間献立（乳児）'!P$36*0.01))","v":0},{"$f":"SUM(BX32+'月間献立（幼児）'!$Z33*('月間献立（乳児）'!P$36*0.01))","v":0},{"$f":"SUM(BY32+'月間献立（幼児）'!$AA33*('月間献立（乳児）'!P$36*0.01))","v":0},{"$f":"SUM(BZ32+'月間献立（幼児）'!$AB33*('月間献立（乳児）'!P$36*0.01))","v":0},{"$f":"SUM(CA32+'月間献立（幼児）'!$AC33*('月間献立（乳児）'!P$36*0.01))","v":0},{"$f":"SUM(CB32+'月間献立（幼児）'!$AD33*('月間献立（乳児）'!P$36*0.01))","v":0},{"$f":"SUM(CC32+'月間献立（幼児）'!$AE33*('月間献立（乳児）'!P$36*0.01))","v":0}]
[{"$f":"+'月間献立（幼児）'!A34","v":30},{"$f":"+'月間献立（幼児）'!B34","v":"(日)"},null,null,null,{"$f":"+'月間献立（幼児）'!C34","v":0},{"$f":"+'月間献立（幼児）'!D34","v":0},{"$f":"+'月間献立（幼児）'!E34","v":0},{"$f":"+'月間献立（幼児）'!F34","v":0},{"$f":"+'月間献立（幼児）'!G34","v":0},{"$f":"+'月間献立（幼児）'!H34","v":0},{"$f":"+'月間献立（幼児）'!I34","v":0},{"$f":"+'月間献立（幼児）'!J34","v":0},{"$f":"+'月間献立（幼児）'!K34","v":0},{"$f":"IFERROR(VLOOKUP($C33,料理一覧!$A$3:$N$20000,3,FALSE),\"\")","v":0},{"$f":"IFERROR(VLOOKUP($D33,料理一覧!$A$3:$N$20000,3,FALSE),\"\")","v":0},{"$f":"IFERROR(VLOOKUP($E33,料理一覧!$A$3:$N$20000,3,FALSE),\"\")","v":0},{"$f":"+'月間献立（幼児）'!L34","v":0},{"$f":"+'月間献立（幼児）'!M34","v":0},{"$f":"+'月間献立（幼児）'!N34","v":0},{"$f":"+'月間献立（幼児）'!O34","v":0},{"$f":"+'月間献立（幼児）'!P34","v":0},{"$f":"+'月間献立（幼児）'!Q34","v":0},{"$f":"+'月間献立（幼児）'!R34","v":0},{"$f":"+'月間献立（幼児）'!S34","v":0},{"$f":"+'月間献立（幼児）'!T34","v":0},0,0,0,0,0,0,0,0,0,0,0,{"$f":"IFERROR(VLOOKUP($C33,料理一覧!$A$3:$N$20000,4,FALSE),\"0\")","v":0},{"$f":"IFERROR(VLOOKUP($C33,料理一覧!$A$3:$N$20000,5,FALSE),\"0\")","v":0},{"$f":"IFERROR(VLOOKUP($C33,料理一覧!$A$3:$N$20000,6,FALSE),\"0\")","v":0},{"$f":"IFERROR(VLOOKUP($C33,料理一覧!$A$3:$N$20000,7,FALSE),\"0\")","v":0},{"$f":"IFERROR(VLOOKUP($C33,料理一覧!$A$3:$N$20000,8,FALSE),\"0\")","v":0},{"$f":"IFERROR(VLOOKUP($C33,料理一覧!$A$3:$N$20000,9,FALSE),\"0\")","v":0},{"$f":"IFERROR(VLOOKUP($C33,料理一覧!$A$3:$N$20000,10,FALSE),\"0\")","v":0},{"$f":"IFERROR(VLOOKUP($C33,料理一覧!$A$3:$N$20000,11,FALSE),\"0\")","v":0},{"$f":"IFERROR(VLOOKUP($C33,料理一覧!$A$3:$N$20000,12,FALSE),\"0\")","v":0},{"$f":"IFERROR(VLOOKUP($C33,料理一覧!$A$3:$N$20000,13,FALSE),\"0\")","v":0},{"$f":"IFERROR(VLOOKUP($C33,料理一覧!$A$3:$N$20000,14,FALSE),\"0\")","v":0},{"$f":"IFERROR(VLOOKUP($D33,料理一覧!$A$3:$N$20000,4,FALSE),\"0\")","v":0},{"$f":"IFERROR(VLOOKUP($D33,料理一覧!$A$3:$N$20000,5,FALSE),\"0\")","v":0},{"$f":"IFERROR(VLOOKUP($D33,料理一覧!$A$3:$N$20000,6,FALSE),\"0\")","v":0},{"$f":"IFERROR(VLOOKUP($D33,料理一覧!$A$3:$N$20000,7,FALSE),\"0\")","v":0},{"$f":"IFERROR(VLOOKUP($D33,料理一覧!$A$3:$N$20000,8,FALSE),\"0\")","v":0},{"$f":"IFERROR(VLOOKUP($D33,料理一覧!$A$3:$N$20000,9,FALSE),\"0\")","v":0},{"$f":"IFERROR(VLOOKUP($D33,料理一覧!$A$3:$N$20000,10,FALSE),\"0\")","v":0},{"$f":"IFERROR(VLOOKUP($D33,料理一覧!$A$3:$N$20000,11,FALSE),\"0\")","v":0},{"$f":"IFERROR(VLOOKUP($D33,料理一覧!$A$3:$N$20000,12,FALSE),\"0\")","v":0},{"$f":"IFERROR(VLOOKUP($D33,料理一覧!$A$3:$N$20000,13,FALSE),\"0\")","v":0},{"$f":"IFERROR(VLOOKUP($D33,料理一覧!$A$3:$N$20000,14,FALSE),\"0\")","v":0},{"$f":"IFERROR(VLOOKUP($E33,料理一覧!$A$3:$N$20000,4,FALSE),\"0\")","v":0},{"$f":"IFERROR(VLOOKUP($E33,料理一覧!$A$3:$N$20000,5,FALSE),\"0\")","v":0},{"$f":"IFERROR(VLOOKUP($E33,料理一覧!$A$3:$N$20000,6,FALSE),\"0\")","v":0},{"$f":"IFERROR(VLOOKUP($E33,料理一覧!$A$3:$N$20000,7,FALSE),\"0\")","v":0},{"$f":"IFERROR(VLOOKUP($E33,料理一覧!$A$3:$N$20000,8,FALSE),\"0\")","v":0},{"$f":"IFERROR(VLOOKUP($E33,料理一覧!$A$3:$N$20000,9,FALSE),\"0\")","v":0},{"$f":"IFERROR(VLOOKUP($E33,料理一覧!$A$3:$N$20000,10,FALSE),\"0\")","v":0},{"$f":"IFERROR(VLOOKUP($E33,料理一覧!$A$3:$N$20000,11,FALSE),\"0\")","v":0},{"$f":"IFERROR(VLOOKUP($E33,料理一覧!$A$3:$N$20000,12,FALSE),\"0\")","v":0},{"$f":"IFERROR(VLOOKUP($E33,料理一覧!$A$3:$N$20000,13,FALSE),\"0\")","v":0},{"$f":"IFERROR(VLOOKUP($E33,料理一覧!$A$3:$N$20000,14,FALSE),\"0\")","v":0},0,0,0,0,0,0,0,0,0,0,0,{"$f":"SUM(BS33+'月間献立（幼児）'!$U34*('月間献立（乳児）'!P$36*0.01))","v":0},{"$f":"SUM(BT33+'月間献立（幼児）'!$V34*('月間献立（乳児）'!P$36*0.01))","v":0},{"$f":"SUM(BU33+'月間献立（幼児）'!$W34*('月間献立（乳児）'!P$36*0.01))","v":0},{"$f":"SUM(BV33+'月間献立（幼児）'!$X34*('月間献立（乳児）'!P$36*0.01))","v":0},{"$f":"SUM(BW33+'月間献立（幼児）'!$Y34*('月間献立（乳児）'!P$36*0.01))","v":0},{"$f":"SUM(BX33+'月間献立（幼児）'!$Z34*('月間献立（乳児）'!P$36*0.01))","v":0},{"$f":"SUM(BY33+'月間献立（幼児）'!$AA34*('月間献立（乳児）'!P$36*0.01))","v":0},{"$f":"SUM(BZ33+'月間献立（幼児）'!$AB34*('月間献立（乳児）'!P$36*0.01))","v":0},{"$f":"SUM(CA33+'月間献立（幼児）'!$AC34*('月間献立（乳児）'!P$36*0.01))","v":0},{"$f":"SUM(CB33+'月間献立（幼児）'!$AD34*('月間献立（乳児）'!P$36*0.01))","v":0},{"$f":"SUM(CC33+'月間献立（幼児）'!$AE34*('月間献立（乳児）'!P$36*0.01))","v":0}]
[{"$f":"+'月間献立（幼児）'!A35","v":31},null,null,null,null,{"$f":"+'月間献立（幼児）'!C35","v":0},{"$f":"+'月間献立（幼児）'!D35","v":0},{"$f":"+'月間献立（幼児）'!E35","v":0},{"$f":"+'月間献立（幼児）'!F35","v":0},{"$f":"+'月間献立（幼児）'!G35","v":0},{"$f":"+'月間献立（幼児）'!H35","v":0},{"$f":"+'月間献立（幼児）'!I35","v":0},{"$f":"+'月間献立（幼児）'!J35","v":0},{"$f":"+'月間献立（幼児）'!K35","v":0},{"$f":"IFERROR(VLOOKUP($C34,料理一覧!$A$3:$N$20000,3,FALSE),\"\")","v":0},{"$f":"IFERROR(VLOOKUP($D34,料理一覧!$A$3:$N$20000,3,FALSE),\"\")","v":0},{"$f":"IFERROR(VLOOKUP($E34,料理一覧!$A$3:$N$20000,3,FALSE),\"\")","v":0},{"$f":"+'月間献立（幼児）'!L35","v":0},{"$f":"+'月間献立（幼児）'!M35","v":0},{"$f":"+'月間献立（幼児）'!N35","v":0},{"$f":"+'月間献立（幼児）'!O35","v":0},{"$f":"+'月間献立（幼児）'!P35","v":0},{"$f":"+'月間献立（幼児）'!Q35","v":0},{"$f":"+'月間献立（幼児）'!R35","v":0},{"$f":"+'月間献立（幼児）'!S35","v":0},{"$f":"+'月間献立（幼児）'!T35","v":0},0,0,0,0,0,0,0,0,0,0,0,{"$f":"IFERROR(VLOOKUP($C34,料理一覧!$A$3:$N$20000,4,FALSE),\"0\")","v":0},{"$f":"IFERROR(VLOOKUP($C34,料理一覧!$A$3:$N$20000,5,FALSE),\"0\")","v":0},{"$f":"IFERROR(VLOOKUP($C34,料理一覧!$A$3:$N$20000,6,FALSE),\"0\")","v":0},{"$f":"IFERROR(VLOOKUP($C34,料理一覧!$A$3:$N$20000,7,FALSE),\"0\")","v":0},{"$f":"IFERROR(VLOOKUP($C34,料理一覧!$A$3:$N$20000,8,FALSE),\"0\")","v":0},{"$f":"IFERROR(VLOOKUP($C34,料理一覧!$A$3:$N$20000,9,FALSE),\"0\")","v":0},{"$f":"IFERROR(VLOOKUP($C34,料理一覧!$A$3:$N$20000,10,FALSE),\"0\")","v":0},{"$f":"IFERROR(VLOOKUP($C34,料理一覧!$A$3:$N$20000,11,FALSE),\"0\")","v":0},{"$f":"IFERROR(VLOOKUP($C34,料理一覧!$A$3:$N$20000,12,FALSE),\"0\")","v":0},{"$f":"IFERROR(VLOOKUP($C34,料理一覧!$A$3:$N$20000,13,FALSE),\"0\")","v":0},{"$f":"IFERROR(VLOOKUP($C34,料理一覧!$A$3:$N$20000,14,FALSE),\"0\")","v":0},{"$f":"IFERROR(VLOOKUP($D34,料理一覧!$A$3:$N$20000,4,FALSE),\"0\")","v":0},{"$f":"IFERROR(VLOOKUP($D34,料理一覧!$A$3:$N$20000,5,FALSE),\"0\")","v":0},{"$f":"IFERROR(VLOOKUP($D34,料理一覧!$A$3:$N$20000,6,FALSE),\"0\")","v":0},{"$f":"IFERROR(VLOOKUP($D34,料理一覧!$A$3:$N$20000,7,FALSE),\"0\")","v":0},{"$f":"IFERROR(VLOOKUP($D34,料理一覧!$A$3:$N$20000,8,FALSE),\"0\")","v":0},{"$f":"IFERROR(VLOOKUP($D34,料理一覧!$A$3:$N$20000,9,FALSE),\"0\")","v":0},{"$f":"IFERROR(VLOOKUP($D34,料理一覧!$A$3:$N$20000,10,FALSE),\"0\")","v":0},{"$f":"IFERROR(VLOOKUP($D34,料理一覧!$A$3:$N$20000,11,FALSE),\"0\")","v":0},{"$f":"IFERROR(VLOOKUP($D34,料理一覧!$A$3:$N$20000,12,FALSE),\"0\")","v":0},{"$f":"IFERROR(VLOOKUP($D34,料理一覧!$A$3:$N$20000,13,FALSE),\"0\")","v":0},{"$f":"IFERROR(VLOOKUP($D34,料理一覧!$A$3:$N$20000,14,FALSE),\"0\")","v":0},{"$f":"IFERROR(VLOOKUP($E34,料理一覧!$A$3:$N$20000,4,FALSE),\"0\")","v":0},{"$f":"IFERROR(VLOOKUP($E34,料理一覧!$A$3:$N$20000,5,FALSE),\"0\")","v":0},{"$f":"IFERROR(VLOOKUP($E34,料理一覧!$A$3:$N$20000,6,FALSE),\"0\")","v":0},{"$f":"IFERROR(VLOOKUP($E34,料理一覧!$A$3:$N$20000,7,FALSE),\"0\")","v":0},{"$f":"IFERROR(VLOOKUP($E34,料理一覧!$A$3:$N$20000,8,FALSE),\"0\")","v":0},{"$f":"IFERROR(VLOOKUP($E34,料理一覧!$A$3:$N$20000,9,FALSE),\"0\")","v":0},{"$f":"IFERROR(VLOOKUP($E34,料理一覧!$A$3:$N$20000,10,FALSE),\"0\")","v":0},{"$f":"IFERROR(VLOOKUP($E34,料理一覧!$A$3:$N$20000,11,FALSE),\"0\")","v":0},{"$f":"IFERROR(VLOOKUP($E34,料理一覧!$A$3:$N$20000,12,FALSE),\"0\")","v":0},{"$f":"IFERROR(VLOOKUP($E34,料理一覧!$A$3:$N$20000,13,FALSE),\"0\")","v":0},{"$f":"IFERROR(VLOOKUP($E34,料理一覧!$A$3:$N$20000,14,FALSE),\"0\")","v":0},0,0,0,0,0,0,0,0,0,0,0,{"$f":"SUM(BS34+'月間献立（幼児）'!$U35*('月間献立（乳児）'!P$36*0.01))","v":0},{"$f":"SUM(BT34+'月間献立（幼児）'!$V35*('月間献立（乳児）'!P$36*0.01))","v":0},{"$f":"SUM(BU34+'月間献立（幼児）'!$W35*('月間献立（乳児）'!P$36*0.01))","v":0},{"$f":"SUM(BV34+'月間献立（幼児）'!$X35*('月間献立（乳児）'!P$36*0.01))","v":0},{"$f":"SUM(BW34+'月間献立（幼児）'!$Y35*('月間献立（乳児）'!P$36*0.01))","v":0},{"$f":"SUM(BX34+'月間献立（幼児）'!$Z35*('月間献立（乳児）'!P$36*0.01))","v":0},{"$f":"SUM(BY34+'月間献立（幼児）'!$AA35*('月間献立（乳児）'!P$36*0.01))","v":0},{"$f":"SUM(BZ34+'月間献立（幼児）'!$AB35*('月間献立（乳児）'!P$36*0.01))","v":0},{"$f":"SUM(CA34+'月間献立（幼児）'!$AC35*('月間献立（乳児）'!P$36*0.01))","v":0},{"$f":"SUM(CB34+'月間献立（幼児）'!$AD35*('月間献立（乳児）'!P$36*0.01))","v":0},{"$f":"SUM(CC34+'月間献立（幼児）'!$AE35*('月間献立（乳児）'!P$36*0.01))","v":0}]
[null,null,null,null,null,null,null,null,null,null,null,null,null,null,null,null,null,null,null,null,null,null,null,null,"月平均",null,{"$f":"(SUM(AA4:AA34)/$T36)","v":{"$error":"#DIV/0!"}},{"$error":"#DIV/0!"},{"$error":"#DIV/0!"},{"$error":"#DIV/0!"},{"$error":"#DIV/0!"},{"$error":"#DIV/0!"},{"$error":"#DIV/0!"},{"$error":"#DIV/0!"},{"$error":"#DIV/0!"},{"$error":"#DIV/0!"},{"$f":"(SUM(AK4:AK34)/$T36)","v":{"$error":"#DIV/0!"}}]
[null,null,null,null,null,null,null,null,null,null,null,null,null,null,"幼児の",null,"％",null,"今月は",{"$f":"+U39","v":0},"日提供",null,null,null,"施設の給与栄養目標量"]
[null,null,null,null,null,null,null,null,null,null,null,null,null,null,null,null,null,null,null,null,null,null,null,null,"充足率（％）",null,{"$f":"AA35/AA36*100","v":{"$error":"#DIV/0!"}},{"$error":"#DIV/0!"},{"$error":"#DIV/0!"},null,{"$error":"#DIV/0!"},{"$error":"#DIV/0!"},{"$error":"#DIV/0!"},{"$error":"#DIV/0!"},{"$error":"#DIV/0!"},{"$error":"#DIV/0!"},{"$error":"#DIV/0!"}]
[]
[null,null,null,null,null,null,null,null,null,null,null,null,null,null,null,null,null,null,null,null,{"$f":"DCOUNT(AA3:AK34,1,U40:U41)","v":0}]
[null,null,null,null,null,null,null,null,null,null,null,null,null,null,null,null,null,null,null,null,"E"]
[null,null,null,null,null,null,null,null,null,null,null,null,null,null,null,null,null,null,null,null,">0"]

{"sheet":"献立表一覧","index":7,"n_rows":42,"n_cols":18,"rows_kept":42,"cut":false,"hidden":false,"merged":[]}
[]
[null,null,null,null,null,null,{"$f":"+'月間献立（幼児）'!O2","v":5},"月の献立表"]
[]
["○/不要","日","曜日","行事","午前おやつ","昼食","午後おやつ","材料（午前おやつ▲昼食▲午後おやつ）"]
["○",{"$f":"+献立データ!A377","v":1},{"$f":"+献立データ!B377","v":"(土)"},null,{"$f":"+献立データ!E377","v":"　　"},{"$f":"+献立データ!E378","v":"　　　　　"},{"$f":"+献立データ!E379","v":"　　"},{"$f":"+献立データ!AB3","v":"▲ ▲"},null,"○"]
["不要",{"$f":"+献立データ!A380","v":2},{"$f":"+献立データ!B380","v":"(日)"},null,{"$f":"+献立データ!E380","v":"　　"},{"$f":"+献立データ!E381","v":"　　　　　"},{"$f":"+献立データ!E382","v":"　　"},{"$f":"+献立データ!AB15","v":"▲ ▲"},null,"不要"]
["○",{"$f":"+献立データ!A383","v":3},{"$f":"+献立データ!B383","v":"(月)"},null,{"$f":"+献立データ!E383","v":"　　"},{"$f":"+献立データ!E384","v":"　　　　　"},{"$f":"+献立データ!E385","v":"　　"},{"$f":"+献立データ!AB27","v":"▲ ▲"}]
["○",{"$f":"+献立データ!A386","v":4},{"$f":"+献立データ!B386","v":"(火)"},null,{"$f":"+献立データ!E386","v":"　　"},{"$f":"+献立データ!E387","v":"　　　　　"},{"$f":"+献立データ!E388","v":"　　"},{"$f":"+献立データ!AB39","v":"▲ ▲"}]
["○",{"$f":"+献立データ!A389","v":5},{"$f":"+献立データ!B389","v":"(水)"},null,{"$f":"+献立データ!E389","v":"　　"},{"$f":"+献立データ!E390","v":"　　　　　"},{"$f":"+献立データ!E391","v":"　　"},{"$f":"+献立データ!AB51","v":"▲ ▲"}]
["○",{"$f":"+献立データ!A392","v":6},{"$f":"+献立データ!B392","v":"(木)"},null,{"$f":"+献立データ!E392","v":"　　"},{"$f":"+献立データ!E393","v":"　　　　　"},{"$f":"+献立データ!E394","v":"　　"},{"$f":"+献立データ!AB63","v":"▲ ▲"}]
["○",{"$f":"+献立データ!A395","v":7},{"$f":"+献立データ!B395","v":"(金)"},null,{"$f":"+献立データ!E395","v":"　　"},{"$f":"+献立データ!E396","v":"　　　　　"},{"$f":"+献立データ!E397","v":"　　"},{"$f":"+献立データ!AB75","v":"▲ ▲"}]
["○",{"$f":"+献立データ!A398","v":8},{"$f":"+献立データ!B398","v":"(土)"},null,{"$f":"+献立データ!E398","v":"　　"},{"$f":"+献立データ!E399","v":"　　　　　"},{"$f":"+献立データ!E400","v":"　　"},{"$f":"+献立データ!AB87","v":"▲ ▲"}]
["不要",{"$f":"+献立データ!A401","v":9},{"$f":"+献立データ!B401","v":"(日)"},null,{"$f":"+献立データ!E401","v":"　　"},{"$f":"+献立データ!E402","v":"　　　　　"},{"$f":"+献立データ!E403","v":"　　"},{"$f":"+献立データ!AB99","v":"▲ ▲"}]
["○",{"$f":"+献立データ!A404","v":10},{"$f":"+献立データ!B404","v":"(月)"},null,{"$f":"+献立データ!E404","v":"　　"},{"$f":"+献立データ!E405","v":"　　　　　"},{"$f":"+献立データ!E406","v":"　　"},{"$f":"+献立データ!AB111","v":"▲ ▲"}]
["○",{"$f":"+献立データ!A407","v":11},{"$f":"+献立データ!B407","v":"(火)"},null,{"$f":"+献立データ!E407","v":"　　"},{"$f":"+献立データ!E408","v":"　　　　　"},{"$f":"+献立データ!E409","v":"　　"},{"$f":"+献立データ!AB123","v":"▲ ▲"}]
["○",{"$f":"+献立データ!A410","v":12},{"$f":"+献立データ!B410","v":"(水)"},null,{"$f":"+献立データ!E410","v":"　　"},{"$f":"+献立データ!E411","v":"　　　　　"},{"$f":"+献立データ!E412","v":"　　"},{"$f":"+献立データ!AB135","v":"▲ ▲"}]
["○",{"$f":"+献立データ!A413","v":13},{"$f":"+献立データ!B413","v":"(木)"},null,{"$f":"+献立データ!E413","v":"　　"},{"$f":"+献立データ!E414","v":"　　　　　"},{"$f":"+献立データ!E415","v":"　　"},{"$f":"+献立データ!AB147","v":"▲ ▲"}]
["○",{"$f":"+献立データ!A416","v":14},{"$f":"+献立データ!B416","v":"(金)"},null,{"$f":"+献立データ!E416","v":"　　"},{"$f":"+献立データ!E417","v":"　　　　　"},{"$f":"+献立データ!E418","v":"    "},{"$f":"+献立データ!AB159","v":"▲ ▲"}]
["○",{"$f":"+献立データ!A419","v":15},{"$f":"+献立データ!B419","v":"(土)"},null,{"$f":"+献立データ!E419","v":"　　"},{"$f":"+献立データ!E420","v":"　　　　　"},{"$f":"+献立データ!E421","v":"　　"},{"$f":"+献立データ!AB171","v":"▲ ▲"}]
["不要",{"$f":"+献立データ!A422","v":16},{"$f":"+献立データ!B422","v":"(日)"},null,{"$f":"+献立データ!E422","v":"　　"},{"$f":"+献立データ!E423","v":"　　　　　"},{"$f":"+献立データ!E424","v":"　　"},{"$f":"+献立データ!AB183","v":"▲ ▲"}]
["○",{"$f":"+献立データ!A425","v":17},{"$f":"+献立データ!B425","v":"(月)"},null,{"$f":"+献立データ!E425","v":"　　"},{"$f":"+献立データ!E426","v":"　　　　　"},{"$f":"+献立データ!E427","v":"　　"},{"$f":"+献立データ!AB195","v":"▲ ▲"}]
["○",{"$f":"+献立データ!A428","v":18},{"$f":"+献立データ!B428","v":"(火)"},null,{"$f":"+献立データ!E428","v":"　　"},{"$f":"+献立データ!E429","v":"　　　　　"},{"$f":"+献立データ!E430","v":"　　"},{"$f":"+献立データ!AB207","v":"▲ ▲"}]
["○",{"$f":"+献立データ!A431","v":19},{"$f":"+献立データ!B431","v":"(水)"},null,{"$f":"+献立データ!E431","v":"　　"},{"$f":"+献立データ!E432","v":"　　　　　"},{"$f":"+献立データ!E433","v":"　　"},{"$f":"+献立データ!AB219","v":"▲ ▲"}]
["○",{"$f":"+献立データ!A434","v":20},{"$f":"+献立データ!B434","v":"(木)"},null,{"$f":"+献立データ!E434","v":"　　"},{"$f":"+献立データ!E435","v":"　　　　　"},{"$f":"+献立データ!E436","v":"　　"},{"$f":"+献立データ!AB231","v":"▲ ▲"}]
["○",{"$f":"+献立データ!A437","v":21},{"$f":"+献立データ!B437","v":"(金)"},null,{"$f":"+献立データ!E437","v":"　　"},{"$f":"+献立データ!E438","v":"　　　　　"},{"$f":"+献立データ!E439","v":"　　"},{"$f":"+献立データ!AB243","v":"▲ ▲"}]
["○",{"$f":"+献立データ!A440","v":22},{"$f":"+献立データ!B440","v":"(土)"},null,{"$f":"+献立データ!E440","v":"　　"},{"$f":"+献立データ!E441","v":"　　　　　"},{"$f":"+献立データ!E442","v":"　　"},{"$f":"+献立データ!AB255","v":"▲ ▲"}]
["不要",{"$f":"+献立データ!A443","v":23},{"$f":"+献立データ!B443","v":"(日)"},null,{"$f":"+献立データ!E443","v":"　　"},{"$f":"+献立データ!E444","v":"　　　　　"},{"$f":"+献立データ!E445","v":"　　"},{"$f":"+献立データ!AB267","v":"▲ ▲"}]
["○",{"$f":"+献立データ!A446","v":24},{"$f":"+献立データ!B446","v":"(月)"},null,{"$f":"+献立データ!E446","v":"　　"},{"$f":"+献立データ!E447","v":"　　　　　"},{"$f":"+献立データ!E448","v":"　　"},{"$f":"+献立データ!AB279","v":"▲ ▲"}]
["○",{"$f":"+献立データ!A449","v":25},{"$f":"+献立データ!B449","v":"(火)"},null,{"$f":"+献立データ!E449","v":"　　"},{"$f":"+献立データ!E450","v":"　　　　　"},{"$f":"+献立データ!E451","v":"　　"},{"$f":"+献立データ!AB291","v":"▲ ▲"}]
["○",{"$f":"+献立データ!A452","v":26},{"$f":"+献立データ!B452","v":"(水)"},null,{"$f":"+献立データ!E452","v":"    "},{"$f":"+献立データ!E453","v":"　　　　　"},{"$f":"+献立データ!E454","v":"　  "},{"$f":"+献立データ!AB303","v":"▲ ▲"}]
["○",{"$f":"+献立データ!A455","v":27},{"$f":"+献立データ!B455","v":"(木)"},null,{"$f":"+献立データ!E455","v":"　　"},{"$f":"+献立データ!E456","v":"　　　　　"},{"$f":"+献立データ!E457","v":"　　"},{"$f":"+献立データ!AB315","v":"▲ ▲"}]
["○",{"$f":"+献立データ!A458","v":28},{"$f":"+献立データ!B458","v":"(金)"},null,{"$f":"+献立データ!E458","v":"　　"},{"$f":"+献立データ!E459","v":"　　　　　"},{"$f":"+献立データ!E460","v":"　　"},{"$f":"+献立データ!AB327","v":"▲ ▲"}]
["○",{"$f":"+献立データ!A461","v":29},{"$f":"+献立データ!B461","v":"(土)"},null,{"$f":"+献立データ!E461","v":"　　"},{"$f":"+献立データ!E462","v":"　　　　　"},{"$f":"+献立データ!E463","v":"　　"},{"$f":"+献立データ!AB339","v":"▲ ▲"}]
["不要",{"$f":"+献立データ!A464","v":30},{"$f":"+献立データ!B464","v":"(日)"},null,{"$f":"+献立データ!E464","v":"　　"},{"$f":"+献立データ!E465","v":"　　　　　"},{"$f":"+献立データ!E466","v":"　　"},{"$f":"+献立データ!AB351","v":"▲ ▲"}]
["○",{"$f":"+献立データ!A467","v":31},{"$f":"+献立データ!B467","v":"(月)"},null,{"$f":"+献立データ!E467","v":"　　"},{"$f":"+献立データ!E468","v":"　　　　　"},{"$f":"+献立データ!E469","v":"　　"},{"$f":"+献立データ!AB363","v":"▲ ▲"}]
[]
[]
[null,null,null,null,{"$f":"+E5","v":"　　"},{"$f":"+$E$6","v":"　　"},{"$f":"+$E$7","v":"　　"},{"$f":"+$E$8","v":"　　"},{"$f":"+$E$31","v":"　　"},{"$f":"+$E$32","v":"　　"},{"$f":"+$E$33","v":"　　"},{"$f":"+$E$34","v":"　　"},{"$f":"+$E$35","v":"　　"},{"$f":"+#REF!","v":{"$error":"#REF!"}},{"$f":"+#REF!","v":{"$error":"#REF!"}},{"$f":"+#REF!","v":{"$error":"#REF!"}},{"$f":"+#REF!","v":{"$error":"#REF!"}},{"$f":"+#REF!","v":{"$error":"#REF!"}}]
[null,null,null,null,{"$f":"+F5","v":"　　　　　"},{"$f":"+F6","v":"　　　　　"},{"$f":"+F7","v":"　　　　　"},{"$f":"+F8","v":"　　　　　"},{"$f":"+$F$31","v":"　　　　　"},{"$f":"+$F$32","v":"　　　　　"},{"$f":"+$F$33","v":"　　　　　"},{"$f":"+$F$34","v":"　　　　　"},{"$f":"+$F$35","v":"　　　　　"},{"$f":"+#REF!","v":{"$error":"#REF!"}},{"$f":"+#REF!","v":{"$error":"#REF!"}},{"$f":"+#REF!","v":{"$error":"#REF!"}},{"$f":"+#REF!","v":{"$error":"#REF!"}},{"$f":"+#REF!","v":{"$error":"#REF!"}}]
[null,null,null,null,{"$f":"+G5","v":"　　"},{"$f":"+G6","v":"　　"},{"$f":"+G7","v":"　　"},{"$f":"+G8","v":"　　"},{"$f":"+$G$31","v":"　　"},{"$f":"+$G$32","v":"　　"},{"$f":"+$G$33","v":"　　"},{"$f":"+$G$34","v":"　　"},{"$f":"+$G$35","v":"　　"},{"$f":"+#REF!","v":{"$error":"#REF!"}},{"$f":"+#REF!","v":{"$error":"#REF!"}},{"$f":"+#REF!","v":{"$error":"#REF!"}},{"$f":"+#REF!","v":{"$error":"#REF!"}},{"$f":"+#REF!","v":{"$error":"#REF!"}}]
[null,null,null,null,{"$f":"+H5","v":"▲ ▲"},{"$f":"+H6","v":"▲ ▲"},{"$f":"+H7","v":"▲ ▲"},{"$f":"+H8","v":"▲ ▲"},{"$f":"+$H$31","v":"▲ ▲"},{"$f":"+$H$32","v":"▲ ▲"},{"$f":"+$H$33","v":"▲ ▲"},{"$f":"+$H$34","v":"▲ ▲"},{"$f":"+$H$35","v":"▲ ▲"},{"$f":"+#REF!","v":{"$error":"#REF!"}},{"$f":"+#REF!","v":{"$error":"#REF!"}},{"$f":"+#REF!","v":{"$error":"#REF!"}},{"$f":"+#REF!","v":{"$error":"#REF!"}},{"$f":"+#REF!","v":{"$error":"#REF!"}}]
[null,null,null,null,{"$f":"+#REF!","v":{"$error":"#REF!"}},{"$f":"+#REF!","v":{"$error":"#REF!"}},{"$f":"+#REF!","v":{"$error":"#REF!"}},{"$f":"+#REF!","v":{"$error":"#REF!"}},{"$f":"+#REF!","v":{"$error":"#REF!"}},{"$f":"+#REF!","v":{"$error":"#REF!"}},{"$f":"+#REF!","v":{"$error":"#REF!"}},{"$f":"+#REF!","v":{"$error":"#REF!"}},{"$f":"+#REF!","v":{"$error":"#REF!"}},{"$f":"+#REF!","v":{"$error":"#REF!"}},{"$f":"+#REF!","v":{"$error":"#REF!"}},{"$f":"+#REF!","v":{"$error":"#REF!"}},{"$f":"+#REF!","v":{"$error":"#REF!"}},{"$f":"+#REF!","v":{"$error":"#REF!"}}]

{"sheet":"献立（印刷用）","index":8,"n_rows":29,"n_cols":8,"rows_kept":29,"cut":false,"hidden":false,"merged":[[1,3,1,4]]}
[]
[null,null,null,{"$f":"+献立表一覧!G2","v":5},null,"月の献立","施設名","○○保育園"]
[null,"日","曜日","行事等","午前おやつ","昼食","午後おやつ","材料（午前おやつ▲昼食▲午後おやつ）"]
[null,1,"(木)",null,"　　"]
[null,2,"(金)",null,"　　"]
[null,3,"(土)",null,"　　"]
[null,5,"(月)",null,"　　"]
[null,6,"(火)",null,"　　"]
[null,7,"(水)",null,"　　"]
[null,8,"(木)",null,"　　"]
[null,9,"(金)",null,"　　"]
[null,10,"(土)",null,"　　"]
[null,12,"(月)",null,"　　"]
[null,13,"(火)",null,"　　"]
[null,14,"(水)",null,"　　"]
[null,15,"(木)",null,"　　"]
[null,16,"(金)",null,"　　"]
[null,17,"(土)",null,"　　"]
[null,19,"(月)",null,"　　"]
[null,20,"(火)",null,"　　"]
[null,21,"(水)",null,"　　"]
[null,22,"(木)",null,"　　"]
[null,23,"(金)",null,"　　"]
[null,24,"(土)",null,"　　"]
[null,26,"(月)",null,"    "]
[null,27,"(火)",null,"　　"]
[null,28,"(水)",null,"　　"]
[null,29,"(木)",null,"　　"]
[null,30,"(金)",null,"　　"]

{"sheet":"印刷データ","index":9,"n_rows":28,"n_cols":8,"rows_kept":28,"cut":false,"hidden":true,"merged":[]}
["○","日","曜日","行事等","午前おやつ","昼食","午後おやつ","材料（午前おやつ▲昼食▲午後おやつ）"]
[]
["○",1,"(木)",null,"　　","ごはん　（新）チキンライス　旧148”　（新）さやいんげんのツナソース　旧104”　（新）豆乳コーンスープ　新　　","パン　　","▲ごはん（うるち米） ごはん（うるち米） 鶏むね肉 たまねぎ にんじん 油 ケチャップ 食塩 さやいんげん ツナ缶（水煮） しょうゆ（濃口） 油 カリフラワー コーン缶 固形ブイヨン 水 調整豆乳 コーンクリーム缶 食塩 かたくり粉 パセリ（乾） ▲食パン"]
["○",2,"(金)",null,"　　","パン　（新）チキンライス　旧148”　（新）さやいんげんのツナソース　旧104”　（新）豆乳コーンスープ　新　　","パン　　","▲食パン ごはん（うるち米） 鶏むね肉 たまねぎ にんじん 油 ケチャップ 食塩 さやいんげん ツナ缶（水煮） しょうゆ（濃口） 油 カリフラワー コーン缶 固形ブイヨン 水 調整豆乳 コーンクリーム缶 食塩 かたくり粉 パセリ（乾） ▲食パン"]
["○",3,"(土)",null,"　　","ごはん　（新）チキンライス　旧148”　（新）さやいんげんのツナソース　旧104”　（新）豆乳コーンスープ　新　　","パン　　","▲ごはん（うるち米） ごはん（うるち米） 鶏むね肉 たまねぎ にんじん 油 ケチャップ 食塩 さやいんげん ツナ缶（水煮） しょうゆ（濃口） 油 カリフラワー コーン缶 固形ブイヨン 水 調整豆乳 コーンクリーム缶 食塩 かたくり粉 パセリ（乾） ▲食パン"]
["○",5,"(月)",null,"　　","ごはん　（新）チキンライス　旧148”　（新）さやいんげんのツナソース　旧104”　（新）豆乳コーンスープ　新　　","パン　　","▲ごはん（うるち米） ごはん（うるち米） 鶏むね肉 たまねぎ にんじん 油 ケチャップ 食塩 さやいんげん ツナ缶（水煮） しょうゆ（濃口） 油 カリフラワー コーン缶 固形ブイヨン 水 調整豆乳 コーンクリーム缶 食塩 かたくり粉 パセリ（乾） ▲食パン"]
["○",6,"(火)",null,"　　","パン　（新）チキンライス　旧148”　（新）さやいんげんのツナソース　旧104”　（新）豆乳コーンスープ　新　　","パン　　","▲食パン ごはん（うるち米） 鶏むね肉 たまねぎ にんじん 油 ケチャップ 食塩 さやいんげん ツナ缶（水煮） しょうゆ（濃口） 油 カリフラワー コーン缶 固形ブイヨン 水 調整豆乳 コーンクリーム缶 食塩 かたくり粉 パセリ（乾） ▲食パン"]
["○",7,"(水)",null,"　　","ごはん　（新）チキンライス　旧148”　（新）さやいんげんのツナソース　旧104”　（新）豆乳コーンスープ　新　　","パン　　","▲ごはん（うるち米） ごはん（うるち米） 鶏むね肉 たまねぎ にんじん 油 ケチャップ 食塩 さやいんげん ツナ缶（水煮） しょうゆ（濃口） 油 カリフラワー コーン缶 固形ブイヨン 水 調整豆乳 コーンクリーム缶 食塩 かたくり粉 パセリ（乾） ▲食パン"]
["○",8,"(木)",null,"　　","パン　（新）チキンライス　旧148”　（新）さやいんげんのツナソース　旧104”　（新）豆乳コーンスープ　新　　","パン　　","▲食パン ごはん（うるち米） 鶏むね肉 たまねぎ にんじん 油 ケチャップ 食塩 さやいんげん ツナ缶（水煮） しょうゆ（濃口） 油 カリフラワー コーン缶 固形ブイヨン 水 調整豆乳 コーンクリーム缶 食塩 かたくり粉 パセリ（乾） ▲食パン"]
["○",9,"(金)",null,"　　","ごはん　（新）チキンライス　旧148”　（新）さやいんげんのツナソース　旧104”　（新）豆乳コーンスープ　新　　","パン　　","▲ごはん（うるち米） ごはん（うるち米） 鶏むね肉 たまねぎ にんじん 油 ケチャップ 食塩 さやいんげん ツナ缶（水煮） しょうゆ（濃口） 油 カリフラワー コーン缶 固形ブイヨン 水 調整豆乳 コーンクリーム缶 食塩 かたくり粉 パセリ（乾） ▲食パン"]
["○",10,"(土)",null,"　　","パン　（新）チキンライス　旧148”　（新）さやいんげんのツナソース　旧104”　（新）豆乳コーンスープ　新　　","パン　　","▲食パン ごはん（うるち米） 鶏むね肉 たまねぎ にんじん 油 ケチャップ 食塩 さやいんげん ツナ缶（水煮） しょうゆ（濃口） 油 カリフラワー コーン缶 固形ブイヨン 水 調整豆乳 コーンクリーム缶 食塩 かたくり粉 パセリ（乾） ▲食パン"]
["○",12,"(月)",null,"　　","パン　（新）チキンライス　旧148”　（新）さやいんげんのツナソース　旧104”　（新）豆乳コーンスープ　新　　","パン　　","▲食パン ごはん（うるち米） 鶏むね肉 たまねぎ にんじん 油 ケチャップ 食塩 さやいんげん ツナ缶（水煮） しょうゆ（濃口） 油 カリフラワー コーン缶 固形ブイヨン 水 調整豆乳 コーンクリーム缶 食塩 かたくり粉 パセリ（乾） ▲食パン"]
["○",13,"(火)",null,"　　","ごはん　（新）チキンライス　旧148”　（新）さやいんげんのツナソース　旧104”　（新）豆乳コーンスープ　新　　","パン　　","▲ごはん（うるち米） ごはん（うるち米） 鶏むね肉 たまねぎ にんじん 油 ケチャップ 食塩 さやいんげん ツナ缶（水煮） しょうゆ（濃口） 油 カリフラワー コーン缶 固形ブイヨン 水 調整豆乳 コーンクリーム缶 食塩 かたくり粉 パセリ（乾） ▲食パン"]
["○",14,"(水)",null,"　　","ごはん　（新）チキンライス　旧148”　（新）さやいんげんのツナソース　旧104”　（新）豆乳コーンスープ　新　　","パン    ","▲ごはん（うるち米） ごはん（うるち米） 鶏むね肉 たまねぎ にんじん 油 ケチャップ 食塩 さやいんげん ツナ缶（水煮） しょうゆ（濃口） 油 カリフラワー コーン缶 固形ブイヨン 水 調整豆乳 コーンクリーム缶 食塩 かたくり粉 パセリ（乾） ▲食パン"]
["○",15,"(木)",null,"　　","パン　（新）チキンライス　旧148”　（新）さやいんげんのツナソース　旧104”　（新）豆乳コーンスープ　新　　","パン　　","▲食パン ごはん（うるち米） 鶏むね肉 たまねぎ にんじん 油 ケチャップ 食塩 さやいんげん ツナ缶（水煮） しょうゆ（濃口） 油 カリフラワー コーン缶 固形ブイヨン 水 調整豆乳 コーンクリーム缶 食塩 かたくり粉 パセリ（乾） ▲食パン"]
["○",16,"(金)",null,"　　","ごはん　（新）チキンライス　旧148”　（新）さやいんげんのツナソース　旧104”　（新）豆乳コーンスープ　新　　","パン　　","▲ごはん（うるち米） ごはん（うるち米） 鶏むね肉 たまねぎ にんじん 油 ケチャップ 食塩 さやいんげん ツナ缶（水煮） しょうゆ（濃口） 油 カリフラワー コーン缶 固形ブイヨン 水 調整豆乳 コーンクリーム缶 食塩 かたくり粉 パセリ（乾） ▲食パン"]
["○",17,"(土)",null,"　　","パン　（新）チキンライス　旧148”　（新）さやいんげんのツナソース　旧104”　（新）豆乳コーンスープ　新　　","パン　　","▲食パン ごはん（うるち米） 鶏むね肉 たまねぎ にんじん 油 ケチャップ 食塩 さやいんげん ツナ缶（水煮） しょうゆ（濃口） 油 カリフラワー コーン缶 固形ブイヨン 水 調整豆乳 コーンクリーム缶 食塩 かたくり粉 パセリ（乾） ▲食パン"]
["○",19,"(月)",null,"　　","パン　（新）チキンライス　旧148”　（新）さやいんげんのツナソース　旧104”　（新）豆乳コーンスープ　新　　","パン　　","▲食パン ごはん（うるち米） 鶏むね肉 たまねぎ にんじん 油 ケチャップ 食塩 さやいんげん ツナ缶（水煮） しょうゆ（濃口） 油 カリフラワー コーン缶 固形ブイヨン 水 調整豆乳 コーンクリーム缶 食塩 かたくり粉 パセリ（乾） ▲食パン"]
["○",20,"(火)",null,"　　","パン　（新）チキンライス　旧148”　（新）さやいんげんのツナソース　旧104”　（新）豆乳コーンスープ　新　　","パン　　","▲食パン ごはん（うるち米） 鶏むね肉 たまねぎ にんじん 油 ケチャップ 食塩 さやいんげん ツナ缶（水煮） しょうゆ（濃口） 油 カリフラワー コーン缶 固形ブイヨン 水 調整豆乳 コーンクリーム缶 食塩 かたくり粉 パセリ（乾） ▲食パン"]
["○",21,"(水)",null,"　　","ごはん　（新）チキンライス　旧148”　（新）さやいんげんのツナソース　旧104”　（新）豆乳コーンスープ　新　　","パン　　","▲ごはん（うるち米） ごはん（うるち米） 鶏むね肉 たまねぎ にんじん 油 ケチャップ 食塩 さやいんげん ツナ缶（水煮） しょうゆ（濃口） 油 カリフラワー コーン缶 固形ブイヨン 水 調整豆乳 コーンクリーム缶 食塩 かたくり粉 パセリ（乾） ▲食パン"]
["○",22,"(木)",null,"　　","パン　（新）チキンライス　旧148”　（新）さやいんげんのツナソース　旧104”　（新）豆乳コーンスープ　新　　","パン　　","▲食パン ごはん（うるち米） 鶏むね肉 たまねぎ にんじん 油 ケチャップ 食塩 さやいんげん ツナ缶（水煮） しょうゆ（濃口） 油 カリフラワー コーン缶 固形ブイヨン 水 調整豆乳 コーンクリーム缶 食塩 かたくり粉 パセリ（乾） ▲食パン"]
["○",23,"(金)",null,"　　","ごはん　（新）チキンライス　旧148”　（新）さやいんげんのツナソース　旧104”　（新）豆乳コーンスープ　新　　","パン　　","▲ごはん（うるち米） ごはん（うるち米） 鶏むね肉 たまねぎ にんじん 油 ケチャップ 食塩 さやいんげん ツナ缶（水煮） しょうゆ（濃口） 油 カリフラワー コーン缶 固形ブイヨン 水 調整豆乳 コーンクリーム缶 食塩 かたくり粉 パセリ（乾） ▲食パン"]
["○",24,"(土)",null,"　　","パン　（新）チキンライス　旧148”　（新）さやいんげんのツナソース　旧104”　（新）豆乳コーンスープ　新　　","パン　　","▲食パン ごはん（うるち米） 鶏むね肉 たまねぎ にんじん 油 ケチャップ 食塩 さやいんげん ツナ缶（水煮） しょうゆ（濃口） 油 カリフラワー コーン缶 固形ブイヨン 水 調整豆乳 コーンクリーム缶 食塩 かたくり粉 パセリ（乾） ▲食パン"]
["○",26,"(月)",null,"    ","パン　（新）チキンライス　旧148”　（新）さやいんげんのツナソース　旧104”　（新）豆乳コーンスープ　新　　","パン　  ","▲食パン ごはん（うるち米） 鶏むね肉 たまねぎ にんじん 油 ケチャップ 食塩 さやいんげん ツナ缶（水煮） しょうゆ（濃口） 油 カリフラワー コーン缶 固形ブイヨン 水 調整豆乳 コーンクリーム缶 食塩 かたくり粉 パセリ（乾） ▲食パン"]
["○",27,"(火)",null,"　　","パン　（新）チキンライス　旧148”　（新）さやいんげんのツナソース　旧104”　（新）豆乳コーンスープ　新　　","パン　　","▲食パン ごはん（うるち米） 鶏むね肉 たまねぎ にんじん 油 ケチャップ 食塩 さやいんげん ツナ缶（水煮） しょうゆ（濃口） 油 カリフラワー コーン缶 固形ブイヨン 水 調整豆乳 コーンクリーム缶 食塩 かたくり粉 パセリ（乾） ▲食パン"]
["○",28,"(水)",null,"　　","ごはん　（新）チキンライス　旧148”　（新）さやいんげんのツナソース　旧104”　（新）豆乳コーンスープ　新　　","パン　　","▲ごはん（うるち米） ごはん（うるち米） 鶏むね肉 たまねぎ にんじん 油 ケチャップ 食塩 さやいんげん ツナ缶（水煮） しょうゆ（濃口） 油 カリフラワー コーン缶 固形ブイヨン 水 調整豆乳 コーンクリーム缶 食塩 かたくり粉 パセリ（乾） ▲食パン"]
["○",29,"(木)",null,"　　","パン　（新）チキンライス　旧148”　（新）さやいんげんのツナソース　旧104”　（新）豆乳コーンスープ　新　　","パン　　","▲食パン ごはん（うるち米） 鶏むね肉 たまねぎ にんじん 油 ケチャップ 食塩 さやいんげん ツナ缶（水煮） しょうゆ（濃口） 油 カリフラワー コーン缶 固形ブイヨン 水 調整豆乳 コーンクリーム缶 食塩 かたくり粉 パセリ（乾） ▲食パン"]
["○",30,"(金)",null,"　　","ごはん　（新）チキンライス　旧148”　（新）さやいんげんのツナソース　旧104”　（新）豆乳コーンスープ　新　　","パン　　","▲ごはん（うるち米） ごはん（うるち米） 鶏むね肉 たまねぎ にんじん 油 ケチャップ 食塩 さやいんげん ツナ缶（水煮） しょうゆ（濃口） 油 カリフラワー コーン缶 固形ブイヨン 水 調整豆乳 コーンクリーム缶 食塩 かたくり粉 パセリ（乾） ▲食パン"]

{"sheet":"献立データ","index":10,"n_rows":469,"n_cols":28,"rows_kept":469,"cut":false,"hidden":true,"merged":[[466,5,466,6],[467,5,467,6],[468,5,468,6],[375,5,375,6],[457,5,457,6],[458,5,458,6],[459,5,459,6],[460,5,460,6],[461,5,461,6],[462,5,462,6],[463,5,463,6],[464,5,464,6],[465,5,465,6],[448,5,448,6],[449,5,449,6],[450,5,450,6],[451,5,451,6],[452,5,452,6],[453,5,453,6],[454,5,454,6],[455,5,455,6],[456,5,456,6],[439,5,439,6],[440,5,440,6],[441,5,441,6],[442,5,442,6],[443,5,443,6],[444,5,444,6],[445,5,445,6],[446,5,446,6],[447,5,447,6],[430,5,430,6],[431,5,431,6],[432,5,432,6],[433,5,433,6],[434,5,434,6],[435,5,435,6],[436,5,436,6],[437,5,437,6],[438,5,438,6],[421,5,421,6],[422,5,422,6],[423,5,423,6],[424,5,424,6],[425,5,425,6],[426,5,426,6],[427,5,427,6],[428,5,428,6],[429,5,429,6],[412,5,412,6],[413,5,413,6],[414,5,414,6],[415,5,415,6],[416,5,416,6],[417,5,417,6],[418,5,418,6],[419,5,419,6],[420,5,420,6],[403,5,403,6],[404,5,404,6],[405,5,405,6],[406,5,406,6],[407,5,407,6],[408,5,408,6],[409,5,409,6],[410,5,410,6],[411,5,411,6],[394,5,394,6],[395,5,395,6],[396,5,396,6],[397,5,397,6],[398,5,398,6],[399,5,399,6],[400,5,400,6],[401,5,401,6],[402,5,402,6],[385,5,385,6],[386,5,386,6],[387,5,387,6],[388,5,388,6],[389,5,389,6],[390,5,390,6],[391,5,391,6],[392,5,392,6],[393,5,393,6],[376,5,376,6],[377,5,377,6],[378,5,378,6],[379,5,379,6],[380,5,380,6],[381,5,381,6],[382,5,382,6],[383,5,383,6],[384,5,384,6],[466,0,468,0],[466,1,468,1],[451,0,453,0],[454,0,456,0],[454,1,456,1],[457,0,459,0],[457,1,459,1],[460,0,462,0],[460,1,462,1],[463,0,465,0],[463,1,465,1],[451,1,453,1],[433,0,435,0],[433,1,435,1],[436,0,438,0],[439,0,441,0],[442,0,444,0],[442,1,444,1],[445,0,447,0],[445,1,447,1],[448,0,450,0],[436,1,438,1],[448,1,450,1],[439,1,441,1],[418,0,420,0],[418,1,420,1],[421,0,423,0],[421,1,423,1],[424,0,426,0],[424,1,426,1],[427,0,429,0],[427,1,429,1],[430,0,432,0],[430,1,432,1],[403,0,405,0],[403,1,405,1],[406,0,408,0],[406,1,408,1],[409,0,411,0],[409,1,411,1],[412,0,414,0],[412,1,414,1],[415,0,417,0],[415,1,417,1],[385,0,387,0],[388,0,390,0],[391,0,393,0],[394,0,396,0],[394,1,396,1],[397,0,399,0],[397,1,399,1],[400,0,402,0],[400,1,402,1],[218,0,229,0],[230,0,241,0],[242,0,253,0],[254,0,265,0],[266,0,277,0],[278,0,289,0],[290,0,301,0],[302,0,313,0],[314,0,325,0],[110,0,121,0],[122,0,133,0],[134,0,145,0],[146,0,157,0],[158,0,169,0],[170,0,181,0],[182,0,193,0],[194,0,205,0],[206,0,217,0],[2,0,13,0],[14,0,25,0],[26,0,37,0],[38,0,49,0],[50,0,61,0],[62,0,73,0],[74,0,85,0],[86,0,97,0],[98,0,109,0],[362,27,373,27],[365,2,370,2],[371,2,373,2],[326,27,337,27],[329,2,334,2],[335,2,337,2],[338,1,349,1],[338,2,340,2],[338,27,349,27],[341,2,346,2],[347,2,349,2],[350,1,361,1],[350,2,352,2],[350,27,361,27],[353,2,358,2],[359,2,361,2],[326,1,337,1],[302,1,313,1],[302,2,304,2],[302,27,313,27],[305,2,310,2],[311,2,313,2],[314,1,325,1],[314,2,316,2],[314,27,325,27],[317,2,322,2],[323,2,325,2],[269,2,274,2],[275,2,277,2],[278,1,289,1],[278,2,280,2],[266,1,277,1],[266,2,268,2],[290,27,301,27],[293,2,298,2],[299,2,301,2],[290,1,301,1],[290,2,292,2],[266,27,277,27],[278,27,289,27],[281,2,286,2],[287,2,289,2],[382,1,384,1],[376,1,378,1],[379,1,381,1],[326,2,328,2],[326,0,337,0],[338,0,349,0],[350,0,361,0],[362,0,373,0],[376,0,378,0],[379,0,381,0],[382,0,384,0],[362,1,373,1],[362,2,364,2],[218,1,229,1],[218,2,220,2],[218,27,229,27],[221,2,226,2],[227,2,229,2],[230,1,241,1],[230,2,232,2],[230,27,241,27],[233,2,238,2],[239,2,241,2],[242,1,253,1],[242,2,244,2],[242,27,253,27],[245,2,250,2],[251,2,253,2],[254,1,265,1],[254,2,256,2],[254,27,265,27],[257,2,262,2],[263,2,265,2],[206,1,217,1],[206,2,208,2],[206,27,217,27],[209,2,214,2],[215,2,217,2],[182,1,193,1],[182,2,184,2],[182,27,193,27],[185,2,190,2],[191,2,193,2],[194,1,205,1],[194,2,196,2],[194,27,205,27],[197,2,202,2],[203,2,205,2],[158,1,169,1],[158,2,160,2],[158,27,169,27],[161,2,166,2],[167,2,169,2],[170,1,181,1],[170,2,172,2],[170,27,181,27],[173,2,178,2],[179,2,181,2],[134,1,145,1],[134,2,136,2],[134,27,145,27],[137,2,142,2],[143,2,145,2],[146,1,157,1],[146,2,148,2],[146,27,157,27],[149,2,154,2],[155,2,157,2],[110,1,121,1],[110,2,112,2],[110,27,121,27],[113,2,118,2],[119,2,121,2],[86,1,97,1],[86,2,88,2],[122,27,133,27],[125,2,130,2],[131,2,133,2],[122,1,133,1],[122,2,124,2],[86,27,97,27],[89,2,94,2],[95,2,97,2],[98,1,109,1],[98,2,100,2],[98,27,109,27],[101,2,106,2],[107,2,109,2],[38,1,49,1],[50,1,61,1],[74,1,85,1],[74,2,76,2],[74,27,85,27],[77,2,82,2],[83,2,85,2],[47,2,49,2],[50,2,52,2],[53,2,58,2],[59,2,61,2],[62,2,64,2],[65,2,70,2],[62,1,73,1],[2,27,13,27],[14,27,25,27],[26,27,37,27],[38,27,49,27],[50,27,61,27],[391,1,393,1],[385,1,387,1],[388,1,390,1],[62,27,73,27],[2,1,13,1],[14,1,25,1],[26,1,37,1],[2,2,4,2],[5,2,10,2],[38,2,40,2],[41,2,46,2],[71,2,73,2],[11,2,13,2],[14,2,16,2],[17,2,22,2],[23,2,25,2],[26,2,28,2],[29,2,34,2],[35,2,37,2]]}
[]
["日","曜日","食種","番号","料理名","材料１","材料２","材料３","材料４","材料５","材料６","材料７","材料８","材料９","材料１０","材料１１","材料１２","材料１３","材料１４","材料１５","材料１６","材料１７","材料１８","材料１９","材料２０",null,null,"食材料まとめ"]
[{"$f":"+'月間献立（幼児）'!A5","v":1},{"$f":"+'月間献立（幼児）'!B5","v":"(土)"},"午前おやつ",{"$f":"+'月間献立（乳児）'!C4","v":0},{"$f":"IFERROR(VLOOKUP($D3,料理データ!$A$3:$BK$997,3,FALSE),\"\")","v":""},{"$f":"IFERROR(VLOOKUP($D3,料理データ!$A$3:$BK$997,5,FALSE),\"\")","v":""},{"$f":"IFERROR(VLOOKUP($D3,料理データ!$A$3:$BK$997,8,FALSE),\"\")","v":""},{"$f":"IFERROR(VLOOKUP($D3,料理データ!$A$3:$BK$997,11,FALSE),\"\")","v":""},{"$f":"IFERROR(VLOOKUP($D3,料理データ!$A$3:$BK$997,14,FALSE),\"\")","v":""},{"$f":"IFERROR(VLOOKUP($D3,料理データ!$A$3:$BK$997,17,FALSE),\"\")","v":""},{"$f":"IFERROR(VLOOKUP($D3,料理データ!$A$3:$BK$997,20,FALSE),\"\")","v":""},{"$f":"IFERROR(VLOOKUP($D3,料理データ!$A$3:$BK$997,23,FALSE),\"\")","v":""},{"$f":"IFERROR(VLOOKUP($D3,料理データ!$A$3:$BK$997,26,FALSE),\"\")","v":""},{"$f":"IFERROR(VLOOKUP($D3,料理データ!$A$3:$BK$997,29,FALSE),\"\")","v":""},{"$f":"IFERROR(VLOOKUP($D3,料理データ!$A$3:$BK$997,32,FALSE),\"\")","v":""},{"$f":"IFERROR(VLOOKUP($D3,料理データ!$A$3:$BK$997,35,FALSE),\"\")","v":""},{"$f":"IFERROR(VLOOKUP($D3,料理データ!$A$3:$BK$997,38,FALSE),\"\")","v":""},{"$f":"IFERROR(VLOOKUP($D3,料理データ!$A$3:$BK$997,41,FALSE),\"\")","v":""},{"$f":"IFERROR(VLOOKUP($D3,料理データ!$A$3:$BK$997,44,FALSE),\"\")","v":""},{"$f":"IFERROR(VLOOKUP($D3,料理データ!$A$3:$BK$997,47,FALSE),\"\")","v":""},{"$f":"IFERROR(VLOOKUP($D3,料理データ!$A$3:$BK$997,50,FALSE),\"\")","v":""},{"$f":"IFERROR(VLOOKUP($D3,料理データ!$A$3:$BK$997,53,FALSE),\"\")","v":""},{"$f":"IFERROR(VLOOKUP($D3,料理データ!$A$3:$BK$997,56,FALSE),\"\")","v":""},{"$f":"IFERROR(VLOOKUP($D3,料理データ!$A$3:$BK$997,59,FALSE),\"\")","v":""},{"$f":"IFERROR(VLOOKUP($D3,料理データ!$A$3:$BK$997,62,FALSE),\"\")","v":""},{"$f":"CONCATENATE($F3,\" \",$G3,\" \",$H3,\" \",$I3,\" \",$J3,\" \",$K3,\" \",$L3,\" \",$M3,\" \",$N3,\" \",$O3,\" \",$P3,\" \",$Q3,\" \",$R3,\" \",$S3,\" \",$T3,\" \",$U3,\" \",$V3,\" \",$W3,\" \",$X3,\" \",$Y3)","v":"                   "},{"$f":"SUBSTITUTE(Z3,\"-\",\" \")","v":"                   "},{"$f":"TRIM(CONCATENATE(AA3,AA4,AA5,\"▲\",AA6,AA7,AA8,AA9,AA10,AA11,\"▲\",AA12,AA13,AA14))","v":"▲ ▲"}]
[null,null,null,{"$f":"+'月間献立（乳児）'!D4","v":0},{"$f":"IFERROR(VLOOKUP($D4,料理データ!$A$3:$BK$997,3,FALSE),\"\")","v":""},{"$f":"IFERROR(VLOOKUP($D4,料理データ!$A$3:$BK$997,5,FALSE),\"\")","v":""},{"$f":"IFERROR(VLOOKUP($D4,料理データ!$A$3:$BK$997,8,FALSE),\"\")","v":""},{"$f":"IFERROR(VLOOKUP($D4,料理データ!$A$3:$BK$997,11,FALSE),\"\")","v":""},{"$f":"IFERROR(VLOOKUP($D4,料理データ!$A$3:$BK$997,14,FALSE),\"\")","v":""},{"$f":"IFERROR(VLOOKUP($D4,料理データ!$A$3:$BK$997,17,FALSE),\"\")","v":""},{"$f":"IFERROR(VLOOKUP($D4,料理データ!$A$3:$BK$997,20,FALSE),\"\")","v":""},{"$f":"IFERROR(VLOOKUP($D4,料理データ!$A$3:$BK$997,23,FALSE),\"\")","v":""},{"$f":"IFERROR(VLOOKUP($D4,料理データ!$A$3:$BK$997,26,FALSE),\"\")","v":""},{"$f":"IFERROR(VLOOKUP($D4,料理データ!$A$3:$BK$997,29,FALSE),\"\")","v":""},{"$f":"IFERROR(VLOOKUP($D4,料理データ!$A$3:$BK$997,32,FALSE),\"\")","v":""},{"$f":"IFERROR(VLOOKUP($D4,料理データ!$A$3:$BK$997,35,FALSE),\"\")","v":""},{"$f":"IFERROR(VLOOKUP($D4,料理データ!$A$3:$BK$997,38,FALSE),\"\")","v":""},{"$f":"IFERROR(VLOOKUP($D4,料理データ!$A$3:$BK$997,41,FALSE),\"\")","v":""},{"$f":"IFERROR(VLOOKUP($D4,料理データ!$A$3:$BK$997,44,FALSE),\"\")","v":""},{"$f":"IFERROR(VLOOKUP($D4,料理データ!$A$3:$BK$997,47,FALSE),\"\")","v":""},{"$f":"IFERROR(VLOOKUP($D4,料理データ!$A$3:$BK$997,50,FALSE),\"\")","v":""},{"$f":"IFERROR(VLOOKUP($D4,料理データ!$A$3:$BK$997,53,FALSE),\"\")","v":""},{"$f":"IFERROR(VLOOKUP($D4,料理データ!$A$3:$BK$997,56,FALSE),\"\")","v":""},{"$f":"IFERROR(VLOOKUP($D4,料理データ!$A$3:$BK$997,59,FALSE),\"\")","v":""},{"$f":"IFERROR(VLOOKUP($D4,料理データ!$A$3:$BK$997,62,FALSE),\"\")","v":""},"                   ",{"$f":"SUBSTITUTE(Z4,\"-\",\" \")","v":"                   "}]
[null,null,null,{"$f":"+'月間献立（乳児）'!E4","v":0},{"$f":"IFERROR(VLOOKUP($D5,料理データ!$A$3:$BK$997,3,FALSE),\"\")","v":""},{"$f":"IFERROR(VLOOKUP($D5,料理データ!$A$3:$BK$997,5,FALSE),\"\")","v":""},{"$f":"IFERROR(VLOOKUP($D5,料理データ!$A$3:$BK$997,8,FALSE),\"\")","v":""},{"$f":"IFERROR(VLOOKUP($D5,料理データ!$A$3:$BK$997,11,FALSE),\"\")","v":""},{"$f":"IFERROR(VLOOKUP($D5,料理データ!$A$3:$BK$997,14,FALSE),\"\")","v":""},{"$f":"IFERROR(VLOOKUP($D5,料理データ!$A$3:$BK$997,17,FALSE),\"\")","v":""},{"$f":"IFERROR(VLOOKUP($D5,料理データ!$A$3:$BK$997,20,FALSE),\"\")","v":""},{"$f":"IFERROR(VLOOKUP($D5,料理データ!$A$3:$BK$997,23,FALSE),\"\")","v":""},{"$f":"IFERROR(VLOOKUP($D5,料理データ!$A$3:$BK$997,26,FALSE),\"\")","v":""},{"$f":"IFERROR(VLOOKUP($D5,料理データ!$A$3:$BK$997,29,FALSE),\"\")","v":""},{"$f":"IFERROR(VLOOKUP($D5,料理データ!$A$3:$BK$997,32,FALSE),\"\")","v":""},{"$f":"IFERROR(VLOOKUP($D5,料理データ!$A$3:$BK$997,35,FALSE),\"\")","v":""},{"$f":"IFERROR(VLOOKUP($D5,料理データ!$A$3:$BK$997,38,FALSE),\"\")","v":""},{"$f":"IFERROR(VLOOKUP($D5,料理データ!$A$3:$BK$997,41,FALSE),\"\")","v":""},{"$f":"IFERROR(VLOOKUP($D5,料理データ!$A$3:$BK$997,44,FALSE),\"\")","v":""},{"$f":"IFERROR(VLOOKUP($D5,料理データ!$A$3:$BK$997,47,FALSE),\"\")","v":""},{"$f":"IFERROR(VLOOKUP($D5,料理データ!$A$3:$BK$997,50,FALSE),\"\")","v":""},{"$f":"IFERROR(VLOOKUP($D5,料理データ!$A$3:$BK$997,53,FALSE),\"\")","v":""},{"$f":"IFERROR(VLOOKUP($D5,料理データ!$A$3:$BK$997,56,FALSE),\"\")","v":""},{"$f":"IFERROR(VLOOKUP($D5,料理データ!$A$3:$BK$997,59,FALSE),\"\")","v":""},{"$f":"IFERROR(VLOOKUP($D5,料理データ!$A$3:$BK$997,62,FALSE),\"\")","v":""},"                   ",{"$f":"SUBSTITUTE(Z5,\"-\",\" \")","v":"                   "}]
[null,null,"昼食",{"$f":"+'月間献立（乳児）'!F4","v":0},{"$f":"IFERROR(VLOOKUP($D6,料理データ!$A$3:$BK$997,3,FALSE),\"\")","v":""},{"$f":"IFERROR(VLOOKUP($D6,料理データ!$A$3:$BK$997,5,FALSE),\"\")","v":""},{"$f":"IFERROR(VLOOKUP($D6,料理データ!$A$3:$BK$997,8,FALSE),\"\")","v":""},{"$f":"IFERROR(VLOOKUP($D6,料理データ!$A$3:$BK$997,11,FALSE),\"\")","v":""},{"$f":"IFERROR(VLOOKUP($D6,料理データ!$A$3:$BK$997,14,FALSE),\"\")","v":""},{"$f":"IFERROR(VLOOKUP($D6,料理データ!$A$3:$BK$997,17,FALSE),\"\")","v":""},{"$f":"IFERROR(VLOOKUP($D6,料理データ!$A$3:$BK$997,20,FALSE),\"\")","v":""},{"$f":"IFERROR(VLOOKUP($D6,料理データ!$A$3:$BK$997,23,FALSE),\"\")","v":""},{"$f":"IFERROR(VLOOKUP($D6,料理データ!$A$3:$BK$997,26,FALSE),\"\")","v":""},{"$f":"IFERROR(VLOOKUP($D6,料理データ!$A$3:$BK$997,29,FALSE),\"\")","v":""},{"$f":"IFERROR(VLOOKUP($D6,料理データ!$A$3:$BK$997,32,FALSE),\"\")","v":""},{"$f":"IFERROR(VLOOKUP($D6,料理データ!$A$3:$BK$997,35,FALSE),\"\")","v":""},{"$f":"IFERROR(VLOOKUP($D6,料理データ!$A$3:$BK$997,38,FALSE),\"\")","v":""},{"$f":"IFERROR(VLOOKUP($D6,料理データ!$A$3:$BK$997,41,FALSE),\"\")","v":""},{"$f":"IFERROR(VLOOKUP($D6,料理データ!$A$3:$BK$997,44,FALSE),\"\")","v":""},{"$f":"IFERROR(VLOOKUP($D6,料理データ!$A$3:$BK$997,47,FALSE),\"\")","v":""},{"$f":"IFERROR(VLOOKUP($D6,料理データ!$A$3:$BK$997,50,FALSE),\"\")","v":""},{"$f":"IFERROR(VLOOKUP($D6,料理データ!$A$3:$BK$997,53,FALSE),\"\")","v":""},{"$f":"IFERROR(VLOOKUP($D6,料理データ!$A$3:$BK$997,56,FALSE),\"\")","v":""},{"$f":"IFERROR(VLOOKUP($D6,料理データ!$A$3:$BK$997,59,FALSE),\"\")","v":""},{"$f":"IFERROR(VLOOKUP($D6,料理データ!$A$3:$BK$997,62,FALSE),\"\")","v":""},"                   ","                   "]
[null,null,null,{"$f":"+'月間献立（乳児）'!G4","v":0},{"$f":"IFERROR(VLOOKUP($D7,料理データ!$A$3:$BK$997,3,FALSE),\"\")","v":""},{"$f":"IFERROR(VLOOKUP($D7,料理データ!$A$3:$BK$997,5,FALSE),\"\")","v":""},{"$f":"IFERROR(VLOOKUP($D7,料理データ!$A$3:$BK$997,8,FALSE),\"\")","v":""},{"$f":"IFERROR(VLOOKUP($D7,料理データ!$A$3:$BK$997,11,FALSE),\"\")","v":""},{"$f":"IFERROR(VLOOKUP($D7,料理データ!$A$3:$BK$997,14,FALSE),\"\")","v":""},{"$f":"IFERROR(VLOOKUP($D7,料理データ!$A$3:$BK$997,17,FALSE),\"\")","v":""},{"$f":"IFERROR(VLOOKUP($D7,料理データ!$A$3:$BK$997,20,FALSE),\"\")","v":""},{"$f":"IFERROR(VLOOKUP($D7,料理データ!$A$3:$BK$997,23,FALSE),\"\")","v":""},{"$f":"IFERROR(VLOOKUP($D7,料理データ!$A$3:$BK$997,26,FALSE),\"\")","v":""},{"$f":"IFERROR(VLOOKUP($D7,料理データ!$A$3:$BK$997,29,FALSE),\"\")","v":""},{"$f":"IFERROR(VLOOKUP($D7,料理データ!$A$3:$BK$997,32,FALSE),\"\")","v":""},{"$f":"IFERROR(VLOOKUP($D7,料理データ!$A$3:$BK$997,35,FALSE),\"\")","v":""},{"$f":"IFERROR(VLOOKUP($D7,料理データ!$A$3:$BK$997,38,FALSE),\"\")","v":""},{"$f":"IFERROR(VLOOKUP($D7,料理データ!$A$3:$BK$997,41,FALSE),\"\")","v":""},{"$f":"IFERROR(VLOOKUP($D7,料理データ!$A$3:$BK$997,44,FALSE),\"\")","v":""},{"$f":"IFERROR(VLOOKUP($D7,料理データ!$A$3:$BK$997,47,FALSE),\"\")","v":""},{"$f":"IFERROR(VLOOKUP($D7,料理データ!$A$3:$BK$997,50,FALSE),\"\")","v":""},{"$f":"IFERROR(VLOOKUP($D7,料理データ!$A$3:$BK$997,53,FALSE),\"\")","v":""},{"$f":"IFERROR(VLOOKUP($D7,料理データ!$A$3:$BK$997,56,FALSE),\"\")","v":""},{"$f":"IFERROR(VLOOKUP($D7,料理データ!$A$3:$BK$997,59,FALSE),\"\")","v":""},{"$f":"IFERROR(VLOOKUP($D7,料理データ!$A$3:$BK$997,62,FALSE),\"\")","v":""},"                   ","                   "]
[null,null,null,{"$f":"+'月間献立（乳児）'!H4","v":0},{"$f":"IFERROR(VLOOKUP($D8,料理データ!$A$3:$BK$997,3,FALSE),\"\")","v":""},{"$f":"IFERROR(VLOOKUP($D8,料理データ!$A$3:$BK$997,5,FALSE),\"\")","v":""},{"$f":"IFERROR(VLOOKUP($D8,料理データ!$A$3:$BK$997,8,FALSE),\"\")","v":""},{"$f":"IFERROR(VLOOKUP($D8,料理データ!$A$3:$BK$997,11,FALSE),\"\")","v":""},{"$f":"IFERROR(VLOOKUP($D8,料理データ!$A$3:$BK$997,14,FALSE),\"\")","v":""},{"$f":"IFERROR(VLOOKUP($D8,料理データ!$A$3:$BK$997,17,FALSE),\"\")","v":""},{"$f":"IFERROR(VLOOKUP($D8,料理データ!$A$3:$BK$997,20,FALSE),\"\")","v":""},{"$f":"IFERROR(VLOOKUP($D8,料理データ!$A$3:$BK$997,23,FALSE),\"\")","v":""},{"$f":"IFERROR(VLOOKUP($D8,料理データ!$A$3:$BK$997,26,FALSE),\"\")","v":""},{"$f":"IFERROR(VLOOKUP($D8,料理データ!$A$3:$BK$997,29,FALSE),\"\")","v":""},{"$f":"IFERROR(VLOOKUP($D8,料理データ!$A$3:$BK$997,32,FALSE),\"\")","v":""},{"$f":"IFERROR(VLOOKUP($D8,料理データ!$A$3:$BK$997,35,FALSE),\"\")","v":""},{"$f":"IFERROR(VLOOKUP($D8,料理データ!$A$3:$BK$997,38,FALSE),\"\")","v":""},{"$f":"IFERROR(VLOOKUP($D8,料理データ!$A$3:$BK$997,41,FALSE),\"\")","v":""},{"$f":"IFERROR(VLOOKUP($D8,料理データ!$A$3:$BK$997,44,FALSE),\"\")","v":""},{"$f":"IFERROR(VLOOKUP($D8,料理データ!$A$3:$BK$997,47,FALSE),\"\")","v":""},{"$f":"IFERROR(VLOOKUP($D8,料理データ!$A$3:$BK$997,50,FALSE),\"\")","v":""},{"$f":"IFERROR(VLOOKUP($D8,料理データ!$A$3:$BK$997,53,FALSE),\"\")","v":""},{"$f":"IFERROR(VLOOKUP($D8,料理データ!$A$3:$BK$997,56,FALSE),\"\")","v":""},{"$f":"IFERROR(VLOOKUP($D8,料理データ!$A$3:$BK$997,59,FALSE),\"\")","v":""},{"$f":"IFERROR(VLOOKUP($D8,料理データ!$A$3:$BK$997,62,FALSE),\"\")","v":""},"                   ","                   "]
[null,null,null,{"$f":"+'月間献立（乳児）'!I4","v":0},{"$f":"IFERROR(VLOOKUP($D9,料理データ!$A$3:$BK$997,3,FALSE),\"\")","v":""},{"$f":"IFERROR(VLOOKUP($D9,料理データ!$A$3:$BK$997,5,FALSE),\"\")","v":""},{"$f":"IFERROR(VLOOKUP($D9,料理データ!$A$3:$BK$997,8,FALSE),\"\")","v":""},{"$f":"IFERROR(VLOOKUP($D9,料理データ!$A$3:$BK$997,11,FALSE),\"\")","v":""},{"$f":"IFERROR(VLOOKUP($D9,料理データ!$A$3:$BK$997,14,FALSE),\"\")","v":""},{"$f":"IFERROR(VLOOKUP($D9,料理データ!$A$3:$BK$997,17,FALSE),\"\")","v":""},{"$f":"IFERROR(VLOOKUP($D9,料理データ!$A$3:$BK$997,20,FALSE),\"\")","v":""},{"$f":"IFERROR(VLOOKUP($D9,料理データ!$A$3:$BK$997,23,FALSE),\"\")","v":""},{"$f":"IFERROR(VLOOKUP($D9,料理データ!$A$3:$BK$997,26,FALSE),\"\")","v":""},{"$f":"IFERROR(VLOOKUP($D9,料理データ!$A$3:$BK$997,29,FALSE),\"\")","v":""},{"$f":"IFERROR(VLOOKUP($D9,料理データ!$A$3:$BK$997,32,FALSE),\"\")","v":""},{"$f":"IFERROR(VLOOKUP($D9,料理データ!$A$3:$BK$997,35,FALSE),\"\")","v":""},{"$f":"IFERROR(VLOOKUP($D9,料理データ!$A$3:$BK$997,38,FALSE),\"\")","v":""},{"$f":"IFERROR(VLOOKUP($D9,料理データ!$A$3:$BK$997,41,FALSE),\"\")","v":""},{"$f":"IFERROR(VLOOKUP($D9,料理データ!$A$3:$BK$997,44,FALSE),\"\")","v":""},{"$f":"IFERROR(VLOOKUP($D9,料理データ!$A$3:$BK$997,47,FALSE),\"\")","v":""},{"$f":"IFERROR(VLOOKUP($D9,料理データ!$A$3:$BK$997,50,FALSE),\"\")","v":""},{"$f":"IFERROR(VLOOKUP($D9,料理データ!$A$3:$BK$997,53,FALSE),\"\")","v":""},{"$f":"IFERROR(VLOOKUP($D9,料理データ!$A$3:$BK$997,56,FALSE),\"\")","v":""},{"$f":"IFERROR(VLOOKUP($D9,料理データ!$A$3:$BK$997,59,FALSE),\"\")","v":""},{"$f":"IFERROR(VLOOKUP($D9,料理データ!$A$3:$BK$997,62,FALSE),\"\")","v":""},"                   ","                   "]
[null,null,null,{"$f":"+'月間献立（乳児）'!J4","v":0},{"$f":"IFERROR(VLOOKUP($D10,料理データ!$A$3:$BK$997,3,FALSE),\"\")","v":""},{"$f":"IFERROR(VLOOKUP($D10,料理データ!$A$3:$BK$997,5,FALSE),\"\")","v":""},{"$f":"IFERROR(VLOOKUP($D10,料理データ!$A$3:$BK$997,8,FALSE),\"\")","v":""},{"$f":"IFERROR(VLOOKUP($D10,料理データ!$A$3:$BK$997,11,FALSE),\"\")","v":""},{"$f":"IFERROR(VLOOKUP($D10,料理データ!$A$3:$BK$997,14,FALSE),\"\")","v":""},{"$f":"IFERROR(VLOOKUP($D10,料理データ!$A$3:$BK$997,17,FALSE),\"\")","v":""},{"$f":"IFERROR(VLOOKUP($D10,料理データ!$A$3:$BK$997,20,FALSE),\"\")","v":""},{"$f":"IFERROR(VLOOKUP($D10,料理データ!$A$3:$BK$997,23,FALSE),\"\")","v":""},{"$f":"IFERROR(VLOOKUP($D10,料理データ!$A$3:$BK$997,26,FALSE),\"\")","v":""},{"$f":"IFERROR(VLOOKUP($D10,料理データ!$A$3:$BK$997,29,FALSE),\"\")","v":""},{"$f":"IFERROR(VLOOKUP($D10,料理データ!$A$3:$BK$997,32,FALSE),\"\")","v":""},{"$f":"IFERROR(VLOOKUP($D10,料理データ!$A$3:$BK$997,35,FALSE),\"\")","v":""},{"$f":"IFERROR(VLOOKUP($D10,料理データ!$A$3:$BK$997,38,FALSE),\"\")","v":""},{"$f":"IFERROR(VLOOKUP($D10,料理データ!$A$3:$BK$997,41,FALSE),\"\")","v":""},{"$f":"IFERROR(VLOOKUP($D10,料理データ!$A$3:$BK$997,44,FALSE),\"\")","v":""},{"$f":"IFERROR(VLOOKUP($D10,料理データ!$A$3:$BK$997,47,FALSE),\"\")","v":""},{"$f":"IFERROR(VLOOKUP($D10,料理データ!$A$3:$BK$997,50,FALSE),\"\")","v":""},{"$f":"IFERROR(VLOOKUP($D10,料理データ!$A$3:$BK$997,53,FALSE),\"\")","v":""},{"$f":"IFERROR(VLOOKUP($D10,料理データ!$A$3:$BK$997,56,FALSE),\"\")","v":""},{"$f":"IFERROR(VLOOKUP($D10,料理データ!$A$3:$BK$997,59,FALSE),\"\")","v":""},{"$f":"IFERROR(VLOOKUP($D10,料理データ!$A$3:$BK$997,62,FALSE),\"\")","v":""},"                   ","                   "]
[null,null,null,{"$f":"+'月間献立（乳児）'!K4","v":0},{"$f":"IFERROR(VLOOKUP($D11,料理データ!$A$3:$BK$997,3,FALSE),\"\")","v":""},{"$f":"IFERROR(VLOOKUP($D11,料理データ!$A$3:$BK$997,5,FALSE),\"\")","v":""},{"$f":"IFERROR(VLOOKUP($D11,料理データ!$A$3:$BK$997,8,FALSE),\"\")","v":""},{"$f":"IFERROR(VLOOKUP($D11,料理データ!$A$3:$BK$997,11,FALSE),\"\")","v":""},{"$f":"IFERROR(VLOOKUP($D11,料理データ!$A$3:$BK$997,14,FALSE),\"\")","v":""},{"$f":"IFERROR(VLOOKUP($D11,料理データ!$A$3:$BK$997,17,FALSE),\"\")","v":""},{"$f":"IFERROR(VLOOKUP($D11,料理データ!$A$3:$BK$997,20,FALSE),\"\")","v":""},{"$f":"IFERROR(VLOOKUP($D11,料理データ!$A$3:$BK$997,23,FALSE),\"\")","v":""},{"$f":"IFERROR(VLOOKUP($D11,料理データ!$A$3:$BK$997,26,FALSE),\"\")","v":""},{"$f":"IFERROR(VLOOKUP($D11,料理データ!$A$3:$BK$997,29,FALSE),\"\")","v":""},{"$f":"IFERROR(VLOOKUP($D11,料理データ!$A$3:$BK$997,32,FALSE),\"\")","v":""},{"$f":"IFERROR(VLOOKUP($D11,料理データ!$A$3:$BK$997,35,FALSE),\"\")","v":""},{"$f":"IFERROR(VLOOKUP($D11,料理データ!$A$3:$BK$997,38,FALSE),\"\")","v":""},{"$f":"IFERROR(VLOOKUP($D11,料理データ!$A$3:$BK$997,41,FALSE),\"\")","v":""},{"$f":"IFERROR(VLOOKUP($D11,料理データ!$A$3:$BK$997,44,FALSE),\"\")","v":""},{"$f":"IFERROR(VLOOKUP($D11,料理データ!$A$3:$BK$997,47,FALSE),\"\")","v":""},{"$f":"IFERROR(VLOOKUP($D11,料理データ!$A$3:$BK$997,50,FALSE),\"\")","v":""},{"$f":"IFERROR(VLOOKUP($D11,料理データ!$A$3:$BK$997,53,FALSE),\"\")","v":""},{"$f":"IFERROR(VLOOKUP($D11,料理データ!$A$3:$BK$997,56,FALSE),\"\")","v":""},{"$f":"IFERROR(VLOOKUP($D11,料理データ!$A$3:$BK$997,59,FALSE),\"\")","v":""},{"$f":"IFERROR(VLOOKUP($D11,料理データ!$A$3:$BK$997,62,FALSE),\"\")","v":""},"                   ","                   "]
[null,null,"午後おやつ",{"$f":"+'月間献立（乳児）'!L4","v":0},{"$f":"IFERROR(VLOOKUP($D12,料理データ!$A$3:$BK$997,3,FALSE),\"\")","v":""},{"$f":"IFERROR(VLOOKUP($D12,料理データ!$A$3:$BK$997,5,FALSE),\"\")","v":""},{"$f":"IFERROR(VLOOKUP($D12,料理データ!$A$3:$BK$997,8,FALSE),\"\")","v":""},{"$f":"IFERROR(VLOOKUP($D12,料理データ!$A$3:$BK$997,11,FALSE),\"\")","v":""},{"$f":"IFERROR(VLOOKUP($D12,料理データ!$A$3:$BK$997,14,FALSE),\"\")","v":""},{"$f":"IFERROR(VLOOKUP($D12,料理データ!$A$3:$BK$997,17,FALSE),\"\")","v":""},{"$f":"IFERROR(VLOOKUP($D12,料理データ!$A$3:$BK$997,20,FALSE),\"\")","v":""},{"$f":"IFERROR(VLOOKUP($D12,料理データ!$A$3:$BK$997,23,FALSE),\"\")","v":""},{"$f":"IFERROR(VLOOKUP($D12,料理データ!$A$3:$BK$997,26,FALSE),\"\")","v":""},{"$f":"IFERROR(VLOOKUP($D12,料理データ!$A$3:$BK$997,29,FALSE),\"\")","v":""},{"$f":"IFERROR(VLOOKUP($D12,料理データ!$A$3:$BK$997,32,FALSE),\"\")","v":""},{"$f":"IFERROR(VLOOKUP($D12,料理データ!$A$3:$BK$997,35,FALSE),\"\")","v":""},{"$f":"IFERROR(VLOOKUP($D12,料理データ!$A$3:$BK$997,38,FALSE),\"\")","v":""},{"$f":"IFERROR(VLOOKUP($D12,料理データ!$A$3:$BK$997,41,FALSE),\"\")","v":""},{"$f":"IFERROR(VLOOKUP($D12,料理データ!$A$3:$BK$997,44,FALSE),\"\")","v":""},{"$f":"IFERROR(VLOOKUP($D12,料理データ!$A$3:$BK$997,47,FALSE),\"\")","v":""},{"$f":"IFERROR(VLOOKUP($D12,料理データ!$A$3:$BK$997,50,FALSE),\"\")","v":""},{"$f":"IFERROR(VLOOKUP($D12,料理データ!$A$3:$BK$997,53,FALSE),\"\")","v":""},{"$f":"IFERROR(VLOOKUP($D12,料理データ!$A$3:$BK$997,56,FALSE),\"\")","v":""},{"$f":"IFERROR(VLOOKUP($D12,料理データ!$A$3:$BK$997,59,FALSE),\"\")","v":""},{"$f":"IFERROR(VLOOKUP($D12,料理データ!$A$3:$BK$997,62,FALSE),\"\")","v":""},"                   ",{"$f":"SUBSTITUTE(Z12,\"-\",\"\")","v":"                   "}]
[null,null,null,{"$f":"+'月間献立（乳児）'!M4","v":0},{"$f":"IFERROR(VLOOKUP($D13,料理データ!$A$3:$BK$997,3,FALSE),\"\")","v":""},{"$f":"IFERROR(VLOOKUP($D13,料理データ!$A$3:$BK$997,5,FALSE),\"\")","v":""},{"$f":"IFERROR(VLOOKUP($D13,料理データ!$A$3:$BK$997,8,FALSE),\"\")","v":""},{"$f":"IFERROR(VLOOKUP($D13,料理データ!$A$3:$BK$997,11,FALSE),\"\")","v":""},{"$f":"IFERROR(VLOOKUP($D13,料理データ!$A$3:$BK$997,14,FALSE),\"\")","v":""},{"$f":"IFERROR(VLOOKUP($D13,料理データ!$A$3:$BK$997,17,FALSE),\"\")","v":""},{"$f":"IFERROR(VLOOKUP($D13,料理データ!$A$3:$BK$997,20,FALSE),\"\")","v":""},{"$f":"IFERROR(VLOOKUP($D13,料理データ!$A$3:$BK$997,23,FALSE),\"\")","v":""},{"$f":"IFERROR(VLOOKUP($D13,料理データ!$A$3:$BK$997,26,FALSE),\"\")","v":""},{"$f":"IFERROR(VLOOKUP($D13,料理データ!$A$3:$BK$997,29,FALSE),\"\")","v":""},{"$f":"IFERROR(VLOOKUP($D13,料理データ!$A$3:$BK$997,32,FALSE),\"\")","v":""},{"$f":"IFERROR(VLOOKUP($D13,料理データ!$A$3:$BK$997,35,FALSE),\"\")","v":""},{"$f":"IFERROR(VLOOKUP($D13,料理データ!$A$3:$BK$997,38,FALSE),\"\")","v":""},{"$f":"IFERROR(VLOOKUP($D13,料理データ!$A$3:$BK$997,41,FALSE),\"\")","v":""},{"$f":"IFERROR(VLOOKUP($D13,料理データ!$A$3:$BK$997,44,FALSE),\"\")","v":""},{"$f":"IFERROR(VLOOKUP($D13,料理データ!$A$3:$BK$997,47,FALSE),\"\")","v":""},{"$f":"IFERROR(VLOOKUP($D13,料理データ!$A$3:$BK$997,50,FALSE),\"\")","v":""},{"$f":"IFERROR(VLOOKUP($D13,料理データ!$A$3:$BK$997,53,FALSE),\"\")","v":""},{"$f":"IFERROR(VLOOKUP($D13,料理データ!$A$3:$BK$997,56,FALSE),\"\")","v":""},{"$f":"IFERROR(VLOOKUP($D13,料理データ!$A$3:$BK$997,59,FALSE),\"\")","v":""},{"$f":"IFERROR(VLOOKUP($D13,料理データ!$A$3:$BK$997,62,FALSE),\"\")","v":""},"                   ","                   "]
[null,null,null,{"$f":"+'月間献立（乳児）'!N4","v":0},{"$f":"IFERROR(VLOOKUP($D14,料理データ!$A$3:$BK$997,3,FALSE),\"\")","v":""},{"$f":"IFERROR(VLOOKUP($D14,料理データ!$A$3:$BK$997,5,FALSE),\"\")","v":""},{"$f":"IFERROR(VLOOKUP($D14,料理データ!$A$3:$BK$997,8,FALSE),\"\")","v":""},{"$f":"IFERROR(VLOOKUP($D14,料理データ!$A$3:$BK$997,11,FALSE),\"\")","v":""},{"$f":"IFERROR(VLOOKUP($D14,料理データ!$A$3:$BK$997,14,FALSE),\"\")","v":""},{"$f":"IFERROR(VLOOKUP($D14,料理データ!$A$3:$BK$997,17,FALSE),\"\")","v":""},{"$f":"IFERROR(VLOOKUP($D14,料理データ!$A$3:$BK$997,20,FALSE),\"\")","v":""},{"$f":"IFERROR(VLOOKUP($D14,料理データ!$A$3:$BK$997,23,FALSE),\"\")","v":""},{"$f":"IFERROR(VLOOKUP($D14,料理データ!$A$3:$BK$997,26,FALSE),\"\")","v":""},{"$f":"IFERROR(VLOOKUP($D14,料理データ!$A$3:$BK$997,29,FALSE),\"\")","v":""},{"$f":"IFERROR(VLOOKUP($D14,料理データ!$A$3:$BK$997,32,FALSE),\"\")","v":""},{"$f":"IFERROR(VLOOKUP($D14,料理データ!$A$3:$BK$997,35,FALSE),\"\")","v":""},{"$f":"IFERROR(VLOOKUP($D14,料理データ!$A$3:$BK$997,38,FALSE),\"\")","v":""},{"$f":"IFERROR(VLOOKUP($D14,料理データ!$A$3:$BK$997,41,FALSE),\"\")","v":""},{"$f":"IFERROR(VLOOKUP($D14,料理データ!$A$3:$BK$997,44,FALSE),\"\")","v":""},{"$f":"IFERROR(VLOOKUP($D14,料理データ!$A$3:$BK$997,47,FALSE),\"\")","v":""},{"$f":"IFERROR(VLOOKUP($D14,料理データ!$A$3:$BK$997,50,FALSE),\"\")","v":""},{"$f":"IFERROR(VLOOKUP($D14,料理データ!$A$3:$BK$997,53,FALSE),\"\")","v":""},{"$f":"IFERROR(VLOOKUP($D14,料理データ!$A$3:$BK$997,56,FALSE),\"\")","v":""},{"$f":"IFERROR(VLOOKUP($D14,料理データ!$A$3:$BK$997,59,FALSE),\"\")","v":""},{"$f":"IFERROR(VLOOKUP($D14,料理データ!$A$3:$BK$997,62,FALSE),\"\")","v":""},"                   ",{"$f":"SUBSTITUTE(Z14,\"-\",\"\")","v":"                   "}]
[{"$f":"+'月間献立（幼児）'!A6","v":2},{"$f":"+'月間献立（幼児）'!B6","v":"(日)"},"午前おやつ",{"$f":"+'月間献立（乳児）'!C5","v":0},{"$f":"IFERROR(VLOOKUP($D15,料理データ!$A$3:$BK$997,3,FALSE),\"\")","v":""},{"$f":"IFERROR(VLOOKUP($D15,料理データ!$A$3:$BK$997,5,FALSE),\"\")","v":""},{"$f":"IFERROR(VLOOKUP($D15,料理データ!$A$3:$BK$997,8,FALSE),\"\")","v":""},{"$f":"IFERROR(VLOOKUP($D15,料理データ!$A$3:$BK$997,11,FALSE),\"\")","v":""},{"$f":"IFERROR(VLOOKUP($D15,料理データ!$A$3:$BK$997,14,FALSE),\"\")","v":""},{"$f":"IFERROR(VLOOKUP($D15,料理データ!$A$3:$BK$997,17,FALSE),\"\")","v":""},{"$f":"IFERROR(VLOOKUP($D15,料理データ!$A$3:$BK$997,20,FALSE),\"\")","v":""},{"$f":"IFERROR(VLOOKUP($D15,料理データ!$A$3:$BK$997,23,FALSE),\"\")","v":""},{"$f":"IFERROR(VLOOKUP($D15,料理データ!$A$3:$BK$997,26,FALSE),\"\")","v":""},{"$f":"IFERROR(VLOOKUP($D15,料理データ!$A$3:$BK$997,29,FALSE),\"\")","v":""},{"$f":"IFERROR(VLOOKUP($D15,料理データ!$A$3:$BK$997,32,FALSE),\"\")","v":""},{"$f":"IFERROR(VLOOKUP($D15,料理データ!$A$3:$BK$997,35,FALSE),\"\")","v":""},{"$f":"IFERROR(VLOOKUP($D15,料理データ!$A$3:$BK$997,38,FALSE),\"\")","v":""},{"$f":"IFERROR(VLOOKUP($D15,料理データ!$A$3:$BK$997,41,FALSE),\"\")","v":""},{"$f":"IFERROR(VLOOKUP($D15,料理データ!$A$3:$BK$997,44,FALSE),\"\")","v":""},{"$f":"IFERROR(VLOOKUP($D15,料理データ!$A$3:$BK$997,47,FALSE),\"\")","v":""},{"$f":"IFERROR(VLOOKUP($D15,料理データ!$A$3:$BK$997,50,FALSE),\"\")","v":""},{"$f":"IFERROR(VLOOKUP($D15,料理データ!$A$3:$BK$997,53,FALSE),\"\")","v":""},{"$f":"IFERROR(VLOOKUP($D15,料理データ!$A$3:$BK$997,56,FALSE),\"\")","v":""},{"$f":"IFERROR(VLOOKUP($D15,料理データ!$A$3:$BK$997,59,FALSE),\"\")","v":""},{"$f":"IFERROR(VLOOKUP($D15,料理データ!$A$3:$BK$997,62,FALSE),\"\")","v":""},"                   ",{"$f":"SUBSTITUTE(Z15,\"-\",\" \")","v":"                   "},{"$f":"TRIM(CONCATENATE(AA15,AA16,AA17,\"▲\",AA18,AA19,AA20,AA21,AA22,AA23,\"▲\",AA24,AA25,AA26))","v":"▲ ▲"}]
[null,null,null,{"$f":"+'月間献立（乳児）'!D5","v":0},{"$f":"IFERROR(VLOOKUP($D16,料理データ!$A$3:$BK$997,3,FALSE),\"\")","v":""},{"$f":"IFERROR(VLOOKUP($D16,料理データ!$A$3:$BK$997,5,FALSE),\"\")","v":""},{"$f":"IFERROR(VLOOKUP($D16,料理データ!$A$3:$BK$997,8,FALSE),\"\")","v":""},{"$f":"IFERROR(VLOOKUP($D16,料理データ!$A$3:$BK$997,11,FALSE),\"\")","v":""},{"$f":"IFERROR(VLOOKUP($D16,料理データ!$A$3:$BK$997,14,FALSE),\"\")","v":""},{"$f":"IFERROR(VLOOKUP($D16,料理データ!$A$3:$BK$997,17,FALSE),\"\")","v":""},{"$f":"IFERROR(VLOOKUP($D16,料理データ!$A$3:$BK$997,20,FALSE),\"\")","v":""},{"$f":"IFERROR(VLOOKUP($D16,料理データ!$A$3:$BK$997,23,FALSE),\"\")","v":""},{"$f":"IFERROR(VLOOKUP($D16,料理データ!$A$3:$BK$997,26,FALSE),\"\")","v":""},{"$f":"IFERROR(VLOOKUP($D16,料理データ!$A$3:$BK$997,29,FALSE),\"\")","v":""},{"$f":"IFERROR(VLOOKUP($D16,料理データ!$A$3:$BK$997,32,FALSE),\"\")","v":""},{"$f":"IFERROR(VLOOKUP($D16,料理データ!$A$3:$BK$997,35,FALSE),\"\")","v":""},{"$f":"IFERROR(VLOOKUP($D16,料理データ!$A$3:$BK$997,38,FALSE),\"\")","v":""},{"$f":"IFERROR(VLOOKUP($D16,料理データ!$A$3:$BK$997,41,FALSE),\"\")","v":""},{"$f":"IFERROR(VLOOKUP($D16,料理データ!$A$3:$BK$997,44,FALSE),\"\")","v":""},{"$f":"IFERROR(VLOOKUP($D16,料理データ!$A$3:$BK$997,47,FALSE),\"\")","v":""},{"$f":"IFERROR(VLOOKUP($D16,料理データ!$A$3:$BK$997,50,FALSE),\"\")","v":""},{"$f":"IFERROR(VLOOKUP($D16,料理データ!$A$3:$BK$997,53,FALSE),\"\")","v":""},{"$f":"IFERROR(VLOOKUP($D16,料理データ!$A$3:$BK$997,56,FALSE),\"\")","v":""},{"$f":"IFERROR(VLOOKUP($D16,料理データ!$A$3:$BK$997,59,FALSE),\"\")","v":""},{"$f":"IFERROR(VLOOKUP($D16,料理データ!$A$3:$BK$997,62,FALSE),\"\")","v":""},"                   ",{"$f":"SUBSTITUTE(Z16,\"-\",\" \")","v":"                   "}]
[null,null,null,{"$f":"+'月間献立（乳児）'!E5","v":0},{"$f":"IFERROR(VLOOKUP($D17,料理データ!$A$3:$BK$997,3,FALSE),\"\")","v":""},{"$f":"IFERROR(VLOOKUP($D17,料理データ!$A$3:$BK$997,5,FALSE),\"\")","v":""},{"$f":"IFERROR(VLOOKUP($D17,料理データ!$A$3:$BK$997,8,FALSE),\"\")","v":""},{"$f":"IFERROR(VLOOKUP($D17,料理データ!$A$3:$BK$997,11,FALSE),\"\")","v":""},{"$f":"IFERROR(VLOOKUP($D17,料理データ!$A$3:$BK$997,14,FALSE),\"\")","v":""},{"$f":"IFERROR(VLOOKUP($D17,料理データ!$A$3:$BK$997,17,FALSE),\"\")","v":""},{"$f":"IFERROR(VLOOKUP($D17,料理データ!$A$3:$BK$997,20,FALSE),\"\")","v":""},{"$f":"IFERROR(VLOOKUP($D17,料理データ!$A$3:$BK$997,23,FALSE),\"\")","v":""},{"$f":"IFERROR(VLOOKUP($D17,料理データ!$A$3:$BK$997,26,FALSE),\"\")","v":""},{"$f":"IFERROR(VLOOKUP($D17,料理データ!$A$3:$BK$997,29,FALSE),\"\")","v":""},{"$f":"IFERROR(VLOOKUP($D17,料理データ!$A$3:$BK$997,32,FALSE),\"\")","v":""},{"$f":"IFERROR(VLOOKUP($D17,料理データ!$A$3:$BK$997,35,FALSE),\"\")","v":""},{"$f":"IFERROR(VLOOKUP($D17,料理データ!$A$3:$BK$997,38,FALSE),\"\")","v":""},{"$f":"IFERROR(VLOOKUP($D17,料理データ!$A$3:$BK$997,41,FALSE),\"\")","v":""},{"$f":"IFERROR(VLOOKUP($D17,料理データ!$A$3:$BK$997,44,FALSE),\"\")","v":""},{"$f":"IFERROR(VLOOKUP($D17,料理データ!$A$3:$BK$997,47,FALSE),\"\")","v":""},{"$f":"IFERROR(VLOOKUP($D17,料理データ!$A$3:$BK$997,50,FALSE),\"\")","v":""},{"$f":"IFERROR(VLOOKUP($D17,料理データ!$A$3:$BK$997,53,FALSE),\"\")","v":""},{"$f":"IFERROR(VLOOKUP($D17,料理データ!$A$3:$BK$997,56,FALSE),\"\")","v":""},{"$f":"IFERROR(VLOOKUP($D17,料理データ!$A$3:$BK$997,59,FALSE),\"\")","v":""},{"$f":"IFERROR(VLOOKUP($D17,料理データ!$A$3:$BK$997,62,FALSE),\"\")","v":""},"                   ",{"$f":"SUBSTITUTE(Z17,\"-\",\" \")","v":"                   "}]
[null,null,"昼食",{"$f":"+'月間献立（乳児）'!F5","v":0},{"$f":"IFERROR(VLOOKUP($D18,料理データ!$A$3:$BK$997,3,FALSE),\"\")","v":""},{"$f":"IFERROR(VLOOKUP($D18,料理データ!$A$3:$BK$997,5,FALSE),\"\")","v":""},{"$f":"IFERROR(VLOOKUP($D18,料理データ!$A$3:$BK$997,8,FALSE),\"\")","v":""},{"$f":"IFERROR(VLOOKUP($D18,料理データ!$A$3:$BK$997,11,FALSE),\"\")","v":""},{"$f":"IFERROR(VLOOKUP($D18,料理データ!$A$3:$BK$997,14,FALSE),\"\")","v":""},{"$f":"IFERROR(VLOOKUP($D18,料理データ!$A$3:$BK$997,17,FALSE),\"\")","v":""},{"$f":"IFERROR(VLOOKUP($D18,料理データ!$A$3:$BK$997,20,FALSE),\"\")","v":""},{"$f":"IFERROR(VLOOKUP($D18,料理データ!$A$3:$BK$997,23,FALSE),\"\")","v":""},{"$f":"IFERROR(VLOOKUP($D18,料理データ!$A$3:$BK$997,26,FALSE),\"\")","v":""},{"$f":"IFERROR(VLOOKUP($D18,料理データ!$A$3:$BK$997,29,FALSE),\"\")","v":""},{"$f":"IFERROR(VLOOKUP($D18,料理データ!$A$3:$BK$997,32,FALSE),\"\")","v":""},{"$f":"IFERROR(VLOOKUP($D18,料理データ!$A$3:$BK$997,35,FALSE),\"\")","v":""},{"$f":"IFERROR(VLOOKUP($D18,料理データ!$A$3:$BK$997,38,FALSE),\"\")","v":""},{"$f":"IFERROR(VLOOKUP($D18,料理データ!$A$3:$BK$997,41,FALSE),\"\")","v":""},{"$f":"IFERROR(VLOOKUP($D18,料理データ!$A$3:$BK$997,44,FALSE),\"\")","v":""},{"$f":"IFERROR(VLOOKUP($D18,料理データ!$A$3:$BK$997,47,FALSE),\"\")","v":""},{"$f":"IFERROR(VLOOKUP($D18,料理データ!$A$3:$BK$997,50,FALSE),\"\")","v":""},{"$f":"IFERROR(VLOOKUP($D18,料理データ!$A$3:$BK$997,53,FALSE),\"\")","v":""},{"$f":"IFERROR(VLOOKUP($D18,料理データ!$A$3:$BK$997,56,FALSE),\"\")","v":""},{"$f":"IFERROR(VLOOKUP($D18,料理データ!$A$3:$BK$997,59,FALSE),\"\")","v":""},{"$f":"IFERROR(VLOOKUP($D18,料理データ!$A$3:$BK$997,62,FALSE),\"\")","v":""},"                   ","                   "]
[null,null,null,{"$f":"+'月間献立（乳児）'!G5","v":0},{"$f":"IFERROR(VLOOKUP($D19,料理データ!$A$3:$BK$997,3,FALSE),\"\")","v":""},{"$f":"IFERROR(VLOOKUP($D19,料理データ!$A$3:$BK$997,5,FALSE),\"\")","v":""},{"$f":"IFERROR(VLOOKUP($D19,料理データ!$A$3:$BK$997,8,FALSE),\"\")","v":""},{"$f":"IFERROR(VLOOKUP($D19,料理データ!$A$3:$BK$997,11,FALSE),\"\")","v":""},{"$f":"IFERROR(VLOOKUP($D19,料理データ!$A$3:$BK$997,14,FALSE),\"\")","v":""},{"$f":"IFERROR(VLOOKUP($D19,料理データ!$A$3:$BK$997,17,FALSE),\"\")","v":""},{"$f":"IFERROR(VLOOKUP($D19,料理データ!$A$3:$BK$997,20,FALSE),\"\")","v":""},{"$f":"IFERROR(VLOOKUP($D19,料理データ!$A$3:$BK$997,23,FALSE),\"\")","v":""},{"$f":"IFERROR(VLOOKUP($D19,料理データ!$A$3:$BK$997,26,FALSE),\"\")","v":""},{"$f":"IFERROR(VLOOKUP($D19,料理データ!$A$3:$BK$997,29,FALSE),\"\")","v":""},{"$f":"IFERROR(VLOOKUP($D19,料理データ!$A$3:$BK$997,32,FALSE),\"\")","v":""},{"$f":"IFERROR(VLOOKUP($D19,料理データ!$A$3:$BK$997,35,FALSE),\"\")","v":""},{"$f":"IFERROR(VLOOKUP($D19,料理データ!$A$3:$BK$997,38,FALSE),\"\")","v":""},{"$f":"IFERROR(VLOOKUP($D19,料理データ!$A$3:$BK$997,41,FALSE),\"\")","v":""},{"$f":"IFERROR(VLOOKUP($D19,料理データ!$A$3:$BK$997,44,FALSE),\"\")","v":""},{"$f":"IFERROR(VLOOKUP($D19,料理データ!$A$3:$BK$997,47,FALSE),\"\")","v":""},{"$f":"IFERROR(VLOOKUP($D19,料理データ!$A$3:$BK$997,50,FALSE),\"\")","v":""},{"$f":"IFERROR(VLOOKUP($D19,料理データ!$A$3:$BK$997,53,FALSE),\"\")","v":""},{"$f":"IFERROR(VLOOKUP($D19,料理データ!$A$3:$BK$997,56,FALSE),\"\")","v":""},{"$f":"IFERROR(VLOOKUP($D19,料理データ!$A$3:$BK$997,59,FALSE),\"\")","v":""},{"$f":"IFERROR(VLOOKUP($D19,料理データ!$A$3:$BK$997,62,FALSE),\"\")","v":""},"                   ","                   "]
[null,null,null,{"$f":"+'月間献立（乳児）'!H5","v":0},{"$f":"IFERROR(VLOOKUP($D20,料理データ!$A$3:$BK$997,3,FALSE),\"\")","v":""},{"$f":"IFERROR(VLOOKUP($D20,料理データ!$A$3:$BK$997,5,FALSE),\"\")","v":""},{"$f":"IFERROR(VLOOKUP($D20,料理データ!$A$3:$BK$997,8,FALSE),\"\")","v":""},{"$f":"IFERROR(VLOOKUP($D20,料理データ!$A$3:$BK$997,11,FALSE),\"\")","v":""},{"$f":"IFERROR(VLOOKUP($D20,料理データ!$A$3:$BK$997,14,FALSE),\"\")","v":""},{"$f":"IFERROR(VLOOKUP($D20,料理データ!$A$3:$BK$997,17,FALSE),\"\")","v":""},{"$f":"IFERROR(VLOOKUP($D20,料理データ!$A$3:$BK$997,20,FALSE),\"\")","v":""},{"$f":"IFERROR(VLOOKUP($D20,料理データ!$A$3:$BK$997,23,FALSE),\"\")","v":""},{"$f":"IFERROR(VLOOKUP($D20,料理データ!$A$3:$BK$997,26,FALSE),\"\")","v":""},{"$f":"IFERROR(VLOOKUP($D20,料理データ!$A$3:$BK$997,29,FALSE),\"\")","v":""},{"$f":"IFERROR(VLOOKUP($D20,料理データ!$A$3:$BK$997,32,FALSE),\"\")","v":""},{"$f":"IFERROR(VLOOKUP($D20,料理データ!$A$3:$BK$997,35,FALSE),\"\")","v":""},{"$f":"IFERROR(VLOOKUP($D20,料理データ!$A$3:$BK$997,38,FALSE),\"\")","v":""},{"$f":"IFERROR(VLOOKUP($D20,料理データ!$A$3:$BK$997,41,FALSE),\"\")","v":""},{"$f":"IFERROR(VLOOKUP($D20,料理データ!$A$3:$BK$997,44,FALSE),\"\")","v":""},{"$f":"IFERROR(VLOOKUP($D20,料理データ!$A$3:$BK$997,47,FALSE),\"\")","v":""},{"$f":"IFERROR(VLOOKUP($D20,料理データ!$A$3:$BK$997,50,FALSE),\"\")","v":""},{"$f":"IFERROR(VLOOKUP($D20,料理データ!$A$3:$BK$997,53,FALSE),\"\")","v":""},{"$f":"IFERROR(VLOOKUP($D20,料理データ!$A$3:$BK$997,56,FALSE),\"\")","v":""},{"$f":"IFERROR(VLOOKUP($D20,料理データ!$A$3:$BK$997,59,FALSE),\"\")","v":""},{"$f":"IFERROR(VLOOKUP($D20,料理データ!$A$3:$BK$997,62,FALSE),\"\")","v":""},"                   ","                   "]
[null,null,null,{"$f":"+'月間献立（乳児）'!I5","v":0},{"$f":"IFERROR(VLOOKUP($D21,料理データ!$A$3:$BK$997,3,FALSE),\"\")","v":""},{"$f":"IFERROR(VLOOKUP($D21,料理データ!$A$3:$BK$997,5,FALSE),\"\")","v":""},{"$f":"IFERROR(VLOOKUP($D21,料理データ!$A$3:$BK$997,8,FALSE),\"\")","v":""},{"$f":"IFERROR(VLOOKUP($D21,料理データ!$A$3:$BK$997,11,FALSE),\"\")","v":""},{"$f":"IFERROR(VLOOKUP($D21,料理データ!$A$3:$BK$997,14,FALSE),\"\")","v":""},{"$f":"IFERROR(VLOOKUP($D21,料理データ!$A$3:$BK$997,17,FALSE),\"\")","v":""},{"$f":"IFERROR(VLOOKUP($D21,料理データ!$A$3:$BK$997,20,FALSE),\"\")","v":""},{"$f":"IFERROR(VLOOKUP($D21,料理データ!$A$3:$BK$997,23,FALSE),\"\")","v":""},{"$f":"IFERROR(VLOOKUP($D21,料理データ!$A$3:$BK$997,26,FALSE),\"\")","v":""},{"$f":"IFERROR(VLOOKUP($D21,料理データ!$A$3:$BK$997,29,FALSE),\"\")","v":""},{"$f":"IFERROR(VLOOKUP($D21,料理データ!$A$3:$BK$997,32,FALSE),\"\")","v":""},{"$f":"IFERROR(VLOOKUP($D21,料理データ!$A$3:$BK$997,35,FALSE),\"\")","v":""},{"$f":"IFERROR(VLOOKUP($D21,料理データ!$A$3:$BK$997,38,FALSE),\"\")","v":""},{"$f":"IFERROR(VLOOKUP($D21,料理データ!$A$3:$BK$997,41,FALSE),\"\")","v":""},{"$f":"IFERROR(VLOOKUP($D21,料理データ!$A$3:$BK$997,44,FALSE),\"\")","v":""},{"$f":"IFERROR(VLOOKUP($D21,料理データ!$A$3:$BK$997,47,FALSE),\"\")","v":""},{"$f":"IFERROR(VLOOKUP($D21,料理データ!$A$3:$BK$997,50,FALSE),\"\")","v":""},{"$f":"IFERROR(VLOOKUP($D21,料理データ!$A$3:$BK$997,53,FALSE),\"\")","v":""},{"$f":"IFERROR(VLOOKUP($D21,料理データ!$A$3:$BK$997,56,FALSE),\"\")","v":""},{"$f":"IFERROR(VLOOKUP($D21,料理データ!$A$3:$BK$997,59,FALSE),\"\")","v":""},{"$f":"IFERROR(VLOOKUP($D21,料理データ!$A$3:$BK$997,62,FALSE),\"\")","v":""},"                   ","                   "]
[null,null,null,{"$f":"+'月間献立（乳児）'!J5","v":0},{"$f":"IFERROR(VLOOKUP($D22,料理データ!$A$3:$BK$997,3,FALSE),\"\")","v":""},{"$f":"IFERROR(VLOOKUP($D22,料理データ!$A$3:$BK$997,5,FALSE),\"\")","v":""},{"$f":"IFERROR(VLOOKUP($D22,料理データ!$A$3:$BK$997,8,FALSE),\"\")","v":""},{"$f":"IFERROR(VLOOKUP($D22,料理データ!$A$3:$BK$997,11,FALSE),\"\")","v":""},{"$f":"IFERROR(VLOOKUP($D22,料理データ!$A$3:$BK$997,14,FALSE),\"\")","v":""},{"$f":"IFERROR(VLOOKUP($D22,料理データ!$A$3:$BK$997,17,FALSE),\"\")","v":""},{"$f":"IFERROR(VLOOKUP($D22,料理データ!$A$3:$BK$997,20,FALSE),\"\")","v":""},{"$f":"IFERROR(VLOOKUP($D22,料理データ!$A$3:$BK$997,23,FALSE),\"\")","v":""},{"$f":"IFERROR(VLOOKUP($D22,料理データ!$A$3:$BK$997,26,FALSE),\"\")","v":""},{"$f":"IFERROR(VLOOKUP($D22,料理データ!$A$3:$BK$997,29,FALSE),\"\")","v":""},{"$f":"IFERROR(VLOOKUP($D22,料理データ!$A$3:$BK$997,32,FALSE),\"\")","v":""},{"$f":"IFERROR(VLOOKUP($D22,料理データ!$A$3:$BK$997,35,FALSE),\"\")","v":""},{"$f":"IFERROR(VLOOKUP($D22,料理データ!$A$3:$BK$997,38,FALSE),\"\")","v":""},{"$f":"IFERROR(VLOOKUP($D22,料理データ!$A$3:$BK$997,41,FALSE),\"\")","v":""},{"$f":"IFERROR(VLOOKUP($D22,料理データ!$A$3:$BK$997,44,FALSE),\"\")","v":""},{"$f":"IFERROR(VLOOKUP($D22,料理データ!$A$3:$BK$997,47,FALSE),\"\")","v":""},{"$f":"IFERROR(VLOOKUP($D22,料理データ!$A$3:$BK$997,50,FALSE),\"\")","v":""},{"$f":"IFERROR(VLOOKUP($D22,料理データ!$A$3:$BK$997,53,FALSE),\"\")","v":""},{"$f":"IFERROR(VLOOKUP($D22,料理データ!$A$3:$BK$997,56,FALSE),\"\")","v":""},{"$f":"IFERROR(VLOOKUP($D22,料理データ!$A$3:$BK$997,59,FALSE),\"\")","v":""},{"$f":"IFERROR(VLOOKUP($D22,料理データ!$A$3:$BK$997,62,FALSE),\"\")","v":""},"                   ","                   "]
[null,null,null,{"$f":"+'月間献立（乳児）'!K5","v":0},{"$f":"IFERROR(VLOOKUP($D23,料理データ!$A$3:$BK$997,3,FALSE),\"\")","v":""},{"$f":"IFERROR(VLOOKUP($D23,料理データ!$A$3:$BK$997,5,FALSE),\"\")","v":""},{"$f":"IFERROR(VLOOKUP($D23,料理データ!$A$3:$BK$997,8,FALSE),\"\")","v":""},{"$f":"IFERROR(VLOOKUP($D23,料理データ!$A$3:$BK$997,11,FALSE),\"\")","v":""},{"$f":"IFERROR(VLOOKUP($D23,料理データ!$A$3:$BK$997,14,FALSE),\"\")","v":""},{"$f":"IFERROR(VLOOKUP($D23,料理データ!$A$3:$BK$997,17,FALSE),\"\")","v":""},{"$f":"IFERROR(VLOOKUP($D23,料理データ!$A$3:$BK$997,20,FALSE),\"\")","v":""},{"$f":"IFERROR(VLOOKUP($D23,料理データ!$A$3:$BK$997,23,FALSE),\"\")","v":""},{"$f":"IFERROR(VLOOKUP($D23,料理データ!$A$3:$BK$997,26,FALSE),\"\")","v":""},{"$f":"IFERROR(VLOOKUP($D23,料理データ!$A$3:$BK$997,29,FALSE),\"\")","v":""},{"$f":"IFERROR(VLOOKUP($D23,料理データ!$A$3:$BK$997,32,FALSE),\"\")","v":""},{"$f":"IFERROR(VLOOKUP($D23,料理データ!$A$3:$BK$997,35,FALSE),\"\")","v":""},{"$f":"IFERROR(VLOOKUP($D23,料理データ!$A$3:$BK$997,38,FALSE),\"\")","v":""},{"$f":"IFERROR(VLOOKUP($D23,料理データ!$A$3:$BK$997,41,FALSE),\"\")","v":""},{"$f":"IFERROR(VLOOKUP($D23,料理データ!$A$3:$BK$997,44,FALSE),\"\")","v":""},{"$f":"IFERROR(VLOOKUP($D23,料理データ!$A$3:$BK$997,47,FALSE),\"\")","v":""},{"$f":"IFERROR(VLOOKUP($D23,料理データ!$A$3:$BK$997,50,FALSE),\"\")","v":""},{"$f":"IFERROR(VLOOKUP($D23,料理データ!$A$3:$BK$997,53,FALSE),\"\")","v":""},{"$f":"IFERROR(VLOOKUP($D23,料理データ!$A$3:$BK$997,56,FALSE),\"\")","v":""},{"$f":"IFERROR(VLOOKUP($D23,料理データ!$A$3:$BK$997,59,FALSE),\"\")","v":""},{"$f":"IFERROR(VLOOKUP($D23,料理データ!$A$3:$BK$997,62,FALSE),\"\")","v":""},"                   ","                   "]
[null,null,"午後おやつ",{"$f":"+'月間献立（乳児）'!L5","v":0},{"$f":"IFERROR(VLOOKUP($D24,料理データ!$A$3:$BK$997,3,FALSE),\"\")","v":""},{"$f":"IFERROR(VLOOKUP($D24,料理データ!$A$3:$BK$997,5,FALSE),\"\")","v":""},{"$f":"IFERROR(VLOOKUP($D24,料理データ!$A$3:$BK$997,8,FALSE),\"\")","v":""},{"$f":"IFERROR(VLOOKUP($D24,料理データ!$A$3:$BK$997,11,FALSE),\"\")","v":""},{"$f":"IFERROR(VLOOKUP($D24,料理データ!$A$3:$BK$997,14,FALSE),\"\")","v":""},{"$f":"IFERROR(VLOOKUP($D24,料理データ!$A$3:$BK$997,17,FALSE),\"\")","v":""},{"$f":"IFERROR(VLOOKUP($D24,料理データ!$A$3:$BK$997,20,FALSE),\"\")","v":""},{"$f":"IFERROR(VLOOKUP($D24,料理データ!$A$3:$BK$997,23,FALSE),\"\")","v":""},{"$f":"IFERROR(VLOOKUP($D24,料理データ!$A$3:$BK$997,26,FALSE),\"\")","v":""},{"$f":"IFERROR(VLOOKUP($D24,料理データ!$A$3:$BK$997,29,FALSE),\"\")","v":""},{"$f":"IFERROR(VLOOKUP($D24,料理データ!$A$3:$BK$997,32,FALSE),\"\")","v":""},{"$f":"IFERROR(VLOOKUP($D24,料理データ!$A$3:$BK$997,35,FALSE),\"\")","v":""},{"$f":"IFERROR(VLOOKUP($D24,料理データ!$A$3:$BK$997,38,FALSE),\"\")","v":""},{"$f":"IFERROR(VLOOKUP($D24,料理データ!$A$3:$BK$997,41,FALSE),\"\")","v":""},{"$f":"IFERROR(VLOOKUP($D24,料理データ!$A$3:$BK$997,44,FALSE),\"\")","v":""},{"$f":"IFERROR(VLOOKUP($D24,料理データ!$A$3:$BK$997,47,FALSE),\"\")","v":""},{"$f":"IFERROR(VLOOKUP($D24,料理データ!$A$3:$BK$997,50,FALSE),\"\")","v":""},{"$f":"IFERROR(VLOOKUP($D24,料理データ!$A$3:$BK$997,53,FALSE),\"\")","v":""},{"$f":"IFERROR(VLOOKUP($D24,料理データ!$A$3:$BK$997,56,FALSE),\"\")","v":""},{"$f":"IFERROR(VLOOKUP($D24,料理データ!$A$3:$BK$997,59,FALSE),\"\")","v":""},{"$f":"IFERROR(VLOOKUP($D24,料理データ!$A$3:$BK$997,62,FALSE),\"\")","v":""},"                   ","                   "]
[null,null,null,{"$f":"+'月間献立（乳児）'!M5","v":0},{"$f":"IFERROR(VLOOKUP($D25,料理データ!$A$3:$BK$997,3,FALSE),\"\")","v":""},{"$f":"IFERROR(VLOOKUP($D25,料理データ!$A$3:$BK$997,5,FALSE),\"\")","v":""},{"$f":"IFERROR(VLOOKUP($D25,料理データ!$A$3:$BK$997,8,FALSE),\"\")","v":""},{"$f":"IFERROR(VLOOKUP($D25,料理データ!$A$3:$BK$997,11,FALSE),\"\")","v":""},{"$f":"IFERROR(VLOOKUP($D25,料理データ!$A$3:$BK$997,14,FALSE),\"\")","v":""},{"$f":"IFERROR(VLOOKUP($D25,料理データ!$A$3:$BK$997,17,FALSE),\"\")","v":""},{"$f":"IFERROR(VLOOKUP($D25,料理データ!$A$3:$BK$997,20,FALSE),\"\")","v":""},{"$f":"IFERROR(VLOOKUP($D25,料理データ!$A$3:$BK$997,23,FALSE),\"\")","v":""},{"$f":"IFERROR(VLOOKUP($D25,料理データ!$A$3:$BK$997,26,FALSE),\"\")","v":""},{"$f":"IFERROR(VLOOKUP($D25,料理データ!$A$3:$BK$997,29,FALSE),\"\")","v":""},{"$f":"IFERROR(VLOOKUP($D25,料理データ!$A$3:$BK$997,32,FALSE),\"\")","v":""},{"$f":"IFERROR(VLOOKUP($D25,料理データ!$A$3:$BK$997,35,FALSE),\"\")","v":""},{"$f":"IFERROR(VLOOKUP($D25,料理データ!$A$3:$BK$997,38,FALSE),\"\")","v":""},{"$f":"IFERROR(VLOOKUP($D25,料理データ!$A$3:$BK$997,41,FALSE),\"\")","v":""},{"$f":"IFERROR(VLOOKUP($D25,料理データ!$A$3:$BK$997,44,FALSE),\"\")","v":""},{"$f":"IFERROR(VLOOKUP($D25,料理データ!$A$3:$BK$997,47,FALSE),\"\")","v":""},{"$f":"IFERROR(VLOOKUP($D25,料理データ!$A$3:$BK$997,50,FALSE),\"\")","v":""},{"$f":"IFERROR(VLOOKUP($D25,料理データ!$A$3:$BK$997,53,FALSE),\"\")","v":""},{"$f":"IFERROR(VLOOKUP($D25,料理データ!$A$3:$BK$997,56,FALSE),\"\")","v":""},{"$f":"IFERROR(VLOOKUP($D25,料理データ!$A$3:$BK$997,59,FALSE),\"\")","v":""},{"$f":"IFERROR(VLOOKUP($D25,料理データ!$A$3:$BK$997,62,FALSE),\"\")","v":""},"                   ","                   "]
[null,null,null,{"$f":"+'月間献立（乳児）'!N5","v":0},{"$f":"IFERROR(VLOOKUP($D26,料理データ!$A$3:$BK$997,3,FALSE),\"\")","v":""},{"$f":"IFERROR(VLOOKUP($D26,料理データ!$A$3:$BK$997,5,FALSE),\"\")","v":""},{"$f":"IFERROR(VLOOKUP($D26,料理データ!$A$3:$BK$997,8,FALSE),\"\")","v":""},{"$f":"IFERROR(VLOOKUP($D26,料理データ!$A$3:$BK$997,11,FALSE),\"\")","v":""},{"$f":"IFERROR(VLOOKUP($D26,料理データ!$A$3:$BK$997,14,FALSE),\"\")","v":""},{"$f":"IFERROR(VLOOKUP($D26,料理データ!$A$3:$BK$997,17,FALSE),\"\")","v":""},{"$f":"IFERROR(VLOOKUP($D26,料理データ!$A$3:$BK$997,20,FALSE),\"\")","v":""},{"$f":"IFERROR(VLOOKUP($D26,料理データ!$A$3:$BK$997,23,FALSE),\"\")","v":""},{"$f":"IFERROR(VLOOKUP($D26,料理データ!$A$3:$BK$997,26,FALSE),\"\")","v":""},{"$f":"IFERROR(VLOOKUP($D26,料理データ!$A$3:$BK$997,29,FALSE),\"\")","v":""},{"$f":"IFERROR(VLOOKUP($D26,料理データ!$A$3:$BK$997,32,FALSE),\"\")","v":""},{"$f":"IFERROR(VLOOKUP($D26,料理データ!$A$3:$BK$997,35,FALSE),\"\")","v":""},{"$f":"IFERROR(VLOOKUP($D26,料理データ!$A$3:$BK$997,38,FALSE),\"\")","v":""},{"$f":"IFERROR(VLOOKUP($D26,料理データ!$A$3:$BK$997,41,FALSE),\"\")","v":""},{"$f":"IFERROR(VLOOKUP($D26,料理データ!$A$3:$BK$997,44,FALSE),\"\")","v":""},{"$f":"IFERROR(VLOOKUP($D26,料理データ!$A$3:$BK$997,47,FALSE),\"\")","v":""},{"$f":"IFERROR(VLOOKUP($D26,料理データ!$A$3:$BK$997,50,FALSE),\"\")","v":""},{"$f":"IFERROR(VLOOKUP($D26,料理データ!$A$3:$BK$997,53,FALSE),\"\")","v":""},{"$f":"IFERROR(VLOOKUP($D26,料理データ!$A$3:$BK$997,56,FALSE),\"\")","v":""},{"$f":"IFERROR(VLOOKUP($D26,料理データ!$A$3:$BK$997,59,FALSE),\"\")","v":""},{"$f":"IFERROR(VLOOKUP($D26,料理データ!$A$3:$BK$997,62,FALSE),\"\")","v":""},"                   ",{"$f":"SUBSTITUTE(Z26,\"-\",\"\")","v":"                   "}]
[{"$f":"+'月間献立（幼児）'!A7","v":3},{"$f":"+'月間献立（幼児）'!B7","v":"(月)"},"午前おやつ",{"$f":"+'月間献立（乳児）'!C6","v":0},{"$f":"IFERROR(VLOOKUP($D27,料理データ!$A$3:$BK$997,3,FALSE),\"\")","v":""},{"$f":"IFERROR(VLOOKUP($D27,料理データ!$A$3:$BK$997,5,FALSE),\"\")","v":""},{"$f":"IFERROR(VLOOKUP($D27,料理データ!$A$3:$BK$997,8,FALSE),\"\")","v":""},{"$f":"IFERROR(VLOOKUP($D27,料理データ!$A$3:$BK$997,11,FALSE),\"\")","v":""},{"$f":"IFERROR(VLOOKUP($D27,料理データ!$A$3:$BK$997,14,FALSE),\"\")","v":""},{"$f":"IFERROR(VLOOKUP($D27,料理データ!$A$3:$BK$997,17,FALSE),\"\")","v":""},{"$f":"IFERROR(VLOOKUP($D27,料理データ!$A$3:$BK$997,20,FALSE),\"\")","v":""},{"$f":"IFERROR(VLOOKUP($D27,料理データ!$A$3:$BK$997,23,FALSE),\"\")","v":""},{"$f":"IFERROR(VLOOKUP($D27,料理データ!$A$3:$BK$997,26,FALSE),\"\")","v":""},{"$f":"IFERROR(VLOOKUP($D27,料理データ!$A$3:$BK$997,29,FALSE),\"\")","v":""},{"$f":"IFERROR(VLOOKUP($D27,料理データ!$A$3:$BK$997,32,FALSE),\"\")","v":""},{"$f":"IFERROR(VLOOKUP($D27,料理データ!$A$3:$BK$997,35,FALSE),\"\")","v":""},{"$f":"IFERROR(VLOOKUP($D27,料理データ!$A$3:$BK$997,38,FALSE),\"\")","v":""},{"$f":"IFERROR(VLOOKUP($D27,料理データ!$A$3:$BK$997,41,FALSE),\"\")","v":""},{"$f":"IFERROR(VLOOKUP($D27,料理データ!$A$3:$BK$997,44,FALSE),\"\")","v":""},{"$f":"IFERROR(VLOOKUP($D27,料理データ!$A$3:$BK$997,47,FALSE),\"\")","v":""},{"$f":"IFERROR(VLOOKUP($D27,料理データ!$A$3:$BK$997,50,FALSE),\"\")","v":""},{"$f":"IFERROR(VLOOKUP($D27,料理データ!$A$3:$BK$997,53,FALSE),\"\")","v":""},{"$f":"IFERROR(VLOOKUP($D27,料理データ!$A$3:$BK$997,56,FALSE),\"\")","v":""},{"$f":"IFERROR(VLOOKUP($D27,料理データ!$A$3:$BK$997,59,FALSE),\"\")","v":""},{"$f":"IFERROR(VLOOKUP($D27,料理データ!$A$3:$BK$997,62,FALSE),\"\")","v":""},"                   ",{"$f":"SUBSTITUTE(Z27,\"-\",\" \")","v":"                   "},{"$f":"TRIM(CONCATENATE(AA27,AA28,AA29,\"▲\",AA30,AA31,AA32,AA33,AA34,AA35,\"▲\",AA36,AA37,AA38))","v":"▲ ▲"}]
[null,null,null,{"$f":"+'月間献立（乳児）'!D6","v":0},{"$f":"IFERROR(VLOOKUP($D28,料理データ!$A$3:$BK$997,3,FALSE),\"\")","v":""},{"$f":"IFERROR(VLOOKUP($D28,料理データ!$A$3:$BK$997,5,FALSE),\"\")","v":""},{"$f":"IFERROR(VLOOKUP($D28,料理データ!$A$3:$BK$997,8,FALSE),\"\")","v":""},{"$f":"IFERROR(VLOOKUP($D28,料理データ!$A$3:$BK$997,11,FALSE),\"\")","v":""},{"$f":"IFERROR(VLOOKUP($D28,料理データ!$A$3:$BK$997,14,FALSE),\"\")","v":""},{"$f":"IFERROR(VLOOKUP($D28,料理データ!$A$3:$BK$997,17,FALSE),\"\")","v":""},{"$f":"IFERROR(VLOOKUP($D28,料理データ!$A$3:$BK$997,20,FALSE),\"\")","v":""},{"$f":"IFERROR(VLOOKUP($D28,料理データ!$A$3:$BK$997,23,FALSE),\"\")","v":""},{"$f":"IFERROR(VLOOKUP($D28,料理データ!$A$3:$BK$997,26,FALSE),\"\")","v":""},{"$f":"IFERROR(VLOOKUP($D28,料理データ!$A$3:$BK$997,29,FALSE),\"\")","v":""},{"$f":"IFERROR(VLOOKUP($D28,料理データ!$A$3:$BK$997,32,FALSE),\"\")","v":""},{"$f":"IFERROR(VLOOKUP($D28,料理データ!$A$3:$BK$997,35,FALSE),\"\")","v":""},{"$f":"IFERROR(VLOOKUP($D28,料理データ!$A$3:$BK$997,38,FALSE),\"\")","v":""},{"$f":"IFERROR(VLOOKUP($D28,料理データ!$A$3:$BK$997,41,FALSE),\"\")","v":""},{"$f":"IFERROR(VLOOKUP($D28,料理データ!$A$3:$BK$997,44,FALSE),\"\")","v":""},{"$f":"IFERROR(VLOOKUP($D28,料理データ!$A$3:$BK$997,47,FALSE),\"\")","v":""},{"$f":"IFERROR(VLOOKUP($D28,料理データ!$A$3:$BK$997,50,FALSE),\"\")","v":""},{"$f":"IFERROR(VLOOKUP($D28,料理データ!$A$3:$BK$997,53,FALSE),\"\")","v":""},{"$f":"IFERROR(VLOOKUP($D28,料理データ!$A$3:$BK$997,56,FALSE),\"\")","v":""},{"$f":"IFERROR(VLOOKUP($D28,料理データ!$A$3:$BK$997,59,FALSE),\"\")","v":""},{"$f":"IFERROR(VLOOKUP($D28,料理データ!$A$3:$BK$997,62,FALSE),\"\")","v":""},"                   ",{"$f":"SUBSTITUTE(Z28,\"-\",\" \")","v":"                   "}]
[null,null,null,{"$f":"+'月間献立（乳児）'!E6","v":0},{"$f":"IFERROR(VLOOKUP($D29,料理データ!$A$3:$BK$997,3,FALSE),\"\")","v":""},{"$f":"IFERROR(VLOOKUP($D29,料理データ!$A$3:$BK$997,5,FALSE),\"\")","v":""},{"$f":"IFERROR(VLOOKUP($D29,料理データ!$A$3:$BK$997,8,FALSE),\"\")","v":""},{"$f":"IFERROR(VLOOKUP($D29,料理データ!$A$3:$BK$997,11,FALSE),\"\")","v":""},{"$f":"IFERROR(VLOOKUP($D29,料理データ!$A$3:$BK$997,14,FALSE),\"\")","v":""},{"$f":"IFERROR(VLOOKUP($D29,料理データ!$A$3:$BK$997,17,FALSE),\"\")","v":""},{"$f":"IFERROR(VLOOKUP($D29,料理データ!$A$3:$BK$997,20,FALSE),\"\")","v":""},{"$f":"IFERROR(VLOOKUP($D29,料理データ!$A$3:$BK$997,23,FALSE),\"\")","v":""},{"$f":"IFERROR(VLOOKUP($D29,料理データ!$A$3:$BK$997,26,FALSE),\"\")","v":""},{"$f":"IFERROR(VLOOKUP($D29,料理データ!$A$3:$BK$997,29,FALSE),\"\")","v":""},{"$f":"IFERROR(VLOOKUP($D29,料理データ!$A$3:$BK$997,32,FALSE),\"\")","v":""},{"$f":"IFERROR(VLOOKUP($D29,料理データ!$A$3:$BK$997,35,FALSE),\"\")","v":""},{"$f":"IFERROR(VLOOKUP($D29,料理データ!$A$3:$BK$997,38,FALSE),\"\")","v":""},{"$f":"IFERROR(VLOOKUP($D29,料理データ!$A$3:$BK$997,41,FALSE),\"\")","v":""},{"$f":"IFERROR(VLOOKUP($D29,料理データ!$A$3:$BK$997,44,FALSE),\"\")","v":""},{"$f":"IFERROR(VLOOKUP($D29,料理データ!$A$3:$BK$997,47,FALSE),\"\")","v":""},{"$f":"IFERROR(VLOOKUP($D29,料理データ!$A$3:$BK$997,50,FALSE),\"\")","v":""},{"$f":"IFERROR(VLOOKUP($D29,料理データ!$A$3:$BK$997,53,FALSE),\"\")","v":""},{"$f":"IFERROR(VLOOKUP($D29,料理データ!$A$3:$BK$997,56,FALSE),\"\")","v":""},{"$f":"IFERROR(VLOOKUP($D29,料理データ!$A$3:$BK$997,59,FALSE),\"\")","v":""},{"$f":"IFERROR(VLOOKUP($D29,料理データ!$A$3:$BK$997,62,FALSE),\"\")","v":""},"                   ",{"$f":"SUBSTITUTE(Z29,\"-\",\" \")","v":"                   "}]
[null,null,"昼食",{"$f":"+'月間献立（乳児）'!F6","v":0},{"$f":"IFERROR(VLOOKUP($D30,料理データ!$A$3:$BK$997,3,FALSE),\"\")","v":""},{"$f":"IFERROR(VLOOKUP($D30,料理データ!$A$3:$BK$997,5,FALSE),\"\")","v":""},{"$f":"IFERROR(VLOOKUP($D30,料理データ!$A$3:$BK$997,8,FALSE),\"\")","v":""},{"$f":"IFERROR(VLOOKUP($D30,料理データ!$A$3:$BK$997,11,FALSE),\"\")","v":""},{"$f":"IFERROR(VLOOKUP($D30,料理データ!$A$3:$BK$997,14,FALSE),\"\")","v":""},{"$f":"IFERROR(VLOOKUP($D30,料理データ!$A$3:$BK$997,17,FALSE),\"\")","v":""},{"$f":"IFERROR(VLOOKUP($D30,料理データ!$A$3:$BK$997,20,FALSE),\"\")","v":""},{"$f":"IFERROR(VLOOKUP($D30,料理データ!$A$3:$BK$997,23,FALSE),\"\")","v":""},{"$f":"IFERROR(VLOOKUP($D30,料理データ!$A$3:$BK$997,26,FALSE),\"\")","v":""},{"$f":"IFERROR(VLOOKUP($D30,料理データ!$A$3:$BK$997,29,FALSE),\"\")","v":""},{"$f":"IFERROR(VLOOKUP($D30,料理データ!$A$3:$BK$997,32,FALSE),\"\")","v":""},{"$f":"IFERROR(VLOOKUP($D30,料理データ!$A$3:$BK$997,35,FALSE),\"\")","v":""},{"$f":"IFERROR(VLOOKUP($D30,料理データ!$A$3:$BK$997,38,FALSE),\"\")","v":""},{"$f":"IFERROR(VLOOKUP($D30,料理データ!$A$3:$BK$997,41,FALSE),\"\")","v":""},{"$f":"IFERROR(VLOOKUP($D30,料理データ!$A$3:$BK$997,44,FALSE),\"\")","v":""},{"$f":"IFERROR(VLOOKUP($D30,料理データ!$A$3:$BK$997,47,FALSE),\"\")","v":""},{"$f":"IFERROR(VLOOKUP($D30,料理データ!$A$3:$BK$997,50,FALSE),\"\")","v":""},{"$f":"IFERROR(VLOOKUP($D30,料理データ!$A$3:$BK$997,53,FALSE),\"\")","v":""},{"$f":"IFERROR(VLOOKUP($D30,料理データ!$A$3:$BK$997,56,FALSE),\"\")","v":""},{"$f":"IFERROR(VLOOKUP($D30,料理データ!$A$3:$BK$997,59,FALSE),\"\")","v":""},{"$f":"IFERROR(VLOOKUP($D30,料理データ!$A$3:$BK$997,62,FALSE),\"\")","v":""},"                   ","                   "]
[null,null,null,{"$f":"+'月間献立（乳児）'!G6","v":0},{"$f":"IFERROR(VLOOKUP($D31,料理データ!$A$3:$BK$997,3,FALSE),\"\")","v":""},{"$f":"IFERROR(VLOOKUP($D31,料理データ!$A$3:$BK$997,5,FALSE),\"\")","v":""},{"$f":"IFERROR(VLOOKUP($D31,料理データ!$A$3:$BK$997,8,FALSE),\"\")","v":""},{"$f":"IFERROR(VLOOKUP($D31,料理データ!$A$3:$BK$997,11,FALSE),\"\")","v":""},{"$f":"IFERROR(VLOOKUP($D31,料理データ!$A$3:$BK$997,14,FALSE),\"\")","v":""},{"$f":"IFERROR(VLOOKUP($D31,料理データ!$A$3:$BK$997,17,FALSE),\"\")","v":""},{"$f":"IFERROR(VLOOKUP($D31,料理データ!$A$3:$BK$997,20,FALSE),\"\")","v":""},{"$f":"IFERROR(VLOOKUP($D31,料理データ!$A$3:$BK$997,23,FALSE),\"\")","v":""},{"$f":"IFERROR(VLOOKUP($D31,料理データ!$A$3:$BK$997,26,FALSE),\"\")","v":""},{"$f":"IFERROR(VLOOKUP($D31,料理データ!$A$3:$BK$997,29,FALSE),\"\")","v":""},{"$f":"IFERROR(VLOOKUP($D31,料理データ!$A$3:$BK$997,32,FALSE),\"\")","v":""},{"$f":"IFERROR(VLOOKUP($D31,料理データ!$A$3:$BK$997,35,FALSE),\"\")","v":""},{"$f":"IFERROR(VLOOKUP($D31,料理データ!$A$3:$BK$997,38,FALSE),\"\")","v":""},{"$f":"IFERROR(VLOOKUP($D31,料理データ!$A$3:$BK$997,41,FALSE),\"\")","v":""},{"$f":"IFERROR(VLOOKUP($D31,料理データ!$A$3:$BK$997,44,FALSE),\"\")","v":""},{"$f":"IFERROR(VLOOKUP($D31,料理データ!$A$3:$BK$997,47,FALSE),\"\")","v":""},{"$f":"IFERROR(VLOOKUP($D31,料理データ!$A$3:$BK$997,50,FALSE),\"\")","v":""},{"$f":"IFERROR(VLOOKUP($D31,料理データ!$A$3:$BK$997,53,FALSE),\"\")","v":""},{"$f":"IFERROR(VLOOKUP($D31,料理データ!$A$3:$BK$997,56,FALSE),\"\")","v":""},{"$f":"IFERROR(VLOOKUP($D31,料理データ!$A$3:$BK$997,59,FALSE),\"\")","v":""},{"$f":"IFERROR(VLOOKUP($D31,料理データ!$A$3:$BK$997,62,FALSE),\"\")","v":""},"                   ","                   "]
[null,null,null,{"$f":"+'月間献立（乳児）'!H6","v":0},{"$f":"IFERROR(VLOOKUP($D32,料理データ!$A$3:$BK$997,3,FALSE),\"\")","v":""},{"$f":"IFERROR(VLOOKUP($D32,料理データ!$A$3:$BK$997,5,FALSE),\"\")","v":""},{"$f":"IFERROR(VLOOKUP($D32,料理データ!$A$3:$BK$997,8,FALSE),\"\")","v":""},{"$f":"IFERROR(VLOOKUP($D32,料理データ!$A$3:$BK$997,11,FALSE),\"\")","v":""},{"$f":"IFERROR(VLOOKUP($D32,料理データ!$A$3:$BK$997,14,FALSE),\"\")","v":""},{"$f":"IFERROR(VLOOKUP($D32,料理データ!$A$3:$BK$997,17,FALSE),\"\")","v":""},{"$f":"IFERROR(VLOOKUP($D32,料理データ!$A$3:$BK$997,20,FALSE),\"\")","v":""},{"$f":"IFERROR(VLOOKUP($D32,料理データ!$A$3:$BK$997,23,FALSE),\"\")","v":""},{"$f":"IFERROR(VLOOKUP($D32,料理データ!$A$3:$BK$997,26,FALSE),\"\")","v":""},{"$f":"IFERROR(VLOOKUP($D32,料理データ!$A$3:$BK$997,29,FALSE),\"\")","v":""},{"$f":"IFERROR(VLOOKUP($D32,料理データ!$A$3:$BK$997,32,FALSE),\"\")","v":""},{"$f":"IFERROR(VLOOKUP($D32,料理データ!$A$3:$BK$997,35,FALSE),\"\")","v":""},{"$f":"IFERROR(VLOOKUP($D32,料理データ!$A$3:$BK$997,38,FALSE),\"\")","v":""},{"$f":"IFERROR(VLOOKUP($D32,料理データ!$A$3:$BK$997,41,FALSE),\"\")","v":""},{"$f":"IFERROR(VLOOKUP($D32,料理データ!$A$3:$BK$997,44,FALSE),\"\")","v":""},{"$f":"IFERROR(VLOOKUP($D32,料理データ!$A$3:$BK$997,47,FALSE),\"\")","v":""},{"$f":"IFERROR(VLOOKUP($D32,料理データ!$A$3:$BK$997,50,FALSE),\"\")","v":""},{"$f":"IFERROR(VLOOKUP($D32,料理データ!$A$3:$BK$997,53,FALSE),\"\")","v":""},{"$f":"IFERROR(VLOOKUP($D32,料理データ!$A$3:$BK$997,56,FALSE),\"\")","v":""},{"$f":"IFERROR(VLOOKUP($D32,料理データ!$A$3:$BK$997,59,FALSE),\"\")","v":""},{"$f":"IFERROR(VLOOKUP($D32,料理データ!$A$3:$BK$997,62,FALSE),\"\")","v":""},"                   ","                   "]
[null,null,null,{"$f":"+'月間献立（乳児）'!I6","v":0},{"$f":"IFERROR(VLOOKUP($D33,料理データ!$A$3:$BK$997,3,FALSE),\"\")","v":""},{"$f":"IFERROR(VLOOKUP($D33,料理データ!$A$3:$BK$997,5,FALSE),\"\")","v":""},{"$f":"IFERROR(VLOOKUP($D33,料理データ!$A$3:$BK$997,8,FALSE),\"\")","v":""},{"$f":"IFERROR(VLOOKUP($D33,料理データ!$A$3:$BK$997,11,FALSE),\"\")","v":""},{"$f":"IFERROR(VLOOKUP($D33,料理データ!$A$3:$BK$997,14,FALSE),\"\")","v":""},{"$f":"IFERROR(VLOOKUP($D33,料理データ!$A$3:$BK$997,17,FALSE),\"\")","v":""},{"$f":"IFERROR(VLOOKUP($D33,料理データ!$A$3:$BK$997,20,FALSE),\"\")","v":""},{"$f":"IFERROR(VLOOKUP($D33,料理データ!$A$3:$BK$997,23,FALSE),\"\")","v":""},{"$f":"IFERROR(VLOOKUP($D33,料理データ!$A$3:$BK$997,26,FALSE),\"\")","v":""},{"$f":"IFERROR(VLOOKUP($D33,料理データ!$A$3:$BK$997,29,FALSE),\"\")","v":""},{"$f":"IFERROR(VLOOKUP($D33,料理データ!$A$3:$BK$997,32,FALSE),\"\")","v":""},{"$f":"IFERROR(VLOOKUP($D33,料理データ!$A$3:$BK$997,35,FALSE),\"\")","v":""},{"$f":"IFERROR(VLOOKUP($D33,料理データ!$A$3:$BK$997,38,FALSE),\"\")","v":""},{"$f":"IFERROR(VLOOKUP($D33,料理データ!$A$3:$BK$997,41,FALSE),\"\")","v":""},{"$f":"IFERROR(VLOOKUP($D33,料理データ!$A$3:$BK$997,44,FALSE),\"\")","v":""},{"$f":"IFERROR(VLOOKUP($D33,料理データ!$A$3:$BK$997,47,FALSE),\"\")","v":""},{"$f":"IFERROR(VLOOKUP($D33,料理データ!$A$3:$BK$997,50,FALSE),\"\")","v":""},{"$f":"IFERROR(VLOOKUP($D33,料理データ!$A$3:$BK$997,53,FALSE),\"\")","v":""},{"$f":"IFERROR(VLOOKUP($D33,料理データ!$A$3:$BK$997,56,FALSE),\"\")","v":""},{"$f":"IFERROR(VLOOKUP($D33,料理データ!$A$3:$BK$997,59,FALSE),\"\")","v":""},{"$f":"IFERROR(VLOOKUP($D33,料理データ!$A$3:$BK$997,62,FALSE),\"\")","v":""},"                   ","                   "]
[null,null,null,{"$f":"+'月間献立（乳児）'!J6","v":0},{"$f":"IFERROR(VLOOKUP($D34,料理データ!$A$3:$BK$997,3,FALSE),\"\")","v":""},{"$f":"IFERROR(VLOOKUP($D34,料理データ!$A$3:$BK$997,5,FALSE),\"\")","v":""},{"$f":"IFERROR(VLOOKUP($D34,料理データ!$A$3:$BK$997,8,FALSE),\"\")","v":""},{"$f":"IFERROR(VLOOKUP($D34,料理データ!$A$3:$BK$997,11,FALSE),\"\")","v":""},{"$f":"IFERROR(VLOOKUP($D34,料理データ!$A$3:$BK$997,14,FALSE),\"\")","v":""},{"$f":"IFERROR(VLOOKUP($D34,料理データ!$A$3:$BK$997,17,FALSE),\"\")","v":""},{"$f":"IFERROR(VLOOKUP($D34,料理データ!$A$3:$BK$997,20,FALSE),\"\")","v":""},{"$f":"IFERROR(VLOOKUP($D34,料理データ!$A$3:$BK$997,23,FALSE),\"\")","v":""},{"$f":"IFERROR(VLOOKUP($D34,料理データ!$A$3:$BK$997,26,FALSE),\"\")","v":""},{"$f":"IFERROR(VLOOKUP($D34,料理データ!$A$3:$BK$997,29,FALSE),\"\")","v":""},{"$f":"IFERROR(VLOOKUP($D34,料理データ!$A$3:$BK$997,32,FALSE),\"\")","v":""},{"$f":"IFERROR(VLOOKUP($D34,料理データ!$A$3:$BK$997,35,FALSE),\"\")","v":""},{"$f":"IFERROR(VLOOKUP($D34,料理データ!$A$3:$BK$997,38,FALSE),\"\")","v":""},{"$f":"IFERROR(VLOOKUP($D34,料理データ!$A$3:$BK$997,41,FALSE),\"\")","v":""},{"$f":"IFERROR(VLOOKUP($D34,料理データ!$A$3:$BK$997,44,FALSE),\"\")","v":""},{"$f":"IFERROR(VLOOKUP($D34,料理データ!$A$3:$BK$997,47,FALSE),\"\")","v":""},{"$f":"IFERROR(VLOOKUP($D34,料理データ!$A$3:$BK$997,50,FALSE),\"\")","v":""},{"$f":"IFERROR(VLOOKUP($D34,料理データ!$A$3:$BK$997,53,FALSE),\"\")","v":""},{"$f":"IFERROR(VLOOKUP($D34,料理データ!$A$3:$BK$997,56,FALSE),\"\")","v":""},{"$f":"IFERROR(VLOOKUP($D34,料理データ!$A$3:$BK$997,59,FALSE),\"\")","v":""},{"$f":"IFERROR(VLOOKUP($D34,料理データ!$A$3:$BK$997,62,FALSE),\"\")","v":""},"                   ","                   "]
[null,null,null,{"$f":"+'月間献立（乳児）'!K6","v":0},{"$f":"IFERROR(VLOOKUP($D35,料理データ!$A$3:$BK$997,3,FALSE),\"\")","v":""},{"$f":"IFERROR(VLOOKUP($D35,料理データ!$A$3:$BK$997,5,FALSE),\"\")","v":""},{"$f":"IFERROR(VLOOKUP($D35,料理データ!$A$3:$BK$997,8,FALSE),\"\")","v":""},{"$f":"IFERROR(VLOOKUP($D35,料理データ!$A$3:$BK$997,11,FALSE),\"\")","v":""},{"$f":"IFERROR(VLOOKUP($D35,料理データ!$A$3:$BK$997,14,FALSE),\"\")","v":""},{"$f":"IFERROR(VLOOKUP($D35,料理データ!$A$3:$BK$997,17,FALSE),\"\")","v":""},{"$f":"IFERROR(VLOOKUP($D35,料理データ!$A$3:$BK$997,20,FALSE),\"\")","v":""},{"$f":"IFERROR(VLOOKUP($D35,料理データ!$A$3:$BK$997,23,FALSE),\"\")","v":""},{"$f":"IFERROR(VLOOKUP($D35,料理データ!$A$3:$BK$997,26,FALSE),\"\")","v":""},{"$f":"IFERROR(VLOOKUP($D35,料理データ!$A$3:$BK$997,29,FALSE),\"\")","v":""},{"$f":"IFERROR(VLOOKUP($D35,料理データ!$A$3:$BK$997,32,FALSE),\"\")","v":""},{"$f":"IFERROR(VLOOKUP($D35,料理データ!$A$3:$BK$997,35,FALSE),\"\")","v":""},{"$f":"IFERROR(VLOOKUP($D35,料理データ!$A$3:$BK$997,38,FALSE),\"\")","v":""},{"$f":"IFERROR(VLOOKUP($D35,料理データ!$A$3:$BK$997,41,FALSE),\"\")","v":""},{"$f":"IFERROR(VLOOKUP($D35,料理データ!$A$3:$BK$997,44,FALSE),\"\")","v":""},{"$f":"IFERROR(VLOOKUP($D35,料理データ!$A$3:$BK$997,47,FALSE),\"\")","v":""},{"$f":"IFERROR(VLOOKUP($D35,料理データ!$A$3:$BK$997,50,FALSE),\"\")","v":""},{"$f":"IFERROR(VLOOKUP($D35,料理データ!$A$3:$BK$997,53,FALSE),\"\")","v":""},{"$f":"IFERROR(VLOOKUP($D35,料理データ!$A$3:$BK$997,56,FALSE),\"\")","v":""},{"$f":"IFERROR(VLOOKUP($D35,料理データ!$A$3:$BK$997,59,FALSE),\"\")","v":""},{"$f":"IFERROR(VLOOKUP($D35,料理データ!$A$3:$BK$997,62,FALSE),\"\")","v":""},"                   ","                   "]
[null,null,"午後おやつ",{"$f":"+'月間献立（乳児）'!L6","v":0},{"$f":"IFERROR(VLOOKUP($D36,料理データ!$A$3:$BK$997,3,FALSE),\"\")","v":""},{"$f":"IFERROR(VLOOKUP($D36,料理データ!$A$3:$BK$997,5,FALSE),\"\")","v":""},{"$f":"IFERROR(VLOOKUP($D36,料理データ!$A$3:$BK$997,8,FALSE),\"\")","v":""},{"$f":"IFERROR(VLOOKUP($D36,料理データ!$A$3:$BK$997,11,FALSE),\"\")","v":""},{"$f":"IFERROR(VLOOKUP($D36,料理データ!$A$3:$BK$997,14,FALSE),\"\")","v":""},{"$f":"IFERROR(VLOOKUP($D36,料理データ!$A$3:$BK$997,17,FALSE),\"\")","v":""},{"$f":"IFERROR(VLOOKUP($D36,料理データ!$A$3:$BK$997,20,FALSE),\"\")","v":""},{"$f":"IFERROR(VLOOKUP($D36,料理データ!$A$3:$BK$997,23,FALSE),\"\")","v":""},{"$f":"IFERROR(VLOOKUP($D36,料理データ!$A$3:$BK$997,26,FALSE),\"\")","v":""},{"$f":"IFERROR(VLOOKUP($D36,料理データ!$A$3:$BK$997,29,FALSE),\"\")","v":""},{"$f":"IFERROR(VLOOKUP($D36,料理データ!$A$3:$BK$997,32,FALSE),\"\")","v":""},{"$f":"IFERROR(VLOOKUP($D36,料理データ!$A$3:$BK$997,35,FALSE),\"\")","v":""},{"$f":"IFERROR(VLOOKUP($D36,料理データ!$A$3:$BK$997,38,FALSE),\"\")","v":""},{"$f":"IFERROR(VLOOKUP($D36,料理データ!$A$3:$BK$997,41,FALSE),\"\")","v":""},{"$f":"IFERROR(VLOOKUP($D36,料理データ!$A$3:$BK$997,44,FALSE),\"\")","v":""},{"$f":"IFERROR(VLOOKUP($D36,料理データ!$A$3:$BK$997,47,FALSE),\"\")","v":""},{"$f":"IFERROR(VLOOKUP($D36,料理データ!$A$3:$BK$997,50,FALSE),\"\")","v":""},{"$f":"IFERROR(VLOOKUP($D36,料理データ!$A$3:$BK$997,53,FALSE),\"\")","v":""},{"$f":"IFERROR(VLOOKUP($D36,料理データ!$A$3:$BK$997,56,FALSE),\"\")","v":""},{"$f":"IFERROR(VLOOKUP($D36,料理データ!$A$3:$BK$997,59,FALSE),\"\")","v":""},{"$f":"IFERROR(VLOOKUP($D36,料理データ!$A$3:$BK$997,62,FALSE),\"\")","v":""},"                   ","                   "]
[null,null,null,{"$f":"+'月間献立（乳児）'!M6","v":0},{"$f":"IFERROR(VLOOKUP($D37,料理データ!$A$3:$BK$997,3,FALSE),\"\")","v":""},{"$f":"IFERROR(VLOOKUP($D37,料理データ!$A$3:$BK$997,5,FALSE),\"\")","v":""},{"$f":"IFERROR(VLOOKUP($D37,料理データ!$A$3:$BK$997,8,FALSE),\"\")","v":""},{"$f":"IFERROR(VLOOKUP($D37,料理データ!$A$3:$BK$997,11,FALSE),\"\")","v":""},{"$f":"IFERROR(VLOOKUP($D37,料理データ!$A$3:$BK$997,14,FALSE),\"\")","v":""},{"$f":"IFERROR(VLOOKUP($D37,料理データ!$A$3:$BK$997,17,FALSE),\"\")","v":""},{"$f":"IFERROR(VLOOKUP($D37,料理データ!$A$3:$BK$997,20,FALSE),\"\")","v":""},{"$f":"IFERROR(VLOOKUP($D37,料理データ!$A$3:$BK$997,23,FALSE),\"\")","v":""},{"$f":"IFERROR(VLOOKUP($D37,料理データ!$A$3:$BK$997,26,FALSE),\"\")","v":""},{"$f":"IFERROR(VLOOKUP($D37,料理データ!$A$3:$BK$997,29,FALSE),\"\")","v":""},{"$f":"IFERROR(VLOOKUP($D37,料理データ!$A$3:$BK$997,32,FALSE),\"\")","v":""},{"$f":"IFERROR(VLOOKUP($D37,料理データ!$A$3:$BK$997,35,FALSE),\"\")","v":""},{"$f":"IFERROR(VLOOKUP($D37,料理データ!$A$3:$BK$997,38,FALSE),\"\")","v":""},{"$f":"IFERROR(VLOOKUP($D37,料理データ!$A$3:$BK$997,41,FALSE),\"\")","v":""},{"$f":"IFERROR(VLOOKUP($D37,料理データ!$A$3:$BK$997,44,FALSE),\"\")","v":""},{"$f":"IFERROR(VLOOKUP($D37,料理データ!$A$3:$BK$997,47,FALSE),\"\")","v":""},{"$f":"IFERROR(VLOOKUP($D37,料理データ!$A$3:$BK$997,50,FALSE),\"\")","v":""},{"$f":"IFERROR(VLOOKUP($D37,料理データ!$A$3:$BK$997,53,FALSE),\"\")","v":""},{"$f":"IFERROR(VLOOKUP($D37,料理データ!$A$3:$BK$997,56,FALSE),\"\")","v":""},{"$f":"IFERROR(VLOOKUP($D37,料理データ!$A$3:$BK$997,59,FALSE),\"\")","v":""},{"$f":"IFERROR(VLOOKUP($D37,料理データ!$A$3:$BK$997,62,FALSE),\"\")","v":""},"                   ","                   "]
[null,null,null,{"$f":"+'月間献立（乳児）'!N6","v":0},{"$f":"IFERROR(VLOOKUP($D38,料理データ!$A$3:$BK$997,3,FALSE),\"\")","v":""},{"$f":"IFERROR(VLOOKUP($D38,料理データ!$A$3:$BK$997,5,FALSE),\"\")","v":""},{"$f":"IFERROR(VLOOKUP($D38,料理データ!$A$3:$BK$997,8,FALSE),\"\")","v":""},{"$f":"IFERROR(VLOOKUP($D38,料理データ!$A$3:$BK$997,11,FALSE),\"\")","v":""},{"$f":"IFERROR(VLOOKUP($D38,料理データ!$A$3:$BK$997,14,FALSE),\"\")","v":""},{"$f":"IFERROR(VLOOKUP($D38,料理データ!$A$3:$BK$997,17,FALSE),\"\")","v":""},{"$f":"IFERROR(VLOOKUP($D38,料理データ!$A$3:$BK$997,20,FALSE),\"\")","v":""},{"$f":"IFERROR(VLOOKUP($D38,料理データ!$A$3:$BK$997,23,FALSE),\"\")","v":""},{"$f":"IFERROR(VLOOKUP($D38,料理データ!$A$3:$BK$997,26,FALSE),\"\")","v":""},{"$f":"IFERROR(VLOOKUP($D38,料理データ!$A$3:$BK$997,29,FALSE),\"\")","v":""},{"$f":"IFERROR(VLOOKUP($D38,料理データ!$A$3:$BK$997,32,FALSE),\"\")","v":""},{"$f":"IFERROR(VLOOKUP($D38,料理データ!$A$3:$BK$997,35,FALSE),\"\")","v":""},{"$f":"IFERROR(VLOOKUP($D38,料理データ!$A$3:$BK$997,38,FALSE),\"\")","v":""},{"$f":"IFERROR(VLOOKUP($D38,料理データ!$A$3:$BK$997,41,FALSE),\"\")","v":""},{"$f":"IFERROR(VLOOKUP($D38,料理データ!$A$3:$BK$997,44,FALSE),\"\")","v":""},{"$f":"IFERROR(VLOOKUP($D38,料理データ!$A$3:$BK$997,47,FALSE),\"\")","v":""},{"$f":"IFERROR(VLOOKUP($D38,料理データ!$A$3:$BK$997,50,FALSE),\"\")","v":""},{"$f":"IFERROR(VLOOKUP($D38,料理データ!$A$3:$BK$997,53,FALSE),\"\")","v":""},{"$f":"IFERROR(VLOOKUP($D38,料理データ!$A$3:$BK$997,56,FALSE),\"\")","v":""},{"$f":"IFERROR(VLOOKUP($D38,料理データ!$A$3:$BK$997,59,FALSE),\"\")","v":""},{"$f":"IFERROR(VLOOKUP($D38,料理データ!$A$3:$BK$997,62,FALSE),\"\")","v":""},"                   ",{"$f":"SUBSTITUTE(Z38,\"-\",\"\")","v":"                   "}]
[{"$f":"+'月間献立（幼児）'!A8","v":4},{"$f":"+'月間献立（幼児）'!B8","v":"(火)"},"午前おやつ",{"$f":"+'月間献立（乳児）'!C7","v":0},{"$f":"IFERROR(VLOOKUP($D39,料理データ!$A$3:$BK$997,3,FALSE),\"\")","v":""},{"$f":"IFERROR(VLOOKUP($D39,料理データ!$A$3:$BK$997,5,FALSE),\"\")","v":""},{"$f":"IFERROR(VLOOKUP($D39,料理データ!$A$3:$BK$997,8,FALSE),\"\")","v":""},{"$f":"IFERROR(VLOOKUP($D39,料理データ!$A$3:$BK$997,11,FALSE),\"\")","v":""},{"$f":"IFERROR(VLOOKUP($D39,料理データ!$A$3:$BK$997,14,FALSE),\"\")","v":""},{"$f":"IFERROR(VLOOKUP($D39,料理データ!$A$3:$BK$997,17,FALSE),\"\")","v":""},{"$f":"IFERROR(VLOOKUP($D39,料理データ!$A$3:$BK$997,20,FALSE),\"\")","v":""},{"$f":"IFERROR(VLOOKUP($D39,料理データ!$A$3:$BK$997,23,FALSE),\"\")","v":""},{"$f":"IFERROR(VLOOKUP($D39,料理データ!$A$3:$BK$997,26,FALSE),\"\")","v":""},{"$f":"IFERROR(VLOOKUP($D39,料理データ!$A$3:$BK$997,29,FALSE),\"\")","v":""},{"$f":"IFERROR(VLOOKUP($D39,料理データ!$A$3:$BK$997,32,FALSE),\"\")","v":""},{"$f":"IFERROR(VLOOKUP($D39,料理データ!$A$3:$BK$997,35,FALSE),\"\")","v":""},{"$f":"IFERROR(VLOOKUP($D39,料理データ!$A$3:$BK$997,38,FALSE),\"\")","v":""},{"$f":"IFERROR(VLOOKUP($D39,料理データ!$A$3:$BK$997,41,FALSE),\"\")","v":""},{"$f":"IFERROR(VLOOKUP($D39,料理データ!$A$3:$BK$997,44,FALSE),\"\")","v":""},{"$f":"IFERROR(VLOOKUP($D39,料理データ!$A$3:$BK$997,47,FALSE),\"\")","v":""},{"$f":"IFERROR(VLOOKUP($D39,料理データ!$A$3:$BK$997,50,FALSE),\"\")","v":""},{"$f":"IFERROR(VLOOKUP($D39,料理データ!$A$3:$BK$997,53,FALSE),\"\")","v":""},{"$f":"IFERROR(VLOOKUP($D39,料理データ!$A$3:$BK$997,56,FALSE),\"\")","v":""},{"$f":"IFERROR(VLOOKUP($D39,料理データ!$A$3:$BK$997,59,FALSE),\"\")","v":""},{"$f":"IFERROR(VLOOKUP($D39,料理データ!$A$3:$BK$997,62,FALSE),\"\")","v":""},"                   ",{"$f":"SUBSTITUTE(Z39,\"-\",\" \")","v":"                   "},{"$f":"TRIM(CONCATENATE(AA39,AA40,AA41,\"▲\",AA42,AA43,AA44,AA45,AA46,AA47,\"▲\",AA48,AA49,AA50))","v":"▲ ▲"}]
[null,null,null,{"$f":"+'月間献立（乳児）'!D7","v":0},{"$f":"IFERROR(VLOOKUP($D40,料理データ!$A$3:$BK$997,3,FALSE),\"\")","v":""},{"$f":"IFERROR(VLOOKUP($D40,料理データ!$A$3:$BK$997,5,FALSE),\"\")","v":""},{"$f":"IFERROR(VLOOKUP($D40,料理データ!$A$3:$BK$997,8,FALSE),\"\")","v":""},{"$f":"IFERROR(VLOOKUP($D40,料理データ!$A$3:$BK$997,11,FALSE),\"\")","v":""},{"$f":"IFERROR(VLOOKUP($D40,料理データ!$A$3:$BK$997,14,FALSE),\"\")","v":""},{"$f":"IFERROR(VLOOKUP($D40,料理データ!$A$3:$BK$997,17,FALSE),\"\")","v":""},{"$f":"IFERROR(VLOOKUP($D40,料理データ!$A$3:$BK$997,20,FALSE),\"\")","v":""},{"$f":"IFERROR(VLOOKUP($D40,料理データ!$A$3:$BK$997,23,FALSE),\"\")","v":""},{"$f":"IFERROR(VLOOKUP($D40,料理データ!$A$3:$BK$997,26,FALSE),\"\")","v":""},{"$f":"IFERROR(VLOOKUP($D40,料理データ!$A$3:$BK$997,29,FALSE),\"\")","v":""},{"$f":"IFERROR(VLOOKUP($D40,料理データ!$A$3:$BK$997,32,FALSE),\"\")","v":""},{"$f":"IFERROR(VLOOKUP($D40,料理データ!$A$3:$BK$997,35,FALSE),\"\")","v":""},{"$f":"IFERROR(VLOOKUP($D40,料理データ!$A$3:$BK$997,38,FALSE),\"\")","v":""},{"$f":"IFERROR(VLOOKUP($D40,料理データ!$A$3:$BK$997,41,FALSE),\"\")","v":""},{"$f":"IFERROR(VLOOKUP($D40,料理データ!$A$3:$BK$997,44,FALSE),\"\")","v":""},{"$f":"IFERROR(VLOOKUP($D40,料理データ!$A$3:$BK$997,47,FALSE),\"\")","v":""},{"$f":"IFERROR(VLOOKUP($D40,料理データ!$A$3:$BK$997,50,FALSE),\"\")","v":""},{"$f":"IFERROR(VLOOKUP($D40,料理データ!$A$3:$BK$997,53,FALSE),\"\")","v":""},{"$f":"IFERROR(VLOOKUP($D40,料理データ!$A$3:$BK$997,56,FALSE),\"\")","v":""},{"$f":"IFERROR(VLOOKUP($D40,料理データ!$A$3:$BK$997,59,FALSE),\"\")","v":""},{"$f":"IFERROR(VLOOKUP($D40,料理データ!$A$3:$BK$997,62,FALSE),\"\")","v":""},"                   ",{"$f":"SUBSTITUTE(Z40,\"-\",\" \")","v":"                   "}]
[null,null,null,{"$f":"+'月間献立（乳児）'!E7","v":0},{"$f":"IFERROR(VLOOKUP($D41,料理データ!$A$3:$BK$997,3,FALSE),\"\")","v":""},{"$f":"IFERROR(VLOOKUP($D41,料理データ!$A$3:$BK$997,5,FALSE),\"\")","v":""},{"$f":"IFERROR(VLOOKUP($D41,料理データ!$A$3:$BK$997,8,FALSE),\"\")","v":""},{"$f":"IFERROR(VLOOKUP($D41,料理データ!$A$3:$BK$997,11,FALSE),\"\")","v":""},{"$f":"IFERROR(VLOOKUP($D41,料理データ!$A$3:$BK$997,14,FALSE),\"\")","v":""},{"$f":"IFERROR(VLOOKUP($D41,料理データ!$A$3:$BK$997,17,FALSE),\"\")","v":""},{"$f":"IFERROR(VLOOKUP($D41,料理データ!$A$3:$BK$997,20,FALSE),\"\")","v":""},{"$f":"IFERROR(VLOOKUP($D41,料理データ!$A$3:$BK$997,23,FALSE),\"\")","v":""},{"$f":"IFERROR(VLOOKUP($D41,料理データ!$A$3:$BK$997,26,FALSE),\"\")","v":""},{"$f":"IFERROR(VLOOKUP($D41,料理データ!$A$3:$BK$997,29,FALSE),\"\")","v":""},{"$f":"IFERROR(VLOOKUP($D41,料理データ!$A$3:$BK$997,32,FALSE),\"\")","v":""},{"$f":"IFERROR(VLOOKUP($D41,料理データ!$A$3:$BK$997,35,FALSE),\"\")","v":""},{"$f":"IFERROR(VLOOKUP($D41,料理データ!$A$3:$BK$997,38,FALSE),\"\")","v":""},{"$f":"IFERROR(VLOOKUP($D41,料理データ!$A$3:$BK$997,41,FALSE),\"\")","v":""},{"$f":"IFERROR(VLOOKUP($D41,料理データ!$A$3:$BK$997,44,FALSE),\"\")","v":""},{"$f":"IFERROR(VLOOKUP($D41,料理データ!$A$3:$BK$997,47,FALSE),\"\")","v":""},{"$f":"IFERROR(VLOOKUP($D41,料理データ!$A$3:$BK$997,50,FALSE),\"\")","v":""},{"$f":"IFERROR(VLOOKUP($D41,料理データ!$A$3:$BK$997,53,FALSE),\"\")","v":""},{"$f":"IFERROR(VLOOKUP($D41,料理データ!$A$3:$BK$997,56,FALSE),\"\")","v":""},{"$f":"IFERROR(VLOOKUP($D41,料理データ!$A$3:$BK$997,59,FALSE),\"\")","v":""},{"$f":"IFERROR(VLOOKUP($D41,料理データ!$A$3:$BK$997,62,FALSE),\"\")","v":""},"                   ",{"$f":"SUBSTITUTE(Z41,\"-\",\" \")","v":"                   "}]
[null,null,"昼食",{"$f":"+'月間献立（乳児）'!F7","v":0},{"$f":"IFERROR(VLOOKUP($D42,料理データ!$A$3:$BK$997,3,FALSE),\"\")","v":""},{"$f":"IFERROR(VLOOKUP($D42,料理データ!$A$3:$BK$997,5,FALSE),\"\")","v":""},{"$f":"IFERROR(VLOOKUP($D42,料理データ!$A$3:$BK$997,8,FALSE),\"\")","v":""},{"$f":"IFERROR(VLOOKUP($D42,料理データ!$A$3:$BK$997,11,FALSE),\"\")","v":""},{"$f":"IFERROR(VLOOKUP($D42,料理データ!$A$3:$BK$997,14,FALSE),\"\")","v":""},{"$f":"IFERROR(VLOOKUP($D42,料理データ!$A$3:$BK$997,17,FALSE),\"\")","v":""},{"$f":"IFERROR(VLOOKUP($D42,料理データ!$A$3:$BK$997,20,FALSE),\"\")","v":""},{"$f":"IFERROR(VLOOKUP($D42,料理データ!$A$3:$BK$997,23,FALSE),\"\")","v":""},{"$f":"IFERROR(VLOOKUP($D42,料理データ!$A$3:$BK$997,26,FALSE),\"\")","v":""},{"$f":"IFERROR(VLOOKUP($D42,料理データ!$A$3:$BK$997,29,FALSE),\"\")","v":""},{"$f":"IFERROR(VLOOKUP($D42,料理データ!$A$3:$BK$997,32,FALSE),\"\")","v":""},{"$f":"IFERROR(VLOOKUP($D42,料理データ!$A$3:$BK$997,35,FALSE),\"\")","v":""},{"$f":"IFERROR(VLOOKUP($D42,料理データ!$A$3:$BK$997,38,FALSE),\"\")","v":""},{"$f":"IFERROR(VLOOKUP($D42,料理データ!$A$3:$BK$997,41,FALSE),\"\")","v":""},{"$f":"IFERROR(VLOOKUP($D42,料理データ!$A$3:$BK$997,44,FALSE),\"\")","v":""},{"$f":"IFERROR(VLOOKUP($D42,料理データ!$A$3:$BK$997,47,FALSE),\"\")","v":""},{"$f":"IFERROR(VLOOKUP($D42,料理データ!$A$3:$BK$997,50,FALSE),\"\")","v":""},{"$f":"IFERROR(VLOOKUP($D42,料理データ!$A$3:$BK$997,53,FALSE),\"\")","v":""},{"$f":"IFERROR(VLOOKUP($D42,料理データ!$A$3:$BK$997,56,FALSE),\"\")","v":""},{"$f":"IFERROR(VLOOKUP($D42,料理データ!$A$3:$BK$997,59,FALSE),\"\")","v":""},{"$f":"IFERROR(VLOOKUP($D42,料理データ!$A$3:$BK$997,62,FALSE),\"\")","v":""},"                   ","                   "]
[null,null,null,{"$f":"+'月間献立（乳児）'!G7","v":0},{"$f":"IFERROR(VLOOKUP($D43,料理データ!$A$3:$BK$997,3,FALSE),\"\")","v":""},{"$f":"IFERROR(VLOOKUP($D43,料理データ!$A$3:$BK$997,5,FALSE),\"\")","v":""},{"$f":"IFERROR(VLOOKUP($D43,料理データ!$A$3:$BK$997,8,FALSE),\"\")","v":""},{"$f":"IFERROR(VLOOKUP($D43,料理データ!$A$3:$BK$997,11,FALSE),\"\")","v":""},{"$f":"IFERROR(VLOOKUP($D43,料理データ!$A$3:$BK$997,14,FALSE),\"\")","v":""},{"$f":"IFERROR(VLOOKUP($D43,料理データ!$A$3:$BK$997,17,FALSE),\"\")","v":""},{"$f":"IFERROR(VLOOKUP($D43,料理データ!$A$3:$BK$997,20,FALSE),\"\")","v":""},{"$f":"IFERROR(VLOOKUP($D43,料理データ!$A$3:$BK$997,23,FALSE),\"\")","v":""},{"$f":"IFERROR(VLOOKUP($D43,料理データ!$A$3:$BK$997,26,FALSE),\"\")","v":""},{"$f":"IFERROR(VLOOKUP($D43,料理データ!$A$3:$BK$997,29,FALSE),\"\")","v":""},{"$f":"IFERROR(VLOOKUP($D43,料理データ!$A$3:$BK$997,32,FALSE),\"\")","v":""},{"$f":"IFERROR(VLOOKUP($D43,料理データ!$A$3:$BK$997,35,FALSE),\"\")","v":""},{"$f":"IFERROR(VLOOKUP($D43,料理データ!$A$3:$BK$997,38,FALSE),\"\")","v":""},{"$f":"IFERROR(VLOOKUP($D43,料理データ!$A$3:$BK$997,41,FALSE),\"\")","v":""},{"$f":"IFERROR(VLOOKUP($D43,料理データ!$A$3:$BK$997,44,FALSE),\"\")","v":""},{"$f":"IFERROR(VLOOKUP($D43,料理データ!$A$3:$BK$997,47,FALSE),\"\")","v":""},{"$f":"IFERROR(VLOOKUP($D43,料理データ!$A$3:$BK$997,50,FALSE),\"\")","v":""},{"$f":"IFERROR(VLOOKUP($D43,料理データ!$A$3:$BK$997,53,FALSE),\"\")","v":""},{"$f":"IFERROR(VLOOKUP($D43,料理データ!$A$3:$BK$997,56,FALSE),\"\")","v":""},{"$f":"IFERROR(VLOOKUP($D43,料理データ!$A$3:$BK$997,59,FALSE),\"\")","v":""},{"$f":"IFERROR(VLOOKUP($D43,料理データ!$A$3:$BK$997,62,FALSE),\"\")","v":""},"                   ","                   "]
[null,null,null,{"$f":"+'月間献立（乳児）'!H7","v":0},{"$f":"IFERROR(VLOOKUP($D44,料理データ!$A$3:$BK$997,3,FALSE),\"\")","v":""},{"$f":"IFERROR(VLOOKUP($D44,料理データ!$A$3:$BK$997,5,FALSE),\"\")","v":""},{"$f":"IFERROR(VLOOKUP($D44,料理データ!$A$3:$BK$997,8,FALSE),\"\")","v":""},{"$f":"IFERROR(VLOOKUP($D44,料理データ!$A$3:$BK$997,11,FALSE),\"\")","v":""},{"$f":"IFERROR(VLOOKUP($D44,料理データ!$A$3:$BK$997,14,FALSE),\"\")","v":""},{"$f":"IFERROR(VLOOKUP($D44,料理データ!$A$3:$BK$997,17,FALSE),\"\")","v":""},{"$f":"IFERROR(VLOOKUP($D44,料理データ!$A$3:$BK$997,20,FALSE),\"\")","v":""},{"$f":"IFERROR(VLOOKUP($D44,料理データ!$A$3:$BK$997,23,FALSE),\"\")","v":""},{"$f":"IFERROR(VLOOKUP($D44,料理データ!$A$3:$BK$997,26,FALSE),\"\")","v":""},{"$f":"IFERROR(VLOOKUP($D44,料理データ!$A$3:$BK$997,29,FALSE),\"\")","v":""},{"$f":"IFERROR(VLOOKUP($D44,料理データ!$A$3:$BK$997,32,FALSE),\"\")","v":""},{"$f":"IFERROR(VLOOKUP($D44,料理データ!$A$3:$BK$997,35,FALSE),\"\")","v":""},{"$f":"IFERROR(VLOOKUP($D44,料理データ!$A$3:$BK$997,38,FALSE),\"\")","v":""},{"$f":"IFERROR(VLOOKUP($D44,料理データ!$A$3:$BK$997,41,FALSE),\"\")","v":""},{"$f":"IFERROR(VLOOKUP($D44,料理データ!$A$3:$BK$997,44,FALSE),\"\")","v":""},{"$f":"IFERROR(VLOOKUP($D44,料理データ!$A$3:$BK$997,47,FALSE),\"\")","v":""},{"$f":"IFERROR(VLOOKUP($D44,料理データ!$A$3:$BK$997,50,FALSE),\"\")","v":""},{"$f":"IFERROR(VLOOKUP($D44,料理データ!$A$3:$BK$997,53,FALSE),\"\")","v":""},{"$f":"IFERROR(VLOOKUP($D44,料理データ!$A$3:$BK$997,56,FALSE),\"\")","v":""},{"$f":"IFERROR(VLOOKUP($D44,料理データ!$A$3:$BK$997,59,FALSE),\"\")","v":""},{"$f":"IFERROR(VLOOKUP($D44,料理データ!$A$3:$BK$997,62,FALSE),\"\")","v":""},"                   ","                   "]
[null,null,null,{"$f":"+'月間献立（乳児）'!I7","v":0},{"$f":"IFERROR(VLOOKUP($D45,料理データ!$A$3:$BK$997,3,FALSE),\"\")","v":""},{"$f":"IFERROR(VLOOKUP($D45,料理データ!$A$3:$BK$997,5,FALSE),\"\")","v":""},{"$f":"IFERROR(VLOOKUP($D45,料理データ!$A$3:$BK$997,8,FALSE),\"\")","v":""},{"$f":"IFERROR(VLOOKUP($D45,料理データ!$A$3:$BK$997,11,FALSE),\"\")","v":""},{"$f":"IFERROR(VLOOKUP($D45,料理データ!$A$3:$BK$997,14,FALSE),\"\")","v":""},{"$f":"IFERROR(VLOOKUP($D45,料理データ!$A$3:$BK$997,17,FALSE),\"\")","v":""},{"$f":"IFERROR(VLOOKUP($D45,料理データ!$A$3:$BK$997,20,FALSE),\"\")","v":""},{"$f":"IFERROR(VLOOKUP($D45,料理データ!$A$3:$BK$997,23,FALSE),\"\")","v":""},{"$f":"IFERROR(VLOOKUP($D45,料理データ!$A$3:$BK$997,26,FALSE),\"\")","v":""},{"$f":"IFERROR(VLOOKUP($D45,料理データ!$A$3:$BK$997,29,FALSE),\"\")","v":""},{"$f":"IFERROR(VLOOKUP($D45,料理データ!$A$3:$BK$997,32,FALSE),\"\")","v":""},{"$f":"IFERROR(VLOOKUP($D45,料理データ!$A$3:$BK$997,35,FALSE),\"\")","v":""},{"$f":"IFERROR(VLOOKUP($D45,料理データ!$A$3:$BK$997,38,FALSE),\"\")","v":""},{"$f":"IFERROR(VLOOKUP($D45,料理データ!$A$3:$BK$997,41,FALSE),\"\")","v":""},{"$f":"IFERROR(VLOOKUP($D45,料理データ!$A$3:$BK$997,44,FALSE),\"\")","v":""},{"$f":"IFERROR(VLOOKUP($D45,料理データ!$A$3:$BK$997,47,FALSE),\"\")","v":""},{"$f":"IFERROR(VLOOKUP($D45,料理データ!$A$3:$BK$997,50,FALSE),\"\")","v":""},{"$f":"IFERROR(VLOOKUP($D45,料理データ!$A$3:$BK$997,53,FALSE),\"\")","v":""},{"$f":"IFERROR(VLOOKUP($D45,料理データ!$A$3:$BK$997,56,FALSE),\"\")","v":""},{"$f":"IFERROR(VLOOKUP($D45,料理データ!$A$3:$BK$997,59,FALSE),\"\")","v":""},{"$f":"IFERROR(VLOOKUP($D45,料理データ!$A$3:$BK$997,62,FALSE),\"\")","v":""},"                   ","                   "]
[null,null,null,{"$f":"+'月間献立（乳児）'!J7","v":0},{"$f":"IFERROR(VLOOKUP($D46,料理データ!$A$3:$BK$997,3,FALSE),\"\")","v":""},{"$f":"IFERROR(VLOOKUP($D46,料理データ!$A$3:$BK$997,5,FALSE),\"\")","v":""},{"$f":"IFERROR(VLOOKUP($D46,料理データ!$A$3:$BK$997,8,FALSE),\"\")","v":""},{"$f":"IFERROR(VLOOKUP($D46,料理データ!$A$3:$BK$997,11,FALSE),\"\")","v":""},{"$f":"IFERROR(VLOOKUP($D46,料理データ!$A$3:$BK$997,14,FALSE),\"\")","v":""},{"$f":"IFERROR(VLOOKUP($D46,料理データ!$A$3:$BK$997,17,FALSE),\"\")","v":""},{"$f":"IFERROR(VLOOKUP($D46,料理データ!$A$3:$BK$997,20,FALSE),\"\")","v":""},{"$f":"IFERROR(VLOOKUP($D46,料理データ!$A$3:$BK$997,23,FALSE),\"\")","v":""},{"$f":"IFERROR(VLOOKUP($D46,料理データ!$A$3:$BK$997,26,FALSE),\"\")","v":""},{"$f":"IFERROR(VLOOKUP($D46,料理データ!$A$3:$BK$997,29,FALSE),\"\")","v":""},{"$f":"IFERROR(VLOOKUP($D46,料理データ!$A$3:$BK$997,32,FALSE),\"\")","v":""},{"$f":"IFERROR(VLOOKUP($D46,料理データ!$A$3:$BK$997,35,FALSE),\"\")","v":""},{"$f":"IFERROR(VLOOKUP($D46,料理データ!$A$3:$BK$997,38,FALSE),\"\")","v":""},{"$f":"IFERROR(VLOOKUP($D46,料理データ!$A$3:$BK$997,41,FALSE),\"\")","v":""},{"$f":"IFERROR(VLOOKUP($D46,料理データ!$A$3:$BK$997,44,FALSE),\"\")","v":""},{"$f":"IFERROR(VLOOKUP($D46,料理データ!$A$3:$BK$997,47,FALSE),\"\")","v":""},{"$f":"IFERROR(VLOOKUP($D46,料理データ!$A$3:$BK$997,50,FALSE),\"\")","v":""},{"$f":"IFERROR(VLOOKUP($D46,料理データ!$A$3:$BK$997,53,FALSE),\"\")","v":""},{"$f":"IFERROR(VLOOKUP($D46,料理データ!$A$3:$BK$997,56,FALSE),\"\")","v":""},{"$f":"IFERROR(VLOOKUP($D46,料理データ!$A$3:$BK$997,59,FALSE),\"\")","v":""},{"$f":"IFERROR(VLOOKUP($D46,料理データ!$A$3:$BK$997,62,FALSE),\"\")","v":""},"                   ","                   "]
[null,null,null,{"$f":"+'月間献立（乳児）'!K7","v":0},{"$f":"IFERROR(VLOOKUP($D47,料理データ!$A$3:$BK$997,3,FALSE),\"\")","v":""},{"$f":"IFERROR(VLOOKUP($D47,料理データ!$A$3:$BK$997,5,FALSE),\"\")","v":""},{"$f":"IFERROR(VLOOKUP($D47,料理データ!$A$3:$BK$997,8,FALSE),\"\")","v":""},{"$f":"IFERROR(VLOOKUP($D47,料理データ!$A$3:$BK$997,11,FALSE),\"\")","v":""},{"$f":"IFERROR(VLOOKUP($D47,料理データ!$A$3:$BK$997,14,FALSE),\"\")","v":""},{"$f":"IFERROR(VLOOKUP($D47,料理データ!$A$3:$BK$997,17,FALSE),\"\")","v":""},{"$f":"IFERROR(VLOOKUP($D47,料理データ!$A$3:$BK$997,20,FALSE),\"\")","v":""},{"$f":"IFERROR(VLOOKUP($D47,料理データ!$A$3:$BK$997,23,FALSE),\"\")","v":""},{"$f":"IFERROR(VLOOKUP($D47,料理データ!$A$3:$BK$997,26,FALSE),\"\")","v":""},{"$f":"IFERROR(VLOOKUP($D47,料理データ!$A$3:$BK$997,29,FALSE),\"\")","v":""},{"$f":"IFERROR(VLOOKUP($D47,料理データ!$A$3:$BK$997,32,FALSE),\"\")","v":""},{"$f":"IFERROR(VLOOKUP($D47,料理データ!$A$3:$BK$997,35,FALSE),\"\")","v":""},{"$f":"IFERROR(VLOOKUP($D47,料理データ!$A$3:$BK$997,38,FALSE),\"\")","v":""},{"$f":"IFERROR(VLOOKUP($D47,料理データ!$A$3:$BK$997,41,FALSE),\"\")","v":""},{"$f":"IFERROR(VLOOKUP($D47,料理データ!$A$3:$BK$997,44,FALSE),\"\")","v":""},{"$f":"IFERROR(VLOOKUP($D47,料理データ!$A$3:$BK$997,47,FALSE),\"\")","v":""},{"$f":"IFERROR(VLOOKUP($D47,料理データ!$A$3:$BK$997,50,FALSE),\"\")","v":""},{"$f":"IFERROR(VLOOKUP($D47,料理データ!$A$3:$BK$997,53,FALSE),\"\")","v":""},{"$f":"IFERROR(VLOOKUP($D47,料理データ!$A$3:$BK$997,56,FALSE),\"\")","v":""},{"$f":"IFERROR(VLOOKUP($D47,料理データ!$A$3:$BK$997,59,FALSE),\"\")","v":""},{"$f":"IFERROR(VLOOKUP($D47,料理データ!$A$3:$BK$997,62,FALSE),\"\")","v":""},"                   ","                   "]
[null,null,"午後おやつ",{"$f":"+'月間献立（乳児）'!L7","v":0},{"$f":"IFERROR(VLOOKUP($D48,料理データ!$A$3:$BK$997,3,FALSE),\"\")","v":""},{"$f":"IFERROR(VLOOKUP($D48,料理データ!$A$3:$BK$997,5,FALSE),\"\")","v":""},{"$f":"IFERROR(VLOOKUP($D48,料理データ!$A$3:$BK$997,8,FALSE),\"\")","v":""},{"$f":"IFERROR(VLOOKUP($D48,料理データ!$A$3:$BK$997,11,FALSE),\"\")","v":""},{"$f":"IFERROR(VLOOKUP($D48,料理データ!$A$3:$BK$997,14,FALSE),\"\")","v":""},{"$f":"IFERROR(VLOOKUP($D48,料理データ!$A$3:$BK$997,17,FALSE),\"\")","v":""},{"$f":"IFERROR(VLOOKUP($D48,料理データ!$A$3:$BK$997,20,FALSE),\"\")","v":""},{"$f":"IFERROR(VLOOKUP($D48,料理データ!$A$3:$BK$997,23,FALSE),\"\")","v":""},{"$f":"IFERROR(VLOOKUP($D48,料理データ!$A$3:$BK$997,26,FALSE),\"\")","v":""},{"$f":"IFERROR(VLOOKUP($D48,料理データ!$A$3:$BK$997,29,FALSE),\"\")","v":""},{"$f":"IFERROR(VLOOKUP($D48,料理データ!$A$3:$BK$997,32,FALSE),\"\")","v":""},{"$f":"IFERROR(VLOOKUP($D48,料理データ!$A$3:$BK$997,35,FALSE),\"\")","v":""},{"$f":"IFERROR(VLOOKUP($D48,料理データ!$A$3:$BK$997,38,FALSE),\"\")","v":""},{"$f":"IFERROR(VLOOKUP($D48,料理データ!$A$3:$BK$997,41,FALSE),\"\")","v":""},{"$f":"IFERROR(VLOOKUP($D48,料理データ!$A$3:$BK$997,44,FALSE),\"\")","v":""},{"$f":"IFERROR(VLOOKUP($D48,料理データ!$A$3:$BK$997,47,FALSE),\"\")","v":""},{"$f":"IFERROR(VLOOKUP($D48,料理データ!$A$3:$BK$997,50,FALSE),\"\")","v":""},{"$f":"IFERROR(VLOOKUP($D48,料理データ!$A$3:$BK$997,53,FALSE),\"\")","v":""},{"$f":"IFERROR(VLOOKUP($D48,料理データ!$A$3:$BK$997,56,FALSE),\"\")","v":""},{"$f":"IFERROR(VLOOKUP($D48,料理データ!$A$3:$BK$997,59,FALSE),\"\")","v":""},{"$f":"IFERROR(VLOOKUP($D48,料理データ!$A$3:$BK$997,62,FALSE),\"\")","v":""},"                   ","                   "]
[null,null,null,{"$f":"+'月間献立（乳児）'!M7","v":0},{"$f":"IFERROR(VLOOKUP($D49,料理データ!$A$3:$BK$997,3,FALSE),\"\")","v":""},{"$f":"IFERROR(VLOOKUP($D49,料理データ!$A$3:$BK$997,5,FALSE),\"\")","v":""},{"$f":"IFERROR(VLOOKUP($D49,料理データ!$A$3:$BK$997,8,FALSE),\"\")","v":""},{"$f":"IFERROR(VLOOKUP($D49,料理データ!$A$3:$BK$997,11,FALSE),\"\")","v":""},{"$f":"IFERROR(VLOOKUP($D49,料理データ!$A$3:$BK$997,14,FALSE),\"\")","v":""},{"$f":"IFERROR(VLOOKUP($D49,料理データ!$A$3:$BK$997,17,FALSE),\"\")","v":""},{"$f":"IFERROR(VLOOKUP($D49,料理データ!$A$3:$BK$997,20,FALSE),\"\")","v":""},{"$f":"IFERROR(VLOOKUP($D49,料理データ!$A$3:$BK$997,23,FALSE),\"\")","v":""},{"$f":"IFERROR(VLOOKUP($D49,料理データ!$A$3:$BK$997,26,FALSE),\"\")","v":""},{"$f":"IFERROR(VLOOKUP($D49,料理データ!$A$3:$BK$997,29,FALSE),\"\")","v":""},{"$f":"IFERROR(VLOOKUP($D49,料理データ!$A$3:$BK$997,32,FALSE),\"\")","v":""},{"$f":"IFERROR(VLOOKUP($D49,料理データ!$A$3:$BK$997,35,FALSE),\"\")","v":""},{"$f":"IFERROR(VLOOKUP($D49,料理データ!$A$3:$BK$997,38,FALSE),\"\")","v":""},{"$f":"IFERROR(VLOOKUP($D49,料理データ!$A$3:$BK$997,41,FALSE),\"\")","v":""},{"$f":"IFERROR(VLOOKUP($D49,料理データ!$A$3:$BK$997,44,FALSE),\"\")","v":""},{"$f":"IFERROR(VLOOKUP($D49,料理データ!$A$3:$BK$997,47,FALSE),\"\")","v":""},{"$f":"IFERROR(VLOOKUP($D49,料理データ!$A$3:$BK$997,50,FALSE),\"\")","v":""},{"$f":"IFERROR(VLOOKUP($D49,料理データ!$A$3:$BK$997,53,FALSE),\"\")","v":""},{"$f":"IFERROR(VLOOKUP($D49,料理データ!$A$3:$BK$997,56,FALSE),\"\")","v":""},{"$f":"IFERROR(VLOOKUP($D49,料理データ!$A$3:$BK$997,59,FALSE),\"\")","v":""},{"$f":"IFERROR(VLOOKUP($D49,料理データ!$A$3:$BK$997,62,FALSE),\"\")","v":""},"                   ","                   "]
[null,null,null,{"$f":"+'月間献立（乳児）'!N7","v":0},{"$f":"IFERROR(VLOOKUP($D50,料理データ!$A$3:$BK$997,3,FALSE),\"\")","v":""},{"$f":"IFERROR(VLOOKUP($D50,料理データ!$A$3:$BK$997,5,FALSE),\"\")","v":""},{"$f":"IFERROR(VLOOKUP($D50,料理データ!$A$3:$BK$997,8,FALSE),\"\")","v":""},{"$f":"IFERROR(VLOOKUP($D50,料理データ!$A$3:$BK$997,11,FALSE),\"\")","v":""},{"$f":"IFERROR(VLOOKUP($D50,料理データ!$A$3:$BK$997,14,FALSE),\"\")","v":""},{"$f":"IFERROR(VLOOKUP($D50,料理データ!$A$3:$BK$997,17,FALSE),\"\")","v":""},{"$f":"IFERROR(VLOOKUP($D50,料理データ!$A$3:$BK$997,20,FALSE),\"\")","v":""},{"$f":"IFERROR(VLOOKUP($D50,料理データ!$A$3:$BK$997,23,FALSE),\"\")","v":""},{"$f":"IFERROR(VLOOKUP($D50,料理データ!$A$3:$BK$997,26,FALSE),\"\")","v":""},{"$f":"IFERROR(VLOOKUP($D50,料理データ!$A$3:$BK$997,29,FALSE),\"\")","v":""},{"$f":"IFERROR(VLOOKUP($D50,料理データ!$A$3:$BK$997,32,FALSE),\"\")","v":""},{"$f":"IFERROR(VLOOKUP($D50,料理データ!$A$3:$BK$997,35,FALSE),\"\")","v":""},{"$f":"IFERROR(VLOOKUP($D50,料理データ!$A$3:$BK$997,38,FALSE),\"\")","v":""},{"$f":"IFERROR(VLOOKUP($D50,料理データ!$A$3:$BK$997,41,FALSE),\"\")","v":""},{"$f":"IFERROR(VLOOKUP($D50,料理データ!$A$3:$BK$997,44,FALSE),\"\")","v":""},{"$f":"IFERROR(VLOOKUP($D50,料理データ!$A$3:$BK$997,47,FALSE),\"\")","v":""},{"$f":"IFERROR(VLOOKUP($D50,料理データ!$A$3:$BK$997,50,FALSE),\"\")","v":""},{"$f":"IFERROR(VLOOKUP($D50,料理データ!$A$3:$BK$997,53,FALSE),\"\")","v":""},{"$f":"IFERROR(VLOOKUP($D50,料理データ!$A$3:$BK$997,56,FALSE),\"\")","v":""},{"$f":"IFERROR(VLOOKUP($D50,料理データ!$A$3:$BK$997,59,FALSE),\"\")","v":""},{"$f":"IFERROR(VLOOKUP($D50,料理データ!$A$3:$BK$997,62,FALSE),\"\")","v":""},"                   ",{"$f":"SUBSTITUTE(Z50,\"-\",\"\")","v":"                   "}]
[{"$f":"+'月間献立（幼児）'!A9","v":5},{"$f":"+'月間献立（幼児）'!B9","v":"(水)"},"午前おやつ",{"$f":"+'月間献立（乳児）'!C8","v":0},{"$f":"IFERROR(VLOOKUP($D51,料理データ!$A$3:$BK$997,3,FALSE),\"\")","v":""},{"$f":"IFERROR(VLOOKUP($D51,料理データ!$A$3:$BK$997,5,FALSE),\"\")","v":""},{"$f":"IFERROR(VLOOKUP($D51,料理データ!$A$3:$BK$997,8,FALSE),\"\")","v":""},{"$f":"IFERROR(VLOOKUP($D51,料理データ!$A$3:$BK$997,11,FALSE),\"\")","v":""},{"$f":"IFERROR(VLOOKUP($D51,料理データ!$A$3:$BK$997,14,FALSE),\"\")","v":""},{"$f":"IFERROR(VLOOKUP($D51,料理データ!$A$3:$BK$997,17,FALSE),\"\")","v":""},{"$f":"IFERROR(VLOOKUP($D51,料理データ!$A$3:$BK$997,20,FALSE),\"\")","v":""},{"$f":"IFERROR(VLOOKUP($D51,料理データ!$A$3:$BK$997,23,FALSE),\"\")","v":""},{"$f":"IFERROR(VLOOKUP($D51,料理データ!$A$3:$BK$997,26,FALSE),\"\")","v":""},{"$f":"IFERROR(VLOOKUP($D51,料理データ!$A$3:$BK$997,29,FALSE),\"\")","v":""},{"$f":"IFERROR(VLOOKUP($D51,料理データ!$A$3:$BK$997,32,FALSE),\"\")","v":""},{"$f":"IFERROR(VLOOKUP($D51,料理データ!$A$3:$BK$997,35,FALSE),\"\")","v":""},{"$f":"IFERROR(VLOOKUP($D51,料理データ!$A$3:$BK$997,38,FALSE),\"\")","v":""},{"$f":"IFERROR(VLOOKUP($D51,料理データ!$A$3:$BK$997,41,FALSE),\"\")","v":""},{"$f":"IFERROR(VLOOKUP($D51,料理データ!$A$3:$BK$997,44,FALSE),\"\")","v":""},{"$f":"IFERROR(VLOOKUP($D51,料理データ!$A$3:$BK$997,47,FALSE),\"\")","v":""},{"$f":"IFERROR(VLOOKUP($D51,料理データ!$A$3:$BK$997,50,FALSE),\"\")","v":""},{"$f":"IFERROR(VLOOKUP($D51,料理データ!$A$3:$BK$997,53,FALSE),\"\")","v":""},{"$f":"IFERROR(VLOOKUP($D51,料理データ!$A$3:$BK$997,56,FALSE),\"\")","v":""},{"$f":"IFERROR(VLOOKUP($D51,料理データ!$A$3:$BK$997,59,FALSE),\"\")","v":""},{"$f":"IFERROR(VLOOKUP($D51,料理データ!$A$3:$BK$997,62,FALSE),\"\")","v":""},"                   ",{"$f":"SUBSTITUTE(Z51,\"-\",\" \")","v":"                   "},{"$f":"TRIM(CONCATENATE(AA51,AA52,AA53,\"▲\",AA54,AA55,AA56,AA57,AA58,AA59,\"▲\",AA60,AA61,AA62))","v":"▲ ▲"}]
[null,null,null,{"$f":"+'月間献立（乳児）'!D8","v":0},{"$f":"IFERROR(VLOOKUP($D52,料理データ!$A$3:$BK$997,3,FALSE),\"\")","v":""},{"$f":"IFERROR(VLOOKUP($D52,料理データ!$A$3:$BK$997,5,FALSE),\"\")","v":""},{"$f":"IFERROR(VLOOKUP($D52,料理データ!$A$3:$BK$997,8,FALSE),\"\")","v":""},{"$f":"IFERROR(VLOOKUP($D52,料理データ!$A$3:$BK$997,11,FALSE),\"\")","v":""},{"$f":"IFERROR(VLOOKUP($D52,料理データ!$A$3:$BK$997,14,FALSE),\"\")","v":""},{"$f":"IFERROR(VLOOKUP($D52,料理データ!$A$3:$BK$997,17,FALSE),\"\")","v":""},{"$f":"IFERROR(VLOOKUP($D52,料理データ!$A$3:$BK$997,20,FALSE),\"\")","v":""},{"$f":"IFERROR(VLOOKUP($D52,料理データ!$A$3:$BK$997,23,FALSE),\"\")","v":""},{"$f":"IFERROR(VLOOKUP($D52,料理データ!$A$3:$BK$997,26,FALSE),\"\")","v":""},{"$f":"IFERROR(VLOOKUP($D52,料理データ!$A$3:$BK$997,29,FALSE),\"\")","v":""},{"$f":"IFERROR(VLOOKUP($D52,料理データ!$A$3:$BK$997,32,FALSE),\"\")","v":""},{"$f":"IFERROR(VLOOKUP($D52,料理データ!$A$3:$BK$997,35,FALSE),\"\")","v":""},{"$f":"IFERROR(VLOOKUP($D52,料理データ!$A$3:$BK$997,38,FALSE),\"\")","v":""},{"$f":"IFERROR(VLOOKUP($D52,料理データ!$A$3:$BK$997,41,FALSE),\"\")","v":""},{"$f":"IFERROR(VLOOKUP($D52,料理データ!$A$3:$BK$997,44,FALSE),\"\")","v":""},{"$f":"IFERROR(VLOOKUP($D52,料理データ!$A$3:$BK$997,47,FALSE),\"\")","v":""},{"$f":"IFERROR(VLOOKUP($D52,料理データ!$A$3:$BK$997,50,FALSE),\"\")","v":""},{"$f":"IFERROR(VLOOKUP($D52,料理データ!$A$3:$BK$997,53,FALSE),\"\")","v":""},{"$f":"IFERROR(VLOOKUP($D52,料理データ!$A$3:$BK$997,56,FALSE),\"\")","v":""},{"$f":"IFERROR(VLOOKUP($D52,料理データ!$A$3:$BK$997,59,FALSE),\"\")","v":""},{"$f":"IFERROR(VLOOKUP($D52,料理データ!$A$3:$BK$997,62,FALSE),\"\")","v":""},"                   ",{"$f":"SUBSTITUTE(Z52,\"-\",\" \")","v":"                   "}]
[null,null,null,{"$f":"+'月間献立（乳児）'!E8","v":0},{"$f":"IFERROR(VLOOKUP($D53,料理データ!$A$3:$BK$997,3,FALSE),\"\")","v":""},{"$f":"IFERROR(VLOOKUP($D53,料理データ!$A$3:$BK$997,5,FALSE),\"\")","v":""},{"$f":"IFERROR(VLOOKUP($D53,料理データ!$A$3:$BK$997,8,FALSE),\"\")","v":""},{"$f":"IFERROR(VLOOKUP($D53,料理データ!$A$3:$BK$997,11,FALSE),\"\")","v":""},{"$f":"IFERROR(VLOOKUP($D53,料理データ!$A$3:$BK$997,14,FALSE),\"\")","v":""},{"$f":"IFERROR(VLOOKUP($D53,料理データ!$A$3:$BK$997,17,FALSE),\"\")","v":""},{"$f":"IFERROR(VLOOKUP($D53,料理データ!$A$3:$BK$997,20,FALSE),\"\")","v":""},{"$f":"IFERROR(VLOOKUP($D53,料理データ!$A$3:$BK$997,23,FALSE),\"\")","v":""},{"$f":"IFERROR(VLOOKUP($D53,料理データ!$A$3:$BK$997,26,FALSE),\"\")","v":""},{"$f":"IFERROR(VLOOKUP($D53,料理データ!$A$3:$BK$997,29,FALSE),\"\")","v":""},{"$f":"IFERROR(VLOOKUP($D53,料理データ!$A$3:$BK$997,32,FALSE),\"\")","v":""},{"$f":"IFERROR(VLOOKUP($D53,料理データ!$A$3:$BK$997,35,FALSE),\"\")","v":""},{"$f":"IFERROR(VLOOKUP($D53,料理データ!$A$3:$BK$997,38,FALSE),\"\")","v":""},{"$f":"IFERROR(VLOOKUP($D53,料理データ!$A$3:$BK$997,41,FALSE),\"\")","v":""},{"$f":"IFERROR(VLOOKUP($D53,料理データ!$A$3:$BK$997,44,FALSE),\"\")","v":""},{"$f":"IFERROR(VLOOKUP($D53,料理データ!$A$3:$BK$997,47,FALSE),\"\")","v":""},{"$f":"IFERROR(VLOOKUP($D53,料理データ!$A$3:$BK$997,50,FALSE),\"\")","v":""},{"$f":"IFERROR(VLOOKUP($D53,料理データ!$A$3:$BK$997,53,FALSE),\"\")","v":""},{"$f":"IFERROR(VLOOKUP($D53,料理データ!$A$3:$BK$997,56,FALSE),\"\")","v":""},{"$f":"IFERROR(VLOOKUP($D53,料理データ!$A$3:$BK$997,59,FALSE),\"\")","v":""},{"$f":"IFERROR(VLOOKUP($D53,料理データ!$A$3:$BK$997,62,FALSE),\"\")","v":""},"                   ",{"$f":"SUBSTITUTE(Z53,\"-\",\" \")","v":"                   "}]
[null,null,"昼食",{"$f":"+'月間献立（乳児）'!F8","v":0},{"$f":"IFERROR(VLOOKUP($D54,料理データ!$A$3:$BK$997,3,FALSE),\"\")","v":""},{"$f":"IFERROR(VLOOKUP($D54,料理データ!$A$3:$BK$997,5,FALSE),\"\")","v":""},{"$f":"IFERROR(VLOOKUP($D54,料理データ!$A$3:$BK$997,8,FALSE),\"\")","v":""},{"$f":"IFERROR(VLOOKUP($D54,料理データ!$A$3:$BK$997,11,FALSE),\"\")","v":""},{"$f":"IFERROR(VLOOKUP($D54,料理データ!$A$3:$BK$997,14,FALSE),\"\")","v":""},{"$f":"IFERROR(VLOOKUP($D54,料理データ!$A$3:$BK$997,17,FALSE),\"\")","v":""},{"$f":"IFERROR(VLOOKUP($D54,料理データ!$A$3:$BK$997,20,FALSE),\"\")","v":""},{"$f":"IFERROR(VLOOKUP($D54,料理データ!$A$3:$BK$997,23,FALSE),\"\")","v":""},{"$f":"IFERROR(VLOOKUP($D54,料理データ!$A$3:$BK$997,26,FALSE),\"\")","v":""},{"$f":"IFERROR(VLOOKUP($D54,料理データ!$A$3:$BK$997,29,FALSE),\"\")","v":""},{"$f":"IFERROR(VLOOKUP($D54,料理データ!$A$3:$BK$997,32,FALSE),\"\")","v":""},{"$f":"IFERROR(VLOOKUP($D54,料理データ!$A$3:$BK$997,35,FALSE),\"\")","v":""},{"$f":"IFERROR(VLOOKUP($D54,料理データ!$A$3:$BK$997,38,FALSE),\"\")","v":""},{"$f":"IFERROR(VLOOKUP($D54,料理データ!$A$3:$BK$997,41,FALSE),\"\")","v":""},{"$f":"IFERROR(VLOOKUP($D54,料理データ!$A$3:$BK$997,44,FALSE),\"\")","v":""},{"$f":"IFERROR(VLOOKUP($D54,料理データ!$A$3:$BK$997,47,FALSE),\"\")","v":""},{"$f":"IFERROR(VLOOKUP($D54,料理データ!$A$3:$BK$997,50,FALSE),\"\")","v":""},{"$f":"IFERROR(VLOOKUP($D54,料理データ!$A$3:$BK$997,53,FALSE),\"\")","v":""},{"$f":"IFERROR(VLOOKUP($D54,料理データ!$A$3:$BK$997,56,FALSE),\"\")","v":""},{"$f":"IFERROR(VLOOKUP($D54,料理データ!$A$3:$BK$997,59,FALSE),\"\")","v":""},{"$f":"IFERROR(VLOOKUP($D54,料理データ!$A$3:$BK$997,62,FALSE),\"\")","v":""},"                   ","                   "]
[null,null,null,{"$f":"+'月間献立（乳児）'!G8","v":0},{"$f":"IFERROR(VLOOKUP($D55,料理データ!$A$3:$BK$997,3,FALSE),\"\")","v":""},{"$f":"IFERROR(VLOOKUP($D55,料理データ!$A$3:$BK$997,5,FALSE),\"\")","v":""},{"$f":"IFERROR(VLOOKUP($D55,料理データ!$A$3:$BK$997,8,FALSE),\"\")","v":""},{"$f":"IFERROR(VLOOKUP($D55,料理データ!$A$3:$BK$997,11,FALSE),\"\")","v":""},{"$f":"IFERROR(VLOOKUP($D55,料理データ!$A$3:$BK$997,14,FALSE),\"\")","v":""},{"$f":"IFERROR(VLOOKUP($D55,料理データ!$A$3:$BK$997,17,FALSE),\"\")","v":""},{"$f":"IFERROR(VLOOKUP($D55,料理データ!$A$3:$BK$997,20,FALSE),\"\")","v":""},{"$f":"IFERROR(VLOOKUP($D55,料理データ!$A$3:$BK$997,23,FALSE),\"\")","v":""},{"$f":"IFERROR(VLOOKUP($D55,料理データ!$A$3:$BK$997,26,FALSE),\"\")","v":""},{"$f":"IFERROR(VLOOKUP($D55,料理データ!$A$3:$BK$997,29,FALSE),\"\")","v":""},{"$f":"IFERROR(VLOOKUP($D55,料理データ!$A$3:$BK$997,32,FALSE),\"\")","v":""},{"$f":"IFERROR(VLOOKUP($D55,料理データ!$A$3:$BK$997,35,FALSE),\"\")","v":""},{"$f":"IFERROR(VLOOKUP($D55,料理データ!$A$3:$BK$997,38,FALSE),\"\")","v":""},{"$f":"IFERROR(VLOOKUP($D55,料理データ!$A$3:$BK$997,41,FALSE),\"\")","v":""},{"$f":"IFERROR(VLOOKUP($D55,料理データ!$A$3:$BK$997,44,FALSE),\"\")","v":""},{"$f":"IFERROR(VLOOKUP($D55,料理データ!$A$3:$BK$997,47,FALSE),\"\")","v":""},{"$f":"IFERROR(VLOOKUP($D55,料理データ!$A$3:$BK$997,50,FALSE),\"\")","v":""},{"$f":"IFERROR(VLOOKUP($D55,料理データ!$A$3:$BK$997,53,FALSE),\"\")","v":""},{"$f":"IFERROR(VLOOKUP($D55,料理データ!$A$3:$BK$997,56,FALSE),\"\")","v":""},{"$f":"IFERROR(VLOOKUP($D55,料理データ!$A$3:$BK$997,59,FALSE),\"\")","v":""},{"$f":"IFERROR(VLOOKUP($D55,料理データ!$A$3:$BK$997,62,FALSE),\"\")","v":""},"                   ","                   "]
[null,null,null,{"$f":"+'月間献立（乳児）'!H8","v":0},{"$f":"IFERROR(VLOOKUP($D56,料理データ!$A$3:$BK$997,3,FALSE),\"\")","v":""},{"$f":"IFERROR(VLOOKUP($D56,料理データ!$A$3:$BK$997,5,FALSE),\"\")","v":""},{"$f":"IFERROR(VLOOKUP($D56,料理データ!$A$3:$BK$997,8,FALSE),\"\")","v":""},{"$f":"IFERROR(VLOOKUP($D56,料理データ!$A$3:$BK$997,11,FALSE),\"\")","v":""},{"$f":"IFERROR(VLOOKUP($D56,料理データ!$A$3:$BK$997,14,FALSE),\"\")","v":""},{"$f":"IFERROR(VLOOKUP($D56,料理データ!$A$3:$BK$997,17,FALSE),\"\")","v":""},{"$f":"IFERROR(VLOOKUP($D56,料理データ!$A$3:$BK$997,20,FALSE),\"\")","v":""},{"$f":"IFERROR(VLOOKUP($D56,料理データ!$A$3:$BK$997,23,FALSE),\"\")","v":""},{"$f":"IFERROR(VLOOKUP($D56,料理データ!$A$3:$BK$997,26,FALSE),\"\")","v":""},{"$f":"IFERROR(VLOOKUP($D56,料理データ!$A$3:$BK$997,29,FALSE),\"\")","v":""},{"$f":"IFERROR(VLOOKUP($D56,料理データ!$A$3:$BK$997,32,FALSE),\"\")","v":""},{"$f":"IFERROR(VLOOKUP($D56,料理データ!$A$3:$BK$997,35,FALSE),\"\")","v":""},{"$f":"IFERROR(VLOOKUP($D56,料理データ!$A$3:$BK$997,38,FALSE),\"\")","v":""},{"$f":"IFERROR(VLOOKUP($D56,料理データ!$A$3:$BK$997,41,FALSE),\"\")","v":""},{"$f":"IFERROR(VLOOKUP($D56,料理データ!$A$3:$BK$997,44,FALSE),\"\")","v":""},{"$f":"IFERROR(VLOOKUP($D56,料理データ!$A$3:$BK$997,47,FALSE),\"\")","v":""},{"$f":"IFERROR(VLOOKUP($D56,料理データ!$A$3:$BK$997,50,FALSE),\"\")","v":""},{"$f":"IFERROR(VLOOKUP($D56,料理データ!$A$3:$BK$997,53,FALSE),\"\")","v":""},{"$f":"IFERROR(VLOOKUP($D56,料理データ!$A$3:$BK$997,56,FALSE),\"\")","v":""},{"$f":"IFERROR(VLOOKUP($D56,料理データ!$A$3:$BK$997,59,FALSE),\"\")","v":""},{"$f":"IFERROR(VLOOKUP($D56,料理データ!$A$3:$BK$997,62,FALSE),\"\")","v":""},"                   ","                   "]
[null,null,null,{"$f":"+'月間献立（乳児）'!I8","v":0},{"$f":"IFERROR(VLOOKUP($D57,料理データ!$A$3:$BK$997,3,FALSE),\"\")","v":""},{"$f":"IFERROR(VLOOKUP($D57,料理データ!$A$3:$BK$997,5,FALSE),\"\")","v":""},{"$f":"IFERROR(VLOOKUP($D57,料理データ!$A$3:$BK$997,8,FALSE),\"\")","v":""},{"$f":"IFERROR(VLOOKUP($D57,料理データ!$A$3:$BK$997,11,FALSE),\"\")","v":""},{"$f":"IFERROR(VLOOKUP($D57,料理データ!$A$3:$BK$997,14,FALSE),\"\")","v":""},{"$f":"IFERROR(VLOOKUP($D57,料理データ!$A$3:$BK$997,17,FALSE),\"\")","v":""},{"$f":"IFERROR(VLOOKUP($D57,料理データ!$A$3:$BK$997,20,FALSE),\"\")","v":""},{"$f":"IFERROR(VLOOKUP($D57,料理データ!$A$3:$BK$997,23,FALSE),\"\")","v":""},{"$f":"IFERROR(VLOOKUP($D57,料理データ!$A$3:$BK$997,26,FALSE),\"\")","v":""},{"$f":"IFERROR(VLOOKUP($D57,料理データ!$A$3:$BK$997,29,FALSE),\"\")","v":""},{"$f":"IFERROR(VLOOKUP($D57,料理データ!$A$3:$BK$997,32,FALSE),\"\")","v":""},{"$f":"IFERROR(VLOOKUP($D57,料理データ!$A$3:$BK$997,35,FALSE),\"\")","v":""},{"$f":"IFERROR(VLOOKUP($D57,料理データ!$A$3:$BK$997,38,FALSE),\"\")","v":""},{"$f":"IFERROR(VLOOKUP($D57,料理データ!$A$3:$BK$997,41,FALSE),\"\")","v":""},{"$f":"IFERROR(VLOOKUP($D57,料理データ!$A$3:$BK$997,44,FALSE),\"\")","v":""},{"$f":"IFERROR(VLOOKUP($D57,料理データ!$A$3:$BK$997,47,FALSE),\"\")","v":""},{"$f":"IFERROR(VLOOKUP($D57,料理データ!$A$3:$BK$997,50,FALSE),\"\")","v":""},{"$f":"IFERROR(VLOOKUP($D57,料理データ!$A$3:$BK$997,53,FALSE),\"\")","v":""},{"$f":"IFERROR(VLOOKUP($D57,料理データ!$A$3:$BK$997,56,FALSE),\"\")","v":""},{"$f":"IFERROR(VLOOKUP($D57,料理データ!$A$3:$BK$997,59,FALSE),\"\")","v":""},{"$f":"IFERROR(VLOOKUP($D57,料理データ!$A$3:$BK$997,62,FALSE),\"\")","v":""},"                   ","                   "]
[null,null,null,{"$f":"+'月間献立（乳児）'!J8","v":0},{"$f":"IFERROR(VLOOKUP($D58,料理データ!$A$3:$BK$997,3,FALSE),\"\")","v":""},{"$f":"IFERROR(VLOOKUP($D58,料理データ!$A$3:$BK$997,5,FALSE),\"\")","v":""},{"$f":"IFERROR(VLOOKUP($D58,料理データ!$A$3:$BK$997,8,FALSE),\"\")","v":""},{"$f":"IFERROR(VLOOKUP($D58,料理データ!$A$3:$BK$997,11,FALSE),\"\")","v":""},{"$f":"IFERROR(VLOOKUP($D58,料理データ!$A$3:$BK$997,14,FALSE),\"\")","v":""},{"$f":"IFERROR(VLOOKUP($D58,料理データ!$A$3:$BK$997,17,FALSE),\"\")","v":""},{"$f":"IFERROR(VLOOKUP($D58,料理データ!$A$3:$BK$997,20,FALSE),\"\")","v":""},{"$f":"IFERROR(VLOOKUP($D58,料理データ!$A$3:$BK$997,23,FALSE),\"\")","v":""},{"$f":"IFERROR(VLOOKUP($D58,料理データ!$A$3:$BK$997,26,FALSE),\"\")","v":""},{"$f":"IFERROR(VLOOKUP($D58,料理データ!$A$3:$BK$997,29,FALSE),\"\")","v":""},{"$f":"IFERROR(VLOOKUP($D58,料理データ!$A$3:$BK$997,32,FALSE),\"\")","v":""},{"$f":"IFERROR(VLOOKUP($D58,料理データ!$A$3:$BK$997,35,FALSE),\"\")","v":""},{"$f":"IFERROR(VLOOKUP($D58,料理データ!$A$3:$BK$997,38,FALSE),\"\")","v":""},{"$f":"IFERROR(VLOOKUP($D58,料理データ!$A$3:$BK$997,41,FALSE),\"\")","v":""},{"$f":"IFERROR(VLOOKUP($D58,料理データ!$A$3:$BK$997,44,FALSE),\"\")","v":""},{"$f":"IFERROR(VLOOKUP($D58,料理データ!$A$3:$BK$997,47,FALSE),\"\")","v":""},{"$f":"IFERROR(VLOOKUP($D58,料理データ!$A$3:$BK$997,50,FALSE),\"\")","v":""},{"$f":"IFERROR(VLOOKUP($D58,料理データ!$A$3:$BK$997,53,FALSE),\"\")","v":""},{"$f":"IFERROR(VLOOKUP($D58,料理データ!$A$3:$BK$997,56,FALSE),\"\")","v":""},{"$f":"IFERROR(VLOOKUP($D58,料理データ!$A$3:$BK$997,59,FALSE),\"\")","v":""},{"$f":"IFERROR(VLOOKUP($D58,料理データ!$A$3:$BK$997,62,FALSE),\"\")","v":""},"                   ","                   "]
[null,null,null,{"$f":"+'月間献立（乳児）'!K8","v":0},{"$f":"IFERROR(VLOOKUP($D59,料理データ!$A$3:$BK$997,3,FALSE),\"\")","v":""},{"$f":"IFERROR(VLOOKUP($D59,料理データ!$A$3:$BK$997,5,FALSE),\"\")","v":""},{"$f":"IFERROR(VLOOKUP($D59,料理データ!$A$3:$BK$997,8,FALSE),\"\")","v":""},{"$f":"IFERROR(VLOOKUP($D59,料理データ!$A$3:$BK$997,11,FALSE),\"\")","v":""},{"$f":"IFERROR(VLOOKUP($D59,料理データ!$A$3:$BK$997,14,FALSE),\"\")","v":""},{"$f":"IFERROR(VLOOKUP($D59,料理データ!$A$3:$BK$997,17,FALSE),\"\")","v":""},{"$f":"IFERROR(VLOOKUP($D59,料理データ!$A$3:$BK$997,20,FALSE),\"\")","v":""},{"$f":"IFERROR(VLOOKUP($D59,料理データ!$A$3:$BK$997,23,FALSE),\"\")","v":""},{"$f":"IFERROR(VLOOKUP($D59,料理データ!$A$3:$BK$997,26,FALSE),\"\")","v":""},{"$f":"IFERROR(VLOOKUP($D59,料理データ!$A$3:$BK$997,29,FALSE),\"\")","v":""},{"$f":"IFERROR(VLOOKUP($D59,料理データ!$A$3:$BK$997,32,FALSE),\"\")","v":""},{"$f":"IFERROR(VLOOKUP($D59,料理データ!$A$3:$BK$997,35,FALSE),\"\")","v":""},{"$f":"IFERROR(VLOOKUP($D59,料理データ!$A$3:$BK$997,38,FALSE),\"\")","v":""},{"$f":"IFERROR(VLOOKUP($D59,料理データ!$A$3:$BK$997,41,FALSE),\"\")","v":""},{"$f":"IFERROR(VLOOKUP($D59,料理データ!$A$3:$BK$997,44,FALSE),\"\")","v":""},{"$f":"IFERROR(VLOOKUP($D59,料理データ!$A$3:$BK$997,47,FALSE),\"\")","v":""},{"$f":"IFERROR(VLOOKUP($D59,料理データ!$A$3:$BK$997,50,FALSE),\"\")","v":""},{"$f":"IFERROR(VLOOKUP($D59,料理データ!$A$3:$BK$997,53,FALSE),\"\")","v":""},{"$f":"IFERROR(VLOOKUP($D59,料理データ!$A$3:$BK$997,56,FALSE),\"\")","v":""},{"$f":"IFERROR(VLOOKUP($D59,料理データ!$A$3:$BK$997,59,FALSE),\"\")","v":""},{"$f":"IFERROR(VLOOKUP($D59,料理データ!$A$3:$BK$997,62,FALSE),\"\")","v":""},"                   ","                   "]
[null,null,"午後おやつ",{"$f":"+'月間献立（乳児）'!L8","v":0},{"$f":"IFERROR(VLOOKUP($D60,料理データ!$A$3:$BK$997,3,FALSE),\"\")","v":""},{"$f":"IFERROR(VLOOKUP($D60,料理データ!$A$3:$BK$997,5,FALSE),\"\")","v":""},{"$f":"IFERROR(VLOOKUP($D60,料理データ!$A$3:$BK$997,8,FALSE),\"\")","v":""},{"$f":"IFERROR(VLOOKUP($D60,料理データ!$A$3:$BK$997,11,FALSE),\"\")","v":""},{"$f":"IFERROR(VLOOKUP($D60,料理データ!$A$3:$BK$997,14,FALSE),\"\")","v":""},{"$f":"IFERROR(VLOOKUP($D60,料理データ!$A$3:$BK$997,17,FALSE),\"\")","v":""},{"$f":"IFERROR(VLOOKUP($D60,料理データ!$A$3:$BK$997,20,FALSE),\"\")","v":""},{"$f":"IFERROR(VLOOKUP($D60,料理データ!$A$3:$BK$997,23,FALSE),\"\")","v":""},{"$f":"IFERROR(VLOOKUP($D60,料理データ!$A$3:$BK$997,26,FALSE),\"\")","v":""},{"$f":"IFERROR(VLOOKUP($D60,料理データ!$A$3:$BK$997,29,FALSE),\"\")","v":""},{"$f":"IFERROR(VLOOKUP($D60,料理データ!$A$3:$BK$997,32,FALSE),\"\")","v":""},{"$f":"IFERROR(VLOOKUP($D60,料理データ!$A$3:$BK$997,35,FALSE),\"\")","v":""},{"$f":"IFERROR(VLOOKUP($D60,料理データ!$A$3:$BK$997,38,FALSE),\"\")","v":""},{"$f":"IFERROR(VLOOKUP($D60,料理データ!$A$3:$BK$997,41,FALSE),\"\")","v":""},{"$f":"IFERROR(VLOOKUP($D60,料理データ!$A$3:$BK$997,44,FALSE),\"\")","v":""},{"$f":"IFERROR(VLOOKUP($D60,料理データ!$A$3:$BK$997,47,FALSE),\"\")","v":""},{"$f":"IFERROR(VLOOKUP($D60,料理データ!$A$3:$BK$997,50,FALSE),\"\")","v":""},{"$f":"IFERROR(VLOOKUP($D60,料理データ!$A$3:$BK$997,53,FALSE),\"\")","v":""},{"$f":"IFERROR(VLOOKUP($D60,料理データ!$A$3:$BK$997,56,FALSE),\"\")","v":""},{"$f":"IFERROR(VLOOKUP($D60,料理データ!$A$3:$BK$997,59,FALSE),\"\")","v":""},{"$f":"IFERROR(VLOOKUP($D60,料理データ!$A$3:$BK$997,62,FALSE),\"\")","v":""},"                   ","                   "]
[null,null,null,{"$f":"+'月間献立（乳児）'!M8","v":0},{"$f":"IFERROR(VLOOKUP($D61,料理データ!$A$3:$BK$997,3,FALSE),\"\")","v":""},{"$f":"IFERROR(VLOOKUP($D61,料理データ!$A$3:$BK$997,5,FALSE),\"\")","v":""},{"$f":"IFERROR(VLOOKUP($D61,料理データ!$A$3:$BK$997,8,FALSE),\"\")","v":""},{"$f":"IFERROR(VLOOKUP($D61,料理データ!$A$3:$BK$997,11,FALSE),\"\")","v":""},{"$f":"IFERROR(VLOOKUP($D61,料理データ!$A$3:$BK$997,14,FALSE),\"\")","v":""},{"$f":"IFERROR(VLOOKUP($D61,料理データ!$A$3:$BK$997,17,FALSE),\"\")","v":""},{"$f":"IFERROR(VLOOKUP($D61,料理データ!$A$3:$BK$997,20,FALSE),\"\")","v":""},{"$f":"IFERROR(VLOOKUP($D61,料理データ!$A$3:$BK$997,23,FALSE),\"\")","v":""},{"$f":"IFERROR(VLOOKUP($D61,料理データ!$A$3:$BK$997,26,FALSE),\"\")","v":""},{"$f":"IFERROR(VLOOKUP($D61,料理データ!$A$3:$BK$997,29,FALSE),\"\")","v":""},{"$f":"IFERROR(VLOOKUP($D61,料理データ!$A$3:$BK$997,32,FALSE),\"\")","v":""},{"$f":"IFERROR(VLOOKUP($D61,料理データ!$A$3:$BK$997,35,FALSE),\"\")","v":""},{"$f":"IFERROR(VLOOKUP($D61,料理データ!$A$3:$BK$997,38,FALSE),\"\")","v":""},{"$f":"IFERROR(VLOOKUP($D61,料理データ!$A$3:$BK$997,41,FALSE),\"\")","v":""},{"$f":"IFERROR(VLOOKUP($D61,料理データ!$A$3:$BK$997,44,FALSE),\"\")","v":""},{"$f":"IFERROR(VLOOKUP($D61,料理データ!$A$3:$BK$997,47,FALSE),\"\")","v":""},{"$f":"IFERROR(VLOOKUP($D61,料理データ!$A$3:$BK$997,50,FALSE),\"\")","v":""},{"$f":"IFERROR(VLOOKUP($D61,料理データ!$A$3:$BK$997,53,FALSE),\"\")","v":""},{"$f":"IFERROR(VLOOKUP($D61,料理データ!$A$3:$BK$997,56,FALSE),\"\")","v":""},{"$f":"IFERROR(VLOOKUP($D61,料理データ!$A$3:$BK$997,59,FALSE),\"\")","v":""},{"$f":"IFERROR(VLOOKUP($D61,料理データ!$A$3:$BK$997,62,FALSE),\"\")","v":""},"                   ","                   "]
[null,null,null,{"$f":"+'月間献立（乳児）'!N8","v":0},{"$f":"IFERROR(VLOOKUP($D62,料理データ!$A$3:$BK$997,3,FALSE),\"\")","v":""},{"$f":"IFERROR(VLOOKUP($D62,料理データ!$A$3:$BK$997,5,FALSE),\"\")","v":""},{"$f":"IFERROR(VLOOKUP($D62,料理データ!$A$3:$BK$997,8,FALSE),\"\")","v":""},{"$f":"IFERROR(VLOOKUP($D62,料理データ!$A$3:$BK$997,11,FALSE),\"\")","v":""},{"$f":"IFERROR(VLOOKUP($D62,料理データ!$A$3:$BK$997,14,FALSE),\"\")","v":""},{"$f":"IFERROR(VLOOKUP($D62,料理データ!$A$3:$BK$997,17,FALSE),\"\")","v":""},{"$f":"IFERROR(VLOOKUP($D62,料理データ!$A$3:$BK$997,20,FALSE),\"\")","v":""},{"$f":"IFERROR(VLOOKUP($D62,料理データ!$A$3:$BK$997,23,FALSE),\"\")","v":""},{"$f":"IFERROR(VLOOKUP($D62,料理データ!$A$3:$BK$997,26,FALSE),\"\")","v":""},{"$f":"IFERROR(VLOOKUP($D62,料理データ!$A$3:$BK$997,29,FALSE),\"\")","v":""},{"$f":"IFERROR(VLOOKUP($D62,料理データ!$A$3:$BK$997,32,FALSE),\"\")","v":""},{"$f":"IFERROR(VLOOKUP($D62,料理データ!$A$3:$BK$997,35,FALSE),\"\")","v":""},{"$f":"IFERROR(VLOOKUP($D62,料理データ!$A$3:$BK$997,38,FALSE),\"\")","v":""},{"$f":"IFERROR(VLOOKUP($D62,料理データ!$A$3:$BK$997,41,FALSE),\"\")","v":""},{"$f":"IFERROR(VLOOKUP($D62,料理データ!$A$3:$BK$997,44,FALSE),\"\")","v":""},{"$f":"IFERROR(VLOOKUP($D62,料理データ!$A$3:$BK$997,47,FALSE),\"\")","v":""},{"$f":"IFERROR(VLOOKUP($D62,料理データ!$A$3:$BK$997,50,FALSE),\"\")","v":""},{"$f":"IFERROR(VLOOKUP($D62,料理データ!$A$3:$BK$997,53,FALSE),\"\")","v":""},{"$f":"IFERROR(VLOOKUP($D62,料理データ!$A$3:$BK$997,56,FALSE),\"\")","v":""},{"$f":"IFERROR(VLOOKUP($D62,料理データ!$A$3:$BK$997,59,FALSE),\"\")","v":""},{"$f":"IFERROR(VLOOKUP($D62,料理データ!$A$3:$BK$997,62,FALSE),\"\")","v":""},"                   ",{"$f":"SUBSTITUTE(Z62,\"-\",\"\")","v":"                   "}]
[{"$f":"+'月間献立（幼児）'!A10","v":6},{"$f":"+'月間献立（幼児）'!B10","v":"(木)"},"午前おやつ",{"$f":"+'月間献立（乳児）'!C9","v":0},{"$f":"IFERROR(VLOOKUP($D63,料理データ!$A$3:$BK$997,3,FALSE),\"\")","v":""},{"$f":"IFERROR(VLOOKUP($D63,料理データ!$A$3:$BK$997,5,FALSE),\"\")","v":""},{"$f":"IFERROR(VLOOKUP($D63,料理データ!$A$3:$BK$997,8,FALSE),\"\")","v":""},{"$f":"IFERROR(VLOOKUP($D63,料理データ!$A$3:$BK$997,11,FALSE),\"\")","v":""},{"$f":"IFERROR(VLOOKUP($D63,料理データ!$A$3:$BK$997,14,FALSE),\"\")","v":""},{"$f":"IFERROR(VLOOKUP($D63,料理データ!$A$3:$BK$997,17,FALSE),\"\")","v":""},{"$f":"IFERROR(VLOOKUP($D63,料理データ!$A$3:$BK$997,20,FALSE),\"\")","v":""},{"$f":"IFERROR(VLOOKUP($D63,料理データ!$A$3:$BK$997,23,FALSE),\"\")","v":""},{"$f":"IFERROR(VLOOKUP($D63,料理データ!$A$3:$BK$997,26,FALSE),\"\")","v":""},{"$f":"IFERROR(VLOOKUP($D63,料理データ!$A$3:$BK$997,29,FALSE),\"\")","v":""},{"$f":"IFERROR(VLOOKUP($D63,料理データ!$A$3:$BK$997,32,FALSE),\"\")","v":""},{"$f":"IFERROR(VLOOKUP($D63,料理データ!$A$3:$BK$997,35,FALSE),\"\")","v":""},{"$f":"IFERROR(VLOOKUP($D63,料理データ!$A$3:$BK$997,38,FALSE),\"\")","v":""},{"$f":"IFERROR(VLOOKUP($D63,料理データ!$A$3:$BK$997,41,FALSE),\"\")","v":""},{"$f":"IFERROR(VLOOKUP($D63,料理データ!$A$3:$BK$997,44,FALSE),\"\")","v":""},{"$f":"IFERROR(VLOOKUP($D63,料理データ!$A$3:$BK$997,47,FALSE),\"\")","v":""},{"$f":"IFERROR(VLOOKUP($D63,料理データ!$A$3:$BK$997,50,FALSE),\"\")","v":""},{"$f":"IFERROR(VLOOKUP($D63,料理データ!$A$3:$BK$997,53,FALSE),\"\")","v":""},{"$f":"IFERROR(VLOOKUP($D63,料理データ!$A$3:$BK$997,56,FALSE),\"\")","v":""},{"$f":"IFERROR(VLOOKUP($D63,料理データ!$A$3:$BK$997,59,FALSE),\"\")","v":""},{"$f":"IFERROR(VLOOKUP($D63,料理データ!$A$3:$BK$997,62,FALSE),\"\")","v":""},"                   ",{"$f":"SUBSTITUTE(Z63,\"-\",\" \")","v":"                   "},{"$f":"TRIM(CONCATENATE(AA63,AA64,AA65,\"▲\",AA66,AA67,AA68,AA69,AA70,AA71,\"▲\",AA72,AA73,AA74))","v":"▲ ▲"}]
[null,null,null,{"$f":"+'月間献立（乳児）'!D9","v":0},{"$f":"IFERROR(VLOOKUP($D64,料理データ!$A$3:$BK$997,3,FALSE),\"\")","v":""},{"$f":"IFERROR(VLOOKUP($D64,料理データ!$A$3:$BK$997,5,FALSE),\"\")","v":""},{"$f":"IFERROR(VLOOKUP($D64,料理データ!$A$3:$BK$997,8,FALSE),\"\")","v":""},{"$f":"IFERROR(VLOOKUP($D64,料理データ!$A$3:$BK$997,11,FALSE),\"\")","v":""},{"$f":"IFERROR(VLOOKUP($D64,料理データ!$A$3:$BK$997,14,FALSE),\"\")","v":""},{"$f":"IFERROR(VLOOKUP($D64,料理データ!$A$3:$BK$997,17,FALSE),\"\")","v":""},{"$f":"IFERROR(VLOOKUP($D64,料理データ!$A$3:$BK$997,20,FALSE),\"\")","v":""},{"$f":"IFERROR(VLOOKUP($D64,料理データ!$A$3:$BK$997,23,FALSE),\"\")","v":""},{"$f":"IFERROR(VLOOKUP($D64,料理データ!$A$3:$BK$997,26,FALSE),\"\")","v":""},{"$f":"IFERROR(VLOOKUP($D64,料理データ!$A$3:$BK$997,29,FALSE),\"\")","v":""},{"$f":"IFERROR(VLOOKUP($D64,料理データ!$A$3:$BK$997,32,FALSE),\"\")","v":""},{"$f":"IFERROR(VLOOKUP($D64,料理データ!$A$3:$BK$997,35,FALSE),\"\")","v":""},{"$f":"IFERROR(VLOOKUP($D64,料理データ!$A$3:$BK$997,38,FALSE),\"\")","v":""},{"$f":"IFERROR(VLOOKUP($D64,料理データ!$A$3:$BK$997,41,FALSE),\"\")","v":""},{"$f":"IFERROR(VLOOKUP($D64,料理データ!$A$3:$BK$997,44,FALSE),\"\")","v":""},{"$f":"IFERROR(VLOOKUP($D64,料理データ!$A$3:$BK$997,47,FALSE),\"\")","v":""},{"$f":"IFERROR(VLOOKUP($D64,料理データ!$A$3:$BK$997,50,FALSE),\"\")","v":""},{"$f":"IFERROR(VLOOKUP($D64,料理データ!$A$3:$BK$997,53,FALSE),\"\")","v":""},{"$f":"IFERROR(VLOOKUP($D64,料理データ!$A$3:$BK$997,56,FALSE),\"\")","v":""},{"$f":"IFERROR(VLOOKUP($D64,料理データ!$A$3:$BK$997,59,FALSE),\"\")","v":""},{"$f":"IFERROR(VLOOKUP($D64,料理データ!$A$3:$BK$997,62,FALSE),\"\")","v":""},"                   ",{"$f":"SUBSTITUTE(Z64,\"-\",\" \")","v":"                   "}]
[null,null,null,{"$f":"+'月間献立（乳児）'!E9","v":0},{"$f":"IFERROR(VLOOKUP($D65,料理データ!$A$3:$BK$997,3,FALSE),\"\")","v":""},{"$f":"IFERROR(VLOOKUP($D65,料理データ!$A$3:$BK$997,5,FALSE),\"\")","v":""},{"$f":"IFERROR(VLOOKUP($D65,料理データ!$A$3:$BK$997,8,FALSE),\"\")","v":""},{"$f":"IFERROR(VLOOKUP($D65,料理データ!$A$3:$BK$997,11,FALSE),\"\")","v":""},{"$f":"IFERROR(VLOOKUP($D65,料理データ!$A$3:$BK$997,14,FALSE),\"\")","v":""},{"$f":"IFERROR(VLOOKUP($D65,料理データ!$A$3:$BK$997,17,FALSE),\"\")","v":""},{"$f":"IFERROR(VLOOKUP($D65,料理データ!$A$3:$BK$997,20,FALSE),\"\")","v":""},{"$f":"IFERROR(VLOOKUP($D65,料理データ!$A$3:$BK$997,23,FALSE),\"\")","v":""},{"$f":"IFERROR(VLOOKUP($D65,料理データ!$A$3:$BK$997,26,FALSE),\"\")","v":""},{"$f":"IFERROR(VLOOKUP($D65,料理データ!$A$3:$BK$997,29,FALSE),\"\")","v":""},{"$f":"IFERROR(VLOOKUP($D65,料理データ!$A$3:$BK$997,32,FALSE),\"\")","v":""},{"$f":"IFERROR(VLOOKUP($D65,料理データ!$A$3:$BK$997,35,FALSE),\"\")","v":""},{"$f":"IFERROR(VLOOKUP($D65,料理データ!$A$3:$BK$997,38,FALSE),\"\")","v":""},{"$f":"IFERROR(VLOOKUP($D65,料理データ!$A$3:$BK$997,41,FALSE),\"\")","v":""},{"$f":"IFERROR(VLOOKUP($D65,料理データ!$A$3:$BK$997,44,FALSE),\"\")","v":""},{"$f":"IFERROR(VLOOKUP($D65,料理データ!$A$3:$BK$997,47,FALSE),\"\")","v":""},{"$f":"IFERROR(VLOOKUP($D65,料理データ!$A$3:$BK$997,50,FALSE),\"\")","v":""},{"$f":"IFERROR(VLOOKUP($D65,料理データ!$A$3:$BK$997,53,FALSE),\"\")","v":""},{"$f":"IFERROR(VLOOKUP($D65,料理データ!$A$3:$BK$997,56,FALSE),\"\")","v":""},{"$f":"IFERROR(VLOOKUP($D65,料理データ!$A$3:$BK$997,59,FALSE),\"\")","v":""},{"$f":"IFERROR(VLOOKUP($D65,料理データ!$A$3:$BK$997,62,FALSE),\"\")","v":""},"                   ",{"$f":"SUBSTITUTE(Z65,\"-\",\" \")","v":"                   "}]
[null,null,"昼食",{"$f":"+'月間献立（乳児）'!F9","v":0},{"$f":"IFERROR(VLOOKUP($D66,料理データ!$A$3:$BK$997,3,FALSE),\"\")","v":""},{"$f":"IFERROR(VLOOKUP($D66,料理データ!$A$3:$BK$997,5,FALSE),\"\")","v":""},{"$f":"IFERROR(VLOOKUP($D66,料理データ!$A$3:$BK$997,8,FALSE),\"\")","v":""},{"$f":"IFERROR(VLOOKUP($D66,料理データ!$A$3:$BK$997,11,FALSE),\"\")","v":""},{"$f":"IFERROR(VLOOKUP($D66,料理データ!$A$3:$BK$997,14,FALSE),\"\")","v":""},{"$f":"IFERROR(VLOOKUP($D66,料理データ!$A$3:$BK$997,17,FALSE),\"\")","v":""},{"$f":"IFERROR(VLOOKUP($D66,料理データ!$A$3:$BK$997,20,FALSE),\"\")","v":""},{"$f":"IFERROR(VLOOKUP($D66,料理データ!$A$3:$BK$997,23,FALSE),\"\")","v":""},{"$f":"IFERROR(VLOOKUP($D66,料理データ!$A$3:$BK$997,26,FALSE),\"\")","v":""},{"$f":"IFERROR(VLOOKUP($D66,料理データ!$A$3:$BK$997,29,FALSE),\"\")","v":""},{"$f":"IFERROR(VLOOKUP($D66,料理データ!$A$3:$BK$997,32,FALSE),\"\")","v":""},{"$f":"IFERROR(VLOOKUP($D66,料理データ!$A$3:$BK$997,35,FALSE),\"\")","v":""},{"$f":"IFERROR(VLOOKUP($D66,料理データ!$A$3:$BK$997,38,FALSE),\"\")","v":""},{"$f":"IFERROR(VLOOKUP($D66,料理データ!$A$3:$BK$997,41,FALSE),\"\")","v":""},{"$f":"IFERROR(VLOOKUP($D66,料理データ!$A$3:$BK$997,44,FALSE),\"\")","v":""},{"$f":"IFERROR(VLOOKUP($D66,料理データ!$A$3:$BK$997,47,FALSE),\"\")","v":""},{"$f":"IFERROR(VLOOKUP($D66,料理データ!$A$3:$BK$997,50,FALSE),\"\")","v":""},{"$f":"IFERROR(VLOOKUP($D66,料理データ!$A$3:$BK$997,53,FALSE),\"\")","v":""},{"$f":"IFERROR(VLOOKUP($D66,料理データ!$A$3:$BK$997,56,FALSE),\"\")","v":""},{"$f":"IFERROR(VLOOKUP($D66,料理データ!$A$3:$BK$997,59,FALSE),\"\")","v":""},{"$f":"IFERROR(VLOOKUP($D66,料理データ!$A$3:$BK$997,62,FALSE),\"\")","v":""},"                   ","                   "]
[null,null,null,{"$f":"+'月間献立（乳児）'!G9","v":0},{"$f":"IFERROR(VLOOKUP($D67,料理データ!$A$3:$BK$997,3,FALSE),\"\")","v":""},{"$f":"IFERROR(VLOOKUP($D67,料理データ!$A$3:$BK$997,5,FALSE),\"\")","v":""},{"$f":"IFERROR(VLOOKUP($D67,料理データ!$A$3:$BK$997,8,FALSE),\"\")","v":""},{"$f":"IFERROR(VLOOKUP($D67,料理データ!$A$3:$BK$997,11,FALSE),\"\")","v":""},{"$f":"IFERROR(VLOOKUP($D67,料理データ!$A$3:$BK$997,14,FALSE),\"\")","v":""},{"$f":"IFERROR(VLOOKUP($D67,料理データ!$A$3:$BK$997,17,FALSE),\"\")","v":""},{"$f":"IFERROR(VLOOKUP($D67,料理データ!$A$3:$BK$997,20,FALSE),\"\")","v":""},{"$f":"IFERROR(VLOOKUP($D67,料理データ!$A$3:$BK$997,23,FALSE),\"\")","v":""},{"$f":"IFERROR(VLOOKUP($D67,料理データ!$A$3:$BK$997,26,FALSE),\"\")","v":""},{"$f":"IFERROR(VLOOKUP($D67,料理データ!$A$3:$BK$997,29,FALSE),\"\")","v":""},{"$f":"IFERROR(VLOOKUP($D67,料理データ!$A$3:$BK$997,32,FALSE),\"\")","v":""},{"$f":"IFERROR(VLOOKUP($D67,料理データ!$A$3:$BK$997,35,FALSE),\"\")","v":""},{"$f":"IFERROR(VLOOKUP($D67,料理データ!$A$3:$BK$997,38,FALSE),\"\")","v":""},{"$f":"IFERROR(VLOOKUP($D67,料理データ!$A$3:$BK$997,41,FALSE),\"\")","v":""},{"$f":"IFERROR(VLOOKUP($D67,料理データ!$A$3:$BK$997,44,FALSE),\"\")","v":""},{"$f":"IFERROR(VLOOKUP($D67,料理データ!$A$3:$BK$997,47,FALSE),\"\")","v":""},{"$f":"IFERROR(VLOOKUP($D67,料理データ!$A$3:$BK$997,50,FALSE),\"\")","v":""},{"$f":"IFERROR(VLOOKUP($D67,料理データ!$A$3:$BK$997,53,FALSE),\"\")","v":""},{"$f":"IFERROR(VLOOKUP($D67,料理データ!$A$3:$BK$997,56,FALSE),\"\")","v":""},{"$f":"IFERROR(VLOOKUP($D67,料理データ!$A$3:$BK$997,59,FALSE),\"\")","v":""},{"$f":"IFERROR(VLOOKUP($D67,料理データ!$A$3:$BK$997,62,FALSE),\"\")","v":""},{"$f":"CONCATENATE($F67,\" \",$G67,\" \",$H67,\" \",$I67,\" \",$J67,\" \",$K67,\" \",$L67,\" \",$M67,\" \",$N67,\" \",$O67,\" \",$P67,\" \",$Q67,\" \",$R67,\" \",$S67,\" \",$T67,\" \",$U67,\" \",$V67,\" \",$W67,\" \",$X67,\" \",$Y67)","v":"                   "},"                   "]
[null,null,null,{"$f":"+'月間献立（乳児）'!H9","v":0},{"$f":"IFERROR(VLOOKUP($D68,料理データ!$A$3:$BK$997,3,FALSE),\"\")","v":""},{"$f":"IFERROR(VLOOKUP($D68,料理データ!$A$3:$BK$997,5,FALSE),\"\")","v":""},{"$f":"IFERROR(VLOOKUP($D68,料理データ!$A$3:$BK$997,8,FALSE),\"\")","v":""},{"$f":"IFERROR(VLOOKUP($D68,料理データ!$A$3:$BK$997,11,FALSE),\"\")","v":""},{"$f":"IFERROR(VLOOKUP($D68,料理データ!$A$3:$BK$997,14,FALSE),\"\")","v":""},{"$f":"IFERROR(VLOOKUP($D68,料理データ!$A$3:$BK$997,17,FALSE),\"\")","v":""},{"$f":"IFERROR(VLOOKUP($D68,料理データ!$A$3:$BK$997,20,FALSE),\"\")","v":""},{"$f":"IFERROR(VLOOKUP($D68,料理データ!$A$3:$BK$997,23,FALSE),\"\")","v":""},{"$f":"IFERROR(VLOOKUP($D68,料理データ!$A$3:$BK$997,26,FALSE),\"\")","v":""},{"$f":"IFERROR(VLOOKUP($D68,料理データ!$A$3:$BK$997,29,FALSE),\"\")","v":""},{"$f":"IFERROR(VLOOKUP($D68,料理データ!$A$3:$BK$997,32,FALSE),\"\")","v":""},{"$f":"IFERROR(VLOOKUP($D68,料理データ!$A$3:$BK$997,35,FALSE),\"\")","v":""},{"$f":"IFERROR(VLOOKUP($D68,料理データ!$A$3:$BK$997,38,FALSE),\"\")","v":""},{"$f":"IFERROR(VLOOKUP($D68,料理データ!$A$3:$BK$997,41,FALSE),\"\")","v":""},{"$f":"IFERROR(VLOOKUP($D68,料理データ!$A$3:$BK$997,44,FALSE),\"\")","v":""},{"$f":"IFERROR(VLOOKUP($D68,料理データ!$A$3:$BK$997,47,FALSE),\"\")","v":""},{"$f":"IFERROR(VLOOKUP($D68,料理データ!$A$3:$BK$997,50,FALSE),\"\")","v":""},{"$f":"IFERROR(VLOOKUP($D68,料理データ!$A$3:$BK$997,53,FALSE),\"\")","v":""},{"$f":"IFERROR(VLOOKUP($D68,料理データ!$A$3:$BK$997,56,FALSE),\"\")","v":""},{"$f":"IFERROR(VLOOKUP($D68,料理データ!$A$3:$BK$997,59,FALSE),\"\")","v":""},{"$f":"IFERROR(VLOOKUP($D68,料理データ!$A$3:$BK$997,62,FALSE),\"\")","v":""},"                   ","                   "]
[null,null,null,{"$f":"+'月間献立（乳児）'!I9","v":0},{"$f":"IFERROR(VLOOKUP($D69,料理データ!$A$3:$BK$997,3,FALSE),\"\")","v":""},{"$f":"IFERROR(VLOOKUP($D69,料理データ!$A$3:$BK$997,5,FALSE),\"\")","v":""},{"$f":"IFERROR(VLOOKUP($D69,料理データ!$A$3:$BK$997,8,FALSE),\"\")","v":""},{"$f":"IFERROR(VLOOKUP($D69,料理データ!$A$3:$BK$997,11,FALSE),\"\")","v":""},{"$f":"IFERROR(VLOOKUP($D69,料理データ!$A$3:$BK$997,14,FALSE),\"\")","v":""},{"$f":"IFERROR(VLOOKUP($D69,料理データ!$A$3:$BK$997,17,FALSE),\"\")","v":""},{"$f":"IFERROR(VLOOKUP($D69,料理データ!$A$3:$BK$997,20,FALSE),\"\")","v":""},{"$f":"IFERROR(VLOOKUP($D69,料理データ!$A$3:$BK$997,23,FALSE),\"\")","v":""},{"$f":"IFERROR(VLOOKUP($D69,料理データ!$A$3:$BK$997,26,FALSE),\"\")","v":""},{"$f":"IFERROR(VLOOKUP($D69,料理データ!$A$3:$BK$997,29,FALSE),\"\")","v":""},{"$f":"IFERROR(VLOOKUP($D69,料理データ!$A$3:$BK$997,32,FALSE),\"\")","v":""},{"$f":"IFERROR(VLOOKUP($D69,料理データ!$A$3:$BK$997,35,FALSE),\"\")","v":""},{"$f":"IFERROR(VLOOKUP($D69,料理データ!$A$3:$BK$997,38,FALSE),\"\")","v":""},{"$f":"IFERROR(VLOOKUP($D69,料理データ!$A$3:$BK$997,41,FALSE),\"\")","v":""},{"$f":"IFERROR(VLOOKUP($D69,料理データ!$A$3:$BK$997,44,FALSE),\"\")","v":""},{"$f":"IFERROR(VLOOKUP($D69,料理データ!$A$3:$BK$997,47,FALSE),\"\")","v":""},{"$f":"IFERROR(VLOOKUP($D69,料理データ!$A$3:$BK$997,50,FALSE),\"\")","v":""},{"$f":"IFERROR(VLOOKUP($D69,料理データ!$A$3:$BK$997,53,FALSE),\"\")","v":""},{"$f":"IFERROR(VLOOKUP($D69,料理データ!$A$3:$BK$997,56,FALSE),\"\")","v":""},{"$f":"IFERROR(VLOOKUP($D69,料理データ!$A$3:$BK$997,59,FALSE),\"\")","v":""},{"$f":"IFERROR(VLOOKUP($D69,料理データ!$A$3:$BK$997,62,FALSE),\"\")","v":""},"                   ","                   "]
[null,null,null,{"$f":"+'月間献立（乳児）'!J9","v":0},{"$f":"IFERROR(VLOOKUP($D70,料理データ!$A$3:$BK$997,3,FALSE),\"\")","v":""},{"$f":"IFERROR(VLOOKUP($D70,料理データ!$A$3:$BK$997,5,FALSE),\"\")","v":""},{"$f":"IFERROR(VLOOKUP($D70,料理データ!$A$3:$BK$997,8,FALSE),\"\")","v":""},{"$f":"IFERROR(VLOOKUP($D70,料理データ!$A$3:$BK$997,11,FALSE),\"\")","v":""},{"$f":"IFERROR(VLOOKUP($D70,料理データ!$A$3:$BK$997,14,FALSE),\"\")","v":""},{"$f":"IFERROR(VLOOKUP($D70,料理データ!$A$3:$BK$997,17,FALSE),\"\")","v":""},{"$f":"IFERROR(VLOOKUP($D70,料理データ!$A$3:$BK$997,20,FALSE),\"\")","v":""},{"$f":"IFERROR(VLOOKUP($D70,料理データ!$A$3:$BK$997,23,FALSE),\"\")","v":""},{"$f":"IFERROR(VLOOKUP($D70,料理データ!$A$3:$BK$997,26,FALSE),\"\")","v":""},{"$f":"IFERROR(VLOOKUP($D70,料理データ!$A$3:$BK$997,29,FALSE),\"\")","v":""},{"$f":"IFERROR(VLOOKUP($D70,料理データ!$A$3:$BK$997,32,FALSE),\"\")","v":""},{"$f":"IFERROR(VLOOKUP($D70,料理データ!$A$3:$BK$997,35,FALSE),\"\")","v":""},{"$f":"IFERROR(VLOOKUP($D70,料理データ!$A$3:$BK$997,38,FALSE),\"\")","v":""},{"$f":"IFERROR(VLOOKUP($D70,料理データ!$A$3:$BK$997,41,FALSE),\"\")","v":""},{"$f":"IFERROR(VLOOKUP($D70,料理データ!$A$3:$BK$997,44,FALSE),\"\")","v":""},{"$f":"IFERROR(VLOOKUP($D70,料理データ!$A$3:$BK$997,47,FALSE),\"\")","v":""},{"$f":"IFERROR(VLOOKUP($D70,料理データ!$A$3:$BK$997,50,FALSE),\"\")","v":""},{"$f":"IFERROR(VLOOKUP($D70,料理データ!$A$3:$BK$997,53,FALSE),\"\")","v":""},{"$f":"IFERROR(VLOOKUP($D70,料理データ!$A$3:$BK$997,56,FALSE),\"\")","v":""},{"$f":"IFERROR(VLOOKUP($D70,料理データ!$A$3:$BK$997,59,FALSE),\"\")","v":""},{"$f":"IFERROR(VLOOKUP($D70,料理データ!$A$3:$BK$997,62,FALSE),\"\")","v":""},"                   ","                   "]
[null,null,null,{"$f":"+'月間献立（乳児）'!K9","v":0},{"$f":"IFERROR(VLOOKUP($D71,料理データ!$A$3:$BK$997,3,FALSE),\"\")","v":""},{"$f":"IFERROR(VLOOKUP($D71,料理データ!$A$3:$BK$997,5,FALSE),\"\")","v":""},{"$f":"IFERROR(VLOOKUP($D71,料理データ!$A$3:$BK$997,8,FALSE),\"\")","v":""},{"$f":"IFERROR(VLOOKUP($D71,料理データ!$A$3:$BK$997,11,FALSE),\"\")","v":""},{"$f":"IFERROR(VLOOKUP($D71,料理データ!$A$3:$BK$997,14,FALSE),\"\")","v":""},{"$f":"IFERROR(VLOOKUP($D71,料理データ!$A$3:$BK$997,17,FALSE),\"\")","v":""},{"$f":"IFERROR(VLOOKUP($D71,料理データ!$A$3:$BK$997,20,FALSE),\"\")","v":""},{"$f":"IFERROR(VLOOKUP($D71,料理データ!$A$3:$BK$997,23,FALSE),\"\")","v":""},{"$f":"IFERROR(VLOOKUP($D71,料理データ!$A$3:$BK$997,26,FALSE),\"\")","v":""},{"$f":"IFERROR(VLOOKUP($D71,料理データ!$A$3:$BK$997,29,FALSE),\"\")","v":""},{"$f":"IFERROR(VLOOKUP($D71,料理データ!$A$3:$BK$997,32,FALSE),\"\")","v":""},{"$f":"IFERROR(VLOOKUP($D71,料理データ!$A$3:$BK$997,35,FALSE),\"\")","v":""},{"$f":"IFERROR(VLOOKUP($D71,料理データ!$A$3:$BK$997,38,FALSE),\"\")","v":""},{"$f":"IFERROR(VLOOKUP($D71,料理データ!$A$3:$BK$997,41,FALSE),\"\")","v":""},{"$f":"IFERROR(VLOOKUP($D71,料理データ!$A$3:$BK$997,44,FALSE),\"\")","v":""},{"$f":"IFERROR(VLOOKUP($D71,料理データ!$A$3:$BK$997,47,FALSE),\"\")","v":""},{"$f":"IFERROR(VLOOKUP($D71,料理データ!$A$3:$BK$997,50,FALSE),\"\")","v":""},{"$f":"IFERROR(VLOOKUP($D71,料理データ!$A$3:$BK$997,53,FALSE),\"\")","v":""},{"$f":"IFERROR(VLOOKUP($D71,料理データ!$A$3:$BK$997,56,FALSE),\"\")","v":""},{"$f":"IFERROR(VLOOKUP($D71,料理データ!$A$3:$BK$997,59,FALSE),\"\")","v":""},{"$f":"IFERROR(VLOOKUP($D71,料理データ!$A$3:$BK$997,62,FALSE),\"\")","v":""},"                   ","                   "]
[null,null,"午後おやつ",{"$f":"+'月間献立（乳児）'!L9","v":0},{"$f":"IFERROR(VLOOKUP($D72,料理データ!$A$3:$BK$997,3,FALSE),\"\")","v":""},{"$f":"IFERROR(VLOOKUP($D72,料理データ!$A$3:$BK$997,5,FALSE),\"\")","v":""},{"$f":"IFERROR(VLOOKUP($D72,料理データ!$A$3:$BK$997,8,FALSE),\"\")","v":""},{"$f":"IFERROR(VLOOKUP($D72,料理データ!$A$3:$BK$997,11,FALSE),\"\")","v":""},{"$f":"IFERROR(VLOOKUP($D72,料理データ!$A$3:$BK$997,14,FALSE),\"\")","v":""},{"$f":"IFERROR(VLOOKUP($D72,料理データ!$A$3:$BK$997,17,FALSE),\"\")","v":""},{"$f":"IFERROR(VLOOKUP($D72,料理データ!$A$3:$BK$997,20,FALSE),\"\")","v":""},{"$f":"IFERROR(VLOOKUP($D72,料理データ!$A$3:$BK$997,23,FALSE),\"\")","v":""},{"$f":"IFERROR(VLOOKUP($D72,料理データ!$A$3:$BK$997,26,FALSE),\"\")","v":""},{"$f":"IFERROR(VLOOKUP($D72,料理データ!$A$3:$BK$997,29,FALSE),\"\")","v":""},{"$f":"IFERROR(VLOOKUP($D72,料理データ!$A$3:$BK$997,32,FALSE),\"\")","v":""},{"$f":"IFERROR(VLOOKUP($D72,料理データ!$A$3:$BK$997,35,FALSE),\"\")","v":""},{"$f":"IFERROR(VLOOKUP($D72,料理データ!$A$3:$BK$997,38,FALSE),\"\")","v":""},{"$f":"IFERROR(VLOOKUP($D72,料理データ!$A$3:$BK$997,41,FALSE),\"\")","v":""},{"$f":"IFERROR(VLOOKUP($D72,料理データ!$A$3:$BK$997,44,FALSE),\"\")","v":""},{"$f":"IFERROR(VLOOKUP($D72,料理データ!$A$3:$BK$997,47,FALSE),\"\")","v":""},{"$f":"IFERROR(VLOOKUP($D72,料理データ!$A$3:$BK$997,50,FALSE),\"\")","v":""},{"$f":"IFERROR(VLOOKUP($D72,料理データ!$A$3:$BK$997,53,FALSE),\"\")","v":""},{"$f":"IFERROR(VLOOKUP($D72,料理データ!$A$3:$BK$997,56,FALSE),\"\")","v":""},{"$f":"IFERROR(VLOOKUP($D72,料理データ!$A$3:$BK$997,59,FALSE),\"\")","v":""},{"$f":"IFERROR(VLOOKUP($D72,料理データ!$A$3:$BK$997,62,FALSE),\"\")","v":""},"                   ","                   "]
[null,null,null,{"$f":"+'月間献立（乳児）'!M9","v":0},{"$f":"IFERROR(VLOOKUP($D73,料理データ!$A$3:$BK$997,3,FALSE),\"\")","v":""},{"$f":"IFERROR(VLOOKUP($D73,料理データ!$A$3:$BK$997,5,FALSE),\"\")","v":""},{"$f":"IFERROR(VLOOKUP($D73,料理データ!$A$3:$BK$997,8,FALSE),\"\")","v":""},{"$f":"IFERROR(VLOOKUP($D73,料理データ!$A$3:$BK$997,11,FALSE),\"\")","v":""},{"$f":"IFERROR(VLOOKUP($D73,料理データ!$A$3:$BK$997,14,FALSE),\"\")","v":""},{"$f":"IFERROR(VLOOKUP($D73,料理データ!$A$3:$BK$997,17,FALSE),\"\")","v":""},{"$f":"IFERROR(VLOOKUP($D73,料理データ!$A$3:$BK$997,20,FALSE),\"\")","v":""},{"$f":"IFERROR(VLOOKUP($D73,料理データ!$A$3:$BK$997,23,FALSE),\"\")","v":""},{"$f":"IFERROR(VLOOKUP($D73,料理データ!$A$3:$BK$997,26,FALSE),\"\")","v":""},{"$f":"IFERROR(VLOOKUP($D73,料理データ!$A$3:$BK$997,29,FALSE),\"\")","v":""},{"$f":"IFERROR(VLOOKUP($D73,料理データ!$A$3:$BK$997,32,FALSE),\"\")","v":""},{"$f":"IFERROR(VLOOKUP($D73,料理データ!$A$3:$BK$997,35,FALSE),\"\")","v":""},{"$f":"IFERROR(VLOOKUP($D73,料理データ!$A$3:$BK$997,38,FALSE),\"\")","v":""},{"$f":"IFERROR(VLOOKUP($D73,料理データ!$A$3:$BK$997,41,FALSE),\"\")","v":""},{"$f":"IFERROR(VLOOKUP($D73,料理データ!$A$3:$BK$997,44,FALSE),\"\")","v":""},{"$f":"IFERROR(VLOOKUP($D73,料理データ!$A$3:$BK$997,47,FALSE),\"\")","v":""},{"$f":"IFERROR(VLOOKUP($D73,料理データ!$A$3:$BK$997,50,FALSE),\"\")","v":""},{"$f":"IFERROR(VLOOKUP($D73,料理データ!$A$3:$BK$997,53,FALSE),\"\")","v":""},{"$f":"IFERROR(VLOOKUP($D73,料理データ!$A$3:$BK$997,56,FALSE),\"\")","v":""},{"$f":"IFERROR(VLOOKUP($D73,料理データ!$A$3:$BK$997,59,FALSE),\"\")","v":""},{"$f":"IFERROR(VLOOKUP($D73,料理データ!$A$3:$BK$997,62,FALSE),\"\")","v":""},"                   ","                   "]
[null,null,null,{"$f":"+'月間献立（乳児）'!N9","v":0},{"$f":"IFERROR(VLOOKUP($D74,料理データ!$A$3:$BK$997,3,FALSE),\"\")","v":""},{"$f":"IFERROR(VLOOKUP($D74,料理データ!$A$3:$BK$997,5,FALSE),\"\")","v":""},{"$f":"IFERROR(VLOOKUP($D74,料理データ!$A$3:$BK$997,8,FALSE),\"\")","v":""},{"$f":"IFERROR(VLOOKUP($D74,料理データ!$A$3:$BK$997,11,FALSE),\"\")","v":""},{"$f":"IFERROR(VLOOKUP($D74,料理データ!$A$3:$BK$997,14,FALSE),\"\")","v":""},{"$f":"IFERROR(VLOOKUP($D74,料理データ!$A$3:$BK$997,17,FALSE),\"\")","v":""},{"$f":"IFERROR(VLOOKUP($D74,料理データ!$A$3:$BK$997,20,FALSE),\"\")","v":""},{"$f":"IFERROR(VLOOKUP($D74,料理データ!$A$3:$BK$997,23,FALSE),\"\")","v":""},{"$f":"IFERROR(VLOOKUP($D74,料理データ!$A$3:$BK$997,26,FALSE),\"\")","v":""},{"$f":"IFERROR(VLOOKUP($D74,料理データ!$A$3:$BK$997,29,FALSE),\"\")","v":""},{"$f":"IFERROR(VLOOKUP($D74,料理データ!$A$3:$BK$997,32,FALSE),\"\")","v":""},{"$f":"IFERROR(VLOOKUP($D74,料理データ!$A$3:$BK$997,35,FALSE),\"\")","v":""},{"$f":"IFERROR(VLOOKUP($D74,料理データ!$A$3:$BK$997,38,FALSE),\"\")","v":""},{"$f":"IFERROR(VLOOKUP($D74,料理データ!$A$3:$BK$997,41,FALSE),\"\")","v":""},{"$f":"IFERROR(VLOOKUP($D74,料理データ!$A$3:$BK$997,44,FALSE),\"\")","v":""},{"$f":"IFERROR(VLOOKUP($D74,料理データ!$A$3:$BK$997,47,FALSE),\"\")","v":""},{"$f":"IFERROR(VLOOKUP($D74,料理データ!$A$3:$BK$997,50,FALSE),\"\")","v":""},{"$f":"IFERROR(VLOOKUP($D74,料理データ!$A$3:$BK$997,53,FALSE),\"\")","v":""},{"$f":"IFERROR(VLOOKUP($D74,料理データ!$A$3:$BK$997,56,FALSE),\"\")","v":""},{"$f":"IFERROR(VLOOKUP($D74,料理データ!$A$3:$BK$997,59,FALSE),\"\")","v":""},{"$f":"IFERROR(VLOOKUP($D74,料理データ!$A$3:$BK$997,62,FALSE),\"\")","v":""},{"$f":"CONCATENATE($F74,\" \",$G74,\" \",$H74,\" \",$I74,\" \",$J74,\" \",$K74,\" \",$L74,\" \",$M74,\" \",$N74,\" \",$O74,\" \",$P74,\" \",$Q74,\" \",$R74,\" \",$S74,\" \",$T74,\" \",$U74,\" \",$V74,\" \",$W74,\" \",$X74,\" \",$Y74)","v":"                   "},{"$f":"SUBSTITUTE(Z74,\"-\",\"\")","v":"                   "}]
[{"$f":"+'月間献立（幼児）'!A11","v":7},{"$f":"+'月間献立（幼児）'!B11","v":"(金)"},"午前おやつ",{"$f":"+'月間献立（乳児）'!C10","v":0},{"$f":"IFERROR(VLOOKUP($D75,料理データ!$A$3:$BK$997,3,FALSE),\"\")","v":""},{"$f":"IFERROR(VLOOKUP($D75,料理データ!$A$3:$BK$997,5,FALSE),\"\")","v":""},{"$f":"IFERROR(VLOOKUP($D75,料理データ!$A$3:$BK$997,8,FALSE),\"\")","v":""},{"$f":"IFERROR(VLOOKUP($D75,料理データ!$A$3:$BK$997,11,FALSE),\"\")","v":""},{"$f":"IFERROR(VLOOKUP($D75,料理データ!$A$3:$BK$997,14,FALSE),\"\")","v":""},{"$f":"IFERROR(VLOOKUP($D75,料理データ!$A$3:$BK$997,17,FALSE),\"\")","v":""},{"$f":"IFERROR(VLOOKUP($D75,料理データ!$A$3:$BK$997,20,FALSE),\"\")","v":""},{"$f":"IFERROR(VLOOKUP($D75,料理データ!$A$3:$BK$997,23,FALSE),\"\")","v":""},{"$f":"IFERROR(VLOOKUP($D75,料理データ!$A$3:$BK$997,26,FALSE),\"\")","v":""},{"$f":"IFERROR(VLOOKUP($D75,料理データ!$A$3:$BK$997,29,FALSE),\"\")","v":""},{"$f":"IFERROR(VLOOKUP($D75,料理データ!$A$3:$BK$997,32,FALSE),\"\")","v":""},{"$f":"IFERROR(VLOOKUP($D75,料理データ!$A$3:$BK$997,35,FALSE),\"\")","v":""},{"$f":"IFERROR(VLOOKUP($D75,料理データ!$A$3:$BK$997,38,FALSE),\"\")","v":""},{"$f":"IFERROR(VLOOKUP($D75,料理データ!$A$3:$BK$997,41,FALSE),\"\")","v":""},{"$f":"IFERROR(VLOOKUP($D75,料理データ!$A$3:$BK$997,44,FALSE),\"\")","v":""},{"$f":"IFERROR(VLOOKUP($D75,料理データ!$A$3:$BK$997,47,FALSE),\"\")","v":""},{"$f":"IFERROR(VLOOKUP($D75,料理データ!$A$3:$BK$997,50,FALSE),\"\")","v":""},{"$f":"IFERROR(VLOOKUP($D75,料理データ!$A$3:$BK$997,53,FALSE),\"\")","v":""},{"$f":"IFERROR(VLOOKUP($D75,料理データ!$A$3:$BK$997,56,FALSE),\"\")","v":""},{"$f":"IFERROR(VLOOKUP($D75,料理データ!$A$3:$BK$997,59,FALSE),\"\")","v":""},{"$f":"IFERROR(VLOOKUP($D75,料理データ!$A$3:$BK$997,62,FALSE),\"\")","v":""},"                   ",{"$f":"SUBSTITUTE(Z75,\"-\",\" \")","v":"                   "},{"$f":"TRIM(CONCATENATE(AA75,AA76,AA77,\"▲\",AA78,AA79,AA80,AA81,AA82,AA83,\"▲\",AA84,AA85,AA86))","v":"▲ ▲"}]
[null,null,null,{"$f":"+'月間献立（乳児）'!D10","v":0},{"$f":"IFERROR(VLOOKUP($D76,料理データ!$A$3:$BK$997,3,FALSE),\"\")","v":""},{"$f":"IFERROR(VLOOKUP($D76,料理データ!$A$3:$BK$997,5,FALSE),\"\")","v":""},{"$f":"IFERROR(VLOOKUP($D76,料理データ!$A$3:$BK$997,8,FALSE),\"\")","v":""},{"$f":"IFERROR(VLOOKUP($D76,料理データ!$A$3:$BK$997,11,FALSE),\"\")","v":""},{"$f":"IFERROR(VLOOKUP($D76,料理データ!$A$3:$BK$997,14,FALSE),\"\")","v":""},{"$f":"IFERROR(VLOOKUP($D76,料理データ!$A$3:$BK$997,17,FALSE),\"\")","v":""},{"$f":"IFERROR(VLOOKUP($D76,料理データ!$A$3:$BK$997,20,FALSE),\"\")","v":""},{"$f":"IFERROR(VLOOKUP($D76,料理データ!$A$3:$BK$997,23,FALSE),\"\")","v":""},{"$f":"IFERROR(VLOOKUP($D76,料理データ!$A$3:$BK$997,26,FALSE),\"\")","v":""},{"$f":"IFERROR(VLOOKUP($D76,料理データ!$A$3:$BK$997,29,FALSE),\"\")","v":""},{"$f":"IFERROR(VLOOKUP($D76,料理データ!$A$3:$BK$997,32,FALSE),\"\")","v":""},{"$f":"IFERROR(VLOOKUP($D76,料理データ!$A$3:$BK$997,35,FALSE),\"\")","v":""},{"$f":"IFERROR(VLOOKUP($D76,料理データ!$A$3:$BK$997,38,FALSE),\"\")","v":""},{"$f":"IFERROR(VLOOKUP($D76,料理データ!$A$3:$BK$997,41,FALSE),\"\")","v":""},{"$f":"IFERROR(VLOOKUP($D76,料理データ!$A$3:$BK$997,44,FALSE),\"\")","v":""},{"$f":"IFERROR(VLOOKUP($D76,料理データ!$A$3:$BK$997,47,FALSE),\"\")","v":""},{"$f":"IFERROR(VLOOKUP($D76,料理データ!$A$3:$BK$997,50,FALSE),\"\")","v":""},{"$f":"IFERROR(VLOOKUP($D76,料理データ!$A$3:$BK$997,53,FALSE),\"\")","v":""},{"$f":"IFERROR(VLOOKUP($D76,料理データ!$A$3:$BK$997,56,FALSE),\"\")","v":""},{"$f":"IFERROR(VLOOKUP($D76,料理データ!$A$3:$BK$997,59,FALSE),\"\")","v":""},{"$f":"IFERROR(VLOOKUP($D76,料理データ!$A$3:$BK$997,62,FALSE),\"\")","v":""},"                   ",{"$f":"SUBSTITUTE(Z76,\"-\",\" \")","v":"                   "}]
[null,null,null,{"$f":"+'月間献立（乳児）'!E10","v":0},{"$f":"IFERROR(VLOOKUP($D77,料理データ!$A$3:$BK$997,3,FALSE),\"\")","v":""},{"$f":"IFERROR(VLOOKUP($D77,料理データ!$A$3:$BK$997,5,FALSE),\"\")","v":""},{"$f":"IFERROR(VLOOKUP($D77,料理データ!$A$3:$BK$997,8,FALSE),\"\")","v":""},{"$f":"IFERROR(VLOOKUP($D77,料理データ!$A$3:$BK$997,11,FALSE),\"\")","v":""},{"$f":"IFERROR(VLOOKUP($D77,料理データ!$A$3:$BK$997,14,FALSE),\"\")","v":""},{"$f":"IFERROR(VLOOKUP($D77,料理データ!$A$3:$BK$997,17,FALSE),\"\")","v":""},{"$f":"IFERROR(VLOOKUP($D77,料理データ!$A$3:$BK$997,20,FALSE),\"\")","v":""},{"$f":"IFERROR(VLOOKUP($D77,料理データ!$A$3:$BK$997,23,FALSE),\"\")","v":""},{"$f":"IFERROR(VLOOKUP($D77,料理データ!$A$3:$BK$997,26,FALSE),\"\")","v":""},{"$f":"IFERROR(VLOOKUP($D77,料理データ!$A$3:$BK$997,29,FALSE),\"\")","v":""},{"$f":"IFERROR(VLOOKUP($D77,料理データ!$A$3:$BK$997,32,FALSE),\"\")","v":""},{"$f":"IFERROR(VLOOKUP($D77,料理データ!$A$3:$BK$997,35,FALSE),\"\")","v":""},{"$f":"IFERROR(VLOOKUP($D77,料理データ!$A$3:$BK$997,38,FALSE),\"\")","v":""},{"$f":"IFERROR(VLOOKUP($D77,料理データ!$A$3:$BK$997,41,FALSE),\"\")","v":""},{"$f":"IFERROR(VLOOKUP($D77,料理データ!$A$3:$BK$997,44,FALSE),\"\")","v":""},{"$f":"IFERROR(VLOOKUP($D77,料理データ!$A$3:$BK$997,47,FALSE),\"\")","v":""},{"$f":"IFERROR(VLOOKUP($D77,料理データ!$A$3:$BK$997,50,FALSE),\"\")","v":""},{"$f":"IFERROR(VLOOKUP($D77,料理データ!$A$3:$BK$997,53,FALSE),\"\")","v":""},{"$f":"IFERROR(VLOOKUP($D77,料理データ!$A$3:$BK$997,56,FALSE),\"\")","v":""},{"$f":"IFERROR(VLOOKUP($D77,料理データ!$A$3:$BK$997,59,FALSE),\"\")","v":""},{"$f":"IFERROR(VLOOKUP($D77,料理データ!$A$3:$BK$997,62,FALSE),\"\")","v":""},"                   ",{"$f":"SUBSTITUTE(Z77,\"-\",\" \")","v":"                   "}]
[null,null,"昼食",{"$f":"+'月間献立（乳児）'!F10","v":0},{"$f":"IFERROR(VLOOKUP($D78,料理データ!$A$3:$BK$997,3,FALSE),\"\")","v":""},{"$f":"IFERROR(VLOOKUP($D78,料理データ!$A$3:$BK$997,5,FALSE),\"\")","v":""},{"$f":"IFERROR(VLOOKUP($D78,料理データ!$A$3:$BK$997,8,FALSE),\"\")","v":""},{"$f":"IFERROR(VLOOKUP($D78,料理データ!$A$3:$BK$997,11,FALSE),\"\")","v":""},{"$f":"IFERROR(VLOOKUP($D78,料理データ!$A$3:$BK$997,14,FALSE),\"\")","v":""},{"$f":"IFERROR(VLOOKUP($D78,料理データ!$A$3:$BK$997,17,FALSE),\"\")","v":""},{"$f":"IFERROR(VLOOKUP($D78,料理データ!$A$3:$BK$997,20,FALSE),\"\")","v":""},{"$f":"IFERROR(VLOOKUP($D78,料理データ!$A$3:$BK$997,23,FALSE),\"\")","v":""},{"$f":"IFERROR(VLOOKUP($D78,料理データ!$A$3:$BK$997,26,FALSE),\"\")","v":""},{"$f":"IFERROR(VLOOKUP($D78,料理データ!$A$3:$BK$997,29,FALSE),\"\")","v":""},{"$f":"IFERROR(VLOOKUP($D78,料理データ!$A$3:$BK$997,32,FALSE),\"\")","v":""},{"$f":"IFERROR(VLOOKUP($D78,料理データ!$A$3:$BK$997,35,FALSE),\"\")","v":""},{"$f":"IFERROR(VLOOKUP($D78,料理データ!$A$3:$BK$997,38,FALSE),\"\")","v":""},{"$f":"IFERROR(VLOOKUP($D78,料理データ!$A$3:$BK$997,41,FALSE),\"\")","v":""},{"$f":"IFERROR(VLOOKUP($D78,料理データ!$A$3:$BK$997,44,FALSE),\"\")","v":""},{"$f":"IFERROR(VLOOKUP($D78,料理データ!$A$3:$BK$997,47,FALSE),\"\")","v":""},{"$f":"IFERROR(VLOOKUP($D78,料理データ!$A$3:$BK$997,50,FALSE),\"\")","v":""},{"$f":"IFERROR(VLOOKUP($D78,料理データ!$A$3:$BK$997,53,FALSE),\"\")","v":""},{"$f":"IFERROR(VLOOKUP($D78,料理データ!$A$3:$BK$997,56,FALSE),\"\")","v":""},{"$f":"IFERROR(VLOOKUP($D78,料理データ!$A$3:$BK$997,59,FALSE),\"\")","v":""},{"$f":"IFERROR(VLOOKUP($D78,料理データ!$A$3:$BK$997,62,FALSE),\"\")","v":""},"                   ","                   "]
[null,null,null,{"$f":"+'月間献立（乳児）'!G10","v":0},{"$f":"IFERROR(VLOOKUP($D79,料理データ!$A$3:$BK$997,3,FALSE),\"\")","v":""},{"$f":"IFERROR(VLOOKUP($D79,料理データ!$A$3:$BK$997,5,FALSE),\"\")","v":""},{"$f":"IFERROR(VLOOKUP($D79,料理データ!$A$3:$BK$997,8,FALSE),\"\")","v":""},{"$f":"IFERROR(VLOOKUP($D79,料理データ!$A$3:$BK$997,11,FALSE),\"\")","v":""},{"$f":"IFERROR(VLOOKUP($D79,料理データ!$A$3:$BK$997,14,FALSE),\"\")","v":""},{"$f":"IFERROR(VLOOKUP($D79,料理データ!$A$3:$BK$997,17,FALSE),\"\")","v":""},{"$f":"IFERROR(VLOOKUP($D79,料理データ!$A$3:$BK$997,20,FALSE),\"\")","v":""},{"$f":"IFERROR(VLOOKUP($D79,料理データ!$A$3:$BK$997,23,FALSE),\"\")","v":""},{"$f":"IFERROR(VLOOKUP($D79,料理データ!$A$3:$BK$997,26,FALSE),\"\")","v":""},{"$f":"IFERROR(VLOOKUP($D79,料理データ!$A$3:$BK$997,29,FALSE),\"\")","v":""},{"$f":"IFERROR(VLOOKUP($D79,料理データ!$A$3:$BK$997,32,FALSE),\"\")","v":""},{"$f":"IFERROR(VLOOKUP($D79,料理データ!$A$3:$BK$997,35,FALSE),\"\")","v":""},{"$f":"IFERROR(VLOOKUP($D79,料理データ!$A$3:$BK$997,38,FALSE),\"\")","v":""},{"$f":"IFERROR(VLOOKUP($D79,料理データ!$A$3:$BK$997,41,FALSE),\"\")","v":""},{"$f":"IFERROR(VLOOKUP($D79,料理データ!$A$3:$BK$997,44,FALSE),\"\")","v":""},{"$f":"IFERROR(VLOOKUP($D79,料理データ!$A$3:$BK$997,47,FALSE),\"\")","v":""},{"$f":"IFERROR(VLOOKUP($D79,料理データ!$A$3:$BK$997,50,FALSE),\"\")","v":""},{"$f":"IFERROR(VLOOKUP($D79,料理データ!$A$3:$BK$997,53,FALSE),\"\")","v":""},{"$f":"IFERROR(VLOOKUP($D79,料理データ!$A$3:$BK$997,56,FALSE),\"\")","v":""},{"$f":"IFERROR(VLOOKUP($D79,料理データ!$A$3:$BK$997,59,FALSE),\"\")","v":""},{"$f":"IFERROR(VLOOKUP($D79,料理データ!$A$3:$BK$997,62,FALSE),\"\")","v":""},"                   ","                   "]
[null,null,null,{"$f":"+'月間献立（乳児）'!H10","v":0},{"$f":"IFERROR(VLOOKUP($D80,料理データ!$A$3:$BK$997,3,FALSE),\"\")","v":""},{"$f":"IFERROR(VLOOKUP($D80,料理データ!$A$3:$BK$997,5,FALSE),\"\")","v":""},{"$f":"IFERROR(VLOOKUP($D80,料理データ!$A$3:$BK$997,8,FALSE),\"\")","v":""},{"$f":"IFERROR(VLOOKUP($D80,料理データ!$A$3:$BK$997,11,FALSE),\"\")","v":""},{"$f":"IFERROR(VLOOKUP($D80,料理データ!$A$3:$BK$997,14,FALSE),\"\")","v":""},{"$f":"IFERROR(VLOOKUP($D80,料理データ!$A$3:$BK$997,17,FALSE),\"\")","v":""},{"$f":"IFERROR(VLOOKUP($D80,料理データ!$A$3:$BK$997,20,FALSE),\"\")","v":""},{"$f":"IFERROR(VLOOKUP($D80,料理データ!$A$3:$BK$997,23,FALSE),\"\")","v":""},{"$f":"IFERROR(VLOOKUP($D80,料理データ!$A$3:$BK$997,26,FALSE),\"\")","v":""},{"$f":"IFERROR(VLOOKUP($D80,料理データ!$A$3:$BK$997,29,FALSE),\"\")","v":""},{"$f":"IFERROR(VLOOKUP($D80,料理データ!$A$3:$BK$997,32,FALSE),\"\")","v":""},{"$f":"IFERROR(VLOOKUP($D80,料理データ!$A$3:$BK$997,35,FALSE),\"\")","v":""},{"$f":"IFERROR(VLOOKUP($D80,料理データ!$A$3:$BK$997,38,FALSE),\"\")","v":""},{"$f":"IFERROR(VLOOKUP($D80,料理データ!$A$3:$BK$997,41,FALSE),\"\")","v":""},{"$f":"IFERROR(VLOOKUP($D80,料理データ!$A$3:$BK$997,44,FALSE),\"\")","v":""},{"$f":"IFERROR(VLOOKUP($D80,料理データ!$A$3:$BK$997,47,FALSE),\"\")","v":""},{"$f":"IFERROR(VLOOKUP($D80,料理データ!$A$3:$BK$997,50,FALSE),\"\")","v":""},{"$f":"IFERROR(VLOOKUP($D80,料理データ!$A$3:$BK$997,53,FALSE),\"\")","v":""},{"$f":"IFERROR(VLOOKUP($D80,料理データ!$A$3:$BK$997,56,FALSE),\"\")","v":""},{"$f":"IFERROR(VLOOKUP($D80,料理データ!$A$3:$BK$997,59,FALSE),\"\")","v":""},{"$f":"IFERROR(VLOOKUP($D80,料理データ!$A$3:$BK$997,62,FALSE),\"\")","v":""},"                   ","                   "]
[null,null,null,{"$f":"+'月間献立（乳児）'!I10","v":0},{"$f":"IFERROR(VLOOKUP($D81,料理データ!$A$3:$BK$997,3,FALSE),\"\")","v":""},{"$f":"IFERROR(VLOOKUP($D81,料理データ!$A$3:$BK$997,5,FALSE),\"\")","v":""},{"$f":"IFERROR(VLOOKUP($D81,料理データ!$A$3:$BK$997,8,FALSE),\"\")","v":""},{"$f":"IFERROR(VLOOKUP($D81,料理データ!$A$3:$BK$997,11,FALSE),\"\")","v":""},{"$f":"IFERROR(VLOOKUP($D81,料理データ!$A$3:$BK$997,14,FALSE),\"\")","v":""},{"$f":"IFERROR(VLOOKUP($D81,料理データ!$A$3:$BK$997,17,FALSE),\"\")","v":""},{"$f":"IFERROR(VLOOKUP($D81,料理データ!$A$3:$BK$997,20,FALSE),\"\")","v":""},{"$f":"IFERROR(VLOOKUP($D81,料理データ!$A$3:$BK$997,23,FALSE),\"\")","v":""},{"$f":"IFERROR(VLOOKUP($D81,料理データ!$A$3:$BK$997,26,FALSE),\"\")","v":""},{"$f":"IFERROR(VLOOKUP($D81,料理データ!$A$3:$BK$997,29,FALSE),\"\")","v":""},{"$f":"IFERROR(VLOOKUP($D81,料理データ!$A$3:$BK$997,32,FALSE),\"\")","v":""},{"$f":"IFERROR(VLOOKUP($D81,料理データ!$A$3:$BK$997,35,FALSE),\"\")","v":""},{"$f":"IFERROR(VLOOKUP($D81,料理データ!$A$3:$BK$997,38,FALSE),\"\")","v":""},{"$f":"IFERROR(VLOOKUP($D81,料理データ!$A$3:$BK$997,41,FALSE),\"\")","v":""},{"$f":"IFERROR(VLOOKUP($D81,料理データ!$A$3:$BK$997,44,FALSE),\"\")","v":""},{"$f":"IFERROR(VLOOKUP($D81,料理データ!$A$3:$BK$997,47,FALSE),\"\")","v":""},{"$f":"IFERROR(VLOOKUP($D81,料理データ!$A$3:$BK$997,50,FALSE),\"\")","v":""},{"$f":"IFERROR(VLOOKUP($D81,料理データ!$A$3:$BK$997,53,FALSE),\"\")","v":""},{"$f":"IFERROR(VLOOKUP($D81,料理データ!$A$3:$BK$997,56,FALSE),\"\")","v":""},{"$f":"IFERROR(VLOOKUP($D81,料理データ!$A$3:$BK$997,59,FALSE),\"\")","v":""},{"$f":"IFERROR(VLOOKUP($D81,料理データ!$A$3:$BK$997,62,FALSE),\"\")","v":""},"                   ","                   "]
[null,null,null,{"$f":"+'月間献立（乳児）'!J10","v":0},{"$f":"IFERROR(VLOOKUP($D82,料理データ!$A$3:$BK$997,3,FALSE),\"\")","v":""},{"$f":"IFERROR(VLOOKUP($D82,料理データ!$A$3:$BK$997,5,FALSE),\"\")","v":""},{"$f":"IFERROR(VLOOKUP($D82,料理データ!$A$3:$BK$997,8,FALSE),\"\")","v":""},{"$f":"IFERROR(VLOOKUP($D82,料理データ!$A$3:$BK$997,11,FALSE),\"\")","v":""},{"$f":"IFERROR(VLOOKUP($D82,料理データ!$A$3:$BK$997,14,FALSE),\"\")","v":""},{"$f":"IFERROR(VLOOKUP($D82,料理データ!$A$3:$BK$997,17,FALSE),\"\")","v":""},{"$f":"IFERROR(VLOOKUP($D82,料理データ!$A$3:$BK$997,20,FALSE),\"\")","v":""},{"$f":"IFERROR(VLOOKUP($D82,料理データ!$A$3:$BK$997,23,FALSE),\"\")","v":""},{"$f":"IFERROR(VLOOKUP($D82,料理データ!$A$3:$BK$997,26,FALSE),\"\")","v":""},{"$f":"IFERROR(VLOOKUP($D82,料理データ!$A$3:$BK$997,29,FALSE),\"\")","v":""},{"$f":"IFERROR(VLOOKUP($D82,料理データ!$A$3:$BK$997,32,FALSE),\"\")","v":""},{"$f":"IFERROR(VLOOKUP($D82,料理データ!$A$3:$BK$997,35,FALSE),\"\")","v":""},{"$f":"IFERROR(VLOOKUP($D82,料理データ!$A$3:$BK$997,38,FALSE),\"\")","v":""},{"$f":"IFERROR(VLOOKUP($D82,料理データ!$A$3:$BK$997,41,FALSE),\"\")","v":""},{"$f":"IFERROR(VLOOKUP($D82,料理データ!$A$3:$BK$997,44,FALSE),\"\")","v":""},{"$f":"IFERROR(VLOOKUP($D82,料理データ!$A$3:$BK$997,47,FALSE),\"\")","v":""},{"$f":"IFERROR(VLOOKUP($D82,料理データ!$A$3:$BK$997,50,FALSE),\"\")","v":""},{"$f":"IFERROR(VLOOKUP($D82,料理データ!$A$3:$BK$997,53,FALSE),\"\")","v":""},{"$f":"IFERROR(VLOOKUP($D82,料理データ!$A$3:$BK$997,56,FALSE),\"\")","v":""},{"$f":"IFERROR(VLOOKUP($D82,料理データ!$A$3:$BK$997,59,FALSE),\"\")","v":""},{"$f":"IFERROR(VLOOKUP($D82,料理データ!$A$3:$BK$997,62,FALSE),\"\")","v":""},"                   ","                   "]
[null,null,null,{"$f":"+'月間献立（乳児）'!K10","v":0},{"$f":"IFERROR(VLOOKUP($D83,料理データ!$A$3:$BK$997,3,FALSE),\"\")","v":""},{"$f":"IFERROR(VLOOKUP($D83,料理データ!$A$3:$BK$997,5,FALSE),\"\")","v":""},{"$f":"IFERROR(VLOOKUP($D83,料理データ!$A$3:$BK$997,8,FALSE),\"\")","v":""},{"$f":"IFERROR(VLOOKUP($D83,料理データ!$A$3:$BK$997,11,FALSE),\"\")","v":""},{"$f":"IFERROR(VLOOKUP($D83,料理データ!$A$3:$BK$997,14,FALSE),\"\")","v":""},{"$f":"IFERROR(VLOOKUP($D83,料理データ!$A$3:$BK$997,17,FALSE),\"\")","v":""},{"$f":"IFERROR(VLOOKUP($D83,料理データ!$A$3:$BK$997,20,FALSE),\"\")","v":""},{"$f":"IFERROR(VLOOKUP($D83,料理データ!$A$3:$BK$997,23,FALSE),\"\")","v":""},{"$f":"IFERROR(VLOOKUP($D83,料理データ!$A$3:$BK$997,26,FALSE),\"\")","v":""},{"$f":"IFERROR(VLOOKUP($D83,料理データ!$A$3:$BK$997,29,FALSE),\"\")","v":""},{"$f":"IFERROR(VLOOKUP($D83,料理データ!$A$3:$BK$997,32,FALSE),\"\")","v":""},{"$f":"IFERROR(VLOOKUP($D83,料理データ!$A$3:$BK$997,35,FALSE),\"\")","v":""},{"$f":"IFERROR(VLOOKUP($D83,料理データ!$A$3:$BK$997,38,FALSE),\"\")","v":""},{"$f":"IFERROR(VLOOKUP($D83,料理データ!$A$3:$BK$997,41,FALSE),\"\")","v":""},{"$f":"IFERROR(VLOOKUP($D83,料理データ!$A$3:$BK$997,44,FALSE),\"\")","v":""},{"$f":"IFERROR(VLOOKUP($D83,料理データ!$A$3:$BK$997,47,FALSE),\"\")","v":""},{"$f":"IFERROR(VLOOKUP($D83,料理データ!$A$3:$BK$997,50,FALSE),\"\")","v":""},{"$f":"IFERROR(VLOOKUP($D83,料理データ!$A$3:$BK$997,53,FALSE),\"\")","v":""},{"$f":"IFERROR(VLOOKUP($D83,料理データ!$A$3:$BK$997,56,FALSE),\"\")","v":""},{"$f":"IFERROR(VLOOKUP($D83,料理データ!$A$3:$BK$997,59,FALSE),\"\")","v":""},{"$f":"IFERROR(VLOOKUP($D83,料理データ!$A$3:$BK$997,62,FALSE),\"\")","v":""},"                   ","                   "]
[null,null,"午後おやつ",{"$f":"+'月間献立（乳児）'!L10","v":0},{"$f":"IFERROR(VLOOKUP($D84,料理データ!$A$3:$BK$997,3,FALSE),\"\")","v":""},{"$f":"IFERROR(VLOOKUP($D84,料理データ!$A$3:$BK$997,5,FALSE),\"\")","v":""},{"$f":"IFERROR(VLOOKUP($D84,料理データ!$A$3:$BK$997,8,FALSE),\"\")","v":""},{"$f":"IFERROR(VLOOKUP($D84,料理データ!$A$3:$BK$997,11,FALSE),\"\")","v":""},{"$f":"IFERROR(VLOOKUP($D84,料理データ!$A$3:$BK$997,14,FALSE),\"\")","v":""},{"$f":"IFERROR(VLOOKUP($D84,料理データ!$A$3:$BK$997,17,FALSE),\"\")","v":""},{"$f":"IFERROR(VLOOKUP($D84,料理データ!$A$3:$BK$997,20,FALSE),\"\")","v":""},{"$f":"IFERROR(VLOOKUP($D84,料理データ!$A$3:$BK$997,23,FALSE),\"\")","v":""},{"$f":"IFERROR(VLOOKUP($D84,料理データ!$A$3:$BK$997,26,FALSE),\"\")","v":""},{"$f":"IFERROR(VLOOKUP($D84,料理データ!$A$3:$BK$997,29,FALSE),\"\")","v":""},{"$f":"IFERROR(VLOOKUP($D84,料理データ!$A$3:$BK$997,32,FALSE),\"\")","v":""},{"$f":"IFERROR(VLOOKUP($D84,料理データ!$A$3:$BK$997,35,FALSE),\"\")","v":""},{"$f":"IFERROR(VLOOKUP($D84,料理データ!$A$3:$BK$997,38,FALSE),\"\")","v":""},{"$f":"IFERROR(VLOOKUP($D84,料理データ!$A$3:$BK$997,41,FALSE),\"\")","v":""},{"$f":"IFERROR(VLOOKUP($D84,料理データ!$A$3:$BK$997,44,FALSE),\"\")","v":""},{"$f":"IFERROR(VLOOKUP($D84,料理データ!$A$3:$BK$997,47,FALSE),\"\")","v":""},{"$f":"IFERROR(VLOOKUP($D84,料理データ!$A$3:$BK$997,50,FALSE),\"\")","v":""},{"$f":"IFERROR(VLOOKUP($D84,料理データ!$A$3:$BK$997,53,FALSE),\"\")","v":""},{"$f":"IFERROR(VLOOKUP($D84,料理データ!$A$3:$BK$997,56,FALSE),\"\")","v":""},{"$f":"IFERROR(VLOOKUP($D84,料理データ!$A$3:$BK$997,59,FALSE),\"\")","v":""},{"$f":"IFERROR(VLOOKUP($D84,料理データ!$A$3:$BK$997,62,FALSE),\"\")","v":""},"                   ",{"$f":"SUBSTITUTE(Z84,\"-\",\"\")","v":"                   "}]
[null,null,null,{"$f":"+'月間献立（乳児）'!M10","v":0},{"$f":"IFERROR(VLOOKUP($D85,料理データ!$A$3:$BK$997,3,FALSE),\"\")","v":""},{"$f":"IFERROR(VLOOKUP($D85,料理データ!$A$3:$BK$997,5,FALSE),\"\")","v":""},{"$f":"IFERROR(VLOOKUP($D85,料理データ!$A$3:$BK$997,8,FALSE),\"\")","v":""},{"$f":"IFERROR(VLOOKUP($D85,料理データ!$A$3:$BK$997,11,FALSE),\"\")","v":""},{"$f":"IFERROR(VLOOKUP($D85,料理データ!$A$3:$BK$997,14,FALSE),\"\")","v":""},{"$f":"IFERROR(VLOOKUP($D85,料理データ!$A$3:$BK$997,17,FALSE),\"\")","v":""},{"$f":"IFERROR(VLOOKUP($D85,料理データ!$A$3:$BK$997,20,FALSE),\"\")","v":""},{"$f":"IFERROR(VLOOKUP($D85,料理データ!$A$3:$BK$997,23,FALSE),\"\")","v":""},{"$f":"IFERROR(VLOOKUP($D85,料理データ!$A$3:$BK$997,26,FALSE),\"\")","v":""},{"$f":"IFERROR(VLOOKUP($D85,料理データ!$A$3:$BK$997,29,FALSE),\"\")","v":""},{"$f":"IFERROR(VLOOKUP($D85,料理データ!$A$3:$BK$997,32,FALSE),\"\")","v":""},{"$f":"IFERROR(VLOOKUP($D85,料理データ!$A$3:$BK$997,35,FALSE),\"\")","v":""},{"$f":"IFERROR(VLOOKUP($D85,料理データ!$A$3:$BK$997,38,FALSE),\"\")","v":""},{"$f":"IFERROR(VLOOKUP($D85,料理データ!$A$3:$BK$997,41,FALSE),\"\")","v":""},{"$f":"IFERROR(VLOOKUP($D85,料理データ!$A$3:$BK$997,44,FALSE),\"\")","v":""},{"$f":"IFERROR(VLOOKUP($D85,料理データ!$A$3:$BK$997,47,FALSE),\"\")","v":""},{"$f":"IFERROR(VLOOKUP($D85,料理データ!$A$3:$BK$997,50,FALSE),\"\")","v":""},{"$f":"IFERROR(VLOOKUP($D85,料理データ!$A$3:$BK$997,53,FALSE),\"\")","v":""},{"$f":"IFERROR(VLOOKUP($D85,料理データ!$A$3:$BK$997,56,FALSE),\"\")","v":""},{"$f":"IFERROR(VLOOKUP($D85,料理データ!$A$3:$BK$997,59,FALSE),\"\")","v":""},{"$f":"IFERROR(VLOOKUP($D85,料理データ!$A$3:$BK$997,62,FALSE),\"\")","v":""},"                   ",{"$f":"SUBSTITUTE(Z85,\"-\",\" \")","v":"                   "}]
[null,null,null,{"$f":"+'月間献立（乳児）'!N10","v":0},{"$f":"IFERROR(VLOOKUP($D86,料理データ!$A$3:$BK$997,3,FALSE),\"\")","v":""},{"$f":"IFERROR(VLOOKUP($D86,料理データ!$A$3:$BK$997,5,FALSE),\"\")","v":""},{"$f":"IFERROR(VLOOKUP($D86,料理データ!$A$3:$BK$997,8,FALSE),\"\")","v":""},{"$f":"IFERROR(VLOOKUP($D86,料理データ!$A$3:$BK$997,11,FALSE),\"\")","v":""},{"$f":"IFERROR(VLOOKUP($D86,料理データ!$A$3:$BK$997,14,FALSE),\"\")","v":""},{"$f":"IFERROR(VLOOKUP($D86,料理データ!$A$3:$BK$997,17,FALSE),\"\")","v":""},{"$f":"IFERROR(VLOOKUP($D86,料理データ!$A$3:$BK$997,20,FALSE),\"\")","v":""},{"$f":"IFERROR(VLOOKUP($D86,料理データ!$A$3:$BK$997,23,FALSE),\"\")","v":""},{"$f":"IFERROR(VLOOKUP($D86,料理データ!$A$3:$BK$997,26,FALSE),\"\")","v":""},{"$f":"IFERROR(VLOOKUP($D86,料理データ!$A$3:$BK$997,29,FALSE),\"\")","v":""},{"$f":"IFERROR(VLOOKUP($D86,料理データ!$A$3:$BK$997,32,FALSE),\"\")","v":""},{"$f":"IFERROR(VLOOKUP($D86,料理データ!$A$3:$BK$997,35,FALSE),\"\")","v":""},{"$f":"IFERROR(VLOOKUP($D86,料理データ!$A$3:$BK$997,38,FALSE),\"\")","v":""},{"$f":"IFERROR(VLOOKUP($D86,料理データ!$A$3:$BK$997,41,FALSE),\"\")","v":""},{"$f":"IFERROR(VLOOKUP($D86,料理データ!$A$3:$BK$997,44,FALSE),\"\")","v":""},{"$f":"IFERROR(VLOOKUP($D86,料理データ!$A$3:$BK$997,47,FALSE),\"\")","v":""},{"$f":"IFERROR(VLOOKUP($D86,料理データ!$A$3:$BK$997,50,FALSE),\"\")","v":""},{"$f":"IFERROR(VLOOKUP($D86,料理データ!$A$3:$BK$997,53,FALSE),\"\")","v":""},{"$f":"IFERROR(VLOOKUP($D86,料理データ!$A$3:$BK$997,56,FALSE),\"\")","v":""},{"$f":"IFERROR(VLOOKUP($D86,料理データ!$A$3:$BK$997,59,FALSE),\"\")","v":""},{"$f":"IFERROR(VLOOKUP($D86,料理データ!$A$3:$BK$997,62,FALSE),\"\")","v":""},"                   ",{"$f":"SUBSTITUTE(Z86,\"-\",\"\")","v":"                   "}]
[{"$f":"+'月間献立（幼児）'!A12","v":8},{"$f":"+'月間献立（幼児）'!B12","v":"(土)"},"午前おやつ",{"$f":"+'月間献立（乳児）'!C11","v":0},{"$f":"IFERROR(VLOOKUP($D87,料理データ!$A$3:$BK$997,3,FALSE),\"\")","v":""},{"$f":"IFERROR(VLOOKUP($D87,料理データ!$A$3:$BK$997,5,FALSE),\"\")","v":""},{"$f":"IFERROR(VLOOKUP($D87,料理データ!$A$3:$BK$997,8,FALSE),\"\")","v":""},{"$f":"IFERROR(VLOOKUP($D87,料理データ!$A$3:$BK$997,11,FALSE),\"\")","v":""},{"$f":"IFERROR(VLOOKUP($D87,料理データ!$A$3:$BK$997,14,FALSE),\"\")","v":""},{"$f":"IFERROR(VLOOKUP($D87,料理データ!$A$3:$BK$997,17,FALSE),\"\")","v":""},{"$f":"IFERROR(VLOOKUP($D87,料理データ!$A$3:$BK$997,20,FALSE),\"\")","v":""},{"$f":"IFERROR(VLOOKUP($D87,料理データ!$A$3:$BK$997,23,FALSE),\"\")","v":""},{"$f":"IFERROR(VLOOKUP($D87,料理データ!$A$3:$BK$997,26,FALSE),\"\")","v":""},{"$f":"IFERROR(VLOOKUP($D87,料理データ!$A$3:$BK$997,29,FALSE),\"\")","v":""},{"$f":"IFERROR(VLOOKUP($D87,料理データ!$A$3:$BK$997,32,FALSE),\"\")","v":""},{"$f":"IFERROR(VLOOKUP($D87,料理データ!$A$3:$BK$997,35,FALSE),\"\")","v":""},{"$f":"IFERROR(VLOOKUP($D87,料理データ!$A$3:$BK$997,38,FALSE),\"\")","v":""},{"$f":"IFERROR(VLOOKUP($D87,料理データ!$A$3:$BK$997,41,FALSE),\"\")","v":""},{"$f":"IFERROR(VLOOKUP($D87,料理データ!$A$3:$BK$997,44,FALSE),\"\")","v":""},{"$f":"IFERROR(VLOOKUP($D87,料理データ!$A$3:$BK$997,47,FALSE),\"\")","v":""},{"$f":"IFERROR(VLOOKUP($D87,料理データ!$A$3:$BK$997,50,FALSE),\"\")","v":""},{"$f":"IFERROR(VLOOKUP($D87,料理データ!$A$3:$BK$997,53,FALSE),\"\")","v":""},{"$f":"IFERROR(VLOOKUP($D87,料理データ!$A$3:$BK$997,56,FALSE),\"\")","v":""},{"$f":"IFERROR(VLOOKUP($D87,料理データ!$A$3:$BK$997,59,FALSE),\"\")","v":""},{"$f":"IFERROR(VLOOKUP($D87,料理データ!$A$3:$BK$997,62,FALSE),\"\")","v":""},"                   ",{"$f":"SUBSTITUTE(Z87,\"-\",\" \")","v":"                   "},{"$f":"TRIM(CONCATENATE(AA87,AA88,AA89,\"▲\",AA90,AA91,AA92,AA93,AA94,AA95,\"▲\",AA96,AA97,AA98))","v":"▲ ▲"}]
[null,null,null,{"$f":"+'月間献立（乳児）'!D11","v":0},{"$f":"IFERROR(VLOOKUP($D88,料理データ!$A$3:$BK$997,3,FALSE),\"\")","v":""},{"$f":"IFERROR(VLOOKUP($D88,料理データ!$A$3:$BK$997,5,FALSE),\"\")","v":""},{"$f":"IFERROR(VLOOKUP($D88,料理データ!$A$3:$BK$997,8,FALSE),\"\")","v":""},{"$f":"IFERROR(VLOOKUP($D88,料理データ!$A$3:$BK$997,11,FALSE),\"\")","v":""},{"$f":"IFERROR(VLOOKUP($D88,料理データ!$A$3:$BK$997,14,FALSE),\"\")","v":""},{"$f":"IFERROR(VLOOKUP($D88,料理データ!$A$3:$BK$997,17,FALSE),\"\")","v":""},{"$f":"IFERROR(VLOOKUP($D88,料理データ!$A$3:$BK$997,20,FALSE),\"\")","v":""},{"$f":"IFERROR(VLOOKUP($D88,料理データ!$A$3:$BK$997,23,FALSE),\"\")","v":""},{"$f":"IFERROR(VLOOKUP($D88,料理データ!$A$3:$BK$997,26,FALSE),\"\")","v":""},{"$f":"IFERROR(VLOOKUP($D88,料理データ!$A$3:$BK$997,29,FALSE),\"\")","v":""},{"$f":"IFERROR(VLOOKUP($D88,料理データ!$A$3:$BK$997,32,FALSE),\"\")","v":""},{"$f":"IFERROR(VLOOKUP($D88,料理データ!$A$3:$BK$997,35,FALSE),\"\")","v":""},{"$f":"IFERROR(VLOOKUP($D88,料理データ!$A$3:$BK$997,38,FALSE),\"\")","v":""},{"$f":"IFERROR(VLOOKUP($D88,料理データ!$A$3:$BK$997,41,FALSE),\"\")","v":""},{"$f":"IFERROR(VLOOKUP($D88,料理データ!$A$3:$BK$997,44,FALSE),\"\")","v":""},{"$f":"IFERROR(VLOOKUP($D88,料理データ!$A$3:$BK$997,47,FALSE),\"\")","v":""},{"$f":"IFERROR(VLOOKUP($D88,料理データ!$A$3:$BK$997,50,FALSE),\"\")","v":""},{"$f":"IFERROR(VLOOKUP($D88,料理データ!$A$3:$BK$997,53,FALSE),\"\")","v":""},{"$f":"IFERROR(VLOOKUP($D88,料理データ!$A$3:$BK$997,56,FALSE),\"\")","v":""},{"$f":"IFERROR(VLOOKUP($D88,料理データ!$A$3:$BK$997,59,FALSE),\"\")","v":""},{"$f":"IFERROR(VLOOKUP($D88,料理データ!$A$3:$BK$997,62,FALSE),\"\")","v":""},"                   ",{"$f":"SUBSTITUTE(Z88,\"-\",\" \")","v":"                   "}]
[null,null,null,{"$f":"+'月間献立（乳児）'!E11","v":0},{"$f":"IFERROR(VLOOKUP($D89,料理データ!$A$3:$BK$997,3,FALSE),\"\")","v":""},{"$f":"IFERROR(VLOOKUP($D89,料理データ!$A$3:$BK$997,5,FALSE),\"\")","v":""},{"$f":"IFERROR(VLOOKUP($D89,料理データ!$A$3:$BK$997,8,FALSE),\"\")","v":""},{"$f":"IFERROR(VLOOKUP($D89,料理データ!$A$3:$BK$997,11,FALSE),\"\")","v":""},{"$f":"IFERROR(VLOOKUP($D89,料理データ!$A$3:$BK$997,14,FALSE),\"\")","v":""},{"$f":"IFERROR(VLOOKUP($D89,料理データ!$A$3:$BK$997,17,FALSE),\"\")","v":""},{"$f":"IFERROR(VLOOKUP($D89,料理データ!$A$3:$BK$997,20,FALSE),\"\")","v":""},{"$f":"IFERROR(VLOOKUP($D89,料理データ!$A$3:$BK$997,23,FALSE),\"\")","v":""},{"$f":"IFERROR(VLOOKUP($D89,料理データ!$A$3:$BK$997,26,FALSE),\"\")","v":""},{"$f":"IFERROR(VLOOKUP($D89,料理データ!$A$3:$BK$997,29,FALSE),\"\")","v":""},{"$f":"IFERROR(VLOOKUP($D89,料理データ!$A$3:$BK$997,32,FALSE),\"\")","v":""},{"$f":"IFERROR(VLOOKUP($D89,料理データ!$A$3:$BK$997,35,FALSE),\"\")","v":""},{"$f":"IFERROR(VLOOKUP($D89,料理データ!$A$3:$BK$997,38,FALSE),\"\")","v":""},{"$f":"IFERROR(VLOOKUP($D89,料理データ!$A$3:$BK$997,41,FALSE),\"\")","v":""},{"$f":"IFERROR(VLOOKUP($D89,料理データ!$A$3:$BK$997,44,FALSE),\"\")","v":""},{"$f":"IFERROR(VLOOKUP($D89,料理データ!$A$3:$BK$997,47,FALSE),\"\")","v":""},{"$f":"IFERROR(VLOOKUP($D89,料理データ!$A$3:$BK$997,50,FALSE),\"\")","v":""},{"$f":"IFERROR(VLOOKUP($D89,料理データ!$A$3:$BK$997,53,FALSE),\"\")","v":""},{"$f":"IFERROR(VLOOKUP($D89,料理データ!$A$3:$BK$997,56,FALSE),\"\")","v":""},{"$f":"IFERROR(VLOOKUP($D89,料理データ!$A$3:$BK$997,59,FALSE),\"\")","v":""},{"$f":"IFERROR(VLOOKUP($D89,料理データ!$A$3:$BK$997,62,FALSE),\"\")","v":""},"                   ",{"$f":"SUBSTITUTE(Z89,\"-\",\" \")","v":"                   "}]
[null,null,"昼食",{"$f":"+'月間献立（乳児）'!F11","v":0},{"$f":"IFERROR(VLOOKUP($D90,料理データ!$A$3:$BK$997,3,FALSE),\"\")","v":""},{"$f":"IFERROR(VLOOKUP($D90,料理データ!$A$3:$BK$997,5,FALSE),\"\")","v":""},{"$f":"IFERROR(VLOOKUP($D90,料理データ!$A$3:$BK$997,8,FALSE),\"\")","v":""},{"$f":"IFERROR(VLOOKUP($D90,料理データ!$A$3:$BK$997,11,FALSE),\"\")","v":""},{"$f":"IFERROR(VLOOKUP($D90,料理データ!$A$3:$BK$997,14,FALSE),\"\")","v":""},{"$f":"IFERROR(VLOOKUP($D90,料理データ!$A$3:$BK$997,17,FALSE),\"\")","v":""},{"$f":"IFERROR(VLOOKUP($D90,料理データ!$A$3:$BK$997,20,FALSE),\"\")","v":""},{"$f":"IFERROR(VLOOKUP($D90,料理データ!$A$3:$BK$997,23,FALSE),\"\")","v":""},{"$f":"IFERROR(VLOOKUP($D90,料理データ!$A$3:$BK$997,26,FALSE),\"\")","v":""},{"$f":"IFERROR(VLOOKUP($D90,料理データ!$A$3:$BK$997,29,FALSE),\"\")","v":""},{"$f":"IFERROR(VLOOKUP($D90,料理データ!$A$3:$BK$997,32,FALSE),\"\")","v":""},{"$f":"IFERROR(VLOOKUP($D90,料理データ!$A$3:$BK$997,35,FALSE),\"\")","v":""},{"$f":"IFERROR(VLOOKUP($D90,料理データ!$A$3:$BK$997,38,FALSE),\"\")","v":""},{"$f":"IFERROR(VLOOKUP($D90,料理データ!$A$3:$BK$997,41,FALSE),\"\")","v":""},{"$f":"IFERROR(VLOOKUP($D90,料理データ!$A$3:$BK$997,44,FALSE),\"\")","v":""},{"$f":"IFERROR(VLOOKUP($D90,料理データ!$A$3:$BK$997,47,FALSE),\"\")","v":""},{"$f":"IFERROR(VLOOKUP($D90,料理データ!$A$3:$BK$997,50,FALSE),\"\")","v":""},{"$f":"IFERROR(VLOOKUP($D90,料理データ!$A$3:$BK$997,53,FALSE),\"\")","v":""},{"$f":"IFERROR(VLOOKUP($D90,料理データ!$A$3:$BK$997,56,FALSE),\"\")","v":""},{"$f":"IFERROR(VLOOKUP($D90,料理データ!$A$3:$BK$997,59,FALSE),\"\")","v":""},{"$f":"IFERROR(VLOOKUP($D90,料理データ!$A$3:$BK$997,62,FALSE),\"\")","v":""},"                   ","                   "]
[null,null,null,{"$f":"+'月間献立（乳児）'!G11","v":0},{"$f":"IFERROR(VLOOKUP($D91,料理データ!$A$3:$BK$997,3,FALSE),\"\")","v":""},{"$f":"IFERROR(VLOOKUP($D91,料理データ!$A$3:$BK$997,5,FALSE),\"\")","v":""},{"$f":"IFERROR(VLOOKUP($D91,料理データ!$A$3:$BK$997,8,FALSE),\"\")","v":""},{"$f":"IFERROR(VLOOKUP($D91,料理データ!$A$3:$BK$997,11,FALSE),\"\")","v":""},{"$f":"IFERROR(VLOOKUP($D91,料理データ!$A$3:$BK$997,14,FALSE),\"\")","v":""},{"$f":"IFERROR(VLOOKUP($D91,料理データ!$A$3:$BK$997,17,FALSE),\"\")","v":""},{"$f":"IFERROR(VLOOKUP($D91,料理データ!$A$3:$BK$997,20,FALSE),\"\")","v":""},{"$f":"IFERROR(VLOOKUP($D91,料理データ!$A$3:$BK$997,23,FALSE),\"\")","v":""},{"$f":"IFERROR(VLOOKUP($D91,料理データ!$A$3:$BK$997,26,FALSE),\"\")","v":""},{"$f":"IFERROR(VLOOKUP($D91,料理データ!$A$3:$BK$997,29,FALSE),\"\")","v":""},{"$f":"IFERROR(VLOOKUP($D91,料理データ!$A$3:$BK$997,32,FALSE),\"\")","v":""},{"$f":"IFERROR(VLOOKUP($D91,料理データ!$A$3:$BK$997,35,FALSE),\"\")","v":""},{"$f":"IFERROR(VLOOKUP($D91,料理データ!$A$3:$BK$997,38,FALSE),\"\")","v":""},{"$f":"IFERROR(VLOOKUP($D91,料理データ!$A$3:$BK$997,41,FALSE),\"\")","v":""},{"$f":"IFERROR(VLOOKUP($D91,料理データ!$A$3:$BK$997,44,FALSE),\"\")","v":""},{"$f":"IFERROR(VLOOKUP($D91,料理データ!$A$3:$BK$997,47,FALSE),\"\")","v":""},{"$f":"IFERROR(VLOOKUP($D91,料理データ!$A$3:$BK$997,50,FALSE),\"\")","v":""},{"$f":"IFERROR(VLOOKUP($D91,料理データ!$A$3:$BK$997,53,FALSE),\"\")","v":""},{"$f":"IFERROR(VLOOKUP($D91,料理データ!$A$3:$BK$997,56,FALSE),\"\")","v":""},{"$f":"IFERROR(VLOOKUP($D91,料理データ!$A$3:$BK$997,59,FALSE),\"\")","v":""},{"$f":"IFERROR(VLOOKUP($D91,料理データ!$A$3:$BK$997,62,FALSE),\"\")","v":""},"                   ","                   "]
[null,null,null,{"$f":"+'月間献立（乳児）'!H11","v":0},{"$f":"IFERROR(VLOOKUP($D92,料理データ!$A$3:$BK$997,3,FALSE),\"\")","v":""},{"$f":"IFERROR(VLOOKUP($D92,料理データ!$A$3:$BK$997,5,FALSE),\"\")","v":""},{"$f":"IFERROR(VLOOKUP($D92,料理データ!$A$3:$BK$997,8,FALSE),\"\")","v":""},{"$f":"IFERROR(VLOOKUP($D92,料理データ!$A$3:$BK$997,11,FALSE),\"\")","v":""},{"$f":"IFERROR(VLOOKUP($D92,料理データ!$A$3:$BK$997,14,FALSE),\"\")","v":""},{"$f":"IFERROR(VLOOKUP($D92,料理データ!$A$3:$BK$997,17,FALSE),\"\")","v":""},{"$f":"IFERROR(VLOOKUP($D92,料理データ!$A$3:$BK$997,20,FALSE),\"\")","v":""},{"$f":"IFERROR(VLOOKUP($D92,料理データ!$A$3:$BK$997,23,FALSE),\"\")","v":""},{"$f":"IFERROR(VLOOKUP($D92,料理データ!$A$3:$BK$997,26,FALSE),\"\")","v":""},{"$f":"IFERROR(VLOOKUP($D92,料理データ!$A$3:$BK$997,29,FALSE),\"\")","v":""},{"$f":"IFERROR(VLOOKUP($D92,料理データ!$A$3:$BK$997,32,FALSE),\"\")","v":""},{"$f":"IFERROR(VLOOKUP($D92,料理データ!$A$3:$BK$997,35,FALSE),\"\")","v":""},{"$f":"IFERROR(VLOOKUP($D92,料理データ!$A$3:$BK$997,38,FALSE),\"\")","v":""},{"$f":"IFERROR(VLOOKUP($D92,料理データ!$A$3:$BK$997,41,FALSE),\"\")","v":""},{"$f":"IFERROR(VLOOKUP($D92,料理データ!$A$3:$BK$997,44,FALSE),\"\")","v":""},{"$f":"IFERROR(VLOOKUP($D92,料理データ!$A$3:$BK$997,47,FALSE),\"\")","v":""},{"$f":"IFERROR(VLOOKUP($D92,料理データ!$A$3:$BK$997,50,FALSE),\"\")","v":""},{"$f":"IFERROR(VLOOKUP($D92,料理データ!$A$3:$BK$997,53,FALSE),\"\")","v":""},{"$f":"IFERROR(VLOOKUP($D92,料理データ!$A$3:$BK$997,56,FALSE),\"\")","v":""},{"$f":"IFERROR(VLOOKUP($D92,料理データ!$A$3:$BK$997,59,FALSE),\"\")","v":""},{"$f":"IFERROR(VLOOKUP($D92,料理データ!$A$3:$BK$997,62,FALSE),\"\")","v":""},"                   ","                   "]
[null,null,null,{"$f":"+'月間献立（乳児）'!I11","v":0},{"$f":"IFERROR(VLOOKUP($D93,料理データ!$A$3:$BK$997,3,FALSE),\"\")","v":""},{"$f":"IFERROR(VLOOKUP($D93,料理データ!$A$3:$BK$997,5,FALSE),\"\")","v":""},{"$f":"IFERROR(VLOOKUP($D93,料理データ!$A$3:$BK$997,8,FALSE),\"\")","v":""},{"$f":"IFERROR(VLOOKUP($D93,料理データ!$A$3:$BK$997,11,FALSE),\"\")","v":""},{"$f":"IFERROR(VLOOKUP($D93,料理データ!$A$3:$BK$997,14,FALSE),\"\")","v":""},{"$f":"IFERROR(VLOOKUP($D93,料理データ!$A$3:$BK$997,17,FALSE),\"\")","v":""},{"$f":"IFERROR(VLOOKUP($D93,料理データ!$A$3:$BK$997,20,FALSE),\"\")","v":""},{"$f":"IFERROR(VLOOKUP($D93,料理データ!$A$3:$BK$997,23,FALSE),\"\")","v":""},{"$f":"IFERROR(VLOOKUP($D93,料理データ!$A$3:$BK$997,26,FALSE),\"\")","v":""},{"$f":"IFERROR(VLOOKUP($D93,料理データ!$A$3:$BK$997,29,FALSE),\"\")","v":""},{"$f":"IFERROR(VLOOKUP($D93,料理データ!$A$3:$BK$997,32,FALSE),\"\")","v":""},{"$f":"IFERROR(VLOOKUP($D93,料理データ!$A$3:$BK$997,35,FALSE),\"\")","v":""},{"$f":"IFERROR(VLOOKUP($D93,料理データ!$A$3:$BK$997,38,FALSE),\"\")","v":""},{"$f":"IFERROR(VLOOKUP($D93,料理データ!$A$3:$BK$997,41,FALSE),\"\")","v":""},{"$f":"IFERROR(VLOOKUP($D93,料理データ!$A$3:$BK$997,44,FALSE),\"\")","v":""},{"$f":"IFERROR(VLOOKUP($D93,料理データ!$A$3:$BK$997,47,FALSE),\"\")","v":""},{"$f":"IFERROR(VLOOKUP($D93,料理データ!$A$3:$BK$997,50,FALSE),\"\")","v":""},{"$f":"IFERROR(VLOOKUP($D93,料理データ!$A$3:$BK$997,53,FALSE),\"\")","v":""},{"$f":"IFERROR(VLOOKUP($D93,料理データ!$A$3:$BK$997,56,FALSE),\"\")","v":""},{"$f":"IFERROR(VLOOKUP($D93,料理データ!$A$3:$BK$997,59,FALSE),\"\")","v":""},{"$f":"IFERROR(VLOOKUP($D93,料理データ!$A$3:$BK$997,62,FALSE),\"\")","v":""},"                   ","                   "]
[null,null,null,{"$f":"+'月間献立（乳児）'!J11","v":0},{"$f":"IFERROR(VLOOKUP($D94,料理データ!$A$3:$BK$997,3,FALSE),\"\")","v":""},{"$f":"IFERROR(VLOOKUP($D94,料理データ!$A$3:$BK$997,5,FALSE),\"\")","v":""},{"$f":"IFERROR(VLOOKUP($D94,料理データ!$A$3:$BK$997,8,FALSE),\"\")","v":""},{"$f":"IFERROR(VLOOKUP($D94,料理データ!$A$3:$BK$997,11,FALSE),\"\")","v":""},{"$f":"IFERROR(VLOOKUP($D94,料理データ!$A$3:$BK$997,14,FALSE),\"\")","v":""},{"$f":"IFERROR(VLOOKUP($D94,料理データ!$A$3:$BK$997,17,FALSE),\"\")","v":""},{"$f":"IFERROR(VLOOKUP($D94,料理データ!$A$3:$BK$997,20,FALSE),\"\")","v":""},{"$f":"IFERROR(VLOOKUP($D94,料理データ!$A$3:$BK$997,23,FALSE),\"\")","v":""},{"$f":"IFERROR(VLOOKUP($D94,料理データ!$A$3:$BK$997,26,FALSE),\"\")","v":""},{"$f":"IFERROR(VLOOKUP($D94,料理データ!$A$3:$BK$997,29,FALSE),\"\")","v":""},{"$f":"IFERROR(VLOOKUP($D94,料理データ!$A$3:$BK$997,32,FALSE),\"\")","v":""},{"$f":"IFERROR(VLOOKUP($D94,料理データ!$A$3:$BK$997,35,FALSE),\"\")","v":""},{"$f":"IFERROR(VLOOKUP($D94,料理データ!$A$3:$BK$997,38,FALSE),\"\")","v":""},{"$f":"IFERROR(VLOOKUP($D94,料理データ!$A$3:$BK$997,41,FALSE),\"\")","v":""},{"$f":"IFERROR(VLOOKUP($D94,料理データ!$A$3:$BK$997,44,FALSE),\"\")","v":""},{"$f":"IFERROR(VLOOKUP($D94,料理データ!$A$3:$BK$997,47,FALSE),\"\")","v":""},{"$f":"IFERROR(VLOOKUP($D94,料理データ!$A$3:$BK$997,50,FALSE),\"\")","v":""},{"$f":"IFERROR(VLOOKUP($D94,料理データ!$A$3:$BK$997,53,FALSE),\"\")","v":""},{"$f":"IFERROR(VLOOKUP($D94,料理データ!$A$3:$BK$997,56,FALSE),\"\")","v":""},{"$f":"IFERROR(VLOOKUP($D94,料理データ!$A$3:$BK$997,59,FALSE),\"\")","v":""},{"$f":"IFERROR(VLOOKUP($D94,料理データ!$A$3:$BK$997,62,FALSE),\"\")","v":""},"                   ","                   "]
[null,null,null,{"$f":"+'月間献立（乳児）'!K11","v":0},{"$f":"IFERROR(VLOOKUP($D95,料理データ!$A$3:$BK$997,3,FALSE),\"\")","v":""},{"$f":"IFERROR(VLOOKUP($D95,料理データ!$A$3:$BK$997,5,FALSE),\"\")","v":""},{"$f":"IFERROR(VLOOKUP($D95,料理データ!$A$3:$BK$997,8,FALSE),\"\")","v":""},{"$f":"IFERROR(VLOOKUP($D95,料理データ!$A$3:$BK$997,11,FALSE),\"\")","v":""},{"$f":"IFERROR(VLOOKUP($D95,料理データ!$A$3:$BK$997,14,FALSE),\"\")","v":""},{"$f":"IFERROR(VLOOKUP($D95,料理データ!$A$3:$BK$997,17,FALSE),\"\")","v":""},{"$f":"IFERROR(VLOOKUP($D95,料理データ!$A$3:$BK$997,20,FALSE),\"\")","v":""},{"$f":"IFERROR(VLOOKUP($D95,料理データ!$A$3:$BK$997,23,FALSE),\"\")","v":""},{"$f":"IFERROR(VLOOKUP($D95,料理データ!$A$3:$BK$997,26,FALSE),\"\")","v":""},{"$f":"IFERROR(VLOOKUP($D95,料理データ!$A$3:$BK$997,29,FALSE),\"\")","v":""},{"$f":"IFERROR(VLOOKUP($D95,料理データ!$A$3:$BK$997,32,FALSE),\"\")","v":""},{"$f":"IFERROR(VLOOKUP($D95,料理データ!$A$3:$BK$997,35,FALSE),\"\")","v":""},{"$f":"IFERROR(VLOOKUP($D95,料理データ!$A$3:$BK$997,38,FALSE),\"\")","v":""},{"$f":"IFERROR(VLOOKUP($D95,料理データ!$A$3:$BK$997,41,FALSE),\"\")","v":""},{"$f":"IFERROR(VLOOKUP($D95,料理データ!$A$3:$BK$997,44,FALSE),\"\")","v":""},{"$f":"IFERROR(VLOOKUP($D95,料理データ!$A$3:$BK$997,47,FALSE),\"\")","v":""},{"$f":"IFERROR(VLOOKUP($D95,料理データ!$A$3:$BK$997,50,FALSE),\"\")","v":""},{"$f":"IFERROR(VLOOKUP($D95,料理データ!$A$3:$BK$997,53,FALSE),\"\")","v":""},{"$f":"IFERROR(VLOOKUP($D95,料理データ!$A$3:$BK$997,56,FALSE),\"\")","v":""},{"$f":"IFERROR(VLOOKUP($D95,料理データ!$A$3:$BK$997,59,FALSE),\"\")","v":""},{"$f":"IFERROR(VLOOKUP($D95,料理データ!$A$3:$BK$997,62,FALSE),\"\")","v":""},"                   ","                   "]
[null,null,"午後おやつ",{"$f":"+'月間献立（乳児）'!L11","v":0},{"$f":"IFERROR(VLOOKUP($D96,料理データ!$A$3:$BK$997,3,FALSE),\"\")","v":""},{"$f":"IFERROR(VLOOKUP($D96,料理データ!$A$3:$BK$997,5,FALSE),\"\")","v":""},{"$f":"IFERROR(VLOOKUP($D96,料理データ!$A$3:$BK$997,8,FALSE),\"\")","v":""},{"$f":"IFERROR(VLOOKUP($D96,料理データ!$A$3:$BK$997,11,FALSE),\"\")","v":""},{"$f":"IFERROR(VLOOKUP($D96,料理データ!$A$3:$BK$997,14,FALSE),\"\")","v":""},{"$f":"IFERROR(VLOOKUP($D96,料理データ!$A$3:$BK$997,17,FALSE),\"\")","v":""},{"$f":"IFERROR(VLOOKUP($D96,料理データ!$A$3:$BK$997,20,FALSE),\"\")","v":""},{"$f":"IFERROR(VLOOKUP($D96,料理データ!$A$3:$BK$997,23,FALSE),\"\")","v":""},{"$f":"IFERROR(VLOOKUP($D96,料理データ!$A$3:$BK$997,26,FALSE),\"\")","v":""},{"$f":"IFERROR(VLOOKUP($D96,料理データ!$A$3:$BK$997,29,FALSE),\"\")","v":""},{"$f":"IFERROR(VLOOKUP($D96,料理データ!$A$3:$BK$997,32,FALSE),\"\")","v":""},{"$f":"IFERROR(VLOOKUP($D96,料理データ!$A$3:$BK$997,35,FALSE),\"\")","v":""},{"$f":"IFERROR(VLOOKUP($D96,料理データ!$A$3:$BK$997,38,FALSE),\"\")","v":""},{"$f":"IFERROR(VLOOKUP($D96,料理データ!$A$3:$BK$997,41,FALSE),\"\")","v":""},{"$f":"IFERROR(VLOOKUP($D96,料理データ!$A$3:$BK$997,44,FALSE),\"\")","v":""},{"$f":"IFERROR(VLOOKUP($D96,料理データ!$A$3:$BK$997,47,FALSE),\"\")","v":""},{"$f":"IFERROR(VLOOKUP($D96,料理データ!$A$3:$BK$997,50,FALSE),\"\")","v":""},{"$f":"IFERROR(VLOOKUP($D96,料理データ!$A$3:$BK$997,53,FALSE),\"\")","v":""},{"$f":"IFERROR(VLOOKUP($D96,料理データ!$A$3:$BK$997,56,FALSE),\"\")","v":""},{"$f":"IFERROR(VLOOKUP($D96,料理データ!$A$3:$BK$997,59,FALSE),\"\")","v":""},{"$f":"IFERROR(VLOOKUP($D96,料理データ!$A$3:$BK$997,62,FALSE),\"\")","v":""},"                   ","                   "]
[null,null,null,{"$f":"+'月間献立（乳児）'!M11","v":0},{"$f":"IFERROR(VLOOKUP($D97,料理データ!$A$3:$BK$997,3,FALSE),\"\")","v":""},{"$f":"IFERROR(VLOOKUP($D97,料理データ!$A$3:$BK$997,5,FALSE),\"\")","v":""},{"$f":"IFERROR(VLOOKUP($D97,料理データ!$A$3:$BK$997,8,FALSE),\"\")","v":""},{"$f":"IFERROR(VLOOKUP($D97,料理データ!$A$3:$BK$997,11,FALSE),\"\")","v":""},{"$f":"IFERROR(VLOOKUP($D97,料理データ!$A$3:$BK$997,14,FALSE),\"\")","v":""},{"$f":"IFERROR(VLOOKUP($D97,料理データ!$A$3:$BK$997,17,FALSE),\"\")","v":""},{"$f":"IFERROR(VLOOKUP($D97,料理データ!$A$3:$BK$997,20,FALSE),\"\")","v":""},{"$f":"IFERROR(VLOOKUP($D97,料理データ!$A$3:$BK$997,23,FALSE),\"\")","v":""},{"$f":"IFERROR(VLOOKUP($D97,料理データ!$A$3:$BK$997,26,FALSE),\"\")","v":""},{"$f":"IFERROR(VLOOKUP($D97,料理データ!$A$3:$BK$997,29,FALSE),\"\")","v":""},{"$f":"IFERROR(VLOOKUP($D97,料理データ!$A$3:$BK$997,32,FALSE),\"\")","v":""},{"$f":"IFERROR(VLOOKUP($D97,料理データ!$A$3:$BK$997,35,FALSE),\"\")","v":""},{"$f":"IFERROR(VLOOKUP($D97,料理データ!$A$3:$BK$997,38,FALSE),\"\")","v":""},{"$f":"IFERROR(VLOOKUP($D97,料理データ!$A$3:$BK$997,41,FALSE),\"\")","v":""},{"$f":"IFERROR(VLOOKUP($D97,料理データ!$A$3:$BK$997,44,FALSE),\"\")","v":""},{"$f":"IFERROR(VLOOKUP($D97,料理データ!$A$3:$BK$997,47,FALSE),\"\")","v":""},{"$f":"IFERROR(VLOOKUP($D97,料理データ!$A$3:$BK$997,50,FALSE),\"\")","v":""},{"$f":"IFERROR(VLOOKUP($D97,料理データ!$A$3:$BK$997,53,FALSE),\"\")","v":""},{"$f":"IFERROR(VLOOKUP($D97,料理データ!$A$3:$BK$997,56,FALSE),\"\")","v":""},{"$f":"IFERROR(VLOOKUP($D97,料理データ!$A$3:$BK$997,59,FALSE),\"\")","v":""},{"$f":"IFERROR(VLOOKUP($D97,料理データ!$A$3:$BK$997,62,FALSE),\"\")","v":""},"                   ","                   "]
[null,null,null,{"$f":"+'月間献立（乳児）'!N11","v":0},{"$f":"IFERROR(VLOOKUP($D98,料理データ!$A$3:$BK$997,3,FALSE),\"\")","v":""},{"$f":"IFERROR(VLOOKUP($D98,料理データ!$A$3:$BK$997,5,FALSE),\"\")","v":""},{"$f":"IFERROR(VLOOKUP($D98,料理データ!$A$3:$BK$997,8,FALSE),\"\")","v":""},{"$f":"IFERROR(VLOOKUP($D98,料理データ!$A$3:$BK$997,11,FALSE),\"\")","v":""},{"$f":"IFERROR(VLOOKUP($D98,料理データ!$A$3:$BK$997,14,FALSE),\"\")","v":""},{"$f":"IFERROR(VLOOKUP($D98,料理データ!$A$3:$BK$997,17,FALSE),\"\")","v":""},{"$f":"IFERROR(VLOOKUP($D98,料理データ!$A$3:$BK$997,20,FALSE),\"\")","v":""},{"$f":"IFERROR(VLOOKUP($D98,料理データ!$A$3:$BK$997,23,FALSE),\"\")","v":""},{"$f":"IFERROR(VLOOKUP($D98,料理データ!$A$3:$BK$997,26,FALSE),\"\")","v":""},{"$f":"IFERROR(VLOOKUP($D98,料理データ!$A$3:$BK$997,29,FALSE),\"\")","v":""},{"$f":"IFERROR(VLOOKUP($D98,料理データ!$A$3:$BK$997,32,FALSE),\"\")","v":""},{"$f":"IFERROR(VLOOKUP($D98,料理データ!$A$3:$BK$997,35,FALSE),\"\")","v":""},{"$f":"IFERROR(VLOOKUP($D98,料理データ!$A$3:$BK$997,38,FALSE),\"\")","v":""},{"$f":"IFERROR(VLOOKUP($D98,料理データ!$A$3:$BK$997,41,FALSE),\"\")","v":""},{"$f":"IFERROR(VLOOKUP($D98,料理データ!$A$3:$BK$997,44,FALSE),\"\")","v":""},{"$f":"IFERROR(VLOOKUP($D98,料理データ!$A$3:$BK$997,47,FALSE),\"\")","v":""},{"$f":"IFERROR(VLOOKUP($D98,料理データ!$A$3:$BK$997,50,FALSE),\"\")","v":""},{"$f":"IFERROR(VLOOKUP($D98,料理データ!$A$3:$BK$997,53,FALSE),\"\")","v":""},{"$f":"IFERROR(VLOOKUP($D98,料理データ!$A$3:$BK$997,56,FALSE),\"\")","v":""},{"$f":"IFERROR(VLOOKUP($D98,料理データ!$A$3:$BK$997,59,FALSE),\"\")","v":""},{"$f":"IFERROR(VLOOKUP($D98,料理データ!$A$3:$BK$997,62,FALSE),\"\")","v":""},"                   ",{"$f":"SUBSTITUTE(Z98,\"-\",\"\")","v":"                   "}]
[{"$f":"+'月間献立（幼児）'!A13","v":9},{"$f":"+'月間献立（幼児）'!B13","v":"(日)"},"午前おやつ",{"$f":"+'月間献立（乳児）'!C12","v":0},{"$f":"IFERROR(VLOOKUP($D99,料理データ!$A$3:$BK$997,3,FALSE),\"\")","v":""},{"$f":"IFERROR(VLOOKUP($D99,料理データ!$A$3:$BK$997,5,FALSE),\"\")","v":""},{"$f":"IFERROR(VLOOKUP($D99,料理データ!$A$3:$BK$997,8,FALSE),\"\")","v":""},{"$f":"IFERROR(VLOOKUP($D99,料理データ!$A$3:$BK$997,11,FALSE),\"\")","v":""},{"$f":"IFERROR(VLOOKUP($D99,料理データ!$A$3:$BK$997,14,FALSE),\"\")","v":""},{"$f":"IFERROR(VLOOKUP($D99,料理データ!$A$3:$BK$997,17,FALSE),\"\")","v":""},{"$f":"IFERROR(VLOOKUP($D99,料理データ!$A$3:$BK$997,20,FALSE),\"\")","v":""},{"$f":"IFERROR(VLOOKUP($D99,料理データ!$A$3:$BK$997,23,FALSE),\"\")","v":""},{"$f":"IFERROR(VLOOKUP($D99,料理データ!$A$3:$BK$997,26,FALSE),\"\")","v":""},{"$f":"IFERROR(VLOOKUP($D99,料理データ!$A$3:$BK$997,29,FALSE),\"\")","v":""},{"$f":"IFERROR(VLOOKUP($D99,料理データ!$A$3:$BK$997,32,FALSE),\"\")","v":""},{"$f":"IFERROR(VLOOKUP($D99,料理データ!$A$3:$BK$997,35,FALSE),\"\")","v":""},{"$f":"IFERROR(VLOOKUP($D99,料理データ!$A$3:$BK$997,38,FALSE),\"\")","v":""},{"$f":"IFERROR(VLOOKUP($D99,料理データ!$A$3:$BK$997,41,FALSE),\"\")","v":""},{"$f":"IFERROR(VLOOKUP($D99,料理データ!$A$3:$BK$997,44,FALSE),\"\")","v":""},{"$f":"IFERROR(VLOOKUP($D99,料理データ!$A$3:$BK$997,47,FALSE),\"\")","v":""},{"$f":"IFERROR(VLOOKUP($D99,料理データ!$A$3:$BK$997,50,FALSE),\"\")","v":""},{"$f":"IFERROR(VLOOKUP($D99,料理データ!$A$3:$BK$997,53,FALSE),\"\")","v":""},{"$f":"IFERROR(VLOOKUP($D99,料理データ!$A$3:$BK$997,56,FALSE),\"\")","v":""},{"$f":"IFERROR(VLOOKUP($D99,料理データ!$A$3:$BK$997,59,FALSE),\"\")","v":""},{"$f":"IFERROR(VLOOKUP($D99,料理データ!$A$3:$BK$997,62,FALSE),\"\")","v":""},"                   ",{"$f":"SUBSTITUTE(Z99,\"-\",\" \")","v":"                   "},{"$f":"TRIM(CONCATENATE(AA99,AA100,AA101,\"▲\",AA102,AA103,AA104,AA105,AA106,AA107,\"▲\",AA108,AA109,AA110))","v":"▲ ▲"}]
[null,null,null,{"$f":"+'月間献立（乳児）'!D12","v":0},{"$f":"IFERROR(VLOOKUP($D100,料理データ!$A$3:$BK$997,3,FALSE),\"\")","v":""},{"$f":"IFERROR(VLOOKUP($D100,料理データ!$A$3:$BK$997,5,FALSE),\"\")","v":""},{"$f":"IFERROR(VLOOKUP($D100,料理データ!$A$3:$BK$997,8,FALSE),\"\")","v":""},{"$f":"IFERROR(VLOOKUP($D100,料理データ!$A$3:$BK$997,11,FALSE),\"\")","v":""},{"$f":"IFERROR(VLOOKUP($D100,料理データ!$A$3:$BK$997,14,FALSE),\"\")","v":""},{"$f":"IFERROR(VLOOKUP($D100,料理データ!$A$3:$BK$997,17,FALSE),\"\")","v":""},{"$f":"IFERROR(VLOOKUP($D100,料理データ!$A$3:$BK$997,20,FALSE),\"\")","v":""},{"$f":"IFERROR(VLOOKUP($D100,料理データ!$A$3:$BK$997,23,FALSE),\"\")","v":""},{"$f":"IFERROR(VLOOKUP($D100,料理データ!$A$3:$BK$997,26,FALSE),\"\")","v":""},{"$f":"IFERROR(VLOOKUP($D100,料理データ!$A$3:$BK$997,29,FALSE),\"\")","v":""},{"$f":"IFERROR(VLOOKUP($D100,料理データ!$A$3:$BK$997,32,FALSE),\"\")","v":""},{"$f":"IFERROR(VLOOKUP($D100,料理データ!$A$3:$BK$997,35,FALSE),\"\")","v":""},{"$f":"IFERROR(VLOOKUP($D100,料理データ!$A$3:$BK$997,38,FALSE),\"\")","v":""},{"$f":"IFERROR(VLOOKUP($D100,料理データ!$A$3:$BK$997,41,FALSE),\"\")","v":""},{"$f":"IFERROR(VLOOKUP($D100,料理データ!$A$3:$BK$997,44,FALSE),\"\")","v":""},{"$f":"IFERROR(VLOOKUP($D100,料理データ!$A$3:$BK$997,47,FALSE),\"\")","v":""},{"$f":"IFERROR(VLOOKUP($D100,料理データ!$A$3:$BK$997,50,FALSE),\"\")","v":""},{"$f":"IFERROR(VLOOKUP($D100,料理データ!$A$3:$BK$997,53,FALSE),\"\")","v":""},{"$f":"IFERROR(VLOOKUP($D100,料理データ!$A$3:$BK$997,56,FALSE),\"\")","v":""},{"$f":"IFERROR(VLOOKUP($D100,料理データ!$A$3:$BK$997,59,FALSE),\"\")","v":""},{"$f":"IFERROR(VLOOKUP($D100,料理データ!$A$3:$BK$997,62,FALSE),\"\")","v":""},"                   ",{"$f":"SUBSTITUTE(Z100,\"-\",\" \")","v":"                   "}]
[null,null,null,{"$f":"+'月間献立（乳児）'!E12","v":0},{"$f":"IFERROR(VLOOKUP($D101,料理データ!$A$3:$BK$997,3,FALSE),\"\")","v":""},{"$f":"IFERROR(VLOOKUP($D101,料理データ!$A$3:$BK$997,5,FALSE),\"\")","v":""},{"$f":"IFERROR(VLOOKUP($D101,料理データ!$A$3:$BK$997,8,FALSE),\"\")","v":""},{"$f":"IFERROR(VLOOKUP($D101,料理データ!$A$3:$BK$997,11,FALSE),\"\")","v":""},{"$f":"IFERROR(VLOOKUP($D101,料理データ!$A$3:$BK$997,14,FALSE),\"\")","v":""},{"$f":"IFERROR(VLOOKUP($D101,料理データ!$A$3:$BK$997,17,FALSE),\"\")","v":""},{"$f":"IFERROR(VLOOKUP($D101,料理データ!$A$3:$BK$997,20,FALSE),\"\")","v":""},{"$f":"IFERROR(VLOOKUP($D101,料理データ!$A$3:$BK$997,23,FALSE),\"\")","v":""},{"$f":"IFERROR(VLOOKUP($D101,料理データ!$A$3:$BK$997,26,FALSE),\"\")","v":""},{"$f":"IFERROR(VLOOKUP($D101,料理データ!$A$3:$BK$997,29,FALSE),\"\")","v":""},{"$f":"IFERROR(VLOOKUP($D101,料理データ!$A$3:$BK$997,32,FALSE),\"\")","v":""},{"$f":"IFERROR(VLOOKUP($D101,料理データ!$A$3:$BK$997,35,FALSE),\"\")","v":""},{"$f":"IFERROR(VLOOKUP($D101,料理データ!$A$3:$BK$997,38,FALSE),\"\")","v":""},{"$f":"IFERROR(VLOOKUP($D101,料理データ!$A$3:$BK$997,41,FALSE),\"\")","v":""},{"$f":"IFERROR(VLOOKUP($D101,料理データ!$A$3:$BK$997,44,FALSE),\"\")","v":""},{"$f":"IFERROR(VLOOKUP($D101,料理データ!$A$3:$BK$997,47,FALSE),\"\")","v":""},{"$f":"IFERROR(VLOOKUP($D101,料理データ!$A$3:$BK$997,50,FALSE),\"\")","v":""},{"$f":"IFERROR(VLOOKUP($D101,料理データ!$A$3:$BK$997,53,FALSE),\"\")","v":""},{"$f":"IFERROR(VLOOKUP($D101,料理データ!$A$3:$BK$997,56,FALSE),\"\")","v":""},{"$f":"IFERROR(VLOOKUP($D101,料理データ!$A$3:$BK$997,59,FALSE),\"\")","v":""},{"$f":"IFERROR(VLOOKUP($D101,料理データ!$A$3:$BK$997,62,FALSE),\"\")","v":""},"                   ",{"$f":"SUBSTITUTE(Z101,\"-\",\" \")","v":"                   "}]
[null,null,"昼食",{"$f":"+'月間献立（乳児）'!F12","v":0},{"$f":"IFERROR(VLOOKUP($D102,料理データ!$A$3:$BK$997,3,FALSE),\"\")","v":""},{"$f":"IFERROR(VLOOKUP($D102,料理データ!$A$3:$BK$997,5,FALSE),\"\")","v":""},{"$f":"IFERROR(VLOOKUP($D102,料理データ!$A$3:$BK$997,8,FALSE),\"\")","v":""},{"$f":"IFERROR(VLOOKUP($D102,料理データ!$A$3:$BK$997,11,FALSE),\"\")","v":""},{"$f":"IFERROR(VLOOKUP($D102,料理データ!$A$3:$BK$997,14,FALSE),\"\")","v":""},{"$f":"IFERROR(VLOOKUP($D102,料理データ!$A$3:$BK$997,17,FALSE),\"\")","v":""},{"$f":"IFERROR(VLOOKUP($D102,料理データ!$A$3:$BK$997,20,FALSE),\"\")","v":""},{"$f":"IFERROR(VLOOKUP($D102,料理データ!$A$3:$BK$997,23,FALSE),\"\")","v":""},{"$f":"IFERROR(VLOOKUP($D102,料理データ!$A$3:$BK$997,26,FALSE),\"\")","v":""},{"$f":"IFERROR(VLOOKUP($D102,料理データ!$A$3:$BK$997,29,FALSE),\"\")","v":""},{"$f":"IFERROR(VLOOKUP($D102,料理データ!$A$3:$BK$997,32,FALSE),\"\")","v":""},{"$f":"IFERROR(VLOOKUP($D102,料理データ!$A$3:$BK$997,35,FALSE),\"\")","v":""},{"$f":"IFERROR(VLOOKUP($D102,料理データ!$A$3:$BK$997,38,FALSE),\"\")","v":""},{"$f":"IFERROR(VLOOKUP($D102,料理データ!$A$3:$BK$997,41,FALSE),\"\")","v":""},{"$f":"IFERROR(VLOOKUP($D102,料理データ!$A$3:$BK$997,44,FALSE),\"\")","v":""},{"$f":"IFERROR(VLOOKUP($D102,料理データ!$A$3:$BK$997,47,FALSE),\"\")","v":""},{"$f":"IFERROR(VLOOKUP($D102,料理データ!$A$3:$BK$997,50,FALSE),\"\")","v":""},{"$f":"IFERROR(VLOOKUP($D102,料理データ!$A$3:$BK$997,53,FALSE),\"\")","v":""},{"$f":"IFERROR(VLOOKUP($D102,料理データ!$A$3:$BK$997,56,FALSE),\"\")","v":""},{"$f":"IFERROR(VLOOKUP($D102,料理データ!$A$3:$BK$997,59,FALSE),\"\")","v":""},{"$f":"IFERROR(VLOOKUP($D102,料理データ!$A$3:$BK$997,62,FALSE),\"\")","v":""},"                   ","                   "]
[null,null,null,{"$f":"+'月間献立（乳児）'!G12","v":0},{"$f":"IFERROR(VLOOKUP($D103,料理データ!$A$3:$BK$997,3,FALSE),\"\")","v":""},{"$f":"IFERROR(VLOOKUP($D103,料理データ!$A$3:$BK$997,5,FALSE),\"\")","v":""},{"$f":"IFERROR(VLOOKUP($D103,料理データ!$A$3:$BK$997,8,FALSE),\"\")","v":""},{"$f":"IFERROR(VLOOKUP($D103,料理データ!$A$3:$BK$997,11,FALSE),\"\")","v":""},{"$f":"IFERROR(VLOOKUP($D103,料理データ!$A$3:$BK$997,14,FALSE),\"\")","v":""},{"$f":"IFERROR(VLOOKUP($D103,料理データ!$A$3:$BK$997,17,FALSE),\"\")","v":""},{"$f":"IFERROR(VLOOKUP($D103,料理データ!$A$3:$BK$997,20,FALSE),\"\")","v":""},{"$f":"IFERROR(VLOOKUP($D103,料理データ!$A$3:$BK$997,23,FALSE),\"\")","v":""},{"$f":"IFERROR(VLOOKUP($D103,料理データ!$A$3:$BK$997,26,FALSE),\"\")","v":""},{"$f":"IFERROR(VLOOKUP($D103,料理データ!$A$3:$BK$997,29,FALSE),\"\")","v":""},{"$f":"IFERROR(VLOOKUP($D103,料理データ!$A$3:$BK$997,32,FALSE),\"\")","v":""},{"$f":"IFERROR(VLOOKUP($D103,料理データ!$A$3:$BK$997,35,FALSE),\"\")","v":""},{"$f":"IFERROR(VLOOKUP($D103,料理データ!$A$3:$BK$997,38,FALSE),\"\")","v":""},{"$f":"IFERROR(VLOOKUP($D103,料理データ!$A$3:$BK$997,41,FALSE),\"\")","v":""},{"$f":"IFERROR(VLOOKUP($D103,料理データ!$A$3:$BK$997,44,FALSE),\"\")","v":""},{"$f":"IFERROR(VLOOKUP($D103,料理データ!$A$3:$BK$997,47,FALSE),\"\")","v":""},{"$f":"IFERROR(VLOOKUP($D103,料理データ!$A$3:$BK$997,50,FALSE),\"\")","v":""},{"$f":"IFERROR(VLOOKUP($D103,料理データ!$A$3:$BK$997,53,FALSE),\"\")","v":""},{"$f":"IFERROR(VLOOKUP($D103,料理データ!$A$3:$BK$997,56,FALSE),\"\")","v":""},{"$f":"IFERROR(VLOOKUP($D103,料理データ!$A$3:$BK$997,59,FALSE),\"\")","v":""},{"$f":"IFERROR(VLOOKUP($D103,料理データ!$A$3:$BK$997,62,FALSE),\"\")","v":""},"                   ","                   "]
[null,null,null,{"$f":"+'月間献立（乳児）'!H12","v":0},{"$f":"IFERROR(VLOOKUP($D104,料理データ!$A$3:$BK$997,3,FALSE),\"\")","v":""},{"$f":"IFERROR(VLOOKUP($D104,料理データ!$A$3:$BK$997,5,FALSE),\"\")","v":""},{"$f":"IFERROR(VLOOKUP($D104,料理データ!$A$3:$BK$997,8,FALSE),\"\")","v":""},{"$f":"IFERROR(VLOOKUP($D104,料理データ!$A$3:$BK$997,11,FALSE),\"\")","v":""},{"$f":"IFERROR(VLOOKUP($D104,料理データ!$A$3:$BK$997,14,FALSE),\"\")","v":""},{"$f":"IFERROR(VLOOKUP($D104,料理データ!$A$3:$BK$997,17,FALSE),\"\")","v":""},{"$f":"IFERROR(VLOOKUP($D104,料理データ!$A$3:$BK$997,20,FALSE),\"\")","v":""},{"$f":"IFERROR(VLOOKUP($D104,料理データ!$A$3:$BK$997,23,FALSE),\"\")","v":""},{"$f":"IFERROR(VLOOKUP($D104,料理データ!$A$3:$BK$997,26,FALSE),\"\")","v":""},{"$f":"IFERROR(VLOOKUP($D104,料理データ!$A$3:$BK$997,29,FALSE),\"\")","v":""},{"$f":"IFERROR(VLOOKUP($D104,料理データ!$A$3:$BK$997,32,FALSE),\"\")","v":""},{"$f":"IFERROR(VLOOKUP($D104,料理データ!$A$3:$BK$997,35,FALSE),\"\")","v":""},{"$f":"IFERROR(VLOOKUP($D104,料理データ!$A$3:$BK$997,38,FALSE),\"\")","v":""},{"$f":"IFERROR(VLOOKUP($D104,料理データ!$A$3:$BK$997,41,FALSE),\"\")","v":""},{"$f":"IFERROR(VLOOKUP($D104,料理データ!$A$3:$BK$997,44,FALSE),\"\")","v":""},{"$f":"IFERROR(VLOOKUP($D104,料理データ!$A$3:$BK$997,47,FALSE),\"\")","v":""},{"$f":"IFERROR(VLOOKUP($D104,料理データ!$A$3:$BK$997,50,FALSE),\"\")","v":""},{"$f":"IFERROR(VLOOKUP($D104,料理データ!$A$3:$BK$997,53,FALSE),\"\")","v":""},{"$f":"IFERROR(VLOOKUP($D104,料理データ!$A$3:$BK$997,56,FALSE),\"\")","v":""},{"$f":"IFERROR(VLOOKUP($D104,料理データ!$A$3:$BK$997,59,FALSE),\"\")","v":""},{"$f":"IFERROR(VLOOKUP($D104,料理データ!$A$3:$BK$997,62,FALSE),\"\")","v":""},"                   ","                   "]
[null,null,null,{"$f":"+'月間献立（乳児）'!I12","v":0},{"$f":"IFERROR(VLOOKUP($D105,料理データ!$A$3:$BK$997,3,FALSE),\"\")","v":""},{"$f":"IFERROR(VLOOKUP($D105,料理データ!$A$3:$BK$997,5,FALSE),\"\")","v":""},{"$f":"IFERROR(VLOOKUP($D105,料理データ!$A$3:$BK$997,8,FALSE),\"\")","v":""},{"$f":"IFERROR(VLOOKUP($D105,料理データ!$A$3:$BK$997,11,FALSE),\"\")","v":""},{"$f":"IFERROR(VLOOKUP($D105,料理データ!$A$3:$BK$997,14,FALSE),\"\")","v":""},{"$f":"IFERROR(VLOOKUP($D105,料理データ!$A$3:$BK$997,17,FALSE),\"\")","v":""},{"$f":"IFERROR(VLOOKUP($D105,料理データ!$A$3:$BK$997,20,FALSE),\"\")","v":""},{"$f":"IFERROR(VLOOKUP($D105,料理データ!$A$3:$BK$997,23,FALSE),\"\")","v":""},{"$f":"IFERROR(VLOOKUP($D105,料理データ!$A$3:$BK$997,26,FALSE),\"\")","v":""},{"$f":"IFERROR(VLOOKUP($D105,料理データ!$A$3:$BK$997,29,FALSE),\"\")","v":""},{"$f":"IFERROR(VLOOKUP($D105,料理データ!$A$3:$BK$997,32,FALSE),\"\")","v":""},{"$f":"IFERROR(VLOOKUP($D105,料理データ!$A$3:$BK$997,35,FALSE),\"\")","v":""},{"$f":"IFERROR(VLOOKUP($D105,料理データ!$A$3:$BK$997,38,FALSE),\"\")","v":""},{"$f":"IFERROR(VLOOKUP($D105,料理データ!$A$3:$BK$997,41,FALSE),\"\")","v":""},{"$f":"IFERROR(VLOOKUP($D105,料理データ!$A$3:$BK$997,44,FALSE),\"\")","v":""},{"$f":"IFERROR(VLOOKUP($D105,料理データ!$A$3:$BK$997,47,FALSE),\"\")","v":""},{"$f":"IFERROR(VLOOKUP($D105,料理データ!$A$3:$BK$997,50,FALSE),\"\")","v":""},{"$f":"IFERROR(VLOOKUP($D105,料理データ!$A$3:$BK$997,53,FALSE),\"\")","v":""},{"$f":"IFERROR(VLOOKUP($D105,料理データ!$A$3:$BK$997,56,FALSE),\"\")","v":""},{"$f":"IFERROR(VLOOKUP($D105,料理データ!$A$3:$BK$997,59,FALSE),\"\")","v":""},{"$f":"IFERROR(VLOOKUP($D105,料理データ!$A$3:$BK$997,62,FALSE),\"\")","v":""},"                   ","                   "]
[null,null,null,{"$f":"+'月間献立（乳児）'!J12","v":0},{"$f":"IFERROR(VLOOKUP($D106,料理データ!$A$3:$BK$997,3,FALSE),\"\")","v":""},{"$f":"IFERROR(VLOOKUP($D106,料理データ!$A$3:$BK$997,5,FALSE),\"\")","v":""},{"$f":"IFERROR(VLOOKUP($D106,料理データ!$A$3:$BK$997,8,FALSE),\"\")","v":""},{"$f":"IFERROR(VLOOKUP($D106,料理データ!$A$3:$BK$997,11,FALSE),\"\")","v":""},{"$f":"IFERROR(VLOOKUP($D106,料理データ!$A$3:$BK$997,14,FALSE),\"\")","v":""},{"$f":"IFERROR(VLOOKUP($D106,料理データ!$A$3:$BK$997,17,FALSE),\"\")","v":""},{"$f":"IFERROR(VLOOKUP($D106,料理データ!$A$3:$BK$997,20,FALSE),\"\")","v":""},{"$f":"IFERROR(VLOOKUP($D106,料理データ!$A$3:$BK$997,23,FALSE),\"\")","v":""},{"$f":"IFERROR(VLOOKUP($D106,料理データ!$A$3:$BK$997,26,FALSE),\"\")","v":""},{"$f":"IFERROR(VLOOKUP($D106,料理データ!$A$3:$BK$997,29,FALSE),\"\")","v":""},{"$f":"IFERROR(VLOOKUP($D106,料理データ!$A$3:$BK$997,32,FALSE),\"\")","v":""},{"$f":"IFERROR(VLOOKUP($D106,料理データ!$A$3:$BK$997,35,FALSE),\"\")","v":""},{"$f":"IFERROR(VLOOKUP($D106,料理データ!$A$3:$BK$997,38,FALSE),\"\")","v":""},{"$f":"IFERROR(VLOOKUP($D106,料理データ!$A$3:$BK$997,41,FALSE),\"\")","v":""},{"$f":"IFERROR(VLOOKUP($D106,料理データ!$A$3:$BK$997,44,FALSE),\"\")","v":""},{"$f":"IFERROR(VLOOKUP($D106,料理データ!$A$3:$BK$997,47,FALSE),\"\")","v":""},{"$f":"IFERROR(VLOOKUP($D106,料理データ!$A$3:$BK$997,50,FALSE),\"\")","v":""},{"$f":"IFERROR(VLOOKUP($D106,料理データ!$A$3:$BK$997,53,FALSE),\"\")","v":""},{"$f":"IFERROR(VLOOKUP($D106,料理データ!$A$3:$BK$997,56,FALSE),\"\")","v":""},{"$f":"IFERROR(VLOOKUP($D106,料理データ!$A$3:$BK$997,59,FALSE),\"\")","v":""},{"$f":"IFERROR(VLOOKUP($D106,料理データ!$A$3:$BK$997,62,FALSE),\"\")","v":""},"                   ","                   "]
[null,null,null,{"$f":"+'月間献立（乳児）'!K12","v":0},{"$f":"IFERROR(VLOOKUP($D107,料理データ!$A$3:$BK$997,3,FALSE),\"\")","v":""},{"$f":"IFERROR(VLOOKUP($D107,料理データ!$A$3:$BK$997,5,FALSE),\"\")","v":""},{"$f":"IFERROR(VLOOKUP($D107,料理データ!$A$3:$BK$997,8,FALSE),\"\")","v":""},{"$f":"IFERROR(VLOOKUP($D107,料理データ!$A$3:$BK$997,11,FALSE),\"\")","v":""},{"$f":"IFERROR(VLOOKUP($D107,料理データ!$A$3:$BK$997,14,FALSE),\"\")","v":""},{"$f":"IFERROR(VLOOKUP($D107,料理データ!$A$3:$BK$997,17,FALSE),\"\")","v":""},{"$f":"IFERROR(VLOOKUP($D107,料理データ!$A$3:$BK$997,20,FALSE),\"\")","v":""},{"$f":"IFERROR(VLOOKUP($D107,料理データ!$A$3:$BK$997,23,FALSE),\"\")","v":""},{"$f":"IFERROR(VLOOKUP($D107,料理データ!$A$3:$BK$997,26,FALSE),\"\")","v":""},{"$f":"IFERROR(VLOOKUP($D107,料理データ!$A$3:$BK$997,29,FALSE),\"\")","v":""},{"$f":"IFERROR(VLOOKUP($D107,料理データ!$A$3:$BK$997,32,FALSE),\"\")","v":""},{"$f":"IFERROR(VLOOKUP($D107,料理データ!$A$3:$BK$997,35,FALSE),\"\")","v":""},{"$f":"IFERROR(VLOOKUP($D107,料理データ!$A$3:$BK$997,38,FALSE),\"\")","v":""},{"$f":"IFERROR(VLOOKUP($D107,料理データ!$A$3:$BK$997,41,FALSE),\"\")","v":""},{"$f":"IFERROR(VLOOKUP($D107,料理データ!$A$3:$BK$997,44,FALSE),\"\")","v":""},{"$f":"IFERROR(VLOOKUP($D107,料理データ!$A$3:$BK$997,47,FALSE),\"\")","v":""},{"$f":"IFERROR(VLOOKUP($D107,料理データ!$A$3:$BK$997,50,FALSE),\"\")","v":""},{"$f":"IFERROR(VLOOKUP($D107,料理データ!$A$3:$BK$997,53,FALSE),\"\")","v":""},{"$f":"IFERROR(VLOOKUP($D107,料理データ!$A$3:$BK$997,56,FALSE),\"\")","v":""},{"$f":"IFERROR(VLOOKUP($D107,料理データ!$A$3:$BK$997,59,FALSE),\"\")","v":""},{"$f":"IFERROR(VLOOKUP($D107,料理データ!$A$3:$BK$997,62,FALSE),\"\")","v":""},"                   ","                   "]
[null,null,"午後おやつ",{"$f":"+'月間献立（乳児）'!L12","v":0},{"$f":"IFERROR(VLOOKUP($D108,料理データ!$A$3:$BK$997,3,FALSE),\"\")","v":""},{"$f":"IFERROR(VLOOKUP($D108,料理データ!$A$3:$BK$997,5,FALSE),\"\")","v":""},{"$f":"IFERROR(VLOOKUP($D108,料理データ!$A$3:$BK$997,8,FALSE),\"\")","v":""},{"$f":"IFERROR(VLOOKUP($D108,料理データ!$A$3:$BK$997,11,FALSE),\"\")","v":""},{"$f":"IFERROR(VLOOKUP($D108,料理データ!$A$3:$BK$997,14,FALSE),\"\")","v":""},{"$f":"IFERROR(VLOOKUP($D108,料理データ!$A$3:$BK$997,17,FALSE),\"\")","v":""},{"$f":"IFERROR(VLOOKUP($D108,料理データ!$A$3:$BK$997,20,FALSE),\"\")","v":""},{"$f":"IFERROR(VLOOKUP($D108,料理データ!$A$3:$BK$997,23,FALSE),\"\")","v":""},{"$f":"IFERROR(VLOOKUP($D108,料理データ!$A$3:$BK$997,26,FALSE),\"\")","v":""},{"$f":"IFERROR(VLOOKUP($D108,料理データ!$A$3:$BK$997,29,FALSE),\"\")","v":""},{"$f":"IFERROR(VLOOKUP($D108,料理データ!$A$3:$BK$997,32,FALSE),\"\")","v":""},{"$f":"IFERROR(VLOOKUP($D108,料理データ!$A$3:$BK$997,35,FALSE),\"\")","v":""},{"$f":"IFERROR(VLOOKUP($D108,料理データ!$A$3:$BK$997,38,FALSE),\"\")","v":""},{"$f":"IFERROR(VLOOKUP($D108,料理データ!$A$3:$BK$997,41,FALSE),\"\")","v":""},{"$f":"IFERROR(VLOOKUP($D108,料理データ!$A$3:$BK$997,44,FALSE),\"\")","v":""},{"$f":"IFERROR(VLOOKUP($D108,料理データ!$A$3:$BK$997,47,FALSE),\"\")","v":""},{"$f":"IFERROR(VLOOKUP($D108,料理データ!$A$3:$BK$997,50,FALSE),\"\")","v":""},{"$f":"IFERROR(VLOOKUP($D108,料理データ!$A$3:$BK$997,53,FALSE),\"\")","v":""},{"$f":"IFERROR(VLOOKUP($D108,料理データ!$A$3:$BK$997,56,FALSE),\"\")","v":""},{"$f":"IFERROR(VLOOKUP($D108,料理データ!$A$3:$BK$997,59,FALSE),\"\")","v":""},{"$f":"IFERROR(VLOOKUP($D108,料理データ!$A$3:$BK$997,62,FALSE),\"\")","v":""},"                   ","                   "]
[null,null,null,{"$f":"+'月間献立（乳児）'!M12","v":0},{"$f":"IFERROR(VLOOKUP($D109,料理データ!$A$3:$BK$997,3,FALSE),\"\")","v":""},{"$f":"IFERROR(VLOOKUP($D109,料理データ!$A$3:$BK$997,5,FALSE),\"\")","v":""},{"$f":"IFERROR(VLOOKUP($D109,料理データ!$A$3:$BK$997,8,FALSE),\"\")","v":""},{"$f":"IFERROR(VLOOKUP($D109,料理データ!$A$3:$BK$997,11,FALSE),\"\")","v":""},{"$f":"IFERROR(VLOOKUP($D109,料理データ!$A$3:$BK$997,14,FALSE),\"\")","v":""},{"$f":"IFERROR(VLOOKUP($D109,料理データ!$A$3:$BK$997,17,FALSE),\"\")","v":""},{"$f":"IFERROR(VLOOKUP($D109,料理データ!$A$3:$BK$997,20,FALSE),\"\")","v":""},{"$f":"IFERROR(VLOOKUP($D109,料理データ!$A$3:$BK$997,23,FALSE),\"\")","v":""},{"$f":"IFERROR(VLOOKUP($D109,料理データ!$A$3:$BK$997,26,FALSE),\"\")","v":""},{"$f":"IFERROR(VLOOKUP($D109,料理データ!$A$3:$BK$997,29,FALSE),\"\")","v":""},{"$f":"IFERROR(VLOOKUP($D109,料理データ!$A$3:$BK$997,32,FALSE),\"\")","v":""},{"$f":"IFERROR(VLOOKUP($D109,料理データ!$A$3:$BK$997,35,FALSE),\"\")","v":""},{"$f":"IFERROR(VLOOKUP($D109,料理データ!$A$3:$BK$997,38,FALSE),\"\")","v":""},{"$f":"IFERROR(VLOOKUP($D109,料理データ!$A$3:$BK$997,41,FALSE),\"\")","v":""},{"$f":"IFERROR(VLOOKUP($D109,料理データ!$A$3:$BK$997,44,FALSE),\"\")","v":""},{"$f":"IFERROR(VLOOKUP($D109,料理データ!$A$3:$BK$997,47,FALSE),\"\")","v":""},{"$f":"IFERROR(VLOOKUP($D109,料理データ!$A$3:$BK$997,50,FALSE),\"\")","v":""},{"$f":"IFERROR(VLOOKUP($D109,料理データ!$A$3:$BK$997,53,FALSE),\"\")","v":""},{"$f":"IFERROR(VLOOKUP($D109,料理データ!$A$3:$BK$997,56,FALSE),\"\")","v":""},{"$f":"IFERROR(VLOOKUP($D109,料理データ!$A$3:$BK$997,59,FALSE),\"\")","v":""},{"$f":"IFERROR(VLOOKUP($D109,料理データ!$A$3:$BK$997,62,FALSE),\"\")","v":""},"                   ","                   "]
[null,null,null,{"$f":"+'月間献立（乳児）'!N12","v":0},{"$f":"IFERROR(VLOOKUP($D110,料理データ!$A$3:$BK$997,3,FALSE),\"\")","v":""},{"$f":"IFERROR(VLOOKUP($D110,料理データ!$A$3:$BK$997,5,FALSE),\"\")","v":""},{"$f":"IFERROR(VLOOKUP($D110,料理データ!$A$3:$BK$997,8,FALSE),\"\")","v":""},{"$f":"IFERROR(VLOOKUP($D110,料理データ!$A$3:$BK$997,11,FALSE),\"\")","v":""},{"$f":"IFERROR(VLOOKUP($D110,料理データ!$A$3:$BK$997,14,FALSE),\"\")","v":""},{"$f":"IFERROR(VLOOKUP($D110,料理データ!$A$3:$BK$997,17,FALSE),\"\")","v":""},{"$f":"IFERROR(VLOOKUP($D110,料理データ!$A$3:$BK$997,20,FALSE),\"\")","v":""},{"$f":"IFERROR(VLOOKUP($D110,料理データ!$A$3:$BK$997,23,FALSE),\"\")","v":""},{"$f":"IFERROR(VLOOKUP($D110,料理データ!$A$3:$BK$997,26,FALSE),\"\")","v":""},{"$f":"IFERROR(VLOOKUP($D110,料理データ!$A$3:$BK$997,29,FALSE),\"\")","v":""},{"$f":"IFERROR(VLOOKUP($D110,料理データ!$A$3:$BK$997,32,FALSE),\"\")","v":""},{"$f":"IFERROR(VLOOKUP($D110,料理データ!$A$3:$BK$997,35,FALSE),\"\")","v":""},{"$f":"IFERROR(VLOOKUP($D110,料理データ!$A$3:$BK$997,38,FALSE),\"\")","v":""},{"$f":"IFERROR(VLOOKUP($D110,料理データ!$A$3:$BK$997,41,FALSE),\"\")","v":""},{"$f":"IFERROR(VLOOKUP($D110,料理データ!$A$3:$BK$997,44,FALSE),\"\")","v":""},{"$f":"IFERROR(VLOOKUP($D110,料理データ!$A$3:$BK$997,47,FALSE),\"\")","v":""},{"$f":"IFERROR(VLOOKUP($D110,料理データ!$A$3:$BK$997,50,FALSE),\"\")","v":""},{"$f":"IFERROR(VLOOKUP($D110,料理データ!$A$3:$BK$997,53,FALSE),\"\")","v":""},{"$f":"IFERROR(VLOOKUP($D110,料理データ!$A$3:$BK$997,56,FALSE),\"\")","v":""},{"$f":"IFERROR(VLOOKUP($D110,料理データ!$A$3:$BK$997,59,FALSE),\"\")","v":""},{"$f":"IFERROR(VLOOKUP($D110,料理データ!$A$3:$BK$997,62,FALSE),\"\")","v":""},"                   ",{"$f":"SUBSTITUTE(Z110,\"-\",\"\")","v":"                   "}]
[{"$f":"+'月間献立（幼児）'!A14","v":10},{"$f":"+'月間献立（幼児）'!B14","v":"(月)"},"午前おやつ",{"$f":"+'月間献立（乳児）'!C13","v":0},{"$f":"IFERROR(VLOOKUP($D111,料理データ!$A$3:$BK$997,3,FALSE),\"\")","v":""},{"$f":"IFERROR(VLOOKUP($D111,料理データ!$A$3:$BK$997,5,FALSE),\"\")","v":""},{"$f":"IFERROR(VLOOKUP($D111,料理データ!$A$3:$BK$997,8,FALSE),\"\")","v":""},{"$f":"IFERROR(VLOOKUP($D111,料理データ!$A$3:$BK$997,11,FALSE),\"\")","v":""},{"$f":"IFERROR(VLOOKUP($D111,料理データ!$A$3:$BK$997,14,FALSE),\"\")","v":""},{"$f":"IFERROR(VLOOKUP($D111,料理データ!$A$3:$BK$997,17,FALSE),\"\")","v":""},{"$f":"IFERROR(VLOOKUP($D111,料理データ!$A$3:$BK$997,20,FALSE),\"\")","v":""},{"$f":"IFERROR(VLOOKUP($D111,料理データ!$A$3:$BK$997,23,FALSE),\"\")","v":""},{"$f":"IFERROR(VLOOKUP($D111,料理データ!$A$3:$BK$997,26,FALSE),\"\")","v":""},{"$f":"IFERROR(VLOOKUP($D111,料理データ!$A$3:$BK$997,29,FALSE),\"\")","v":""},{"$f":"IFERROR(VLOOKUP($D111,料理データ!$A$3:$BK$997,32,FALSE),\"\")","v":""},{"$f":"IFERROR(VLOOKUP($D111,料理データ!$A$3:$BK$997,35,FALSE),\"\")","v":""},{"$f":"IFERROR(VLOOKUP($D111,料理データ!$A$3:$BK$997,38,FALSE),\"\")","v":""},{"$f":"IFERROR(VLOOKUP($D111,料理データ!$A$3:$BK$997,41,FALSE),\"\")","v":""},{"$f":"IFERROR(VLOOKUP($D111,料理データ!$A$3:$BK$997,44,FALSE),\"\")","v":""},{"$f":"IFERROR(VLOOKUP($D111,料理データ!$A$3:$BK$997,47,FALSE),\"\")","v":""},{"$f":"IFERROR(VLOOKUP($D111,料理データ!$A$3:$BK$997,50,FALSE),\"\")","v":""},{"$f":"IFERROR(VLOOKUP($D111,料理データ!$A$3:$BK$997,53,FALSE),\"\")","v":""},{"$f":"IFERROR(VLOOKUP($D111,料理データ!$A$3:$BK$997,56,FALSE),\"\")","v":""},{"$f":"IFERROR(VLOOKUP($D111,料理データ!$A$3:$BK$997,59,FALSE),\"\")","v":""},{"$f":"IFERROR(VLOOKUP($D111,料理データ!$A$3:$BK$997,62,FALSE),\"\")","v":""},"                   ",{"$f":"SUBSTITUTE(Z111,\"-\",\" \")","v":"                   "},{"$f":"TRIM(CONCATENATE(AA111,AA112,AA113,\"▲\",AA114,AA115,AA116,AA117,AA118,AA119,\"▲\",AA120,AA121,AA122))","v":"▲ ▲"}]
[null,null,null,{"$f":"+'月間献立（乳児）'!D13","v":0},{"$f":"IFERROR(VLOOKUP($D112,料理データ!$A$3:$BK$997,3,FALSE),\"\")","v":""},{"$f":"IFERROR(VLOOKUP($D112,料理データ!$A$3:$BK$997,5,FALSE),\"\")","v":""},{"$f":"IFERROR(VLOOKUP($D112,料理データ!$A$3:$BK$997,8,FALSE),\"\")","v":""},{"$f":"IFERROR(VLOOKUP($D112,料理データ!$A$3:$BK$997,11,FALSE),\"\")","v":""},{"$f":"IFERROR(VLOOKUP($D112,料理データ!$A$3:$BK$997,14,FALSE),\"\")","v":""},{"$f":"IFERROR(VLOOKUP($D112,料理データ!$A$3:$BK$997,17,FALSE),\"\")","v":""},{"$f":"IFERROR(VLOOKUP($D112,料理データ!$A$3:$BK$997,20,FALSE),\"\")","v":""},{"$f":"IFERROR(VLOOKUP($D112,料理データ!$A$3:$BK$997,23,FALSE),\"\")","v":""},{"$f":"IFERROR(VLOOKUP($D112,料理データ!$A$3:$BK$997,26,FALSE),\"\")","v":""},{"$f":"IFERROR(VLOOKUP($D112,料理データ!$A$3:$BK$997,29,FALSE),\"\")","v":""},{"$f":"IFERROR(VLOOKUP($D112,料理データ!$A$3:$BK$997,32,FALSE),\"\")","v":""},{"$f":"IFERROR(VLOOKUP($D112,料理データ!$A$3:$BK$997,35,FALSE),\"\")","v":""},{"$f":"IFERROR(VLOOKUP($D112,料理データ!$A$3:$BK$997,38,FALSE),\"\")","v":""},{"$f":"IFERROR(VLOOKUP($D112,料理データ!$A$3:$BK$997,41,FALSE),\"\")","v":""},{"$f":"IFERROR(VLOOKUP($D112,料理データ!$A$3:$BK$997,44,FALSE),\"\")","v":""},{"$f":"IFERROR(VLOOKUP($D112,料理データ!$A$3:$BK$997,47,FALSE),\"\")","v":""},{"$f":"IFERROR(VLOOKUP($D112,料理データ!$A$3:$BK$997,50,FALSE),\"\")","v":""},{"$f":"IFERROR(VLOOKUP($D112,料理データ!$A$3:$BK$997,53,FALSE),\"\")","v":""},{"$f":"IFERROR(VLOOKUP($D112,料理データ!$A$3:$BK$997,56,FALSE),\"\")","v":""},{"$f":"IFERROR(VLOOKUP($D112,料理データ!$A$3:$BK$997,59,FALSE),\"\")","v":""},{"$f":"IFERROR(VLOOKUP($D112,料理データ!$A$3:$BK$997,62,FALSE),\"\")","v":""},"                   ",{"$f":"SUBSTITUTE(Z112,\"-\",\" \")","v":"                   "}]
[null,null,null,{"$f":"+'月間献立（乳児）'!E13","v":0},{"$f":"IFERROR(VLOOKUP($D113,料理データ!$A$3:$BK$997,3,FALSE),\"\")","v":""},{"$f":"IFERROR(VLOOKUP($D113,料理データ!$A$3:$BK$997,5,FALSE),\"\")","v":""},{"$f":"IFERROR(VLOOKUP($D113,料理データ!$A$3:$BK$997,8,FALSE),\"\")","v":""},{"$f":"IFERROR(VLOOKUP($D113,料理データ!$A$3:$BK$997,11,FALSE),\"\")","v":""},{"$f":"IFERROR(VLOOKUP($D113,料理データ!$A$3:$BK$997,14,FALSE),\"\")","v":""},{"$f":"IFERROR(VLOOKUP($D113,料理データ!$A$3:$BK$997,17,FALSE),\"\")","v":""},{"$f":"IFERROR(VLOOKUP($D113,料理データ!$A$3:$BK$997,20,FALSE),\"\")","v":""},{"$f":"IFERROR(VLOOKUP($D113,料理データ!$A$3:$BK$997,23,FALSE),\"\")","v":""},{"$f":"IFERROR(VLOOKUP($D113,料理データ!$A$3:$BK$997,26,FALSE),\"\")","v":""},{"$f":"IFERROR(VLOOKUP($D113,料理データ!$A$3:$BK$997,29,FALSE),\"\")","v":""},{"$f":"IFERROR(VLOOKUP($D113,料理データ!$A$3:$BK$997,32,FALSE),\"\")","v":""},{"$f":"IFERROR(VLOOKUP($D113,料理データ!$A$3:$BK$997,35,FALSE),\"\")","v":""},{"$f":"IFERROR(VLOOKUP($D113,料理データ!$A$3:$BK$997,38,FALSE),\"\")","v":""},{"$f":"IFERROR(VLOOKUP($D113,料理データ!$A$3:$BK$997,41,FALSE),\"\")","v":""},{"$f":"IFERROR(VLOOKUP($D113,料理データ!$A$3:$BK$997,44,FALSE),\"\")","v":""},{"$f":"IFERROR(VLOOKUP($D113,料理データ!$A$3:$BK$997,47,FALSE),\"\")","v":""},{"$f":"IFERROR(VLOOKUP($D113,料理データ!$A$3:$BK$997,50,FALSE),\"\")","v":""},{"$f":"IFERROR(VLOOKUP($D113,料理データ!$A$3:$BK$997,53,FALSE),\"\")","v":""},{"$f":"IFERROR(VLOOKUP($D113,料理データ!$A$3:$BK$997,56,FALSE),\"\")","v":""},{"$f":"IFERROR(VLOOKUP($D113,料理データ!$A$3:$BK$997,59,FALSE),\"\")","v":""},{"$f":"IFERROR(VLOOKUP($D113,料理データ!$A$3:$BK$997,62,FALSE),\"\")","v":""},"                   ",{"$f":"SUBSTITUTE(Z113,\"-\",\" \")","v":"                   "}]
[null,null,"昼食",{"$f":"+'月間献立（乳児）'!F13","v":0},{"$f":"IFERROR(VLOOKUP($D114,料理データ!$A$3:$BK$997,3,FALSE),\"\")","v":""},{"$f":"IFERROR(VLOOKUP($D114,料理データ!$A$3:$BK$997,5,FALSE),\"\")","v":""},{"$f":"IFERROR(VLOOKUP($D114,料理データ!$A$3:$BK$997,8,FALSE),\"\")","v":""},{"$f":"IFERROR(VLOOKUP($D114,料理データ!$A$3:$BK$997,11,FALSE),\"\")","v":""},{"$f":"IFERROR(VLOOKUP($D114,料理データ!$A$3:$BK$997,14,FALSE),\"\")","v":""},{"$f":"IFERROR(VLOOKUP($D114,料理データ!$A$3:$BK$997,17,FALSE),\"\")","v":""},{"$f":"IFERROR(VLOOKUP($D114,料理データ!$A$3:$BK$997,20,FALSE),\"\")","v":""},{"$f":"IFERROR(VLOOKUP($D114,料理データ!$A$3:$BK$997,23,FALSE),\"\")","v":""},{"$f":"IFERROR(VLOOKUP($D114,料理データ!$A$3:$BK$997,26,FALSE),\"\")","v":""},{"$f":"IFERROR(VLOOKUP($D114,料理データ!$A$3:$BK$997,29,FALSE),\"\")","v":""},{"$f":"IFERROR(VLOOKUP($D114,料理データ!$A$3:$BK$997,32,FALSE),\"\")","v":""},{"$f":"IFERROR(VLOOKUP($D114,料理データ!$A$3:$BK$997,35,FALSE),\"\")","v":""},{"$f":"IFERROR(VLOOKUP($D114,料理データ!$A$3:$BK$997,38,FALSE),\"\")","v":""},{"$f":"IFERROR(VLOOKUP($D114,料理データ!$A$3:$BK$997,41,FALSE),\"\")","v":""},{"$f":"IFERROR(VLOOKUP($D114,料理データ!$A$3:$BK$997,44,FALSE),\"\")","v":""},{"$f":"IFERROR(VLOOKUP($D114,料理データ!$A$3:$BK$997,47,FALSE),\"\")","v":""},{"$f":"IFERROR(VLOOKUP($D114,料理データ!$A$3:$BK$997,50,FALSE),\"\")","v":""},{"$f":"IFERROR(VLOOKUP($D114,料理データ!$A$3:$BK$997,53,FALSE),\"\")","v":""},{"$f":"IFERROR(VLOOKUP($D114,料理データ!$A$3:$BK$997,56,FALSE),\"\")","v":""},{"$f":"IFERROR(VLOOKUP($D114,料理データ!$A$3:$BK$997,59,FALSE),\"\")","v":""},{"$f":"IFERROR(VLOOKUP($D114,料理データ!$A$3:$BK$997,62,FALSE),\"\")","v":""},"                   ","                   "]
[null,null,null,{"$f":"+'月間献立（乳児）'!G13","v":0},{"$f":"IFERROR(VLOOKUP($D115,料理データ!$A$3:$BK$997,3,FALSE),\"\")","v":""},{"$f":"IFERROR(VLOOKUP($D115,料理データ!$A$3:$BK$997,5,FALSE),\"\")","v":""},{"$f":"IFERROR(VLOOKUP($D115,料理データ!$A$3:$BK$997,8,FALSE),\"\")","v":""},{"$f":"IFERROR(VLOOKUP($D115,料理データ!$A$3:$BK$997,11,FALSE),\"\")","v":""},{"$f":"IFERROR(VLOOKUP($D115,料理データ!$A$3:$BK$997,14,FALSE),\"\")","v":""},{"$f":"IFERROR(VLOOKUP($D115,料理データ!$A$3:$BK$997,17,FALSE),\"\")","v":""},{"$f":"IFERROR(VLOOKUP($D115,料理データ!$A$3:$BK$997,20,FALSE),\"\")","v":""},{"$f":"IFERROR(VLOOKUP($D115,料理データ!$A$3:$BK$997,23,FALSE),\"\")","v":""},{"$f":"IFERROR(VLOOKUP($D115,料理データ!$A$3:$BK$997,26,FALSE),\"\")","v":""},{"$f":"IFERROR(VLOOKUP($D115,料理データ!$A$3:$BK$997,29,FALSE),\"\")","v":""},{"$f":"IFERROR(VLOOKUP($D115,料理データ!$A$3:$BK$997,32,FALSE),\"\")","v":""},{"$f":"IFERROR(VLOOKUP($D115,料理データ!$A$3:$BK$997,35,FALSE),\"\")","v":""},{"$f":"IFERROR(VLOOKUP($D115,料理データ!$A$3:$BK$997,38,FALSE),\"\")","v":""},{"$f":"IFERROR(VLOOKUP($D115,料理データ!$A$3:$BK$997,41,FALSE),\"\")","v":""},{"$f":"IFERROR(VLOOKUP($D115,料理データ!$A$3:$BK$997,44,FALSE),\"\")","v":""},{"$f":"IFERROR(VLOOKUP($D115,料理データ!$A$3:$BK$997,47,FALSE),\"\")","v":""},{"$f":"IFERROR(VLOOKUP($D115,料理データ!$A$3:$BK$997,50,FALSE),\"\")","v":""},{"$f":"IFERROR(VLOOKUP($D115,料理データ!$A$3:$BK$997,53,FALSE),\"\")","v":""},{"$f":"IFERROR(VLOOKUP($D115,料理データ!$A$3:$BK$997,56,FALSE),\"\")","v":""},{"$f":"IFERROR(VLOOKUP($D115,料理データ!$A$3:$BK$997,59,FALSE),\"\")","v":""},{"$f":"IFERROR(VLOOKUP($D115,料理データ!$A$3:$BK$997,62,FALSE),\"\")","v":""},"                   ","                   "]
[null,null,null,{"$f":"+'月間献立（乳児）'!H13","v":0},{"$f":"IFERROR(VLOOKUP($D116,料理データ!$A$3:$BK$997,3,FALSE),\"\")","v":""},{"$f":"IFERROR(VLOOKUP($D116,料理データ!$A$3:$BK$997,5,FALSE),\"\")","v":""},{"$f":"IFERROR(VLOOKUP($D116,料理データ!$A$3:$BK$997,8,FALSE),\"\")","v":""},{"$f":"IFERROR(VLOOKUP($D116,料理データ!$A$3:$BK$997,11,FALSE),\"\")","v":""},{"$f":"IFERROR(VLOOKUP($D116,料理データ!$A$3:$BK$997,14,FALSE),\"\")","v":""},{"$f":"IFERROR(VLOOKUP($D116,料理データ!$A$3:$BK$997,17,FALSE),\"\")","v":""},{"$f":"IFERROR(VLOOKUP($D116,料理データ!$A$3:$BK$997,20,FALSE),\"\")","v":""},{"$f":"IFERROR(VLOOKUP($D116,料理データ!$A$3:$BK$997,23,FALSE),\"\")","v":""},{"$f":"IFERROR(VLOOKUP($D116,料理データ!$A$3:$BK$997,26,FALSE),\"\")","v":""},{"$f":"IFERROR(VLOOKUP($D116,料理データ!$A$3:$BK$997,29,FALSE),\"\")","v":""},{"$f":"IFERROR(VLOOKUP($D116,料理データ!$A$3:$BK$997,32,FALSE),\"\")","v":""},{"$f":"IFERROR(VLOOKUP($D116,料理データ!$A$3:$BK$997,35,FALSE),\"\")","v":""},{"$f":"IFERROR(VLOOKUP($D116,料理データ!$A$3:$BK$997,38,FALSE),\"\")","v":""},{"$f":"IFERROR(VLOOKUP($D116,料理データ!$A$3:$BK$997,41,FALSE),\"\")","v":""},{"$f":"IFERROR(VLOOKUP($D116,料理データ!$A$3:$BK$997,44,FALSE),\"\")","v":""},{"$f":"IFERROR(VLOOKUP($D116,料理データ!$A$3:$BK$997,47,FALSE),\"\")","v":""},{"$f":"IFERROR(VLOOKUP($D116,料理データ!$A$3:$BK$997,50,FALSE),\"\")","v":""},{"$f":"IFERROR(VLOOKUP($D116,料理データ!$A$3:$BK$997,53,FALSE),\"\")","v":""},{"$f":"IFERROR(VLOOKUP($D116,料理データ!$A$3:$BK$997,56,FALSE),\"\")","v":""},{"$f":"IFERROR(VLOOKUP($D116,料理データ!$A$3:$BK$997,59,FALSE),\"\")","v":""},{"$f":"IFERROR(VLOOKUP($D116,料理データ!$A$3:$BK$997,62,FALSE),\"\")","v":""},"                   ","                   "]
[null,null,null,{"$f":"+'月間献立（乳児）'!I13","v":0},{"$f":"IFERROR(VLOOKUP($D117,料理データ!$A$3:$BK$997,3,FALSE),\"\")","v":""},{"$f":"IFERROR(VLOOKUP($D117,料理データ!$A$3:$BK$997,5,FALSE),\"\")","v":""},{"$f":"IFERROR(VLOOKUP($D117,料理データ!$A$3:$BK$997,8,FALSE),\"\")","v":""},{"$f":"IFERROR(VLOOKUP($D117,料理データ!$A$3:$BK$997,11,FALSE),\"\")","v":""},{"$f":"IFERROR(VLOOKUP($D117,料理データ!$A$3:$BK$997,14,FALSE),\"\")","v":""},{"$f":"IFERROR(VLOOKUP($D117,料理データ!$A$3:$BK$997,17,FALSE),\"\")","v":""},{"$f":"IFERROR(VLOOKUP($D117,料理データ!$A$3:$BK$997,20,FALSE),\"\")","v":""},{"$f":"IFERROR(VLOOKUP($D117,料理データ!$A$3:$BK$997,23,FALSE),\"\")","v":""},{"$f":"IFERROR(VLOOKUP($D117,料理データ!$A$3:$BK$997,26,FALSE),\"\")","v":""},{"$f":"IFERROR(VLOOKUP($D117,料理データ!$A$3:$BK$997,29,FALSE),\"\")","v":""},{"$f":"IFERROR(VLOOKUP($D117,料理データ!$A$3:$BK$997,32,FALSE),\"\")","v":""},{"$f":"IFERROR(VLOOKUP($D117,料理データ!$A$3:$BK$997,35,FALSE),\"\")","v":""},{"$f":"IFERROR(VLOOKUP($D117,料理データ!$A$3:$BK$997,38,FALSE),\"\")","v":""},{"$f":"IFERROR(VLOOKUP($D117,料理データ!$A$3:$BK$997,41,FALSE),\"\")","v":""},{"$f":"IFERROR(VLOOKUP($D117,料理データ!$A$3:$BK$997,44,FALSE),\"\")","v":""},{"$f":"IFERROR(VLOOKUP($D117,料理データ!$A$3:$BK$997,47,FALSE),\"\")","v":""},{"$f":"IFERROR(VLOOKUP($D117,料理データ!$A$3:$BK$997,50,FALSE),\"\")","v":""},{"$f":"IFERROR(VLOOKUP($D117,料理データ!$A$3:$BK$997,53,FALSE),\"\")","v":""},{"$f":"IFERROR(VLOOKUP($D117,料理データ!$A$3:$BK$997,56,FALSE),\"\")","v":""},{"$f":"IFERROR(VLOOKUP($D117,料理データ!$A$3:$BK$997,59,FALSE),\"\")","v":""},{"$f":"IFERROR(VLOOKUP($D117,料理データ!$A$3:$BK$997,62,FALSE),\"\")","v":""},"                   ","                   "]
[null,null,null,{"$f":"+'月間献立（乳児）'!J13","v":0},{"$f":"IFERROR(VLOOKUP($D118,料理データ!$A$3:$BK$997,3,FALSE),\"\")","v":""},{"$f":"IFERROR(VLOOKUP($D118,料理データ!$A$3:$BK$997,5,FALSE),\"\")","v":""},{"$f":"IFERROR(VLOOKUP($D118,料理データ!$A$3:$BK$997,8,FALSE),\"\")","v":""},{"$f":"IFERROR(VLOOKUP($D118,料理データ!$A$3:$BK$997,11,FALSE),\"\")","v":""},{"$f":"IFERROR(VLOOKUP($D118,料理データ!$A$3:$BK$997,14,FALSE),\"\")","v":""},{"$f":"IFERROR(VLOOKUP($D118,料理データ!$A$3:$BK$997,17,FALSE),\"\")","v":""},{"$f":"IFERROR(VLOOKUP($D118,料理データ!$A$3:$BK$997,20,FALSE),\"\")","v":""},{"$f":"IFERROR(VLOOKUP($D118,料理データ!$A$3:$BK$997,23,FALSE),\"\")","v":""},{"$f":"IFERROR(VLOOKUP($D118,料理データ!$A$3:$BK$997,26,FALSE),\"\")","v":""},{"$f":"IFERROR(VLOOKUP($D118,料理データ!$A$3:$BK$997,29,FALSE),\"\")","v":""},{"$f":"IFERROR(VLOOKUP($D118,料理データ!$A$3:$BK$997,32,FALSE),\"\")","v":""},{"$f":"IFERROR(VLOOKUP($D118,料理データ!$A$3:$BK$997,35,FALSE),\"\")","v":""},{"$f":"IFERROR(VLOOKUP($D118,料理データ!$A$3:$BK$997,38,FALSE),\"\")","v":""},{"$f":"IFERROR(VLOOKUP($D118,料理データ!$A$3:$BK$997,41,FALSE),\"\")","v":""},{"$f":"IFERROR(VLOOKUP($D118,料理データ!$A$3:$BK$997,44,FALSE),\"\")","v":""},{"$f":"IFERROR(VLOOKUP($D118,料理データ!$A$3:$BK$997,47,FALSE),\"\")","v":""},{"$f":"IFERROR(VLOOKUP($D118,料理データ!$A$3:$BK$997,50,FALSE),\"\")","v":""},{"$f":"IFERROR(VLOOKUP($D118,料理データ!$A$3:$BK$997,53,FALSE),\"\")","v":""},{"$f":"IFERROR(VLOOKUP($D118,料理データ!$A$3:$BK$997,56,FALSE),\"\")","v":""},{"$f":"IFERROR(VLOOKUP($D118,料理データ!$A$3:$BK$997,59,FALSE),\"\")","v":""},{"$f":"IFERROR(VLOOKUP($D118,料理データ!$A$3:$BK$997,62,FALSE),\"\")","v":""},"                   ","                   "]
[null,null,null,{"$f":"+'月間献立（乳児）'!K13","v":0},{"$f":"IFERROR(VLOOKUP($D119,料理データ!$A$3:$BK$997,3,FALSE),\"\")","v":""},{"$f":"IFERROR(VLOOKUP($D119,料理データ!$A$3:$BK$997,5,FALSE),\"\")","v":""},{"$f":"IFERROR(VLOOKUP($D119,料理データ!$A$3:$BK$997,8,FALSE),\"\")","v":""},{"$f":"IFERROR(VLOOKUP($D119,料理データ!$A$3:$BK$997,11,FALSE),\"\")","v":""},{"$f":"IFERROR(VLOOKUP($D119,料理データ!$A$3:$BK$997,14,FALSE),\"\")","v":""},{"$f":"IFERROR(VLOOKUP($D119,料理データ!$A$3:$BK$997,17,FALSE),\"\")","v":""},{"$f":"IFERROR(VLOOKUP($D119,料理データ!$A$3:$BK$997,20,FALSE),\"\")","v":""},{"$f":"IFERROR(VLOOKUP($D119,料理データ!$A$3:$BK$997,23,FALSE),\"\")","v":""},{"$f":"IFERROR(VLOOKUP($D119,料理データ!$A$3:$BK$997,26,FALSE),\"\")","v":""},{"$f":"IFERROR(VLOOKUP($D119,料理データ!$A$3:$BK$997,29,FALSE),\"\")","v":""},{"$f":"IFERROR(VLOOKUP($D119,料理データ!$A$3:$BK$997,32,FALSE),\"\")","v":""},{"$f":"IFERROR(VLOOKUP($D119,料理データ!$A$3:$BK$997,35,FALSE),\"\")","v":""},{"$f":"IFERROR(VLOOKUP($D119,料理データ!$A$3:$BK$997,38,FALSE),\"\")","v":""},{"$f":"IFERROR(VLOOKUP($D119,料理データ!$A$3:$BK$997,41,FALSE),\"\")","v":""},{"$f":"IFERROR(VLOOKUP($D119,料理データ!$A$3:$BK$997,44,FALSE),\"\")","v":""},{"$f":"IFERROR(VLOOKUP($D119,料理データ!$A$3:$BK$997,47,FALSE),\"\")","v":""},{"$f":"IFERROR(VLOOKUP($D119,料理データ!$A$3:$BK$997,50,FALSE),\"\")","v":""},{"$f":"IFERROR(VLOOKUP($D119,料理データ!$A$3:$BK$997,53,FALSE),\"\")","v":""},{"$f":"IFERROR(VLOOKUP($D119,料理データ!$A$3:$BK$997,56,FALSE),\"\")","v":""},{"$f":"IFERROR(VLOOKUP($D119,料理データ!$A$3:$BK$997,59,FALSE),\"\")","v":""},{"$f":"IFERROR(VLOOKUP($D119,料理データ!$A$3:$BK$997,62,FALSE),\"\")","v":""},"                   ","                   "]
[null,null,"午後おやつ",{"$f":"+'月間献立（乳児）'!L13","v":0},{"$f":"IFERROR(VLOOKUP($D120,料理データ!$A$3:$BK$997,3,FALSE),\"\")","v":""},{"$f":"IFERROR(VLOOKUP($D120,料理データ!$A$3:$BK$997,5,FALSE),\"\")","v":""},{"$f":"IFERROR(VLOOKUP($D120,料理データ!$A$3:$BK$997,8,FALSE),\"\")","v":""},{"$f":"IFERROR(VLOOKUP($D120,料理データ!$A$3:$BK$997,11,FALSE),\"\")","v":""},{"$f":"IFERROR(VLOOKUP($D120,料理データ!$A$3:$BK$997,14,FALSE),\"\")","v":""},{"$f":"IFERROR(VLOOKUP($D120,料理データ!$A$3:$BK$997,17,FALSE),\"\")","v":""},{"$f":"IFERROR(VLOOKUP($D120,料理データ!$A$3:$BK$997,20,FALSE),\"\")","v":""},{"$f":"IFERROR(VLOOKUP($D120,料理データ!$A$3:$BK$997,23,FALSE),\"\")","v":""},{"$f":"IFERROR(VLOOKUP($D120,料理データ!$A$3:$BK$997,26,FALSE),\"\")","v":""},{"$f":"IFERROR(VLOOKUP($D120,料理データ!$A$3:$BK$997,29,FALSE),\"\")","v":""},{"$f":"IFERROR(VLOOKUP($D120,料理データ!$A$3:$BK$997,32,FALSE),\"\")","v":""},{"$f":"IFERROR(VLOOKUP($D120,料理データ!$A$3:$BK$997,35,FALSE),\"\")","v":""},{"$f":"IFERROR(VLOOKUP($D120,料理データ!$A$3:$BK$997,38,FALSE),\"\")","v":""},{"$f":"IFERROR(VLOOKUP($D120,料理データ!$A$3:$BK$997,41,FALSE),\"\")","v":""},{"$f":"IFERROR(VLOOKUP($D120,料理データ!$A$3:$BK$997,44,FALSE),\"\")","v":""},{"$f":"IFERROR(VLOOKUP($D120,料理データ!$A$3:$BK$997,47,FALSE),\"\")","v":""},{"$f":"IFERROR(VLOOKUP($D120,料理データ!$A$3:$BK$997,50,FALSE),\"\")","v":""},{"$f":"IFERROR(VLOOKUP($D120,料理データ!$A$3:$BK$997,53,FALSE),\"\")","v":""},{"$f":"IFERROR(VLOOKUP($D120,料理データ!$A$3:$BK$997,56,FALSE),\"\")","v":""},{"$f":"IFERROR(VLOOKUP($D120,料理データ!$A$3:$BK$997,59,FALSE),\"\")","v":""},{"$f":"IFERROR(VLOOKUP($D120,料理データ!$A$3:$BK$997,62,FALSE),\"\")","v":""},"                   ","                   "]
[null,null,null,{"$f":"+'月間献立（乳児）'!M13","v":0},{"$f":"IFERROR(VLOOKUP($D121,料理データ!$A$3:$BK$997,3,FALSE),\"\")","v":""},{"$f":"IFERROR(VLOOKUP($D121,料理データ!$A$3:$BK$997,5,FALSE),\"\")","v":""},{"$f":"IFERROR(VLOOKUP($D121,料理データ!$A$3:$BK$997,8,FALSE),\"\")","v":""},{"$f":"IFERROR(VLOOKUP($D121,料理データ!$A$3:$BK$997,11,FALSE),\"\")","v":""},{"$f":"IFERROR(VLOOKUP($D121,料理データ!$A$3:$BK$997,14,FALSE),\"\")","v":""},{"$f":"IFERROR(VLOOKUP($D121,料理データ!$A$3:$BK$997,17,FALSE),\"\")","v":""},{"$f":"IFERROR(VLOOKUP($D121,料理データ!$A$3:$BK$997,20,FALSE),\"\")","v":""},{"$f":"IFERROR(VLOOKUP($D121,料理データ!$A$3:$BK$997,23,FALSE),\"\")","v":""},{"$f":"IFERROR(VLOOKUP($D121,料理データ!$A$3:$BK$997,26,FALSE),\"\")","v":""},{"$f":"IFERROR(VLOOKUP($D121,料理データ!$A$3:$BK$997,29,FALSE),\"\")","v":""},{"$f":"IFERROR(VLOOKUP($D121,料理データ!$A$3:$BK$997,32,FALSE),\"\")","v":""},{"$f":"IFERROR(VLOOKUP($D121,料理データ!$A$3:$BK$997,35,FALSE),\"\")","v":""},{"$f":"IFERROR(VLOOKUP($D121,料理データ!$A$3:$BK$997,38,FALSE),\"\")","v":""},{"$f":"IFERROR(VLOOKUP($D121,料理データ!$A$3:$BK$997,41,FALSE),\"\")","v":""},{"$f":"IFERROR(VLOOKUP($D121,料理データ!$A$3:$BK$997,44,FALSE),\"\")","v":""},{"$f":"IFERROR(VLOOKUP($D121,料理データ!$A$3:$BK$997,47,FALSE),\"\")","v":""},{"$f":"IFERROR(VLOOKUP($D121,料理データ!$A$3:$BK$997,50,FALSE),\"\")","v":""},{"$f":"IFERROR(VLOOKUP($D121,料理データ!$A$3:$BK$997,53,FALSE),\"\")","v":""},{"$f":"IFERROR(VLOOKUP($D121,料理データ!$A$3:$BK$997,56,FALSE),\"\")","v":""},{"$f":"IFERROR(VLOOKUP($D121,料理データ!$A$3:$BK$997,59,FALSE),\"\")","v":""},{"$f":"IFERROR(VLOOKUP($D121,料理データ!$A$3:$BK$997,62,FALSE),\"\")","v":""},"                   ","                   "]
[null,null,null,{"$f":"+'月間献立（乳児）'!N13","v":0},{"$f":"IFERROR(VLOOKUP($D122,料理データ!$A$3:$BK$997,3,FALSE),\"\")","v":""},{"$f":"IFERROR(VLOOKUP($D122,料理データ!$A$3:$BK$997,5,FALSE),\"\")","v":""},{"$f":"IFERROR(VLOOKUP($D122,料理データ!$A$3:$BK$997,8,FALSE),\"\")","v":""},{"$f":"IFERROR(VLOOKUP($D122,料理データ!$A$3:$BK$997,11,FALSE),\"\")","v":""},{"$f":"IFERROR(VLOOKUP($D122,料理データ!$A$3:$BK$997,14,FALSE),\"\")","v":""},{"$f":"IFERROR(VLOOKUP($D122,料理データ!$A$3:$BK$997,17,FALSE),\"\")","v":""},{"$f":"IFERROR(VLOOKUP($D122,料理データ!$A$3:$BK$997,20,FALSE),\"\")","v":""},{"$f":"IFERROR(VLOOKUP($D122,料理データ!$A$3:$BK$997,23,FALSE),\"\")","v":""},{"$f":"IFERROR(VLOOKUP($D122,料理データ!$A$3:$BK$997,26,FALSE),\"\")","v":""},{"$f":"IFERROR(VLOOKUP($D122,料理データ!$A$3:$BK$997,29,FALSE),\"\")","v":""},{"$f":"IFERROR(VLOOKUP($D122,料理データ!$A$3:$BK$997,32,FALSE),\"\")","v":""},{"$f":"IFERROR(VLOOKUP($D122,料理データ!$A$3:$BK$997,35,FALSE),\"\")","v":""},{"$f":"IFERROR(VLOOKUP($D122,料理データ!$A$3:$BK$997,38,FALSE),\"\")","v":""},{"$f":"IFERROR(VLOOKUP($D122,料理データ!$A$3:$BK$997,41,FALSE),\"\")","v":""},{"$f":"IFERROR(VLOOKUP($D122,料理データ!$A$3:$BK$997,44,FALSE),\"\")","v":""},{"$f":"IFERROR(VLOOKUP($D122,料理データ!$A$3:$BK$997,47,FALSE),\"\")","v":""},{"$f":"IFERROR(VLOOKUP($D122,料理データ!$A$3:$BK$997,50,FALSE),\"\")","v":""},{"$f":"IFERROR(VLOOKUP($D122,料理データ!$A$3:$BK$997,53,FALSE),\"\")","v":""},{"$f":"IFERROR(VLOOKUP($D122,料理データ!$A$3:$BK$997,56,FALSE),\"\")","v":""},{"$f":"IFERROR(VLOOKUP($D122,料理データ!$A$3:$BK$997,59,FALSE),\"\")","v":""},{"$f":"IFERROR(VLOOKUP($D122,料理データ!$A$3:$BK$997,62,FALSE),\"\")","v":""},"                   ",{"$f":"SUBSTITUTE(Z122,\"-\",\"\")","v":"                   "}]
[{"$f":"+'月間献立（幼児）'!A15","v":11},{"$f":"+'月間献立（幼児）'!B15","v":"(火)"},"午前おやつ",{"$f":"+'月間献立（乳児）'!C14","v":0},{"$f":"IFERROR(VLOOKUP($D123,料理データ!$A$3:$BK$997,3,FALSE),\"\")","v":""},{"$f":"IFERROR(VLOOKUP($D123,料理データ!$A$3:$BK$997,5,FALSE),\"\")","v":""},{"$f":"IFERROR(VLOOKUP($D123,料理データ!$A$3:$BK$997,8,FALSE),\"\")","v":""},{"$f":"IFERROR(VLOOKUP($D123,料理データ!$A$3:$BK$997,11,FALSE),\"\")","v":""},{"$f":"IFERROR(VLOOKUP($D123,料理データ!$A$3:$BK$997,14,FALSE),\"\")","v":""},{"$f":"IFERROR(VLOOKUP($D123,料理データ!$A$3:$BK$997,17,FALSE),\"\")","v":""},{"$f":"IFERROR(VLOOKUP($D123,料理データ!$A$3:$BK$997,20,FALSE),\"\")","v":""},{"$f":"IFERROR(VLOOKUP($D123,料理データ!$A$3:$BK$997,23,FALSE),\"\")","v":""},{"$f":"IFERROR(VLOOKUP($D123,料理データ!$A$3:$BK$997,26,FALSE),\"\")","v":""},{"$f":"IFERROR(VLOOKUP($D123,料理データ!$A$3:$BK$997,29,FALSE),\"\")","v":""},{"$f":"IFERROR(VLOOKUP($D123,料理データ!$A$3:$BK$997,32,FALSE),\"\")","v":""},{"$f":"IFERROR(VLOOKUP($D123,料理データ!$A$3:$BK$997,35,FALSE),\"\")","v":""},{"$f":"IFERROR(VLOOKUP($D123,料理データ!$A$3:$BK$997,38,FALSE),\"\")","v":""},{"$f":"IFERROR(VLOOKUP($D123,料理データ!$A$3:$BK$997,41,FALSE),\"\")","v":""},{"$f":"IFERROR(VLOOKUP($D123,料理データ!$A$3:$BK$997,44,FALSE),\"\")","v":""},{"$f":"IFERROR(VLOOKUP($D123,料理データ!$A$3:$BK$997,47,FALSE),\"\")","v":""},{"$f":"IFERROR(VLOOKUP($D123,料理データ!$A$3:$BK$997,50,FALSE),\"\")","v":""},{"$f":"IFERROR(VLOOKUP($D123,料理データ!$A$3:$BK$997,53,FALSE),\"\")","v":""},{"$f":"IFERROR(VLOOKUP($D123,料理データ!$A$3:$BK$997,56,FALSE),\"\")","v":""},{"$f":"IFERROR(VLOOKUP($D123,料理データ!$A$3:$BK$997,59,FALSE),\"\")","v":""},{"$f":"IFERROR(VLOOKUP($D123,料理データ!$A$3:$BK$997,62,FALSE),\"\")","v":""},"                   ",{"$f":"SUBSTITUTE(Z123,\"-\",\" \")","v":"                   "},{"$f":"TRIM(CONCATENATE(AA123,AA124,AA125,\"▲\",AA126,AA127,AA128,AA129,AA130,AA131,\"▲\",AA132,AA133,AA134))","v":"▲ ▲"}]
[null,null,null,{"$f":"+'月間献立（乳児）'!D14","v":0},{"$f":"IFERROR(VLOOKUP($D124,料理データ!$A$3:$BK$997,3,FALSE),\"\")","v":""},{"$f":"IFERROR(VLOOKUP($D124,料理データ!$A$3:$BK$997,5,FALSE),\"\")","v":""},{"$f":"IFERROR(VLOOKUP($D124,料理データ!$A$3:$BK$997,8,FALSE),\"\")","v":""},{"$f":"IFERROR(VLOOKUP($D124,料理データ!$A$3:$BK$997,11,FALSE),\"\")","v":""},{"$f":"IFERROR(VLOOKUP($D124,料理データ!$A$3:$BK$997,14,FALSE),\"\")","v":""},{"$f":"IFERROR(VLOOKUP($D124,料理データ!$A$3:$BK$997,17,FALSE),\"\")","v":""},{"$f":"IFERROR(VLOOKUP($D124,料理データ!$A$3:$BK$997,20,FALSE),\"\")","v":""},{"$f":"IFERROR(VLOOKUP($D124,料理データ!$A$3:$BK$997,23,FALSE),\"\")","v":""},{"$f":"IFERROR(VLOOKUP($D124,料理データ!$A$3:$BK$997,26,FALSE),\"\")","v":""},{"$f":"IFERROR(VLOOKUP($D124,料理データ!$A$3:$BK$997,29,FALSE),\"\")","v":""},{"$f":"IFERROR(VLOOKUP($D124,料理データ!$A$3:$BK$997,32,FALSE),\"\")","v":""},{"$f":"IFERROR(VLOOKUP($D124,料理データ!$A$3:$BK$997,35,FALSE),\"\")","v":""},{"$f":"IFERROR(VLOOKUP($D124,料理データ!$A$3:$BK$997,38,FALSE),\"\")","v":""},{"$f":"IFERROR(VLOOKUP($D124,料理データ!$A$3:$BK$997,41,FALSE),\"\")","v":""},{"$f":"IFERROR(VLOOKUP($D124,料理データ!$A$3:$BK$997,44,FALSE),\"\")","v":""},{"$f":"IFERROR(VLOOKUP($D124,料理データ!$A$3:$BK$997,47,FALSE),\"\")","v":""},{"$f":"IFERROR(VLOOKUP($D124,料理データ!$A$3:$BK$997,50,FALSE),\"\")","v":""},{"$f":"IFERROR(VLOOKUP($D124,料理データ!$A$3:$BK$997,53,FALSE),\"\")","v":""},{"$f":"IFERROR(VLOOKUP($D124,料理データ!$A$3:$BK$997,56,FALSE),\"\")","v":""},{"$f":"IFERROR(VLOOKUP($D124,料理データ!$A$3:$BK$997,59,FALSE),\"\")","v":""},{"$f":"IFERROR(VLOOKUP($D124,料理データ!$A$3:$BK$997,62,FALSE),\"\")","v":""},"                   ",{"$f":"SUBSTITUTE(Z124,\"-\",\" \")","v":"                   "}]
[null,null,null,{"$f":"+'月間献立（乳児）'!E14","v":0},{"$f":"IFERROR(VLOOKUP($D125,料理データ!$A$3:$BK$997,3,FALSE),\"\")","v":""},{"$f":"IFERROR(VLOOKUP($D125,料理データ!$A$3:$BK$997,5,FALSE),\"\")","v":""},{"$f":"IFERROR(VLOOKUP($D125,料理データ!$A$3:$BK$997,8,FALSE),\"\")","v":""},{"$f":"IFERROR(VLOOKUP($D125,料理データ!$A$3:$BK$997,11,FALSE),\"\")","v":""},{"$f":"IFERROR(VLOOKUP($D125,料理データ!$A$3:$BK$997,14,FALSE),\"\")","v":""},{"$f":"IFERROR(VLOOKUP($D125,料理データ!$A$3:$BK$997,17,FALSE),\"\")","v":""},{"$f":"IFERROR(VLOOKUP($D125,料理データ!$A$3:$BK$997,20,FALSE),\"\")","v":""},{"$f":"IFERROR(VLOOKUP($D125,料理データ!$A$3:$BK$997,23,FALSE),\"\")","v":""},{"$f":"IFERROR(VLOOKUP($D125,料理データ!$A$3:$BK$997,26,FALSE),\"\")","v":""},{"$f":"IFERROR(VLOOKUP($D125,料理データ!$A$3:$BK$997,29,FALSE),\"\")","v":""},{"$f":"IFERROR(VLOOKUP($D125,料理データ!$A$3:$BK$997,32,FALSE),\"\")","v":""},{"$f":"IFERROR(VLOOKUP($D125,料理データ!$A$3:$BK$997,35,FALSE),\"\")","v":""},{"$f":"IFERROR(VLOOKUP($D125,料理データ!$A$3:$BK$997,38,FALSE),\"\")","v":""},{"$f":"IFERROR(VLOOKUP($D125,料理データ!$A$3:$BK$997,41,FALSE),\"\")","v":""},{"$f":"IFERROR(VLOOKUP($D125,料理データ!$A$3:$BK$997,44,FALSE),\"\")","v":""},{"$f":"IFERROR(VLOOKUP($D125,料理データ!$A$3:$BK$997,47,FALSE),\"\")","v":""},{"$f":"IFERROR(VLOOKUP($D125,料理データ!$A$3:$BK$997,50,FALSE),\"\")","v":""},{"$f":"IFERROR(VLOOKUP($D125,料理データ!$A$3:$BK$997,53,FALSE),\"\")","v":""},{"$f":"IFERROR(VLOOKUP($D125,料理データ!$A$3:$BK$997,56,FALSE),\"\")","v":""},{"$f":"IFERROR(VLOOKUP($D125,料理データ!$A$3:$BK$997,59,FALSE),\"\")","v":""},{"$f":"IFERROR(VLOOKUP($D125,料理データ!$A$3:$BK$997,62,FALSE),\"\")","v":""},"                   ",{"$f":"SUBSTITUTE(Z125,\"-\",\" \")","v":"                   "}]
[null,null,"昼食",{"$f":"+'月間献立（乳児）'!F14","v":0},{"$f":"IFERROR(VLOOKUP($D126,料理データ!$A$3:$BK$997,3,FALSE),\"\")","v":""},{"$f":"IFERROR(VLOOKUP($D126,料理データ!$A$3:$BK$997,5,FALSE),\"\")","v":""},{"$f":"IFERROR(VLOOKUP($D126,料理データ!$A$3:$BK$997,8,FALSE),\"\")","v":""},{"$f":"IFERROR(VLOOKUP($D126,料理データ!$A$3:$BK$997,11,FALSE),\"\")","v":""},{"$f":"IFERROR(VLOOKUP($D126,料理データ!$A$3:$BK$997,14,FALSE),\"\")","v":""},{"$f":"IFERROR(VLOOKUP($D126,料理データ!$A$3:$BK$997,17,FALSE),\"\")","v":""},{"$f":"IFERROR(VLOOKUP($D126,料理データ!$A$3:$BK$997,20,FALSE),\"\")","v":""},{"$f":"IFERROR(VLOOKUP($D126,料理データ!$A$3:$BK$997,23,FALSE),\"\")","v":""},{"$f":"IFERROR(VLOOKUP($D126,料理データ!$A$3:$BK$997,26,FALSE),\"\")","v":""},{"$f":"IFERROR(VLOOKUP($D126,料理データ!$A$3:$BK$997,29,FALSE),\"\")","v":""},{"$f":"IFERROR(VLOOKUP($D126,料理データ!$A$3:$BK$997,32,FALSE),\"\")","v":""},{"$f":"IFERROR(VLOOKUP($D126,料理データ!$A$3:$BK$997,35,FALSE),\"\")","v":""},{"$f":"IFERROR(VLOOKUP($D126,料理データ!$A$3:$BK$997,38,FALSE),\"\")","v":""},{"$f":"IFERROR(VLOOKUP($D126,料理データ!$A$3:$BK$997,41,FALSE),\"\")","v":""},{"$f":"IFERROR(VLOOKUP($D126,料理データ!$A$3:$BK$997,44,FALSE),\"\")","v":""},{"$f":"IFERROR(VLOOKUP($D126,料理データ!$A$3:$BK$997,47,FALSE),\"\")","v":""},{"$f":"IFERROR(VLOOKUP($D126,料理データ!$A$3:$BK$997,50,FALSE),\"\")","v":""},{"$f":"IFERROR(VLOOKUP($D126,料理データ!$A$3:$BK$997,53,FALSE),\"\")","v":""},{"$f":"IFERROR(VLOOKUP($D126,料理データ!$A$3:$BK$997,56,FALSE),\"\")","v":""},{"$f":"IFERROR(VLOOKUP($D126,料理データ!$A$3:$BK$997,59,FALSE),\"\")","v":""},{"$f":"IFERROR(VLOOKUP($D126,料理データ!$A$3:$BK$997,62,FALSE),\"\")","v":""},"                   ","                   "]
[null,null,null,{"$f":"+'月間献立（乳児）'!G14","v":0},{"$f":"IFERROR(VLOOKUP($D127,料理データ!$A$3:$BK$997,3,FALSE),\"\")","v":""},{"$f":"IFERROR(VLOOKUP($D127,料理データ!$A$3:$BK$997,5,FALSE),\"\")","v":""},{"$f":"IFERROR(VLOOKUP($D127,料理データ!$A$3:$BK$997,8,FALSE),\"\")","v":""},{"$f":"IFERROR(VLOOKUP($D127,料理データ!$A$3:$BK$997,11,FALSE),\"\")","v":""},{"$f":"IFERROR(VLOOKUP($D127,料理データ!$A$3:$BK$997,14,FALSE),\"\")","v":""},{"$f":"IFERROR(VLOOKUP($D127,料理データ!$A$3:$BK$997,17,FALSE),\"\")","v":""},{"$f":"IFERROR(VLOOKUP($D127,料理データ!$A$3:$BK$997,20,FALSE),\"\")","v":""},{"$f":"IFERROR(VLOOKUP($D127,料理データ!$A$3:$BK$997,23,FALSE),\"\")","v":""},{"$f":"IFERROR(VLOOKUP($D127,料理データ!$A$3:$BK$997,26,FALSE),\"\")","v":""},{"$f":"IFERROR(VLOOKUP($D127,料理データ!$A$3:$BK$997,29,FALSE),\"\")","v":""},{"$f":"IFERROR(VLOOKUP($D127,料理データ!$A$3:$BK$997,32,FALSE),\"\")","v":""},{"$f":"IFERROR(VLOOKUP($D127,料理データ!$A$3:$BK$997,35,FALSE),\"\")","v":""},{"$f":"IFERROR(VLOOKUP($D127,料理データ!$A$3:$BK$997,38,FALSE),\"\")","v":""},{"$f":"IFERROR(VLOOKUP($D127,料理データ!$A$3:$BK$997,41,FALSE),\"\")","v":""},{"$f":"IFERROR(VLOOKUP($D127,料理データ!$A$3:$BK$997,44,FALSE),\"\")","v":""},{"$f":"IFERROR(VLOOKUP($D127,料理データ!$A$3:$BK$997,47,FALSE),\"\")","v":""},{"$f":"IFERROR(VLOOKUP($D127,料理データ!$A$3:$BK$997,50,FALSE),\"\")","v":""},{"$f":"IFERROR(VLOOKUP($D127,料理データ!$A$3:$BK$997,53,FALSE),\"\")","v":""},{"$f":"IFERROR(VLOOKUP($D127,料理データ!$A$3:$BK$997,56,FALSE),\"\")","v":""},{"$f":"IFERROR(VLOOKUP($D127,料理データ!$A$3:$BK$997,59,FALSE),\"\")","v":""},{"$f":"IFERROR(VLOOKUP($D127,料理データ!$A$3:$BK$997,62,FALSE),\"\")","v":""},"                   ","                   "]
[null,null,null,{"$f":"+'月間献立（乳児）'!H14","v":0},{"$f":"IFERROR(VLOOKUP($D128,料理データ!$A$3:$BK$997,3,FALSE),\"\")","v":""},{"$f":"IFERROR(VLOOKUP($D128,料理データ!$A$3:$BK$997,5,FALSE),\"\")","v":""},{"$f":"IFERROR(VLOOKUP($D128,料理データ!$A$3:$BK$997,8,FALSE),\"\")","v":""},{"$f":"IFERROR(VLOOKUP($D128,料理データ!$A$3:$BK$997,11,FALSE),\"\")","v":""},{"$f":"IFERROR(VLOOKUP($D128,料理データ!$A$3:$BK$997,14,FALSE),\"\")","v":""},{"$f":"IFERROR(VLOOKUP($D128,料理データ!$A$3:$BK$997,17,FALSE),\"\")","v":""},{"$f":"IFERROR(VLOOKUP($D128,料理データ!$A$3:$BK$997,20,FALSE),\"\")","v":""},{"$f":"IFERROR(VLOOKUP($D128,料理データ!$A$3:$BK$997,23,FALSE),\"\")","v":""},{"$f":"IFERROR(VLOOKUP($D128,料理データ!$A$3:$BK$997,26,FALSE),\"\")","v":""},{"$f":"IFERROR(VLOOKUP($D128,料理データ!$A$3:$BK$997,29,FALSE),\"\")","v":""},{"$f":"IFERROR(VLOOKUP($D128,料理データ!$A$3:$BK$997,32,FALSE),\"\")","v":""},{"$f":"IFERROR(VLOOKUP($D128,料理データ!$A$3:$BK$997,35,FALSE),\"\")","v":""},{"$f":"IFERROR(VLOOKUP($D128,料理データ!$A$3:$BK$997,38,FALSE),\"\")","v":""},{"$f":"IFERROR(VLOOKUP($D128,料理データ!$A$3:$BK$997,41,FALSE),\"\")","v":""},{"$f":"IFERROR(VLOOKUP($D128,料理データ!$A$3:$BK$997,44,FALSE),\"\")","v":""},{"$f":"IFERROR(VLOOKUP($D128,料理データ!$A$3:$BK$997,47,FALSE),\"\")","v":""},{"$f":"IFERROR(VLOOKUP($D128,料理データ!$A$3:$BK$997,50,FALSE),\"\")","v":""},{"$f":"IFERROR(VLOOKUP($D128,料理データ!$A$3:$BK$997,53,FALSE),\"\")","v":""},{"$f":"IFERROR(VLOOKUP($D128,料理データ!$A$3:$BK$997,56,FALSE),\"\")","v":""},{"$f":"IFERROR(VLOOKUP($D128,料理データ!$A$3:$BK$997,59,FALSE),\"\")","v":""},{"$f":"IFERROR(VLOOKUP($D128,料理データ!$A$3:$BK$997,62,FALSE),\"\")","v":""},"                   ","                   "]
[null,null,null,{"$f":"+'月間献立（乳児）'!I14","v":0},{"$f":"IFERROR(VLOOKUP($D129,料理データ!$A$3:$BK$997,3,FALSE),\"\")","v":""},{"$f":"IFERROR(VLOOKUP($D129,料理データ!$A$3:$BK$997,5,FALSE),\"\")","v":""},{"$f":"IFERROR(VLOOKUP($D129,料理データ!$A$3:$BK$997,8,FALSE),\"\")","v":""},{"$f":"IFERROR(VLOOKUP($D129,料理データ!$A$3:$BK$997,11,FALSE),\"\")","v":""},{"$f":"IFERROR(VLOOKUP($D129,料理データ!$A$3:$BK$997,14,FALSE),\"\")","v":""},{"$f":"IFERROR(VLOOKUP($D129,料理データ!$A$3:$BK$997,17,FALSE),\"\")","v":""},{"$f":"IFERROR(VLOOKUP($D129,料理データ!$A$3:$BK$997,20,FALSE),\"\")","v":""},{"$f":"IFERROR(VLOOKUP($D129,料理データ!$A$3:$BK$997,23,FALSE),\"\")","v":""},{"$f":"IFERROR(VLOOKUP($D129,料理データ!$A$3:$BK$997,26,FALSE),\"\")","v":""},{"$f":"IFERROR(VLOOKUP($D129,料理データ!$A$3:$BK$997,29,FALSE),\"\")","v":""},{"$f":"IFERROR(VLOOKUP($D129,料理データ!$A$3:$BK$997,32,FALSE),\"\")","v":""},{"$f":"IFERROR(VLOOKUP($D129,料理データ!$A$3:$BK$997,35,FALSE),\"\")","v":""},{"$f":"IFERROR(VLOOKUP($D129,料理データ!$A$3:$BK$997,38,FALSE),\"\")","v":""},{"$f":"IFERROR(VLOOKUP($D129,料理データ!$A$3:$BK$997,41,FALSE),\"\")","v":""},{"$f":"IFERROR(VLOOKUP($D129,料理データ!$A$3:$BK$997,44,FALSE),\"\")","v":""},{"$f":"IFERROR(VLOOKUP($D129,料理データ!$A$3:$BK$997,47,FALSE),\"\")","v":""},{"$f":"IFERROR(VLOOKUP($D129,料理データ!$A$3:$BK$997,50,FALSE),\"\")","v":""},{"$f":"IFERROR(VLOOKUP($D129,料理データ!$A$3:$BK$997,53,FALSE),\"\")","v":""},{"$f":"IFERROR(VLOOKUP($D129,料理データ!$A$3:$BK$997,56,FALSE),\"\")","v":""},{"$f":"IFERROR(VLOOKUP($D129,料理データ!$A$3:$BK$997,59,FALSE),\"\")","v":""},{"$f":"IFERROR(VLOOKUP($D129,料理データ!$A$3:$BK$997,62,FALSE),\"\")","v":""},"                   ","                   "]
[null,null,null,{"$f":"+'月間献立（乳児）'!J14","v":0},{"$f":"IFERROR(VLOOKUP($D130,料理データ!$A$3:$BK$997,3,FALSE),\"\")","v":""},{"$f":"IFERROR(VLOOKUP($D130,料理データ!$A$3:$BK$997,5,FALSE),\"\")","v":""},{"$f":"IFERROR(VLOOKUP($D130,料理データ!$A$3:$BK$997,8,FALSE),\"\")","v":""},{"$f":"IFERROR(VLOOKUP($D130,料理データ!$A$3:$BK$997,11,FALSE),\"\")","v":""},{"$f":"IFERROR(VLOOKUP($D130,料理データ!$A$3:$BK$997,14,FALSE),\"\")","v":""},{"$f":"IFERROR(VLOOKUP($D130,料理データ!$A$3:$BK$997,17,FALSE),\"\")","v":""},{"$f":"IFERROR(VLOOKUP($D130,料理データ!$A$3:$BK$997,20,FALSE),\"\")","v":""},{"$f":"IFERROR(VLOOKUP($D130,料理データ!$A$3:$BK$997,23,FALSE),\"\")","v":""},{"$f":"IFERROR(VLOOKUP($D130,料理データ!$A$3:$BK$997,26,FALSE),\"\")","v":""},{"$f":"IFERROR(VLOOKUP($D130,料理データ!$A$3:$BK$997,29,FALSE),\"\")","v":""},{"$f":"IFERROR(VLOOKUP($D130,料理データ!$A$3:$BK$997,32,FALSE),\"\")","v":""},{"$f":"IFERROR(VLOOKUP($D130,料理データ!$A$3:$BK$997,35,FALSE),\"\")","v":""},{"$f":"IFERROR(VLOOKUP($D130,料理データ!$A$3:$BK$997,38,FALSE),\"\")","v":""},{"$f":"IFERROR(VLOOKUP($D130,料理データ!$A$3:$BK$997,41,FALSE),\"\")","v":""},{"$f":"IFERROR(VLOOKUP($D130,料理データ!$A$3:$BK$997,44,FALSE),\"\")","v":""},{"$f":"IFERROR(VLOOKUP($D130,料理データ!$A$3:$BK$997,47,FALSE),\"\")","v":""},{"$f":"IFERROR(VLOOKUP($D130,料理データ!$A$3:$BK$997,50,FALSE),\"\")","v":""},{"$f":"IFERROR(VLOOKUP($D130,料理データ!$A$3:$BK$997,53,FALSE),\"\")","v":""},{"$f":"IFERROR(VLOOKUP($D130,料理データ!$A$3:$BK$997,56,FALSE),\"\")","v":""},{"$f":"IFERROR(VLOOKUP($D130,料理データ!$A$3:$BK$997,59,FALSE),\"\")","v":""},{"$f":"IFERROR(VLOOKUP($D130,料理データ!$A$3:$BK$997,62,FALSE),\"\")","v":""},"                   ","                   "]
[null,null,null,{"$f":"+'月間献立（乳児）'!K14","v":0},{"$f":"IFERROR(VLOOKUP($D131,料理データ!$A$3:$BK$997,3,FALSE),\"\")","v":""},{"$f":"IFERROR(VLOOKUP($D131,料理データ!$A$3:$BK$997,5,FALSE),\"\")","v":""},{"$f":"IFERROR(VLOOKUP($D131,料理データ!$A$3:$BK$997,8,FALSE),\"\")","v":""},{"$f":"IFERROR(VLOOKUP($D131,料理データ!$A$3:$BK$997,11,FALSE),\"\")","v":""},{"$f":"IFERROR(VLOOKUP($D131,料理データ!$A$3:$BK$997,14,FALSE),\"\")","v":""},{"$f":"IFERROR(VLOOKUP($D131,料理データ!$A$3:$BK$997,17,FALSE),\"\")","v":""},{"$f":"IFERROR(VLOOKUP($D131,料理データ!$A$3:$BK$997,20,FALSE),\"\")","v":""},{"$f":"IFERROR(VLOOKUP($D131,料理データ!$A$3:$BK$997,23,FALSE),\"\")","v":""},{"$f":"IFERROR(VLOOKUP($D131,料理データ!$A$3:$BK$997,26,FALSE),\"\")","v":""},{"$f":"IFERROR(VLOOKUP($D131,料理データ!$A$3:$BK$997,29,FALSE),\"\")","v":""},{"$f":"IFERROR(VLOOKUP($D131,料理データ!$A$3:$BK$997,32,FALSE),\"\")","v":""},{"$f":"IFERROR(VLOOKUP($D131,料理データ!$A$3:$BK$997,35,FALSE),\"\")","v":""},{"$f":"IFERROR(VLOOKUP($D131,料理データ!$A$3:$BK$997,38,FALSE),\"\")","v":""},{"$f":"IFERROR(VLOOKUP($D131,料理データ!$A$3:$BK$997,41,FALSE),\"\")","v":""},{"$f":"IFERROR(VLOOKUP($D131,料理データ!$A$3:$BK$997,44,FALSE),\"\")","v":""},{"$f":"IFERROR(VLOOKUP($D131,料理データ!$A$3:$BK$997,47,FALSE),\"\")","v":""},{"$f":"IFERROR(VLOOKUP($D131,料理データ!$A$3:$BK$997,50,FALSE),\"\")","v":""},{"$f":"IFERROR(VLOOKUP($D131,料理データ!$A$3:$BK$997,53,FALSE),\"\")","v":""},{"$f":"IFERROR(VLOOKUP($D131,料理データ!$A$3:$BK$997,56,FALSE),\"\")","v":""},{"$f":"IFERROR(VLOOKUP($D131,料理データ!$A$3:$BK$997,59,FALSE),\"\")","v":""},{"$f":"IFERROR(VLOOKUP($D131,料理データ!$A$3:$BK$997,62,FALSE),\"\")","v":""},"                   ","                   "]
[null,null,"午後おやつ",{"$f":"+'月間献立（乳児）'!L14","v":0},{"$f":"IFERROR(VLOOKUP($D132,料理データ!$A$3:$BK$997,3,FALSE),\"\")","v":""},{"$f":"IFERROR(VLOOKUP($D132,料理データ!$A$3:$BK$997,5,FALSE),\"\")","v":""},{"$f":"IFERROR(VLOOKUP($D132,料理データ!$A$3:$BK$997,8,FALSE),\"\")","v":""},{"$f":"IFERROR(VLOOKUP($D132,料理データ!$A$3:$BK$997,11,FALSE),\"\")","v":""},{"$f":"IFERROR(VLOOKUP($D132,料理データ!$A$3:$BK$997,14,FALSE),\"\")","v":""},{"$f":"IFERROR(VLOOKUP($D132,料理データ!$A$3:$BK$997,17,FALSE),\"\")","v":""},{"$f":"IFERROR(VLOOKUP($D132,料理データ!$A$3:$BK$997,20,FALSE),\"\")","v":""},{"$f":"IFERROR(VLOOKUP($D132,料理データ!$A$3:$BK$997,23,FALSE),\"\")","v":""},{"$f":"IFERROR(VLOOKUP($D132,料理データ!$A$3:$BK$997,26,FALSE),\"\")","v":""},{"$f":"IFERROR(VLOOKUP($D132,料理データ!$A$3:$BK$997,29,FALSE),\"\")","v":""},{"$f":"IFERROR(VLOOKUP($D132,料理データ!$A$3:$BK$997,32,FALSE),\"\")","v":""},{"$f":"IFERROR(VLOOKUP($D132,料理データ!$A$3:$BK$997,35,FALSE),\"\")","v":""},{"$f":"IFERROR(VLOOKUP($D132,料理データ!$A$3:$BK$997,38,FALSE),\"\")","v":""},{"$f":"IFERROR(VLOOKUP($D132,料理データ!$A$3:$BK$997,41,FALSE),\"\")","v":""},{"$f":"IFERROR(VLOOKUP($D132,料理データ!$A$3:$BK$997,44,FALSE),\"\")","v":""},{"$f":"IFERROR(VLOOKUP($D132,料理データ!$A$3:$BK$997,47,FALSE),\"\")","v":""},{"$f":"IFERROR(VLOOKUP($D132,料理データ!$A$3:$BK$997,50,FALSE),\"\")","v":""},{"$f":"IFERROR(VLOOKUP($D132,料理データ!$A$3:$BK$997,53,FALSE),\"\")","v":""},{"$f":"IFERROR(VLOOKUP($D132,料理データ!$A$3:$BK$997,56,FALSE),\"\")","v":""},{"$f":"IFERROR(VLOOKUP($D132,料理データ!$A$3:$BK$997,59,FALSE),\"\")","v":""},{"$f":"IFERROR(VLOOKUP($D132,料理データ!$A$3:$BK$997,62,FALSE),\"\")","v":""},"                   ","                   "]
[null,null,null,{"$f":"+'月間献立（乳児）'!M14","v":0},{"$f":"IFERROR(VLOOKUP($D133,料理データ!$A$3:$BK$997,3,FALSE),\"\")","v":""},{"$f":"IFERROR(VLOOKUP($D133,料理データ!$A$3:$BK$997,5,FALSE),\"\")","v":""},{"$f":"IFERROR(VLOOKUP($D133,料理データ!$A$3:$BK$997,8,FALSE),\"\")","v":""},{"$f":"IFERROR(VLOOKUP($D133,料理データ!$A$3:$BK$997,11,FALSE),\"\")","v":""},{"$f":"IFERROR(VLOOKUP($D133,料理データ!$A$3:$BK$997,14,FALSE),\"\")","v":""},{"$f":"IFERROR(VLOOKUP($D133,料理データ!$A$3:$BK$997,17,FALSE),\"\")","v":""},{"$f":"IFERROR(VLOOKUP($D133,料理データ!$A$3:$BK$997,20,FALSE),\"\")","v":""},{"$f":"IFERROR(VLOOKUP($D133,料理データ!$A$3:$BK$997,23,FALSE),\"\")","v":""},{"$f":"IFERROR(VLOOKUP($D133,料理データ!$A$3:$BK$997,26,FALSE),\"\")","v":""},{"$f":"IFERROR(VLOOKUP($D133,料理データ!$A$3:$BK$997,29,FALSE),\"\")","v":""},{"$f":"IFERROR(VLOOKUP($D133,料理データ!$A$3:$BK$997,32,FALSE),\"\")","v":""},{"$f":"IFERROR(VLOOKUP($D133,料理データ!$A$3:$BK$997,35,FALSE),\"\")","v":""},{"$f":"IFERROR(VLOOKUP($D133,料理データ!$A$3:$BK$997,38,FALSE),\"\")","v":""},{"$f":"IFERROR(VLOOKUP($D133,料理データ!$A$3:$BK$997,41,FALSE),\"\")","v":""},{"$f":"IFERROR(VLOOKUP($D133,料理データ!$A$3:$BK$997,44,FALSE),\"\")","v":""},{"$f":"IFERROR(VLOOKUP($D133,料理データ!$A$3:$BK$997,47,FALSE),\"\")","v":""},{"$f":"IFERROR(VLOOKUP($D133,料理データ!$A$3:$BK$997,50,FALSE),\"\")","v":""},{"$f":"IFERROR(VLOOKUP($D133,料理データ!$A$3:$BK$997,53,FALSE),\"\")","v":""},{"$f":"IFERROR(VLOOKUP($D133,料理データ!$A$3:$BK$997,56,FALSE),\"\")","v":""},{"$f":"IFERROR(VLOOKUP($D133,料理データ!$A$3:$BK$997,59,FALSE),\"\")","v":""},{"$f":"IFERROR(VLOOKUP($D133,料理データ!$A$3:$BK$997,62,FALSE),\"\")","v":""},"                   ","                   "]
[null,null,null,{"$f":"+'月間献立（乳児）'!N14","v":0},{"$f":"IFERROR(VLOOKUP($D134,料理データ!$A$3:$BK$997,3,FALSE),\"\")","v":""},{"$f":"IFERROR(VLOOKUP($D134,料理データ!$A$3:$BK$997,5,FALSE),\"\")","v":""},{"$f":"IFERROR(VLOOKUP($D134,料理データ!$A$3:$BK$997,8,FALSE),\"\")","v":""},{"$f":"IFERROR(VLOOKUP($D134,料理データ!$A$3:$BK$997,11,FALSE),\"\")","v":""},{"$f":"IFERROR(VLOOKUP($D134,料理データ!$A$3:$BK$997,14,FALSE),\"\")","v":""},{"$f":"IFERROR(VLOOKUP($D134,料理データ!$A$3:$BK$997,17,FALSE),\"\")","v":""},{"$f":"IFERROR(VLOOKUP($D134,料理データ!$A$3:$BK$997,20,FALSE),\"\")","v":""},{"$f":"IFERROR(VLOOKUP($D134,料理データ!$A$3:$BK$997,23,FALSE),\"\")","v":""},{"$f":"IFERROR(VLOOKUP($D134,料理データ!$A$3:$BK$997,26,FALSE),\"\")","v":""},{"$f":"IFERROR(VLOOKUP($D134,料理データ!$A$3:$BK$997,29,FALSE),\"\")","v":""},{"$f":"IFERROR(VLOOKUP($D134,料理データ!$A$3:$BK$997,32,FALSE),\"\")","v":""},{"$f":"IFERROR(VLOOKUP($D134,料理データ!$A$3:$BK$997,35,FALSE),\"\")","v":""},{"$f":"IFERROR(VLOOKUP($D134,料理データ!$A$3:$BK$997,38,FALSE),\"\")","v":""},{"$f":"IFERROR(VLOOKUP($D134,料理データ!$A$3:$BK$997,41,FALSE),\"\")","v":""},{"$f":"IFERROR(VLOOKUP($D134,料理データ!$A$3:$BK$997,44,FALSE),\"\")","v":""},{"$f":"IFERROR(VLOOKUP($D134,料理データ!$A$3:$BK$997,47,FALSE),\"\")","v":""},{"$f":"IFERROR(VLOOKUP($D134,料理データ!$A$3:$BK$997,50,FALSE),\"\")","v":""},{"$f":"IFERROR(VLOOKUP($D134,料理データ!$A$3:$BK$997,53,FALSE),\"\")","v":""},{"$f":"IFERROR(VLOOKUP($D134,料理データ!$A$3:$BK$997,56,FALSE),\"\")","v":""},{"$f":"IFERROR(VLOOKUP($D134,料理データ!$A$3:$BK$997,59,FALSE),\"\")","v":""},{"$f":"IFERROR(VLOOKUP($D134,料理データ!$A$3:$BK$997,62,FALSE),\"\")","v":""},"                   ",{"$f":"SUBSTITUTE(Z134,\"-\",\"\")","v":"                   "}]
[{"$f":"+'月間献立（幼児）'!A16","v":12},{"$f":"+'月間献立（幼児）'!B16","v":"(水)"},"午前おやつ",{"$f":"+'月間献立（乳児）'!C15","v":0},{"$f":"IFERROR(VLOOKUP($D135,料理データ!$A$3:$BK$997,3,FALSE),\"\")","v":""},{"$f":"IFERROR(VLOOKUP($D135,料理データ!$A$3:$BK$997,5,FALSE),\"\")","v":""},{"$f":"IFERROR(VLOOKUP($D135,料理データ!$A$3:$BK$997,8,FALSE),\"\")","v":""},{"$f":"IFERROR(VLOOKUP($D135,料理データ!$A$3:$BK$997,11,FALSE),\"\")","v":""},{"$f":"IFERROR(VLOOKUP($D135,料理データ!$A$3:$BK$997,14,FALSE),\"\")","v":""},{"$f":"IFERROR(VLOOKUP($D135,料理データ!$A$3:$BK$997,17,FALSE),\"\")","v":""},{"$f":"IFERROR(VLOOKUP($D135,料理データ!$A$3:$BK$997,20,FALSE),\"\")","v":""},{"$f":"IFERROR(VLOOKUP($D135,料理データ!$A$3:$BK$997,23,FALSE),\"\")","v":""},{"$f":"IFERROR(VLOOKUP($D135,料理データ!$A$3:$BK$997,26,FALSE),\"\")","v":""},{"$f":"IFERROR(VLOOKUP($D135,料理データ!$A$3:$BK$997,29,FALSE),\"\")","v":""},{"$f":"IFERROR(VLOOKUP($D135,料理データ!$A$3:$BK$997,32,FALSE),\"\")","v":""},{"$f":"IFERROR(VLOOKUP($D135,料理データ!$A$3:$BK$997,35,FALSE),\"\")","v":""},{"$f":"IFERROR(VLOOKUP($D135,料理データ!$A$3:$BK$997,38,FALSE),\"\")","v":""},{"$f":"IFERROR(VLOOKUP($D135,料理データ!$A$3:$BK$997,41,FALSE),\"\")","v":""},{"$f":"IFERROR(VLOOKUP($D135,料理データ!$A$3:$BK$997,44,FALSE),\"\")","v":""},{"$f":"IFERROR(VLOOKUP($D135,料理データ!$A$3:$BK$997,47,FALSE),\"\")","v":""},{"$f":"IFERROR(VLOOKUP($D135,料理データ!$A$3:$BK$997,50,FALSE),\"\")","v":""},{"$f":"IFERROR(VLOOKUP($D135,料理データ!$A$3:$BK$997,53,FALSE),\"\")","v":""},{"$f":"IFERROR(VLOOKUP($D135,料理データ!$A$3:$BK$997,56,FALSE),\"\")","v":""},{"$f":"IFERROR(VLOOKUP($D135,料理データ!$A$3:$BK$997,59,FALSE),\"\")","v":""},{"$f":"IFERROR(VLOOKUP($D135,料理データ!$A$3:$BK$997,62,FALSE),\"\")","v":""},"                   ",{"$f":"SUBSTITUTE(Z135,\"-\",\" \")","v":"                   "},{"$f":"TRIM(CONCATENATE(AA135,AA136,AA137,\"▲\",AA138,AA139,AA140,AA141,AA142,AA143,\"▲\",AA144,AA145,AA146))","v":"▲ ▲"}]
[null,null,null,{"$f":"+'月間献立（乳児）'!D15","v":0},{"$f":"IFERROR(VLOOKUP($D136,料理データ!$A$3:$BK$997,3,FALSE),\"\")","v":""},{"$f":"IFERROR(VLOOKUP($D136,料理データ!$A$3:$BK$997,5,FALSE),\"\")","v":""},{"$f":"IFERROR(VLOOKUP($D136,料理データ!$A$3:$BK$997,8,FALSE),\"\")","v":""},{"$f":"IFERROR(VLOOKUP($D136,料理データ!$A$3:$BK$997,11,FALSE),\"\")","v":""},{"$f":"IFERROR(VLOOKUP($D136,料理データ!$A$3:$BK$997,14,FALSE),\"\")","v":""},{"$f":"IFERROR(VLOOKUP($D136,料理データ!$A$3:$BK$997,17,FALSE),\"\")","v":""},{"$f":"IFERROR(VLOOKUP($D136,料理データ!$A$3:$BK$997,20,FALSE),\"\")","v":""},{"$f":"IFERROR(VLOOKUP($D136,料理データ!$A$3:$BK$997,23,FALSE),\"\")","v":""},{"$f":"IFERROR(VLOOKUP($D136,料理データ!$A$3:$BK$997,26,FALSE),\"\")","v":""},{"$f":"IFERROR(VLOOKUP($D136,料理データ!$A$3:$BK$997,29,FALSE),\"\")","v":""},{"$f":"IFERROR(VLOOKUP($D136,料理データ!$A$3:$BK$997,32,FALSE),\"\")","v":""},{"$f":"IFERROR(VLOOKUP($D136,料理データ!$A$3:$BK$997,35,FALSE),\"\")","v":""},{"$f":"IFERROR(VLOOKUP($D136,料理データ!$A$3:$BK$997,38,FALSE),\"\")","v":""},{"$f":"IFERROR(VLOOKUP($D136,料理データ!$A$3:$BK$997,41,FALSE),\"\")","v":""},{"$f":"IFERROR(VLOOKUP($D136,料理データ!$A$3:$BK$997,44,FALSE),\"\")","v":""},{"$f":"IFERROR(VLOOKUP($D136,料理データ!$A$3:$BK$997,47,FALSE),\"\")","v":""},{"$f":"IFERROR(VLOOKUP($D136,料理データ!$A$3:$BK$997,50,FALSE),\"\")","v":""},{"$f":"IFERROR(VLOOKUP($D136,料理データ!$A$3:$BK$997,53,FALSE),\"\")","v":""},{"$f":"IFERROR(VLOOKUP($D136,料理データ!$A$3:$BK$997,56,FALSE),\"\")","v":""},{"$f":"IFERROR(VLOOKUP($D136,料理データ!$A$3:$BK$997,59,FALSE),\"\")","v":""},{"$f":"IFERROR(VLOOKUP($D136,料理データ!$A$3:$BK$997,62,FALSE),\"\")","v":""},"                   ",{"$f":"SUBSTITUTE(Z136,\"-\",\" \")","v":"                   "}]
[null,null,null,{"$f":"+'月間献立（乳児）'!E15","v":0},{"$f":"IFERROR(VLOOKUP($D137,料理データ!$A$3:$BK$997,3,FALSE),\"\")","v":""},{"$f":"IFERROR(VLOOKUP($D137,料理データ!$A$3:$BK$997,5,FALSE),\"\")","v":""},{"$f":"IFERROR(VLOOKUP($D137,料理データ!$A$3:$BK$997,8,FALSE),\"\")","v":""},{"$f":"IFERROR(VLOOKUP($D137,料理データ!$A$3:$BK$997,11,FALSE),\"\")","v":""},{"$f":"IFERROR(VLOOKUP($D137,料理データ!$A$3:$BK$997,14,FALSE),\"\")","v":""},{"$f":"IFERROR(VLOOKUP($D137,料理データ!$A$3:$BK$997,17,FALSE),\"\")","v":""},{"$f":"IFERROR(VLOOKUP($D137,料理データ!$A$3:$BK$997,20,FALSE),\"\")","v":""},{"$f":"IFERROR(VLOOKUP($D137,料理データ!$A$3:$BK$997,23,FALSE),\"\")","v":""},{"$f":"IFERROR(VLOOKUP($D137,料理データ!$A$3:$BK$997,26,FALSE),\"\")","v":""},{"$f":"IFERROR(VLOOKUP($D137,料理データ!$A$3:$BK$997,29,FALSE),\"\")","v":""},{"$f":"IFERROR(VLOOKUP($D137,料理データ!$A$3:$BK$997,32,FALSE),\"\")","v":""},{"$f":"IFERROR(VLOOKUP($D137,料理データ!$A$3:$BK$997,35,FALSE),\"\")","v":""},{"$f":"IFERROR(VLOOKUP($D137,料理データ!$A$3:$BK$997,38,FALSE),\"\")","v":""},{"$f":"IFERROR(VLOOKUP($D137,料理データ!$A$3:$BK$997,41,FALSE),\"\")","v":""},{"$f":"IFERROR(VLOOKUP($D137,料理データ!$A$3:$BK$997,44,FALSE),\"\")","v":""},{"$f":"IFERROR(VLOOKUP($D137,料理データ!$A$3:$BK$997,47,FALSE),\"\")","v":""},{"$f":"IFERROR(VLOOKUP($D137,料理データ!$A$3:$BK$997,50,FALSE),\"\")","v":""},{"$f":"IFERROR(VLOOKUP($D137,料理データ!$A$3:$BK$997,53,FALSE),\"\")","v":""},{"$f":"IFERROR(VLOOKUP($D137,料理データ!$A$3:$BK$997,56,FALSE),\"\")","v":""},{"$f":"IFERROR(VLOOKUP($D137,料理データ!$A$3:$BK$997,59,FALSE),\"\")","v":""},{"$f":"IFERROR(VLOOKUP($D137,料理データ!$A$3:$BK$997,62,FALSE),\"\")","v":""},"                   ",{"$f":"SUBSTITUTE(Z137,\"-\",\" \")","v":"                   "}]
[null,null,"昼食",{"$f":"+'月間献立（乳児）'!F15","v":0},{"$f":"IFERROR(VLOOKUP($D138,料理データ!$A$3:$BK$997,3,FALSE),\"\")","v":""},{"$f":"IFERROR(VLOOKUP($D138,料理データ!$A$3:$BK$997,5,FALSE),\"\")","v":""},{"$f":"IFERROR(VLOOKUP($D138,料理データ!$A$3:$BK$997,8,FALSE),\"\")","v":""},{"$f":"IFERROR(VLOOKUP($D138,料理データ!$A$3:$BK$997,11,FALSE),\"\")","v":""},{"$f":"IFERROR(VLOOKUP($D138,料理データ!$A$3:$BK$997,14,FALSE),\"\")","v":""},{"$f":"IFERROR(VLOOKUP($D138,料理データ!$A$3:$BK$997,17,FALSE),\"\")","v":""},{"$f":"IFERROR(VLOOKUP($D138,料理データ!$A$3:$BK$997,20,FALSE),\"\")","v":""},{"$f":"IFERROR(VLOOKUP($D138,料理データ!$A$3:$BK$997,23,FALSE),\"\")","v":""},{"$f":"IFERROR(VLOOKUP($D138,料理データ!$A$3:$BK$997,26,FALSE),\"\")","v":""},{"$f":"IFERROR(VLOOKUP($D138,料理データ!$A$3:$BK$997,29,FALSE),\"\")","v":""},{"$f":"IFERROR(VLOOKUP($D138,料理データ!$A$3:$BK$997,32,FALSE),\"\")","v":""},{"$f":"IFERROR(VLOOKUP($D138,料理データ!$A$3:$BK$997,35,FALSE),\"\")","v":""},{"$f":"IFERROR(VLOOKUP($D138,料理データ!$A$3:$BK$997,38,FALSE),\"\")","v":""},{"$f":"IFERROR(VLOOKUP($D138,料理データ!$A$3:$BK$997,41,FALSE),\"\")","v":""},{"$f":"IFERROR(VLOOKUP($D138,料理データ!$A$3:$BK$997,44,FALSE),\"\")","v":""},{"$f":"IFERROR(VLOOKUP($D138,料理データ!$A$3:$BK$997,47,FALSE),\"\")","v":""},{"$f":"IFERROR(VLOOKUP($D138,料理データ!$A$3:$BK$997,50,FALSE),\"\")","v":""},{"$f":"IFERROR(VLOOKUP($D138,料理データ!$A$3:$BK$997,53,FALSE),\"\")","v":""},{"$f":"IFERROR(VLOOKUP($D138,料理データ!$A$3:$BK$997,56,FALSE),\"\")","v":""},{"$f":"IFERROR(VLOOKUP($D138,料理データ!$A$3:$BK$997,59,FALSE),\"\")","v":""},{"$f":"IFERROR(VLOOKUP($D138,料理データ!$A$3:$BK$997,62,FALSE),\"\")","v":""},{"$f":"CONCATENATE($F138,\" \",$G138,\" \",$H138,\" \",$I138,\" \",$J138,\" \",$K138,\" \",$L138,\" \",$M138,\" \",$N138,\" \",$O138,\" \",$P138,\" \",$Q138,\" \",$R138,\" \",$S138,\" \",$T138,\" \",$U138,\" \",$V138,\" \",$W138,\" \",$X138,\" \",$Y138)","v":"                   "},"                   "]
[null,null,null,{"$f":"+'月間献立（乳児）'!G15","v":0},{"$f":"IFERROR(VLOOKUP($D139,料理データ!$A$3:$BK$997,3,FALSE),\"\")","v":""},{"$f":"IFERROR(VLOOKUP($D139,料理データ!$A$3:$BK$997,5,FALSE),\"\")","v":""},{"$f":"IFERROR(VLOOKUP($D139,料理データ!$A$3:$BK$997,8,FALSE),\"\")","v":""},{"$f":"IFERROR(VLOOKUP($D139,料理データ!$A$3:$BK$997,11,FALSE),\"\")","v":""},{"$f":"IFERROR(VLOOKUP($D139,料理データ!$A$3:$BK$997,14,FALSE),\"\")","v":""},{"$f":"IFERROR(VLOOKUP($D139,料理データ!$A$3:$BK$997,17,FALSE),\"\")","v":""},{"$f":"IFERROR(VLOOKUP($D139,料理データ!$A$3:$BK$997,20,FALSE),\"\")","v":""},{"$f":"IFERROR(VLOOKUP($D139,料理データ!$A$3:$BK$997,23,FALSE),\"\")","v":""},{"$f":"IFERROR(VLOOKUP($D139,料理データ!$A$3:$BK$997,26,FALSE),\"\")","v":""},{"$f":"IFERROR(VLOOKUP($D139,料理データ!$A$3:$BK$997,29,FALSE),\"\")","v":""},{"$f":"IFERROR(VLOOKUP($D139,料理データ!$A$3:$BK$997,32,FALSE),\"\")","v":""},{"$f":"IFERROR(VLOOKUP($D139,料理データ!$A$3:$BK$997,35,FALSE),\"\")","v":""},{"$f":"IFERROR(VLOOKUP($D139,料理データ!$A$3:$BK$997,38,FALSE),\"\")","v":""},{"$f":"IFERROR(VLOOKUP($D139,料理データ!$A$3:$BK$997,41,FALSE),\"\")","v":""},{"$f":"IFERROR(VLOOKUP($D139,料理データ!$A$3:$BK$997,44,FALSE),\"\")","v":""},{"$f":"IFERROR(VLOOKUP($D139,料理データ!$A$3:$BK$997,47,FALSE),\"\")","v":""},{"$f":"IFERROR(VLOOKUP($D139,料理データ!$A$3:$BK$997,50,FALSE),\"\")","v":""},{"$f":"IFERROR(VLOOKUP($D139,料理データ!$A$3:$BK$997,53,FALSE),\"\")","v":""},{"$f":"IFERROR(VLOOKUP($D139,料理データ!$A$3:$BK$997,56,FALSE),\"\")","v":""},{"$f":"IFERROR(VLOOKUP($D139,料理データ!$A$3:$BK$997,59,FALSE),\"\")","v":""},{"$f":"IFERROR(VLOOKUP($D139,料理データ!$A$3:$BK$997,62,FALSE),\"\")","v":""},"                   ","                   "]
[null,null,null,{"$f":"+'月間献立（乳児）'!H15","v":0},{"$f":"IFERROR(VLOOKUP($D140,料理データ!$A$3:$BK$997,3,FALSE),\"\")","v":""},{"$f":"IFERROR(VLOOKUP($D140,料理データ!$A$3:$BK$997,5,FALSE),\"\")","v":""},{"$f":"IFERROR(VLOOKUP($D140,料理データ!$A$3:$BK$997,8,FALSE),\"\")","v":""},{"$f":"IFERROR(VLOOKUP($D140,料理データ!$A$3:$BK$997,11,FALSE),\"\")","v":""},{"$f":"IFERROR(VLOOKUP($D140,料理データ!$A$3:$BK$997,14,FALSE),\"\")","v":""},{"$f":"IFERROR(VLOOKUP($D140,料理データ!$A$3:$BK$997,17,FALSE),\"\")","v":""},{"$f":"IFERROR(VLOOKUP($D140,料理データ!$A$3:$BK$997,20,FALSE),\"\")","v":""},{"$f":"IFERROR(VLOOKUP($D140,料理データ!$A$3:$BK$997,23,FALSE),\"\")","v":""},{"$f":"IFERROR(VLOOKUP($D140,料理データ!$A$3:$BK$997,26,FALSE),\"\")","v":""},{"$f":"IFERROR(VLOOKUP($D140,料理データ!$A$3:$BK$997,29,FALSE),\"\")","v":""},{"$f":"IFERROR(VLOOKUP($D140,料理データ!$A$3:$BK$997,32,FALSE),\"\")","v":""},{"$f":"IFERROR(VLOOKUP($D140,料理データ!$A$3:$BK$997,35,FALSE),\"\")","v":""},{"$f":"IFERROR(VLOOKUP($D140,料理データ!$A$3:$BK$997,38,FALSE),\"\")","v":""},{"$f":"IFERROR(VLOOKUP($D140,料理データ!$A$3:$BK$997,41,FALSE),\"\")","v":""},{"$f":"IFERROR(VLOOKUP($D140,料理データ!$A$3:$BK$997,44,FALSE),\"\")","v":""},{"$f":"IFERROR(VLOOKUP($D140,料理データ!$A$3:$BK$997,47,FALSE),\"\")","v":""},{"$f":"IFERROR(VLOOKUP($D140,料理データ!$A$3:$BK$997,50,FALSE),\"\")","v":""},{"$f":"IFERROR(VLOOKUP($D140,料理データ!$A$3:$BK$997,53,FALSE),\"\")","v":""},{"$f":"IFERROR(VLOOKUP($D140,料理データ!$A$3:$BK$997,56,FALSE),\"\")","v":""},{"$f":"IFERROR(VLOOKUP($D140,料理データ!$A$3:$BK$997,59,FALSE),\"\")","v":""},{"$f":"IFERROR(VLOOKUP($D140,料理データ!$A$3:$BK$997,62,FALSE),\"\")","v":""},"                   ","                   "]
[null,null,null,{"$f":"+'月間献立（乳児）'!I15","v":0},{"$f":"IFERROR(VLOOKUP($D141,料理データ!$A$3:$BK$997,3,FALSE),\"\")","v":""},{"$f":"IFERROR(VLOOKUP($D141,料理データ!$A$3:$BK$997,5,FALSE),\"\")","v":""},{"$f":"IFERROR(VLOOKUP($D141,料理データ!$A$3:$BK$997,8,FALSE),\"\")","v":""},{"$f":"IFERROR(VLOOKUP($D141,料理データ!$A$3:$BK$997,11,FALSE),\"\")","v":""},{"$f":"IFERROR(VLOOKUP($D141,料理データ!$A$3:$BK$997,14,FALSE),\"\")","v":""},{"$f":"IFERROR(VLOOKUP($D141,料理データ!$A$3:$BK$997,17,FALSE),\"\")","v":""},{"$f":"IFERROR(VLOOKUP($D141,料理データ!$A$3:$BK$997,20,FALSE),\"\")","v":""},{"$f":"IFERROR(VLOOKUP($D141,料理データ!$A$3:$BK$997,23,FALSE),\"\")","v":""},{"$f":"IFERROR(VLOOKUP($D141,料理データ!$A$3:$BK$997,26,FALSE),\"\")","v":""},{"$f":"IFERROR(VLOOKUP($D141,料理データ!$A$3:$BK$997,29,FALSE),\"\")","v":""},{"$f":"IFERROR(VLOOKUP($D141,料理データ!$A$3:$BK$997,32,FALSE),\"\")","v":""},{"$f":"IFERROR(VLOOKUP($D141,料理データ!$A$3:$BK$997,35,FALSE),\"\")","v":""},{"$f":"IFERROR(VLOOKUP($D141,料理データ!$A$3:$BK$997,38,FALSE),\"\")","v":""},{"$f":"IFERROR(VLOOKUP($D141,料理データ!$A$3:$BK$997,41,FALSE),\"\")","v":""},{"$f":"IFERROR(VLOOKUP($D141,料理データ!$A$3:$BK$997,44,FALSE),\"\")","v":""},{"$f":"IFERROR(VLOOKUP($D141,料理データ!$A$3:$BK$997,47,FALSE),\"\")","v":""},{"$f":"IFERROR(VLOOKUP($D141,料理データ!$A$3:$BK$997,50,FALSE),\"\")","v":""},{"$f":"IFERROR(VLOOKUP($D141,料理データ!$A$3:$BK$997,53,FALSE),\"\")","v":""},{"$f":"IFERROR(VLOOKUP($D141,料理データ!$A$3:$BK$997,56,FALSE),\"\")","v":""},{"$f":"IFERROR(VLOOKUP($D141,料理データ!$A$3:$BK$997,59,FALSE),\"\")","v":""},{"$f":"IFERROR(VLOOKUP($D141,料理データ!$A$3:$BK$997,62,FALSE),\"\")","v":""},"                   ","                   "]
[null,null,null,{"$f":"+'月間献立（乳児）'!J15","v":0},{"$f":"IFERROR(VLOOKUP($D142,料理データ!$A$3:$BK$997,3,FALSE),\"\")","v":""},{"$f":"IFERROR(VLOOKUP($D142,料理データ!$A$3:$BK$997,5,FALSE),\"\")","v":""},{"$f":"IFERROR(VLOOKUP($D142,料理データ!$A$3:$BK$997,8,FALSE),\"\")","v":""},{"$f":"IFERROR(VLOOKUP($D142,料理データ!$A$3:$BK$997,11,FALSE),\"\")","v":""},{"$f":"IFERROR(VLOOKUP($D142,料理データ!$A$3:$BK$997,14,FALSE),\"\")","v":""},{"$f":"IFERROR(VLOOKUP($D142,料理データ!$A$3:$BK$997,17,FALSE),\"\")","v":""},{"$f":"IFERROR(VLOOKUP($D142,料理データ!$A$3:$BK$997,20,FALSE),\"\")","v":""},{"$f":"IFERROR(VLOOKUP($D142,料理データ!$A$3:$BK$997,23,FALSE),\"\")","v":""},{"$f":"IFERROR(VLOOKUP($D142,料理データ!$A$3:$BK$997,26,FALSE),\"\")","v":""},{"$f":"IFERROR(VLOOKUP($D142,料理データ!$A$3:$BK$997,29,FALSE),\"\")","v":""},{"$f":"IFERROR(VLOOKUP($D142,料理データ!$A$3:$BK$997,32,FALSE),\"\")","v":""},{"$f":"IFERROR(VLOOKUP($D142,料理データ!$A$3:$BK$997,35,FALSE),\"\")","v":""},{"$f":"IFERROR(VLOOKUP($D142,料理データ!$A$3:$BK$997,38,FALSE),\"\")","v":""},{"$f":"IFERROR(VLOOKUP($D142,料理データ!$A$3:$BK$997,41,FALSE),\"\")","v":""},{"$f":"IFERROR(VLOOKUP($D142,料理データ!$A$3:$BK$997,44,FALSE),\"\")","v":""},{"$f":"IFERROR(VLOOKUP($D142,料理データ!$A$3:$BK$997,47,FALSE),\"\")","v":""},{"$f":"IFERROR(VLOOKUP($D142,料理データ!$A$3:$BK$997,50,FALSE),\"\")","v":""},{"$f":"IFERROR(VLOOKUP($D142,料理データ!$A$3:$BK$997,53,FALSE),\"\")","v":""},{"$f":"IFERROR(VLOOKUP($D142,料理データ!$A$3:$BK$997,56,FALSE),\"\")","v":""},{"$f":"IFERROR(VLOOKUP($D142,料理データ!$A$3:$BK$997,59,FALSE),\"\")","v":""},{"$f":"IFERROR(VLOOKUP($D142,料理データ!$A$3:$BK$997,62,FALSE),\"\")","v":""},"                   ","                   "]
[null,null,null,{"$f":"+'月間献立（乳児）'!K15","v":0},{"$f":"IFERROR(VLOOKUP($D143,料理データ!$A$3:$BK$997,3,FALSE),\"\")","v":""},{"$f":"IFERROR(VLOOKUP($D143,料理データ!$A$3:$BK$997,5,FALSE),\"\")","v":""},{"$f":"IFERROR(VLOOKUP($D143,料理データ!$A$3:$BK$997,8,FALSE),\"\")","v":""},{"$f":"IFERROR(VLOOKUP($D143,料理データ!$A$3:$BK$997,11,FALSE),\"\")","v":""},{"$f":"IFERROR(VLOOKUP($D143,料理データ!$A$3:$BK$997,14,FALSE),\"\")","v":""},{"$f":"IFERROR(VLOOKUP($D143,料理データ!$A$3:$BK$997,17,FALSE),\"\")","v":""},{"$f":"IFERROR(VLOOKUP($D143,料理データ!$A$3:$BK$997,20,FALSE),\"\")","v":""},{"$f":"IFERROR(VLOOKUP($D143,料理データ!$A$3:$BK$997,23,FALSE),\"\")","v":""},{"$f":"IFERROR(VLOOKUP($D143,料理データ!$A$3:$BK$997,26,FALSE),\"\")","v":""},{"$f":"IFERROR(VLOOKUP($D143,料理データ!$A$3:$BK$997,29,FALSE),\"\")","v":""},{"$f":"IFERROR(VLOOKUP($D143,料理データ!$A$3:$BK$997,32,FALSE),\"\")","v":""},{"$f":"IFERROR(VLOOKUP($D143,料理データ!$A$3:$BK$997,35,FALSE),\"\")","v":""},{"$f":"IFERROR(VLOOKUP($D143,料理データ!$A$3:$BK$997,38,FALSE),\"\")","v":""},{"$f":"IFERROR(VLOOKUP($D143,料理データ!$A$3:$BK$997,41,FALSE),\"\")","v":""},{"$f":"IFERROR(VLOOKUP($D143,料理データ!$A$3:$BK$997,44,FALSE),\"\")","v":""},{"$f":"IFERROR(VLOOKUP($D143,料理データ!$A$3:$BK$997,47,FALSE),\"\")","v":""},{"$f":"IFERROR(VLOOKUP($D143,料理データ!$A$3:$BK$997,50,FALSE),\"\")","v":""},{"$f":"IFERROR(VLOOKUP($D143,料理データ!$A$3:$BK$997,53,FALSE),\"\")","v":""},{"$f":"IFERROR(VLOOKUP($D143,料理データ!$A$3:$BK$997,56,FALSE),\"\")","v":""},{"$f":"IFERROR(VLOOKUP($D143,料理データ!$A$3:$BK$997,59,FALSE),\"\")","v":""},{"$f":"IFERROR(VLOOKUP($D143,料理データ!$A$3:$BK$997,62,FALSE),\"\")","v":""},"                   ","                   "]
[null,null,"午後おやつ",{"$f":"+'月間献立（乳児）'!L15","v":0},{"$f":"IFERROR(VLOOKUP($D144,料理データ!$A$3:$BK$997,3,FALSE),\"\")","v":""},{"$f":"IFERROR(VLOOKUP($D144,料理データ!$A$3:$BK$997,5,FALSE),\"\")","v":""},{"$f":"IFERROR(VLOOKUP($D144,料理データ!$A$3:$BK$997,8,FALSE),\"\")","v":""},{"$f":"IFERROR(VLOOKUP($D144,料理データ!$A$3:$BK$997,11,FALSE),\"\")","v":""},{"$f":"IFERROR(VLOOKUP($D144,料理データ!$A$3:$BK$997,14,FALSE),\"\")","v":""},{"$f":"IFERROR(VLOOKUP($D144,料理データ!$A$3:$BK$997,17,FALSE),\"\")","v":""},{"$f":"IFERROR(VLOOKUP($D144,料理データ!$A$3:$BK$997,20,FALSE),\"\")","v":""},{"$f":"IFERROR(VLOOKUP($D144,料理データ!$A$3:$BK$997,23,FALSE),\"\")","v":""},{"$f":"IFERROR(VLOOKUP($D144,料理データ!$A$3:$BK$997,26,FALSE),\"\")","v":""},{"$f":"IFERROR(VLOOKUP($D144,料理データ!$A$3:$BK$997,29,FALSE),\"\")","v":""},{"$f":"IFERROR(VLOOKUP($D144,料理データ!$A$3:$BK$997,32,FALSE),\"\")","v":""},{"$f":"IFERROR(VLOOKUP($D144,料理データ!$A$3:$BK$997,35,FALSE),\"\")","v":""},{"$f":"IFERROR(VLOOKUP($D144,料理データ!$A$3:$BK$997,38,FALSE),\"\")","v":""},{"$f":"IFERROR(VLOOKUP($D144,料理データ!$A$3:$BK$997,41,FALSE),\"\")","v":""},{"$f":"IFERROR(VLOOKUP($D144,料理データ!$A$3:$BK$997,44,FALSE),\"\")","v":""},{"$f":"IFERROR(VLOOKUP($D144,料理データ!$A$3:$BK$997,47,FALSE),\"\")","v":""},{"$f":"IFERROR(VLOOKUP($D144,料理データ!$A$3:$BK$997,50,FALSE),\"\")","v":""},{"$f":"IFERROR(VLOOKUP($D144,料理データ!$A$3:$BK$997,53,FALSE),\"\")","v":""},{"$f":"IFERROR(VLOOKUP($D144,料理データ!$A$3:$BK$997,56,FALSE),\"\")","v":""},{"$f":"IFERROR(VLOOKUP($D144,料理データ!$A$3:$BK$997,59,FALSE),\"\")","v":""},{"$f":"IFERROR(VLOOKUP($D144,料理データ!$A$3:$BK$997,62,FALSE),\"\")","v":""},"                   ","                   "]
[null,null,null,{"$f":"+'月間献立（乳児）'!M15","v":0},{"$f":"IFERROR(VLOOKUP($D145,料理データ!$A$3:$BK$997,3,FALSE),\"\")","v":""},{"$f":"IFERROR(VLOOKUP($D145,料理データ!$A$3:$BK$997,5,FALSE),\"\")","v":""},{"$f":"IFERROR(VLOOKUP($D145,料理データ!$A$3:$BK$997,8,FALSE),\"\")","v":""},{"$f":"IFERROR(VLOOKUP($D145,料理データ!$A$3:$BK$997,11,FALSE),\"\")","v":""},{"$f":"IFERROR(VLOOKUP($D145,料理データ!$A$3:$BK$997,14,FALSE),\"\")","v":""},{"$f":"IFERROR(VLOOKUP($D145,料理データ!$A$3:$BK$997,17,FALSE),\"\")","v":""},{"$f":"IFERROR(VLOOKUP($D145,料理データ!$A$3:$BK$997,20,FALSE),\"\")","v":""},{"$f":"IFERROR(VLOOKUP($D145,料理データ!$A$3:$BK$997,23,FALSE),\"\")","v":""},{"$f":"IFERROR(VLOOKUP($D145,料理データ!$A$3:$BK$997,26,FALSE),\"\")","v":""},{"$f":"IFERROR(VLOOKUP($D145,料理データ!$A$3:$BK$997,29,FALSE),\"\")","v":""},{"$f":"IFERROR(VLOOKUP($D145,料理データ!$A$3:$BK$997,32,FALSE),\"\")","v":""},{"$f":"IFERROR(VLOOKUP($D145,料理データ!$A$3:$BK$997,35,FALSE),\"\")","v":""},{"$f":"IFERROR(VLOOKUP($D145,料理データ!$A$3:$BK$997,38,FALSE),\"\")","v":""},{"$f":"IFERROR(VLOOKUP($D145,料理データ!$A$3:$BK$997,41,FALSE),\"\")","v":""},{"$f":"IFERROR(VLOOKUP($D145,料理データ!$A$3:$BK$997,44,FALSE),\"\")","v":""},{"$f":"IFERROR(VLOOKUP($D145,料理データ!$A$3:$BK$997,47,FALSE),\"\")","v":""},{"$f":"IFERROR(VLOOKUP($D145,料理データ!$A$3:$BK$997,50,FALSE),\"\")","v":""},{"$f":"IFERROR(VLOOKUP($D145,料理データ!$A$3:$BK$997,53,FALSE),\"\")","v":""},{"$f":"IFERROR(VLOOKUP($D145,料理データ!$A$3:$BK$997,56,FALSE),\"\")","v":""},{"$f":"IFERROR(VLOOKUP($D145,料理データ!$A$3:$BK$997,59,FALSE),\"\")","v":""},{"$f":"IFERROR(VLOOKUP($D145,料理データ!$A$3:$BK$997,62,FALSE),\"\")","v":""},"                   ","                   "]
[null,null,null,{"$f":"+'月間献立（乳児）'!N15","v":0},{"$f":"IFERROR(VLOOKUP($D146,料理データ!$A$3:$BK$997,3,FALSE),\"\")","v":""},{"$f":"IFERROR(VLOOKUP($D146,料理データ!$A$3:$BK$997,5,FALSE),\"\")","v":""},{"$f":"IFERROR(VLOOKUP($D146,料理データ!$A$3:$BK$997,8,FALSE),\"\")","v":""},{"$f":"IFERROR(VLOOKUP($D146,料理データ!$A$3:$BK$997,11,FALSE),\"\")","v":""},{"$f":"IFERROR(VLOOKUP($D146,料理データ!$A$3:$BK$997,14,FALSE),\"\")","v":""},{"$f":"IFERROR(VLOOKUP($D146,料理データ!$A$3:$BK$997,17,FALSE),\"\")","v":""},{"$f":"IFERROR(VLOOKUP($D146,料理データ!$A$3:$BK$997,20,FALSE),\"\")","v":""},{"$f":"IFERROR(VLOOKUP($D146,料理データ!$A$3:$BK$997,23,FALSE),\"\")","v":""},{"$f":"IFERROR(VLOOKUP($D146,料理データ!$A$3:$BK$997,26,FALSE),\"\")","v":""},{"$f":"IFERROR(VLOOKUP($D146,料理データ!$A$3:$BK$997,29,FALSE),\"\")","v":""},{"$f":"IFERROR(VLOOKUP($D146,料理データ!$A$3:$BK$997,32,FALSE),\"\")","v":""},{"$f":"IFERROR(VLOOKUP($D146,料理データ!$A$3:$BK$997,35,FALSE),\"\")","v":""},{"$f":"IFERROR(VLOOKUP($D146,料理データ!$A$3:$BK$997,38,FALSE),\"\")","v":""},{"$f":"IFERROR(VLOOKUP($D146,料理データ!$A$3:$BK$997,41,FALSE),\"\")","v":""},{"$f":"IFERROR(VLOOKUP($D146,料理データ!$A$3:$BK$997,44,FALSE),\"\")","v":""},{"$f":"IFERROR(VLOOKUP($D146,料理データ!$A$3:$BK$997,47,FALSE),\"\")","v":""},{"$f":"IFERROR(VLOOKUP($D146,料理データ!$A$3:$BK$997,50,FALSE),\"\")","v":""},{"$f":"IFERROR(VLOOKUP($D146,料理データ!$A$3:$BK$997,53,FALSE),\"\")","v":""},{"$f":"IFERROR(VLOOKUP($D146,料理データ!$A$3:$BK$997,56,FALSE),\"\")","v":""},{"$f":"IFERROR(VLOOKUP($D146,料理データ!$A$3:$BK$997,59,FALSE),\"\")","v":""},{"$f":"IFERROR(VLOOKUP($D146,料理データ!$A$3:$BK$997,62,FALSE),\"\")","v":""},"                   ",{"$f":"SUBSTITUTE(Z146,\"-\",\"\")","v":"                   "}]
[{"$f":"+'月間献立（幼児）'!A17","v":13},{"$f":"+'月間献立（幼児）'!B17","v":"(木)"},"午前おやつ",{"$f":"+'月間献立（乳児）'!C16","v":0},{"$f":"IFERROR(VLOOKUP($D147,料理データ!$A$3:$BK$997,3,FALSE),\"\")","v":""},{"$f":"IFERROR(VLOOKUP($D147,料理データ!$A$3:$BK$997,5,FALSE),\"\")","v":""},{"$f":"IFERROR(VLOOKUP($D147,料理データ!$A$3:$BK$997,8,FALSE),\"\")","v":""},{"$f":"IFERROR(VLOOKUP($D147,料理データ!$A$3:$BK$997,11,FALSE),\"\")","v":""},{"$f":"IFERROR(VLOOKUP($D147,料理データ!$A$3:$BK$997,14,FALSE),\"\")","v":""},{"$f":"IFERROR(VLOOKUP($D147,料理データ!$A$3:$BK$997,17,FALSE),\"\")","v":""},{"$f":"IFERROR(VLOOKUP($D147,料理データ!$A$3:$BK$997,20,FALSE),\"\")","v":""},{"$f":"IFERROR(VLOOKUP($D147,料理データ!$A$3:$BK$997,23,FALSE),\"\")","v":""},{"$f":"IFERROR(VLOOKUP($D147,料理データ!$A$3:$BK$997,26,FALSE),\"\")","v":""},{"$f":"IFERROR(VLOOKUP($D147,料理データ!$A$3:$BK$997,29,FALSE),\"\")","v":""},{"$f":"IFERROR(VLOOKUP($D147,料理データ!$A$3:$BK$997,32,FALSE),\"\")","v":""},{"$f":"IFERROR(VLOOKUP($D147,料理データ!$A$3:$BK$997,35,FALSE),\"\")","v":""},{"$f":"IFERROR(VLOOKUP($D147,料理データ!$A$3:$BK$997,38,FALSE),\"\")","v":""},{"$f":"IFERROR(VLOOKUP($D147,料理データ!$A$3:$BK$997,41,FALSE),\"\")","v":""},{"$f":"IFERROR(VLOOKUP($D147,料理データ!$A$3:$BK$997,44,FALSE),\"\")","v":""},{"$f":"IFERROR(VLOOKUP($D147,料理データ!$A$3:$BK$997,47,FALSE),\"\")","v":""},{"$f":"IFERROR(VLOOKUP($D147,料理データ!$A$3:$BK$997,50,FALSE),\"\")","v":""},{"$f":"IFERROR(VLOOKUP($D147,料理データ!$A$3:$BK$997,53,FALSE),\"\")","v":""},{"$f":"IFERROR(VLOOKUP($D147,料理データ!$A$3:$BK$997,56,FALSE),\"\")","v":""},{"$f":"IFERROR(VLOOKUP($D147,料理データ!$A$3:$BK$997,59,FALSE),\"\")","v":""},{"$f":"IFERROR(VLOOKUP($D147,料理データ!$A$3:$BK$997,62,FALSE),\"\")","v":""},"                   ",{"$f":"SUBSTITUTE(Z147,\"-\",\" \")","v":"                   "},{"$f":"TRIM(CONCATENATE(AA147,AA148,AA149,\"▲\",AA150,AA151,AA152,AA153,AA154,AA155,\"▲\",AA156,AA157,AA158))","v":"▲ ▲"}]
[null,null,null,{"$f":"+'月間献立（乳児）'!D16","v":0},{"$f":"IFERROR(VLOOKUP($D148,料理データ!$A$3:$BK$997,3,FALSE),\"\")","v":""},{"$f":"IFERROR(VLOOKUP($D148,料理データ!$A$3:$BK$997,5,FALSE),\"\")","v":""},{"$f":"IFERROR(VLOOKUP($D148,料理データ!$A$3:$BK$997,8,FALSE),\"\")","v":""},{"$f":"IFERROR(VLOOKUP($D148,料理データ!$A$3:$BK$997,11,FALSE),\"\")","v":""},{"$f":"IFERROR(VLOOKUP($D148,料理データ!$A$3:$BK$997,14,FALSE),\"\")","v":""},{"$f":"IFERROR(VLOOKUP($D148,料理データ!$A$3:$BK$997,17,FALSE),\"\")","v":""},{"$f":"IFERROR(VLOOKUP($D148,料理データ!$A$3:$BK$997,20,FALSE),\"\")","v":""},{"$f":"IFERROR(VLOOKUP($D148,料理データ!$A$3:$BK$997,23,FALSE),\"\")","v":""},{"$f":"IFERROR(VLOOKUP($D148,料理データ!$A$3:$BK$997,26,FALSE),\"\")","v":""},{"$f":"IFERROR(VLOOKUP($D148,料理データ!$A$3:$BK$997,29,FALSE),\"\")","v":""},{"$f":"IFERROR(VLOOKUP($D148,料理データ!$A$3:$BK$997,32,FALSE),\"\")","v":""},{"$f":"IFERROR(VLOOKUP($D148,料理データ!$A$3:$BK$997,35,FALSE),\"\")","v":""},{"$f":"IFERROR(VLOOKUP($D148,料理データ!$A$3:$BK$997,38,FALSE),\"\")","v":""},{"$f":"IFERROR(VLOOKUP($D148,料理データ!$A$3:$BK$997,41,FALSE),\"\")","v":""},{"$f":"IFERROR(VLOOKUP($D148,料理データ!$A$3:$BK$997,44,FALSE),\"\")","v":""},{"$f":"IFERROR(VLOOKUP($D148,料理データ!$A$3:$BK$997,47,FALSE),\"\")","v":""},{"$f":"IFERROR(VLOOKUP($D148,料理データ!$A$3:$BK$997,50,FALSE),\"\")","v":""},{"$f":"IFERROR(VLOOKUP($D148,料理データ!$A$3:$BK$997,53,FALSE),\"\")","v":""},{"$f":"IFERROR(VLOOKUP($D148,料理データ!$A$3:$BK$997,56,FALSE),\"\")","v":""},{"$f":"IFERROR(VLOOKUP($D148,料理データ!$A$3:$BK$997,59,FALSE),\"\")","v":""},{"$f":"IFERROR(VLOOKUP($D148,料理データ!$A$3:$BK$997,62,FALSE),\"\")","v":""},"                   ",{"$f":"SUBSTITUTE(Z148,\"-\",\" \")","v":"                   "}]
[null,null,null,{"$f":"+'月間献立（乳児）'!E16","v":0},{"$f":"IFERROR(VLOOKUP($D149,料理データ!$A$3:$BK$997,3,FALSE),\"\")","v":""},{"$f":"IFERROR(VLOOKUP($D149,料理データ!$A$3:$BK$997,5,FALSE),\"\")","v":""},{"$f":"IFERROR(VLOOKUP($D149,料理データ!$A$3:$BK$997,8,FALSE),\"\")","v":""},{"$f":"IFERROR(VLOOKUP($D149,料理データ!$A$3:$BK$997,11,FALSE),\"\")","v":""},{"$f":"IFERROR(VLOOKUP($D149,料理データ!$A$3:$BK$997,14,FALSE),\"\")","v":""},{"$f":"IFERROR(VLOOKUP($D149,料理データ!$A$3:$BK$997,17,FALSE),\"\")","v":""},{"$f":"IFERROR(VLOOKUP($D149,料理データ!$A$3:$BK$997,20,FALSE),\"\")","v":""},{"$f":"IFERROR(VLOOKUP($D149,料理データ!$A$3:$BK$997,23,FALSE),\"\")","v":""},{"$f":"IFERROR(VLOOKUP($D149,料理データ!$A$3:$BK$997,26,FALSE),\"\")","v":""},{"$f":"IFERROR(VLOOKUP($D149,料理データ!$A$3:$BK$997,29,FALSE),\"\")","v":""},{"$f":"IFERROR(VLOOKUP($D149,料理データ!$A$3:$BK$997,32,FALSE),\"\")","v":""},{"$f":"IFERROR(VLOOKUP($D149,料理データ!$A$3:$BK$997,35,FALSE),\"\")","v":""},{"$f":"IFERROR(VLOOKUP($D149,料理データ!$A$3:$BK$997,38,FALSE),\"\")","v":""},{"$f":"IFERROR(VLOOKUP($D149,料理データ!$A$3:$BK$997,41,FALSE),\"\")","v":""},{"$f":"IFERROR(VLOOKUP($D149,料理データ!$A$3:$BK$997,44,FALSE),\"\")","v":""},{"$f":"IFERROR(VLOOKUP($D149,料理データ!$A$3:$BK$997,47,FALSE),\"\")","v":""},{"$f":"IFERROR(VLOOKUP($D149,料理データ!$A$3:$BK$997,50,FALSE),\"\")","v":""},{"$f":"IFERROR(VLOOKUP($D149,料理データ!$A$3:$BK$997,53,FALSE),\"\")","v":""},{"$f":"IFERROR(VLOOKUP($D149,料理データ!$A$3:$BK$997,56,FALSE),\"\")","v":""},{"$f":"IFERROR(VLOOKUP($D149,料理データ!$A$3:$BK$997,59,FALSE),\"\")","v":""},{"$f":"IFERROR(VLOOKUP($D149,料理データ!$A$3:$BK$997,62,FALSE),\"\")","v":""},"                   ",{"$f":"SUBSTITUTE(Z149,\"-\",\" \")","v":"                   "}]
[null,null,"昼食",{"$f":"+'月間献立（乳児）'!F16","v":0},{"$f":"IFERROR(VLOOKUP($D150,料理データ!$A$3:$BK$997,3,FALSE),\"\")","v":""},{"$f":"IFERROR(VLOOKUP($D150,料理データ!$A$3:$BK$997,5,FALSE),\"\")","v":""},{"$f":"IFERROR(VLOOKUP($D150,料理データ!$A$3:$BK$997,8,FALSE),\"\")","v":""},{"$f":"IFERROR(VLOOKUP($D150,料理データ!$A$3:$BK$997,11,FALSE),\"\")","v":""},{"$f":"IFERROR(VLOOKUP($D150,料理データ!$A$3:$BK$997,14,FALSE),\"\")","v":""},{"$f":"IFERROR(VLOOKUP($D150,料理データ!$A$3:$BK$997,17,FALSE),\"\")","v":""},{"$f":"IFERROR(VLOOKUP($D150,料理データ!$A$3:$BK$997,20,FALSE),\"\")","v":""},{"$f":"IFERROR(VLOOKUP($D150,料理データ!$A$3:$BK$997,23,FALSE),\"\")","v":""},{"$f":"IFERROR(VLOOKUP($D150,料理データ!$A$3:$BK$997,26,FALSE),\"\")","v":""},{"$f":"IFERROR(VLOOKUP($D150,料理データ!$A$3:$BK$997,29,FALSE),\"\")","v":""},{"$f":"IFERROR(VLOOKUP($D150,料理データ!$A$3:$BK$997,32,FALSE),\"\")","v":""},{"$f":"IFERROR(VLOOKUP($D150,料理データ!$A$3:$BK$997,35,FALSE),\"\")","v":""},{"$f":"IFERROR(VLOOKUP($D150,料理データ!$A$3:$BK$997,38,FALSE),\"\")","v":""},{"$f":"IFERROR(VLOOKUP($D150,料理データ!$A$3:$BK$997,41,FALSE),\"\")","v":""},{"$f":"IFERROR(VLOOKUP($D150,料理データ!$A$3:$BK$997,44,FALSE),\"\")","v":""},{"$f":"IFERROR(VLOOKUP($D150,料理データ!$A$3:$BK$997,47,FALSE),\"\")","v":""},{"$f":"IFERROR(VLOOKUP($D150,料理データ!$A$3:$BK$997,50,FALSE),\"\")","v":""},{"$f":"IFERROR(VLOOKUP($D150,料理データ!$A$3:$BK$997,53,FALSE),\"\")","v":""},{"$f":"IFERROR(VLOOKUP($D150,料理データ!$A$3:$BK$997,56,FALSE),\"\")","v":""},{"$f":"IFERROR(VLOOKUP($D150,料理データ!$A$3:$BK$997,59,FALSE),\"\")","v":""},{"$f":"IFERROR(VLOOKUP($D150,料理データ!$A$3:$BK$997,62,FALSE),\"\")","v":""},"                   ","                   "]
[null,null,null,{"$f":"+'月間献立（乳児）'!G16","v":0},{"$f":"IFERROR(VLOOKUP($D151,料理データ!$A$3:$BK$997,3,FALSE),\"\")","v":""},{"$f":"IFERROR(VLOOKUP($D151,料理データ!$A$3:$BK$997,5,FALSE),\"\")","v":""},{"$f":"IFERROR(VLOOKUP($D151,料理データ!$A$3:$BK$997,8,FALSE),\"\")","v":""},{"$f":"IFERROR(VLOOKUP($D151,料理データ!$A$3:$BK$997,11,FALSE),\"\")","v":""},{"$f":"IFERROR(VLOOKUP($D151,料理データ!$A$3:$BK$997,14,FALSE),\"\")","v":""},{"$f":"IFERROR(VLOOKUP($D151,料理データ!$A$3:$BK$997,17,FALSE),\"\")","v":""},{"$f":"IFERROR(VLOOKUP($D151,料理データ!$A$3:$BK$997,20,FALSE),\"\")","v":""},{"$f":"IFERROR(VLOOKUP($D151,料理データ!$A$3:$BK$997,23,FALSE),\"\")","v":""},{"$f":"IFERROR(VLOOKUP($D151,料理データ!$A$3:$BK$997,26,FALSE),\"\")","v":""},{"$f":"IFERROR(VLOOKUP($D151,料理データ!$A$3:$BK$997,29,FALSE),\"\")","v":""},{"$f":"IFERROR(VLOOKUP($D151,料理データ!$A$3:$BK$997,32,FALSE),\"\")","v":""},{"$f":"IFERROR(VLOOKUP($D151,料理データ!$A$3:$BK$997,35,FALSE),\"\")","v":""},{"$f":"IFERROR(VLOOKUP($D151,料理データ!$A$3:$BK$997,38,FALSE),\"\")","v":""},{"$f":"IFERROR(VLOOKUP($D151,料理データ!$A$3:$BK$997,41,FALSE),\"\")","v":""},{"$f":"IFERROR(VLOOKUP($D151,料理データ!$A$3:$BK$997,44,FALSE),\"\")","v":""},{"$f":"IFERROR(VLOOKUP($D151,料理データ!$A$3:$BK$997,47,FALSE),\"\")","v":""},{"$f":"IFERROR(VLOOKUP($D151,料理データ!$A$3:$BK$997,50,FALSE),\"\")","v":""},{"$f":"IFERROR(VLOOKUP($D151,料理データ!$A$3:$BK$997,53,FALSE),\"\")","v":""},{"$f":"IFERROR(VLOOKUP($D151,料理データ!$A$3:$BK$997,56,FALSE),\"\")","v":""},{"$f":"IFERROR(VLOOKUP($D151,料理データ!$A$3:$BK$997,59,FALSE),\"\")","v":""},{"$f":"IFERROR(VLOOKUP($D151,料理データ!$A$3:$BK$997,62,FALSE),\"\")","v":""},"                   ","                   "]
[null,null,null,{"$f":"+'月間献立（乳児）'!H16","v":0},{"$f":"IFERROR(VLOOKUP($D152,料理データ!$A$3:$BK$997,3,FALSE),\"\")","v":""},{"$f":"IFERROR(VLOOKUP($D152,料理データ!$A$3:$BK$997,5,FALSE),\"\")","v":""},{"$f":"IFERROR(VLOOKUP($D152,料理データ!$A$3:$BK$997,8,FALSE),\"\")","v":""},{"$f":"IFERROR(VLOOKUP($D152,料理データ!$A$3:$BK$997,11,FALSE),\"\")","v":""},{"$f":"IFERROR(VLOOKUP($D152,料理データ!$A$3:$BK$997,14,FALSE),\"\")","v":""},{"$f":"IFERROR(VLOOKUP($D152,料理データ!$A$3:$BK$997,17,FALSE),\"\")","v":""},{"$f":"IFERROR(VLOOKUP($D152,料理データ!$A$3:$BK$997,20,FALSE),\"\")","v":""},{"$f":"IFERROR(VLOOKUP($D152,料理データ!$A$3:$BK$997,23,FALSE),\"\")","v":""},{"$f":"IFERROR(VLOOKUP($D152,料理データ!$A$3:$BK$997,26,FALSE),\"\")","v":""},{"$f":"IFERROR(VLOOKUP($D152,料理データ!$A$3:$BK$997,29,FALSE),\"\")","v":""},{"$f":"IFERROR(VLOOKUP($D152,料理データ!$A$3:$BK$997,32,FALSE),\"\")","v":""},{"$f":"IFERROR(VLOOKUP($D152,料理データ!$A$3:$BK$997,35,FALSE),\"\")","v":""},{"$f":"IFERROR(VLOOKUP($D152,料理データ!$A$3:$BK$997,38,FALSE),\"\")","v":""},{"$f":"IFERROR(VLOOKUP($D152,料理データ!$A$3:$BK$997,41,FALSE),\"\")","v":""},{"$f":"IFERROR(VLOOKUP($D152,料理データ!$A$3:$BK$997,44,FALSE),\"\")","v":""},{"$f":"IFERROR(VLOOKUP($D152,料理データ!$A$3:$BK$997,47,FALSE),\"\")","v":""},{"$f":"IFERROR(VLOOKUP($D152,料理データ!$A$3:$BK$997,50,FALSE),\"\")","v":""},{"$f":"IFERROR(VLOOKUP($D152,料理データ!$A$3:$BK$997,53,FALSE),\"\")","v":""},{"$f":"IFERROR(VLOOKUP($D152,料理データ!$A$3:$BK$997,56,FALSE),\"\")","v":""},{"$f":"IFERROR(VLOOKUP($D152,料理データ!$A$3:$BK$997,59,FALSE),\"\")","v":""},{"$f":"IFERROR(VLOOKUP($D152,料理データ!$A$3:$BK$997,62,FALSE),\"\")","v":""},"                   ","                   "]
[null,null,null,{"$f":"+'月間献立（乳児）'!I16","v":0},{"$f":"IFERROR(VLOOKUP($D153,料理データ!$A$3:$BK$997,3,FALSE),\"\")","v":""},{"$f":"IFERROR(VLOOKUP($D153,料理データ!$A$3:$BK$997,5,FALSE),\"\")","v":""},{"$f":"IFERROR(VLOOKUP($D153,料理データ!$A$3:$BK$997,8,FALSE),\"\")","v":""},{"$f":"IFERROR(VLOOKUP($D153,料理データ!$A$3:$BK$997,11,FALSE),\"\")","v":""},{"$f":"IFERROR(VLOOKUP($D153,料理データ!$A$3:$BK$997,14,FALSE),\"\")","v":""},{"$f":"IFERROR(VLOOKUP($D153,料理データ!$A$3:$BK$997,17,FALSE),\"\")","v":""},{"$f":"IFERROR(VLOOKUP($D153,料理データ!$A$3:$BK$997,20,FALSE),\"\")","v":""},{"$f":"IFERROR(VLOOKUP($D153,料理データ!$A$3:$BK$997,23,FALSE),\"\")","v":""},{"$f":"IFERROR(VLOOKUP($D153,料理データ!$A$3:$BK$997,26,FALSE),\"\")","v":""},{"$f":"IFERROR(VLOOKUP($D153,料理データ!$A$3:$BK$997,29,FALSE),\"\")","v":""},{"$f":"IFERROR(VLOOKUP($D153,料理データ!$A$3:$BK$997,32,FALSE),\"\")","v":""},{"$f":"IFERROR(VLOOKUP($D153,料理データ!$A$3:$BK$997,35,FALSE),\"\")","v":""},{"$f":"IFERROR(VLOOKUP($D153,料理データ!$A$3:$BK$997,38,FALSE),\"\")","v":""},{"$f":"IFERROR(VLOOKUP($D153,料理データ!$A$3:$BK$997,41,FALSE),\"\")","v":""},{"$f":"IFERROR(VLOOKUP($D153,料理データ!$A$3:$BK$997,44,FALSE),\"\")","v":""},{"$f":"IFERROR(VLOOKUP($D153,料理データ!$A$3:$BK$997,47,FALSE),\"\")","v":""},{"$f":"IFERROR(VLOOKUP($D153,料理データ!$A$3:$BK$997,50,FALSE),\"\")","v":""},{"$f":"IFERROR(VLOOKUP($D153,料理データ!$A$3:$BK$997,53,FALSE),\"\")","v":""},{"$f":"IFERROR(VLOOKUP($D153,料理データ!$A$3:$BK$997,56,FALSE),\"\")","v":""},{"$f":"IFERROR(VLOOKUP($D153,料理データ!$A$3:$BK$997,59,FALSE),\"\")","v":""},{"$f":"IFERROR(VLOOKUP($D153,料理データ!$A$3:$BK$997,62,FALSE),\"\")","v":""},"                   ","                   "]
[null,null,null,{"$f":"+'月間献立（乳児）'!J16","v":0},{"$f":"IFERROR(VLOOKUP($D154,料理データ!$A$3:$BK$997,3,FALSE),\"\")","v":""},{"$f":"IFERROR(VLOOKUP($D154,料理データ!$A$3:$BK$997,5,FALSE),\"\")","v":""},{"$f":"IFERROR(VLOOKUP($D154,料理データ!$A$3:$BK$997,8,FALSE),\"\")","v":""},{"$f":"IFERROR(VLOOKUP($D154,料理データ!$A$3:$BK$997,11,FALSE),\"\")","v":""},{"$f":"IFERROR(VLOOKUP($D154,料理データ!$A$3:$BK$997,14,FALSE),\"\")","v":""},{"$f":"IFERROR(VLOOKUP($D154,料理データ!$A$3:$BK$997,17,FALSE),\"\")","v":""},{"$f":"IFERROR(VLOOKUP($D154,料理データ!$A$3:$BK$997,20,FALSE),\"\")","v":""},{"$f":"IFERROR(VLOOKUP($D154,料理データ!$A$3:$BK$997,23,FALSE),\"\")","v":""},{"$f":"IFERROR(VLOOKUP($D154,料理データ!$A$3:$BK$997,26,FALSE),\"\")","v":""},{"$f":"IFERROR(VLOOKUP($D154,料理データ!$A$3:$BK$997,29,FALSE),\"\")","v":""},{"$f":"IFERROR(VLOOKUP($D154,料理データ!$A$3:$BK$997,32,FALSE),\"\")","v":""},{"$f":"IFERROR(VLOOKUP($D154,料理データ!$A$3:$BK$997,35,FALSE),\"\")","v":""},{"$f":"IFERROR(VLOOKUP($D154,料理データ!$A$3:$BK$997,38,FALSE),\"\")","v":""},{"$f":"IFERROR(VLOOKUP($D154,料理データ!$A$3:$BK$997,41,FALSE),\"\")","v":""},{"$f":"IFERROR(VLOOKUP($D154,料理データ!$A$3:$BK$997,44,FALSE),\"\")","v":""},{"$f":"IFERROR(VLOOKUP($D154,料理データ!$A$3:$BK$997,47,FALSE),\"\")","v":""},{"$f":"IFERROR(VLOOKUP($D154,料理データ!$A$3:$BK$997,50,FALSE),\"\")","v":""},{"$f":"IFERROR(VLOOKUP($D154,料理データ!$A$3:$BK$997,53,FALSE),\"\")","v":""},{"$f":"IFERROR(VLOOKUP($D154,料理データ!$A$3:$BK$997,56,FALSE),\"\")","v":""},{"$f":"IFERROR(VLOOKUP($D154,料理データ!$A$3:$BK$997,59,FALSE),\"\")","v":""},{"$f":"IFERROR(VLOOKUP($D154,料理データ!$A$3:$BK$997,62,FALSE),\"\")","v":""},"                   ","                   "]
[null,null,null,{"$f":"+'月間献立（乳児）'!K16","v":0},{"$f":"IFERROR(VLOOKUP($D155,料理データ!$A$3:$BK$997,3,FALSE),\"\")","v":""},{"$f":"IFERROR(VLOOKUP($D155,料理データ!$A$3:$BK$997,5,FALSE),\"\")","v":""},{"$f":"IFERROR(VLOOKUP($D155,料理データ!$A$3:$BK$997,8,FALSE),\"\")","v":""},{"$f":"IFERROR(VLOOKUP($D155,料理データ!$A$3:$BK$997,11,FALSE),\"\")","v":""},{"$f":"IFERROR(VLOOKUP($D155,料理データ!$A$3:$BK$997,14,FALSE),\"\")","v":""},{"$f":"IFERROR(VLOOKUP($D155,料理データ!$A$3:$BK$997,17,FALSE),\"\")","v":""},{"$f":"IFERROR(VLOOKUP($D155,料理データ!$A$3:$BK$997,20,FALSE),\"\")","v":""},{"$f":"IFERROR(VLOOKUP($D155,料理データ!$A$3:$BK$997,23,FALSE),\"\")","v":""},{"$f":"IFERROR(VLOOKUP($D155,料理データ!$A$3:$BK$997,26,FALSE),\"\")","v":""},{"$f":"IFERROR(VLOOKUP($D155,料理データ!$A$3:$BK$997,29,FALSE),\"\")","v":""},{"$f":"IFERROR(VLOOKUP($D155,料理データ!$A$3:$BK$997,32,FALSE),\"\")","v":""},{"$f":"IFERROR(VLOOKUP($D155,料理データ!$A$3:$BK$997,35,FALSE),\"\")","v":""},{"$f":"IFERROR(VLOOKUP($D155,料理データ!$A$3:$BK$997,38,FALSE),\"\")","v":""},{"$f":"IFERROR(VLOOKUP($D155,料理データ!$A$3:$BK$997,41,FALSE),\"\")","v":""},{"$f":"IFERROR(VLOOKUP($D155,料理データ!$A$3:$BK$997,44,FALSE),\"\")","v":""},{"$f":"IFERROR(VLOOKUP($D155,料理データ!$A$3:$BK$997,47,FALSE),\"\")","v":""},{"$f":"IFERROR(VLOOKUP($D155,料理データ!$A$3:$BK$997,50,FALSE),\"\")","v":""},{"$f":"IFERROR(VLOOKUP($D155,料理データ!$A$3:$BK$997,53,FALSE),\"\")","v":""},{"$f":"IFERROR(VLOOKUP($D155,料理データ!$A$3:$BK$997,56,FALSE),\"\")","v":""},{"$f":"IFERROR(VLOOKUP($D155,料理データ!$A$3:$BK$997,59,FALSE),\"\")","v":""},{"$f":"IFERROR(VLOOKUP($D155,料理データ!$A$3:$BK$997,62,FALSE),\"\")","v":""},"                   ","                   "]
[null,null,"午後おやつ",{"$f":"+'月間献立（乳児）'!L16","v":0},{"$f":"IFERROR(VLOOKUP($D156,料理データ!$A$3:$BK$997,3,FALSE),\"\")","v":""},{"$f":"IFERROR(VLOOKUP($D156,料理データ!$A$3:$BK$997,5,FALSE),\"\")","v":""},{"$f":"IFERROR(VLOOKUP($D156,料理データ!$A$3:$BK$997,8,FALSE),\"\")","v":""},{"$f":"IFERROR(VLOOKUP($D156,料理データ!$A$3:$BK$997,11,FALSE),\"\")","v":""},{"$f":"IFERROR(VLOOKUP($D156,料理データ!$A$3:$BK$997,14,FALSE),\"\")","v":""},{"$f":"IFERROR(VLOOKUP($D156,料理データ!$A$3:$BK$997,17,FALSE),\"\")","v":""},{"$f":"IFERROR(VLOOKUP($D156,料理データ!$A$3:$BK$997,20,FALSE),\"\")","v":""},{"$f":"IFERROR(VLOOKUP($D156,料理データ!$A$3:$BK$997,23,FALSE),\"\")","v":""},{"$f":"IFERROR(VLOOKUP($D156,料理データ!$A$3:$BK$997,26,FALSE),\"\")","v":""},{"$f":"IFERROR(VLOOKUP($D156,料理データ!$A$3:$BK$997,29,FALSE),\"\")","v":""},{"$f":"IFERROR(VLOOKUP($D156,料理データ!$A$3:$BK$997,32,FALSE),\"\")","v":""},{"$f":"IFERROR(VLOOKUP($D156,料理データ!$A$3:$BK$997,35,FALSE),\"\")","v":""},{"$f":"IFERROR(VLOOKUP($D156,料理データ!$A$3:$BK$997,38,FALSE),\"\")","v":""},{"$f":"IFERROR(VLOOKUP($D156,料理データ!$A$3:$BK$997,41,FALSE),\"\")","v":""},{"$f":"IFERROR(VLOOKUP($D156,料理データ!$A$3:$BK$997,44,FALSE),\"\")","v":""},{"$f":"IFERROR(VLOOKUP($D156,料理データ!$A$3:$BK$997,47,FALSE),\"\")","v":""},{"$f":"IFERROR(VLOOKUP($D156,料理データ!$A$3:$BK$997,50,FALSE),\"\")","v":""},{"$f":"IFERROR(VLOOKUP($D156,料理データ!$A$3:$BK$997,53,FALSE),\"\")","v":""},{"$f":"IFERROR(VLOOKUP($D156,料理データ!$A$3:$BK$997,56,FALSE),\"\")","v":""},{"$f":"IFERROR(VLOOKUP($D156,料理データ!$A$3:$BK$997,59,FALSE),\"\")","v":""},{"$f":"IFERROR(VLOOKUP($D156,料理データ!$A$3:$BK$997,62,FALSE),\"\")","v":""},"                   ",{"$f":"SUBSTITUTE(Z156,\"-\",\"\")","v":"                   "}]
[null,null,null,{"$f":"+'月間献立（乳児）'!M16","v":0},{"$f":"IFERROR(VLOOKUP($D157,料理データ!$A$3:$BK$997,3,FALSE),\"\")","v":""},{"$f":"IFERROR(VLOOKUP($D157,料理データ!$A$3:$BK$997,5,FALSE),\"\")","v":""},{"$f":"IFERROR(VLOOKUP($D157,料理データ!$A$3:$BK$997,8,FALSE),\"\")","v":""},{"$f":"IFERROR(VLOOKUP($D157,料理データ!$A$3:$BK$997,11,FALSE),\"\")","v":""},{"$f":"IFERROR(VLOOKUP($D157,料理データ!$A$3:$BK$997,14,FALSE),\"\")","v":""},{"$f":"IFERROR(VLOOKUP($D157,料理データ!$A$3:$BK$997,17,FALSE),\"\")","v":""},{"$f":"IFERROR(VLOOKUP($D157,料理データ!$A$3:$BK$997,20,FALSE),\"\")","v":""},{"$f":"IFERROR(VLOOKUP($D157,料理データ!$A$3:$BK$997,23,FALSE),\"\")","v":""},{"$f":"IFERROR(VLOOKUP($D157,料理データ!$A$3:$BK$997,26,FALSE),\"\")","v":""},{"$f":"IFERROR(VLOOKUP($D157,料理データ!$A$3:$BK$997,29,FALSE),\"\")","v":""},{"$f":"IFERROR(VLOOKUP($D157,料理データ!$A$3:$BK$997,32,FALSE),\"\")","v":""},{"$f":"IFERROR(VLOOKUP($D157,料理データ!$A$3:$BK$997,35,FALSE),\"\")","v":""},{"$f":"IFERROR(VLOOKUP($D157,料理データ!$A$3:$BK$997,38,FALSE),\"\")","v":""},{"$f":"IFERROR(VLOOKUP($D157,料理データ!$A$3:$BK$997,41,FALSE),\"\")","v":""},{"$f":"IFERROR(VLOOKUP($D157,料理データ!$A$3:$BK$997,44,FALSE),\"\")","v":""},{"$f":"IFERROR(VLOOKUP($D157,料理データ!$A$3:$BK$997,47,FALSE),\"\")","v":""},{"$f":"IFERROR(VLOOKUP($D157,料理データ!$A$3:$BK$997,50,FALSE),\"\")","v":""},{"$f":"IFERROR(VLOOKUP($D157,料理データ!$A$3:$BK$997,53,FALSE),\"\")","v":""},{"$f":"IFERROR(VLOOKUP($D157,料理データ!$A$3:$BK$997,56,FALSE),\"\")","v":""},{"$f":"IFERROR(VLOOKUP($D157,料理データ!$A$3:$BK$997,59,FALSE),\"\")","v":""},{"$f":"IFERROR(VLOOKUP($D157,料理データ!$A$3:$BK$997,62,FALSE),\"\")","v":""},"                   ",{"$f":"SUBSTITUTE(Z157,\"-\",\" \")","v":"                   "}]
[null,null,null,{"$f":"+'月間献立（乳児）'!N16","v":0},{"$f":"IFERROR(VLOOKUP($D158,料理データ!$A$3:$BK$997,3,FALSE),\"\")","v":""},{"$f":"IFERROR(VLOOKUP($D158,料理データ!$A$3:$BK$997,5,FALSE),\"\")","v":""},{"$f":"IFERROR(VLOOKUP($D158,料理データ!$A$3:$BK$997,8,FALSE),\"\")","v":""},{"$f":"IFERROR(VLOOKUP($D158,料理データ!$A$3:$BK$997,11,FALSE),\"\")","v":""},{"$f":"IFERROR(VLOOKUP($D158,料理データ!$A$3:$BK$997,14,FALSE),\"\")","v":""},{"$f":"IFERROR(VLOOKUP($D158,料理データ!$A$3:$BK$997,17,FALSE),\"\")","v":""},{"$f":"IFERROR(VLOOKUP($D158,料理データ!$A$3:$BK$997,20,FALSE),\"\")","v":""},{"$f":"IFERROR(VLOOKUP($D158,料理データ!$A$3:$BK$997,23,FALSE),\"\")","v":""},{"$f":"IFERROR(VLOOKUP($D158,料理データ!$A$3:$BK$997,26,FALSE),\"\")","v":""},{"$f":"IFERROR(VLOOKUP($D158,料理データ!$A$3:$BK$997,29,FALSE),\"\")","v":""},{"$f":"IFERROR(VLOOKUP($D158,料理データ!$A$3:$BK$997,32,FALSE),\"\")","v":""},{"$f":"IFERROR(VLOOKUP($D158,料理データ!$A$3:$BK$997,35,FALSE),\"\")","v":""},{"$f":"IFERROR(VLOOKUP($D158,料理データ!$A$3:$BK$997,38,FALSE),\"\")","v":""},{"$f":"IFERROR(VLOOKUP($D158,料理データ!$A$3:$BK$997,41,FALSE),\"\")","v":""},{"$f":"IFERROR(VLOOKUP($D158,料理データ!$A$3:$BK$997,44,FALSE),\"\")","v":""},{"$f":"IFERROR(VLOOKUP($D158,料理データ!$A$3:$BK$997,47,FALSE),\"\")","v":""},{"$f":"IFERROR(VLOOKUP($D158,料理データ!$A$3:$BK$997,50,FALSE),\"\")","v":""},{"$f":"IFERROR(VLOOKUP($D158,料理データ!$A$3:$BK$997,53,FALSE),\"\")","v":""},{"$f":"IFERROR(VLOOKUP($D158,料理データ!$A$3:$BK$997,56,FALSE),\"\")","v":""},{"$f":"IFERROR(VLOOKUP($D158,料理データ!$A$3:$BK$997,59,FALSE),\"\")","v":""},{"$f":"IFERROR(VLOOKUP($D158,料理データ!$A$3:$BK$997,62,FALSE),\"\")","v":""},"                   ",{"$f":"SUBSTITUTE(Z158,\"-\",\"\")","v":"                   "}]
[{"$f":"+'月間献立（幼児）'!A18","v":14},{"$f":"+'月間献立（幼児）'!B18","v":"(金)"},"午前おやつ",{"$f":"+'月間献立（乳児）'!C17","v":0},{"$f":"IFERROR(VLOOKUP($D159,料理データ!$A$3:$BK$997,3,FALSE),\"\")","v":""},{"$f":"IFERROR(VLOOKUP($D159,料理データ!$A$3:$BK$997,5,FALSE),\"\")","v":""},{"$f":"IFERROR(VLOOKUP($D159,料理データ!$A$3:$BK$997,8,FALSE),\"\")","v":""},{"$f":"IFERROR(VLOOKUP($D159,料理データ!$A$3:$BK$997,11,FALSE),\"\")","v":""},{"$f":"IFERROR(VLOOKUP($D159,料理データ!$A$3:$BK$997,14,FALSE),\"\")","v":""},{"$f":"IFERROR(VLOOKUP($D159,料理データ!$A$3:$BK$997,17,FALSE),\"\")","v":""},{"$f":"IFERROR(VLOOKUP($D159,料理データ!$A$3:$BK$997,20,FALSE),\"\")","v":""},{"$f":"IFERROR(VLOOKUP($D159,料理データ!$A$3:$BK$997,23,FALSE),\"\")","v":""},{"$f":"IFERROR(VLOOKUP($D159,料理データ!$A$3:$BK$997,26,FALSE),\"\")","v":""},{"$f":"IFERROR(VLOOKUP($D159,料理データ!$A$3:$BK$997,29,FALSE),\"\")","v":""},{"$f":"IFERROR(VLOOKUP($D159,料理データ!$A$3:$BK$997,32,FALSE),\"\")","v":""},{"$f":"IFERROR(VLOOKUP($D159,料理データ!$A$3:$BK$997,35,FALSE),\"\")","v":""},{"$f":"IFERROR(VLOOKUP($D159,料理データ!$A$3:$BK$997,38,FALSE),\"\")","v":""},{"$f":"IFERROR(VLOOKUP($D159,料理データ!$A$3:$BK$997,41,FALSE),\"\")","v":""},{"$f":"IFERROR(VLOOKUP($D159,料理データ!$A$3:$BK$997,44,FALSE),\"\")","v":""},{"$f":"IFERROR(VLOOKUP($D159,料理データ!$A$3:$BK$997,47,FALSE),\"\")","v":""},{"$f":"IFERROR(VLOOKUP($D159,料理データ!$A$3:$BK$997,50,FALSE),\"\")","v":""},{"$f":"IFERROR(VLOOKUP($D159,料理データ!$A$3:$BK$997,53,FALSE),\"\")","v":""},{"$f":"IFERROR(VLOOKUP($D159,料理データ!$A$3:$BK$997,56,FALSE),\"\")","v":""},{"$f":"IFERROR(VLOOKUP($D159,料理データ!$A$3:$BK$997,59,FALSE),\"\")","v":""},{"$f":"IFERROR(VLOOKUP($D159,料理データ!$A$3:$BK$997,62,FALSE),\"\")","v":""},"                   ",{"$f":"SUBSTITUTE(Z159,\"-\",\" \")","v":"                   "},{"$f":"TRIM(CONCATENATE(AA159,AA160,AA161,\"▲\",AA162,AA163,AA164,AA165,AA166,AA167,\"▲\",AA168,AA169,AA170))","v":"▲ ▲"}]
[null,null,null,{"$f":"+'月間献立（乳児）'!D17","v":0},{"$f":"IFERROR(VLOOKUP($D160,料理データ!$A$3:$BK$997,3,FALSE),\"\")","v":""},{"$f":"IFERROR(VLOOKUP($D160,料理データ!$A$3:$BK$997,5,FALSE),\"\")","v":""},{"$f":"IFERROR(VLOOKUP($D160,料理データ!$A$3:$BK$997,8,FALSE),\"\")","v":""},{"$f":"IFERROR(VLOOKUP($D160,料理データ!$A$3:$BK$997,11,FALSE),\"\")","v":""},{"$f":"IFERROR(VLOOKUP($D160,料理データ!$A$3:$BK$997,14,FALSE),\"\")","v":""},{"$f":"IFERROR(VLOOKUP($D160,料理データ!$A$3:$BK$997,17,FALSE),\"\")","v":""},{"$f":"IFERROR(VLOOKUP($D160,料理データ!$A$3:$BK$997,20,FALSE),\"\")","v":""},{"$f":"IFERROR(VLOOKUP($D160,料理データ!$A$3:$BK$997,23,FALSE),\"\")","v":""},{"$f":"IFERROR(VLOOKUP($D160,料理データ!$A$3:$BK$997,26,FALSE),\"\")","v":""},{"$f":"IFERROR(VLOOKUP($D160,料理データ!$A$3:$BK$997,29,FALSE),\"\")","v":""},{"$f":"IFERROR(VLOOKUP($D160,料理データ!$A$3:$BK$997,32,FALSE),\"\")","v":""},{"$f":"IFERROR(VLOOKUP($D160,料理データ!$A$3:$BK$997,35,FALSE),\"\")","v":""},{"$f":"IFERROR(VLOOKUP($D160,料理データ!$A$3:$BK$997,38,FALSE),\"\")","v":""},{"$f":"IFERROR(VLOOKUP($D160,料理データ!$A$3:$BK$997,41,FALSE),\"\")","v":""},{"$f":"IFERROR(VLOOKUP($D160,料理データ!$A$3:$BK$997,44,FALSE),\"\")","v":""},{"$f":"IFERROR(VLOOKUP($D160,料理データ!$A$3:$BK$997,47,FALSE),\"\")","v":""},{"$f":"IFERROR(VLOOKUP($D160,料理データ!$A$3:$BK$997,50,FALSE),\"\")","v":""},{"$f":"IFERROR(VLOOKUP($D160,料理データ!$A$3:$BK$997,53,FALSE),\"\")","v":""},{"$f":"IFERROR(VLOOKUP($D160,料理データ!$A$3:$BK$997,56,FALSE),\"\")","v":""},{"$f":"IFERROR(VLOOKUP($D160,料理データ!$A$3:$BK$997,59,FALSE),\"\")","v":""},{"$f":"IFERROR(VLOOKUP($D160,料理データ!$A$3:$BK$997,62,FALSE),\"\")","v":""},"                   ",{"$f":"SUBSTITUTE(Z160,\"-\",\" \")","v":"                   "}]
[null,null,null,{"$f":"+'月間献立（乳児）'!E17","v":0},{"$f":"IFERROR(VLOOKUP($D161,料理データ!$A$3:$BK$997,3,FALSE),\"\")","v":""},{"$f":"IFERROR(VLOOKUP($D161,料理データ!$A$3:$BK$997,5,FALSE),\"\")","v":""},{"$f":"IFERROR(VLOOKUP($D161,料理データ!$A$3:$BK$997,8,FALSE),\"\")","v":""},{"$f":"IFERROR(VLOOKUP($D161,料理データ!$A$3:$BK$997,11,FALSE),\"\")","v":""},{"$f":"IFERROR(VLOOKUP($D161,料理データ!$A$3:$BK$997,14,FALSE),\"\")","v":""},{"$f":"IFERROR(VLOOKUP($D161,料理データ!$A$3:$BK$997,17,FALSE),\"\")","v":""},{"$f":"IFERROR(VLOOKUP($D161,料理データ!$A$3:$BK$997,20,FALSE),\"\")","v":""},{"$f":"IFERROR(VLOOKUP($D161,料理データ!$A$3:$BK$997,23,FALSE),\"\")","v":""},{"$f":"IFERROR(VLOOKUP($D161,料理データ!$A$3:$BK$997,26,FALSE),\"\")","v":""},{"$f":"IFERROR(VLOOKUP($D161,料理データ!$A$3:$BK$997,29,FALSE),\"\")","v":""},{"$f":"IFERROR(VLOOKUP($D161,料理データ!$A$3:$BK$997,32,FALSE),\"\")","v":""},{"$f":"IFERROR(VLOOKUP($D161,料理データ!$A$3:$BK$997,35,FALSE),\"\")","v":""},{"$f":"IFERROR(VLOOKUP($D161,料理データ!$A$3:$BK$997,38,FALSE),\"\")","v":""},{"$f":"IFERROR(VLOOKUP($D161,料理データ!$A$3:$BK$997,41,FALSE),\"\")","v":""},{"$f":"IFERROR(VLOOKUP($D161,料理データ!$A$3:$BK$997,44,FALSE),\"\")","v":""},{"$f":"IFERROR(VLOOKUP($D161,料理データ!$A$3:$BK$997,47,FALSE),\"\")","v":""},{"$f":"IFERROR(VLOOKUP($D161,料理データ!$A$3:$BK$997,50,FALSE),\"\")","v":""},{"$f":"IFERROR(VLOOKUP($D161,料理データ!$A$3:$BK$997,53,FALSE),\"\")","v":""},{"$f":"IFERROR(VLOOKUP($D161,料理データ!$A$3:$BK$997,56,FALSE),\"\")","v":""},{"$f":"IFERROR(VLOOKUP($D161,料理データ!$A$3:$BK$997,59,FALSE),\"\")","v":""},{"$f":"IFERROR(VLOOKUP($D161,料理データ!$A$3:$BK$997,62,FALSE),\"\")","v":""},"                   ",{"$f":"SUBSTITUTE(Z161,\"-\",\" \")","v":"                   "}]
[null,null,"昼食",{"$f":"+'月間献立（乳児）'!F17","v":0},{"$f":"IFERROR(VLOOKUP($D162,料理データ!$A$3:$BK$997,3,FALSE),\"\")","v":""},{"$f":"IFERROR(VLOOKUP($D162,料理データ!$A$3:$BK$997,5,FALSE),\"\")","v":""},{"$f":"IFERROR(VLOOKUP($D162,料理データ!$A$3:$BK$997,8,FALSE),\"\")","v":""},{"$f":"IFERROR(VLOOKUP($D162,料理データ!$A$3:$BK$997,11,FALSE),\"\")","v":""},{"$f":"IFERROR(VLOOKUP($D162,料理データ!$A$3:$BK$997,14,FALSE),\"\")","v":""},{"$f":"IFERROR(VLOOKUP($D162,料理データ!$A$3:$BK$997,17,FALSE),\"\")","v":""},{"$f":"IFERROR(VLOOKUP($D162,料理データ!$A$3:$BK$997,20,FALSE),\"\")","v":""},{"$f":"IFERROR(VLOOKUP($D162,料理データ!$A$3:$BK$997,23,FALSE),\"\")","v":""},{"$f":"IFERROR(VLOOKUP($D162,料理データ!$A$3:$BK$997,26,FALSE),\"\")","v":""},{"$f":"IFERROR(VLOOKUP($D162,料理データ!$A$3:$BK$997,29,FALSE),\"\")","v":""},{"$f":"IFERROR(VLOOKUP($D162,料理データ!$A$3:$BK$997,32,FALSE),\"\")","v":""},{"$f":"IFERROR(VLOOKUP($D162,料理データ!$A$3:$BK$997,35,FALSE),\"\")","v":""},{"$f":"IFERROR(VLOOKUP($D162,料理データ!$A$3:$BK$997,38,FALSE),\"\")","v":""},{"$f":"IFERROR(VLOOKUP($D162,料理データ!$A$3:$BK$997,41,FALSE),\"\")","v":""},{"$f":"IFERROR(VLOOKUP($D162,料理データ!$A$3:$BK$997,44,FALSE),\"\")","v":""},{"$f":"IFERROR(VLOOKUP($D162,料理データ!$A$3:$BK$997,47,FALSE),\"\")","v":""},{"$f":"IFERROR(VLOOKUP($D162,料理データ!$A$3:$BK$997,50,FALSE),\"\")","v":""},{"$f":"IFERROR(VLOOKUP($D162,料理データ!$A$3:$BK$997,53,FALSE),\"\")","v":""},{"$f":"IFERROR(VLOOKUP($D162,料理データ!$A$3:$BK$997,56,FALSE),\"\")","v":""},{"$f":"IFERROR(VLOOKUP($D162,料理データ!$A$3:$BK$997,59,FALSE),\"\")","v":""},{"$f":"IFERROR(VLOOKUP($D162,料理データ!$A$3:$BK$997,62,FALSE),\"\")","v":""},"                   ","                   "]
[null,null,null,{"$f":"+'月間献立（乳児）'!G17","v":0},{"$f":"IFERROR(VLOOKUP($D163,料理データ!$A$3:$BK$997,3,FALSE),\"\")","v":""},{"$f":"IFERROR(VLOOKUP($D163,料理データ!$A$3:$BK$997,5,FALSE),\"\")","v":""},{"$f":"IFERROR(VLOOKUP($D163,料理データ!$A$3:$BK$997,8,FALSE),\"\")","v":""},{"$f":"IFERROR(VLOOKUP($D163,料理データ!$A$3:$BK$997,11,FALSE),\"\")","v":""},{"$f":"IFERROR(VLOOKUP($D163,料理データ!$A$3:$BK$997,14,FALSE),\"\")","v":""},{"$f":"IFERROR(VLOOKUP($D163,料理データ!$A$3:$BK$997,17,FALSE),\"\")","v":""},{"$f":"IFERROR(VLOOKUP($D163,料理データ!$A$3:$BK$997,20,FALSE),\"\")","v":""},{"$f":"IFERROR(VLOOKUP($D163,料理データ!$A$3:$BK$997,23,FALSE),\"\")","v":""},{"$f":"IFERROR(VLOOKUP($D163,料理データ!$A$3:$BK$997,26,FALSE),\"\")","v":""},{"$f":"IFERROR(VLOOKUP($D163,料理データ!$A$3:$BK$997,29,FALSE),\"\")","v":""},{"$f":"IFERROR(VLOOKUP($D163,料理データ!$A$3:$BK$997,32,FALSE),\"\")","v":""},{"$f":"IFERROR(VLOOKUP($D163,料理データ!$A$3:$BK$997,35,FALSE),\"\")","v":""},{"$f":"IFERROR(VLOOKUP($D163,料理データ!$A$3:$BK$997,38,FALSE),\"\")","v":""},{"$f":"IFERROR(VLOOKUP($D163,料理データ!$A$3:$BK$997,41,FALSE),\"\")","v":""},{"$f":"IFERROR(VLOOKUP($D163,料理データ!$A$3:$BK$997,44,FALSE),\"\")","v":""},{"$f":"IFERROR(VLOOKUP($D163,料理データ!$A$3:$BK$997,47,FALSE),\"\")","v":""},{"$f":"IFERROR(VLOOKUP($D163,料理データ!$A$3:$BK$997,50,FALSE),\"\")","v":""},{"$f":"IFERROR(VLOOKUP($D163,料理データ!$A$3:$BK$997,53,FALSE),\"\")","v":""},{"$f":"IFERROR(VLOOKUP($D163,料理データ!$A$3:$BK$997,56,FALSE),\"\")","v":""},{"$f":"IFERROR(VLOOKUP($D163,料理データ!$A$3:$BK$997,59,FALSE),\"\")","v":""},{"$f":"IFERROR(VLOOKUP($D163,料理データ!$A$3:$BK$997,62,FALSE),\"\")","v":""},"                   ","                   "]
[null,null,null,{"$f":"+'月間献立（乳児）'!H17","v":0},{"$f":"IFERROR(VLOOKUP($D164,料理データ!$A$3:$BK$997,3,FALSE),\"\")","v":""},{"$f":"IFERROR(VLOOKUP($D164,料理データ!$A$3:$BK$997,5,FALSE),\"\")","v":""},{"$f":"IFERROR(VLOOKUP($D164,料理データ!$A$3:$BK$997,8,FALSE),\"\")","v":""},{"$f":"IFERROR(VLOOKUP($D164,料理データ!$A$3:$BK$997,11,FALSE),\"\")","v":""},{"$f":"IFERROR(VLOOKUP($D164,料理データ!$A$3:$BK$997,14,FALSE),\"\")","v":""},{"$f":"IFERROR(VLOOKUP($D164,料理データ!$A$3:$BK$997,17,FALSE),\"\")","v":""},{"$f":"IFERROR(VLOOKUP($D164,料理データ!$A$3:$BK$997,20,FALSE),\"\")","v":""},{"$f":"IFERROR(VLOOKUP($D164,料理データ!$A$3:$BK$997,23,FALSE),\"\")","v":""},{"$f":"IFERROR(VLOOKUP($D164,料理データ!$A$3:$BK$997,26,FALSE),\"\")","v":""},{"$f":"IFERROR(VLOOKUP($D164,料理データ!$A$3:$BK$997,29,FALSE),\"\")","v":""},{"$f":"IFERROR(VLOOKUP($D164,料理データ!$A$3:$BK$997,32,FALSE),\"\")","v":""},{"$f":"IFERROR(VLOOKUP($D164,料理データ!$A$3:$BK$997,35,FALSE),\"\")","v":""},{"$f":"IFERROR(VLOOKUP($D164,料理データ!$A$3:$BK$997,38,FALSE),\"\")","v":""},{"$f":"IFERROR(VLOOKUP($D164,料理データ!$A$3:$BK$997,41,FALSE),\"\")","v":""},{"$f":"IFERROR(VLOOKUP($D164,料理データ!$A$3:$BK$997,44,FALSE),\"\")","v":""},{"$f":"IFERROR(VLOOKUP($D164,料理データ!$A$3:$BK$997,47,FALSE),\"\")","v":""},{"$f":"IFERROR(VLOOKUP($D164,料理データ!$A$3:$BK$997,50,FALSE),\"\")","v":""},{"$f":"IFERROR(VLOOKUP($D164,料理データ!$A$3:$BK$997,53,FALSE),\"\")","v":""},{"$f":"IFERROR(VLOOKUP($D164,料理データ!$A$3:$BK$997,56,FALSE),\"\")","v":""},{"$f":"IFERROR(VLOOKUP($D164,料理データ!$A$3:$BK$997,59,FALSE),\"\")","v":""},{"$f":"IFERROR(VLOOKUP($D164,料理データ!$A$3:$BK$997,62,FALSE),\"\")","v":""},"                   ","                   "]
[null,null,null,{"$f":"+'月間献立（乳児）'!I17","v":0},{"$f":"IFERROR(VLOOKUP($D165,料理データ!$A$3:$BK$997,3,FALSE),\"\")","v":""},{"$f":"IFERROR(VLOOKUP($D165,料理データ!$A$3:$BK$997,5,FALSE),\"\")","v":""},{"$f":"IFERROR(VLOOKUP($D165,料理データ!$A$3:$BK$997,8,FALSE),\"\")","v":""},{"$f":"IFERROR(VLOOKUP($D165,料理データ!$A$3:$BK$997,11,FALSE),\"\")","v":""},{"$f":"IFERROR(VLOOKUP($D165,料理データ!$A$3:$BK$997,14,FALSE),\"\")","v":""},{"$f":"IFERROR(VLOOKUP($D165,料理データ!$A$3:$BK$997,17,FALSE),\"\")","v":""},{"$f":"IFERROR(VLOOKUP($D165,料理データ!$A$3:$BK$997,20,FALSE),\"\")","v":""},{"$f":"IFERROR(VLOOKUP($D165,料理データ!$A$3:$BK$997,23,FALSE),\"\")","v":""},{"$f":"IFERROR(VLOOKUP($D165,料理データ!$A$3:$BK$997,26,FALSE),\"\")","v":""},{"$f":"IFERROR(VLOOKUP($D165,料理データ!$A$3:$BK$997,29,FALSE),\"\")","v":""},{"$f":"IFERROR(VLOOKUP($D165,料理データ!$A$3:$BK$997,32,FALSE),\"\")","v":""},{"$f":"IFERROR(VLOOKUP($D165,料理データ!$A$3:$BK$997,35,FALSE),\"\")","v":""},{"$f":"IFERROR(VLOOKUP($D165,料理データ!$A$3:$BK$997,38,FALSE),\"\")","v":""},{"$f":"IFERROR(VLOOKUP($D165,料理データ!$A$3:$BK$997,41,FALSE),\"\")","v":""},{"$f":"IFERROR(VLOOKUP($D165,料理データ!$A$3:$BK$997,44,FALSE),\"\")","v":""},{"$f":"IFERROR(VLOOKUP($D165,料理データ!$A$3:$BK$997,47,FALSE),\"\")","v":""},{"$f":"IFERROR(VLOOKUP($D165,料理データ!$A$3:$BK$997,50,FALSE),\"\")","v":""},{"$f":"IFERROR(VLOOKUP($D165,料理データ!$A$3:$BK$997,53,FALSE),\"\")","v":""},{"$f":"IFERROR(VLOOKUP($D165,料理データ!$A$3:$BK$997,56,FALSE),\"\")","v":""},{"$f":"IFERROR(VLOOKUP($D165,料理データ!$A$3:$BK$997,59,FALSE),\"\")","v":""},{"$f":"IFERROR(VLOOKUP($D165,料理データ!$A$3:$BK$997,62,FALSE),\"\")","v":""},"                   ","                   "]
[null,null,null,{"$f":"+'月間献立（乳児）'!J17","v":0},{"$f":"IFERROR(VLOOKUP($D166,料理データ!$A$3:$BK$997,3,FALSE),\"\")","v":""},{"$f":"IFERROR(VLOOKUP($D166,料理データ!$A$3:$BK$997,5,FALSE),\"\")","v":""},{"$f":"IFERROR(VLOOKUP($D166,料理データ!$A$3:$BK$997,8,FALSE),\"\")","v":""},{"$f":"IFERROR(VLOOKUP($D166,料理データ!$A$3:$BK$997,11,FALSE),\"\")","v":""},{"$f":"IFERROR(VLOOKUP($D166,料理データ!$A$3:$BK$997,14,FALSE),\"\")","v":""},{"$f":"IFERROR(VLOOKUP($D166,料理データ!$A$3:$BK$997,17,FALSE),\"\")","v":""},{"$f":"IFERROR(VLOOKUP($D166,料理データ!$A$3:$BK$997,20,FALSE),\"\")","v":""},{"$f":"IFERROR(VLOOKUP($D166,料理データ!$A$3:$BK$997,23,FALSE),\"\")","v":""},{"$f":"IFERROR(VLOOKUP($D166,料理データ!$A$3:$BK$997,26,FALSE),\"\")","v":""},{"$f":"IFERROR(VLOOKUP($D166,料理データ!$A$3:$BK$997,29,FALSE),\"\")","v":""},{"$f":"IFERROR(VLOOKUP($D166,料理データ!$A$3:$BK$997,32,FALSE),\"\")","v":""},{"$f":"IFERROR(VLOOKUP($D166,料理データ!$A$3:$BK$997,35,FALSE),\"\")","v":""},{"$f":"IFERROR(VLOOKUP($D166,料理データ!$A$3:$BK$997,38,FALSE),\"\")","v":""},{"$f":"IFERROR(VLOOKUP($D166,料理データ!$A$3:$BK$997,41,FALSE),\"\")","v":""},{"$f":"IFERROR(VLOOKUP($D166,料理データ!$A$3:$BK$997,44,FALSE),\"\")","v":""},{"$f":"IFERROR(VLOOKUP($D166,料理データ!$A$3:$BK$997,47,FALSE),\"\")","v":""},{"$f":"IFERROR(VLOOKUP($D166,料理データ!$A$3:$BK$997,50,FALSE),\"\")","v":""},{"$f":"IFERROR(VLOOKUP($D166,料理データ!$A$3:$BK$997,53,FALSE),\"\")","v":""},{"$f":"IFERROR(VLOOKUP($D166,料理データ!$A$3:$BK$997,56,FALSE),\"\")","v":""},{"$f":"IFERROR(VLOOKUP($D166,料理データ!$A$3:$BK$997,59,FALSE),\"\")","v":""},{"$f":"IFERROR(VLOOKUP($D166,料理データ!$A$3:$BK$997,62,FALSE),\"\")","v":""},"                   ","                   "]
[null,null,null,{"$f":"+'月間献立（乳児）'!K17","v":0},{"$f":"IFERROR(VLOOKUP($D167,料理データ!$A$3:$BK$997,3,FALSE),\"\")","v":""},{"$f":"IFERROR(VLOOKUP($D167,料理データ!$A$3:$BK$997,5,FALSE),\"\")","v":""},{"$f":"IFERROR(VLOOKUP($D167,料理データ!$A$3:$BK$997,8,FALSE),\"\")","v":""},{"$f":"IFERROR(VLOOKUP($D167,料理データ!$A$3:$BK$997,11,FALSE),\"\")","v":""},{"$f":"IFERROR(VLOOKUP($D167,料理データ!$A$3:$BK$997,14,FALSE),\"\")","v":""},{"$f":"IFERROR(VLOOKUP($D167,料理データ!$A$3:$BK$997,17,FALSE),\"\")","v":""},{"$f":"IFERROR(VLOOKUP($D167,料理データ!$A$3:$BK$997,20,FALSE),\"\")","v":""},{"$f":"IFERROR(VLOOKUP($D167,料理データ!$A$3:$BK$997,23,FALSE),\"\")","v":""},{"$f":"IFERROR(VLOOKUP($D167,料理データ!$A$3:$BK$997,26,FALSE),\"\")","v":""},{"$f":"IFERROR(VLOOKUP($D167,料理データ!$A$3:$BK$997,29,FALSE),\"\")","v":""},{"$f":"IFERROR(VLOOKUP($D167,料理データ!$A$3:$BK$997,32,FALSE),\"\")","v":""},{"$f":"IFERROR(VLOOKUP($D167,料理データ!$A$3:$BK$997,35,FALSE),\"\")","v":""},{"$f":"IFERROR(VLOOKUP($D167,料理データ!$A$3:$BK$997,38,FALSE),\"\")","v":""},{"$f":"IFERROR(VLOOKUP($D167,料理データ!$A$3:$BK$997,41,FALSE),\"\")","v":""},{"$f":"IFERROR(VLOOKUP($D167,料理データ!$A$3:$BK$997,44,FALSE),\"\")","v":""},{"$f":"IFERROR(VLOOKUP($D167,料理データ!$A$3:$BK$997,47,FALSE),\"\")","v":""},{"$f":"IFERROR(VLOOKUP($D167,料理データ!$A$3:$BK$997,50,FALSE),\"\")","v":""},{"$f":"IFERROR(VLOOKUP($D167,料理データ!$A$3:$BK$997,53,FALSE),\"\")","v":""},{"$f":"IFERROR(VLOOKUP($D167,料理データ!$A$3:$BK$997,56,FALSE),\"\")","v":""},{"$f":"IFERROR(VLOOKUP($D167,料理データ!$A$3:$BK$997,59,FALSE),\"\")","v":""},{"$f":"IFERROR(VLOOKUP($D167,料理データ!$A$3:$BK$997,62,FALSE),\"\")","v":""},"                   ","                   "]
[null,null,"午後おやつ",{"$f":"+'月間献立（乳児）'!L17","v":0},{"$f":"IFERROR(VLOOKUP($D168,料理データ!$A$3:$BK$997,3,FALSE),\"\")","v":""},{"$f":"IFERROR(VLOOKUP($D168,料理データ!$A$3:$BK$997,5,FALSE),\"\")","v":""},{"$f":"IFERROR(VLOOKUP($D168,料理データ!$A$3:$BK$997,8,FALSE),\"\")","v":""},{"$f":"IFERROR(VLOOKUP($D168,料理データ!$A$3:$BK$997,11,FALSE),\"\")","v":""},{"$f":"IFERROR(VLOOKUP($D168,料理データ!$A$3:$BK$997,14,FALSE),\"\")","v":""},{"$f":"IFERROR(VLOOKUP($D168,料理データ!$A$3:$BK$997,17,FALSE),\"\")","v":""},{"$f":"IFERROR(VLOOKUP($D168,料理データ!$A$3:$BK$997,20,FALSE),\"\")","v":""},{"$f":"IFERROR(VLOOKUP($D168,料理データ!$A$3:$BK$997,23,FALSE),\"\")","v":""},{"$f":"IFERROR(VLOOKUP($D168,料理データ!$A$3:$BK$997,26,FALSE),\"\")","v":""},{"$f":"IFERROR(VLOOKUP($D168,料理データ!$A$3:$BK$997,29,FALSE),\"\")","v":""},{"$f":"IFERROR(VLOOKUP($D168,料理データ!$A$3:$BK$997,32,FALSE),\"\")","v":""},{"$f":"IFERROR(VLOOKUP($D168,料理データ!$A$3:$BK$997,35,FALSE),\"\")","v":""},{"$f":"IFERROR(VLOOKUP($D168,料理データ!$A$3:$BK$997,38,FALSE),\"\")","v":""},{"$f":"IFERROR(VLOOKUP($D168,料理データ!$A$3:$BK$997,41,FALSE),\"\")","v":""},{"$f":"IFERROR(VLOOKUP($D168,料理データ!$A$3:$BK$997,44,FALSE),\"\")","v":""},{"$f":"IFERROR(VLOOKUP($D168,料理データ!$A$3:$BK$997,47,FALSE),\"\")","v":""},{"$f":"IFERROR(VLOOKUP($D168,料理データ!$A$3:$BK$997,50,FALSE),\"\")","v":""},{"$f":"IFERROR(VLOOKUP($D168,料理データ!$A$3:$BK$997,53,FALSE),\"\")","v":""},{"$f":"IFERROR(VLOOKUP($D168,料理データ!$A$3:$BK$997,56,FALSE),\"\")","v":""},{"$f":"IFERROR(VLOOKUP($D168,料理データ!$A$3:$BK$997,59,FALSE),\"\")","v":""},{"$f":"IFERROR(VLOOKUP($D168,料理データ!$A$3:$BK$997,62,FALSE),\"\")","v":""},"                   ","                   "]
[null,null,null,{"$f":"+'月間献立（乳児）'!M17","v":0},{"$f":"IFERROR(VLOOKUP($D169,料理データ!$A$3:$BK$997,3,FALSE),\"\")","v":""},{"$f":"IFERROR(VLOOKUP($D169,料理データ!$A$3:$BK$997,5,FALSE),\"\")","v":""},{"$f":"IFERROR(VLOOKUP($D169,料理データ!$A$3:$BK$997,8,FALSE),\"\")","v":""},{"$f":"IFERROR(VLOOKUP($D169,料理データ!$A$3:$BK$997,11,FALSE),\"\")","v":""},{"$f":"IFERROR(VLOOKUP($D169,料理データ!$A$3:$BK$997,14,FALSE),\"\")","v":""},{"$f":"IFERROR(VLOOKUP($D169,料理データ!$A$3:$BK$997,17,FALSE),\"\")","v":""},{"$f":"IFERROR(VLOOKUP($D169,料理データ!$A$3:$BK$997,20,FALSE),\"\")","v":""},{"$f":"IFERROR(VLOOKUP($D169,料理データ!$A$3:$BK$997,23,FALSE),\"\")","v":""},{"$f":"IFERROR(VLOOKUP($D169,料理データ!$A$3:$BK$997,26,FALSE),\"\")","v":""},{"$f":"IFERROR(VLOOKUP($D169,料理データ!$A$3:$BK$997,29,FALSE),\"\")","v":""},{"$f":"IFERROR(VLOOKUP($D169,料理データ!$A$3:$BK$997,32,FALSE),\"\")","v":""},{"$f":"IFERROR(VLOOKUP($D169,料理データ!$A$3:$BK$997,35,FALSE),\"\")","v":""},{"$f":"IFERROR(VLOOKUP($D169,料理データ!$A$3:$BK$997,38,FALSE),\"\")","v":""},{"$f":"IFERROR(VLOOKUP($D169,料理データ!$A$3:$BK$997,41,FALSE),\"\")","v":""},{"$f":"IFERROR(VLOOKUP($D169,料理データ!$A$3:$BK$997,44,FALSE),\"\")","v":""},{"$f":"IFERROR(VLOOKUP($D169,料理データ!$A$3:$BK$997,47,FALSE),\"\")","v":""},{"$f":"IFERROR(VLOOKUP($D169,料理データ!$A$3:$BK$997,50,FALSE),\"\")","v":""},{"$f":"IFERROR(VLOOKUP($D169,料理データ!$A$3:$BK$997,53,FALSE),\"\")","v":""},{"$f":"IFERROR(VLOOKUP($D169,料理データ!$A$3:$BK$997,56,FALSE),\"\")","v":""},{"$f":"IFERROR(VLOOKUP($D169,料理データ!$A$3:$BK$997,59,FALSE),\"\")","v":""},{"$f":"IFERROR(VLOOKUP($D169,料理データ!$A$3:$BK$997,62,FALSE),\"\")","v":""},"                   ","                   "]
[null,null,null,{"$f":"+'月間献立（乳児）'!N17","v":0},{"$f":"IFERROR(VLOOKUP($D170,料理データ!$A$3:$BK$997,3,FALSE),\"\")","v":""},{"$f":"IFERROR(VLOOKUP($D170,料理データ!$A$3:$BK$997,5,FALSE),\"\")","v":""},{"$f":"IFERROR(VLOOKUP($D170,料理データ!$A$3:$BK$997,8,FALSE),\"\")","v":""},{"$f":"IFERROR(VLOOKUP($D170,料理データ!$A$3:$BK$997,11,FALSE),\"\")","v":""},{"$f":"IFERROR(VLOOKUP($D170,料理データ!$A$3:$BK$997,14,FALSE),\"\")","v":""},{"$f":"IFERROR(VLOOKUP($D170,料理データ!$A$3:$BK$997,17,FALSE),\"\")","v":""},{"$f":"IFERROR(VLOOKUP($D170,料理データ!$A$3:$BK$997,20,FALSE),\"\")","v":""},{"$f":"IFERROR(VLOOKUP($D170,料理データ!$A$3:$BK$997,23,FALSE),\"\")","v":""},{"$f":"IFERROR(VLOOKUP($D170,料理データ!$A$3:$BK$997,26,FALSE),\"\")","v":""},{"$f":"IFERROR(VLOOKUP($D170,料理データ!$A$3:$BK$997,29,FALSE),\"\")","v":""},{"$f":"IFERROR(VLOOKUP($D170,料理データ!$A$3:$BK$997,32,FALSE),\"\")","v":""},{"$f":"IFERROR(VLOOKUP($D170,料理データ!$A$3:$BK$997,35,FALSE),\"\")","v":""},{"$f":"IFERROR(VLOOKUP($D170,料理データ!$A$3:$BK$997,38,FALSE),\"\")","v":""},{"$f":"IFERROR(VLOOKUP($D170,料理データ!$A$3:$BK$997,41,FALSE),\"\")","v":""},{"$f":"IFERROR(VLOOKUP($D170,料理データ!$A$3:$BK$997,44,FALSE),\"\")","v":""},{"$f":"IFERROR(VLOOKUP($D170,料理データ!$A$3:$BK$997,47,FALSE),\"\")","v":""},{"$f":"IFERROR(VLOOKUP($D170,料理データ!$A$3:$BK$997,50,FALSE),\"\")","v":""},{"$f":"IFERROR(VLOOKUP($D170,料理データ!$A$3:$BK$997,53,FALSE),\"\")","v":""},{"$f":"IFERROR(VLOOKUP($D170,料理データ!$A$3:$BK$997,56,FALSE),\"\")","v":""},{"$f":"IFERROR(VLOOKUP($D170,料理データ!$A$3:$BK$997,59,FALSE),\"\")","v":""},{"$f":"IFERROR(VLOOKUP($D170,料理データ!$A$3:$BK$997,62,FALSE),\"\")","v":""},"                   ",{"$f":"SUBSTITUTE(Z170,\"-\",\"\")","v":"                   "}]
[{"$f":"+'月間献立（幼児）'!A19","v":15},{"$f":"+'月間献立（幼児）'!B19","v":"(土)"},"午前おやつ",{"$f":"+'月間献立（乳児）'!C18","v":0},{"$f":"IFERROR(VLOOKUP($D171,料理データ!$A$3:$BK$997,3,FALSE),\"\")","v":""},{"$f":"IFERROR(VLOOKUP($D171,料理データ!$A$3:$BK$997,5,FALSE),\"\")","v":""},{"$f":"IFERROR(VLOOKUP($D171,料理データ!$A$3:$BK$997,8,FALSE),\"\")","v":""},{"$f":"IFERROR(VLOOKUP($D171,料理データ!$A$3:$BK$997,11,FALSE),\"\")","v":""},{"$f":"IFERROR(VLOOKUP($D171,料理データ!$A$3:$BK$997,14,FALSE),\"\")","v":""},{"$f":"IFERROR(VLOOKUP($D171,料理データ!$A$3:$BK$997,17,FALSE),\"\")","v":""},{"$f":"IFERROR(VLOOKUP($D171,料理データ!$A$3:$BK$997,20,FALSE),\"\")","v":""},{"$f":"IFERROR(VLOOKUP($D171,料理データ!$A$3:$BK$997,23,FALSE),\"\")","v":""},{"$f":"IFERROR(VLOOKUP($D171,料理データ!$A$3:$BK$997,26,FALSE),\"\")","v":""},{"$f":"IFERROR(VLOOKUP($D171,料理データ!$A$3:$BK$997,29,FALSE),\"\")","v":""},{"$f":"IFERROR(VLOOKUP($D171,料理データ!$A$3:$BK$997,32,FALSE),\"\")","v":""},{"$f":"IFERROR(VLOOKUP($D171,料理データ!$A$3:$BK$997,35,FALSE),\"\")","v":""},{"$f":"IFERROR(VLOOKUP($D171,料理データ!$A$3:$BK$997,38,FALSE),\"\")","v":""},{"$f":"IFERROR(VLOOKUP($D171,料理データ!$A$3:$BK$997,41,FALSE),\"\")","v":""},{"$f":"IFERROR(VLOOKUP($D171,料理データ!$A$3:$BK$997,44,FALSE),\"\")","v":""},{"$f":"IFERROR(VLOOKUP($D171,料理データ!$A$3:$BK$997,47,FALSE),\"\")","v":""},{"$f":"IFERROR(VLOOKUP($D171,料理データ!$A$3:$BK$997,50,FALSE),\"\")","v":""},{"$f":"IFERROR(VLOOKUP($D171,料理データ!$A$3:$BK$997,53,FALSE),\"\")","v":""},{"$f":"IFERROR(VLOOKUP($D171,料理データ!$A$3:$BK$997,56,FALSE),\"\")","v":""},{"$f":"IFERROR(VLOOKUP($D171,料理データ!$A$3:$BK$997,59,FALSE),\"\")","v":""},{"$f":"IFERROR(VLOOKUP($D171,料理データ!$A$3:$BK$997,62,FALSE),\"\")","v":""},"                   ",{"$f":"SUBSTITUTE(Z171,\"-\",\" \")","v":"                   "},{"$f":"TRIM(CONCATENATE(AA171,AA172,AA173,\"▲\",AA174,AA175,AA176,AA177,AA178,AA179,\"▲\",AA180,AA181,AA182))","v":"▲ ▲"}]
[null,null,null,{"$f":"+'月間献立（乳児）'!D18","v":0},{"$f":"IFERROR(VLOOKUP($D172,料理データ!$A$3:$BK$997,3,FALSE),\"\")","v":""},{"$f":"IFERROR(VLOOKUP($D172,料理データ!$A$3:$BK$997,5,FALSE),\"\")","v":""},{"$f":"IFERROR(VLOOKUP($D172,料理データ!$A$3:$BK$997,8,FALSE),\"\")","v":""},{"$f":"IFERROR(VLOOKUP($D172,料理データ!$A$3:$BK$997,11,FALSE),\"\")","v":""},{"$f":"IFERROR(VLOOKUP($D172,料理データ!$A$3:$BK$997,14,FALSE),\"\")","v":""},{"$f":"IFERROR(VLOOKUP($D172,料理データ!$A$3:$BK$997,17,FALSE),\"\")","v":""},{"$f":"IFERROR(VLOOKUP($D172,料理データ!$A$3:$BK$997,20,FALSE),\"\")","v":""},{"$f":"IFERROR(VLOOKUP($D172,料理データ!$A$3:$BK$997,23,FALSE),\"\")","v":""},{"$f":"IFERROR(VLOOKUP($D172,料理データ!$A$3:$BK$997,26,FALSE),\"\")","v":""},{"$f":"IFERROR(VLOOKUP($D172,料理データ!$A$3:$BK$997,29,FALSE),\"\")","v":""},{"$f":"IFERROR(VLOOKUP($D172,料理データ!$A$3:$BK$997,32,FALSE),\"\")","v":""},{"$f":"IFERROR(VLOOKUP($D172,料理データ!$A$3:$BK$997,35,FALSE),\"\")","v":""},{"$f":"IFERROR(VLOOKUP($D172,料理データ!$A$3:$BK$997,38,FALSE),\"\")","v":""},{"$f":"IFERROR(VLOOKUP($D172,料理データ!$A$3:$BK$997,41,FALSE),\"\")","v":""},{"$f":"IFERROR(VLOOKUP($D172,料理データ!$A$3:$BK$997,44,FALSE),\"\")","v":""},{"$f":"IFERROR(VLOOKUP($D172,料理データ!$A$3:$BK$997,47,FALSE),\"\")","v":""},{"$f":"IFERROR(VLOOKUP($D172,料理データ!$A$3:$BK$997,50,FALSE),\"\")","v":""},{"$f":"IFERROR(VLOOKUP($D172,料理データ!$A$3:$BK$997,53,FALSE),\"\")","v":""},{"$f":"IFERROR(VLOOKUP($D172,料理データ!$A$3:$BK$997,56,FALSE),\"\")","v":""},{"$f":"IFERROR(VLOOKUP($D172,料理データ!$A$3:$BK$997,59,FALSE),\"\")","v":""},{"$f":"IFERROR(VLOOKUP($D172,料理データ!$A$3:$BK$997,62,FALSE),\"\")","v":""},"                   ",{"$f":"SUBSTITUTE(Z172,\"-\",\" \")","v":"                   "}]
[null,null,null,{"$f":"+'月間献立（乳児）'!E18","v":0},{"$f":"IFERROR(VLOOKUP($D173,料理データ!$A$3:$BK$997,3,FALSE),\"\")","v":""},{"$f":"IFERROR(VLOOKUP($D173,料理データ!$A$3:$BK$997,5,FALSE),\"\")","v":""},{"$f":"IFERROR(VLOOKUP($D173,料理データ!$A$3:$BK$997,8,FALSE),\"\")","v":""},{"$f":"IFERROR(VLOOKUP($D173,料理データ!$A$3:$BK$997,11,FALSE),\"\")","v":""},{"$f":"IFERROR(VLOOKUP($D173,料理データ!$A$3:$BK$997,14,FALSE),\"\")","v":""},{"$f":"IFERROR(VLOOKUP($D173,料理データ!$A$3:$BK$997,17,FALSE),\"\")","v":""},{"$f":"IFERROR(VLOOKUP($D173,料理データ!$A$3:$BK$997,20,FALSE),\"\")","v":""},{"$f":"IFERROR(VLOOKUP($D173,料理データ!$A$3:$BK$997,23,FALSE),\"\")","v":""},{"$f":"IFERROR(VLOOKUP($D173,料理データ!$A$3:$BK$997,26,FALSE),\"\")","v":""},{"$f":"IFERROR(VLOOKUP($D173,料理データ!$A$3:$BK$997,29,FALSE),\"\")","v":""},{"$f":"IFERROR(VLOOKUP($D173,料理データ!$A$3:$BK$997,32,FALSE),\"\")","v":""},{"$f":"IFERROR(VLOOKUP($D173,料理データ!$A$3:$BK$997,35,FALSE),\"\")","v":""},{"$f":"IFERROR(VLOOKUP($D173,料理データ!$A$3:$BK$997,38,FALSE),\"\")","v":""},{"$f":"IFERROR(VLOOKUP($D173,料理データ!$A$3:$BK$997,41,FALSE),\"\")","v":""},{"$f":"IFERROR(VLOOKUP($D173,料理データ!$A$3:$BK$997,44,FALSE),\"\")","v":""},{"$f":"IFERROR(VLOOKUP($D173,料理データ!$A$3:$BK$997,47,FALSE),\"\")","v":""},{"$f":"IFERROR(VLOOKUP($D173,料理データ!$A$3:$BK$997,50,FALSE),\"\")","v":""},{"$f":"IFERROR(VLOOKUP($D173,料理データ!$A$3:$BK$997,53,FALSE),\"\")","v":""},{"$f":"IFERROR(VLOOKUP($D173,料理データ!$A$3:$BK$997,56,FALSE),\"\")","v":""},{"$f":"IFERROR(VLOOKUP($D173,料理データ!$A$3:$BK$997,59,FALSE),\"\")","v":""},{"$f":"IFERROR(VLOOKUP($D173,料理データ!$A$3:$BK$997,62,FALSE),\"\")","v":""},"                   ",{"$f":"SUBSTITUTE(Z173,\"-\",\" \")","v":"                   "}]
[null,null,"昼食",{"$f":"+'月間献立（乳児）'!F18","v":0},{"$f":"IFERROR(VLOOKUP($D174,料理データ!$A$3:$BK$997,3,FALSE),\"\")","v":""},{"$f":"IFERROR(VLOOKUP($D174,料理データ!$A$3:$BK$997,5,FALSE),\"\")","v":""},{"$f":"IFERROR(VLOOKUP($D174,料理データ!$A$3:$BK$997,8,FALSE),\"\")","v":""},{"$f":"IFERROR(VLOOKUP($D174,料理データ!$A$3:$BK$997,11,FALSE),\"\")","v":""},{"$f":"IFERROR(VLOOKUP($D174,料理データ!$A$3:$BK$997,14,FALSE),\"\")","v":""},{"$f":"IFERROR(VLOOKUP($D174,料理データ!$A$3:$BK$997,17,FALSE),\"\")","v":""},{"$f":"IFERROR(VLOOKUP($D174,料理データ!$A$3:$BK$997,20,FALSE),\"\")","v":""},{"$f":"IFERROR(VLOOKUP($D174,料理データ!$A$3:$BK$997,23,FALSE),\"\")","v":""},{"$f":"IFERROR(VLOOKUP($D174,料理データ!$A$3:$BK$997,26,FALSE),\"\")","v":""},{"$f":"IFERROR(VLOOKUP($D174,料理データ!$A$3:$BK$997,29,FALSE),\"\")","v":""},{"$f":"IFERROR(VLOOKUP($D174,料理データ!$A$3:$BK$997,32,FALSE),\"\")","v":""},{"$f":"IFERROR(VLOOKUP($D174,料理データ!$A$3:$BK$997,35,FALSE),\"\")","v":""},{"$f":"IFERROR(VLOOKUP($D174,料理データ!$A$3:$BK$997,38,FALSE),\"\")","v":""},{"$f":"IFERROR(VLOOKUP($D174,料理データ!$A$3:$BK$997,41,FALSE),\"\")","v":""},{"$f":"IFERROR(VLOOKUP($D174,料理データ!$A$3:$BK$997,44,FALSE),\"\")","v":""},{"$f":"IFERROR(VLOOKUP($D174,料理データ!$A$3:$BK$997,47,FALSE),\"\")","v":""},{"$f":"IFERROR(VLOOKUP($D174,料理データ!$A$3:$BK$997,50,FALSE),\"\")","v":""},{"$f":"IFERROR(VLOOKUP($D174,料理データ!$A$3:$BK$997,53,FALSE),\"\")","v":""},{"$f":"IFERROR(VLOOKUP($D174,料理データ!$A$3:$BK$997,56,FALSE),\"\")","v":""},{"$f":"IFERROR(VLOOKUP($D174,料理データ!$A$3:$BK$997,59,FALSE),\"\")","v":""},{"$f":"IFERROR(VLOOKUP($D174,料理データ!$A$3:$BK$997,62,FALSE),\"\")","v":""},"                   ","                   "]
[null,null,null,{"$f":"+'月間献立（乳児）'!G18","v":0},{"$f":"IFERROR(VLOOKUP($D175,料理データ!$A$3:$BK$997,3,FALSE),\"\")","v":""},{"$f":"IFERROR(VLOOKUP($D175,料理データ!$A$3:$BK$997,5,FALSE),\"\")","v":""},{"$f":"IFERROR(VLOOKUP($D175,料理データ!$A$3:$BK$997,8,FALSE),\"\")","v":""},{"$f":"IFERROR(VLOOKUP($D175,料理データ!$A$3:$BK$997,11,FALSE),\"\")","v":""},{"$f":"IFERROR(VLOOKUP($D175,料理データ!$A$3:$BK$997,14,FALSE),\"\")","v":""},{"$f":"IFERROR(VLOOKUP($D175,料理データ!$A$3:$BK$997,17,FALSE),\"\")","v":""},{"$f":"IFERROR(VLOOKUP($D175,料理データ!$A$3:$BK$997,20,FALSE),\"\")","v":""},{"$f":"IFERROR(VLOOKUP($D175,料理データ!$A$3:$BK$997,23,FALSE),\"\")","v":""},{"$f":"IFERROR(VLOOKUP($D175,料理データ!$A$3:$BK$997,26,FALSE),\"\")","v":""},{"$f":"IFERROR(VLOOKUP($D175,料理データ!$A$3:$BK$997,29,FALSE),\"\")","v":""},{"$f":"IFERROR(VLOOKUP($D175,料理データ!$A$3:$BK$997,32,FALSE),\"\")","v":""},{"$f":"IFERROR(VLOOKUP($D175,料理データ!$A$3:$BK$997,35,FALSE),\"\")","v":""},{"$f":"IFERROR(VLOOKUP($D175,料理データ!$A$3:$BK$997,38,FALSE),\"\")","v":""},{"$f":"IFERROR(VLOOKUP($D175,料理データ!$A$3:$BK$997,41,FALSE),\"\")","v":""},{"$f":"IFERROR(VLOOKUP($D175,料理データ!$A$3:$BK$997,44,FALSE),\"\")","v":""},{"$f":"IFERROR(VLOOKUP($D175,料理データ!$A$3:$BK$997,47,FALSE),\"\")","v":""},{"$f":"IFERROR(VLOOKUP($D175,料理データ!$A$3:$BK$997,50,FALSE),\"\")","v":""},{"$f":"IFERROR(VLOOKUP($D175,料理データ!$A$3:$BK$997,53,FALSE),\"\")","v":""},{"$f":"IFERROR(VLOOKUP($D175,料理データ!$A$3:$BK$997,56,FALSE),\"\")","v":""},{"$f":"IFERROR(VLOOKUP($D175,料理データ!$A$3:$BK$997,59,FALSE),\"\")","v":""},{"$f":"IFERROR(VLOOKUP($D175,料理データ!$A$3:$BK$997,62,FALSE),\"\")","v":""},"                   ","                   "]
[null,null,null,{"$f":"+'月間献立（乳児）'!H18","v":0},{"$f":"IFERROR(VLOOKUP($D176,料理データ!$A$3:$BK$997,3,FALSE),\"\")","v":""},{"$f":"IFERROR(VLOOKUP($D176,料理データ!$A$3:$BK$997,5,FALSE),\"\")","v":""},{"$f":"IFERROR(VLOOKUP($D176,料理データ!$A$3:$BK$997,8,FALSE),\"\")","v":""},{"$f":"IFERROR(VLOOKUP($D176,料理データ!$A$3:$BK$997,11,FALSE),\"\")","v":""},{"$f":"IFERROR(VLOOKUP($D176,料理データ!$A$3:$BK$997,14,FALSE),\"\")","v":""},{"$f":"IFERROR(VLOOKUP($D176,料理データ!$A$3:$BK$997,17,FALSE),\"\")","v":""},{"$f":"IFERROR(VLOOKUP($D176,料理データ!$A$3:$BK$997,20,FALSE),\"\")","v":""},{"$f":"IFERROR(VLOOKUP($D176,料理データ!$A$3:$BK$997,23,FALSE),\"\")","v":""},{"$f":"IFERROR(VLOOKUP($D176,料理データ!$A$3:$BK$997,26,FALSE),\"\")","v":""},{"$f":"IFERROR(VLOOKUP($D176,料理データ!$A$3:$BK$997,29,FALSE),\"\")","v":""},{"$f":"IFERROR(VLOOKUP($D176,料理データ!$A$3:$BK$997,32,FALSE),\"\")","v":""},{"$f":"IFERROR(VLOOKUP($D176,料理データ!$A$3:$BK$997,35,FALSE),\"\")","v":""},{"$f":"IFERROR(VLOOKUP($D176,料理データ!$A$3:$BK$997,38,FALSE),\"\")","v":""},{"$f":"IFERROR(VLOOKUP($D176,料理データ!$A$3:$BK$997,41,FALSE),\"\")","v":""},{"$f":"IFERROR(VLOOKUP($D176,料理データ!$A$3:$BK$997,44,FALSE),\"\")","v":""},{"$f":"IFERROR(VLOOKUP($D176,料理データ!$A$3:$BK$997,47,FALSE),\"\")","v":""},{"$f":"IFERROR(VLOOKUP($D176,料理データ!$A$3:$BK$997,50,FALSE),\"\")","v":""},{"$f":"IFERROR(VLOOKUP($D176,料理データ!$A$3:$BK$997,53,FALSE),\"\")","v":""},{"$f":"IFERROR(VLOOKUP($D176,料理データ!$A$3:$BK$997,56,FALSE),\"\")","v":""},{"$f":"IFERROR(VLOOKUP($D176,料理データ!$A$3:$BK$997,59,FALSE),\"\")","v":""},{"$f":"IFERROR(VLOOKUP($D176,料理データ!$A$3:$BK$997,62,FALSE),\"\")","v":""},"                   ","                   "]
[null,null,null,{"$f":"+'月間献立（乳児）'!I18","v":0},{"$f":"IFERROR(VLOOKUP($D177,料理データ!$A$3:$BK$997,3,FALSE),\"\")","v":""},{"$f":"IFERROR(VLOOKUP($D177,料理データ!$A$3:$BK$997,5,FALSE),\"\")","v":""},{"$f":"IFERROR(VLOOKUP($D177,料理データ!$A$3:$BK$997,8,FALSE),\"\")","v":""},{"$f":"IFERROR(VLOOKUP($D177,料理データ!$A$3:$BK$997,11,FALSE),\"\")","v":""},{"$f":"IFERROR(VLOOKUP($D177,料理データ!$A$3:$BK$997,14,FALSE),\"\")","v":""},{"$f":"IFERROR(VLOOKUP($D177,料理データ!$A$3:$BK$997,17,FALSE),\"\")","v":""},{"$f":"IFERROR(VLOOKUP($D177,料理データ!$A$3:$BK$997,20,FALSE),\"\")","v":""},{"$f":"IFERROR(VLOOKUP($D177,料理データ!$A$3:$BK$997,23,FALSE),\"\")","v":""},{"$f":"IFERROR(VLOOKUP($D177,料理データ!$A$3:$BK$997,26,FALSE),\"\")","v":""},{"$f":"IFERROR(VLOOKUP($D177,料理データ!$A$3:$BK$997,29,FALSE),\"\")","v":""},{"$f":"IFERROR(VLOOKUP($D177,料理データ!$A$3:$BK$997,32,FALSE),\"\")","v":""},{"$f":"IFERROR(VLOOKUP($D177,料理データ!$A$3:$BK$997,35,FALSE),\"\")","v":""},{"$f":"IFERROR(VLOOKUP($D177,料理データ!$A$3:$BK$997,38,FALSE),\"\")","v":""},{"$f":"IFERROR(VLOOKUP($D177,料理データ!$A$3:$BK$997,41,FALSE),\"\")","v":""},{"$f":"IFERROR(VLOOKUP($D177,料理データ!$A$3:$BK$997,44,FALSE),\"\")","v":""},{"$f":"IFERROR(VLOOKUP($D177,料理データ!$A$3:$BK$997,47,FALSE),\"\")","v":""},{"$f":"IFERROR(VLOOKUP($D177,料理データ!$A$3:$BK$997,50,FALSE),\"\")","v":""},{"$f":"IFERROR(VLOOKUP($D177,料理データ!$A$3:$BK$997,53,FALSE),\"\")","v":""},{"$f":"IFERROR(VLOOKUP($D177,料理データ!$A$3:$BK$997,56,FALSE),\"\")","v":""},{"$f":"IFERROR(VLOOKUP($D177,料理データ!$A$3:$BK$997,59,FALSE),\"\")","v":""},{"$f":"IFERROR(VLOOKUP($D177,料理データ!$A$3:$BK$997,62,FALSE),\"\")","v":""},"                   ","                   "]
[null,null,null,{"$f":"+'月間献立（乳児）'!J18","v":0},{"$f":"IFERROR(VLOOKUP($D178,料理データ!$A$3:$BK$997,3,FALSE),\"\")","v":""},{"$f":"IFERROR(VLOOKUP($D178,料理データ!$A$3:$BK$997,5,FALSE),\"\")","v":""},{"$f":"IFERROR(VLOOKUP($D178,料理データ!$A$3:$BK$997,8,FALSE),\"\")","v":""},{"$f":"IFERROR(VLOOKUP($D178,料理データ!$A$3:$BK$997,11,FALSE),\"\")","v":""},{"$f":"IFERROR(VLOOKUP($D178,料理データ!$A$3:$BK$997,14,FALSE),\"\")","v":""},{"$f":"IFERROR(VLOOKUP($D178,料理データ!$A$3:$BK$997,17,FALSE),\"\")","v":""},{"$f":"IFERROR(VLOOKUP($D178,料理データ!$A$3:$BK$997,20,FALSE),\"\")","v":""},{"$f":"IFERROR(VLOOKUP($D178,料理データ!$A$3:$BK$997,23,FALSE),\"\")","v":""},{"$f":"IFERROR(VLOOKUP($D178,料理データ!$A$3:$BK$997,26,FALSE),\"\")","v":""},{"$f":"IFERROR(VLOOKUP($D178,料理データ!$A$3:$BK$997,29,FALSE),\"\")","v":""},{"$f":"IFERROR(VLOOKUP($D178,料理データ!$A$3:$BK$997,32,FALSE),\"\")","v":""},{"$f":"IFERROR(VLOOKUP($D178,料理データ!$A$3:$BK$997,35,FALSE),\"\")","v":""},{"$f":"IFERROR(VLOOKUP($D178,料理データ!$A$3:$BK$997,38,FALSE),\"\")","v":""},{"$f":"IFERROR(VLOOKUP($D178,料理データ!$A$3:$BK$997,41,FALSE),\"\")","v":""},{"$f":"IFERROR(VLOOKUP($D178,料理データ!$A$3:$BK$997,44,FALSE),\"\")","v":""},{"$f":"IFERROR(VLOOKUP($D178,料理データ!$A$3:$BK$997,47,FALSE),\"\")","v":""},{"$f":"IFERROR(VLOOKUP($D178,料理データ!$A$3:$BK$997,50,FALSE),\"\")","v":""},{"$f":"IFERROR(VLOOKUP($D178,料理データ!$A$3:$BK$997,53,FALSE),\"\")","v":""},{"$f":"IFERROR(VLOOKUP($D178,料理データ!$A$3:$BK$997,56,FALSE),\"\")","v":""},{"$f":"IFERROR(VLOOKUP($D178,料理データ!$A$3:$BK$997,59,FALSE),\"\")","v":""},{"$f":"IFERROR(VLOOKUP($D178,料理データ!$A$3:$BK$997,62,FALSE),\"\")","v":""},"                   ","                   "]
[null,null,null,{"$f":"+'月間献立（乳児）'!K18","v":0},{"$f":"IFERROR(VLOOKUP($D179,料理データ!$A$3:$BK$997,3,FALSE),\"\")","v":""},{"$f":"IFERROR(VLOOKUP($D179,料理データ!$A$3:$BK$997,5,FALSE),\"\")","v":""},{"$f":"IFERROR(VLOOKUP($D179,料理データ!$A$3:$BK$997,8,FALSE),\"\")","v":""},{"$f":"IFERROR(VLOOKUP($D179,料理データ!$A$3:$BK$997,11,FALSE),\"\")","v":""},{"$f":"IFERROR(VLOOKUP($D179,料理データ!$A$3:$BK$997,14,FALSE),\"\")","v":""},{"$f":"IFERROR(VLOOKUP($D179,料理データ!$A$3:$BK$997,17,FALSE),\"\")","v":""},{"$f":"IFERROR(VLOOKUP($D179,料理データ!$A$3:$BK$997,20,FALSE),\"\")","v":""},{"$f":"IFERROR(VLOOKUP($D179,料理データ!$A$3:$BK$997,23,FALSE),\"\")","v":""},{"$f":"IFERROR(VLOOKUP($D179,料理データ!$A$3:$BK$997,26,FALSE),\"\")","v":""},{"$f":"IFERROR(VLOOKUP($D179,料理データ!$A$3:$BK$997,29,FALSE),\"\")","v":""},{"$f":"IFERROR(VLOOKUP($D179,料理データ!$A$3:$BK$997,32,FALSE),\"\")","v":""},{"$f":"IFERROR(VLOOKUP($D179,料理データ!$A$3:$BK$997,35,FALSE),\"\")","v":""},{"$f":"IFERROR(VLOOKUP($D179,料理データ!$A$3:$BK$997,38,FALSE),\"\")","v":""},{"$f":"IFERROR(VLOOKUP($D179,料理データ!$A$3:$BK$997,41,FALSE),\"\")","v":""},{"$f":"IFERROR(VLOOKUP($D179,料理データ!$A$3:$BK$997,44,FALSE),\"\")","v":""},{"$f":"IFERROR(VLOOKUP($D179,料理データ!$A$3:$BK$997,47,FALSE),\"\")","v":""},{"$f":"IFERROR(VLOOKUP($D179,料理データ!$A$3:$BK$997,50,FALSE),\"\")","v":""},{"$f":"IFERROR(VLOOKUP($D179,料理データ!$A$3:$BK$997,53,FALSE),\"\")","v":""},{"$f":"IFERROR(VLOOKUP($D179,料理データ!$A$3:$BK$997,56,FALSE),\"\")","v":""},{"$f":"IFERROR(VLOOKUP($D179,料理データ!$A$3:$BK$997,59,FALSE),\"\")","v":""},{"$f":"IFERROR(VLOOKUP($D179,料理データ!$A$3:$BK$997,62,FALSE),\"\")","v":""},"                   ","                   "]
[null,null,"午後おやつ",{"$f":"+'月間献立（乳児）'!L18","v":0},{"$f":"IFERROR(VLOOKUP($D180,料理データ!$A$3:$BK$997,3,FALSE),\"\")","v":""},{"$f":"IFERROR(VLOOKUP($D180,料理データ!$A$3:$BK$997,5,FALSE),\"\")","v":""},{"$f":"IFERROR(VLOOKUP($D180,料理データ!$A$3:$BK$997,8,FALSE),\"\")","v":""},{"$f":"IFERROR(VLOOKUP($D180,料理データ!$A$3:$BK$997,11,FALSE),\"\")","v":""},{"$f":"IFERROR(VLOOKUP($D180,料理データ!$A$3:$BK$997,14,FALSE),\"\")","v":""},{"$f":"IFERROR(VLOOKUP($D180,料理データ!$A$3:$BK$997,17,FALSE),\"\")","v":""},{"$f":"IFERROR(VLOOKUP($D180,料理データ!$A$3:$BK$997,20,FALSE),\"\")","v":""},{"$f":"IFERROR(VLOOKUP($D180,料理データ!$A$3:$BK$997,23,FALSE),\"\")","v":""},{"$f":"IFERROR(VLOOKUP($D180,料理データ!$A$3:$BK$997,26,FALSE),\"\")","v":""},{"$f":"IFERROR(VLOOKUP($D180,料理データ!$A$3:$BK$997,29,FALSE),\"\")","v":""},{"$f":"IFERROR(VLOOKUP($D180,料理データ!$A$3:$BK$997,32,FALSE),\"\")","v":""},{"$f":"IFERROR(VLOOKUP($D180,料理データ!$A$3:$BK$997,35,FALSE),\"\")","v":""},{"$f":"IFERROR(VLOOKUP($D180,料理データ!$A$3:$BK$997,38,FALSE),\"\")","v":""},{"$f":"IFERROR(VLOOKUP($D180,料理データ!$A$3:$BK$997,41,FALSE),\"\")","v":""},{"$f":"IFERROR(VLOOKUP($D180,料理データ!$A$3:$BK$997,44,FALSE),\"\")","v":""},{"$f":"IFERROR(VLOOKUP($D180,料理データ!$A$3:$BK$997,47,FALSE),\"\")","v":""},{"$f":"IFERROR(VLOOKUP($D180,料理データ!$A$3:$BK$997,50,FALSE),\"\")","v":""},{"$f":"IFERROR(VLOOKUP($D180,料理データ!$A$3:$BK$997,53,FALSE),\"\")","v":""},{"$f":"IFERROR(VLOOKUP($D180,料理データ!$A$3:$BK$997,56,FALSE),\"\")","v":""},{"$f":"IFERROR(VLOOKUP($D180,料理データ!$A$3:$BK$997,59,FALSE),\"\")","v":""},{"$f":"IFERROR(VLOOKUP($D180,料理データ!$A$3:$BK$997,62,FALSE),\"\")","v":""},"                   ","                   "]
[null,null,null,{"$f":"+'月間献立（乳児）'!M18","v":0},{"$f":"IFERROR(VLOOKUP($D181,料理データ!$A$3:$BK$997,3,FALSE),\"\")","v":""},{"$f":"IFERROR(VLOOKUP($D181,料理データ!$A$3:$BK$997,5,FALSE),\"\")","v":""},{"$f":"IFERROR(VLOOKUP($D181,料理データ!$A$3:$BK$997,8,FALSE),\"\")","v":""},{"$f":"IFERROR(VLOOKUP($D181,料理データ!$A$3:$BK$997,11,FALSE),\"\")","v":""},{"$f":"IFERROR(VLOOKUP($D181,料理データ!$A$3:$BK$997,14,FALSE),\"\")","v":""},{"$f":"IFERROR(VLOOKUP($D181,料理データ!$A$3:$BK$997,17,FALSE),\"\")","v":""},{"$f":"IFERROR(VLOOKUP($D181,料理データ!$A$3:$BK$997,20,FALSE),\"\")","v":""},{"$f":"IFERROR(VLOOKUP($D181,料理データ!$A$3:$BK$997,23,FALSE),\"\")","v":""},{"$f":"IFERROR(VLOOKUP($D181,料理データ!$A$3:$BK$997,26,FALSE),\"\")","v":""},{"$f":"IFERROR(VLOOKUP($D181,料理データ!$A$3:$BK$997,29,FALSE),\"\")","v":""},{"$f":"IFERROR(VLOOKUP($D181,料理データ!$A$3:$BK$997,32,FALSE),\"\")","v":""},{"$f":"IFERROR(VLOOKUP($D181,料理データ!$A$3:$BK$997,35,FALSE),\"\")","v":""},{"$f":"IFERROR(VLOOKUP($D181,料理データ!$A$3:$BK$997,38,FALSE),\"\")","v":""},{"$f":"IFERROR(VLOOKUP($D181,料理データ!$A$3:$BK$997,41,FALSE),\"\")","v":""},{"$f":"IFERROR(VLOOKUP($D181,料理データ!$A$3:$BK$997,44,FALSE),\"\")","v":""},{"$f":"IFERROR(VLOOKUP($D181,料理データ!$A$3:$BK$997,47,FALSE),\"\")","v":""},{"$f":"IFERROR(VLOOKUP($D181,料理データ!$A$3:$BK$997,50,FALSE),\"\")","v":""},{"$f":"IFERROR(VLOOKUP($D181,料理データ!$A$3:$BK$997,53,FALSE),\"\")","v":""},{"$f":"IFERROR(VLOOKUP($D181,料理データ!$A$3:$BK$997,56,FALSE),\"\")","v":""},{"$f":"IFERROR(VLOOKUP($D181,料理データ!$A$3:$BK$997,59,FALSE),\"\")","v":""},{"$f":"IFERROR(VLOOKUP($D181,料理データ!$A$3:$BK$997,62,FALSE),\"\")","v":""},"                   ","                   "]
[null,null,null,{"$f":"+'月間献立（乳児）'!N18","v":0},{"$f":"IFERROR(VLOOKUP($D182,料理データ!$A$3:$BK$997,3,FALSE),\"\")","v":""},{"$f":"IFERROR(VLOOKUP($D182,料理データ!$A$3:$BK$997,5,FALSE),\"\")","v":""},{"$f":"IFERROR(VLOOKUP($D182,料理データ!$A$3:$BK$997,8,FALSE),\"\")","v":""},{"$f":"IFERROR(VLOOKUP($D182,料理データ!$A$3:$BK$997,11,FALSE),\"\")","v":""},{"$f":"IFERROR(VLOOKUP($D182,料理データ!$A$3:$BK$997,14,FALSE),\"\")","v":""},{"$f":"IFERROR(VLOOKUP($D182,料理データ!$A$3:$BK$997,17,FALSE),\"\")","v":""},{"$f":"IFERROR(VLOOKUP($D182,料理データ!$A$3:$BK$997,20,FALSE),\"\")","v":""},{"$f":"IFERROR(VLOOKUP($D182,料理データ!$A$3:$BK$997,23,FALSE),\"\")","v":""},{"$f":"IFERROR(VLOOKUP($D182,料理データ!$A$3:$BK$997,26,FALSE),\"\")","v":""},{"$f":"IFERROR(VLOOKUP($D182,料理データ!$A$3:$BK$997,29,FALSE),\"\")","v":""},{"$f":"IFERROR(VLOOKUP($D182,料理データ!$A$3:$BK$997,32,FALSE),\"\")","v":""},{"$f":"IFERROR(VLOOKUP($D182,料理データ!$A$3:$BK$997,35,FALSE),\"\")","v":""},{"$f":"IFERROR(VLOOKUP($D182,料理データ!$A$3:$BK$997,38,FALSE),\"\")","v":""},{"$f":"IFERROR(VLOOKUP($D182,料理データ!$A$3:$BK$997,41,FALSE),\"\")","v":""},{"$f":"IFERROR(VLOOKUP($D182,料理データ!$A$3:$BK$997,44,FALSE),\"\")","v":""},{"$f":"IFERROR(VLOOKUP($D182,料理データ!$A$3:$BK$997,47,FALSE),\"\")","v":""},{"$f":"IFERROR(VLOOKUP($D182,料理データ!$A$3:$BK$997,50,FALSE),\"\")","v":""},{"$f":"IFERROR(VLOOKUP($D182,料理データ!$A$3:$BK$997,53,FALSE),\"\")","v":""},{"$f":"IFERROR(VLOOKUP($D182,料理データ!$A$3:$BK$997,56,FALSE),\"\")","v":""},{"$f":"IFERROR(VLOOKUP($D182,料理データ!$A$3:$BK$997,59,FALSE),\"\")","v":""},{"$f":"IFERROR(VLOOKUP($D182,料理データ!$A$3:$BK$997,62,FALSE),\"\")","v":""},"                   ",{"$f":"SUBSTITUTE(Z182,\"-\",\"\")","v":"                   "}]
[{"$f":"+'月間献立（幼児）'!A20","v":16},{"$f":"+'月間献立（幼児）'!B20","v":"(日)"},"午前おやつ",{"$f":"+'月間献立（乳児）'!C19","v":0},{"$f":"IFERROR(VLOOKUP($D183,料理データ!$A$3:$BK$997,3,FALSE),\"\")","v":""},{"$f":"IFERROR(VLOOKUP($D183,料理データ!$A$3:$BK$997,5,FALSE),\"\")","v":""},{"$f":"IFERROR(VLOOKUP($D183,料理データ!$A$3:$BK$997,8,FALSE),\"\")","v":""},{"$f":"IFERROR(VLOOKUP($D183,料理データ!$A$3:$BK$997,11,FALSE),\"\")","v":""},{"$f":"IFERROR(VLOOKUP($D183,料理データ!$A$3:$BK$997,14,FALSE),\"\")","v":""},{"$f":"IFERROR(VLOOKUP($D183,料理データ!$A$3:$BK$997,17,FALSE),\"\")","v":""},{"$f":"IFERROR(VLOOKUP($D183,料理データ!$A$3:$BK$997,20,FALSE),\"\")","v":""},{"$f":"IFERROR(VLOOKUP($D183,料理データ!$A$3:$BK$997,23,FALSE),\"\")","v":""},{"$f":"IFERROR(VLOOKUP($D183,料理データ!$A$3:$BK$997,26,FALSE),\"\")","v":""},{"$f":"IFERROR(VLOOKUP($D183,料理データ!$A$3:$BK$997,29,FALSE),\"\")","v":""},{"$f":"IFERROR(VLOOKUP($D183,料理データ!$A$3:$BK$997,32,FALSE),\"\")","v":""},{"$f":"IFERROR(VLOOKUP($D183,料理データ!$A$3:$BK$997,35,FALSE),\"\")","v":""},{"$f":"IFERROR(VLOOKUP($D183,料理データ!$A$3:$BK$997,38,FALSE),\"\")","v":""},{"$f":"IFERROR(VLOOKUP($D183,料理データ!$A$3:$BK$997,41,FALSE),\"\")","v":""},{"$f":"IFERROR(VLOOKUP($D183,料理データ!$A$3:$BK$997,44,FALSE),\"\")","v":""},{"$f":"IFERROR(VLOOKUP($D183,料理データ!$A$3:$BK$997,47,FALSE),\"\")","v":""},{"$f":"IFERROR(VLOOKUP($D183,料理データ!$A$3:$BK$997,50,FALSE),\"\")","v":""},{"$f":"IFERROR(VLOOKUP($D183,料理データ!$A$3:$BK$997,53,FALSE),\"\")","v":""},{"$f":"IFERROR(VLOOKUP($D183,料理データ!$A$3:$BK$997,56,FALSE),\"\")","v":""},{"$f":"IFERROR(VLOOKUP($D183,料理データ!$A$3:$BK$997,59,FALSE),\"\")","v":""},{"$f":"IFERROR(VLOOKUP($D183,料理データ!$A$3:$BK$997,62,FALSE),\"\")","v":""},"                   ",{"$f":"SUBSTITUTE(Z183,\"-\",\" \")","v":"                   "},{"$f":"TRIM(CONCATENATE(AA183,AA184,AA185,\"▲\",AA186,AA187,AA188,AA189,AA190,AA191,\"▲\",AA192,AA193,AA194))","v":"▲ ▲"}]
[null,null,null,{"$f":"+'月間献立（乳児）'!D19","v":0},{"$f":"IFERROR(VLOOKUP($D184,料理データ!$A$3:$BK$997,3,FALSE),\"\")","v":""},{"$f":"IFERROR(VLOOKUP($D184,料理データ!$A$3:$BK$997,5,FALSE),\"\")","v":""},{"$f":"IFERROR(VLOOKUP($D184,料理データ!$A$3:$BK$997,8,FALSE),\"\")","v":""},{"$f":"IFERROR(VLOOKUP($D184,料理データ!$A$3:$BK$997,11,FALSE),\"\")","v":""},{"$f":"IFERROR(VLOOKUP($D184,料理データ!$A$3:$BK$997,14,FALSE),\"\")","v":""},{"$f":"IFERROR(VLOOKUP($D184,料理データ!$A$3:$BK$997,17,FALSE),\"\")","v":""},{"$f":"IFERROR(VLOOKUP($D184,料理データ!$A$3:$BK$997,20,FALSE),\"\")","v":""},{"$f":"IFERROR(VLOOKUP($D184,料理データ!$A$3:$BK$997,23,FALSE),\"\")","v":""},{"$f":"IFERROR(VLOOKUP($D184,料理データ!$A$3:$BK$997,26,FALSE),\"\")","v":""},{"$f":"IFERROR(VLOOKUP($D184,料理データ!$A$3:$BK$997,29,FALSE),\"\")","v":""},{"$f":"IFERROR(VLOOKUP($D184,料理データ!$A$3:$BK$997,32,FALSE),\"\")","v":""},{"$f":"IFERROR(VLOOKUP($D184,料理データ!$A$3:$BK$997,35,FALSE),\"\")","v":""},{"$f":"IFERROR(VLOOKUP($D184,料理データ!$A$3:$BK$997,38,FALSE),\"\")","v":""},{"$f":"IFERROR(VLOOKUP($D184,料理データ!$A$3:$BK$997,41,FALSE),\"\")","v":""},{"$f":"IFERROR(VLOOKUP($D184,料理データ!$A$3:$BK$997,44,FALSE),\"\")","v":""},{"$f":"IFERROR(VLOOKUP($D184,料理データ!$A$3:$BK$997,47,FALSE),\"\")","v":""},{"$f":"IFERROR(VLOOKUP($D184,料理データ!$A$3:$BK$997,50,FALSE),\"\")","v":""},{"$f":"IFERROR(VLOOKUP($D184,料理データ!$A$3:$BK$997,53,FALSE),\"\")","v":""},{"$f":"IFERROR(VLOOKUP($D184,料理データ!$A$3:$BK$997,56,FALSE),\"\")","v":""},{"$f":"IFERROR(VLOOKUP($D184,料理データ!$A$3:$BK$997,59,FALSE),\"\")","v":""},{"$f":"IFERROR(VLOOKUP($D184,料理データ!$A$3:$BK$997,62,FALSE),\"\")","v":""},"                   ",{"$f":"SUBSTITUTE(Z184,\"-\",\" \")","v":"                   "}]
[null,null,null,{"$f":"+'月間献立（乳児）'!E19","v":0},{"$f":"IFERROR(VLOOKUP($D185,料理データ!$A$3:$BK$997,3,FALSE),\"\")","v":""},{"$f":"IFERROR(VLOOKUP($D185,料理データ!$A$3:$BK$997,5,FALSE),\"\")","v":""},{"$f":"IFERROR(VLOOKUP($D185,料理データ!$A$3:$BK$997,8,FALSE),\"\")","v":""},{"$f":"IFERROR(VLOOKUP($D185,料理データ!$A$3:$BK$997,11,FALSE),\"\")","v":""},{"$f":"IFERROR(VLOOKUP($D185,料理データ!$A$3:$BK$997,14,FALSE),\"\")","v":""},{"$f":"IFERROR(VLOOKUP($D185,料理データ!$A$3:$BK$997,17,FALSE),\"\")","v":""},{"$f":"IFERROR(VLOOKUP($D185,料理データ!$A$3:$BK$997,20,FALSE),\"\")","v":""},{"$f":"IFERROR(VLOOKUP($D185,料理データ!$A$3:$BK$997,23,FALSE),\"\")","v":""},{"$f":"IFERROR(VLOOKUP($D185,料理データ!$A$3:$BK$997,26,FALSE),\"\")","v":""},{"$f":"IFERROR(VLOOKUP($D185,料理データ!$A$3:$BK$997,29,FALSE),\"\")","v":""},{"$f":"IFERROR(VLOOKUP($D185,料理データ!$A$3:$BK$997,32,FALSE),\"\")","v":""},{"$f":"IFERROR(VLOOKUP($D185,料理データ!$A$3:$BK$997,35,FALSE),\"\")","v":""},{"$f":"IFERROR(VLOOKUP($D185,料理データ!$A$3:$BK$997,38,FALSE),\"\")","v":""},{"$f":"IFERROR(VLOOKUP($D185,料理データ!$A$3:$BK$997,41,FALSE),\"\")","v":""},{"$f":"IFERROR(VLOOKUP($D185,料理データ!$A$3:$BK$997,44,FALSE),\"\")","v":""},{"$f":"IFERROR(VLOOKUP($D185,料理データ!$A$3:$BK$997,47,FALSE),\"\")","v":""},{"$f":"IFERROR(VLOOKUP($D185,料理データ!$A$3:$BK$997,50,FALSE),\"\")","v":""},{"$f":"IFERROR(VLOOKUP($D185,料理データ!$A$3:$BK$997,53,FALSE),\"\")","v":""},{"$f":"IFERROR(VLOOKUP($D185,料理データ!$A$3:$BK$997,56,FALSE),\"\")","v":""},{"$f":"IFERROR(VLOOKUP($D185,料理データ!$A$3:$BK$997,59,FALSE),\"\")","v":""},{"$f":"IFERROR(VLOOKUP($D185,料理データ!$A$3:$BK$997,62,FALSE),\"\")","v":""},"                   ",{"$f":"SUBSTITUTE(Z185,\"-\",\" \")","v":"                   "}]
[null,null,"昼食",{"$f":"+'月間献立（乳児）'!F19","v":0},{"$f":"IFERROR(VLOOKUP($D186,料理データ!$A$3:$BK$997,3,FALSE),\"\")","v":""},{"$f":"IFERROR(VLOOKUP($D186,料理データ!$A$3:$BK$997,5,FALSE),\"\")","v":""},{"$f":"IFERROR(VLOOKUP($D186,料理データ!$A$3:$BK$997,8,FALSE),\"\")","v":""},{"$f":"IFERROR(VLOOKUP($D186,料理データ!$A$3:$BK$997,11,FALSE),\"\")","v":""},{"$f":"IFERROR(VLOOKUP($D186,料理データ!$A$3:$BK$997,14,FALSE),\"\")","v":""},{"$f":"IFERROR(VLOOKUP($D186,料理データ!$A$3:$BK$997,17,FALSE),\"\")","v":""},{"$f":"IFERROR(VLOOKUP($D186,料理データ!$A$3:$BK$997,20,FALSE),\"\")","v":""},{"$f":"IFERROR(VLOOKUP($D186,料理データ!$A$3:$BK$997,23,FALSE),\"\")","v":""},{"$f":"IFERROR(VLOOKUP($D186,料理データ!$A$3:$BK$997,26,FALSE),\"\")","v":""},{"$f":"IFERROR(VLOOKUP($D186,料理データ!$A$3:$BK$997,29,FALSE),\"\")","v":""},{"$f":"IFERROR(VLOOKUP($D186,料理データ!$A$3:$BK$997,32,FALSE),\"\")","v":""},{"$f":"IFERROR(VLOOKUP($D186,料理データ!$A$3:$BK$997,35,FALSE),\"\")","v":""},{"$f":"IFERROR(VLOOKUP($D186,料理データ!$A$3:$BK$997,38,FALSE),\"\")","v":""},{"$f":"IFERROR(VLOOKUP($D186,料理データ!$A$3:$BK$997,41,FALSE),\"\")","v":""},{"$f":"IFERROR(VLOOKUP($D186,料理データ!$A$3:$BK$997,44,FALSE),\"\")","v":""},{"$f":"IFERROR(VLOOKUP($D186,料理データ!$A$3:$BK$997,47,FALSE),\"\")","v":""},{"$f":"IFERROR(VLOOKUP($D186,料理データ!$A$3:$BK$997,50,FALSE),\"\")","v":""},{"$f":"IFERROR(VLOOKUP($D186,料理データ!$A$3:$BK$997,53,FALSE),\"\")","v":""},{"$f":"IFERROR(VLOOKUP($D186,料理データ!$A$3:$BK$997,56,FALSE),\"\")","v":""},{"$f":"IFERROR(VLOOKUP($D186,料理データ!$A$3:$BK$997,59,FALSE),\"\")","v":""},{"$f":"IFERROR(VLOOKUP($D186,料理データ!$A$3:$BK$997,62,FALSE),\"\")","v":""},"                   ","                   "]
[null,null,null,{"$f":"+'月間献立（乳児）'!G19","v":0},{"$f":"IFERROR(VLOOKUP($D187,料理データ!$A$3:$BK$997,3,FALSE),\"\")","v":""},{"$f":"IFERROR(VLOOKUP($D187,料理データ!$A$3:$BK$997,5,FALSE),\"\")","v":""},{"$f":"IFERROR(VLOOKUP($D187,料理データ!$A$3:$BK$997,8,FALSE),\"\")","v":""},{"$f":"IFERROR(VLOOKUP($D187,料理データ!$A$3:$BK$997,11,FALSE),\"\")","v":""},{"$f":"IFERROR(VLOOKUP($D187,料理データ!$A$3:$BK$997,14,FALSE),\"\")","v":""},{"$f":"IFERROR(VLOOKUP($D187,料理データ!$A$3:$BK$997,17,FALSE),\"\")","v":""},{"$f":"IFERROR(VLOOKUP($D187,料理データ!$A$3:$BK$997,20,FALSE),\"\")","v":""},{"$f":"IFERROR(VLOOKUP($D187,料理データ!$A$3:$BK$997,23,FALSE),\"\")","v":""},{"$f":"IFERROR(VLOOKUP($D187,料理データ!$A$3:$BK$997,26,FALSE),\"\")","v":""},{"$f":"IFERROR(VLOOKUP($D187,料理データ!$A$3:$BK$997,29,FALSE),\"\")","v":""},{"$f":"IFERROR(VLOOKUP($D187,料理データ!$A$3:$BK$997,32,FALSE),\"\")","v":""},{"$f":"IFERROR(VLOOKUP($D187,料理データ!$A$3:$BK$997,35,FALSE),\"\")","v":""},{"$f":"IFERROR(VLOOKUP($D187,料理データ!$A$3:$BK$997,38,FALSE),\"\")","v":""},{"$f":"IFERROR(VLOOKUP($D187,料理データ!$A$3:$BK$997,41,FALSE),\"\")","v":""},{"$f":"IFERROR(VLOOKUP($D187,料理データ!$A$3:$BK$997,44,FALSE),\"\")","v":""},{"$f":"IFERROR(VLOOKUP($D187,料理データ!$A$3:$BK$997,47,FALSE),\"\")","v":""},{"$f":"IFERROR(VLOOKUP($D187,料理データ!$A$3:$BK$997,50,FALSE),\"\")","v":""},{"$f":"IFERROR(VLOOKUP($D187,料理データ!$A$3:$BK$997,53,FALSE),\"\")","v":""},{"$f":"IFERROR(VLOOKUP($D187,料理データ!$A$3:$BK$997,56,FALSE),\"\")","v":""},{"$f":"IFERROR(VLOOKUP($D187,料理データ!$A$3:$BK$997,59,FALSE),\"\")","v":""},{"$f":"IFERROR(VLOOKUP($D187,料理データ!$A$3:$BK$997,62,FALSE),\"\")","v":""},"                   ","                   "]
[null,null,null,{"$f":"+'月間献立（乳児）'!H19","v":0},{"$f":"IFERROR(VLOOKUP($D188,料理データ!$A$3:$BK$997,3,FALSE),\"\")","v":""},{"$f":"IFERROR(VLOOKUP($D188,料理データ!$A$3:$BK$997,5,FALSE),\"\")","v":""},{"$f":"IFERROR(VLOOKUP($D188,料理データ!$A$3:$BK$997,8,FALSE),\"\")","v":""},{"$f":"IFERROR(VLOOKUP($D188,料理データ!$A$3:$BK$997,11,FALSE),\"\")","v":""},{"$f":"IFERROR(VLOOKUP($D188,料理データ!$A$3:$BK$997,14,FALSE),\"\")","v":""},{"$f":"IFERROR(VLOOKUP($D188,料理データ!$A$3:$BK$997,17,FALSE),\"\")","v":""},{"$f":"IFERROR(VLOOKUP($D188,料理データ!$A$3:$BK$997,20,FALSE),\"\")","v":""},{"$f":"IFERROR(VLOOKUP($D188,料理データ!$A$3:$BK$997,23,FALSE),\"\")","v":""},{"$f":"IFERROR(VLOOKUP($D188,料理データ!$A$3:$BK$997,26,FALSE),\"\")","v":""},{"$f":"IFERROR(VLOOKUP($D188,料理データ!$A$3:$BK$997,29,FALSE),\"\")","v":""},{"$f":"IFERROR(VLOOKUP($D188,料理データ!$A$3:$BK$997,32,FALSE),\"\")","v":""},{"$f":"IFERROR(VLOOKUP($D188,料理データ!$A$3:$BK$997,35,FALSE),\"\")","v":""},{"$f":"IFERROR(VLOOKUP($D188,料理データ!$A$3:$BK$997,38,FALSE),\"\")","v":""},{"$f":"IFERROR(VLOOKUP($D188,料理データ!$A$3:$BK$997,41,FALSE),\"\")","v":""},{"$f":"IFERROR(VLOOKUP($D188,料理データ!$A$3:$BK$997,44,FALSE),\"\")","v":""},{"$f":"IFERROR(VLOOKUP($D188,料理データ!$A$3:$BK$997,47,FALSE),\"\")","v":""},{"$f":"IFERROR(VLOOKUP($D188,料理データ!$A$3:$BK$997,50,FALSE),\"\")","v":""},{"$f":"IFERROR(VLOOKUP($D188,料理データ!$A$3:$BK$997,53,FALSE),\"\")","v":""},{"$f":"IFERROR(VLOOKUP($D188,料理データ!$A$3:$BK$997,56,FALSE),\"\")","v":""},{"$f":"IFERROR(VLOOKUP($D188,料理データ!$A$3:$BK$997,59,FALSE),\"\")","v":""},{"$f":"IFERROR(VLOOKUP($D188,料理データ!$A$3:$BK$997,62,FALSE),\"\")","v":""},"                   ","                   "]
[null,null,null,{"$f":"+'月間献立（乳児）'!I19","v":0},{"$f":"IFERROR(VLOOKUP($D189,料理データ!$A$3:$BK$997,3,FALSE),\"\")","v":""},{"$f":"IFERROR(VLOOKUP($D189,料理データ!$A$3:$BK$997,5,FALSE),\"\")","v":""},{"$f":"IFERROR(VLOOKUP($D189,料理データ!$A$3:$BK$997,8,FALSE),\"\")","v":""},{"$f":"IFERROR(VLOOKUP($D189,料理データ!$A$3:$BK$997,11,FALSE),\"\")","v":""},{"$f":"IFERROR(VLOOKUP($D189,料理データ!$A$3:$BK$997,14,FALSE),\"\")","v":""},{"$f":"IFERROR(VLOOKUP($D189,料理データ!$A$3:$BK$997,17,FALSE),\"\")","v":""},{"$f":"IFERROR(VLOOKUP($D189,料理データ!$A$3:$BK$997,20,FALSE),\"\")","v":""},{"$f":"IFERROR(VLOOKUP($D189,料理データ!$A$3:$BK$997,23,FALSE),\"\")","v":""},{"$f":"IFERROR(VLOOKUP($D189,料理データ!$A$3:$BK$997,26,FALSE),\"\")","v":""},{"$f":"IFERROR(VLOOKUP($D189,料理データ!$A$3:$BK$997,29,FALSE),\"\")","v":""},{"$f":"IFERROR(VLOOKUP($D189,料理データ!$A$3:$BK$997,32,FALSE),\"\")","v":""},{"$f":"IFERROR(VLOOKUP($D189,料理データ!$A$3:$BK$997,35,FALSE),\"\")","v":""},{"$f":"IFERROR(VLOOKUP($D189,料理データ!$A$3:$BK$997,38,FALSE),\"\")","v":""},{"$f":"IFERROR(VLOOKUP($D189,料理データ!$A$3:$BK$997,41,FALSE),\"\")","v":""},{"$f":"IFERROR(VLOOKUP($D189,料理データ!$A$3:$BK$997,44,FALSE),\"\")","v":""},{"$f":"IFERROR(VLOOKUP($D189,料理データ!$A$3:$BK$997,47,FALSE),\"\")","v":""},{"$f":"IFERROR(VLOOKUP($D189,料理データ!$A$3:$BK$997,50,FALSE),\"\")","v":""},{"$f":"IFERROR(VLOOKUP($D189,料理データ!$A$3:$BK$997,53,FALSE),\"\")","v":""},{"$f":"IFERROR(VLOOKUP($D189,料理データ!$A$3:$BK$997,56,FALSE),\"\")","v":""},{"$f":"IFERROR(VLOOKUP($D189,料理データ!$A$3:$BK$997,59,FALSE),\"\")","v":""},{"$f":"IFERROR(VLOOKUP($D189,料理データ!$A$3:$BK$997,62,FALSE),\"\")","v":""},"                   ","                   "]
[null,null,null,{"$f":"+'月間献立（乳児）'!J19","v":0},{"$f":"IFERROR(VLOOKUP($D190,料理データ!$A$3:$BK$997,3,FALSE),\"\")","v":""},{"$f":"IFERROR(VLOOKUP($D190,料理データ!$A$3:$BK$997,5,FALSE),\"\")","v":""},{"$f":"IFERROR(VLOOKUP($D190,料理データ!$A$3:$BK$997,8,FALSE),\"\")","v":""},{"$f":"IFERROR(VLOOKUP($D190,料理データ!$A$3:$BK$997,11,FALSE),\"\")","v":""},{"$f":"IFERROR(VLOOKUP($D190,料理データ!$A$3:$BK$997,14,FALSE),\"\")","v":""},{"$f":"IFERROR(VLOOKUP($D190,料理データ!$A$3:$BK$997,17,FALSE),\"\")","v":""},{"$f":"IFERROR(VLOOKUP($D190,料理データ!$A$3:$BK$997,20,FALSE),\"\")","v":""},{"$f":"IFERROR(VLOOKUP($D190,料理データ!$A$3:$BK$997,23,FALSE),\"\")","v":""},{"$f":"IFERROR(VLOOKUP($D190,料理データ!$A$3:$BK$997,26,FALSE),\"\")","v":""},{"$f":"IFERROR(VLOOKUP($D190,料理データ!$A$3:$BK$997,29,FALSE),\"\")","v":""},{"$f":"IFERROR(VLOOKUP($D190,料理データ!$A$3:$BK$997,32,FALSE),\"\")","v":""},{"$f":"IFERROR(VLOOKUP($D190,料理データ!$A$3:$BK$997,35,FALSE),\"\")","v":""},{"$f":"IFERROR(VLOOKUP($D190,料理データ!$A$3:$BK$997,38,FALSE),\"\")","v":""},{"$f":"IFERROR(VLOOKUP($D190,料理データ!$A$3:$BK$997,41,FALSE),\"\")","v":""},{"$f":"IFERROR(VLOOKUP($D190,料理データ!$A$3:$BK$997,44,FALSE),\"\")","v":""},{"$f":"IFERROR(VLOOKUP($D190,料理データ!$A$3:$BK$997,47,FALSE),\"\")","v":""},{"$f":"IFERROR(VLOOKUP($D190,料理データ!$A$3:$BK$997,50,FALSE),\"\")","v":""},{"$f":"IFERROR(VLOOKUP($D190,料理データ!$A$3:$BK$997,53,FALSE),\"\")","v":""},{"$f":"IFERROR(VLOOKUP($D190,料理データ!$A$3:$BK$997,56,FALSE),\"\")","v":""},{"$f":"IFERROR(VLOOKUP($D190,料理データ!$A$3:$BK$997,59,FALSE),\"\")","v":""},{"$f":"IFERROR(VLOOKUP($D190,料理データ!$A$3:$BK$997,62,FALSE),\"\")","v":""},"                   ","                   "]
[null,null,null,{"$f":"+'月間献立（乳児）'!K19","v":0},{"$f":"IFERROR(VLOOKUP($D191,料理データ!$A$3:$BK$997,3,FALSE),\"\")","v":""},{"$f":"IFERROR(VLOOKUP($D191,料理データ!$A$3:$BK$997,5,FALSE),\"\")","v":""},{"$f":"IFERROR(VLOOKUP($D191,料理データ!$A$3:$BK$997,8,FALSE),\"\")","v":""},{"$f":"IFERROR(VLOOKUP($D191,料理データ!$A$3:$BK$997,11,FALSE),\"\")","v":""},{"$f":"IFERROR(VLOOKUP($D191,料理データ!$A$3:$BK$997,14,FALSE),\"\")","v":""},{"$f":"IFERROR(VLOOKUP($D191,料理データ!$A$3:$BK$997,17,FALSE),\"\")","v":""},{"$f":"IFERROR(VLOOKUP($D191,料理データ!$A$3:$BK$997,20,FALSE),\"\")","v":""},{"$f":"IFERROR(VLOOKUP($D191,料理データ!$A$3:$BK$997,23,FALSE),\"\")","v":""},{"$f":"IFERROR(VLOOKUP($D191,料理データ!$A$3:$BK$997,26,FALSE),\"\")","v":""},{"$f":"IFERROR(VLOOKUP($D191,料理データ!$A$3:$BK$997,29,FALSE),\"\")","v":""},{"$f":"IFERROR(VLOOKUP($D191,料理データ!$A$3:$BK$997,32,FALSE),\"\")","v":""},{"$f":"IFERROR(VLOOKUP($D191,料理データ!$A$3:$BK$997,35,FALSE),\"\")","v":""},{"$f":"IFERROR(VLOOKUP($D191,料理データ!$A$3:$BK$997,38,FALSE),\"\")","v":""},{"$f":"IFERROR(VLOOKUP($D191,料理データ!$A$3:$BK$997,41,FALSE),\"\")","v":""},{"$f":"IFERROR(VLOOKUP($D191,料理データ!$A$3:$BK$997,44,FALSE),\"\")","v":""},{"$f":"IFERROR(VLOOKUP($D191,料理データ!$A$3:$BK$997,47,FALSE),\"\")","v":""},{"$f":"IFERROR(VLOOKUP($D191,料理データ!$A$3:$BK$997,50,FALSE),\"\")","v":""},{"$f":"IFERROR(VLOOKUP($D191,料理データ!$A$3:$BK$997,53,FALSE),\"\")","v":""},{"$f":"IFERROR(VLOOKUP($D191,料理データ!$A$3:$BK$997,56,FALSE),\"\")","v":""},{"$f":"IFERROR(VLOOKUP($D191,料理データ!$A$3:$BK$997,59,FALSE),\"\")","v":""},{"$f":"IFERROR(VLOOKUP($D191,料理データ!$A$3:$BK$997,62,FALSE),\"\")","v":""},"                   ","                   "]
[null,null,"午後おやつ",{"$f":"+'月間献立（乳児）'!L19","v":0},{"$f":"IFERROR(VLOOKUP($D192,料理データ!$A$3:$BK$997,3,FALSE),\"\")","v":""},{"$f":"IFERROR(VLOOKUP($D192,料理データ!$A$3:$BK$997,5,FALSE),\"\")","v":""},{"$f":"IFERROR(VLOOKUP($D192,料理データ!$A$3:$BK$997,8,FALSE),\"\")","v":""},{"$f":"IFERROR(VLOOKUP($D192,料理データ!$A$3:$BK$997,11,FALSE),\"\")","v":""},{"$f":"IFERROR(VLOOKUP($D192,料理データ!$A$3:$BK$997,14,FALSE),\"\")","v":""},{"$f":"IFERROR(VLOOKUP($D192,料理データ!$A$3:$BK$997,17,FALSE),\"\")","v":""},{"$f":"IFERROR(VLOOKUP($D192,料理データ!$A$3:$BK$997,20,FALSE),\"\")","v":""},{"$f":"IFERROR(VLOOKUP($D192,料理データ!$A$3:$BK$997,23,FALSE),\"\")","v":""},{"$f":"IFERROR(VLOOKUP($D192,料理データ!$A$3:$BK$997,26,FALSE),\"\")","v":""},{"$f":"IFERROR(VLOOKUP($D192,料理データ!$A$3:$BK$997,29,FALSE),\"\")","v":""},{"$f":"IFERROR(VLOOKUP($D192,料理データ!$A$3:$BK$997,32,FALSE),\"\")","v":""},{"$f":"IFERROR(VLOOKUP($D192,料理データ!$A$3:$BK$997,35,FALSE),\"\")","v":""},{"$f":"IFERROR(VLOOKUP($D192,料理データ!$A$3:$BK$997,38,FALSE),\"\")","v":""},{"$f":"IFERROR(VLOOKUP($D192,料理データ!$A$3:$BK$997,41,FALSE),\"\")","v":""},{"$f":"IFERROR(VLOOKUP($D192,料理データ!$A$3:$BK$997,44,FALSE),\"\")","v":""},{"$f":"IFERROR(VLOOKUP($D192,料理データ!$A$3:$BK$997,47,FALSE),\"\")","v":""},{"$f":"IFERROR(VLOOKUP($D192,料理データ!$A$3:$BK$997,50,FALSE),\"\")","v":""},{"$f":"IFERROR(VLOOKUP($D192,料理データ!$A$3:$BK$997,53,FALSE),\"\")","v":""},{"$f":"IFERROR(VLOOKUP($D192,料理データ!$A$3:$BK$997,56,FALSE),\"\")","v":""},{"$f":"IFERROR(VLOOKUP($D192,料理データ!$A$3:$BK$997,59,FALSE),\"\")","v":""},{"$f":"IFERROR(VLOOKUP($D192,料理データ!$A$3:$BK$997,62,FALSE),\"\")","v":""},"                   ","                   "]
[null,null,null,{"$f":"+'月間献立（乳児）'!M19","v":0},{"$f":"IFERROR(VLOOKUP($D193,料理データ!$A$3:$BK$997,3,FALSE),\"\")","v":""},{"$f":"IFERROR(VLOOKUP($D193,料理データ!$A$3:$BK$997,5,FALSE),\"\")","v":""},{"$f":"IFERROR(VLOOKUP($D193,料理データ!$A$3:$BK$997,8,FALSE),\"\")","v":""},{"$f":"IFERROR(VLOOKUP($D193,料理データ!$A$3:$BK$997,11,FALSE),\"\")","v":""},{"$f":"IFERROR(VLOOKUP($D193,料理データ!$A$3:$BK$997,14,FALSE),\"\")","v":""},{"$f":"IFERROR(VLOOKUP($D193,料理データ!$A$3:$BK$997,17,FALSE),\"\")","v":""},{"$f":"IFERROR(VLOOKUP($D193,料理データ!$A$3:$BK$997,20,FALSE),\"\")","v":""},{"$f":"IFERROR(VLOOKUP($D193,料理データ!$A$3:$BK$997,23,FALSE),\"\")","v":""},{"$f":"IFERROR(VLOOKUP($D193,料理データ!$A$3:$BK$997,26,FALSE),\"\")","v":""},{"$f":"IFERROR(VLOOKUP($D193,料理データ!$A$3:$BK$997,29,FALSE),\"\")","v":""},{"$f":"IFERROR(VLOOKUP($D193,料理データ!$A$3:$BK$997,32,FALSE),\"\")","v":""},{"$f":"IFERROR(VLOOKUP($D193,料理データ!$A$3:$BK$997,35,FALSE),\"\")","v":""},{"$f":"IFERROR(VLOOKUP($D193,料理データ!$A$3:$BK$997,38,FALSE),\"\")","v":""},{"$f":"IFERROR(VLOOKUP($D193,料理データ!$A$3:$BK$997,41,FALSE),\"\")","v":""},{"$f":"IFERROR(VLOOKUP($D193,料理データ!$A$3:$BK$997,44,FALSE),\"\")","v":""},{"$f":"IFERROR(VLOOKUP($D193,料理データ!$A$3:$BK$997,47,FALSE),\"\")","v":""},{"$f":"IFERROR(VLOOKUP($D193,料理データ!$A$3:$BK$997,50,FALSE),\"\")","v":""},{"$f":"IFERROR(VLOOKUP($D193,料理データ!$A$3:$BK$997,53,FALSE),\"\")","v":""},{"$f":"IFERROR(VLOOKUP($D193,料理データ!$A$3:$BK$997,56,FALSE),\"\")","v":""},{"$f":"IFERROR(VLOOKUP($D193,料理データ!$A$3:$BK$997,59,FALSE),\"\")","v":""},{"$f":"IFERROR(VLOOKUP($D193,料理データ!$A$3:$BK$997,62,FALSE),\"\")","v":""},"                   ","                   "]
[null,null,null,{"$f":"+'月間献立（乳児）'!N19","v":0},{"$f":"IFERROR(VLOOKUP($D194,料理データ!$A$3:$BK$997,3,FALSE),\"\")","v":""},{"$f":"IFERROR(VLOOKUP($D194,料理データ!$A$3:$BK$997,5,FALSE),\"\")","v":""},{"$f":"IFERROR(VLOOKUP($D194,料理データ!$A$3:$BK$997,8,FALSE),\"\")","v":""},{"$f":"IFERROR(VLOOKUP($D194,料理データ!$A$3:$BK$997,11,FALSE),\"\")","v":""},{"$f":"IFERROR(VLOOKUP($D194,料理データ!$A$3:$BK$997,14,FALSE),\"\")","v":""},{"$f":"IFERROR(VLOOKUP($D194,料理データ!$A$3:$BK$997,17,FALSE),\"\")","v":""},{"$f":"IFERROR(VLOOKUP($D194,料理データ!$A$3:$BK$997,20,FALSE),\"\")","v":""},{"$f":"IFERROR(VLOOKUP($D194,料理データ!$A$3:$BK$997,23,FALSE),\"\")","v":""},{"$f":"IFERROR(VLOOKUP($D194,料理データ!$A$3:$BK$997,26,FALSE),\"\")","v":""},{"$f":"IFERROR(VLOOKUP($D194,料理データ!$A$3:$BK$997,29,FALSE),\"\")","v":""},{"$f":"IFERROR(VLOOKUP($D194,料理データ!$A$3:$BK$997,32,FALSE),\"\")","v":""},{"$f":"IFERROR(VLOOKUP($D194,料理データ!$A$3:$BK$997,35,FALSE),\"\")","v":""},{"$f":"IFERROR(VLOOKUP($D194,料理データ!$A$3:$BK$997,38,FALSE),\"\")","v":""},{"$f":"IFERROR(VLOOKUP($D194,料理データ!$A$3:$BK$997,41,FALSE),\"\")","v":""},{"$f":"IFERROR(VLOOKUP($D194,料理データ!$A$3:$BK$997,44,FALSE),\"\")","v":""},{"$f":"IFERROR(VLOOKUP($D194,料理データ!$A$3:$BK$997,47,FALSE),\"\")","v":""},{"$f":"IFERROR(VLOOKUP($D194,料理データ!$A$3:$BK$997,50,FALSE),\"\")","v":""},{"$f":"IFERROR(VLOOKUP($D194,料理データ!$A$3:$BK$997,53,FALSE),\"\")","v":""},{"$f":"IFERROR(VLOOKUP($D194,料理データ!$A$3:$BK$997,56,FALSE),\"\")","v":""},{"$f":"IFERROR(VLOOKUP($D194,料理データ!$A$3:$BK$997,59,FALSE),\"\")","v":""},{"$f":"IFERROR(VLOOKUP($D194,料理データ!$A$3:$BK$997,62,FALSE),\"\")","v":""},"                   ",{"$f":"SUBSTITUTE(Z194,\"-\",\"\")","v":"                   "}]
[{"$f":"+'月間献立（幼児）'!A21","v":17},{"$f":"+'月間献立（幼児）'!B21","v":"(月)"},"午前おやつ",{"$f":"+'月間献立（乳児）'!C20","v":0},{"$f":"IFERROR(VLOOKUP($D195,料理データ!$A$3:$BK$997,3,FALSE),\"\")","v":""},{"$f":"IFERROR(VLOOKUP($D195,料理データ!$A$3:$BK$997,5,FALSE),\"\")","v":""},{"$f":"IFERROR(VLOOKUP($D195,料理データ!$A$3:$BK$997,8,FALSE),\"\")","v":""},{"$f":"IFERROR(VLOOKUP($D195,料理データ!$A$3:$BK$997,11,FALSE),\"\")","v":""},{"$f":"IFERROR(VLOOKUP($D195,料理データ!$A$3:$BK$997,14,FALSE),\"\")","v":""},{"$f":"IFERROR(VLOOKUP($D195,料理データ!$A$3:$BK$997,17,FALSE),\"\")","v":""},{"$f":"IFERROR(VLOOKUP($D195,料理データ!$A$3:$BK$997,20,FALSE),\"\")","v":""},{"$f":"IFERROR(VLOOKUP($D195,料理データ!$A$3:$BK$997,23,FALSE),\"\")","v":""},{"$f":"IFERROR(VLOOKUP($D195,料理データ!$A$3:$BK$997,26,FALSE),\"\")","v":""},{"$f":"IFERROR(VLOOKUP($D195,料理データ!$A$3:$BK$997,29,FALSE),\"\")","v":""},{"$f":"IFERROR(VLOOKUP($D195,料理データ!$A$3:$BK$997,32,FALSE),\"\")","v":""},{"$f":"IFERROR(VLOOKUP($D195,料理データ!$A$3:$BK$997,35,FALSE),\"\")","v":""},{"$f":"IFERROR(VLOOKUP($D195,料理データ!$A$3:$BK$997,38,FALSE),\"\")","v":""},{"$f":"IFERROR(VLOOKUP($D195,料理データ!$A$3:$BK$997,41,FALSE),\"\")","v":""},{"$f":"IFERROR(VLOOKUP($D195,料理データ!$A$3:$BK$997,44,FALSE),\"\")","v":""},{"$f":"IFERROR(VLOOKUP($D195,料理データ!$A$3:$BK$997,47,FALSE),\"\")","v":""},{"$f":"IFERROR(VLOOKUP($D195,料理データ!$A$3:$BK$997,50,FALSE),\"\")","v":""},{"$f":"IFERROR(VLOOKUP($D195,料理データ!$A$3:$BK$997,53,FALSE),\"\")","v":""},{"$f":"IFERROR(VLOOKUP($D195,料理データ!$A$3:$BK$997,56,FALSE),\"\")","v":""},{"$f":"IFERROR(VLOOKUP($D195,料理データ!$A$3:$BK$997,59,FALSE),\"\")","v":""},{"$f":"IFERROR(VLOOKUP($D195,料理データ!$A$3:$BK$997,62,FALSE),\"\")","v":""},"                   ",{"$f":"SUBSTITUTE(Z195,\"-\",\" \")","v":"                   "},{"$f":"TRIM(CONCATENATE(AA195,AA196,AA197,\"▲\",AA198,AA199,AA200,AA201,AA202,AA203,\"▲\",AA204,AA205,AA206))","v":"▲ ▲"}]
[null,null,null,{"$f":"+'月間献立（乳児）'!D20","v":0},{"$f":"IFERROR(VLOOKUP($D196,料理データ!$A$3:$BK$997,3,FALSE),\"\")","v":""},{"$f":"IFERROR(VLOOKUP($D196,料理データ!$A$3:$BK$997,5,FALSE),\"\")","v":""},{"$f":"IFERROR(VLOOKUP($D196,料理データ!$A$3:$BK$997,8,FALSE),\"\")","v":""},{"$f":"IFERROR(VLOOKUP($D196,料理データ!$A$3:$BK$997,11,FALSE),\"\")","v":""},{"$f":"IFERROR(VLOOKUP($D196,料理データ!$A$3:$BK$997,14,FALSE),\"\")","v":""},{"$f":"IFERROR(VLOOKUP($D196,料理データ!$A$3:$BK$997,17,FALSE),\"\")","v":""},{"$f":"IFERROR(VLOOKUP($D196,料理データ!$A$3:$BK$997,20,FALSE),\"\")","v":""},{"$f":"IFERROR(VLOOKUP($D196,料理データ!$A$3:$BK$997,23,FALSE),\"\")","v":""},{"$f":"IFERROR(VLOOKUP($D196,料理データ!$A$3:$BK$997,26,FALSE),\"\")","v":""},{"$f":"IFERROR(VLOOKUP($D196,料理データ!$A$3:$BK$997,29,FALSE),\"\")","v":""},{"$f":"IFERROR(VLOOKUP($D196,料理データ!$A$3:$BK$997,32,FALSE),\"\")","v":""},{"$f":"IFERROR(VLOOKUP($D196,料理データ!$A$3:$BK$997,35,FALSE),\"\")","v":""},{"$f":"IFERROR(VLOOKUP($D196,料理データ!$A$3:$BK$997,38,FALSE),\"\")","v":""},{"$f":"IFERROR(VLOOKUP($D196,料理データ!$A$3:$BK$997,41,FALSE),\"\")","v":""},{"$f":"IFERROR(VLOOKUP($D196,料理データ!$A$3:$BK$997,44,FALSE),\"\")","v":""},{"$f":"IFERROR(VLOOKUP($D196,料理データ!$A$3:$BK$997,47,FALSE),\"\")","v":""},{"$f":"IFERROR(VLOOKUP($D196,料理データ!$A$3:$BK$997,50,FALSE),\"\")","v":""},{"$f":"IFERROR(VLOOKUP($D196,料理データ!$A$3:$BK$997,53,FALSE),\"\")","v":""},{"$f":"IFERROR(VLOOKUP($D196,料理データ!$A$3:$BK$997,56,FALSE),\"\")","v":""},{"$f":"IFERROR(VLOOKUP($D196,料理データ!$A$3:$BK$997,59,FALSE),\"\")","v":""},{"$f":"IFERROR(VLOOKUP($D196,料理データ!$A$3:$BK$997,62,FALSE),\"\")","v":""},"                   ",{"$f":"SUBSTITUTE(Z196,\"-\",\" \")","v":"                   "}]
[null,null,null,{"$f":"+'月間献立（乳児）'!E20","v":0},{"$f":"IFERROR(VLOOKUP($D197,料理データ!$A$3:$BK$997,3,FALSE),\"\")","v":""},{"$f":"IFERROR(VLOOKUP($D197,料理データ!$A$3:$BK$997,5,FALSE),\"\")","v":""},{"$f":"IFERROR(VLOOKUP($D197,料理データ!$A$3:$BK$997,8,FALSE),\"\")","v":""},{"$f":"IFERROR(VLOOKUP($D197,料理データ!$A$3:$BK$997,11,FALSE),\"\")","v":""},{"$f":"IFERROR(VLOOKUP($D197,料理データ!$A$3:$BK$997,14,FALSE),\"\")","v":""},{"$f":"IFERROR(VLOOKUP($D197,料理データ!$A$3:$BK$997,17,FALSE),\"\")","v":""},{"$f":"IFERROR(VLOOKUP($D197,料理データ!$A$3:$BK$997,20,FALSE),\"\")","v":""},{"$f":"IFERROR(VLOOKUP($D197,料理データ!$A$3:$BK$997,23,FALSE),\"\")","v":""},{"$f":"IFERROR(VLOOKUP($D197,料理データ!$A$3:$BK$997,26,FALSE),\"\")","v":""},{"$f":"IFERROR(VLOOKUP($D197,料理データ!$A$3:$BK$997,29,FALSE),\"\")","v":""},{"$f":"IFERROR(VLOOKUP($D197,料理データ!$A$3:$BK$997,32,FALSE),\"\")","v":""},{"$f":"IFERROR(VLOOKUP($D197,料理データ!$A$3:$BK$997,35,FALSE),\"\")","v":""},{"$f":"IFERROR(VLOOKUP($D197,料理データ!$A$3:$BK$997,38,FALSE),\"\")","v":""},{"$f":"IFERROR(VLOOKUP($D197,料理データ!$A$3:$BK$997,41,FALSE),\"\")","v":""},{"$f":"IFERROR(VLOOKUP($D197,料理データ!$A$3:$BK$997,44,FALSE),\"\")","v":""},{"$f":"IFERROR(VLOOKUP($D197,料理データ!$A$3:$BK$997,47,FALSE),\"\")","v":""},{"$f":"IFERROR(VLOOKUP($D197,料理データ!$A$3:$BK$997,50,FALSE),\"\")","v":""},{"$f":"IFERROR(VLOOKUP($D197,料理データ!$A$3:$BK$997,53,FALSE),\"\")","v":""},{"$f":"IFERROR(VLOOKUP($D197,料理データ!$A$3:$BK$997,56,FALSE),\"\")","v":""},{"$f":"IFERROR(VLOOKUP($D197,料理データ!$A$3:$BK$997,59,FALSE),\"\")","v":""},{"$f":"IFERROR(VLOOKUP($D197,料理データ!$A$3:$BK$997,62,FALSE),\"\")","v":""},"                   ",{"$f":"SUBSTITUTE(Z197,\"-\",\" \")","v":"                   "}]
[null,null,"昼食",{"$f":"+'月間献立（乳児）'!F20","v":0},{"$f":"IFERROR(VLOOKUP($D198,料理データ!$A$3:$BK$997,3,FALSE),\"\")","v":""},{"$f":"IFERROR(VLOOKUP($D198,料理データ!$A$3:$BK$997,5,FALSE),\"\")","v":""},{"$f":"IFERROR(VLOOKUP($D198,料理データ!$A$3:$BK$997,8,FALSE),\"\")","v":""},{"$f":"IFERROR(VLOOKUP($D198,料理データ!$A$3:$BK$997,11,FALSE),\"\")","v":""},{"$f":"IFERROR(VLOOKUP($D198,料理データ!$A$3:$BK$997,14,FALSE),\"\")","v":""},{"$f":"IFERROR(VLOOKUP($D198,料理データ!$A$3:$BK$997,17,FALSE),\"\")","v":""},{"$f":"IFERROR(VLOOKUP($D198,料理データ!$A$3:$BK$997,20,FALSE),\"\")","v":""},{"$f":"IFERROR(VLOOKUP($D198,料理データ!$A$3:$BK$997,23,FALSE),\"\")","v":""},{"$f":"IFERROR(VLOOKUP($D198,料理データ!$A$3:$BK$997,26,FALSE),\"\")","v":""},{"$f":"IFERROR(VLOOKUP($D198,料理データ!$A$3:$BK$997,29,FALSE),\"\")","v":""},{"$f":"IFERROR(VLOOKUP($D198,料理データ!$A$3:$BK$997,32,FALSE),\"\")","v":""},{"$f":"IFERROR(VLOOKUP($D198,料理データ!$A$3:$BK$997,35,FALSE),\"\")","v":""},{"$f":"IFERROR(VLOOKUP($D198,料理データ!$A$3:$BK$997,38,FALSE),\"\")","v":""},{"$f":"IFERROR(VLOOKUP($D198,料理データ!$A$3:$BK$997,41,FALSE),\"\")","v":""},{"$f":"IFERROR(VLOOKUP($D198,料理データ!$A$3:$BK$997,44,FALSE),\"\")","v":""},{"$f":"IFERROR(VLOOKUP($D198,料理データ!$A$3:$BK$997,47,FALSE),\"\")","v":""},{"$f":"IFERROR(VLOOKUP($D198,料理データ!$A$3:$BK$997,50,FALSE),\"\")","v":""},{"$f":"IFERROR(VLOOKUP($D198,料理データ!$A$3:$BK$997,53,FALSE),\"\")","v":""},{"$f":"IFERROR(VLOOKUP($D198,料理データ!$A$3:$BK$997,56,FALSE),\"\")","v":""},{"$f":"IFERROR(VLOOKUP($D198,料理データ!$A$3:$BK$997,59,FALSE),\"\")","v":""},{"$f":"IFERROR(VLOOKUP($D198,料理データ!$A$3:$BK$997,62,FALSE),\"\")","v":""},"                   ","                   "]
[null,null,null,{"$f":"+'月間献立（乳児）'!G20","v":0},{"$f":"IFERROR(VLOOKUP($D199,料理データ!$A$3:$BK$997,3,FALSE),\"\")","v":""},{"$f":"IFERROR(VLOOKUP($D199,料理データ!$A$3:$BK$997,5,FALSE),\"\")","v":""},{"$f":"IFERROR(VLOOKUP($D199,料理データ!$A$3:$BK$997,8,FALSE),\"\")","v":""},{"$f":"IFERROR(VLOOKUP($D199,料理データ!$A$3:$BK$997,11,FALSE),\"\")","v":""},{"$f":"IFERROR(VLOOKUP($D199,料理データ!$A$3:$BK$997,14,FALSE),\"\")","v":""},{"$f":"IFERROR(VLOOKUP($D199,料理データ!$A$3:$BK$997,17,FALSE),\"\")","v":""},{"$f":"IFERROR(VLOOKUP($D199,料理データ!$A$3:$BK$997,20,FALSE),\"\")","v":""},{"$f":"IFERROR(VLOOKUP($D199,料理データ!$A$3:$BK$997,23,FALSE),\"\")","v":""},{"$f":"IFERROR(VLOOKUP($D199,料理データ!$A$3:$BK$997,26,FALSE),\"\")","v":""},{"$f":"IFERROR(VLOOKUP($D199,料理データ!$A$3:$BK$997,29,FALSE),\"\")","v":""},{"$f":"IFERROR(VLOOKUP($D199,料理データ!$A$3:$BK$997,32,FALSE),\"\")","v":""},{"$f":"IFERROR(VLOOKUP($D199,料理データ!$A$3:$BK$997,35,FALSE),\"\")","v":""},{"$f":"IFERROR(VLOOKUP($D199,料理データ!$A$3:$BK$997,38,FALSE),\"\")","v":""},{"$f":"IFERROR(VLOOKUP($D199,料理データ!$A$3:$BK$997,41,FALSE),\"\")","v":""},{"$f":"IFERROR(VLOOKUP($D199,料理データ!$A$3:$BK$997,44,FALSE),\"\")","v":""},{"$f":"IFERROR(VLOOKUP($D199,料理データ!$A$3:$BK$997,47,FALSE),\"\")","v":""},{"$f":"IFERROR(VLOOKUP($D199,料理データ!$A$3:$BK$997,50,FALSE),\"\")","v":""},{"$f":"IFERROR(VLOOKUP($D199,料理データ!$A$3:$BK$997,53,FALSE),\"\")","v":""},{"$f":"IFERROR(VLOOKUP($D199,料理データ!$A$3:$BK$997,56,FALSE),\"\")","v":""},{"$f":"IFERROR(VLOOKUP($D199,料理データ!$A$3:$BK$997,59,FALSE),\"\")","v":""},{"$f":"IFERROR(VLOOKUP($D199,料理データ!$A$3:$BK$997,62,FALSE),\"\")","v":""},"                   ","                   "]
[null,null,null,{"$f":"+'月間献立（乳児）'!H20","v":0},{"$f":"IFERROR(VLOOKUP($D200,料理データ!$A$3:$BK$997,3,FALSE),\"\")","v":""},{"$f":"IFERROR(VLOOKUP($D200,料理データ!$A$3:$BK$997,5,FALSE),\"\")","v":""},{"$f":"IFERROR(VLOOKUP($D200,料理データ!$A$3:$BK$997,8,FALSE),\"\")","v":""},{"$f":"IFERROR(VLOOKUP($D200,料理データ!$A$3:$BK$997,11,FALSE),\"\")","v":""},{"$f":"IFERROR(VLOOKUP($D200,料理データ!$A$3:$BK$997,14,FALSE),\"\")","v":""},{"$f":"IFERROR(VLOOKUP($D200,料理データ!$A$3:$BK$997,17,FALSE),\"\")","v":""},{"$f":"IFERROR(VLOOKUP($D200,料理データ!$A$3:$BK$997,20,FALSE),\"\")","v":""},{"$f":"IFERROR(VLOOKUP($D200,料理データ!$A$3:$BK$997,23,FALSE),\"\")","v":""},{"$f":"IFERROR(VLOOKUP($D200,料理データ!$A$3:$BK$997,26,FALSE),\"\")","v":""},{"$f":"IFERROR(VLOOKUP($D200,料理データ!$A$3:$BK$997,29,FALSE),\"\")","v":""},{"$f":"IFERROR(VLOOKUP($D200,料理データ!$A$3:$BK$997,32,FALSE),\"\")","v":""},{"$f":"IFERROR(VLOOKUP($D200,料理データ!$A$3:$BK$997,35,FALSE),\"\")","v":""},{"$f":"IFERROR(VLOOKUP($D200,料理データ!$A$3:$BK$997,38,FALSE),\"\")","v":""},{"$f":"IFERROR(VLOOKUP($D200,料理データ!$A$3:$BK$997,41,FALSE),\"\")","v":""},{"$f":"IFERROR(VLOOKUP($D200,料理データ!$A$3:$BK$997,44,FALSE),\"\")","v":""},{"$f":"IFERROR(VLOOKUP($D200,料理データ!$A$3:$BK$997,47,FALSE),\"\")","v":""},{"$f":"IFERROR(VLOOKUP($D200,料理データ!$A$3:$BK$997,50,FALSE),\"\")","v":""},{"$f":"IFERROR(VLOOKUP($D200,料理データ!$A$3:$BK$997,53,FALSE),\"\")","v":""},{"$f":"IFERROR(VLOOKUP($D200,料理データ!$A$3:$BK$997,56,FALSE),\"\")","v":""},{"$f":"IFERROR(VLOOKUP($D200,料理データ!$A$3:$BK$997,59,FALSE),\"\")","v":""},{"$f":"IFERROR(VLOOKUP($D200,料理データ!$A$3:$BK$997,62,FALSE),\"\")","v":""},"                   ","                   "]
[null,null,null,{"$f":"+'月間献立（乳児）'!I20","v":0},{"$f":"IFERROR(VLOOKUP($D201,料理データ!$A$3:$BK$997,3,FALSE),\"\")","v":""},{"$f":"IFERROR(VLOOKUP($D201,料理データ!$A$3:$BK$997,5,FALSE),\"\")","v":""},{"$f":"IFERROR(VLOOKUP($D201,料理データ!$A$3:$BK$997,8,FALSE),\"\")","v":""},{"$f":"IFERROR(VLOOKUP($D201,料理データ!$A$3:$BK$997,11,FALSE),\"\")","v":""},{"$f":"IFERROR(VLOOKUP($D201,料理データ!$A$3:$BK$997,14,FALSE),\"\")","v":""},{"$f":"IFERROR(VLOOKUP($D201,料理データ!$A$3:$BK$997,17,FALSE),\"\")","v":""},{"$f":"IFERROR(VLOOKUP($D201,料理データ!$A$3:$BK$997,20,FALSE),\"\")","v":""},{"$f":"IFERROR(VLOOKUP($D201,料理データ!$A$3:$BK$997,23,FALSE),\"\")","v":""},{"$f":"IFERROR(VLOOKUP($D201,料理データ!$A$3:$BK$997,26,FALSE),\"\")","v":""},{"$f":"IFERROR(VLOOKUP($D201,料理データ!$A$3:$BK$997,29,FALSE),\"\")","v":""},{"$f":"IFERROR(VLOOKUP($D201,料理データ!$A$3:$BK$997,32,FALSE),\"\")","v":""},{"$f":"IFERROR(VLOOKUP($D201,料理データ!$A$3:$BK$997,35,FALSE),\"\")","v":""},{"$f":"IFERROR(VLOOKUP($D201,料理データ!$A$3:$BK$997,38,FALSE),\"\")","v":""},{"$f":"IFERROR(VLOOKUP($D201,料理データ!$A$3:$BK$997,41,FALSE),\"\")","v":""},{"$f":"IFERROR(VLOOKUP($D201,料理データ!$A$3:$BK$997,44,FALSE),\"\")","v":""},{"$f":"IFERROR(VLOOKUP($D201,料理データ!$A$3:$BK$997,47,FALSE),\"\")","v":""},{"$f":"IFERROR(VLOOKUP($D201,料理データ!$A$3:$BK$997,50,FALSE),\"\")","v":""},{"$f":"IFERROR(VLOOKUP($D201,料理データ!$A$3:$BK$997,53,FALSE),\"\")","v":""},{"$f":"IFERROR(VLOOKUP($D201,料理データ!$A$3:$BK$997,56,FALSE),\"\")","v":""},{"$f":"IFERROR(VLOOKUP($D201,料理データ!$A$3:$BK$997,59,FALSE),\"\")","v":""},{"$f":"IFERROR(VLOOKUP($D201,料理データ!$A$3:$BK$997,62,FALSE),\"\")","v":""},"                   ","                   "]
[null,null,null,{"$f":"+'月間献立（乳児）'!J20","v":0},{"$f":"IFERROR(VLOOKUP($D202,料理データ!$A$3:$BK$997,3,FALSE),\"\")","v":""},{"$f":"IFERROR(VLOOKUP($D202,料理データ!$A$3:$BK$997,5,FALSE),\"\")","v":""},{"$f":"IFERROR(VLOOKUP($D202,料理データ!$A$3:$BK$997,8,FALSE),\"\")","v":""},{"$f":"IFERROR(VLOOKUP($D202,料理データ!$A$3:$BK$997,11,FALSE),\"\")","v":""},{"$f":"IFERROR(VLOOKUP($D202,料理データ!$A$3:$BK$997,14,FALSE),\"\")","v":""},{"$f":"IFERROR(VLOOKUP($D202,料理データ!$A$3:$BK$997,17,FALSE),\"\")","v":""},{"$f":"IFERROR(VLOOKUP($D202,料理データ!$A$3:$BK$997,20,FALSE),\"\")","v":""},{"$f":"IFERROR(VLOOKUP($D202,料理データ!$A$3:$BK$997,23,FALSE),\"\")","v":""},{"$f":"IFERROR(VLOOKUP($D202,料理データ!$A$3:$BK$997,26,FALSE),\"\")","v":""},{"$f":"IFERROR(VLOOKUP($D202,料理データ!$A$3:$BK$997,29,FALSE),\"\")","v":""},{"$f":"IFERROR(VLOOKUP($D202,料理データ!$A$3:$BK$997,32,FALSE),\"\")","v":""},{"$f":"IFERROR(VLOOKUP($D202,料理データ!$A$3:$BK$997,35,FALSE),\"\")","v":""},{"$f":"IFERROR(VLOOKUP($D202,料理データ!$A$3:$BK$997,38,FALSE),\"\")","v":""},{"$f":"IFERROR(VLOOKUP($D202,料理データ!$A$3:$BK$997,41,FALSE),\"\")","v":""},{"$f":"IFERROR(VLOOKUP($D202,料理データ!$A$3:$BK$997,44,FALSE),\"\")","v":""},{"$f":"IFERROR(VLOOKUP($D202,料理データ!$A$3:$BK$997,47,FALSE),\"\")","v":""},{"$f":"IFERROR(VLOOKUP($D202,料理データ!$A$3:$BK$997,50,FALSE),\"\")","v":""},{"$f":"IFERROR(VLOOKUP($D202,料理データ!$A$3:$BK$997,53,FALSE),\"\")","v":""},{"$f":"IFERROR(VLOOKUP($D202,料理データ!$A$3:$BK$997,56,FALSE),\"\")","v":""},{"$f":"IFERROR(VLOOKUP($D202,料理データ!$A$3:$BK$997,59,FALSE),\"\")","v":""},{"$f":"IFERROR(VLOOKUP($D202,料理データ!$A$3:$BK$997,62,FALSE),\"\")","v":""},{"$f":"CONCATENATE($F202,\" \",$G202,\" \",$H202,\" \",$I202,\" \",$J202,\" \",$K202,\" \",$L202,\" \",$M202,\" \",$N202,\" \",$O202,\" \",$P202,\" \",$Q202,\" \",$R202,\" \",$S202,\" \",$T202,\" \",$U202,\" \",$V202,\" \",$W202,\" \",$X202,\" \",$Y202)","v":"                   "},"                   "]
[null,null,null,{"$f":"+'月間献立（乳児）'!K20","v":0},{"$f":"IFERROR(VLOOKUP($D203,料理データ!$A$3:$BK$997,3,FALSE),\"\")","v":""},{"$f":"IFERROR(VLOOKUP($D203,料理データ!$A$3:$BK$997,5,FALSE),\"\")","v":""},{"$f":"IFERROR(VLOOKUP($D203,料理データ!$A$3:$BK$997,8,FALSE),\"\")","v":""},{"$f":"IFERROR(VLOOKUP($D203,料理データ!$A$3:$BK$997,11,FALSE),\"\")","v":""},{"$f":"IFERROR(VLOOKUP($D203,料理データ!$A$3:$BK$997,14,FALSE),\"\")","v":""},{"$f":"IFERROR(VLOOKUP($D203,料理データ!$A$3:$BK$997,17,FALSE),\"\")","v":""},{"$f":"IFERROR(VLOOKUP($D203,料理データ!$A$3:$BK$997,20,FALSE),\"\")","v":""},{"$f":"IFERROR(VLOOKUP($D203,料理データ!$A$3:$BK$997,23,FALSE),\"\")","v":""},{"$f":"IFERROR(VLOOKUP($D203,料理データ!$A$3:$BK$997,26,FALSE),\"\")","v":""},{"$f":"IFERROR(VLOOKUP($D203,料理データ!$A$3:$BK$997,29,FALSE),\"\")","v":""},{"$f":"IFERROR(VLOOKUP($D203,料理データ!$A$3:$BK$997,32,FALSE),\"\")","v":""},{"$f":"IFERROR(VLOOKUP($D203,料理データ!$A$3:$BK$997,35,FALSE),\"\")","v":""},{"$f":"IFERROR(VLOOKUP($D203,料理データ!$A$3:$BK$997,38,FALSE),\"\")","v":""},{"$f":"IFERROR(VLOOKUP($D203,料理データ!$A$3:$BK$997,41,FALSE),\"\")","v":""},{"$f":"IFERROR(VLOOKUP($D203,料理データ!$A$3:$BK$997,44,FALSE),\"\")","v":""},{"$f":"IFERROR(VLOOKUP($D203,料理データ!$A$3:$BK$997,47,FALSE),\"\")","v":""},{"$f":"IFERROR(VLOOKUP($D203,料理データ!$A$3:$BK$997,50,FALSE),\"\")","v":""},{"$f":"IFERROR(VLOOKUP($D203,料理データ!$A$3:$BK$997,53,FALSE),\"\")","v":""},{"$f":"IFERROR(VLOOKUP($D203,料理データ!$A$3:$BK$997,56,FALSE),\"\")","v":""},{"$f":"IFERROR(VLOOKUP($D203,料理データ!$A$3:$BK$997,59,FALSE),\"\")","v":""},{"$f":"IFERROR(VLOOKUP($D203,料理データ!$A$3:$BK$997,62,FALSE),\"\")","v":""},"                   ","                   "]
[null,null,"午後おやつ",{"$f":"+'月間献立（乳児）'!L20","v":0},{"$f":"IFERROR(VLOOKUP($D204,料理データ!$A$3:$BK$997,3,FALSE),\"\")","v":""},{"$f":"IFERROR(VLOOKUP($D204,料理データ!$A$3:$BK$997,5,FALSE),\"\")","v":""},{"$f":"IFERROR(VLOOKUP($D204,料理データ!$A$3:$BK$997,8,FALSE),\"\")","v":""},{"$f":"IFERROR(VLOOKUP($D204,料理データ!$A$3:$BK$997,11,FALSE),\"\")","v":""},{"$f":"IFERROR(VLOOKUP($D204,料理データ!$A$3:$BK$997,14,FALSE),\"\")","v":""},{"$f":"IFERROR(VLOOKUP($D204,料理データ!$A$3:$BK$997,17,FALSE),\"\")","v":""},{"$f":"IFERROR(VLOOKUP($D204,料理データ!$A$3:$BK$997,20,FALSE),\"\")","v":""},{"$f":"IFERROR(VLOOKUP($D204,料理データ!$A$3:$BK$997,23,FALSE),\"\")","v":""},{"$f":"IFERROR(VLOOKUP($D204,料理データ!$A$3:$BK$997,26,FALSE),\"\")","v":""},{"$f":"IFERROR(VLOOKUP($D204,料理データ!$A$3:$BK$997,29,FALSE),\"\")","v":""},{"$f":"IFERROR(VLOOKUP($D204,料理データ!$A$3:$BK$997,32,FALSE),\"\")","v":""},{"$f":"IFERROR(VLOOKUP($D204,料理データ!$A$3:$BK$997,35,FALSE),\"\")","v":""},{"$f":"IFERROR(VLOOKUP($D204,料理データ!$A$3:$BK$997,38,FALSE),\"\")","v":""},{"$f":"IFERROR(VLOOKUP($D204,料理データ!$A$3:$BK$997,41,FALSE),\"\")","v":""},{"$f":"IFERROR(VLOOKUP($D204,料理データ!$A$3:$BK$997,44,FALSE),\"\")","v":""},{"$f":"IFERROR(VLOOKUP($D204,料理データ!$A$3:$BK$997,47,FALSE),\"\")","v":""},{"$f":"IFERROR(VLOOKUP($D204,料理データ!$A$3:$BK$997,50,FALSE),\"\")","v":""},{"$f":"IFERROR(VLOOKUP($D204,料理データ!$A$3:$BK$997,53,FALSE),\"\")","v":""},{"$f":"IFERROR(VLOOKUP($D204,料理データ!$A$3:$BK$997,56,FALSE),\"\")","v":""},{"$f":"IFERROR(VLOOKUP($D204,料理データ!$A$3:$BK$997,59,FALSE),\"\")","v":""},{"$f":"IFERROR(VLOOKUP($D204,料理データ!$A$3:$BK$997,62,FALSE),\"\")","v":""},"                   ","                   "]
[null,null,null,{"$f":"+'月間献立（乳児）'!M20","v":0},{"$f":"IFERROR(VLOOKUP($D205,料理データ!$A$3:$BK$997,3,FALSE),\"\")","v":""},{"$f":"IFERROR(VLOOKUP($D205,料理データ!$A$3:$BK$997,5,FALSE),\"\")","v":""},{"$f":"IFERROR(VLOOKUP($D205,料理データ!$A$3:$BK$997,8,FALSE),\"\")","v":""},{"$f":"IFERROR(VLOOKUP($D205,料理データ!$A$3:$BK$997,11,FALSE),\"\")","v":""},{"$f":"IFERROR(VLOOKUP($D205,料理データ!$A$3:$BK$997,14,FALSE),\"\")","v":""},{"$f":"IFERROR(VLOOKUP($D205,料理データ!$A$3:$BK$997,17,FALSE),\"\")","v":""},{"$f":"IFERROR(VLOOKUP($D205,料理データ!$A$3:$BK$997,20,FALSE),\"\")","v":""},{"$f":"IFERROR(VLOOKUP($D205,料理データ!$A$3:$BK$997,23,FALSE),\"\")","v":""},{"$f":"IFERROR(VLOOKUP($D205,料理データ!$A$3:$BK$997,26,FALSE),\"\")","v":""},{"$f":"IFERROR(VLOOKUP($D205,料理データ!$A$3:$BK$997,29,FALSE),\"\")","v":""},{"$f":"IFERROR(VLOOKUP($D205,料理データ!$A$3:$BK$997,32,FALSE),\"\")","v":""},{"$f":"IFERROR(VLOOKUP($D205,料理データ!$A$3:$BK$997,35,FALSE),\"\")","v":""},{"$f":"IFERROR(VLOOKUP($D205,料理データ!$A$3:$BK$997,38,FALSE),\"\")","v":""},{"$f":"IFERROR(VLOOKUP($D205,料理データ!$A$3:$BK$997,41,FALSE),\"\")","v":""},{"$f":"IFERROR(VLOOKUP($D205,料理データ!$A$3:$BK$997,44,FALSE),\"\")","v":""},{"$f":"IFERROR(VLOOKUP($D205,料理データ!$A$3:$BK$997,47,FALSE),\"\")","v":""},{"$f":"IFERROR(VLOOKUP($D205,料理データ!$A$3:$BK$997,50,FALSE),\"\")","v":""},{"$f":"IFERROR(VLOOKUP($D205,料理データ!$A$3:$BK$997,53,FALSE),\"\")","v":""},{"$f":"IFERROR(VLOOKUP($D205,料理データ!$A$3:$BK$997,56,FALSE),\"\")","v":""},{"$f":"IFERROR(VLOOKUP($D205,料理データ!$A$3:$BK$997,59,FALSE),\"\")","v":""},{"$f":"IFERROR(VLOOKUP($D205,料理データ!$A$3:$BK$997,62,FALSE),\"\")","v":""},"                   ","                   "]
[null,null,null,{"$f":"+'月間献立（乳児）'!N20","v":0},{"$f":"IFERROR(VLOOKUP($D206,料理データ!$A$3:$BK$997,3,FALSE),\"\")","v":""},{"$f":"IFERROR(VLOOKUP($D206,料理データ!$A$3:$BK$997,5,FALSE),\"\")","v":""},{"$f":"IFERROR(VLOOKUP($D206,料理データ!$A$3:$BK$997,8,FALSE),\"\")","v":""},{"$f":"IFERROR(VLOOKUP($D206,料理データ!$A$3:$BK$997,11,FALSE),\"\")","v":""},{"$f":"IFERROR(VLOOKUP($D206,料理データ!$A$3:$BK$997,14,FALSE),\"\")","v":""},{"$f":"IFERROR(VLOOKUP($D206,料理データ!$A$3:$BK$997,17,FALSE),\"\")","v":""},{"$f":"IFERROR(VLOOKUP($D206,料理データ!$A$3:$BK$997,20,FALSE),\"\")","v":""},{"$f":"IFERROR(VLOOKUP($D206,料理データ!$A$3:$BK$997,23,FALSE),\"\")","v":""},{"$f":"IFERROR(VLOOKUP($D206,料理データ!$A$3:$BK$997,26,FALSE),\"\")","v":""},{"$f":"IFERROR(VLOOKUP($D206,料理データ!$A$3:$BK$997,29,FALSE),\"\")","v":""},{"$f":"IFERROR(VLOOKUP($D206,料理データ!$A$3:$BK$997,32,FALSE),\"\")","v":""},{"$f":"IFERROR(VLOOKUP($D206,料理データ!$A$3:$BK$997,35,FALSE),\"\")","v":""},{"$f":"IFERROR(VLOOKUP($D206,料理データ!$A$3:$BK$997,38,FALSE),\"\")","v":""},{"$f":"IFERROR(VLOOKUP($D206,料理データ!$A$3:$BK$997,41,FALSE),\"\")","v":""},{"$f":"IFERROR(VLOOKUP($D206,料理データ!$A$3:$BK$997,44,FALSE),\"\")","v":""},{"$f":"IFERROR(VLOOKUP($D206,料理データ!$A$3:$BK$997,47,FALSE),\"\")","v":""},{"$f":"IFERROR(VLOOKUP($D206,料理データ!$A$3:$BK$997,50,FALSE),\"\")","v":""},{"$f":"IFERROR(VLOOKUP($D206,料理データ!$A$3:$BK$997,53,FALSE),\"\")","v":""},{"$f":"IFERROR(VLOOKUP($D206,料理データ!$A$3:$BK$997,56,FALSE),\"\")","v":""},{"$f":"IFERROR(VLOOKUP($D206,料理データ!$A$3:$BK$997,59,FALSE),\"\")","v":""},{"$f":"IFERROR(VLOOKUP($D206,料理データ!$A$3:$BK$997,62,FALSE),\"\")","v":""},"                   ",{"$f":"SUBSTITUTE(Z206,\"-\",\"\")","v":"                   "}]
[{"$f":"+'月間献立（幼児）'!A22","v":18},{"$f":"+'月間献立（幼児）'!B22","v":"(火)"},"午前おやつ",{"$f":"+'月間献立（乳児）'!C21","v":0},{"$f":"IFERROR(VLOOKUP($D207,料理データ!$A$3:$BK$997,3,FALSE),\"\")","v":""},{"$f":"IFERROR(VLOOKUP($D207,料理データ!$A$3:$BK$997,5,FALSE),\"\")","v":""},{"$f":"IFERROR(VLOOKUP($D207,料理データ!$A$3:$BK$997,8,FALSE),\"\")","v":""},{"$f":"IFERROR(VLOOKUP($D207,料理データ!$A$3:$BK$997,11,FALSE),\"\")","v":""},{"$f":"IFERROR(VLOOKUP($D207,料理データ!$A$3:$BK$997,14,FALSE),\"\")","v":""},{"$f":"IFERROR(VLOOKUP($D207,料理データ!$A$3:$BK$997,17,FALSE),\"\")","v":""},{"$f":"IFERROR(VLOOKUP($D207,料理データ!$A$3:$BK$997,20,FALSE),\"\")","v":""},{"$f":"IFERROR(VLOOKUP($D207,料理データ!$A$3:$BK$997,23,FALSE),\"\")","v":""},{"$f":"IFERROR(VLOOKUP($D207,料理データ!$A$3:$BK$997,26,FALSE),\"\")","v":""},{"$f":"IFERROR(VLOOKUP($D207,料理データ!$A$3:$BK$997,29,FALSE),\"\")","v":""},{"$f":"IFERROR(VLOOKUP($D207,料理データ!$A$3:$BK$997,32,FALSE),\"\")","v":""},{"$f":"IFERROR(VLOOKUP($D207,料理データ!$A$3:$BK$997,35,FALSE),\"\")","v":""},{"$f":"IFERROR(VLOOKUP($D207,料理データ!$A$3:$BK$997,38,FALSE),\"\")","v":""},{"$f":"IFERROR(VLOOKUP($D207,料理データ!$A$3:$BK$997,41,FALSE),\"\")","v":""},{"$f":"IFERROR(VLOOKUP($D207,料理データ!$A$3:$BK$997,44,FALSE),\"\")","v":""},{"$f":"IFERROR(VLOOKUP($D207,料理データ!$A$3:$BK$997,47,FALSE),\"\")","v":""},{"$f":"IFERROR(VLOOKUP($D207,料理データ!$A$3:$BK$997,50,FALSE),\"\")","v":""},{"$f":"IFERROR(VLOOKUP($D207,料理データ!$A$3:$BK$997,53,FALSE),\"\")","v":""},{"$f":"IFERROR(VLOOKUP($D207,料理データ!$A$3:$BK$997,56,FALSE),\"\")","v":""},{"$f":"IFERROR(VLOOKUP($D207,料理データ!$A$3:$BK$997,59,FALSE),\"\")","v":""},{"$f":"IFERROR(VLOOKUP($D207,料理データ!$A$3:$BK$997,62,FALSE),\"\")","v":""},"                   ",{"$f":"SUBSTITUTE(Z207,\"-\",\" \")","v":"                   "},{"$f":"TRIM(CONCATENATE(AA207,AA208,AA209,\"▲\",AA210,AA211,AA212,AA213,AA214,AA215,\"▲\",AA216,AA217,AA218))","v":"▲ ▲"}]
[null,null,null,{"$f":"+'月間献立（乳児）'!D21","v":0},{"$f":"IFERROR(VLOOKUP($D208,料理データ!$A$3:$BK$997,3,FALSE),\"\")","v":""},{"$f":"IFERROR(VLOOKUP($D208,料理データ!$A$3:$BK$997,5,FALSE),\"\")","v":""},{"$f":"IFERROR(VLOOKUP($D208,料理データ!$A$3:$BK$997,8,FALSE),\"\")","v":""},{"$f":"IFERROR(VLOOKUP($D208,料理データ!$A$3:$BK$997,11,FALSE),\"\")","v":""},{"$f":"IFERROR(VLOOKUP($D208,料理データ!$A$3:$BK$997,14,FALSE),\"\")","v":""},{"$f":"IFERROR(VLOOKUP($D208,料理データ!$A$3:$BK$997,17,FALSE),\"\")","v":""},{"$f":"IFERROR(VLOOKUP($D208,料理データ!$A$3:$BK$997,20,FALSE),\"\")","v":""},{"$f":"IFERROR(VLOOKUP($D208,料理データ!$A$3:$BK$997,23,FALSE),\"\")","v":""},{"$f":"IFERROR(VLOOKUP($D208,料理データ!$A$3:$BK$997,26,FALSE),\"\")","v":""},{"$f":"IFERROR(VLOOKUP($D208,料理データ!$A$3:$BK$997,29,FALSE),\"\")","v":""},{"$f":"IFERROR(VLOOKUP($D208,料理データ!$A$3:$BK$997,32,FALSE),\"\")","v":""},{"$f":"IFERROR(VLOOKUP($D208,料理データ!$A$3:$BK$997,35,FALSE),\"\")","v":""},{"$f":"IFERROR(VLOOKUP($D208,料理データ!$A$3:$BK$997,38,FALSE),\"\")","v":""},{"$f":"IFERROR(VLOOKUP($D208,料理データ!$A$3:$BK$997,41,FALSE),\"\")","v":""},{"$f":"IFERROR(VLOOKUP($D208,料理データ!$A$3:$BK$997,44,FALSE),\"\")","v":""},{"$f":"IFERROR(VLOOKUP($D208,料理データ!$A$3:$BK$997,47,FALSE),\"\")","v":""},{"$f":"IFERROR(VLOOKUP($D208,料理データ!$A$3:$BK$997,50,FALSE),\"\")","v":""},{"$f":"IFERROR(VLOOKUP($D208,料理データ!$A$3:$BK$997,53,FALSE),\"\")","v":""},{"$f":"IFERROR(VLOOKUP($D208,料理データ!$A$3:$BK$997,56,FALSE),\"\")","v":""},{"$f":"IFERROR(VLOOKUP($D208,料理データ!$A$3:$BK$997,59,FALSE),\"\")","v":""},{"$f":"IFERROR(VLOOKUP($D208,料理データ!$A$3:$BK$997,62,FALSE),\"\")","v":""},"                   ",{"$f":"SUBSTITUTE(Z208,\"-\",\" \")","v":"                   "}]
[null,null,null,{"$f":"+'月間献立（乳児）'!E21","v":0},{"$f":"IFERROR(VLOOKUP($D209,料理データ!$A$3:$BK$997,3,FALSE),\"\")","v":""},{"$f":"IFERROR(VLOOKUP($D209,料理データ!$A$3:$BK$997,5,FALSE),\"\")","v":""},{"$f":"IFERROR(VLOOKUP($D209,料理データ!$A$3:$BK$997,8,FALSE),\"\")","v":""},{"$f":"IFERROR(VLOOKUP($D209,料理データ!$A$3:$BK$997,11,FALSE),\"\")","v":""},{"$f":"IFERROR(VLOOKUP($D209,料理データ!$A$3:$BK$997,14,FALSE),\"\")","v":""},{"$f":"IFERROR(VLOOKUP($D209,料理データ!$A$3:$BK$997,17,FALSE),\"\")","v":""},{"$f":"IFERROR(VLOOKUP($D209,料理データ!$A$3:$BK$997,20,FALSE),\"\")","v":""},{"$f":"IFERROR(VLOOKUP($D209,料理データ!$A$3:$BK$997,23,FALSE),\"\")","v":""},{"$f":"IFERROR(VLOOKUP($D209,料理データ!$A$3:$BK$997,26,FALSE),\"\")","v":""},{"$f":"IFERROR(VLOOKUP($D209,料理データ!$A$3:$BK$997,29,FALSE),\"\")","v":""},{"$f":"IFERROR(VLOOKUP($D209,料理データ!$A$3:$BK$997,32,FALSE),\"\")","v":""},{"$f":"IFERROR(VLOOKUP($D209,料理データ!$A$3:$BK$997,35,FALSE),\"\")","v":""},{"$f":"IFERROR(VLOOKUP($D209,料理データ!$A$3:$BK$997,38,FALSE),\"\")","v":""},{"$f":"IFERROR(VLOOKUP($D209,料理データ!$A$3:$BK$997,41,FALSE),\"\")","v":""},{"$f":"IFERROR(VLOOKUP($D209,料理データ!$A$3:$BK$997,44,FALSE),\"\")","v":""},{"$f":"IFERROR(VLOOKUP($D209,料理データ!$A$3:$BK$997,47,FALSE),\"\")","v":""},{"$f":"IFERROR(VLOOKUP($D209,料理データ!$A$3:$BK$997,50,FALSE),\"\")","v":""},{"$f":"IFERROR(VLOOKUP($D209,料理データ!$A$3:$BK$997,53,FALSE),\"\")","v":""},{"$f":"IFERROR(VLOOKUP($D209,料理データ!$A$3:$BK$997,56,FALSE),\"\")","v":""},{"$f":"IFERROR(VLOOKUP($D209,料理データ!$A$3:$BK$997,59,FALSE),\"\")","v":""},{"$f":"IFERROR(VLOOKUP($D209,料理データ!$A$3:$BK$997,62,FALSE),\"\")","v":""},"                   ",{"$f":"SUBSTITUTE(Z209,\"-\",\" \")","v":"                   "}]
[null,null,"昼食",{"$f":"+'月間献立（乳児）'!F21","v":0},{"$f":"IFERROR(VLOOKUP($D210,料理データ!$A$3:$BK$997,3,FALSE),\"\")","v":""},{"$f":"IFERROR(VLOOKUP($D210,料理データ!$A$3:$BK$997,5,FALSE),\"\")","v":""},{"$f":"IFERROR(VLOOKUP($D210,料理データ!$A$3:$BK$997,8,FALSE),\"\")","v":""},{"$f":"IFERROR(VLOOKUP($D210,料理データ!$A$3:$BK$997,11,FALSE),\"\")","v":""},{"$f":"IFERROR(VLOOKUP($D210,料理データ!$A$3:$BK$997,14,FALSE),\"\")","v":""},{"$f":"IFERROR(VLOOKUP($D210,料理データ!$A$3:$BK$997,17,FALSE),\"\")","v":""},{"$f":"IFERROR(VLOOKUP($D210,料理データ!$A$3:$BK$997,20,FALSE),\"\")","v":""},{"$f":"IFERROR(VLOOKUP($D210,料理データ!$A$3:$BK$997,23,FALSE),\"\")","v":""},{"$f":"IFERROR(VLOOKUP($D210,料理データ!$A$3:$BK$997,26,FALSE),\"\")","v":""},{"$f":"IFERROR(VLOOKUP($D210,料理データ!$A$3:$BK$997,29,FALSE),\"\")","v":""},{"$f":"IFERROR(VLOOKUP($D210,料理データ!$A$3:$BK$997,32,FALSE),\"\")","v":""},{"$f":"IFERROR(VLOOKUP($D210,料理データ!$A$3:$BK$997,35,FALSE),\"\")","v":""},{"$f":"IFERROR(VLOOKUP($D210,料理データ!$A$3:$BK$997,38,FALSE),\"\")","v":""},{"$f":"IFERROR(VLOOKUP($D210,料理データ!$A$3:$BK$997,41,FALSE),\"\")","v":""},{"$f":"IFERROR(VLOOKUP($D210,料理データ!$A$3:$BK$997,44,FALSE),\"\")","v":""},{"$f":"IFERROR(VLOOKUP($D210,料理データ!$A$3:$BK$997,47,FALSE),\"\")","v":""},{"$f":"IFERROR(VLOOKUP($D210,料理データ!$A$3:$BK$997,50,FALSE),\"\")","v":""},{"$f":"IFERROR(VLOOKUP($D210,料理データ!$A$3:$BK$997,53,FALSE),\"\")","v":""},{"$f":"IFERROR(VLOOKUP($D210,料理データ!$A$3:$BK$997,56,FALSE),\"\")","v":""},{"$f":"IFERROR(VLOOKUP($D210,料理データ!$A$3:$BK$997,59,FALSE),\"\")","v":""},{"$f":"IFERROR(VLOOKUP($D210,料理データ!$A$3:$BK$997,62,FALSE),\"\")","v":""},"                   ","                   "]
[null,null,null,{"$f":"+'月間献立（乳児）'!G21","v":0},{"$f":"IFERROR(VLOOKUP($D211,料理データ!$A$3:$BK$997,3,FALSE),\"\")","v":""},{"$f":"IFERROR(VLOOKUP($D211,料理データ!$A$3:$BK$997,5,FALSE),\"\")","v":""},{"$f":"IFERROR(VLOOKUP($D211,料理データ!$A$3:$BK$997,8,FALSE),\"\")","v":""},{"$f":"IFERROR(VLOOKUP($D211,料理データ!$A$3:$BK$997,11,FALSE),\"\")","v":""},{"$f":"IFERROR(VLOOKUP($D211,料理データ!$A$3:$BK$997,14,FALSE),\"\")","v":""},{"$f":"IFERROR(VLOOKUP($D211,料理データ!$A$3:$BK$997,17,FALSE),\"\")","v":""},{"$f":"IFERROR(VLOOKUP($D211,料理データ!$A$3:$BK$997,20,FALSE),\"\")","v":""},{"$f":"IFERROR(VLOOKUP($D211,料理データ!$A$3:$BK$997,23,FALSE),\"\")","v":""},{"$f":"IFERROR(VLOOKUP($D211,料理データ!$A$3:$BK$997,26,FALSE),\"\")","v":""},{"$f":"IFERROR(VLOOKUP($D211,料理データ!$A$3:$BK$997,29,FALSE),\"\")","v":""},{"$f":"IFERROR(VLOOKUP($D211,料理データ!$A$3:$BK$997,32,FALSE),\"\")","v":""},{"$f":"IFERROR(VLOOKUP($D211,料理データ!$A$3:$BK$997,35,FALSE),\"\")","v":""},{"$f":"IFERROR(VLOOKUP($D211,料理データ!$A$3:$BK$997,38,FALSE),\"\")","v":""},{"$f":"IFERROR(VLOOKUP($D211,料理データ!$A$3:$BK$997,41,FALSE),\"\")","v":""},{"$f":"IFERROR(VLOOKUP($D211,料理データ!$A$3:$BK$997,44,FALSE),\"\")","v":""},{"$f":"IFERROR(VLOOKUP($D211,料理データ!$A$3:$BK$997,47,FALSE),\"\")","v":""},{"$f":"IFERROR(VLOOKUP($D211,料理データ!$A$3:$BK$997,50,FALSE),\"\")","v":""},{"$f":"IFERROR(VLOOKUP($D211,料理データ!$A$3:$BK$997,53,FALSE),\"\")","v":""},{"$f":"IFERROR(VLOOKUP($D211,料理データ!$A$3:$BK$997,56,FALSE),\"\")","v":""},{"$f":"IFERROR(VLOOKUP($D211,料理データ!$A$3:$BK$997,59,FALSE),\"\")","v":""},{"$f":"IFERROR(VLOOKUP($D211,料理データ!$A$3:$BK$997,62,FALSE),\"\")","v":""},"                   ","                   "]
[null,null,null,{"$f":"+'月間献立（乳児）'!H21","v":0},{"$f":"IFERROR(VLOOKUP($D212,料理データ!$A$3:$BK$997,3,FALSE),\"\")","v":""},{"$f":"IFERROR(VLOOKUP($D212,料理データ!$A$3:$BK$997,5,FALSE),\"\")","v":""},{"$f":"IFERROR(VLOOKUP($D212,料理データ!$A$3:$BK$997,8,FALSE),\"\")","v":""},{"$f":"IFERROR(VLOOKUP($D212,料理データ!$A$3:$BK$997,11,FALSE),\"\")","v":""},{"$f":"IFERROR(VLOOKUP($D212,料理データ!$A$3:$BK$997,14,FALSE),\"\")","v":""},{"$f":"IFERROR(VLOOKUP($D212,料理データ!$A$3:$BK$997,17,FALSE),\"\")","v":""},{"$f":"IFERROR(VLOOKUP($D212,料理データ!$A$3:$BK$997,20,FALSE),\"\")","v":""},{"$f":"IFERROR(VLOOKUP($D212,料理データ!$A$3:$BK$997,23,FALSE),\"\")","v":""},{"$f":"IFERROR(VLOOKUP($D212,料理データ!$A$3:$BK$997,26,FALSE),\"\")","v":""},{"$f":"IFERROR(VLOOKUP($D212,料理データ!$A$3:$BK$997,29,FALSE),\"\")","v":""},{"$f":"IFERROR(VLOOKUP($D212,料理データ!$A$3:$BK$997,32,FALSE),\"\")","v":""},{"$f":"IFERROR(VLOOKUP($D212,料理データ!$A$3:$BK$997,35,FALSE),\"\")","v":""},{"$f":"IFERROR(VLOOKUP($D212,料理データ!$A$3:$BK$997,38,FALSE),\"\")","v":""},{"$f":"IFERROR(VLOOKUP($D212,料理データ!$A$3:$BK$997,41,FALSE),\"\")","v":""},{"$f":"IFERROR(VLOOKUP($D212,料理データ!$A$3:$BK$997,44,FALSE),\"\")","v":""},{"$f":"IFERROR(VLOOKUP($D212,料理データ!$A$3:$BK$997,47,FALSE),\"\")","v":""},{"$f":"IFERROR(VLOOKUP($D212,料理データ!$A$3:$BK$997,50,FALSE),\"\")","v":""},{"$f":"IFERROR(VLOOKUP($D212,料理データ!$A$3:$BK$997,53,FALSE),\"\")","v":""},{"$f":"IFERROR(VLOOKUP($D212,料理データ!$A$3:$BK$997,56,FALSE),\"\")","v":""},{"$f":"IFERROR(VLOOKUP($D212,料理データ!$A$3:$BK$997,59,FALSE),\"\")","v":""},{"$f":"IFERROR(VLOOKUP($D212,料理データ!$A$3:$BK$997,62,FALSE),\"\")","v":""},"                   ","                   "]
[null,null,null,{"$f":"+'月間献立（乳児）'!I21","v":0},{"$f":"IFERROR(VLOOKUP($D213,料理データ!$A$3:$BK$997,3,FALSE),\"\")","v":""},{"$f":"IFERROR(VLOOKUP($D213,料理データ!$A$3:$BK$997,5,FALSE),\"\")","v":""},{"$f":"IFERROR(VLOOKUP($D213,料理データ!$A$3:$BK$997,8,FALSE),\"\")","v":""},{"$f":"IFERROR(VLOOKUP($D213,料理データ!$A$3:$BK$997,11,FALSE),\"\")","v":""},{"$f":"IFERROR(VLOOKUP($D213,料理データ!$A$3:$BK$997,14,FALSE),\"\")","v":""},{"$f":"IFERROR(VLOOKUP($D213,料理データ!$A$3:$BK$997,17,FALSE),\"\")","v":""},{"$f":"IFERROR(VLOOKUP($D213,料理データ!$A$3:$BK$997,20,FALSE),\"\")","v":""},{"$f":"IFERROR(VLOOKUP($D213,料理データ!$A$3:$BK$997,23,FALSE),\"\")","v":""},{"$f":"IFERROR(VLOOKUP($D213,料理データ!$A$3:$BK$997,26,FALSE),\"\")","v":""},{"$f":"IFERROR(VLOOKUP($D213,料理データ!$A$3:$BK$997,29,FALSE),\"\")","v":""},{"$f":"IFERROR(VLOOKUP($D213,料理データ!$A$3:$BK$997,32,FALSE),\"\")","v":""},{"$f":"IFERROR(VLOOKUP($D213,料理データ!$A$3:$BK$997,35,FALSE),\"\")","v":""},{"$f":"IFERROR(VLOOKUP($D213,料理データ!$A$3:$BK$997,38,FALSE),\"\")","v":""},{"$f":"IFERROR(VLOOKUP($D213,料理データ!$A$3:$BK$997,41,FALSE),\"\")","v":""},{"$f":"IFERROR(VLOOKUP($D213,料理データ!$A$3:$BK$997,44,FALSE),\"\")","v":""},{"$f":"IFERROR(VLOOKUP($D213,料理データ!$A$3:$BK$997,47,FALSE),\"\")","v":""},{"$f":"IFERROR(VLOOKUP($D213,料理データ!$A$3:$BK$997,50,FALSE),\"\")","v":""},{"$f":"IFERROR(VLOOKUP($D213,料理データ!$A$3:$BK$997,53,FALSE),\"\")","v":""},{"$f":"IFERROR(VLOOKUP($D213,料理データ!$A$3:$BK$997,56,FALSE),\"\")","v":""},{"$f":"IFERROR(VLOOKUP($D213,料理データ!$A$3:$BK$997,59,FALSE),\"\")","v":""},{"$f":"IFERROR(VLOOKUP($D213,料理データ!$A$3:$BK$997,62,FALSE),\"\")","v":""},"                   ","                   "]
[null,null,null,{"$f":"+'月間献立（乳児）'!J21","v":0},{"$f":"IFERROR(VLOOKUP($D214,料理データ!$A$3:$BK$997,3,FALSE),\"\")","v":""},{"$f":"IFERROR(VLOOKUP($D214,料理データ!$A$3:$BK$997,5,FALSE),\"\")","v":""},{"$f":"IFERROR(VLOOKUP($D214,料理データ!$A$3:$BK$997,8,FALSE),\"\")","v":""},{"$f":"IFERROR(VLOOKUP($D214,料理データ!$A$3:$BK$997,11,FALSE),\"\")","v":""},{"$f":"IFERROR(VLOOKUP($D214,料理データ!$A$3:$BK$997,14,FALSE),\"\")","v":""},{"$f":"IFERROR(VLOOKUP($D214,料理データ!$A$3:$BK$997,17,FALSE),\"\")","v":""},{"$f":"IFERROR(VLOOKUP($D214,料理データ!$A$3:$BK$997,20,FALSE),\"\")","v":""},{"$f":"IFERROR(VLOOKUP($D214,料理データ!$A$3:$BK$997,23,FALSE),\"\")","v":""},{"$f":"IFERROR(VLOOKUP($D214,料理データ!$A$3:$BK$997,26,FALSE),\"\")","v":""},{"$f":"IFERROR(VLOOKUP($D214,料理データ!$A$3:$BK$997,29,FALSE),\"\")","v":""},{"$f":"IFERROR(VLOOKUP($D214,料理データ!$A$3:$BK$997,32,FALSE),\"\")","v":""},{"$f":"IFERROR(VLOOKUP($D214,料理データ!$A$3:$BK$997,35,FALSE),\"\")","v":""},{"$f":"IFERROR(VLOOKUP($D214,料理データ!$A$3:$BK$997,38,FALSE),\"\")","v":""},{"$f":"IFERROR(VLOOKUP($D214,料理データ!$A$3:$BK$997,41,FALSE),\"\")","v":""},{"$f":"IFERROR(VLOOKUP($D214,料理データ!$A$3:$BK$997,44,FALSE),\"\")","v":""},{"$f":"IFERROR(VLOOKUP($D214,料理データ!$A$3:$BK$997,47,FALSE),\"\")","v":""},{"$f":"IFERROR(VLOOKUP($D214,料理データ!$A$3:$BK$997,50,FALSE),\"\")","v":""},{"$f":"IFERROR(VLOOKUP($D214,料理データ!$A$3:$BK$997,53,FALSE),\"\")","v":""},{"$f":"IFERROR(VLOOKUP($D214,料理データ!$A$3:$BK$997,56,FALSE),\"\")","v":""},{"$f":"IFERROR(VLOOKUP($D214,料理データ!$A$3:$BK$997,59,FALSE),\"\")","v":""},{"$f":"IFERROR(VLOOKUP($D214,料理データ!$A$3:$BK$997,62,FALSE),\"\")","v":""},"                   ","                   "]
[null,null,null,{"$f":"+'月間献立（乳児）'!K21","v":0},{"$f":"IFERROR(VLOOKUP($D215,料理データ!$A$3:$BK$997,3,FALSE),\"\")","v":""},{"$f":"IFERROR(VLOOKUP($D215,料理データ!$A$3:$BK$997,5,FALSE),\"\")","v":""},{"$f":"IFERROR(VLOOKUP($D215,料理データ!$A$3:$BK$997,8,FALSE),\"\")","v":""},{"$f":"IFERROR(VLOOKUP($D215,料理データ!$A$3:$BK$997,11,FALSE),\"\")","v":""},{"$f":"IFERROR(VLOOKUP($D215,料理データ!$A$3:$BK$997,14,FALSE),\"\")","v":""},{"$f":"IFERROR(VLOOKUP($D215,料理データ!$A$3:$BK$997,17,FALSE),\"\")","v":""},{"$f":"IFERROR(VLOOKUP($D215,料理データ!$A$3:$BK$997,20,FALSE),\"\")","v":""},{"$f":"IFERROR(VLOOKUP($D215,料理データ!$A$3:$BK$997,23,FALSE),\"\")","v":""},{"$f":"IFERROR(VLOOKUP($D215,料理データ!$A$3:$BK$997,26,FALSE),\"\")","v":""},{"$f":"IFERROR(VLOOKUP($D215,料理データ!$A$3:$BK$997,29,FALSE),\"\")","v":""},{"$f":"IFERROR(VLOOKUP($D215,料理データ!$A$3:$BK$997,32,FALSE),\"\")","v":""},{"$f":"IFERROR(VLOOKUP($D215,料理データ!$A$3:$BK$997,35,FALSE),\"\")","v":""},{"$f":"IFERROR(VLOOKUP($D215,料理データ!$A$3:$BK$997,38,FALSE),\"\")","v":""},{"$f":"IFERROR(VLOOKUP($D215,料理データ!$A$3:$BK$997,41,FALSE),\"\")","v":""},{"$f":"IFERROR(VLOOKUP($D215,料理データ!$A$3:$BK$997,44,FALSE),\"\")","v":""},{"$f":"IFERROR(VLOOKUP($D215,料理データ!$A$3:$BK$997,47,FALSE),\"\")","v":""},{"$f":"IFERROR(VLOOKUP($D215,料理データ!$A$3:$BK$997,50,FALSE),\"\")","v":""},{"$f":"IFERROR(VLOOKUP($D215,料理データ!$A$3:$BK$997,53,FALSE),\"\")","v":""},{"$f":"IFERROR(VLOOKUP($D215,料理データ!$A$3:$BK$997,56,FALSE),\"\")","v":""},{"$f":"IFERROR(VLOOKUP($D215,料理データ!$A$3:$BK$997,59,FALSE),\"\")","v":""},{"$f":"IFERROR(VLOOKUP($D215,料理データ!$A$3:$BK$997,62,FALSE),\"\")","v":""},"                   ","                   "]
[null,null,"午後おやつ",{"$f":"+'月間献立（乳児）'!L21","v":0},{"$f":"IFERROR(VLOOKUP($D216,料理データ!$A$3:$BK$997,3,FALSE),\"\")","v":""},{"$f":"IFERROR(VLOOKUP($D216,料理データ!$A$3:$BK$997,5,FALSE),\"\")","v":""},{"$f":"IFERROR(VLOOKUP($D216,料理データ!$A$3:$BK$997,8,FALSE),\"\")","v":""},{"$f":"IFERROR(VLOOKUP($D216,料理データ!$A$3:$BK$997,11,FALSE),\"\")","v":""},{"$f":"IFERROR(VLOOKUP($D216,料理データ!$A$3:$BK$997,14,FALSE),\"\")","v":""},{"$f":"IFERROR(VLOOKUP($D216,料理データ!$A$3:$BK$997,17,FALSE),\"\")","v":""},{"$f":"IFERROR(VLOOKUP($D216,料理データ!$A$3:$BK$997,20,FALSE),\"\")","v":""},{"$f":"IFERROR(VLOOKUP($D216,料理データ!$A$3:$BK$997,23,FALSE),\"\")","v":""},{"$f":"IFERROR(VLOOKUP($D216,料理データ!$A$3:$BK$997,26,FALSE),\"\")","v":""},{"$f":"IFERROR(VLOOKUP($D216,料理データ!$A$3:$BK$997,29,FALSE),\"\")","v":""},{"$f":"IFERROR(VLOOKUP($D216,料理データ!$A$3:$BK$997,32,FALSE),\"\")","v":""},{"$f":"IFERROR(VLOOKUP($D216,料理データ!$A$3:$BK$997,35,FALSE),\"\")","v":""},{"$f":"IFERROR(VLOOKUP($D216,料理データ!$A$3:$BK$997,38,FALSE),\"\")","v":""},{"$f":"IFERROR(VLOOKUP($D216,料理データ!$A$3:$BK$997,41,FALSE),\"\")","v":""},{"$f":"IFERROR(VLOOKUP($D216,料理データ!$A$3:$BK$997,44,FALSE),\"\")","v":""},{"$f":"IFERROR(VLOOKUP($D216,料理データ!$A$3:$BK$997,47,FALSE),\"\")","v":""},{"$f":"IFERROR(VLOOKUP($D216,料理データ!$A$3:$BK$997,50,FALSE),\"\")","v":""},{"$f":"IFERROR(VLOOKUP($D216,料理データ!$A$3:$BK$997,53,FALSE),\"\")","v":""},{"$f":"IFERROR(VLOOKUP($D216,料理データ!$A$3:$BK$997,56,FALSE),\"\")","v":""},{"$f":"IFERROR(VLOOKUP($D216,料理データ!$A$3:$BK$997,59,FALSE),\"\")","v":""},{"$f":"IFERROR(VLOOKUP($D216,料理データ!$A$3:$BK$997,62,FALSE),\"\")","v":""},"                   ","                   "]
[null,null,null,{"$f":"+'月間献立（乳児）'!M21","v":0},{"$f":"IFERROR(VLOOKUP($D217,料理データ!$A$3:$BK$997,3,FALSE),\"\")","v":""},{"$f":"IFERROR(VLOOKUP($D217,料理データ!$A$3:$BK$997,5,FALSE),\"\")","v":""},{"$f":"IFERROR(VLOOKUP($D217,料理データ!$A$3:$BK$997,8,FALSE),\"\")","v":""},{"$f":"IFERROR(VLOOKUP($D217,料理データ!$A$3:$BK$997,11,FALSE),\"\")","v":""},{"$f":"IFERROR(VLOOKUP($D217,料理データ!$A$3:$BK$997,14,FALSE),\"\")","v":""},{"$f":"IFERROR(VLOOKUP($D217,料理データ!$A$3:$BK$997,17,FALSE),\"\")","v":""},{"$f":"IFERROR(VLOOKUP($D217,料理データ!$A$3:$BK$997,20,FALSE),\"\")","v":""},{"$f":"IFERROR(VLOOKUP($D217,料理データ!$A$3:$BK$997,23,FALSE),\"\")","v":""},{"$f":"IFERROR(VLOOKUP($D217,料理データ!$A$3:$BK$997,26,FALSE),\"\")","v":""},{"$f":"IFERROR(VLOOKUP($D217,料理データ!$A$3:$BK$997,29,FALSE),\"\")","v":""},{"$f":"IFERROR(VLOOKUP($D217,料理データ!$A$3:$BK$997,32,FALSE),\"\")","v":""},{"$f":"IFERROR(VLOOKUP($D217,料理データ!$A$3:$BK$997,35,FALSE),\"\")","v":""},{"$f":"IFERROR(VLOOKUP($D217,料理データ!$A$3:$BK$997,38,FALSE),\"\")","v":""},{"$f":"IFERROR(VLOOKUP($D217,料理データ!$A$3:$BK$997,41,FALSE),\"\")","v":""},{"$f":"IFERROR(VLOOKUP($D217,料理データ!$A$3:$BK$997,44,FALSE),\"\")","v":""},{"$f":"IFERROR(VLOOKUP($D217,料理データ!$A$3:$BK$997,47,FALSE),\"\")","v":""},{"$f":"IFERROR(VLOOKUP($D217,料理データ!$A$3:$BK$997,50,FALSE),\"\")","v":""},{"$f":"IFERROR(VLOOKUP($D217,料理データ!$A$3:$BK$997,53,FALSE),\"\")","v":""},{"$f":"IFERROR(VLOOKUP($D217,料理データ!$A$3:$BK$997,56,FALSE),\"\")","v":""},{"$f":"IFERROR(VLOOKUP($D217,料理データ!$A$3:$BK$997,59,FALSE),\"\")","v":""},{"$f":"IFERROR(VLOOKUP($D217,料理データ!$A$3:$BK$997,62,FALSE),\"\")","v":""},"                   ","                   "]
[null,null,null,{"$f":"+'月間献立（乳児）'!N21","v":0},{"$f":"IFERROR(VLOOKUP($D218,料理データ!$A$3:$BK$997,3,FALSE),\"\")","v":""},{"$f":"IFERROR(VLOOKUP($D218,料理データ!$A$3:$BK$997,5,FALSE),\"\")","v":""},{"$f":"IFERROR(VLOOKUP($D218,料理データ!$A$3:$BK$997,8,FALSE),\"\")","v":""},{"$f":"IFERROR(VLOOKUP($D218,料理データ!$A$3:$BK$997,11,FALSE),\"\")","v":""},{"$f":"IFERROR(VLOOKUP($D218,料理データ!$A$3:$BK$997,14,FALSE),\"\")","v":""},{"$f":"IFERROR(VLOOKUP($D218,料理データ!$A$3:$BK$997,17,FALSE),\"\")","v":""},{"$f":"IFERROR(VLOOKUP($D218,料理データ!$A$3:$BK$997,20,FALSE),\"\")","v":""},{"$f":"IFERROR(VLOOKUP($D218,料理データ!$A$3:$BK$997,23,FALSE),\"\")","v":""},{"$f":"IFERROR(VLOOKUP($D218,料理データ!$A$3:$BK$997,26,FALSE),\"\")","v":""},{"$f":"IFERROR(VLOOKUP($D218,料理データ!$A$3:$BK$997,29,FALSE),\"\")","v":""},{"$f":"IFERROR(VLOOKUP($D218,料理データ!$A$3:$BK$997,32,FALSE),\"\")","v":""},{"$f":"IFERROR(VLOOKUP($D218,料理データ!$A$3:$BK$997,35,FALSE),\"\")","v":""},{"$f":"IFERROR(VLOOKUP($D218,料理データ!$A$3:$BK$997,38,FALSE),\"\")","v":""},{"$f":"IFERROR(VLOOKUP($D218,料理データ!$A$3:$BK$997,41,FALSE),\"\")","v":""},{"$f":"IFERROR(VLOOKUP($D218,料理データ!$A$3:$BK$997,44,FALSE),\"\")","v":""},{"$f":"IFERROR(VLOOKUP($D218,料理データ!$A$3:$BK$997,47,FALSE),\"\")","v":""},{"$f":"IFERROR(VLOOKUP($D218,料理データ!$A$3:$BK$997,50,FALSE),\"\")","v":""},{"$f":"IFERROR(VLOOKUP($D218,料理データ!$A$3:$BK$997,53,FALSE),\"\")","v":""},{"$f":"IFERROR(VLOOKUP($D218,料理データ!$A$3:$BK$997,56,FALSE),\"\")","v":""},{"$f":"IFERROR(VLOOKUP($D218,料理データ!$A$3:$BK$997,59,FALSE),\"\")","v":""},{"$f":"IFERROR(VLOOKUP($D218,料理データ!$A$3:$BK$997,62,FALSE),\"\")","v":""},"                   ",{"$f":"SUBSTITUTE(Z218,\"-\",\"\")","v":"                   "}]
[{"$f":"+'月間献立（幼児）'!A23","v":19},{"$f":"+'月間献立（幼児）'!B23","v":"(水)"},"午前おやつ",{"$f":"+'月間献立（乳児）'!C22","v":0},{"$f":"IFERROR(VLOOKUP($D219,料理データ!$A$3:$BK$997,3,FALSE),\"\")","v":""},{"$f":"IFERROR(VLOOKUP($D219,料理データ!$A$3:$BK$997,5,FALSE),\"\")","v":""},{"$f":"IFERROR(VLOOKUP($D219,料理データ!$A$3:$BK$997,8,FALSE),\"\")","v":""},{"$f":"IFERROR(VLOOKUP($D219,料理データ!$A$3:$BK$997,11,FALSE),\"\")","v":""},{"$f":"IFERROR(VLOOKUP($D219,料理データ!$A$3:$BK$997,14,FALSE),\"\")","v":""},{"$f":"IFERROR(VLOOKUP($D219,料理データ!$A$3:$BK$997,17,FALSE),\"\")","v":""},{"$f":"IFERROR(VLOOKUP($D219,料理データ!$A$3:$BK$997,20,FALSE),\"\")","v":""},{"$f":"IFERROR(VLOOKUP($D219,料理データ!$A$3:$BK$997,23,FALSE),\"\")","v":""},{"$f":"IFERROR(VLOOKUP($D219,料理データ!$A$3:$BK$997,26,FALSE),\"\")","v":""},{"$f":"IFERROR(VLOOKUP($D219,料理データ!$A$3:$BK$997,29,FALSE),\"\")","v":""},{"$f":"IFERROR(VLOOKUP($D219,料理データ!$A$3:$BK$997,32,FALSE),\"\")","v":""},{"$f":"IFERROR(VLOOKUP($D219,料理データ!$A$3:$BK$997,35,FALSE),\"\")","v":""},{"$f":"IFERROR(VLOOKUP($D219,料理データ!$A$3:$BK$997,38,FALSE),\"\")","v":""},{"$f":"IFERROR(VLOOKUP($D219,料理データ!$A$3:$BK$997,41,FALSE),\"\")","v":""},{"$f":"IFERROR(VLOOKUP($D219,料理データ!$A$3:$BK$997,44,FALSE),\"\")","v":""},{"$f":"IFERROR(VLOOKUP($D219,料理データ!$A$3:$BK$997,47,FALSE),\"\")","v":""},{"$f":"IFERROR(VLOOKUP($D219,料理データ!$A$3:$BK$997,50,FALSE),\"\")","v":""},{"$f":"IFERROR(VLOOKUP($D219,料理データ!$A$3:$BK$997,53,FALSE),\"\")","v":""},{"$f":"IFERROR(VLOOKUP($D219,料理データ!$A$3:$BK$997,56,FALSE),\"\")","v":""},{"$f":"IFERROR(VLOOKUP($D219,料理データ!$A$3:$BK$997,59,FALSE),\"\")","v":""},{"$f":"IFERROR(VLOOKUP($D219,料理データ!$A$3:$BK$997,62,FALSE),\"\")","v":""},"                   ",{"$f":"SUBSTITUTE(Z219,\"-\",\" \")","v":"                   "},{"$f":"TRIM(CONCATENATE(AA219,AA220,AA221,\"▲\",AA222,AA223,AA224,AA225,AA226,AA227,\"▲\",AA228,AA229,AA230))","v":"▲ ▲"}]
[null,null,null,{"$f":"+'月間献立（乳児）'!D22","v":0},{"$f":"IFERROR(VLOOKUP($D220,料理データ!$A$3:$BK$997,3,FALSE),\"\")","v":""},{"$f":"IFERROR(VLOOKUP($D220,料理データ!$A$3:$BK$997,5,FALSE),\"\")","v":""},{"$f":"IFERROR(VLOOKUP($D220,料理データ!$A$3:$BK$997,8,FALSE),\"\")","v":""},{"$f":"IFERROR(VLOOKUP($D220,料理データ!$A$3:$BK$997,11,FALSE),\"\")","v":""},{"$f":"IFERROR(VLOOKUP($D220,料理データ!$A$3:$BK$997,14,FALSE),\"\")","v":""},{"$f":"IFERROR(VLOOKUP($D220,料理データ!$A$3:$BK$997,17,FALSE),\"\")","v":""},{"$f":"IFERROR(VLOOKUP($D220,料理データ!$A$3:$BK$997,20,FALSE),\"\")","v":""},{"$f":"IFERROR(VLOOKUP($D220,料理データ!$A$3:$BK$997,23,FALSE),\"\")","v":""},{"$f":"IFERROR(VLOOKUP($D220,料理データ!$A$3:$BK$997,26,FALSE),\"\")","v":""},{"$f":"IFERROR(VLOOKUP($D220,料理データ!$A$3:$BK$997,29,FALSE),\"\")","v":""},{"$f":"IFERROR(VLOOKUP($D220,料理データ!$A$3:$BK$997,32,FALSE),\"\")","v":""},{"$f":"IFERROR(VLOOKUP($D220,料理データ!$A$3:$BK$997,35,FALSE),\"\")","v":""},{"$f":"IFERROR(VLOOKUP($D220,料理データ!$A$3:$BK$997,38,FALSE),\"\")","v":""},{"$f":"IFERROR(VLOOKUP($D220,料理データ!$A$3:$BK$997,41,FALSE),\"\")","v":""},{"$f":"IFERROR(VLOOKUP($D220,料理データ!$A$3:$BK$997,44,FALSE),\"\")","v":""},{"$f":"IFERROR(VLOOKUP($D220,料理データ!$A$3:$BK$997,47,FALSE),\"\")","v":""},{"$f":"IFERROR(VLOOKUP($D220,料理データ!$A$3:$BK$997,50,FALSE),\"\")","v":""},{"$f":"IFERROR(VLOOKUP($D220,料理データ!$A$3:$BK$997,53,FALSE),\"\")","v":""},{"$f":"IFERROR(VLOOKUP($D220,料理データ!$A$3:$BK$997,56,FALSE),\"\")","v":""},{"$f":"IFERROR(VLOOKUP($D220,料理データ!$A$3:$BK$997,59,FALSE),\"\")","v":""},{"$f":"IFERROR(VLOOKUP($D220,料理データ!$A$3:$BK$997,62,FALSE),\"\")","v":""},"                   ",{"$f":"SUBSTITUTE(Z220,\"-\",\" \")","v":"                   "}]
[null,null,null,{"$f":"+'月間献立（乳児）'!E22","v":0},{"$f":"IFERROR(VLOOKUP($D221,料理データ!$A$3:$BK$997,3,FALSE),\"\")","v":""},{"$f":"IFERROR(VLOOKUP($D221,料理データ!$A$3:$BK$997,5,FALSE),\"\")","v":""},{"$f":"IFERROR(VLOOKUP($D221,料理データ!$A$3:$BK$997,8,FALSE),\"\")","v":""},{"$f":"IFERROR(VLOOKUP($D221,料理データ!$A$3:$BK$997,11,FALSE),\"\")","v":""},{"$f":"IFERROR(VLOOKUP($D221,料理データ!$A$3:$BK$997,14,FALSE),\"\")","v":""},{"$f":"IFERROR(VLOOKUP($D221,料理データ!$A$3:$BK$997,17,FALSE),\"\")","v":""},{"$f":"IFERROR(VLOOKUP($D221,料理データ!$A$3:$BK$997,20,FALSE),\"\")","v":""},{"$f":"IFERROR(VLOOKUP($D221,料理データ!$A$3:$BK$997,23,FALSE),\"\")","v":""},{"$f":"IFERROR(VLOOKUP($D221,料理データ!$A$3:$BK$997,26,FALSE),\"\")","v":""},{"$f":"IFERROR(VLOOKUP($D221,料理データ!$A$3:$BK$997,29,FALSE),\"\")","v":""},{"$f":"IFERROR(VLOOKUP($D221,料理データ!$A$3:$BK$997,32,FALSE),\"\")","v":""},{"$f":"IFERROR(VLOOKUP($D221,料理データ!$A$3:$BK$997,35,FALSE),\"\")","v":""},{"$f":"IFERROR(VLOOKUP($D221,料理データ!$A$3:$BK$997,38,FALSE),\"\")","v":""},{"$f":"IFERROR(VLOOKUP($D221,料理データ!$A$3:$BK$997,41,FALSE),\"\")","v":""},{"$f":"IFERROR(VLOOKUP($D221,料理データ!$A$3:$BK$997,44,FALSE),\"\")","v":""},{"$f":"IFERROR(VLOOKUP($D221,料理データ!$A$3:$BK$997,47,FALSE),\"\")","v":""},{"$f":"IFERROR(VLOOKUP($D221,料理データ!$A$3:$BK$997,50,FALSE),\"\")","v":""},{"$f":"IFERROR(VLOOKUP($D221,料理データ!$A$3:$BK$997,53,FALSE),\"\")","v":""},{"$f":"IFERROR(VLOOKUP($D221,料理データ!$A$3:$BK$997,56,FALSE),\"\")","v":""},{"$f":"IFERROR(VLOOKUP($D221,料理データ!$A$3:$BK$997,59,FALSE),\"\")","v":""},{"$f":"IFERROR(VLOOKUP($D221,料理データ!$A$3:$BK$997,62,FALSE),\"\")","v":""},"                   ",{"$f":"SUBSTITUTE(Z221,\"-\",\" \")","v":"                   "}]
[null,null,"昼食",{"$f":"+'月間献立（乳児）'!F22","v":0},{"$f":"IFERROR(VLOOKUP($D222,料理データ!$A$3:$BK$997,3,FALSE),\"\")","v":""},{"$f":"IFERROR(VLOOKUP($D222,料理データ!$A$3:$BK$997,5,FALSE),\"\")","v":""},{"$f":"IFERROR(VLOOKUP($D222,料理データ!$A$3:$BK$997,8,FALSE),\"\")","v":""},{"$f":"IFERROR(VLOOKUP($D222,料理データ!$A$3:$BK$997,11,FALSE),\"\")","v":""},{"$f":"IFERROR(VLOOKUP($D222,料理データ!$A$3:$BK$997,14,FALSE),\"\")","v":""},{"$f":"IFERROR(VLOOKUP($D222,料理データ!$A$3:$BK$997,17,FALSE),\"\")","v":""},{"$f":"IFERROR(VLOOKUP($D222,料理データ!$A$3:$BK$997,20,FALSE),\"\")","v":""},{"$f":"IFERROR(VLOOKUP($D222,料理データ!$A$3:$BK$997,23,FALSE),\"\")","v":""},{"$f":"IFERROR(VLOOKUP($D222,料理データ!$A$3:$BK$997,26,FALSE),\"\")","v":""},{"$f":"IFERROR(VLOOKUP($D222,料理データ!$A$3:$BK$997,29,FALSE),\"\")","v":""},{"$f":"IFERROR(VLOOKUP($D222,料理データ!$A$3:$BK$997,32,FALSE),\"\")","v":""},{"$f":"IFERROR(VLOOKUP($D222,料理データ!$A$3:$BK$997,35,FALSE),\"\")","v":""},{"$f":"IFERROR(VLOOKUP($D222,料理データ!$A$3:$BK$997,38,FALSE),\"\")","v":""},{"$f":"IFERROR(VLOOKUP($D222,料理データ!$A$3:$BK$997,41,FALSE),\"\")","v":""},{"$f":"IFERROR(VLOOKUP($D222,料理データ!$A$3:$BK$997,44,FALSE),\"\")","v":""},{"$f":"IFERROR(VLOOKUP($D222,料理データ!$A$3:$BK$997,47,FALSE),\"\")","v":""},{"$f":"IFERROR(VLOOKUP($D222,料理データ!$A$3:$BK$997,50,FALSE),\"\")","v":""},{"$f":"IFERROR(VLOOKUP($D222,料理データ!$A$3:$BK$997,53,FALSE),\"\")","v":""},{"$f":"IFERROR(VLOOKUP($D222,料理データ!$A$3:$BK$997,56,FALSE),\"\")","v":""},{"$f":"IFERROR(VLOOKUP($D222,料理データ!$A$3:$BK$997,59,FALSE),\"\")","v":""},{"$f":"IFERROR(VLOOKUP($D222,料理データ!$A$3:$BK$997,62,FALSE),\"\")","v":""},"                   ","                   "]
[null,null,null,{"$f":"+'月間献立（乳児）'!G22","v":0},{"$f":"IFERROR(VLOOKUP($D223,料理データ!$A$3:$BK$997,3,FALSE),\"\")","v":""},{"$f":"IFERROR(VLOOKUP($D223,料理データ!$A$3:$BK$997,5,FALSE),\"\")","v":""},{"$f":"IFERROR(VLOOKUP($D223,料理データ!$A$3:$BK$997,8,FALSE),\"\")","v":""},{"$f":"IFERROR(VLOOKUP($D223,料理データ!$A$3:$BK$997,11,FALSE),\"\")","v":""},{"$f":"IFERROR(VLOOKUP($D223,料理データ!$A$3:$BK$997,14,FALSE),\"\")","v":""},{"$f":"IFERROR(VLOOKUP($D223,料理データ!$A$3:$BK$997,17,FALSE),\"\")","v":""},{"$f":"IFERROR(VLOOKUP($D223,料理データ!$A$3:$BK$997,20,FALSE),\"\")","v":""},{"$f":"IFERROR(VLOOKUP($D223,料理データ!$A$3:$BK$997,23,FALSE),\"\")","v":""},{"$f":"IFERROR(VLOOKUP($D223,料理データ!$A$3:$BK$997,26,FALSE),\"\")","v":""},{"$f":"IFERROR(VLOOKUP($D223,料理データ!$A$3:$BK$997,29,FALSE),\"\")","v":""},{"$f":"IFERROR(VLOOKUP($D223,料理データ!$A$3:$BK$997,32,FALSE),\"\")","v":""},{"$f":"IFERROR(VLOOKUP($D223,料理データ!$A$3:$BK$997,35,FALSE),\"\")","v":""},{"$f":"IFERROR(VLOOKUP($D223,料理データ!$A$3:$BK$997,38,FALSE),\"\")","v":""},{"$f":"IFERROR(VLOOKUP($D223,料理データ!$A$3:$BK$997,41,FALSE),\"\")","v":""},{"$f":"IFERROR(VLOOKUP($D223,料理データ!$A$3:$BK$997,44,FALSE),\"\")","v":""},{"$f":"IFERROR(VLOOKUP($D223,料理データ!$A$3:$BK$997,47,FALSE),\"\")","v":""},{"$f":"IFERROR(VLOOKUP($D223,料理データ!$A$3:$BK$997,50,FALSE),\"\")","v":""},{"$f":"IFERROR(VLOOKUP($D223,料理データ!$A$3:$BK$997,53,FALSE),\"\")","v":""},{"$f":"IFERROR(VLOOKUP($D223,料理データ!$A$3:$BK$997,56,FALSE),\"\")","v":""},{"$f":"IFERROR(VLOOKUP($D223,料理データ!$A$3:$BK$997,59,FALSE),\"\")","v":""},{"$f":"IFERROR(VLOOKUP($D223,料理データ!$A$3:$BK$997,62,FALSE),\"\")","v":""},"                   ","                   "]
[null,null,null,{"$f":"+'月間献立（乳児）'!H22","v":0},{"$f":"IFERROR(VLOOKUP($D224,料理データ!$A$3:$BK$997,3,FALSE),\"\")","v":""},{"$f":"IFERROR(VLOOKUP($D224,料理データ!$A$3:$BK$997,5,FALSE),\"\")","v":""},{"$f":"IFERROR(VLOOKUP($D224,料理データ!$A$3:$BK$997,8,FALSE),\"\")","v":""},{"$f":"IFERROR(VLOOKUP($D224,料理データ!$A$3:$BK$997,11,FALSE),\"\")","v":""},{"$f":"IFERROR(VLOOKUP($D224,料理データ!$A$3:$BK$997,14,FALSE),\"\")","v":""},{"$f":"IFERROR(VLOOKUP($D224,料理データ!$A$3:$BK$997,17,FALSE),\"\")","v":""},{"$f":"IFERROR(VLOOKUP($D224,料理データ!$A$3:$BK$997,20,FALSE),\"\")","v":""},{"$f":"IFERROR(VLOOKUP($D224,料理データ!$A$3:$BK$997,23,FALSE),\"\")","v":""},{"$f":"IFERROR(VLOOKUP($D224,料理データ!$A$3:$BK$997,26,FALSE),\"\")","v":""},{"$f":"IFERROR(VLOOKUP($D224,料理データ!$A$3:$BK$997,29,FALSE),\"\")","v":""},{"$f":"IFERROR(VLOOKUP($D224,料理データ!$A$3:$BK$997,32,FALSE),\"\")","v":""},{"$f":"IFERROR(VLOOKUP($D224,料理データ!$A$3:$BK$997,35,FALSE),\"\")","v":""},{"$f":"IFERROR(VLOOKUP($D224,料理データ!$A$3:$BK$997,38,FALSE),\"\")","v":""},{"$f":"IFERROR(VLOOKUP($D224,料理データ!$A$3:$BK$997,41,FALSE),\"\")","v":""},{"$f":"IFERROR(VLOOKUP($D224,料理データ!$A$3:$BK$997,44,FALSE),\"\")","v":""},{"$f":"IFERROR(VLOOKUP($D224,料理データ!$A$3:$BK$997,47,FALSE),\"\")","v":""},{"$f":"IFERROR(VLOOKUP($D224,料理データ!$A$3:$BK$997,50,FALSE),\"\")","v":""},{"$f":"IFERROR(VLOOKUP($D224,料理データ!$A$3:$BK$997,53,FALSE),\"\")","v":""},{"$f":"IFERROR(VLOOKUP($D224,料理データ!$A$3:$BK$997,56,FALSE),\"\")","v":""},{"$f":"IFERROR(VLOOKUP($D224,料理データ!$A$3:$BK$997,59,FALSE),\"\")","v":""},{"$f":"IFERROR(VLOOKUP($D224,料理データ!$A$3:$BK$997,62,FALSE),\"\")","v":""},"                   ","                   "]
[null,null,null,{"$f":"+'月間献立（乳児）'!I22","v":0},{"$f":"IFERROR(VLOOKUP($D225,料理データ!$A$3:$BK$997,3,FALSE),\"\")","v":""},{"$f":"IFERROR(VLOOKUP($D225,料理データ!$A$3:$BK$997,5,FALSE),\"\")","v":""},{"$f":"IFERROR(VLOOKUP($D225,料理データ!$A$3:$BK$997,8,FALSE),\"\")","v":""},{"$f":"IFERROR(VLOOKUP($D225,料理データ!$A$3:$BK$997,11,FALSE),\"\")","v":""},{"$f":"IFERROR(VLOOKUP($D225,料理データ!$A$3:$BK$997,14,FALSE),\"\")","v":""},{"$f":"IFERROR(VLOOKUP($D225,料理データ!$A$3:$BK$997,17,FALSE),\"\")","v":""},{"$f":"IFERROR(VLOOKUP($D225,料理データ!$A$3:$BK$997,20,FALSE),\"\")","v":""},{"$f":"IFERROR(VLOOKUP($D225,料理データ!$A$3:$BK$997,23,FALSE),\"\")","v":""},{"$f":"IFERROR(VLOOKUP($D225,料理データ!$A$3:$BK$997,26,FALSE),\"\")","v":""},{"$f":"IFERROR(VLOOKUP($D225,料理データ!$A$3:$BK$997,29,FALSE),\"\")","v":""},{"$f":"IFERROR(VLOOKUP($D225,料理データ!$A$3:$BK$997,32,FALSE),\"\")","v":""},{"$f":"IFERROR(VLOOKUP($D225,料理データ!$A$3:$BK$997,35,FALSE),\"\")","v":""},{"$f":"IFERROR(VLOOKUP($D225,料理データ!$A$3:$BK$997,38,FALSE),\"\")","v":""},{"$f":"IFERROR(VLOOKUP($D225,料理データ!$A$3:$BK$997,41,FALSE),\"\")","v":""},{"$f":"IFERROR(VLOOKUP($D225,料理データ!$A$3:$BK$997,44,FALSE),\"\")","v":""},{"$f":"IFERROR(VLOOKUP($D225,料理データ!$A$3:$BK$997,47,FALSE),\"\")","v":""},{"$f":"IFERROR(VLOOKUP($D225,料理データ!$A$3:$BK$997,50,FALSE),\"\")","v":""},{"$f":"IFERROR(VLOOKUP($D225,料理データ!$A$3:$BK$997,53,FALSE),\"\")","v":""},{"$f":"IFERROR(VLOOKUP($D225,料理データ!$A$3:$BK$997,56,FALSE),\"\")","v":""},{"$f":"IFERROR(VLOOKUP($D225,料理データ!$A$3:$BK$997,59,FALSE),\"\")","v":""},{"$f":"IFERROR(VLOOKUP($D225,料理データ!$A$3:$BK$997,62,FALSE),\"\")","v":""},"                   ","                   "]
[null,null,null,{"$f":"+'月間献立（乳児）'!J22","v":0},{"$f":"IFERROR(VLOOKUP($D226,料理データ!$A$3:$BK$997,3,FALSE),\"\")","v":""},{"$f":"IFERROR(VLOOKUP($D226,料理データ!$A$3:$BK$997,5,FALSE),\"\")","v":""},{"$f":"IFERROR(VLOOKUP($D226,料理データ!$A$3:$BK$997,8,FALSE),\"\")","v":""},{"$f":"IFERROR(VLOOKUP($D226,料理データ!$A$3:$BK$997,11,FALSE),\"\")","v":""},{"$f":"IFERROR(VLOOKUP($D226,料理データ!$A$3:$BK$997,14,FALSE),\"\")","v":""},{"$f":"IFERROR(VLOOKUP($D226,料理データ!$A$3:$BK$997,17,FALSE),\"\")","v":""},{"$f":"IFERROR(VLOOKUP($D226,料理データ!$A$3:$BK$997,20,FALSE),\"\")","v":""},{"$f":"IFERROR(VLOOKUP($D226,料理データ!$A$3:$BK$997,23,FALSE),\"\")","v":""},{"$f":"IFERROR(VLOOKUP($D226,料理データ!$A$3:$BK$997,26,FALSE),\"\")","v":""},{"$f":"IFERROR(VLOOKUP($D226,料理データ!$A$3:$BK$997,29,FALSE),\"\")","v":""},{"$f":"IFERROR(VLOOKUP($D226,料理データ!$A$3:$BK$997,32,FALSE),\"\")","v":""},{"$f":"IFERROR(VLOOKUP($D226,料理データ!$A$3:$BK$997,35,FALSE),\"\")","v":""},{"$f":"IFERROR(VLOOKUP($D226,料理データ!$A$3:$BK$997,38,FALSE),\"\")","v":""},{"$f":"IFERROR(VLOOKUP($D226,料理データ!$A$3:$BK$997,41,FALSE),\"\")","v":""},{"$f":"IFERROR(VLOOKUP($D226,料理データ!$A$3:$BK$997,44,FALSE),\"\")","v":""},{"$f":"IFERROR(VLOOKUP($D226,料理データ!$A$3:$BK$997,47,FALSE),\"\")","v":""},{"$f":"IFERROR(VLOOKUP($D226,料理データ!$A$3:$BK$997,50,FALSE),\"\")","v":""},{"$f":"IFERROR(VLOOKUP($D226,料理データ!$A$3:$BK$997,53,FALSE),\"\")","v":""},{"$f":"IFERROR(VLOOKUP($D226,料理データ!$A$3:$BK$997,56,FALSE),\"\")","v":""},{"$f":"IFERROR(VLOOKUP($D226,料理データ!$A$3:$BK$997,59,FALSE),\"\")","v":""},{"$f":"IFERROR(VLOOKUP($D226,料理データ!$A$3:$BK$997,62,FALSE),\"\")","v":""},"                   ","                   "]
[null,null,null,{"$f":"+'月間献立（乳児）'!K22","v":0},{"$f":"IFERROR(VLOOKUP($D227,料理データ!$A$3:$BK$997,3,FALSE),\"\")","v":""},{"$f":"IFERROR(VLOOKUP($D227,料理データ!$A$3:$BK$997,5,FALSE),\"\")","v":""},{"$f":"IFERROR(VLOOKUP($D227,料理データ!$A$3:$BK$997,8,FALSE),\"\")","v":""},{"$f":"IFERROR(VLOOKUP($D227,料理データ!$A$3:$BK$997,11,FALSE),\"\")","v":""},{"$f":"IFERROR(VLOOKUP($D227,料理データ!$A$3:$BK$997,14,FALSE),\"\")","v":""},{"$f":"IFERROR(VLOOKUP($D227,料理データ!$A$3:$BK$997,17,FALSE),\"\")","v":""},{"$f":"IFERROR(VLOOKUP($D227,料理データ!$A$3:$BK$997,20,FALSE),\"\")","v":""},{"$f":"IFERROR(VLOOKUP($D227,料理データ!$A$3:$BK$997,23,FALSE),\"\")","v":""},{"$f":"IFERROR(VLOOKUP($D227,料理データ!$A$3:$BK$997,26,FALSE),\"\")","v":""},{"$f":"IFERROR(VLOOKUP($D227,料理データ!$A$3:$BK$997,29,FALSE),\"\")","v":""},{"$f":"IFERROR(VLOOKUP($D227,料理データ!$A$3:$BK$997,32,FALSE),\"\")","v":""},{"$f":"IFERROR(VLOOKUP($D227,料理データ!$A$3:$BK$997,35,FALSE),\"\")","v":""},{"$f":"IFERROR(VLOOKUP($D227,料理データ!$A$3:$BK$997,38,FALSE),\"\")","v":""},{"$f":"IFERROR(VLOOKUP($D227,料理データ!$A$3:$BK$997,41,FALSE),\"\")","v":""},{"$f":"IFERROR(VLOOKUP($D227,料理データ!$A$3:$BK$997,44,FALSE),\"\")","v":""},{"$f":"IFERROR(VLOOKUP($D227,料理データ!$A$3:$BK$997,47,FALSE),\"\")","v":""},{"$f":"IFERROR(VLOOKUP($D227,料理データ!$A$3:$BK$997,50,FALSE),\"\")","v":""},{"$f":"IFERROR(VLOOKUP($D227,料理データ!$A$3:$BK$997,53,FALSE),\"\")","v":""},{"$f":"IFERROR(VLOOKUP($D227,料理データ!$A$3:$BK$997,56,FALSE),\"\")","v":""},{"$f":"IFERROR(VLOOKUP($D227,料理データ!$A$3:$BK$997,59,FALSE),\"\")","v":""},{"$f":"IFERROR(VLOOKUP($D227,料理データ!$A$3:$BK$997,62,FALSE),\"\")","v":""},"                   ","                   "]
[null,null,"午後おやつ",{"$f":"+'月間献立（乳児）'!L22","v":0},{"$f":"IFERROR(VLOOKUP($D228,料理データ!$A$3:$BK$997,3,FALSE),\"\")","v":""},{"$f":"IFERROR(VLOOKUP($D228,料理データ!$A$3:$BK$997,5,FALSE),\"\")","v":""},{"$f":"IFERROR(VLOOKUP($D228,料理データ!$A$3:$BK$997,8,FALSE),\"\")","v":""},{"$f":"IFERROR(VLOOKUP($D228,料理データ!$A$3:$BK$997,11,FALSE),\"\")","v":""},{"$f":"IFERROR(VLOOKUP($D228,料理データ!$A$3:$BK$997,14,FALSE),\"\")","v":""},{"$f":"IFERROR(VLOOKUP($D228,料理データ!$A$3:$BK$997,17,FALSE),\"\")","v":""},{"$f":"IFERROR(VLOOKUP($D228,料理データ!$A$3:$BK$997,20,FALSE),\"\")","v":""},{"$f":"IFERROR(VLOOKUP($D228,料理データ!$A$3:$BK$997,23,FALSE),\"\")","v":""},{"$f":"IFERROR(VLOOKUP($D228,料理データ!$A$3:$BK$997,26,FALSE),\"\")","v":""},{"$f":"IFERROR(VLOOKUP($D228,料理データ!$A$3:$BK$997,29,FALSE),\"\")","v":""},{"$f":"IFERROR(VLOOKUP($D228,料理データ!$A$3:$BK$997,32,FALSE),\"\")","v":""},{"$f":"IFERROR(VLOOKUP($D228,料理データ!$A$3:$BK$997,35,FALSE),\"\")","v":""},{"$f":"IFERROR(VLOOKUP($D228,料理データ!$A$3:$BK$997,38,FALSE),\"\")","v":""},{"$f":"IFERROR(VLOOKUP($D228,料理データ!$A$3:$BK$997,41,FALSE),\"\")","v":""},{"$f":"IFERROR(VLOOKUP($D228,料理データ!$A$3:$BK$997,44,FALSE),\"\")","v":""},{"$f":"IFERROR(VLOOKUP($D228,料理データ!$A$3:$BK$997,47,FALSE),\"\")","v":""},{"$f":"IFERROR(VLOOKUP($D228,料理データ!$A$3:$BK$997,50,FALSE),\"\")","v":""},{"$f":"IFERROR(VLOOKUP($D228,料理データ!$A$3:$BK$997,53,FALSE),\"\")","v":""},{"$f":"IFERROR(VLOOKUP($D228,料理データ!$A$3:$BK$997,56,FALSE),\"\")","v":""},{"$f":"IFERROR(VLOOKUP($D228,料理データ!$A$3:$BK$997,59,FALSE),\"\")","v":""},{"$f":"IFERROR(VLOOKUP($D228,料理データ!$A$3:$BK$997,62,FALSE),\"\")","v":""},"                   ",{"$f":"SUBSTITUTE(Z228,\"-\",\"\")","v":"                   "}]
[null,null,null,{"$f":"+'月間献立（乳児）'!M22","v":0},{"$f":"IFERROR(VLOOKUP($D229,料理データ!$A$3:$BK$997,3,FALSE),\"\")","v":""},{"$f":"IFERROR(VLOOKUP($D229,料理データ!$A$3:$BK$997,5,FALSE),\"\")","v":""},{"$f":"IFERROR(VLOOKUP($D229,料理データ!$A$3:$BK$997,8,FALSE),\"\")","v":""},{"$f":"IFERROR(VLOOKUP($D229,料理データ!$A$3:$BK$997,11,FALSE),\"\")","v":""},{"$f":"IFERROR(VLOOKUP($D229,料理データ!$A$3:$BK$997,14,FALSE),\"\")","v":""},{"$f":"IFERROR(VLOOKUP($D229,料理データ!$A$3:$BK$997,17,FALSE),\"\")","v":""},{"$f":"IFERROR(VLOOKUP($D229,料理データ!$A$3:$BK$997,20,FALSE),\"\")","v":""},{"$f":"IFERROR(VLOOKUP($D229,料理データ!$A$3:$BK$997,23,FALSE),\"\")","v":""},{"$f":"IFERROR(VLOOKUP($D229,料理データ!$A$3:$BK$997,26,FALSE),\"\")","v":""},{"$f":"IFERROR(VLOOKUP($D229,料理データ!$A$3:$BK$997,29,FALSE),\"\")","v":""},{"$f":"IFERROR(VLOOKUP($D229,料理データ!$A$3:$BK$997,32,FALSE),\"\")","v":""},{"$f":"IFERROR(VLOOKUP($D229,料理データ!$A$3:$BK$997,35,FALSE),\"\")","v":""},{"$f":"IFERROR(VLOOKUP($D229,料理データ!$A$3:$BK$997,38,FALSE),\"\")","v":""},{"$f":"IFERROR(VLOOKUP($D229,料理データ!$A$3:$BK$997,41,FALSE),\"\")","v":""},{"$f":"IFERROR(VLOOKUP($D229,料理データ!$A$3:$BK$997,44,FALSE),\"\")","v":""},{"$f":"IFERROR(VLOOKUP($D229,料理データ!$A$3:$BK$997,47,FALSE),\"\")","v":""},{"$f":"IFERROR(VLOOKUP($D229,料理データ!$A$3:$BK$997,50,FALSE),\"\")","v":""},{"$f":"IFERROR(VLOOKUP($D229,料理データ!$A$3:$BK$997,53,FALSE),\"\")","v":""},{"$f":"IFERROR(VLOOKUP($D229,料理データ!$A$3:$BK$997,56,FALSE),\"\")","v":""},{"$f":"IFERROR(VLOOKUP($D229,料理データ!$A$3:$BK$997,59,FALSE),\"\")","v":""},{"$f":"IFERROR(VLOOKUP($D229,料理データ!$A$3:$BK$997,62,FALSE),\"\")","v":""},"                   ",{"$f":"SUBSTITUTE(Z229,\"-\",\" \")","v":"                   "}]
[null,null,null,{"$f":"+'月間献立（乳児）'!N22","v":0},{"$f":"IFERROR(VLOOKUP($D230,料理データ!$A$3:$BK$997,3,FALSE),\"\")","v":""},{"$f":"IFERROR(VLOOKUP($D230,料理データ!$A$3:$BK$997,5,FALSE),\"\")","v":""},{"$f":"IFERROR(VLOOKUP($D230,料理データ!$A$3:$BK$997,8,FALSE),\"\")","v":""},{"$f":"IFERROR(VLOOKUP($D230,料理データ!$A$3:$BK$997,11,FALSE),\"\")","v":""},{"$f":"IFERROR(VLOOKUP($D230,料理データ!$A$3:$BK$997,14,FALSE),\"\")","v":""},{"$f":"IFERROR(VLOOKUP($D230,料理データ!$A$3:$BK$997,17,FALSE),\"\")","v":""},{"$f":"IFERROR(VLOOKUP($D230,料理データ!$A$3:$BK$997,20,FALSE),\"\")","v":""},{"$f":"IFERROR(VLOOKUP($D230,料理データ!$A$3:$BK$997,23,FALSE),\"\")","v":""},{"$f":"IFERROR(VLOOKUP($D230,料理データ!$A$3:$BK$997,26,FALSE),\"\")","v":""},{"$f":"IFERROR(VLOOKUP($D230,料理データ!$A$3:$BK$997,29,FALSE),\"\")","v":""},{"$f":"IFERROR(VLOOKUP($D230,料理データ!$A$3:$BK$997,32,FALSE),\"\")","v":""},{"$f":"IFERROR(VLOOKUP($D230,料理データ!$A$3:$BK$997,35,FALSE),\"\")","v":""},{"$f":"IFERROR(VLOOKUP($D230,料理データ!$A$3:$BK$997,38,FALSE),\"\")","v":""},{"$f":"IFERROR(VLOOKUP($D230,料理データ!$A$3:$BK$997,41,FALSE),\"\")","v":""},{"$f":"IFERROR(VLOOKUP($D230,料理データ!$A$3:$BK$997,44,FALSE),\"\")","v":""},{"$f":"IFERROR(VLOOKUP($D230,料理データ!$A$3:$BK$997,47,FALSE),\"\")","v":""},{"$f":"IFERROR(VLOOKUP($D230,料理データ!$A$3:$BK$997,50,FALSE),\"\")","v":""},{"$f":"IFERROR(VLOOKUP($D230,料理データ!$A$3:$BK$997,53,FALSE),\"\")","v":""},{"$f":"IFERROR(VLOOKUP($D230,料理データ!$A$3:$BK$997,56,FALSE),\"\")","v":""},{"$f":"IFERROR(VLOOKUP($D230,料理データ!$A$3:$BK$997,59,FALSE),\"\")","v":""},{"$f":"IFERROR(VLOOKUP($D230,料理データ!$A$3:$BK$997,62,FALSE),\"\")","v":""},"                   ",{"$f":"SUBSTITUTE(Z230,\"-\",\"\")","v":"                   "}]
[{"$f":"+'月間献立（幼児）'!A24","v":20},{"$f":"+'月間献立（幼児）'!B24","v":"(木)"},"午前おやつ",{"$f":"+'月間献立（乳児）'!C23","v":0},{"$f":"IFERROR(VLOOKUP($D231,料理データ!$A$3:$BK$997,3,FALSE),\"\")","v":""},{"$f":"IFERROR(VLOOKUP($D231,料理データ!$A$3:$BK$997,5,FALSE),\"\")","v":""},{"$f":"IFERROR(VLOOKUP($D231,料理データ!$A$3:$BK$997,8,FALSE),\"\")","v":""},{"$f":"IFERROR(VLOOKUP($D231,料理データ!$A$3:$BK$997,11,FALSE),\"\")","v":""},{"$f":"IFERROR(VLOOKUP($D231,料理データ!$A$3:$BK$997,14,FALSE),\"\")","v":""},{"$f":"IFERROR(VLOOKUP($D231,料理データ!$A$3:$BK$997,17,FALSE),\"\")","v":""},{"$f":"IFERROR(VLOOKUP($D231,料理データ!$A$3:$BK$997,20,FALSE),\"\")","v":""},{"$f":"IFERROR(VLOOKUP($D231,料理データ!$A$3:$BK$997,23,FALSE),\"\")","v":""},{"$f":"IFERROR(VLOOKUP($D231,料理データ!$A$3:$BK$997,26,FALSE),\"\")","v":""},{"$f":"IFERROR(VLOOKUP($D231,料理データ!$A$3:$BK$997,29,FALSE),\"\")","v":""},{"$f":"IFERROR(VLOOKUP($D231,料理データ!$A$3:$BK$997,32,FALSE),\"\")","v":""},{"$f":"IFERROR(VLOOKUP($D231,料理データ!$A$3:$BK$997,35,FALSE),\"\")","v":""},{"$f":"IFERROR(VLOOKUP($D231,料理データ!$A$3:$BK$997,38,FALSE),\"\")","v":""},{"$f":"IFERROR(VLOOKUP($D231,料理データ!$A$3:$BK$997,41,FALSE),\"\")","v":""},{"$f":"IFERROR(VLOOKUP($D231,料理データ!$A$3:$BK$997,44,FALSE),\"\")","v":""},{"$f":"IFERROR(VLOOKUP($D231,料理データ!$A$3:$BK$997,47,FALSE),\"\")","v":""},{"$f":"IFERROR(VLOOKUP($D231,料理データ!$A$3:$BK$997,50,FALSE),\"\")","v":""},{"$f":"IFERROR(VLOOKUP($D231,料理データ!$A$3:$BK$997,53,FALSE),\"\")","v":""},{"$f":"IFERROR(VLOOKUP($D231,料理データ!$A$3:$BK$997,56,FALSE),\"\")","v":""},{"$f":"IFERROR(VLOOKUP($D231,料理データ!$A$3:$BK$997,59,FALSE),\"\")","v":""},{"$f":"IFERROR(VLOOKUP($D231,料理データ!$A$3:$BK$997,62,FALSE),\"\")","v":""},"                   ",{"$f":"SUBSTITUTE(Z231,\"-\",\" \")","v":"                   "},{"$f":"TRIM(CONCATENATE(AA231,AA232,AA233,\"▲\",AA234,AA235,AA236,AA237,AA238,AA239,\"▲\",AA240,AA241,AA242))","v":"▲ ▲"}]
[null,null,null,{"$f":"+'月間献立（乳児）'!D23","v":0},{"$f":"IFERROR(VLOOKUP($D232,料理データ!$A$3:$BK$997,3,FALSE),\"\")","v":""},{"$f":"IFERROR(VLOOKUP($D232,料理データ!$A$3:$BK$997,5,FALSE),\"\")","v":""},{"$f":"IFERROR(VLOOKUP($D232,料理データ!$A$3:$BK$997,8,FALSE),\"\")","v":""},{"$f":"IFERROR(VLOOKUP($D232,料理データ!$A$3:$BK$997,11,FALSE),\"\")","v":""},{"$f":"IFERROR(VLOOKUP($D232,料理データ!$A$3:$BK$997,14,FALSE),\"\")","v":""},{"$f":"IFERROR(VLOOKUP($D232,料理データ!$A$3:$BK$997,17,FALSE),\"\")","v":""},{"$f":"IFERROR(VLOOKUP($D232,料理データ!$A$3:$BK$997,20,FALSE),\"\")","v":""},{"$f":"IFERROR(VLOOKUP($D232,料理データ!$A$3:$BK$997,23,FALSE),\"\")","v":""},{"$f":"IFERROR(VLOOKUP($D232,料理データ!$A$3:$BK$997,26,FALSE),\"\")","v":""},{"$f":"IFERROR(VLOOKUP($D232,料理データ!$A$3:$BK$997,29,FALSE),\"\")","v":""},{"$f":"IFERROR(VLOOKUP($D232,料理データ!$A$3:$BK$997,32,FALSE),\"\")","v":""},{"$f":"IFERROR(VLOOKUP($D232,料理データ!$A$3:$BK$997,35,FALSE),\"\")","v":""},{"$f":"IFERROR(VLOOKUP($D232,料理データ!$A$3:$BK$997,38,FALSE),\"\")","v":""},{"$f":"IFERROR(VLOOKUP($D232,料理データ!$A$3:$BK$997,41,FALSE),\"\")","v":""},{"$f":"IFERROR(VLOOKUP($D232,料理データ!$A$3:$BK$997,44,FALSE),\"\")","v":""},{"$f":"IFERROR(VLOOKUP($D232,料理データ!$A$3:$BK$997,47,FALSE),\"\")","v":""},{"$f":"IFERROR(VLOOKUP($D232,料理データ!$A$3:$BK$997,50,FALSE),\"\")","v":""},{"$f":"IFERROR(VLOOKUP($D232,料理データ!$A$3:$BK$997,53,FALSE),\"\")","v":""},{"$f":"IFERROR(VLOOKUP($D232,料理データ!$A$3:$BK$997,56,FALSE),\"\")","v":""},{"$f":"IFERROR(VLOOKUP($D232,料理データ!$A$3:$BK$997,59,FALSE),\"\")","v":""},{"$f":"IFERROR(VLOOKUP($D232,料理データ!$A$3:$BK$997,62,FALSE),\"\")","v":""},"                   ",{"$f":"SUBSTITUTE(Z232,\"-\",\" \")","v":"                   "}]
[null,null,null,{"$f":"+'月間献立（乳児）'!E23","v":0},{"$f":"IFERROR(VLOOKUP($D233,料理データ!$A$3:$BK$997,3,FALSE),\"\")","v":""},{"$f":"IFERROR(VLOOKUP($D233,料理データ!$A$3:$BK$997,5,FALSE),\"\")","v":""},{"$f":"IFERROR(VLOOKUP($D233,料理データ!$A$3:$BK$997,8,FALSE),\"\")","v":""},{"$f":"IFERROR(VLOOKUP($D233,料理データ!$A$3:$BK$997,11,FALSE),\"\")","v":""},{"$f":"IFERROR(VLOOKUP($D233,料理データ!$A$3:$BK$997,14,FALSE),\"\")","v":""},{"$f":"IFERROR(VLOOKUP($D233,料理データ!$A$3:$BK$997,17,FALSE),\"\")","v":""},{"$f":"IFERROR(VLOOKUP($D233,料理データ!$A$3:$BK$997,20,FALSE),\"\")","v":""},{"$f":"IFERROR(VLOOKUP($D233,料理データ!$A$3:$BK$997,23,FALSE),\"\")","v":""},{"$f":"IFERROR(VLOOKUP($D233,料理データ!$A$3:$BK$997,26,FALSE),\"\")","v":""},{"$f":"IFERROR(VLOOKUP($D233,料理データ!$A$3:$BK$997,29,FALSE),\"\")","v":""},{"$f":"IFERROR(VLOOKUP($D233,料理データ!$A$3:$BK$997,32,FALSE),\"\")","v":""},{"$f":"IFERROR(VLOOKUP($D233,料理データ!$A$3:$BK$997,35,FALSE),\"\")","v":""},{"$f":"IFERROR(VLOOKUP($D233,料理データ!$A$3:$BK$997,38,FALSE),\"\")","v":""},{"$f":"IFERROR(VLOOKUP($D233,料理データ!$A$3:$BK$997,41,FALSE),\"\")","v":""},{"$f":"IFERROR(VLOOKUP($D233,料理データ!$A$3:$BK$997,44,FALSE),\"\")","v":""},{"$f":"IFERROR(VLOOKUP($D233,料理データ!$A$3:$BK$997,47,FALSE),\"\")","v":""},{"$f":"IFERROR(VLOOKUP($D233,料理データ!$A$3:$BK$997,50,FALSE),\"\")","v":""},{"$f":"IFERROR(VLOOKUP($D233,料理データ!$A$3:$BK$997,53,FALSE),\"\")","v":""},{"$f":"IFERROR(VLOOKUP($D233,料理データ!$A$3:$BK$997,56,FALSE),\"\")","v":""},{"$f":"IFERROR(VLOOKUP($D233,料理データ!$A$3:$BK$997,59,FALSE),\"\")","v":""},{"$f":"IFERROR(VLOOKUP($D233,料理データ!$A$3:$BK$997,62,FALSE),\"\")","v":""},"                   ",{"$f":"SUBSTITUTE(Z233,\"-\",\" \")","v":"                   "}]
[null,null,"昼食",{"$f":"+'月間献立（乳児）'!F23","v":0},{"$f":"IFERROR(VLOOKUP($D234,料理データ!$A$3:$BK$997,3,FALSE),\"\")","v":""},{"$f":"IFERROR(VLOOKUP($D234,料理データ!$A$3:$BK$997,5,FALSE),\"\")","v":""},{"$f":"IFERROR(VLOOKUP($D234,料理データ!$A$3:$BK$997,8,FALSE),\"\")","v":""},{"$f":"IFERROR(VLOOKUP($D234,料理データ!$A$3:$BK$997,11,FALSE),\"\")","v":""},{"$f":"IFERROR(VLOOKUP($D234,料理データ!$A$3:$BK$997,14,FALSE),\"\")","v":""},{"$f":"IFERROR(VLOOKUP($D234,料理データ!$A$3:$BK$997,17,FALSE),\"\")","v":""},{"$f":"IFERROR(VLOOKUP($D234,料理データ!$A$3:$BK$997,20,FALSE),\"\")","v":""},{"$f":"IFERROR(VLOOKUP($D234,料理データ!$A$3:$BK$997,23,FALSE),\"\")","v":""},{"$f":"IFERROR(VLOOKUP($D234,料理データ!$A$3:$BK$997,26,FALSE),\"\")","v":""},{"$f":"IFERROR(VLOOKUP($D234,料理データ!$A$3:$BK$997,29,FALSE),\"\")","v":""},{"$f":"IFERROR(VLOOKUP($D234,料理データ!$A$3:$BK$997,32,FALSE),\"\")","v":""},{"$f":"IFERROR(VLOOKUP($D234,料理データ!$A$3:$BK$997,35,FALSE),\"\")","v":""},{"$f":"IFERROR(VLOOKUP($D234,料理データ!$A$3:$BK$997,38,FALSE),\"\")","v":""},{"$f":"IFERROR(VLOOKUP($D234,料理データ!$A$3:$BK$997,41,FALSE),\"\")","v":""},{"$f":"IFERROR(VLOOKUP($D234,料理データ!$A$3:$BK$997,44,FALSE),\"\")","v":""},{"$f":"IFERROR(VLOOKUP($D234,料理データ!$A$3:$BK$997,47,FALSE),\"\")","v":""},{"$f":"IFERROR(VLOOKUP($D234,料理データ!$A$3:$BK$997,50,FALSE),\"\")","v":""},{"$f":"IFERROR(VLOOKUP($D234,料理データ!$A$3:$BK$997,53,FALSE),\"\")","v":""},{"$f":"IFERROR(VLOOKUP($D234,料理データ!$A$3:$BK$997,56,FALSE),\"\")","v":""},{"$f":"IFERROR(VLOOKUP($D234,料理データ!$A$3:$BK$997,59,FALSE),\"\")","v":""},{"$f":"IFERROR(VLOOKUP($D234,料理データ!$A$3:$BK$997,62,FALSE),\"\")","v":""},"                   ","                   "]
[null,null,null,{"$f":"+'月間献立（乳児）'!G23","v":0},{"$f":"IFERROR(VLOOKUP($D235,料理データ!$A$3:$BK$997,3,FALSE),\"\")","v":""},{"$f":"IFERROR(VLOOKUP($D235,料理データ!$A$3:$BK$997,5,FALSE),\"\")","v":""},{"$f":"IFERROR(VLOOKUP($D235,料理データ!$A$3:$BK$997,8,FALSE),\"\")","v":""},{"$f":"IFERROR(VLOOKUP($D235,料理データ!$A$3:$BK$997,11,FALSE),\"\")","v":""},{"$f":"IFERROR(VLOOKUP($D235,料理データ!$A$3:$BK$997,14,FALSE),\"\")","v":""},{"$f":"IFERROR(VLOOKUP($D235,料理データ!$A$3:$BK$997,17,FALSE),\"\")","v":""},{"$f":"IFERROR(VLOOKUP($D235,料理データ!$A$3:$BK$997,20,FALSE),\"\")","v":""},{"$f":"IFERROR(VLOOKUP($D235,料理データ!$A$3:$BK$997,23,FALSE),\"\")","v":""},{"$f":"IFERROR(VLOOKUP($D235,料理データ!$A$3:$BK$997,26,FALSE),\"\")","v":""},{"$f":"IFERROR(VLOOKUP($D235,料理データ!$A$3:$BK$997,29,FALSE),\"\")","v":""},{"$f":"IFERROR(VLOOKUP($D235,料理データ!$A$3:$BK$997,32,FALSE),\"\")","v":""},{"$f":"IFERROR(VLOOKUP($D235,料理データ!$A$3:$BK$997,35,FALSE),\"\")","v":""},{"$f":"IFERROR(VLOOKUP($D235,料理データ!$A$3:$BK$997,38,FALSE),\"\")","v":""},{"$f":"IFERROR(VLOOKUP($D235,料理データ!$A$3:$BK$997,41,FALSE),\"\")","v":""},{"$f":"IFERROR(VLOOKUP($D235,料理データ!$A$3:$BK$997,44,FALSE),\"\")","v":""},{"$f":"IFERROR(VLOOKUP($D235,料理データ!$A$3:$BK$997,47,FALSE),\"\")","v":""},{"$f":"IFERROR(VLOOKUP($D235,料理データ!$A$3:$BK$997,50,FALSE),\"\")","v":""},{"$f":"IFERROR(VLOOKUP($D235,料理データ!$A$3:$BK$997,53,FALSE),\"\")","v":""},{"$f":"IFERROR(VLOOKUP($D235,料理データ!$A$3:$BK$997,56,FALSE),\"\")","v":""},{"$f":"IFERROR(VLOOKUP($D235,料理データ!$A$3:$BK$997,59,FALSE),\"\")","v":""},{"$f":"IFERROR(VLOOKUP($D235,料理データ!$A$3:$BK$997,62,FALSE),\"\")","v":""},"                   ","                   "]
[null,null,null,{"$f":"+'月間献立（乳児）'!H23","v":0},{"$f":"IFERROR(VLOOKUP($D236,料理データ!$A$3:$BK$997,3,FALSE),\"\")","v":""},{"$f":"IFERROR(VLOOKUP($D236,料理データ!$A$3:$BK$997,5,FALSE),\"\")","v":""},{"$f":"IFERROR(VLOOKUP($D236,料理データ!$A$3:$BK$997,8,FALSE),\"\")","v":""},{"$f":"IFERROR(VLOOKUP($D236,料理データ!$A$3:$BK$997,11,FALSE),\"\")","v":""},{"$f":"IFERROR(VLOOKUP($D236,料理データ!$A$3:$BK$997,14,FALSE),\"\")","v":""},{"$f":"IFERROR(VLOOKUP($D236,料理データ!$A$3:$BK$997,17,FALSE),\"\")","v":""},{"$f":"IFERROR(VLOOKUP($D236,料理データ!$A$3:$BK$997,20,FALSE),\"\")","v":""},{"$f":"IFERROR(VLOOKUP($D236,料理データ!$A$3:$BK$997,23,FALSE),\"\")","v":""},{"$f":"IFERROR(VLOOKUP($D236,料理データ!$A$3:$BK$997,26,FALSE),\"\")","v":""},{"$f":"IFERROR(VLOOKUP($D236,料理データ!$A$3:$BK$997,29,FALSE),\"\")","v":""},{"$f":"IFERROR(VLOOKUP($D236,料理データ!$A$3:$BK$997,32,FALSE),\"\")","v":""},{"$f":"IFERROR(VLOOKUP($D236,料理データ!$A$3:$BK$997,35,FALSE),\"\")","v":""},{"$f":"IFERROR(VLOOKUP($D236,料理データ!$A$3:$BK$997,38,FALSE),\"\")","v":""},{"$f":"IFERROR(VLOOKUP($D236,料理データ!$A$3:$BK$997,41,FALSE),\"\")","v":""},{"$f":"IFERROR(VLOOKUP($D236,料理データ!$A$3:$BK$997,44,FALSE),\"\")","v":""},{"$f":"IFERROR(VLOOKUP($D236,料理データ!$A$3:$BK$997,47,FALSE),\"\")","v":""},{"$f":"IFERROR(VLOOKUP($D236,料理データ!$A$3:$BK$997,50,FALSE),\"\")","v":""},{"$f":"IFERROR(VLOOKUP($D236,料理データ!$A$3:$BK$997,53,FALSE),\"\")","v":""},{"$f":"IFERROR(VLOOKUP($D236,料理データ!$A$3:$BK$997,56,FALSE),\"\")","v":""},{"$f":"IFERROR(VLOOKUP($D236,料理データ!$A$3:$BK$997,59,FALSE),\"\")","v":""},{"$f":"IFERROR(VLOOKUP($D236,料理データ!$A$3:$BK$997,62,FALSE),\"\")","v":""},"                   ","                   "]
[null,null,null,{"$f":"+'月間献立（乳児）'!I23","v":0},{"$f":"IFERROR(VLOOKUP($D237,料理データ!$A$3:$BK$997,3,FALSE),\"\")","v":""},{"$f":"IFERROR(VLOOKUP($D237,料理データ!$A$3:$BK$997,5,FALSE),\"\")","v":""},{"$f":"IFERROR(VLOOKUP($D237,料理データ!$A$3:$BK$997,8,FALSE),\"\")","v":""},{"$f":"IFERROR(VLOOKUP($D237,料理データ!$A$3:$BK$997,11,FALSE),\"\")","v":""},{"$f":"IFERROR(VLOOKUP($D237,料理データ!$A$3:$BK$997,14,FALSE),\"\")","v":""},{"$f":"IFERROR(VLOOKUP($D237,料理データ!$A$3:$BK$997,17,FALSE),\"\")","v":""},{"$f":"IFERROR(VLOOKUP($D237,料理データ!$A$3:$BK$997,20,FALSE),\"\")","v":""},{"$f":"IFERROR(VLOOKUP($D237,料理データ!$A$3:$BK$997,23,FALSE),\"\")","v":""},{"$f":"IFERROR(VLOOKUP($D237,料理データ!$A$3:$BK$997,26,FALSE),\"\")","v":""},{"$f":"IFERROR(VLOOKUP($D237,料理データ!$A$3:$BK$997,29,FALSE),\"\")","v":""},{"$f":"IFERROR(VLOOKUP($D237,料理データ!$A$3:$BK$997,32,FALSE),\"\")","v":""},{"$f":"IFERROR(VLOOKUP($D237,料理データ!$A$3:$BK$997,35,FALSE),\"\")","v":""},{"$f":"IFERROR(VLOOKUP($D237,料理データ!$A$3:$BK$997,38,FALSE),\"\")","v":""},{"$f":"IFERROR(VLOOKUP($D237,料理データ!$A$3:$BK$997,41,FALSE),\"\")","v":""},{"$f":"IFERROR(VLOOKUP($D237,料理データ!$A$3:$BK$997,44,FALSE),\"\")","v":""},{"$f":"IFERROR(VLOOKUP($D237,料理データ!$A$3:$BK$997,47,FALSE),\"\")","v":""},{"$f":"IFERROR(VLOOKUP($D237,料理データ!$A$3:$BK$997,50,FALSE),\"\")","v":""},{"$f":"IFERROR(VLOOKUP($D237,料理データ!$A$3:$BK$997,53,FALSE),\"\")","v":""},{"$f":"IFERROR(VLOOKUP($D237,料理データ!$A$3:$BK$997,56,FALSE),\"\")","v":""},{"$f":"IFERROR(VLOOKUP($D237,料理データ!$A$3:$BK$997,59,FALSE),\"\")","v":""},{"$f":"IFERROR(VLOOKUP($D237,料理データ!$A$3:$BK$997,62,FALSE),\"\")","v":""},"                   ","                   "]
[null,null,null,{"$f":"+'月間献立（乳児）'!J23","v":0},{"$f":"IFERROR(VLOOKUP($D238,料理データ!$A$3:$BK$997,3,FALSE),\"\")","v":""},{"$f":"IFERROR(VLOOKUP($D238,料理データ!$A$3:$BK$997,5,FALSE),\"\")","v":""},{"$f":"IFERROR(VLOOKUP($D238,料理データ!$A$3:$BK$997,8,FALSE),\"\")","v":""},{"$f":"IFERROR(VLOOKUP($D238,料理データ!$A$3:$BK$997,11,FALSE),\"\")","v":""},{"$f":"IFERROR(VLOOKUP($D238,料理データ!$A$3:$BK$997,14,FALSE),\"\")","v":""},{"$f":"IFERROR(VLOOKUP($D238,料理データ!$A$3:$BK$997,17,FALSE),\"\")","v":""},{"$f":"IFERROR(VLOOKUP($D238,料理データ!$A$3:$BK$997,20,FALSE),\"\")","v":""},{"$f":"IFERROR(VLOOKUP($D238,料理データ!$A$3:$BK$997,23,FALSE),\"\")","v":""},{"$f":"IFERROR(VLOOKUP($D238,料理データ!$A$3:$BK$997,26,FALSE),\"\")","v":""},{"$f":"IFERROR(VLOOKUP($D238,料理データ!$A$3:$BK$997,29,FALSE),\"\")","v":""},{"$f":"IFERROR(VLOOKUP($D238,料理データ!$A$3:$BK$997,32,FALSE),\"\")","v":""},{"$f":"IFERROR(VLOOKUP($D238,料理データ!$A$3:$BK$997,35,FALSE),\"\")","v":""},{"$f":"IFERROR(VLOOKUP($D238,料理データ!$A$3:$BK$997,38,FALSE),\"\")","v":""},{"$f":"IFERROR(VLOOKUP($D238,料理データ!$A$3:$BK$997,41,FALSE),\"\")","v":""},{"$f":"IFERROR(VLOOKUP($D238,料理データ!$A$3:$BK$997,44,FALSE),\"\")","v":""},{"$f":"IFERROR(VLOOKUP($D238,料理データ!$A$3:$BK$997,47,FALSE),\"\")","v":""},{"$f":"IFERROR(VLOOKUP($D238,料理データ!$A$3:$BK$997,50,FALSE),\"\")","v":""},{"$f":"IFERROR(VLOOKUP($D238,料理データ!$A$3:$BK$997,53,FALSE),\"\")","v":""},{"$f":"IFERROR(VLOOKUP($D238,料理データ!$A$3:$BK$997,56,FALSE),\"\")","v":""},{"$f":"IFERROR(VLOOKUP($D238,料理データ!$A$3:$BK$997,59,FALSE),\"\")","v":""},{"$f":"IFERROR(VLOOKUP($D238,料理データ!$A$3:$BK$997,62,FALSE),\"\")","v":""},"                   ","                   "]
[null,null,null,{"$f":"+'月間献立（乳児）'!K23","v":0},{"$f":"IFERROR(VLOOKUP($D239,料理データ!$A$3:$BK$997,3,FALSE),\"\")","v":""},{"$f":"IFERROR(VLOOKUP($D239,料理データ!$A$3:$BK$997,5,FALSE),\"\")","v":""},{"$f":"IFERROR(VLOOKUP($D239,料理データ!$A$3:$BK$997,8,FALSE),\"\")","v":""},{"$f":"IFERROR(VLOOKUP($D239,料理データ!$A$3:$BK$997,11,FALSE),\"\")","v":""},{"$f":"IFERROR(VLOOKUP($D239,料理データ!$A$3:$BK$997,14,FALSE),\"\")","v":""},{"$f":"IFERROR(VLOOKUP($D239,料理データ!$A$3:$BK$997,17,FALSE),\"\")","v":""},{"$f":"IFERROR(VLOOKUP($D239,料理データ!$A$3:$BK$997,20,FALSE),\"\")","v":""},{"$f":"IFERROR(VLOOKUP($D239,料理データ!$A$3:$BK$997,23,FALSE),\"\")","v":""},{"$f":"IFERROR(VLOOKUP($D239,料理データ!$A$3:$BK$997,26,FALSE),\"\")","v":""},{"$f":"IFERROR(VLOOKUP($D239,料理データ!$A$3:$BK$997,29,FALSE),\"\")","v":""},{"$f":"IFERROR(VLOOKUP($D239,料理データ!$A$3:$BK$997,32,FALSE),\"\")","v":""},{"$f":"IFERROR(VLOOKUP($D239,料理データ!$A$3:$BK$997,35,FALSE),\"\")","v":""},{"$f":"IFERROR(VLOOKUP($D239,料理データ!$A$3:$BK$997,38,FALSE),\"\")","v":""},{"$f":"IFERROR(VLOOKUP($D239,料理データ!$A$3:$BK$997,41,FALSE),\"\")","v":""},{"$f":"IFERROR(VLOOKUP($D239,料理データ!$A$3:$BK$997,44,FALSE),\"\")","v":""},{"$f":"IFERROR(VLOOKUP($D239,料理データ!$A$3:$BK$997,47,FALSE),\"\")","v":""},{"$f":"IFERROR(VLOOKUP($D239,料理データ!$A$3:$BK$997,50,FALSE),\"\")","v":""},{"$f":"IFERROR(VLOOKUP($D239,料理データ!$A$3:$BK$997,53,FALSE),\"\")","v":""},{"$f":"IFERROR(VLOOKUP($D239,料理データ!$A$3:$BK$997,56,FALSE),\"\")","v":""},{"$f":"IFERROR(VLOOKUP($D239,料理データ!$A$3:$BK$997,59,FALSE),\"\")","v":""},{"$f":"IFERROR(VLOOKUP($D239,料理データ!$A$3:$BK$997,62,FALSE),\"\")","v":""},"                   ","                   "]
[null,null,"午後おやつ",{"$f":"+'月間献立（乳児）'!L23","v":0},{"$f":"IFERROR(VLOOKUP($D240,料理データ!$A$3:$BK$997,3,FALSE),\"\")","v":""},{"$f":"IFERROR(VLOOKUP($D240,料理データ!$A$3:$BK$997,5,FALSE),\"\")","v":""},{"$f":"IFERROR(VLOOKUP($D240,料理データ!$A$3:$BK$997,8,FALSE),\"\")","v":""},{"$f":"IFERROR(VLOOKUP($D240,料理データ!$A$3:$BK$997,11,FALSE),\"\")","v":""},{"$f":"IFERROR(VLOOKUP($D240,料理データ!$A$3:$BK$997,14,FALSE),\"\")","v":""},{"$f":"IFERROR(VLOOKUP($D240,料理データ!$A$3:$BK$997,17,FALSE),\"\")","v":""},{"$f":"IFERROR(VLOOKUP($D240,料理データ!$A$3:$BK$997,20,FALSE),\"\")","v":""},{"$f":"IFERROR(VLOOKUP($D240,料理データ!$A$3:$BK$997,23,FALSE),\"\")","v":""},{"$f":"IFERROR(VLOOKUP($D240,料理データ!$A$3:$BK$997,26,FALSE),\"\")","v":""},{"$f":"IFERROR(VLOOKUP($D240,料理データ!$A$3:$BK$997,29,FALSE),\"\")","v":""},{"$f":"IFERROR(VLOOKUP($D240,料理データ!$A$3:$BK$997,32,FALSE),\"\")","v":""},{"$f":"IFERROR(VLOOKUP($D240,料理データ!$A$3:$BK$997,35,FALSE),\"\")","v":""},{"$f":"IFERROR(VLOOKUP($D240,料理データ!$A$3:$BK$997,38,FALSE),\"\")","v":""},{"$f":"IFERROR(VLOOKUP($D240,料理データ!$A$3:$BK$997,41,FALSE),\"\")","v":""},{"$f":"IFERROR(VLOOKUP($D240,料理データ!$A$3:$BK$997,44,FALSE),\"\")","v":""},{"$f":"IFERROR(VLOOKUP($D240,料理データ!$A$3:$BK$997,47,FALSE),\"\")","v":""},{"$f":"IFERROR(VLOOKUP($D240,料理データ!$A$3:$BK$997,50,FALSE),\"\")","v":""},{"$f":"IFERROR(VLOOKUP($D240,料理データ!$A$3:$BK$997,53,FALSE),\"\")","v":""},{"$f":"IFERROR(VLOOKUP($D240,料理データ!$A$3:$BK$997,56,FALSE),\"\")","v":""},{"$f":"IFERROR(VLOOKUP($D240,料理データ!$A$3:$BK$997,59,FALSE),\"\")","v":""},{"$f":"IFERROR(VLOOKUP($D240,料理データ!$A$3:$BK$997,62,FALSE),\"\")","v":""},"                   ","                   "]
[null,null,null,{"$f":"+'月間献立（乳児）'!M23","v":0},{"$f":"IFERROR(VLOOKUP($D241,料理データ!$A$3:$BK$997,3,FALSE),\"\")","v":""},{"$f":"IFERROR(VLOOKUP($D241,料理データ!$A$3:$BK$997,5,FALSE),\"\")","v":""},{"$f":"IFERROR(VLOOKUP($D241,料理データ!$A$3:$BK$997,8,FALSE),\"\")","v":""},{"$f":"IFERROR(VLOOKUP($D241,料理データ!$A$3:$BK$997,11,FALSE),\"\")","v":""},{"$f":"IFERROR(VLOOKUP($D241,料理データ!$A$3:$BK$997,14,FALSE),\"\")","v":""},{"$f":"IFERROR(VLOOKUP($D241,料理データ!$A$3:$BK$997,17,FALSE),\"\")","v":""},{"$f":"IFERROR(VLOOKUP($D241,料理データ!$A$3:$BK$997,20,FALSE),\"\")","v":""},{"$f":"IFERROR(VLOOKUP($D241,料理データ!$A$3:$BK$997,23,FALSE),\"\")","v":""},{"$f":"IFERROR(VLOOKUP($D241,料理データ!$A$3:$BK$997,26,FALSE),\"\")","v":""},{"$f":"IFERROR(VLOOKUP($D241,料理データ!$A$3:$BK$997,29,FALSE),\"\")","v":""},{"$f":"IFERROR(VLOOKUP($D241,料理データ!$A$3:$BK$997,32,FALSE),\"\")","v":""},{"$f":"IFERROR(VLOOKUP($D241,料理データ!$A$3:$BK$997,35,FALSE),\"\")","v":""},{"$f":"IFERROR(VLOOKUP($D241,料理データ!$A$3:$BK$997,38,FALSE),\"\")","v":""},{"$f":"IFERROR(VLOOKUP($D241,料理データ!$A$3:$BK$997,41,FALSE),\"\")","v":""},{"$f":"IFERROR(VLOOKUP($D241,料理データ!$A$3:$BK$997,44,FALSE),\"\")","v":""},{"$f":"IFERROR(VLOOKUP($D241,料理データ!$A$3:$BK$997,47,FALSE),\"\")","v":""},{"$f":"IFERROR(VLOOKUP($D241,料理データ!$A$3:$BK$997,50,FALSE),\"\")","v":""},{"$f":"IFERROR(VLOOKUP($D241,料理データ!$A$3:$BK$997,53,FALSE),\"\")","v":""},{"$f":"IFERROR(VLOOKUP($D241,料理データ!$A$3:$BK$997,56,FALSE),\"\")","v":""},{"$f":"IFERROR(VLOOKUP($D241,料理データ!$A$3:$BK$997,59,FALSE),\"\")","v":""},{"$f":"IFERROR(VLOOKUP($D241,料理データ!$A$3:$BK$997,62,FALSE),\"\")","v":""},"                   ","                   "]
[null,null,null,{"$f":"+'月間献立（乳児）'!N23","v":0},{"$f":"IFERROR(VLOOKUP($D242,料理データ!$A$3:$BK$997,3,FALSE),\"\")","v":""},{"$f":"IFERROR(VLOOKUP($D242,料理データ!$A$3:$BK$997,5,FALSE),\"\")","v":""},{"$f":"IFERROR(VLOOKUP($D242,料理データ!$A$3:$BK$997,8,FALSE),\"\")","v":""},{"$f":"IFERROR(VLOOKUP($D242,料理データ!$A$3:$BK$997,11,FALSE),\"\")","v":""},{"$f":"IFERROR(VLOOKUP($D242,料理データ!$A$3:$BK$997,14,FALSE),\"\")","v":""},{"$f":"IFERROR(VLOOKUP($D242,料理データ!$A$3:$BK$997,17,FALSE),\"\")","v":""},{"$f":"IFERROR(VLOOKUP($D242,料理データ!$A$3:$BK$997,20,FALSE),\"\")","v":""},{"$f":"IFERROR(VLOOKUP($D242,料理データ!$A$3:$BK$997,23,FALSE),\"\")","v":""},{"$f":"IFERROR(VLOOKUP($D242,料理データ!$A$3:$BK$997,26,FALSE),\"\")","v":""},{"$f":"IFERROR(VLOOKUP($D242,料理データ!$A$3:$BK$997,29,FALSE),\"\")","v":""},{"$f":"IFERROR(VLOOKUP($D242,料理データ!$A$3:$BK$997,32,FALSE),\"\")","v":""},{"$f":"IFERROR(VLOOKUP($D242,料理データ!$A$3:$BK$997,35,FALSE),\"\")","v":""},{"$f":"IFERROR(VLOOKUP($D242,料理データ!$A$3:$BK$997,38,FALSE),\"\")","v":""},{"$f":"IFERROR(VLOOKUP($D242,料理データ!$A$3:$BK$997,41,FALSE),\"\")","v":""},{"$f":"IFERROR(VLOOKUP($D242,料理データ!$A$3:$BK$997,44,FALSE),\"\")","v":""},{"$f":"IFERROR(VLOOKUP($D242,料理データ!$A$3:$BK$997,47,FALSE),\"\")","v":""},{"$f":"IFERROR(VLOOKUP($D242,料理データ!$A$3:$BK$997,50,FALSE),\"\")","v":""},{"$f":"IFERROR(VLOOKUP($D242,料理データ!$A$3:$BK$997,53,FALSE),\"\")","v":""},{"$f":"IFERROR(VLOOKUP($D242,料理データ!$A$3:$BK$997,56,FALSE),\"\")","v":""},{"$f":"IFERROR(VLOOKUP($D242,料理データ!$A$3:$BK$997,59,FALSE),\"\")","v":""},{"$f":"IFERROR(VLOOKUP($D242,料理データ!$A$3:$BK$997,62,FALSE),\"\")","v":""},"                   ",{"$f":"SUBSTITUTE(Z242,\"-\",\"\")","v":"                   "}]
[{"$f":"+'月間献立（幼児）'!A25","v":21},{"$f":"+'月間献立（幼児）'!B25","v":"(金)"},"午前おやつ",{"$f":"+'月間献立（乳児）'!C24","v":0},{"$f":"IFERROR(VLOOKUP($D243,料理データ!$A$3:$BK$997,3,FALSE),\"\")","v":""},{"$f":"IFERROR(VLOOKUP($D243,料理データ!$A$3:$BK$997,5,FALSE),\"\")","v":""},{"$f":"IFERROR(VLOOKUP($D243,料理データ!$A$3:$BK$997,8,FALSE),\"\")","v":""},{"$f":"IFERROR(VLOOKUP($D243,料理データ!$A$3:$BK$997,11,FALSE),\"\")","v":""},{"$f":"IFERROR(VLOOKUP($D243,料理データ!$A$3:$BK$997,14,FALSE),\"\")","v":""},{"$f":"IFERROR(VLOOKUP($D243,料理データ!$A$3:$BK$997,17,FALSE),\"\")","v":""},{"$f":"IFERROR(VLOOKUP($D243,料理データ!$A$3:$BK$997,20,FALSE),\"\")","v":""},{"$f":"IFERROR(VLOOKUP($D243,料理データ!$A$3:$BK$997,23,FALSE),\"\")","v":""},{"$f":"IFERROR(VLOOKUP($D243,料理データ!$A$3:$BK$997,26,FALSE),\"\")","v":""},{"$f":"IFERROR(VLOOKUP($D243,料理データ!$A$3:$BK$997,29,FALSE),\"\")","v":""},{"$f":"IFERROR(VLOOKUP($D243,料理データ!$A$3:$BK$997,32,FALSE),\"\")","v":""},{"$f":"IFERROR(VLOOKUP($D243,料理データ!$A$3:$BK$997,35,FALSE),\"\")","v":""},{"$f":"IFERROR(VLOOKUP($D243,料理データ!$A$3:$BK$997,38,FALSE),\"\")","v":""},{"$f":"IFERROR(VLOOKUP($D243,料理データ!$A$3:$BK$997,41,FALSE),\"\")","v":""},{"$f":"IFERROR(VLOOKUP($D243,料理データ!$A$3:$BK$997,44,FALSE),\"\")","v":""},{"$f":"IFERROR(VLOOKUP($D243,料理データ!$A$3:$BK$997,47,FALSE),\"\")","v":""},{"$f":"IFERROR(VLOOKUP($D243,料理データ!$A$3:$BK$997,50,FALSE),\"\")","v":""},{"$f":"IFERROR(VLOOKUP($D243,料理データ!$A$3:$BK$997,53,FALSE),\"\")","v":""},{"$f":"IFERROR(VLOOKUP($D243,料理データ!$A$3:$BK$997,56,FALSE),\"\")","v":""},{"$f":"IFERROR(VLOOKUP($D243,料理データ!$A$3:$BK$997,59,FALSE),\"\")","v":""},{"$f":"IFERROR(VLOOKUP($D243,料理データ!$A$3:$BK$997,62,FALSE),\"\")","v":""},"                   ",{"$f":"SUBSTITUTE(Z243,\"-\",\" \")","v":"                   "},{"$f":"TRIM(CONCATENATE(AA243,AA244,AA245,\"▲\",AA246,AA247,AA248,AA249,AA250,AA251,\"▲\",AA252,AA253,AA254))","v":"▲ ▲"}]
[null,null,null,{"$f":"+'月間献立（乳児）'!D24","v":0},{"$f":"IFERROR(VLOOKUP($D244,料理データ!$A$3:$BK$997,3,FALSE),\"\")","v":""},{"$f":"IFERROR(VLOOKUP($D244,料理データ!$A$3:$BK$997,5,FALSE),\"\")","v":""},{"$f":"IFERROR(VLOOKUP($D244,料理データ!$A$3:$BK$997,8,FALSE),\"\")","v":""},{"$f":"IFERROR(VLOOKUP($D244,料理データ!$A$3:$BK$997,11,FALSE),\"\")","v":""},{"$f":"IFERROR(VLOOKUP($D244,料理データ!$A$3:$BK$997,14,FALSE),\"\")","v":""},{"$f":"IFERROR(VLOOKUP($D244,料理データ!$A$3:$BK$997,17,FALSE),\"\")","v":""},{"$f":"IFERROR(VLOOKUP($D244,料理データ!$A$3:$BK$997,20,FALSE),\"\")","v":""},{"$f":"IFERROR(VLOOKUP($D244,料理データ!$A$3:$BK$997,23,FALSE),\"\")","v":""},{"$f":"IFERROR(VLOOKUP($D244,料理データ!$A$3:$BK$997,26,FALSE),\"\")","v":""},{"$f":"IFERROR(VLOOKUP($D244,料理データ!$A$3:$BK$997,29,FALSE),\"\")","v":""},{"$f":"IFERROR(VLOOKUP($D244,料理データ!$A$3:$BK$997,32,FALSE),\"\")","v":""},{"$f":"IFERROR(VLOOKUP($D244,料理データ!$A$3:$BK$997,35,FALSE),\"\")","v":""},{"$f":"IFERROR(VLOOKUP($D244,料理データ!$A$3:$BK$997,38,FALSE),\"\")","v":""},{"$f":"IFERROR(VLOOKUP($D244,料理データ!$A$3:$BK$997,41,FALSE),\"\")","v":""},{"$f":"IFERROR(VLOOKUP($D244,料理データ!$A$3:$BK$997,44,FALSE),\"\")","v":""},{"$f":"IFERROR(VLOOKUP($D244,料理データ!$A$3:$BK$997,47,FALSE),\"\")","v":""},{"$f":"IFERROR(VLOOKUP($D244,料理データ!$A$3:$BK$997,50,FALSE),\"\")","v":""},{"$f":"IFERROR(VLOOKUP($D244,料理データ!$A$3:$BK$997,53,FALSE),\"\")","v":""},{"$f":"IFERROR(VLOOKUP($D244,料理データ!$A$3:$BK$997,56,FALSE),\"\")","v":""},{"$f":"IFERROR(VLOOKUP($D244,料理データ!$A$3:$BK$997,59,FALSE),\"\")","v":""},{"$f":"IFERROR(VLOOKUP($D244,料理データ!$A$3:$BK$997,62,FALSE),\"\")","v":""},"                   ",{"$f":"SUBSTITUTE(Z244,\"-\",\" \")","v":"                   "}]
[null,null,null,{"$f":"+'月間献立（乳児）'!E24","v":0},{"$f":"IFERROR(VLOOKUP($D245,料理データ!$A$3:$BK$997,3,FALSE),\"\")","v":""},{"$f":"IFERROR(VLOOKUP($D245,料理データ!$A$3:$BK$997,5,FALSE),\"\")","v":""},{"$f":"IFERROR(VLOOKUP($D245,料理データ!$A$3:$BK$997,8,FALSE),\"\")","v":""},{"$f":"IFERROR(VLOOKUP($D245,料理データ!$A$3:$BK$997,11,FALSE),\"\")","v":""},{"$f":"IFERROR(VLOOKUP($D245,料理データ!$A$3:$BK$997,14,FALSE),\"\")","v":""},{"$f":"IFERROR(VLOOKUP($D245,料理データ!$A$3:$BK$997,17,FALSE),\"\")","v":""},{"$f":"IFERROR(VLOOKUP($D245,料理データ!$A$3:$BK$997,20,FALSE),\"\")","v":""},{"$f":"IFERROR(VLOOKUP($D245,料理データ!$A$3:$BK$997,23,FALSE),\"\")","v":""},{"$f":"IFERROR(VLOOKUP($D245,料理データ!$A$3:$BK$997,26,FALSE),\"\")","v":""},{"$f":"IFERROR(VLOOKUP($D245,料理データ!$A$3:$BK$997,29,FALSE),\"\")","v":""},{"$f":"IFERROR(VLOOKUP($D245,料理データ!$A$3:$BK$997,32,FALSE),\"\")","v":""},{"$f":"IFERROR(VLOOKUP($D245,料理データ!$A$3:$BK$997,35,FALSE),\"\")","v":""},{"$f":"IFERROR(VLOOKUP($D245,料理データ!$A$3:$BK$997,38,FALSE),\"\")","v":""},{"$f":"IFERROR(VLOOKUP($D245,料理データ!$A$3:$BK$997,41,FALSE),\"\")","v":""},{"$f":"IFERROR(VLOOKUP($D245,料理データ!$A$3:$BK$997,44,FALSE),\"\")","v":""},{"$f":"IFERROR(VLOOKUP($D245,料理データ!$A$3:$BK$997,47,FALSE),\"\")","v":""},{"$f":"IFERROR(VLOOKUP($D245,料理データ!$A$3:$BK$997,50,FALSE),\"\")","v":""},{"$f":"IFERROR(VLOOKUP($D245,料理データ!$A$3:$BK$997,53,FALSE),\"\")","v":""},{"$f":"IFERROR(VLOOKUP($D245,料理データ!$A$3:$BK$997,56,FALSE),\"\")","v":""},{"$f":"IFERROR(VLOOKUP($D245,料理データ!$A$3:$BK$997,59,FALSE),\"\")","v":""},{"$f":"IFERROR(VLOOKUP($D245,料理データ!$A$3:$BK$997,62,FALSE),\"\")","v":""},"                   ",{"$f":"SUBSTITUTE(Z245,\"-\",\" \")","v":"                   "}]
[null,null,"昼食",{"$f":"+'月間献立（乳児）'!F24","v":0},{"$f":"IFERROR(VLOOKUP($D246,料理データ!$A$3:$BK$997,3,FALSE),\"\")","v":""},{"$f":"IFERROR(VLOOKUP($D246,料理データ!$A$3:$BK$997,5,FALSE),\"\")","v":""},{"$f":"IFERROR(VLOOKUP($D246,料理データ!$A$3:$BK$997,8,FALSE),\"\")","v":""},{"$f":"IFERROR(VLOOKUP($D246,料理データ!$A$3:$BK$997,11,FALSE),\"\")","v":""},{"$f":"IFERROR(VLOOKUP($D246,料理データ!$A$3:$BK$997,14,FALSE),\"\")","v":""},{"$f":"IFERROR(VLOOKUP($D246,料理データ!$A$3:$BK$997,17,FALSE),\"\")","v":""},{"$f":"IFERROR(VLOOKUP($D246,料理データ!$A$3:$BK$997,20,FALSE),\"\")","v":""},{"$f":"IFERROR(VLOOKUP($D246,料理データ!$A$3:$BK$997,23,FALSE),\"\")","v":""},{"$f":"IFERROR(VLOOKUP($D246,料理データ!$A$3:$BK$997,26,FALSE),\"\")","v":""},{"$f":"IFERROR(VLOOKUP($D246,料理データ!$A$3:$BK$997,29,FALSE),\"\")","v":""},{"$f":"IFERROR(VLOOKUP($D246,料理データ!$A$3:$BK$997,32,FALSE),\"\")","v":""},{"$f":"IFERROR(VLOOKUP($D246,料理データ!$A$3:$BK$997,35,FALSE),\"\")","v":""},{"$f":"IFERROR(VLOOKUP($D246,料理データ!$A$3:$BK$997,38,FALSE),\"\")","v":""},{"$f":"IFERROR(VLOOKUP($D246,料理データ!$A$3:$BK$997,41,FALSE),\"\")","v":""},{"$f":"IFERROR(VLOOKUP($D246,料理データ!$A$3:$BK$997,44,FALSE),\"\")","v":""},{"$f":"IFERROR(VLOOKUP($D246,料理データ!$A$3:$BK$997,47,FALSE),\"\")","v":""},{"$f":"IFERROR(VLOOKUP($D246,料理データ!$A$3:$BK$997,50,FALSE),\"\")","v":""},{"$f":"IFERROR(VLOOKUP($D246,料理データ!$A$3:$BK$997,53,FALSE),\"\")","v":""},{"$f":"IFERROR(VLOOKUP($D246,料理データ!$A$3:$BK$997,56,FALSE),\"\")","v":""},{"$f":"IFERROR(VLOOKUP($D246,料理データ!$A$3:$BK$997,59,FALSE),\"\")","v":""},{"$f":"IFERROR(VLOOKUP($D246,料理データ!$A$3:$BK$997,62,FALSE),\"\")","v":""},"                   ","                   "]
[null,null,null,{"$f":"+'月間献立（乳児）'!G24","v":0},{"$f":"IFERROR(VLOOKUP($D247,料理データ!$A$3:$BK$997,3,FALSE),\"\")","v":""},{"$f":"IFERROR(VLOOKUP($D247,料理データ!$A$3:$BK$997,5,FALSE),\"\")","v":""},{"$f":"IFERROR(VLOOKUP($D247,料理データ!$A$3:$BK$997,8,FALSE),\"\")","v":""},{"$f":"IFERROR(VLOOKUP($D247,料理データ!$A$3:$BK$997,11,FALSE),\"\")","v":""},{"$f":"IFERROR(VLOOKUP($D247,料理データ!$A$3:$BK$997,14,FALSE),\"\")","v":""},{"$f":"IFERROR(VLOOKUP($D247,料理データ!$A$3:$BK$997,17,FALSE),\"\")","v":""},{"$f":"IFERROR(VLOOKUP($D247,料理データ!$A$3:$BK$997,20,FALSE),\"\")","v":""},{"$f":"IFERROR(VLOOKUP($D247,料理データ!$A$3:$BK$997,23,FALSE),\"\")","v":""},{"$f":"IFERROR(VLOOKUP($D247,料理データ!$A$3:$BK$997,26,FALSE),\"\")","v":""},{"$f":"IFERROR(VLOOKUP($D247,料理データ!$A$3:$BK$997,29,FALSE),\"\")","v":""},{"$f":"IFERROR(VLOOKUP($D247,料理データ!$A$3:$BK$997,32,FALSE),\"\")","v":""},{"$f":"IFERROR(VLOOKUP($D247,料理データ!$A$3:$BK$997,35,FALSE),\"\")","v":""},{"$f":"IFERROR(VLOOKUP($D247,料理データ!$A$3:$BK$997,38,FALSE),\"\")","v":""},{"$f":"IFERROR(VLOOKUP($D247,料理データ!$A$3:$BK$997,41,FALSE),\"\")","v":""},{"$f":"IFERROR(VLOOKUP($D247,料理データ!$A$3:$BK$997,44,FALSE),\"\")","v":""},{"$f":"IFERROR(VLOOKUP($D247,料理データ!$A$3:$BK$997,47,FALSE),\"\")","v":""},{"$f":"IFERROR(VLOOKUP($D247,料理データ!$A$3:$BK$997,50,FALSE),\"\")","v":""},{"$f":"IFERROR(VLOOKUP($D247,料理データ!$A$3:$BK$997,53,FALSE),\"\")","v":""},{"$f":"IFERROR(VLOOKUP($D247,料理データ!$A$3:$BK$997,56,FALSE),\"\")","v":""},{"$f":"IFERROR(VLOOKUP($D247,料理データ!$A$3:$BK$997,59,FALSE),\"\")","v":""},{"$f":"IFERROR(VLOOKUP($D247,料理データ!$A$3:$BK$997,62,FALSE),\"\")","v":""},"                   ","                   "]
[null,null,null,{"$f":"+'月間献立（乳児）'!H24","v":0},{"$f":"IFERROR(VLOOKUP($D248,料理データ!$A$3:$BK$997,3,FALSE),\"\")","v":""},{"$f":"IFERROR(VLOOKUP($D248,料理データ!$A$3:$BK$997,5,FALSE),\"\")","v":""},{"$f":"IFERROR(VLOOKUP($D248,料理データ!$A$3:$BK$997,8,FALSE),\"\")","v":""},{"$f":"IFERROR(VLOOKUP($D248,料理データ!$A$3:$BK$997,11,FALSE),\"\")","v":""},{"$f":"IFERROR(VLOOKUP($D248,料理データ!$A$3:$BK$997,14,FALSE),\"\")","v":""},{"$f":"IFERROR(VLOOKUP($D248,料理データ!$A$3:$BK$997,17,FALSE),\"\")","v":""},{"$f":"IFERROR(VLOOKUP($D248,料理データ!$A$3:$BK$997,20,FALSE),\"\")","v":""},{"$f":"IFERROR(VLOOKUP($D248,料理データ!$A$3:$BK$997,23,FALSE),\"\")","v":""},{"$f":"IFERROR(VLOOKUP($D248,料理データ!$A$3:$BK$997,26,FALSE),\"\")","v":""},{"$f":"IFERROR(VLOOKUP($D248,料理データ!$A$3:$BK$997,29,FALSE),\"\")","v":""},{"$f":"IFERROR(VLOOKUP($D248,料理データ!$A$3:$BK$997,32,FALSE),\"\")","v":""},{"$f":"IFERROR(VLOOKUP($D248,料理データ!$A$3:$BK$997,35,FALSE),\"\")","v":""},{"$f":"IFERROR(VLOOKUP($D248,料理データ!$A$3:$BK$997,38,FALSE),\"\")","v":""},{"$f":"IFERROR(VLOOKUP($D248,料理データ!$A$3:$BK$997,41,FALSE),\"\")","v":""},{"$f":"IFERROR(VLOOKUP($D248,料理データ!$A$3:$BK$997,44,FALSE),\"\")","v":""},{"$f":"IFERROR(VLOOKUP($D248,料理データ!$A$3:$BK$997,47,FALSE),\"\")","v":""},{"$f":"IFERROR(VLOOKUP($D248,料理データ!$A$3:$BK$997,50,FALSE),\"\")","v":""},{"$f":"IFERROR(VLOOKUP($D248,料理データ!$A$3:$BK$997,53,FALSE),\"\")","v":""},{"$f":"IFERROR(VLOOKUP($D248,料理データ!$A$3:$BK$997,56,FALSE),\"\")","v":""},{"$f":"IFERROR(VLOOKUP($D248,料理データ!$A$3:$BK$997,59,FALSE),\"\")","v":""},{"$f":"IFERROR(VLOOKUP($D248,料理データ!$A$3:$BK$997,62,FALSE),\"\")","v":""},"                   ","                   "]
[null,null,null,{"$f":"+'月間献立（乳児）'!I24","v":0},{"$f":"IFERROR(VLOOKUP($D249,料理データ!$A$3:$BK$997,3,FALSE),\"\")","v":""},{"$f":"IFERROR(VLOOKUP($D249,料理データ!$A$3:$BK$997,5,FALSE),\"\")","v":""},{"$f":"IFERROR(VLOOKUP($D249,料理データ!$A$3:$BK$997,8,FALSE),\"\")","v":""},{"$f":"IFERROR(VLOOKUP($D249,料理データ!$A$3:$BK$997,11,FALSE),\"\")","v":""},{"$f":"IFERROR(VLOOKUP($D249,料理データ!$A$3:$BK$997,14,FALSE),\"\")","v":""},{"$f":"IFERROR(VLOOKUP($D249,料理データ!$A$3:$BK$997,17,FALSE),\"\")","v":""},{"$f":"IFERROR(VLOOKUP($D249,料理データ!$A$3:$BK$997,20,FALSE),\"\")","v":""},{"$f":"IFERROR(VLOOKUP($D249,料理データ!$A$3:$BK$997,23,FALSE),\"\")","v":""},{"$f":"IFERROR(VLOOKUP($D249,料理データ!$A$3:$BK$997,26,FALSE),\"\")","v":""},{"$f":"IFERROR(VLOOKUP($D249,料理データ!$A$3:$BK$997,29,FALSE),\"\")","v":""},{"$f":"IFERROR(VLOOKUP($D249,料理データ!$A$3:$BK$997,32,FALSE),\"\")","v":""},{"$f":"IFERROR(VLOOKUP($D249,料理データ!$A$3:$BK$997,35,FALSE),\"\")","v":""},{"$f":"IFERROR(VLOOKUP($D249,料理データ!$A$3:$BK$997,38,FALSE),\"\")","v":""},{"$f":"IFERROR(VLOOKUP($D249,料理データ!$A$3:$BK$997,41,FALSE),\"\")","v":""},{"$f":"IFERROR(VLOOKUP($D249,料理データ!$A$3:$BK$997,44,FALSE),\"\")","v":""},{"$f":"IFERROR(VLOOKUP($D249,料理データ!$A$3:$BK$997,47,FALSE),\"\")","v":""},{"$f":"IFERROR(VLOOKUP($D249,料理データ!$A$3:$BK$997,50,FALSE),\"\")","v":""},{"$f":"IFERROR(VLOOKUP($D249,料理データ!$A$3:$BK$997,53,FALSE),\"\")","v":""},{"$f":"IFERROR(VLOOKUP($D249,料理データ!$A$3:$BK$997,56,FALSE),\"\")","v":""},{"$f":"IFERROR(VLOOKUP($D249,料理データ!$A$3:$BK$997,59,FALSE),\"\")","v":""},{"$f":"IFERROR(VLOOKUP($D249,料理データ!$A$3:$BK$997,62,FALSE),\"\")","v":""},"                   ","                   "]
[null,null,null,{"$f":"+'月間献立（乳児）'!J24","v":0},{"$f":"IFERROR(VLOOKUP($D250,料理データ!$A$3:$BK$997,3,FALSE),\"\")","v":""},{"$f":"IFERROR(VLOOKUP($D250,料理データ!$A$3:$BK$997,5,FALSE),\"\")","v":""},{"$f":"IFERROR(VLOOKUP($D250,料理データ!$A$3:$BK$997,8,FALSE),\"\")","v":""},{"$f":"IFERROR(VLOOKUP($D250,料理データ!$A$3:$BK$997,11,FALSE),\"\")","v":""},{"$f":"IFERROR(VLOOKUP($D250,料理データ!$A$3:$BK$997,14,FALSE),\"\")","v":""},{"$f":"IFERROR(VLOOKUP($D250,料理データ!$A$3:$BK$997,17,FALSE),\"\")","v":""},{"$f":"IFERROR(VLOOKUP($D250,料理データ!$A$3:$BK$997,20,FALSE),\"\")","v":""},{"$f":"IFERROR(VLOOKUP($D250,料理データ!$A$3:$BK$997,23,FALSE),\"\")","v":""},{"$f":"IFERROR(VLOOKUP($D250,料理データ!$A$3:$BK$997,26,FALSE),\"\")","v":""},{"$f":"IFERROR(VLOOKUP($D250,料理データ!$A$3:$BK$997,29,FALSE),\"\")","v":""},{"$f":"IFERROR(VLOOKUP($D250,料理データ!$A$3:$BK$997,32,FALSE),\"\")","v":""},{"$f":"IFERROR(VLOOKUP($D250,料理データ!$A$3:$BK$997,35,FALSE),\"\")","v":""},{"$f":"IFERROR(VLOOKUP($D250,料理データ!$A$3:$BK$997,38,FALSE),\"\")","v":""},{"$f":"IFERROR(VLOOKUP($D250,料理データ!$A$3:$BK$997,41,FALSE),\"\")","v":""},{"$f":"IFERROR(VLOOKUP($D250,料理データ!$A$3:$BK$997,44,FALSE),\"\")","v":""},{"$f":"IFERROR(VLOOKUP($D250,料理データ!$A$3:$BK$997,47,FALSE),\"\")","v":""},{"$f":"IFERROR(VLOOKUP($D250,料理データ!$A$3:$BK$997,50,FALSE),\"\")","v":""},{"$f":"IFERROR(VLOOKUP($D250,料理データ!$A$3:$BK$997,53,FALSE),\"\")","v":""},{"$f":"IFERROR(VLOOKUP($D250,料理データ!$A$3:$BK$997,56,FALSE),\"\")","v":""},{"$f":"IFERROR(VLOOKUP($D250,料理データ!$A$3:$BK$997,59,FALSE),\"\")","v":""},{"$f":"IFERROR(VLOOKUP($D250,料理データ!$A$3:$BK$997,62,FALSE),\"\")","v":""},"                   ","                   "]
[null,null,null,{"$f":"+'月間献立（乳児）'!K24","v":0},{"$f":"IFERROR(VLOOKUP($D251,料理データ!$A$3:$BK$997,3,FALSE),\"\")","v":""},{"$f":"IFERROR(VLOOKUP($D251,料理データ!$A$3:$BK$997,5,FALSE),\"\")","v":""},{"$f":"IFERROR(VLOOKUP($D251,料理データ!$A$3:$BK$997,8,FALSE),\"\")","v":""},{"$f":"IFERROR(VLOOKUP($D251,料理データ!$A$3:$BK$997,11,FALSE),\"\")","v":""},{"$f":"IFERROR(VLOOKUP($D251,料理データ!$A$3:$BK$997,14,FALSE),\"\")","v":""},{"$f":"IFERROR(VLOOKUP($D251,料理データ!$A$3:$BK$997,17,FALSE),\"\")","v":""},{"$f":"IFERROR(VLOOKUP($D251,料理データ!$A$3:$BK$997,20,FALSE),\"\")","v":""},{"$f":"IFERROR(VLOOKUP($D251,料理データ!$A$3:$BK$997,23,FALSE),\"\")","v":""},{"$f":"IFERROR(VLOOKUP($D251,料理データ!$A$3:$BK$997,26,FALSE),\"\")","v":""},{"$f":"IFERROR(VLOOKUP($D251,料理データ!$A$3:$BK$997,29,FALSE),\"\")","v":""},{"$f":"IFERROR(VLOOKUP($D251,料理データ!$A$3:$BK$997,32,FALSE),\"\")","v":""},{"$f":"IFERROR(VLOOKUP($D251,料理データ!$A$3:$BK$997,35,FALSE),\"\")","v":""},{"$f":"IFERROR(VLOOKUP($D251,料理データ!$A$3:$BK$997,38,FALSE),\"\")","v":""},{"$f":"IFERROR(VLOOKUP($D251,料理データ!$A$3:$BK$997,41,FALSE),\"\")","v":""},{"$f":"IFERROR(VLOOKUP($D251,料理データ!$A$3:$BK$997,44,FALSE),\"\")","v":""},{"$f":"IFERROR(VLOOKUP($D251,料理データ!$A$3:$BK$997,47,FALSE),\"\")","v":""},{"$f":"IFERROR(VLOOKUP($D251,料理データ!$A$3:$BK$997,50,FALSE),\"\")","v":""},{"$f":"IFERROR(VLOOKUP($D251,料理データ!$A$3:$BK$997,53,FALSE),\"\")","v":""},{"$f":"IFERROR(VLOOKUP($D251,料理データ!$A$3:$BK$997,56,FALSE),\"\")","v":""},{"$f":"IFERROR(VLOOKUP($D251,料理データ!$A$3:$BK$997,59,FALSE),\"\")","v":""},{"$f":"IFERROR(VLOOKUP($D251,料理データ!$A$3:$BK$997,62,FALSE),\"\")","v":""},"                   ","                   "]
[null,null,"午後おやつ",{"$f":"+'月間献立（乳児）'!L24","v":0},{"$f":"IFERROR(VLOOKUP($D252,料理データ!$A$3:$BK$997,3,FALSE),\"\")","v":""},{"$f":"IFERROR(VLOOKUP($D252,料理データ!$A$3:$BK$997,5,FALSE),\"\")","v":""},{"$f":"IFERROR(VLOOKUP($D252,料理データ!$A$3:$BK$997,8,FALSE),\"\")","v":""},{"$f":"IFERROR(VLOOKUP($D252,料理データ!$A$3:$BK$997,11,FALSE),\"\")","v":""},{"$f":"IFERROR(VLOOKUP($D252,料理データ!$A$3:$BK$997,14,FALSE),\"\")","v":""},{"$f":"IFERROR(VLOOKUP($D252,料理データ!$A$3:$BK$997,17,FALSE),\"\")","v":""},{"$f":"IFERROR(VLOOKUP($D252,料理データ!$A$3:$BK$997,20,FALSE),\"\")","v":""},{"$f":"IFERROR(VLOOKUP($D252,料理データ!$A$3:$BK$997,23,FALSE),\"\")","v":""},{"$f":"IFERROR(VLOOKUP($D252,料理データ!$A$3:$BK$997,26,FALSE),\"\")","v":""},{"$f":"IFERROR(VLOOKUP($D252,料理データ!$A$3:$BK$997,29,FALSE),\"\")","v":""},{"$f":"IFERROR(VLOOKUP($D252,料理データ!$A$3:$BK$997,32,FALSE),\"\")","v":""},{"$f":"IFERROR(VLOOKUP($D252,料理データ!$A$3:$BK$997,35,FALSE),\"\")","v":""},{"$f":"IFERROR(VLOOKUP($D252,料理データ!$A$3:$BK$997,38,FALSE),\"\")","v":""},{"$f":"IFERROR(VLOOKUP($D252,料理データ!$A$3:$BK$997,41,FALSE),\"\")","v":""},{"$f":"IFERROR(VLOOKUP($D252,料理データ!$A$3:$BK$997,44,FALSE),\"\")","v":""},{"$f":"IFERROR(VLOOKUP($D252,料理データ!$A$3:$BK$997,47,FALSE),\"\")","v":""},{"$f":"IFERROR(VLOOKUP($D252,料理データ!$A$3:$BK$997,50,FALSE),\"\")","v":""},{"$f":"IFERROR(VLOOKUP($D252,料理データ!$A$3:$BK$997,53,FALSE),\"\")","v":""},{"$f":"IFERROR(VLOOKUP($D252,料理データ!$A$3:$BK$997,56,FALSE),\"\")","v":""},{"$f":"IFERROR(VLOOKUP($D252,料理データ!$A$3:$BK$997,59,FALSE),\"\")","v":""},{"$f":"IFERROR(VLOOKUP($D252,料理データ!$A$3:$BK$997,62,FALSE),\"\")","v":""},"                   ","                   "]
[null,null,null,{"$f":"+'月間献立（乳児）'!M24","v":0},{"$f":"IFERROR(VLOOKUP($D253,料理データ!$A$3:$BK$997,3,FALSE),\"\")","v":""},{"$f":"IFERROR(VLOOKUP($D253,料理データ!$A$3:$BK$997,5,FALSE),\"\")","v":""},{"$f":"IFERROR(VLOOKUP($D253,料理データ!$A$3:$BK$997,8,FALSE),\"\")","v":""},{"$f":"IFERROR(VLOOKUP($D253,料理データ!$A$3:$BK$997,11,FALSE),\"\")","v":""},{"$f":"IFERROR(VLOOKUP($D253,料理データ!$A$3:$BK$997,14,FALSE),\"\")","v":""},{"$f":"IFERROR(VLOOKUP($D253,料理データ!$A$3:$BK$997,17,FALSE),\"\")","v":""},{"$f":"IFERROR(VLOOKUP($D253,料理データ!$A$3:$BK$997,20,FALSE),\"\")","v":""},{"$f":"IFERROR(VLOOKUP($D253,料理データ!$A$3:$BK$997,23,FALSE),\"\")","v":""},{"$f":"IFERROR(VLOOKUP($D253,料理データ!$A$3:$BK$997,26,FALSE),\"\")","v":""},{"$f":"IFERROR(VLOOKUP($D253,料理データ!$A$3:$BK$997,29,FALSE),\"\")","v":""},{"$f":"IFERROR(VLOOKUP($D253,料理データ!$A$3:$BK$997,32,FALSE),\"\")","v":""},{"$f":"IFERROR(VLOOKUP($D253,料理データ!$A$3:$BK$997,35,FALSE),\"\")","v":""},{"$f":"IFERROR(VLOOKUP($D253,料理データ!$A$3:$BK$997,38,FALSE),\"\")","v":""},{"$f":"IFERROR(VLOOKUP($D253,料理データ!$A$3:$BK$997,41,FALSE),\"\")","v":""},{"$f":"IFERROR(VLOOKUP($D253,料理データ!$A$3:$BK$997,44,FALSE),\"\")","v":""},{"$f":"IFERROR(VLOOKUP($D253,料理データ!$A$3:$BK$997,47,FALSE),\"\")","v":""},{"$f":"IFERROR(VLOOKUP($D253,料理データ!$A$3:$BK$997,50,FALSE),\"\")","v":""},{"$f":"IFERROR(VLOOKUP($D253,料理データ!$A$3:$BK$997,53,FALSE),\"\")","v":""},{"$f":"IFERROR(VLOOKUP($D253,料理データ!$A$3:$BK$997,56,FALSE),\"\")","v":""},{"$f":"IFERROR(VLOOKUP($D253,料理データ!$A$3:$BK$997,59,FALSE),\"\")","v":""},{"$f":"IFERROR(VLOOKUP($D253,料理データ!$A$3:$BK$997,62,FALSE),\"\")","v":""},"                   ","                   "]
[null,null,null,{"$f":"+'月間献立（乳児）'!N24","v":0},{"$f":"IFERROR(VLOOKUP($D254,料理データ!$A$3:$BK$997,3,FALSE),\"\")","v":""},{"$f":"IFERROR(VLOOKUP($D254,料理データ!$A$3:$BK$997,5,FALSE),\"\")","v":""},{"$f":"IFERROR(VLOOKUP($D254,料理データ!$A$3:$BK$997,8,FALSE),\"\")","v":""},{"$f":"IFERROR(VLOOKUP($D254,料理データ!$A$3:$BK$997,11,FALSE),\"\")","v":""},{"$f":"IFERROR(VLOOKUP($D254,料理データ!$A$3:$BK$997,14,FALSE),\"\")","v":""},{"$f":"IFERROR(VLOOKUP($D254,料理データ!$A$3:$BK$997,17,FALSE),\"\")","v":""},{"$f":"IFERROR(VLOOKUP($D254,料理データ!$A$3:$BK$997,20,FALSE),\"\")","v":""},{"$f":"IFERROR(VLOOKUP($D254,料理データ!$A$3:$BK$997,23,FALSE),\"\")","v":""},{"$f":"IFERROR(VLOOKUP($D254,料理データ!$A$3:$BK$997,26,FALSE),\"\")","v":""},{"$f":"IFERROR(VLOOKUP($D254,料理データ!$A$3:$BK$997,29,FALSE),\"\")","v":""},{"$f":"IFERROR(VLOOKUP($D254,料理データ!$A$3:$BK$997,32,FALSE),\"\")","v":""},{"$f":"IFERROR(VLOOKUP($D254,料理データ!$A$3:$BK$997,35,FALSE),\"\")","v":""},{"$f":"IFERROR(VLOOKUP($D254,料理データ!$A$3:$BK$997,38,FALSE),\"\")","v":""},{"$f":"IFERROR(VLOOKUP($D254,料理データ!$A$3:$BK$997,41,FALSE),\"\")","v":""},{"$f":"IFERROR(VLOOKUP($D254,料理データ!$A$3:$BK$997,44,FALSE),\"\")","v":""},{"$f":"IFERROR(VLOOKUP($D254,料理データ!$A$3:$BK$997,47,FALSE),\"\")","v":""},{"$f":"IFERROR(VLOOKUP($D254,料理データ!$A$3:$BK$997,50,FALSE),\"\")","v":""},{"$f":"IFERROR(VLOOKUP($D254,料理データ!$A$3:$BK$997,53,FALSE),\"\")","v":""},{"$f":"IFERROR(VLOOKUP($D254,料理データ!$A$3:$BK$997,56,FALSE),\"\")","v":""},{"$f":"IFERROR(VLOOKUP($D254,料理データ!$A$3:$BK$997,59,FALSE),\"\")","v":""},{"$f":"IFERROR(VLOOKUP($D254,料理データ!$A$3:$BK$997,62,FALSE),\"\")","v":""},"                   ",{"$f":"SUBSTITUTE(Z254,\"-\",\"\")","v":"                   "}]
[{"$f":"+'月間献立（幼児）'!A26","v":22},{"$f":"+'月間献立（幼児）'!B26","v":"(土)"},"午前おやつ",{"$f":"+'月間献立（乳児）'!C25","v":0},{"$f":"IFERROR(VLOOKUP($D255,料理データ!$A$3:$BK$997,3,FALSE),\"\")","v":""},{"$f":"IFERROR(VLOOKUP($D255,料理データ!$A$3:$BK$997,5,FALSE),\"\")","v":""},{"$f":"IFERROR(VLOOKUP($D255,料理データ!$A$3:$BK$997,8,FALSE),\"\")","v":""},{"$f":"IFERROR(VLOOKUP($D255,料理データ!$A$3:$BK$997,11,FALSE),\"\")","v":""},{"$f":"IFERROR(VLOOKUP($D255,料理データ!$A$3:$BK$997,14,FALSE),\"\")","v":""},{"$f":"IFERROR(VLOOKUP($D255,料理データ!$A$3:$BK$997,17,FALSE),\"\")","v":""},{"$f":"IFERROR(VLOOKUP($D255,料理データ!$A$3:$BK$997,20,FALSE),\"\")","v":""},{"$f":"IFERROR(VLOOKUP($D255,料理データ!$A$3:$BK$997,23,FALSE),\"\")","v":""},{"$f":"IFERROR(VLOOKUP($D255,料理データ!$A$3:$BK$997,26,FALSE),\"\")","v":""},{"$f":"IFERROR(VLOOKUP($D255,料理データ!$A$3:$BK$997,29,FALSE),\"\")","v":""},{"$f":"IFERROR(VLOOKUP($D255,料理データ!$A$3:$BK$997,32,FALSE),\"\")","v":""},{"$f":"IFERROR(VLOOKUP($D255,料理データ!$A$3:$BK$997,35,FALSE),\"\")","v":""},{"$f":"IFERROR(VLOOKUP($D255,料理データ!$A$3:$BK$997,38,FALSE),\"\")","v":""},{"$f":"IFERROR(VLOOKUP($D255,料理データ!$A$3:$BK$997,41,FALSE),\"\")","v":""},{"$f":"IFERROR(VLOOKUP($D255,料理データ!$A$3:$BK$997,44,FALSE),\"\")","v":""},{"$f":"IFERROR(VLOOKUP($D255,料理データ!$A$3:$BK$997,47,FALSE),\"\")","v":""},{"$f":"IFERROR(VLOOKUP($D255,料理データ!$A$3:$BK$997,50,FALSE),\"\")","v":""},{"$f":"IFERROR(VLOOKUP($D255,料理データ!$A$3:$BK$997,53,FALSE),\"\")","v":""},{"$f":"IFERROR(VLOOKUP($D255,料理データ!$A$3:$BK$997,56,FALSE),\"\")","v":""},{"$f":"IFERROR(VLOOKUP($D255,料理データ!$A$3:$BK$997,59,FALSE),\"\")","v":""},{"$f":"IFERROR(VLOOKUP($D255,料理データ!$A$3:$BK$997,62,FALSE),\"\")","v":""},"                   ",{"$f":"SUBSTITUTE(Z255,\"-\",\" \")","v":"                   "},{"$f":"TRIM(CONCATENATE(AA255,AA256,AA257,\"▲\",AA258,AA259,AA260,AA261,AA262,AA263,\"▲\",AA264,AA265,AA266))","v":"▲ ▲"}]
[null,null,null,{"$f":"+'月間献立（乳児）'!D25","v":0},{"$f":"IFERROR(VLOOKUP($D256,料理データ!$A$3:$BK$997,3,FALSE),\"\")","v":""},{"$f":"IFERROR(VLOOKUP($D256,料理データ!$A$3:$BK$997,5,FALSE),\"\")","v":""},{"$f":"IFERROR(VLOOKUP($D256,料理データ!$A$3:$BK$997,8,FALSE),\"\")","v":""},{"$f":"IFERROR(VLOOKUP($D256,料理データ!$A$3:$BK$997,11,FALSE),\"\")","v":""},{"$f":"IFERROR(VLOOKUP($D256,料理データ!$A$3:$BK$997,14,FALSE),\"\")","v":""},{"$f":"IFERROR(VLOOKUP($D256,料理データ!$A$3:$BK$997,17,FALSE),\"\")","v":""},{"$f":"IFERROR(VLOOKUP($D256,料理データ!$A$3:$BK$997,20,FALSE),\"\")","v":""},{"$f":"IFERROR(VLOOKUP($D256,料理データ!$A$3:$BK$997,23,FALSE),\"\")","v":""},{"$f":"IFERROR(VLOOKUP($D256,料理データ!$A$3:$BK$997,26,FALSE),\"\")","v":""},{"$f":"IFERROR(VLOOKUP($D256,料理データ!$A$3:$BK$997,29,FALSE),\"\")","v":""},{"$f":"IFERROR(VLOOKUP($D256,料理データ!$A$3:$BK$997,32,FALSE),\"\")","v":""},{"$f":"IFERROR(VLOOKUP($D256,料理データ!$A$3:$BK$997,35,FALSE),\"\")","v":""},{"$f":"IFERROR(VLOOKUP($D256,料理データ!$A$3:$BK$997,38,FALSE),\"\")","v":""},{"$f":"IFERROR(VLOOKUP($D256,料理データ!$A$3:$BK$997,41,FALSE),\"\")","v":""},{"$f":"IFERROR(VLOOKUP($D256,料理データ!$A$3:$BK$997,44,FALSE),\"\")","v":""},{"$f":"IFERROR(VLOOKUP($D256,料理データ!$A$3:$BK$997,47,FALSE),\"\")","v":""},{"$f":"IFERROR(VLOOKUP($D256,料理データ!$A$3:$BK$997,50,FALSE),\"\")","v":""},{"$f":"IFERROR(VLOOKUP($D256,料理データ!$A$3:$BK$997,53,FALSE),\"\")","v":""},{"$f":"IFERROR(VLOOKUP($D256,料理データ!$A$3:$BK$997,56,FALSE),\"\")","v":""},{"$f":"IFERROR(VLOOKUP($D256,料理データ!$A$3:$BK$997,59,FALSE),\"\")","v":""},{"$f":"IFERROR(VLOOKUP($D256,料理データ!$A$3:$BK$997,62,FALSE),\"\")","v":""},"                   ",{"$f":"SUBSTITUTE(Z256,\"-\",\" \")","v":"                   "}]
[null,null,null,{"$f":"+'月間献立（乳児）'!E25","v":0},{"$f":"IFERROR(VLOOKUP($D257,料理データ!$A$3:$BK$997,3,FALSE),\"\")","v":""},{"$f":"IFERROR(VLOOKUP($D257,料理データ!$A$3:$BK$997,5,FALSE),\"\")","v":""},{"$f":"IFERROR(VLOOKUP($D257,料理データ!$A$3:$BK$997,8,FALSE),\"\")","v":""},{"$f":"IFERROR(VLOOKUP($D257,料理データ!$A$3:$BK$997,11,FALSE),\"\")","v":""},{"$f":"IFERROR(VLOOKUP($D257,料理データ!$A$3:$BK$997,14,FALSE),\"\")","v":""},{"$f":"IFERROR(VLOOKUP($D257,料理データ!$A$3:$BK$997,17,FALSE),\"\")","v":""},{"$f":"IFERROR(VLOOKUP($D257,料理データ!$A$3:$BK$997,20,FALSE),\"\")","v":""},{"$f":"IFERROR(VLOOKUP($D257,料理データ!$A$3:$BK$997,23,FALSE),\"\")","v":""},{"$f":"IFERROR(VLOOKUP($D257,料理データ!$A$3:$BK$997,26,FALSE),\"\")","v":""},{"$f":"IFERROR(VLOOKUP($D257,料理データ!$A$3:$BK$997,29,FALSE),\"\")","v":""},{"$f":"IFERROR(VLOOKUP($D257,料理データ!$A$3:$BK$997,32,FALSE),\"\")","v":""},{"$f":"IFERROR(VLOOKUP($D257,料理データ!$A$3:$BK$997,35,FALSE),\"\")","v":""},{"$f":"IFERROR(VLOOKUP($D257,料理データ!$A$3:$BK$997,38,FALSE),\"\")","v":""},{"$f":"IFERROR(VLOOKUP($D257,料理データ!$A$3:$BK$997,41,FALSE),\"\")","v":""},{"$f":"IFERROR(VLOOKUP($D257,料理データ!$A$3:$BK$997,44,FALSE),\"\")","v":""},{"$f":"IFERROR(VLOOKUP($D257,料理データ!$A$3:$BK$997,47,FALSE),\"\")","v":""},{"$f":"IFERROR(VLOOKUP($D257,料理データ!$A$3:$BK$997,50,FALSE),\"\")","v":""},{"$f":"IFERROR(VLOOKUP($D257,料理データ!$A$3:$BK$997,53,FALSE),\"\")","v":""},{"$f":"IFERROR(VLOOKUP($D257,料理データ!$A$3:$BK$997,56,FALSE),\"\")","v":""},{"$f":"IFERROR(VLOOKUP($D257,料理データ!$A$3:$BK$997,59,FALSE),\"\")","v":""},{"$f":"IFERROR(VLOOKUP($D257,料理データ!$A$3:$BK$997,62,FALSE),\"\")","v":""},"                   ",{"$f":"SUBSTITUTE(Z257,\"-\",\" \")","v":"                   "}]
[null,null,"昼食",{"$f":"+'月間献立（乳児）'!F25","v":0},{"$f":"IFERROR(VLOOKUP($D258,料理データ!$A$3:$BK$997,3,FALSE),\"\")","v":""},{"$f":"IFERROR(VLOOKUP($D258,料理データ!$A$3:$BK$997,5,FALSE),\"\")","v":""},{"$f":"IFERROR(VLOOKUP($D258,料理データ!$A$3:$BK$997,8,FALSE),\"\")","v":""},{"$f":"IFERROR(VLOOKUP($D258,料理データ!$A$3:$BK$997,11,FALSE),\"\")","v":""},{"$f":"IFERROR(VLOOKUP($D258,料理データ!$A$3:$BK$997,14,FALSE),\"\")","v":""},{"$f":"IFERROR(VLOOKUP($D258,料理データ!$A$3:$BK$997,17,FALSE),\"\")","v":""},{"$f":"IFERROR(VLOOKUP($D258,料理データ!$A$3:$BK$997,20,FALSE),\"\")","v":""},{"$f":"IFERROR(VLOOKUP($D258,料理データ!$A$3:$BK$997,23,FALSE),\"\")","v":""},{"$f":"IFERROR(VLOOKUP($D258,料理データ!$A$3:$BK$997,26,FALSE),\"\")","v":""},{"$f":"IFERROR(VLOOKUP($D258,料理データ!$A$3:$BK$997,29,FALSE),\"\")","v":""},{"$f":"IFERROR(VLOOKUP($D258,料理データ!$A$3:$BK$997,32,FALSE),\"\")","v":""},{"$f":"IFERROR(VLOOKUP($D258,料理データ!$A$3:$BK$997,35,FALSE),\"\")","v":""},{"$f":"IFERROR(VLOOKUP($D258,料理データ!$A$3:$BK$997,38,FALSE),\"\")","v":""},{"$f":"IFERROR(VLOOKUP($D258,料理データ!$A$3:$BK$997,41,FALSE),\"\")","v":""},{"$f":"IFERROR(VLOOKUP($D258,料理データ!$A$3:$BK$997,44,FALSE),\"\")","v":""},{"$f":"IFERROR(VLOOKUP($D258,料理データ!$A$3:$BK$997,47,FALSE),\"\")","v":""},{"$f":"IFERROR(VLOOKUP($D258,料理データ!$A$3:$BK$997,50,FALSE),\"\")","v":""},{"$f":"IFERROR(VLOOKUP($D258,料理データ!$A$3:$BK$997,53,FALSE),\"\")","v":""},{"$f":"IFERROR(VLOOKUP($D258,料理データ!$A$3:$BK$997,56,FALSE),\"\")","v":""},{"$f":"IFERROR(VLOOKUP($D258,料理データ!$A$3:$BK$997,59,FALSE),\"\")","v":""},{"$f":"IFERROR(VLOOKUP($D258,料理データ!$A$3:$BK$997,62,FALSE),\"\")","v":""},"                   ","                   "]
[null,null,null,{"$f":"+'月間献立（乳児）'!G25","v":0},{"$f":"IFERROR(VLOOKUP($D259,料理データ!$A$3:$BK$997,3,FALSE),\"\")","v":""},{"$f":"IFERROR(VLOOKUP($D259,料理データ!$A$3:$BK$997,5,FALSE),\"\")","v":""},{"$f":"IFERROR(VLOOKUP($D259,料理データ!$A$3:$BK$997,8,FALSE),\"\")","v":""},{"$f":"IFERROR(VLOOKUP($D259,料理データ!$A$3:$BK$997,11,FALSE),\"\")","v":""},{"$f":"IFERROR(VLOOKUP($D259,料理データ!$A$3:$BK$997,14,FALSE),\"\")","v":""},{"$f":"IFERROR(VLOOKUP($D259,料理データ!$A$3:$BK$997,17,FALSE),\"\")","v":""},{"$f":"IFERROR(VLOOKUP($D259,料理データ!$A$3:$BK$997,20,FALSE),\"\")","v":""},{"$f":"IFERROR(VLOOKUP($D259,料理データ!$A$3:$BK$997,23,FALSE),\"\")","v":""},{"$f":"IFERROR(VLOOKUP($D259,料理データ!$A$3:$BK$997,26,FALSE),\"\")","v":""},{"$f":"IFERROR(VLOOKUP($D259,料理データ!$A$3:$BK$997,29,FALSE),\"\")","v":""},{"$f":"IFERROR(VLOOKUP($D259,料理データ!$A$3:$BK$997,32,FALSE),\"\")","v":""},{"$f":"IFERROR(VLOOKUP($D259,料理データ!$A$3:$BK$997,35,FALSE),\"\")","v":""},{"$f":"IFERROR(VLOOKUP($D259,料理データ!$A$3:$BK$997,38,FALSE),\"\")","v":""},{"$f":"IFERROR(VLOOKUP($D259,料理データ!$A$3:$BK$997,41,FALSE),\"\")","v":""},{"$f":"IFERROR(VLOOKUP($D259,料理データ!$A$3:$BK$997,44,FALSE),\"\")","v":""},{"$f":"IFERROR(VLOOKUP($D259,料理データ!$A$3:$BK$997,47,FALSE),\"\")","v":""},{"$f":"IFERROR(VLOOKUP($D259,料理データ!$A$3:$BK$997,50,FALSE),\"\")","v":""},{"$f":"IFERROR(VLOOKUP($D259,料理データ!$A$3:$BK$997,53,FALSE),\"\")","v":""},{"$f":"IFERROR(VLOOKUP($D259,料理データ!$A$3:$BK$997,56,FALSE),\"\")","v":""},{"$f":"IFERROR(VLOOKUP($D259,料理データ!$A$3:$BK$997,59,FALSE),\"\")","v":""},{"$f":"IFERROR(VLOOKUP($D259,料理データ!$A$3:$BK$997,62,FALSE),\"\")","v":""},"                   ","                   "]
[null,null,null,{"$f":"+'月間献立（乳児）'!H25","v":0},{"$f":"IFERROR(VLOOKUP($D260,料理データ!$A$3:$BK$997,3,FALSE),\"\")","v":""},{"$f":"IFERROR(VLOOKUP($D260,料理データ!$A$3:$BK$997,5,FALSE),\"\")","v":""},{"$f":"IFERROR(VLOOKUP($D260,料理データ!$A$3:$BK$997,8,FALSE),\"\")","v":""},{"$f":"IFERROR(VLOOKUP($D260,料理データ!$A$3:$BK$997,11,FALSE),\"\")","v":""},{"$f":"IFERROR(VLOOKUP($D260,料理データ!$A$3:$BK$997,14,FALSE),\"\")","v":""},{"$f":"IFERROR(VLOOKUP($D260,料理データ!$A$3:$BK$997,17,FALSE),\"\")","v":""},{"$f":"IFERROR(VLOOKUP($D260,料理データ!$A$3:$BK$997,20,FALSE),\"\")","v":""},{"$f":"IFERROR(VLOOKUP($D260,料理データ!$A$3:$BK$997,23,FALSE),\"\")","v":""},{"$f":"IFERROR(VLOOKUP($D260,料理データ!$A$3:$BK$997,26,FALSE),\"\")","v":""},{"$f":"IFERROR(VLOOKUP($D260,料理データ!$A$3:$BK$997,29,FALSE),\"\")","v":""},{"$f":"IFERROR(VLOOKUP($D260,料理データ!$A$3:$BK$997,32,FALSE),\"\")","v":""},{"$f":"IFERROR(VLOOKUP($D260,料理データ!$A$3:$BK$997,35,FALSE),\"\")","v":""},{"$f":"IFERROR(VLOOKUP($D260,料理データ!$A$3:$BK$997,38,FALSE),\"\")","v":""},{"$f":"IFERROR(VLOOKUP($D260,料理データ!$A$3:$BK$997,41,FALSE),\"\")","v":""},{"$f":"IFERROR(VLOOKUP($D260,料理データ!$A$3:$BK$997,44,FALSE),\"\")","v":""},{"$f":"IFERROR(VLOOKUP($D260,料理データ!$A$3:$BK$997,47,FALSE),\"\")","v":""},{"$f":"IFERROR(VLOOKUP($D260,料理データ!$A$3:$BK$997,50,FALSE),\"\")","v":""},{"$f":"IFERROR(VLOOKUP($D260,料理データ!$A$3:$BK$997,53,FALSE),\"\")","v":""},{"$f":"IFERROR(VLOOKUP($D260,料理データ!$A$3:$BK$997,56,FALSE),\"\")","v":""},{"$f":"IFERROR(VLOOKUP($D260,料理データ!$A$3:$BK$997,59,FALSE),\"\")","v":""},{"$f":"IFERROR(VLOOKUP($D260,料理データ!$A$3:$BK$997,62,FALSE),\"\")","v":""},"                   ","                   "]
[null,null,null,{"$f":"+'月間献立（乳児）'!I25","v":0},{"$f":"IFERROR(VLOOKUP($D261,料理データ!$A$3:$BK$997,3,FALSE),\"\")","v":""},{"$f":"IFERROR(VLOOKUP($D261,料理データ!$A$3:$BK$997,5,FALSE),\"\")","v":""},{"$f":"IFERROR(VLOOKUP($D261,料理データ!$A$3:$BK$997,8,FALSE),\"\")","v":""},{"$f":"IFERROR(VLOOKUP($D261,料理データ!$A$3:$BK$997,11,FALSE),\"\")","v":""},{"$f":"IFERROR(VLOOKUP($D261,料理データ!$A$3:$BK$997,14,FALSE),\"\")","v":""},{"$f":"IFERROR(VLOOKUP($D261,料理データ!$A$3:$BK$997,17,FALSE),\"\")","v":""},{"$f":"IFERROR(VLOOKUP($D261,料理データ!$A$3:$BK$997,20,FALSE),\"\")","v":""},{"$f":"IFERROR(VLOOKUP($D261,料理データ!$A$3:$BK$997,23,FALSE),\"\")","v":""},{"$f":"IFERROR(VLOOKUP($D261,料理データ!$A$3:$BK$997,26,FALSE),\"\")","v":""},{"$f":"IFERROR(VLOOKUP($D261,料理データ!$A$3:$BK$997,29,FALSE),\"\")","v":""},{"$f":"IFERROR(VLOOKUP($D261,料理データ!$A$3:$BK$997,32,FALSE),\"\")","v":""},{"$f":"IFERROR(VLOOKUP($D261,料理データ!$A$3:$BK$997,35,FALSE),\"\")","v":""},{"$f":"IFERROR(VLOOKUP($D261,料理データ!$A$3:$BK$997,38,FALSE),\"\")","v":""},{"$f":"IFERROR(VLOOKUP($D261,料理データ!$A$3:$BK$997,41,FALSE),\"\")","v":""},{"$f":"IFERROR(VLOOKUP($D261,料理データ!$A$3:$BK$997,44,FALSE),\"\")","v":""},{"$f":"IFERROR(VLOOKUP($D261,料理データ!$A$3:$BK$997,47,FALSE),\"\")","v":""},{"$f":"IFERROR(VLOOKUP($D261,料理データ!$A$3:$BK$997,50,FALSE),\"\")","v":""},{"$f":"IFERROR(VLOOKUP($D261,料理データ!$A$3:$BK$997,53,FALSE),\"\")","v":""},{"$f":"IFERROR(VLOOKUP($D261,料理データ!$A$3:$BK$997,56,FALSE),\"\")","v":""},{"$f":"IFERROR(VLOOKUP($D261,料理データ!$A$3:$BK$997,59,FALSE),\"\")","v":""},{"$f":"IFERROR(VLOOKUP($D261,料理データ!$A$3:$BK$997,62,FALSE),\"\")","v":""},"                   ","                   "]
[null,null,null,{"$f":"+'月間献立（乳児）'!J25","v":0},{"$f":"IFERROR(VLOOKUP($D262,料理データ!$A$3:$BK$997,3,FALSE),\"\")","v":""},{"$f":"IFERROR(VLOOKUP($D262,料理データ!$A$3:$BK$997,5,FALSE),\"\")","v":""},{"$f":"IFERROR(VLOOKUP($D262,料理データ!$A$3:$BK$997,8,FALSE),\"\")","v":""},{"$f":"IFERROR(VLOOKUP($D262,料理データ!$A$3:$BK$997,11,FALSE),\"\")","v":""},{"$f":"IFERROR(VLOOKUP($D262,料理データ!$A$3:$BK$997,14,FALSE),\"\")","v":""},{"$f":"IFERROR(VLOOKUP($D262,料理データ!$A$3:$BK$997,17,FALSE),\"\")","v":""},{"$f":"IFERROR(VLOOKUP($D262,料理データ!$A$3:$BK$997,20,FALSE),\"\")","v":""},{"$f":"IFERROR(VLOOKUP($D262,料理データ!$A$3:$BK$997,23,FALSE),\"\")","v":""},{"$f":"IFERROR(VLOOKUP($D262,料理データ!$A$3:$BK$997,26,FALSE),\"\")","v":""},{"$f":"IFERROR(VLOOKUP($D262,料理データ!$A$3:$BK$997,29,FALSE),\"\")","v":""},{"$f":"IFERROR(VLOOKUP($D262,料理データ!$A$3:$BK$997,32,FALSE),\"\")","v":""},{"$f":"IFERROR(VLOOKUP($D262,料理データ!$A$3:$BK$997,35,FALSE),\"\")","v":""},{"$f":"IFERROR(VLOOKUP($D262,料理データ!$A$3:$BK$997,38,FALSE),\"\")","v":""},{"$f":"IFERROR(VLOOKUP($D262,料理データ!$A$3:$BK$997,41,FALSE),\"\")","v":""},{"$f":"IFERROR(VLOOKUP($D262,料理データ!$A$3:$BK$997,44,FALSE),\"\")","v":""},{"$f":"IFERROR(VLOOKUP($D262,料理データ!$A$3:$BK$997,47,FALSE),\"\")","v":""},{"$f":"IFERROR(VLOOKUP($D262,料理データ!$A$3:$BK$997,50,FALSE),\"\")","v":""},{"$f":"IFERROR(VLOOKUP($D262,料理データ!$A$3:$BK$997,53,FALSE),\"\")","v":""},{"$f":"IFERROR(VLOOKUP($D262,料理データ!$A$3:$BK$997,56,FALSE),\"\")","v":""},{"$f":"IFERROR(VLOOKUP($D262,料理データ!$A$3:$BK$997,59,FALSE),\"\")","v":""},{"$f":"IFERROR(VLOOKUP($D262,料理データ!$A$3:$BK$997,62,FALSE),\"\")","v":""},"                   ","                   "]
[null,null,null,{"$f":"+'月間献立（乳児）'!K25","v":0},{"$f":"IFERROR(VLOOKUP($D263,料理データ!$A$3:$BK$997,3,FALSE),\"\")","v":""},{"$f":"IFERROR(VLOOKUP($D263,料理データ!$A$3:$BK$997,5,FALSE),\"\")","v":""},{"$f":"IFERROR(VLOOKUP($D263,料理データ!$A$3:$BK$997,8,FALSE),\"\")","v":""},{"$f":"IFERROR(VLOOKUP($D263,料理データ!$A$3:$BK$997,11,FALSE),\"\")","v":""},{"$f":"IFERROR(VLOOKUP($D263,料理データ!$A$3:$BK$997,14,FALSE),\"\")","v":""},{"$f":"IFERROR(VLOOKUP($D263,料理データ!$A$3:$BK$997,17,FALSE),\"\")","v":""},{"$f":"IFERROR(VLOOKUP($D263,料理データ!$A$3:$BK$997,20,FALSE),\"\")","v":""},{"$f":"IFERROR(VLOOKUP($D263,料理データ!$A$3:$BK$997,23,FALSE),\"\")","v":""},{"$f":"IFERROR(VLOOKUP($D263,料理データ!$A$3:$BK$997,26,FALSE),\"\")","v":""},{"$f":"IFERROR(VLOOKUP($D263,料理データ!$A$3:$BK$997,29,FALSE),\"\")","v":""},{"$f":"IFERROR(VLOOKUP($D263,料理データ!$A$3:$BK$997,32,FALSE),\"\")","v":""},{"$f":"IFERROR(VLOOKUP($D263,料理データ!$A$3:$BK$997,35,FALSE),\"\")","v":""},{"$f":"IFERROR(VLOOKUP($D263,料理データ!$A$3:$BK$997,38,FALSE),\"\")","v":""},{"$f":"IFERROR(VLOOKUP($D263,料理データ!$A$3:$BK$997,41,FALSE),\"\")","v":""},{"$f":"IFERROR(VLOOKUP($D263,料理データ!$A$3:$BK$997,44,FALSE),\"\")","v":""},{"$f":"IFERROR(VLOOKUP($D263,料理データ!$A$3:$BK$997,47,FALSE),\"\")","v":""},{"$f":"IFERROR(VLOOKUP($D263,料理データ!$A$3:$BK$997,50,FALSE),\"\")","v":""},{"$f":"IFERROR(VLOOKUP($D263,料理データ!$A$3:$BK$997,53,FALSE),\"\")","v":""},{"$f":"IFERROR(VLOOKUP($D263,料理データ!$A$3:$BK$997,56,FALSE),\"\")","v":""},{"$f":"IFERROR(VLOOKUP($D263,料理データ!$A$3:$BK$997,59,FALSE),\"\")","v":""},{"$f":"IFERROR(VLOOKUP($D263,料理データ!$A$3:$BK$997,62,FALSE),\"\")","v":""},"                   ","                   "]
[null,null,"午後おやつ",{"$f":"+'月間献立（乳児）'!L25","v":0},{"$f":"IFERROR(VLOOKUP($D264,料理データ!$A$3:$BK$997,3,FALSE),\"\")","v":""},{"$f":"IFERROR(VLOOKUP($D264,料理データ!$A$3:$BK$997,5,FALSE),\"\")","v":""},{"$f":"IFERROR(VLOOKUP($D264,料理データ!$A$3:$BK$997,8,FALSE),\"\")","v":""},{"$f":"IFERROR(VLOOKUP($D264,料理データ!$A$3:$BK$997,11,FALSE),\"\")","v":""},{"$f":"IFERROR(VLOOKUP($D264,料理データ!$A$3:$BK$997,14,FALSE),\"\")","v":""},{"$f":"IFERROR(VLOOKUP($D264,料理データ!$A$3:$BK$997,17,FALSE),\"\")","v":""},{"$f":"IFERROR(VLOOKUP($D264,料理データ!$A$3:$BK$997,20,FALSE),\"\")","v":""},{"$f":"IFERROR(VLOOKUP($D264,料理データ!$A$3:$BK$997,23,FALSE),\"\")","v":""},{"$f":"IFERROR(VLOOKUP($D264,料理データ!$A$3:$BK$997,26,FALSE),\"\")","v":""},{"$f":"IFERROR(VLOOKUP($D264,料理データ!$A$3:$BK$997,29,FALSE),\"\")","v":""},{"$f":"IFERROR(VLOOKUP($D264,料理データ!$A$3:$BK$997,32,FALSE),\"\")","v":""},{"$f":"IFERROR(VLOOKUP($D264,料理データ!$A$3:$BK$997,35,FALSE),\"\")","v":""},{"$f":"IFERROR(VLOOKUP($D264,料理データ!$A$3:$BK$997,38,FALSE),\"\")","v":""},{"$f":"IFERROR(VLOOKUP($D264,料理データ!$A$3:$BK$997,41,FALSE),\"\")","v":""},{"$f":"IFERROR(VLOOKUP($D264,料理データ!$A$3:$BK$997,44,FALSE),\"\")","v":""},{"$f":"IFERROR(VLOOKUP($D264,料理データ!$A$3:$BK$997,47,FALSE),\"\")","v":""},{"$f":"IFERROR(VLOOKUP($D264,料理データ!$A$3:$BK$997,50,FALSE),\"\")","v":""},{"$f":"IFERROR(VLOOKUP($D264,料理データ!$A$3:$BK$997,53,FALSE),\"\")","v":""},{"$f":"IFERROR(VLOOKUP($D264,料理データ!$A$3:$BK$997,56,FALSE),\"\")","v":""},{"$f":"IFERROR(VLOOKUP($D264,料理データ!$A$3:$BK$997,59,FALSE),\"\")","v":""},{"$f":"IFERROR(VLOOKUP($D264,料理データ!$A$3:$BK$997,62,FALSE),\"\")","v":""},"                   ","                   "]
[null,null,null,{"$f":"+'月間献立（乳児）'!M25","v":0},{"$f":"IFERROR(VLOOKUP($D265,料理データ!$A$3:$BK$997,3,FALSE),\"\")","v":""},{"$f":"IFERROR(VLOOKUP($D265,料理データ!$A$3:$BK$997,5,FALSE),\"\")","v":""},{"$f":"IFERROR(VLOOKUP($D265,料理データ!$A$3:$BK$997,8,FALSE),\"\")","v":""},{"$f":"IFERROR(VLOOKUP($D265,料理データ!$A$3:$BK$997,11,FALSE),\"\")","v":""},{"$f":"IFERROR(VLOOKUP($D265,料理データ!$A$3:$BK$997,14,FALSE),\"\")","v":""},{"$f":"IFERROR(VLOOKUP($D265,料理データ!$A$3:$BK$997,17,FALSE),\"\")","v":""},{"$f":"IFERROR(VLOOKUP($D265,料理データ!$A$3:$BK$997,20,FALSE),\"\")","v":""},{"$f":"IFERROR(VLOOKUP($D265,料理データ!$A$3:$BK$997,23,FALSE),\"\")","v":""},{"$f":"IFERROR(VLOOKUP($D265,料理データ!$A$3:$BK$997,26,FALSE),\"\")","v":""},{"$f":"IFERROR(VLOOKUP($D265,料理データ!$A$3:$BK$997,29,FALSE),\"\")","v":""},{"$f":"IFERROR(VLOOKUP($D265,料理データ!$A$3:$BK$997,32,FALSE),\"\")","v":""},{"$f":"IFERROR(VLOOKUP($D265,料理データ!$A$3:$BK$997,35,FALSE),\"\")","v":""},{"$f":"IFERROR(VLOOKUP($D265,料理データ!$A$3:$BK$997,38,FALSE),\"\")","v":""},{"$f":"IFERROR(VLOOKUP($D265,料理データ!$A$3:$BK$997,41,FALSE),\"\")","v":""},{"$f":"IFERROR(VLOOKUP($D265,料理データ!$A$3:$BK$997,44,FALSE),\"\")","v":""},{"$f":"IFERROR(VLOOKUP($D265,料理データ!$A$3:$BK$997,47,FALSE),\"\")","v":""},{"$f":"IFERROR(VLOOKUP($D265,料理データ!$A$3:$BK$997,50,FALSE),\"\")","v":""},{"$f":"IFERROR(VLOOKUP($D265,料理データ!$A$3:$BK$997,53,FALSE),\"\")","v":""},{"$f":"IFERROR(VLOOKUP($D265,料理データ!$A$3:$BK$997,56,FALSE),\"\")","v":""},{"$f":"IFERROR(VLOOKUP($D265,料理データ!$A$3:$BK$997,59,FALSE),\"\")","v":""},{"$f":"IFERROR(VLOOKUP($D265,料理データ!$A$3:$BK$997,62,FALSE),\"\")","v":""},"                   ","                   "]
[null,null,null,{"$f":"+'月間献立（乳児）'!N25","v":0},{"$f":"IFERROR(VLOOKUP($D266,料理データ!$A$3:$BK$997,3,FALSE),\"\")","v":""},{"$f":"IFERROR(VLOOKUP($D266,料理データ!$A$3:$BK$997,5,FALSE),\"\")","v":""},{"$f":"IFERROR(VLOOKUP($D266,料理データ!$A$3:$BK$997,8,FALSE),\"\")","v":""},{"$f":"IFERROR(VLOOKUP($D266,料理データ!$A$3:$BK$997,11,FALSE),\"\")","v":""},{"$f":"IFERROR(VLOOKUP($D266,料理データ!$A$3:$BK$997,14,FALSE),\"\")","v":""},{"$f":"IFERROR(VLOOKUP($D266,料理データ!$A$3:$BK$997,17,FALSE),\"\")","v":""},{"$f":"IFERROR(VLOOKUP($D266,料理データ!$A$3:$BK$997,20,FALSE),\"\")","v":""},{"$f":"IFERROR(VLOOKUP($D266,料理データ!$A$3:$BK$997,23,FALSE),\"\")","v":""},{"$f":"IFERROR(VLOOKUP($D266,料理データ!$A$3:$BK$997,26,FALSE),\"\")","v":""},{"$f":"IFERROR(VLOOKUP($D266,料理データ!$A$3:$BK$997,29,FALSE),\"\")","v":""},{"$f":"IFERROR(VLOOKUP($D266,料理データ!$A$3:$BK$997,32,FALSE),\"\")","v":""},{"$f":"IFERROR(VLOOKUP($D266,料理データ!$A$3:$BK$997,35,FALSE),\"\")","v":""},{"$f":"IFERROR(VLOOKUP($D266,料理データ!$A$3:$BK$997,38,FALSE),\"\")","v":""},{"$f":"IFERROR(VLOOKUP($D266,料理データ!$A$3:$BK$997,41,FALSE),\"\")","v":""},{"$f":"IFERROR(VLOOKUP($D266,料理データ!$A$3:$BK$997,44,FALSE),\"\")","v":""},{"$f":"IFERROR(VLOOKUP($D266,料理データ!$A$3:$BK$997,47,FALSE),\"\")","v":""},{"$f":"IFERROR(VLOOKUP($D266,料理データ!$A$3:$BK$997,50,FALSE),\"\")","v":""},{"$f":"IFERROR(VLOOKUP($D266,料理データ!$A$3:$BK$997,53,FALSE),\"\")","v":""},{"$f":"IFERROR(VLOOKUP($D266,料理データ!$A$3:$BK$997,56,FALSE),\"\")","v":""},{"$f":"IFERROR(VLOOKUP($D266,料理データ!$A$3:$BK$997,59,FALSE),\"\")","v":""},{"$f":"IFERROR(VLOOKUP($D266,料理データ!$A$3:$BK$997,62,FALSE),\"\")","v":""},{"$f":"CONCATENATE($F266,\" \",$G266,\" \",$H266,\" \",$I266,\" \",$J266,\" \",$K266,\" \",$L266,\" \",$M266,\" \",$N266,\" \",$O266,\" \",$P266,\" \",$Q266,\" \",$R266,\" \",$S266,\" \",$T266,\" \",$U266,\" \",$V266,\" \",$W266,\" \",$X266,\" \",$Y266)","v":"                   "},{"$f":"SUBSTITUTE(Z266,\"-\",\"\")","v":"                   "}]
[{"$f":"+'月間献立（幼児）'!A27","v":23},{"$f":"+'月間献立（幼児）'!B27","v":"(日)"},"午前おやつ",{"$f":"+'月間献立（乳児）'!C26","v":0},{"$f":"IFERROR(VLOOKUP($D267,料理データ!$A$3:$BK$997,3,FALSE),\"\")","v":""},{"$f":"IFERROR(VLOOKUP($D267,料理データ!$A$3:$BK$997,5,FALSE),\"\")","v":""},{"$f":"IFERROR(VLOOKUP($D267,料理データ!$A$3:$BK$997,8,FALSE),\"\")","v":""},{"$f":"IFERROR(VLOOKUP($D267,料理データ!$A$3:$BK$997,11,FALSE),\"\")","v":""},{"$f":"IFERROR(VLOOKUP($D267,料理データ!$A$3:$BK$997,14,FALSE),\"\")","v":""},{"$f":"IFERROR(VLOOKUP($D267,料理データ!$A$3:$BK$997,17,FALSE),\"\")","v":""},{"$f":"IFERROR(VLOOKUP($D267,料理データ!$A$3:$BK$997,20,FALSE),\"\")","v":""},{"$f":"IFERROR(VLOOKUP($D267,料理データ!$A$3:$BK$997,23,FALSE),\"\")","v":""},{"$f":"IFERROR(VLOOKUP($D267,料理データ!$A$3:$BK$997,26,FALSE),\"\")","v":""},{"$f":"IFERROR(VLOOKUP($D267,料理データ!$A$3:$BK$997,29,FALSE),\"\")","v":""},{"$f":"IFERROR(VLOOKUP($D267,料理データ!$A$3:$BK$997,32,FALSE),\"\")","v":""},{"$f":"IFERROR(VLOOKUP($D267,料理データ!$A$3:$BK$997,35,FALSE),\"\")","v":""},{"$f":"IFERROR(VLOOKUP($D267,料理データ!$A$3:$BK$997,38,FALSE),\"\")","v":""},{"$f":"IFERROR(VLOOKUP($D267,料理データ!$A$3:$BK$997,41,FALSE),\"\")","v":""},{"$f":"IFERROR(VLOOKUP($D267,料理データ!$A$3:$BK$997,44,FALSE),\"\")","v":""},{"$f":"IFERROR(VLOOKUP($D267,料理データ!$A$3:$BK$997,47,FALSE),\"\")","v":""},{"$f":"IFERROR(VLOOKUP($D267,料理データ!$A$3:$BK$997,50,FALSE),\"\")","v":""},{"$f":"IFERROR(VLOOKUP($D267,料理データ!$A$3:$BK$997,53,FALSE),\"\")","v":""},{"$f":"IFERROR(VLOOKUP($D267,料理データ!$A$3:$BK$997,56,FALSE),\"\")","v":""},{"$f":"IFERROR(VLOOKUP($D267,料理データ!$A$3:$BK$997,59,FALSE),\"\")","v":""},{"$f":"IFERROR(VLOOKUP($D267,料理データ!$A$3:$BK$997,62,FALSE),\"\")","v":""},"                   ",{"$f":"SUBSTITUTE(Z267,\"-\",\" \")","v":"                   "},{"$f":"TRIM(CONCATENATE(AA267,AA268,AA269,\"▲\",AA270,AA271,AA272,AA273,AA274,AA275,\"▲\",AA276,AA277,AA278))","v":"▲ ▲"}]
[null,null,null,{"$f":"+'月間献立（乳児）'!D26","v":0},{"$f":"IFERROR(VLOOKUP($D268,料理データ!$A$3:$BK$997,3,FALSE),\"\")","v":""},{"$f":"IFERROR(VLOOKUP($D268,料理データ!$A$3:$BK$997,5,FALSE),\"\")","v":""},{"$f":"IFERROR(VLOOKUP($D268,料理データ!$A$3:$BK$997,8,FALSE),\"\")","v":""},{"$f":"IFERROR(VLOOKUP($D268,料理データ!$A$3:$BK$997,11,FALSE),\"\")","v":""},{"$f":"IFERROR(VLOOKUP($D268,料理データ!$A$3:$BK$997,14,FALSE),\"\")","v":""},{"$f":"IFERROR(VLOOKUP($D268,料理データ!$A$3:$BK$997,17,FALSE),\"\")","v":""},{"$f":"IFERROR(VLOOKUP($D268,料理データ!$A$3:$BK$997,20,FALSE),\"\")","v":""},{"$f":"IFERROR(VLOOKUP($D268,料理データ!$A$3:$BK$997,23,FALSE),\"\")","v":""},{"$f":"IFERROR(VLOOKUP($D268,料理データ!$A$3:$BK$997,26,FALSE),\"\")","v":""},{"$f":"IFERROR(VLOOKUP($D268,料理データ!$A$3:$BK$997,29,FALSE),\"\")","v":""},{"$f":"IFERROR(VLOOKUP($D268,料理データ!$A$3:$BK$997,32,FALSE),\"\")","v":""},{"$f":"IFERROR(VLOOKUP($D268,料理データ!$A$3:$BK$997,35,FALSE),\"\")","v":""},{"$f":"IFERROR(VLOOKUP($D268,料理データ!$A$3:$BK$997,38,FALSE),\"\")","v":""},{"$f":"IFERROR(VLOOKUP($D268,料理データ!$A$3:$BK$997,41,FALSE),\"\")","v":""},{"$f":"IFERROR(VLOOKUP($D268,料理データ!$A$3:$BK$997,44,FALSE),\"\")","v":""},{"$f":"IFERROR(VLOOKUP($D268,料理データ!$A$3:$BK$997,47,FALSE),\"\")","v":""},{"$f":"IFERROR(VLOOKUP($D268,料理データ!$A$3:$BK$997,50,FALSE),\"\")","v":""},{"$f":"IFERROR(VLOOKUP($D268,料理データ!$A$3:$BK$997,53,FALSE),\"\")","v":""},{"$f":"IFERROR(VLOOKUP($D268,料理データ!$A$3:$BK$997,56,FALSE),\"\")","v":""},{"$f":"IFERROR(VLOOKUP($D268,料理データ!$A$3:$BK$997,59,FALSE),\"\")","v":""},{"$f":"IFERROR(VLOOKUP($D268,料理データ!$A$3:$BK$997,62,FALSE),\"\")","v":""},"                   ",{"$f":"SUBSTITUTE(Z268,\"-\",\" \")","v":"                   "}]
[null,null,null,{"$f":"+'月間献立（乳児）'!E26","v":0},{"$f":"IFERROR(VLOOKUP($D269,料理データ!$A$3:$BK$997,3,FALSE),\"\")","v":""},{"$f":"IFERROR(VLOOKUP($D269,料理データ!$A$3:$BK$997,5,FALSE),\"\")","v":""},{"$f":"IFERROR(VLOOKUP($D269,料理データ!$A$3:$BK$997,8,FALSE),\"\")","v":""},{"$f":"IFERROR(VLOOKUP($D269,料理データ!$A$3:$BK$997,11,FALSE),\"\")","v":""},{"$f":"IFERROR(VLOOKUP($D269,料理データ!$A$3:$BK$997,14,FALSE),\"\")","v":""},{"$f":"IFERROR(VLOOKUP($D269,料理データ!$A$3:$BK$997,17,FALSE),\"\")","v":""},{"$f":"IFERROR(VLOOKUP($D269,料理データ!$A$3:$BK$997,20,FALSE),\"\")","v":""},{"$f":"IFERROR(VLOOKUP($D269,料理データ!$A$3:$BK$997,23,FALSE),\"\")","v":""},{"$f":"IFERROR(VLOOKUP($D269,料理データ!$A$3:$BK$997,26,FALSE),\"\")","v":""},{"$f":"IFERROR(VLOOKUP($D269,料理データ!$A$3:$BK$997,29,FALSE),\"\")","v":""},{"$f":"IFERROR(VLOOKUP($D269,料理データ!$A$3:$BK$997,32,FALSE),\"\")","v":""},{"$f":"IFERROR(VLOOKUP($D269,料理データ!$A$3:$BK$997,35,FALSE),\"\")","v":""},{"$f":"IFERROR(VLOOKUP($D269,料理データ!$A$3:$BK$997,38,FALSE),\"\")","v":""},{"$f":"IFERROR(VLOOKUP($D269,料理データ!$A$3:$BK$997,41,FALSE),\"\")","v":""},{"$f":"IFERROR(VLOOKUP($D269,料理データ!$A$3:$BK$997,44,FALSE),\"\")","v":""},{"$f":"IFERROR(VLOOKUP($D269,料理データ!$A$3:$BK$997,47,FALSE),\"\")","v":""},{"$f":"IFERROR(VLOOKUP($D269,料理データ!$A$3:$BK$997,50,FALSE),\"\")","v":""},{"$f":"IFERROR(VLOOKUP($D269,料理データ!$A$3:$BK$997,53,FALSE),\"\")","v":""},{"$f":"IFERROR(VLOOKUP($D269,料理データ!$A$3:$BK$997,56,FALSE),\"\")","v":""},{"$f":"IFERROR(VLOOKUP($D269,料理データ!$A$3:$BK$997,59,FALSE),\"\")","v":""},{"$f":"IFERROR(VLOOKUP($D269,料理データ!$A$3:$BK$997,62,FALSE),\"\")","v":""},"                   ",{"$f":"SUBSTITUTE(Z269,\"-\",\" \")","v":"                   "}]
[null,null,"昼食",{"$f":"+'月間献立（乳児）'!F26","v":0},{"$f":"IFERROR(VLOOKUP($D270,料理データ!$A$3:$BK$997,3,FALSE),\"\")","v":""},{"$f":"IFERROR(VLOOKUP($D270,料理データ!$A$3:$BK$997,5,FALSE),\"\")","v":""},{"$f":"IFERROR(VLOOKUP($D270,料理データ!$A$3:$BK$997,8,FALSE),\"\")","v":""},{"$f":"IFERROR(VLOOKUP($D270,料理データ!$A$3:$BK$997,11,FALSE),\"\")","v":""},{"$f":"IFERROR(VLOOKUP($D270,料理データ!$A$3:$BK$997,14,FALSE),\"\")","v":""},{"$f":"IFERROR(VLOOKUP($D270,料理データ!$A$3:$BK$997,17,FALSE),\"\")","v":""},{"$f":"IFERROR(VLOOKUP($D270,料理データ!$A$3:$BK$997,20,FALSE),\"\")","v":""},{"$f":"IFERROR(VLOOKUP($D270,料理データ!$A$3:$BK$997,23,FALSE),\"\")","v":""},{"$f":"IFERROR(VLOOKUP($D270,料理データ!$A$3:$BK$997,26,FALSE),\"\")","v":""},{"$f":"IFERROR(VLOOKUP($D270,料理データ!$A$3:$BK$997,29,FALSE),\"\")","v":""},{"$f":"IFERROR(VLOOKUP($D270,料理データ!$A$3:$BK$997,32,FALSE),\"\")","v":""},{"$f":"IFERROR(VLOOKUP($D270,料理データ!$A$3:$BK$997,35,FALSE),\"\")","v":""},{"$f":"IFERROR(VLOOKUP($D270,料理データ!$A$3:$BK$997,38,FALSE),\"\")","v":""},{"$f":"IFERROR(VLOOKUP($D270,料理データ!$A$3:$BK$997,41,FALSE),\"\")","v":""},{"$f":"IFERROR(VLOOKUP($D270,料理データ!$A$3:$BK$997,44,FALSE),\"\")","v":""},{"$f":"IFERROR(VLOOKUP($D270,料理データ!$A$3:$BK$997,47,FALSE),\"\")","v":""},{"$f":"IFERROR(VLOOKUP($D270,料理データ!$A$3:$BK$997,50,FALSE),\"\")","v":""},{"$f":"IFERROR(VLOOKUP($D270,料理データ!$A$3:$BK$997,53,FALSE),\"\")","v":""},{"$f":"IFERROR(VLOOKUP($D270,料理データ!$A$3:$BK$997,56,FALSE),\"\")","v":""},{"$f":"IFERROR(VLOOKUP($D270,料理データ!$A$3:$BK$997,59,FALSE),\"\")","v":""},{"$f":"IFERROR(VLOOKUP($D270,料理データ!$A$3:$BK$997,62,FALSE),\"\")","v":""},"                   ","                   "]
[null,null,null,{"$f":"+'月間献立（乳児）'!G26","v":0},{"$f":"IFERROR(VLOOKUP($D271,料理データ!$A$3:$BK$997,3,FALSE),\"\")","v":""},{"$f":"IFERROR(VLOOKUP($D271,料理データ!$A$3:$BK$997,5,FALSE),\"\")","v":""},{"$f":"IFERROR(VLOOKUP($D271,料理データ!$A$3:$BK$997,8,FALSE),\"\")","v":""},{"$f":"IFERROR(VLOOKUP($D271,料理データ!$A$3:$BK$997,11,FALSE),\"\")","v":""},{"$f":"IFERROR(VLOOKUP($D271,料理データ!$A$3:$BK$997,14,FALSE),\"\")","v":""},{"$f":"IFERROR(VLOOKUP($D271,料理データ!$A$3:$BK$997,17,FALSE),\"\")","v":""},{"$f":"IFERROR(VLOOKUP($D271,料理データ!$A$3:$BK$997,20,FALSE),\"\")","v":""},{"$f":"IFERROR(VLOOKUP($D271,料理データ!$A$3:$BK$997,23,FALSE),\"\")","v":""},{"$f":"IFERROR(VLOOKUP($D271,料理データ!$A$3:$BK$997,26,FALSE),\"\")","v":""},{"$f":"IFERROR(VLOOKUP($D271,料理データ!$A$3:$BK$997,29,FALSE),\"\")","v":""},{"$f":"IFERROR(VLOOKUP($D271,料理データ!$A$3:$BK$997,32,FALSE),\"\")","v":""},{"$f":"IFERROR(VLOOKUP($D271,料理データ!$A$3:$BK$997,35,FALSE),\"\")","v":""},{"$f":"IFERROR(VLOOKUP($D271,料理データ!$A$3:$BK$997,38,FALSE),\"\")","v":""},{"$f":"IFERROR(VLOOKUP($D271,料理データ!$A$3:$BK$997,41,FALSE),\"\")","v":""},{"$f":"IFERROR(VLOOKUP($D271,料理データ!$A$3:$BK$997,44,FALSE),\"\")","v":""},{"$f":"IFERROR(VLOOKUP($D271,料理データ!$A$3:$BK$997,47,FALSE),\"\")","v":""},{"$f":"IFERROR(VLOOKUP($D271,料理データ!$A$3:$BK$997,50,FALSE),\"\")","v":""},{"$f":"IFERROR(VLOOKUP($D271,料理データ!$A$3:$BK$997,53,FALSE),\"\")","v":""},{"$f":"IFERROR(VLOOKUP($D271,料理データ!$A$3:$BK$997,56,FALSE),\"\")","v":""},{"$f":"IFERROR(VLOOKUP($D271,料理データ!$A$3:$BK$997,59,FALSE),\"\")","v":""},{"$f":"IFERROR(VLOOKUP($D271,料理データ!$A$3:$BK$997,62,FALSE),\"\")","v":""},"                   ","                   "]
[null,null,null,{"$f":"+'月間献立（乳児）'!H26","v":0},{"$f":"IFERROR(VLOOKUP($D272,料理データ!$A$3:$BK$997,3,FALSE),\"\")","v":""},{"$f":"IFERROR(VLOOKUP($D272,料理データ!$A$3:$BK$997,5,FALSE),\"\")","v":""},{"$f":"IFERROR(VLOOKUP($D272,料理データ!$A$3:$BK$997,8,FALSE),\"\")","v":""},{"$f":"IFERROR(VLOOKUP($D272,料理データ!$A$3:$BK$997,11,FALSE),\"\")","v":""},{"$f":"IFERROR(VLOOKUP($D272,料理データ!$A$3:$BK$997,14,FALSE),\"\")","v":""},{"$f":"IFERROR(VLOOKUP($D272,料理データ!$A$3:$BK$997,17,FALSE),\"\")","v":""},{"$f":"IFERROR(VLOOKUP($D272,料理データ!$A$3:$BK$997,20,FALSE),\"\")","v":""},{"$f":"IFERROR(VLOOKUP($D272,料理データ!$A$3:$BK$997,23,FALSE),\"\")","v":""},{"$f":"IFERROR(VLOOKUP($D272,料理データ!$A$3:$BK$997,26,FALSE),\"\")","v":""},{"$f":"IFERROR(VLOOKUP($D272,料理データ!$A$3:$BK$997,29,FALSE),\"\")","v":""},{"$f":"IFERROR(VLOOKUP($D272,料理データ!$A$3:$BK$997,32,FALSE),\"\")","v":""},{"$f":"IFERROR(VLOOKUP($D272,料理データ!$A$3:$BK$997,35,FALSE),\"\")","v":""},{"$f":"IFERROR(VLOOKUP($D272,料理データ!$A$3:$BK$997,38,FALSE),\"\")","v":""},{"$f":"IFERROR(VLOOKUP($D272,料理データ!$A$3:$BK$997,41,FALSE),\"\")","v":""},{"$f":"IFERROR(VLOOKUP($D272,料理データ!$A$3:$BK$997,44,FALSE),\"\")","v":""},{"$f":"IFERROR(VLOOKUP($D272,料理データ!$A$3:$BK$997,47,FALSE),\"\")","v":""},{"$f":"IFERROR(VLOOKUP($D272,料理データ!$A$3:$BK$997,50,FALSE),\"\")","v":""},{"$f":"IFERROR(VLOOKUP($D272,料理データ!$A$3:$BK$997,53,FALSE),\"\")","v":""},{"$f":"IFERROR(VLOOKUP($D272,料理データ!$A$3:$BK$997,56,FALSE),\"\")","v":""},{"$f":"IFERROR(VLOOKUP($D272,料理データ!$A$3:$BK$997,59,FALSE),\"\")","v":""},{"$f":"IFERROR(VLOOKUP($D272,料理データ!$A$3:$BK$997,62,FALSE),\"\")","v":""},"                   ","                   "]
[null,null,null,{"$f":"+'月間献立（乳児）'!I26","v":0},{"$f":"IFERROR(VLOOKUP($D273,料理データ!$A$3:$BK$997,3,FALSE),\"\")","v":""},{"$f":"IFERROR(VLOOKUP($D273,料理データ!$A$3:$BK$997,5,FALSE),\"\")","v":""},{"$f":"IFERROR(VLOOKUP($D273,料理データ!$A$3:$BK$997,8,FALSE),\"\")","v":""},{"$f":"IFERROR(VLOOKUP($D273,料理データ!$A$3:$BK$997,11,FALSE),\"\")","v":""},{"$f":"IFERROR(VLOOKUP($D273,料理データ!$A$3:$BK$997,14,FALSE),\"\")","v":""},{"$f":"IFERROR(VLOOKUP($D273,料理データ!$A$3:$BK$997,17,FALSE),\"\")","v":""},{"$f":"IFERROR(VLOOKUP($D273,料理データ!$A$3:$BK$997,20,FALSE),\"\")","v":""},{"$f":"IFERROR(VLOOKUP($D273,料理データ!$A$3:$BK$997,23,FALSE),\"\")","v":""},{"$f":"IFERROR(VLOOKUP($D273,料理データ!$A$3:$BK$997,26,FALSE),\"\")","v":""},{"$f":"IFERROR(VLOOKUP($D273,料理データ!$A$3:$BK$997,29,FALSE),\"\")","v":""},{"$f":"IFERROR(VLOOKUP($D273,料理データ!$A$3:$BK$997,32,FALSE),\"\")","v":""},{"$f":"IFERROR(VLOOKUP($D273,料理データ!$A$3:$BK$997,35,FALSE),\"\")","v":""},{"$f":"IFERROR(VLOOKUP($D273,料理データ!$A$3:$BK$997,38,FALSE),\"\")","v":""},{"$f":"IFERROR(VLOOKUP($D273,料理データ!$A$3:$BK$997,41,FALSE),\"\")","v":""},{"$f":"IFERROR(VLOOKUP($D273,料理データ!$A$3:$BK$997,44,FALSE),\"\")","v":""},{"$f":"IFERROR(VLOOKUP($D273,料理データ!$A$3:$BK$997,47,FALSE),\"\")","v":""},{"$f":"IFERROR(VLOOKUP($D273,料理データ!$A$3:$BK$997,50,FALSE),\"\")","v":""},{"$f":"IFERROR(VLOOKUP($D273,料理データ!$A$3:$BK$997,53,FALSE),\"\")","v":""},{"$f":"IFERROR(VLOOKUP($D273,料理データ!$A$3:$BK$997,56,FALSE),\"\")","v":""},{"$f":"IFERROR(VLOOKUP($D273,料理データ!$A$3:$BK$997,59,FALSE),\"\")","v":""},{"$f":"IFERROR(VLOOKUP($D273,料理データ!$A$3:$BK$997,62,FALSE),\"\")","v":""},"                   ","                   "]
[null,null,null,{"$f":"+'月間献立（乳児）'!J26","v":0},{"$f":"IFERROR(VLOOKUP($D274,料理データ!$A$3:$BK$997,3,FALSE),\"\")","v":""},{"$f":"IFERROR(VLOOKUP($D274,料理データ!$A$3:$BK$997,5,FALSE),\"\")","v":""},{"$f":"IFERROR(VLOOKUP($D274,料理データ!$A$3:$BK$997,8,FALSE),\"\")","v":""},{"$f":"IFERROR(VLOOKUP($D274,料理データ!$A$3:$BK$997,11,FALSE),\"\")","v":""},{"$f":"IFERROR(VLOOKUP($D274,料理データ!$A$3:$BK$997,14,FALSE),\"\")","v":""},{"$f":"IFERROR(VLOOKUP($D274,料理データ!$A$3:$BK$997,17,FALSE),\"\")","v":""},{"$f":"IFERROR(VLOOKUP($D274,料理データ!$A$3:$BK$997,20,FALSE),\"\")","v":""},{"$f":"IFERROR(VLOOKUP($D274,料理データ!$A$3:$BK$997,23,FALSE),\"\")","v":""},{"$f":"IFERROR(VLOOKUP($D274,料理データ!$A$3:$BK$997,26,FALSE),\"\")","v":""},{"$f":"IFERROR(VLOOKUP($D274,料理データ!$A$3:$BK$997,29,FALSE),\"\")","v":""},{"$f":"IFERROR(VLOOKUP($D274,料理データ!$A$3:$BK$997,32,FALSE),\"\")","v":""},{"$f":"IFERROR(VLOOKUP($D274,料理データ!$A$3:$BK$997,35,FALSE),\"\")","v":""},{"$f":"IFERROR(VLOOKUP($D274,料理データ!$A$3:$BK$997,38,FALSE),\"\")","v":""},{"$f":"IFERROR(VLOOKUP($D274,料理データ!$A$3:$BK$997,41,FALSE),\"\")","v":""},{"$f":"IFERROR(VLOOKUP($D274,料理データ!$A$3:$BK$997,44,FALSE),\"\")","v":""},{"$f":"IFERROR(VLOOKUP($D274,料理データ!$A$3:$BK$997,47,FALSE),\"\")","v":""},{"$f":"IFERROR(VLOOKUP($D274,料理データ!$A$3:$BK$997,50,FALSE),\"\")","v":""},{"$f":"IFERROR(VLOOKUP($D274,料理データ!$A$3:$BK$997,53,FALSE),\"\")","v":""},{"$f":"IFERROR(VLOOKUP($D274,料理データ!$A$3:$BK$997,56,FALSE),\"\")","v":""},{"$f":"IFERROR(VLOOKUP($D274,料理データ!$A$3:$BK$997,59,FALSE),\"\")","v":""},{"$f":"IFERROR(VLOOKUP($D274,料理データ!$A$3:$BK$997,62,FALSE),\"\")","v":""},"                   ","                   "]
[null,null,null,{"$f":"+'月間献立（乳児）'!K26","v":0},{"$f":"IFERROR(VLOOKUP($D275,料理データ!$A$3:$BK$997,3,FALSE),\"\")","v":""},{"$f":"IFERROR(VLOOKUP($D275,料理データ!$A$3:$BK$997,5,FALSE),\"\")","v":""},{"$f":"IFERROR(VLOOKUP($D275,料理データ!$A$3:$BK$997,8,FALSE),\"\")","v":""},{"$f":"IFERROR(VLOOKUP($D275,料理データ!$A$3:$BK$997,11,FALSE),\"\")","v":""},{"$f":"IFERROR(VLOOKUP($D275,料理データ!$A$3:$BK$997,14,FALSE),\"\")","v":""},{"$f":"IFERROR(VLOOKUP($D275,料理データ!$A$3:$BK$997,17,FALSE),\"\")","v":""},{"$f":"IFERROR(VLOOKUP($D275,料理データ!$A$3:$BK$997,20,FALSE),\"\")","v":""},{"$f":"IFERROR(VLOOKUP($D275,料理データ!$A$3:$BK$997,23,FALSE),\"\")","v":""},{"$f":"IFERROR(VLOOKUP($D275,料理データ!$A$3:$BK$997,26,FALSE),\"\")","v":""},{"$f":"IFERROR(VLOOKUP($D275,料理データ!$A$3:$BK$997,29,FALSE),\"\")","v":""},{"$f":"IFERROR(VLOOKUP($D275,料理データ!$A$3:$BK$997,32,FALSE),\"\")","v":""},{"$f":"IFERROR(VLOOKUP($D275,料理データ!$A$3:$BK$997,35,FALSE),\"\")","v":""},{"$f":"IFERROR(VLOOKUP($D275,料理データ!$A$3:$BK$997,38,FALSE),\"\")","v":""},{"$f":"IFERROR(VLOOKUP($D275,料理データ!$A$3:$BK$997,41,FALSE),\"\")","v":""},{"$f":"IFERROR(VLOOKUP($D275,料理データ!$A$3:$BK$997,44,FALSE),\"\")","v":""},{"$f":"IFERROR(VLOOKUP($D275,料理データ!$A$3:$BK$997,47,FALSE),\"\")","v":""},{"$f":"IFERROR(VLOOKUP($D275,料理データ!$A$3:$BK$997,50,FALSE),\"\")","v":""},{"$f":"IFERROR(VLOOKUP($D275,料理データ!$A$3:$BK$997,53,FALSE),\"\")","v":""},{"$f":"IFERROR(VLOOKUP($D275,料理データ!$A$3:$BK$997,56,FALSE),\"\")","v":""},{"$f":"IFERROR(VLOOKUP($D275,料理データ!$A$3:$BK$997,59,FALSE),\"\")","v":""},{"$f":"IFERROR(VLOOKUP($D275,料理データ!$A$3:$BK$997,62,FALSE),\"\")","v":""},"                   ","                   "]
[null,null,"午後おやつ",{"$f":"+'月間献立（乳児）'!L26","v":0},{"$f":"IFERROR(VLOOKUP($D276,料理データ!$A$3:$BK$997,3,FALSE),\"\")","v":""},{"$f":"IFERROR(VLOOKUP($D276,料理データ!$A$3:$BK$997,5,FALSE),\"\")","v":""},{"$f":"IFERROR(VLOOKUP($D276,料理データ!$A$3:$BK$997,8,FALSE),\"\")","v":""},{"$f":"IFERROR(VLOOKUP($D276,料理データ!$A$3:$BK$997,11,FALSE),\"\")","v":""},{"$f":"IFERROR(VLOOKUP($D276,料理データ!$A$3:$BK$997,14,FALSE),\"\")","v":""},{"$f":"IFERROR(VLOOKUP($D276,料理データ!$A$3:$BK$997,17,FALSE),\"\")","v":""},{"$f":"IFERROR(VLOOKUP($D276,料理データ!$A$3:$BK$997,20,FALSE),\"\")","v":""},{"$f":"IFERROR(VLOOKUP($D276,料理データ!$A$3:$BK$997,23,FALSE),\"\")","v":""},{"$f":"IFERROR(VLOOKUP($D276,料理データ!$A$3:$BK$997,26,FALSE),\"\")","v":""},{"$f":"IFERROR(VLOOKUP($D276,料理データ!$A$3:$BK$997,29,FALSE),\"\")","v":""},{"$f":"IFERROR(VLOOKUP($D276,料理データ!$A$3:$BK$997,32,FALSE),\"\")","v":""},{"$f":"IFERROR(VLOOKUP($D276,料理データ!$A$3:$BK$997,35,FALSE),\"\")","v":""},{"$f":"IFERROR(VLOOKUP($D276,料理データ!$A$3:$BK$997,38,FALSE),\"\")","v":""},{"$f":"IFERROR(VLOOKUP($D276,料理データ!$A$3:$BK$997,41,FALSE),\"\")","v":""},{"$f":"IFERROR(VLOOKUP($D276,料理データ!$A$3:$BK$997,44,FALSE),\"\")","v":""},{"$f":"IFERROR(VLOOKUP($D276,料理データ!$A$3:$BK$997,47,FALSE),\"\")","v":""},{"$f":"IFERROR(VLOOKUP($D276,料理データ!$A$3:$BK$997,50,FALSE),\"\")","v":""},{"$f":"IFERROR(VLOOKUP($D276,料理データ!$A$3:$BK$997,53,FALSE),\"\")","v":""},{"$f":"IFERROR(VLOOKUP($D276,料理データ!$A$3:$BK$997,56,FALSE),\"\")","v":""},{"$f":"IFERROR(VLOOKUP($D276,料理データ!$A$3:$BK$997,59,FALSE),\"\")","v":""},{"$f":"IFERROR(VLOOKUP($D276,料理データ!$A$3:$BK$997,62,FALSE),\"\")","v":""},"                   ","                   "]
[null,null,null,{"$f":"+'月間献立（乳児）'!M26","v":0},{"$f":"IFERROR(VLOOKUP($D277,料理データ!$A$3:$BK$997,3,FALSE),\"\")","v":""},{"$f":"IFERROR(VLOOKUP($D277,料理データ!$A$3:$BK$997,5,FALSE),\"\")","v":""},{"$f":"IFERROR(VLOOKUP($D277,料理データ!$A$3:$BK$997,8,FALSE),\"\")","v":""},{"$f":"IFERROR(VLOOKUP($D277,料理データ!$A$3:$BK$997,11,FALSE),\"\")","v":""},{"$f":"IFERROR(VLOOKUP($D277,料理データ!$A$3:$BK$997,14,FALSE),\"\")","v":""},{"$f":"IFERROR(VLOOKUP($D277,料理データ!$A$3:$BK$997,17,FALSE),\"\")","v":""},{"$f":"IFERROR(VLOOKUP($D277,料理データ!$A$3:$BK$997,20,FALSE),\"\")","v":""},{"$f":"IFERROR(VLOOKUP($D277,料理データ!$A$3:$BK$997,23,FALSE),\"\")","v":""},{"$f":"IFERROR(VLOOKUP($D277,料理データ!$A$3:$BK$997,26,FALSE),\"\")","v":""},{"$f":"IFERROR(VLOOKUP($D277,料理データ!$A$3:$BK$997,29,FALSE),\"\")","v":""},{"$f":"IFERROR(VLOOKUP($D277,料理データ!$A$3:$BK$997,32,FALSE),\"\")","v":""},{"$f":"IFERROR(VLOOKUP($D277,料理データ!$A$3:$BK$997,35,FALSE),\"\")","v":""},{"$f":"IFERROR(VLOOKUP($D277,料理データ!$A$3:$BK$997,38,FALSE),\"\")","v":""},{"$f":"IFERROR(VLOOKUP($D277,料理データ!$A$3:$BK$997,41,FALSE),\"\")","v":""},{"$f":"IFERROR(VLOOKUP($D277,料理データ!$A$3:$BK$997,44,FALSE),\"\")","v":""},{"$f":"IFERROR(VLOOKUP($D277,料理データ!$A$3:$BK$997,47,FALSE),\"\")","v":""},{"$f":"IFERROR(VLOOKUP($D277,料理データ!$A$3:$BK$997,50,FALSE),\"\")","v":""},{"$f":"IFERROR(VLOOKUP($D277,料理データ!$A$3:$BK$997,53,FALSE),\"\")","v":""},{"$f":"IFERROR(VLOOKUP($D277,料理データ!$A$3:$BK$997,56,FALSE),\"\")","v":""},{"$f":"IFERROR(VLOOKUP($D277,料理データ!$A$3:$BK$997,59,FALSE),\"\")","v":""},{"$f":"IFERROR(VLOOKUP($D277,料理データ!$A$3:$BK$997,62,FALSE),\"\")","v":""},"                   ","                   "]
[null,null,null,{"$f":"+'月間献立（乳児）'!N26","v":0},{"$f":"IFERROR(VLOOKUP($D278,料理データ!$A$3:$BK$997,3,FALSE),\"\")","v":""},{"$f":"IFERROR(VLOOKUP($D278,料理データ!$A$3:$BK$997,5,FALSE),\"\")","v":""},{"$f":"IFERROR(VLOOKUP($D278,料理データ!$A$3:$BK$997,8,FALSE),\"\")","v":""},{"$f":"IFERROR(VLOOKUP($D278,料理データ!$A$3:$BK$997,11,FALSE),\"\")","v":""},{"$f":"IFERROR(VLOOKUP($D278,料理データ!$A$3:$BK$997,14,FALSE),\"\")","v":""},{"$f":"IFERROR(VLOOKUP($D278,料理データ!$A$3:$BK$997,17,FALSE),\"\")","v":""},{"$f":"IFERROR(VLOOKUP($D278,料理データ!$A$3:$BK$997,20,FALSE),\"\")","v":""},{"$f":"IFERROR(VLOOKUP($D278,料理データ!$A$3:$BK$997,23,FALSE),\"\")","v":""},{"$f":"IFERROR(VLOOKUP($D278,料理データ!$A$3:$BK$997,26,FALSE),\"\")","v":""},{"$f":"IFERROR(VLOOKUP($D278,料理データ!$A$3:$BK$997,29,FALSE),\"\")","v":""},{"$f":"IFERROR(VLOOKUP($D278,料理データ!$A$3:$BK$997,32,FALSE),\"\")","v":""},{"$f":"IFERROR(VLOOKUP($D278,料理データ!$A$3:$BK$997,35,FALSE),\"\")","v":""},{"$f":"IFERROR(VLOOKUP($D278,料理データ!$A$3:$BK$997,38,FALSE),\"\")","v":""},{"$f":"IFERROR(VLOOKUP($D278,料理データ!$A$3:$BK$997,41,FALSE),\"\")","v":""},{"$f":"IFERROR(VLOOKUP($D278,料理データ!$A$3:$BK$997,44,FALSE),\"\")","v":""},{"$f":"IFERROR(VLOOKUP($D278,料理データ!$A$3:$BK$997,47,FALSE),\"\")","v":""},{"$f":"IFERROR(VLOOKUP($D278,料理データ!$A$3:$BK$997,50,FALSE),\"\")","v":""},{"$f":"IFERROR(VLOOKUP($D278,料理データ!$A$3:$BK$997,53,FALSE),\"\")","v":""},{"$f":"IFERROR(VLOOKUP($D278,料理データ!$A$3:$BK$997,56,FALSE),\"\")","v":""},{"$f":"IFERROR(VLOOKUP($D278,料理データ!$A$3:$BK$997,59,FALSE),\"\")","v":""},{"$f":"IFERROR(VLOOKUP($D278,料理データ!$A$3:$BK$997,62,FALSE),\"\")","v":""},"                   ",{"$f":"SUBSTITUTE(Z278,\"-\",\"\")","v":"                   "}]
[{"$f":"+'月間献立（幼児）'!A28","v":24},{"$f":"+'月間献立（幼児）'!B28","v":"(月)"},"午前おやつ",{"$f":"+'月間献立（乳児）'!C27","v":0},{"$f":"IFERROR(VLOOKUP($D279,料理データ!$A$3:$BK$997,3,FALSE),\"\")","v":""},{"$f":"IFERROR(VLOOKUP($D279,料理データ!$A$3:$BK$997,5,FALSE),\"\")","v":""},{"$f":"IFERROR(VLOOKUP($D279,料理データ!$A$3:$BK$997,8,FALSE),\"\")","v":""},{"$f":"IFERROR(VLOOKUP($D279,料理データ!$A$3:$BK$997,11,FALSE),\"\")","v":""},{"$f":"IFERROR(VLOOKUP($D279,料理データ!$A$3:$BK$997,14,FALSE),\"\")","v":""},{"$f":"IFERROR(VLOOKUP($D279,料理データ!$A$3:$BK$997,17,FALSE),\"\")","v":""},{"$f":"IFERROR(VLOOKUP($D279,料理データ!$A$3:$BK$997,20,FALSE),\"\")","v":""},{"$f":"IFERROR(VLOOKUP($D279,料理データ!$A$3:$BK$997,23,FALSE),\"\")","v":""},{"$f":"IFERROR(VLOOKUP($D279,料理データ!$A$3:$BK$997,26,FALSE),\"\")","v":""},{"$f":"IFERROR(VLOOKUP($D279,料理データ!$A$3:$BK$997,29,FALSE),\"\")","v":""},{"$f":"IFERROR(VLOOKUP($D279,料理データ!$A$3:$BK$997,32,FALSE),\"\")","v":""},{"$f":"IFERROR(VLOOKUP($D279,料理データ!$A$3:$BK$997,35,FALSE),\"\")","v":""},{"$f":"IFERROR(VLOOKUP($D279,料理データ!$A$3:$BK$997,38,FALSE),\"\")","v":""},{"$f":"IFERROR(VLOOKUP($D279,料理データ!$A$3:$BK$997,41,FALSE),\"\")","v":""},{"$f":"IFERROR(VLOOKUP($D279,料理データ!$A$3:$BK$997,44,FALSE),\"\")","v":""},{"$f":"IFERROR(VLOOKUP($D279,料理データ!$A$3:$BK$997,47,FALSE),\"\")","v":""},{"$f":"IFERROR(VLOOKUP($D279,料理データ!$A$3:$BK$997,50,FALSE),\"\")","v":""},{"$f":"IFERROR(VLOOKUP($D279,料理データ!$A$3:$BK$997,53,FALSE),\"\")","v":""},{"$f":"IFERROR(VLOOKUP($D279,料理データ!$A$3:$BK$997,56,FALSE),\"\")","v":""},{"$f":"IFERROR(VLOOKUP($D279,料理データ!$A$3:$BK$997,59,FALSE),\"\")","v":""},{"$f":"IFERROR(VLOOKUP($D279,料理データ!$A$3:$BK$997,62,FALSE),\"\")","v":""},"                   ",{"$f":"SUBSTITUTE(Z279,\"-\",\" \")","v":"                   "},{"$f":"TRIM(CONCATENATE(AA279,AA280,AA281,\"▲\",AA282,AA283,AA284,AA285,AA286,AA287,\"▲\",AA288,AA289,AA290))","v":"▲ ▲"}]
[null,null,null,{"$f":"+'月間献立（乳児）'!D27","v":0},{"$f":"IFERROR(VLOOKUP($D280,料理データ!$A$3:$BK$997,3,FALSE),\"\")","v":""},{"$f":"IFERROR(VLOOKUP($D280,料理データ!$A$3:$BK$997,5,FALSE),\"\")","v":""},{"$f":"IFERROR(VLOOKUP($D280,料理データ!$A$3:$BK$997,8,FALSE),\"\")","v":""},{"$f":"IFERROR(VLOOKUP($D280,料理データ!$A$3:$BK$997,11,FALSE),\"\")","v":""},{"$f":"IFERROR(VLOOKUP($D280,料理データ!$A$3:$BK$997,14,FALSE),\"\")","v":""},{"$f":"IFERROR(VLOOKUP($D280,料理データ!$A$3:$BK$997,17,FALSE),\"\")","v":""},{"$f":"IFERROR(VLOOKUP($D280,料理データ!$A$3:$BK$997,20,FALSE),\"\")","v":""},{"$f":"IFERROR(VLOOKUP($D280,料理データ!$A$3:$BK$997,23,FALSE),\"\")","v":""},{"$f":"IFERROR(VLOOKUP($D280,料理データ!$A$3:$BK$997,26,FALSE),\"\")","v":""},{"$f":"IFERROR(VLOOKUP($D280,料理データ!$A$3:$BK$997,29,FALSE),\"\")","v":""},{"$f":"IFERROR(VLOOKUP($D280,料理データ!$A$3:$BK$997,32,FALSE),\"\")","v":""},{"$f":"IFERROR(VLOOKUP($D280,料理データ!$A$3:$BK$997,35,FALSE),\"\")","v":""},{"$f":"IFERROR(VLOOKUP($D280,料理データ!$A$3:$BK$997,38,FALSE),\"\")","v":""},{"$f":"IFERROR(VLOOKUP($D280,料理データ!$A$3:$BK$997,41,FALSE),\"\")","v":""},{"$f":"IFERROR(VLOOKUP($D280,料理データ!$A$3:$BK$997,44,FALSE),\"\")","v":""},{"$f":"IFERROR(VLOOKUP($D280,料理データ!$A$3:$BK$997,47,FALSE),\"\")","v":""},{"$f":"IFERROR(VLOOKUP($D280,料理データ!$A$3:$BK$997,50,FALSE),\"\")","v":""},{"$f":"IFERROR(VLOOKUP($D280,料理データ!$A$3:$BK$997,53,FALSE),\"\")","v":""},{"$f":"IFERROR(VLOOKUP($D280,料理データ!$A$3:$BK$997,56,FALSE),\"\")","v":""},{"$f":"IFERROR(VLOOKUP($D280,料理データ!$A$3:$BK$997,59,FALSE),\"\")","v":""},{"$f":"IFERROR(VLOOKUP($D280,料理データ!$A$3:$BK$997,62,FALSE),\"\")","v":""},"                   ",{"$f":"SUBSTITUTE(Z280,\"-\",\" \")","v":"                   "}]
[null,null,null,{"$f":"+'月間献立（乳児）'!E27","v":0},{"$f":"IFERROR(VLOOKUP($D281,料理データ!$A$3:$BK$997,3,FALSE),\"\")","v":""},{"$f":"IFERROR(VLOOKUP($D281,料理データ!$A$3:$BK$997,5,FALSE),\"\")","v":""},{"$f":"IFERROR(VLOOKUP($D281,料理データ!$A$3:$BK$997,8,FALSE),\"\")","v":""},{"$f":"IFERROR(VLOOKUP($D281,料理データ!$A$3:$BK$997,11,FALSE),\"\")","v":""},{"$f":"IFERROR(VLOOKUP($D281,料理データ!$A$3:$BK$997,14,FALSE),\"\")","v":""},{"$f":"IFERROR(VLOOKUP($D281,料理データ!$A$3:$BK$997,17,FALSE),\"\")","v":""},{"$f":"IFERROR(VLOOKUP($D281,料理データ!$A$3:$BK$997,20,FALSE),\"\")","v":""},{"$f":"IFERROR(VLOOKUP($D281,料理データ!$A$3:$BK$997,23,FALSE),\"\")","v":""},{"$f":"IFERROR(VLOOKUP($D281,料理データ!$A$3:$BK$997,26,FALSE),\"\")","v":""},{"$f":"IFERROR(VLOOKUP($D281,料理データ!$A$3:$BK$997,29,FALSE),\"\")","v":""},{"$f":"IFERROR(VLOOKUP($D281,料理データ!$A$3:$BK$997,32,FALSE),\"\")","v":""},{"$f":"IFERROR(VLOOKUP($D281,料理データ!$A$3:$BK$997,35,FALSE),\"\")","v":""},{"$f":"IFERROR(VLOOKUP($D281,料理データ!$A$3:$BK$997,38,FALSE),\"\")","v":""},{"$f":"IFERROR(VLOOKUP($D281,料理データ!$A$3:$BK$997,41,FALSE),\"\")","v":""},{"$f":"IFERROR(VLOOKUP($D281,料理データ!$A$3:$BK$997,44,FALSE),\"\")","v":""},{"$f":"IFERROR(VLOOKUP($D281,料理データ!$A$3:$BK$997,47,FALSE),\"\")","v":""},{"$f":"IFERROR(VLOOKUP($D281,料理データ!$A$3:$BK$997,50,FALSE),\"\")","v":""},{"$f":"IFERROR(VLOOKUP($D281,料理データ!$A$3:$BK$997,53,FALSE),\"\")","v":""},{"$f":"IFERROR(VLOOKUP($D281,料理データ!$A$3:$BK$997,56,FALSE),\"\")","v":""},{"$f":"IFERROR(VLOOKUP($D281,料理データ!$A$3:$BK$997,59,FALSE),\"\")","v":""},{"$f":"IFERROR(VLOOKUP($D281,料理データ!$A$3:$BK$997,62,FALSE),\"\")","v":""},"                   ",{"$f":"SUBSTITUTE(Z281,\"-\",\" \")","v":"                   "}]
[null,null,"昼食",{"$f":"+'月間献立（乳児）'!F27","v":0},{"$f":"IFERROR(VLOOKUP($D282,料理データ!$A$3:$BK$997,3,FALSE),\"\")","v":""},{"$f":"IFERROR(VLOOKUP($D282,料理データ!$A$3:$BK$997,5,FALSE),\"\")","v":""},{"$f":"IFERROR(VLOOKUP($D282,料理データ!$A$3:$BK$997,8,FALSE),\"\")","v":""},{"$f":"IFERROR(VLOOKUP($D282,料理データ!$A$3:$BK$997,11,FALSE),\"\")","v":""},{"$f":"IFERROR(VLOOKUP($D282,料理データ!$A$3:$BK$997,14,FALSE),\"\")","v":""},{"$f":"IFERROR(VLOOKUP($D282,料理データ!$A$3:$BK$997,17,FALSE),\"\")","v":""},{"$f":"IFERROR(VLOOKUP($D282,料理データ!$A$3:$BK$997,20,FALSE),\"\")","v":""},{"$f":"IFERROR(VLOOKUP($D282,料理データ!$A$3:$BK$997,23,FALSE),\"\")","v":""},{"$f":"IFERROR(VLOOKUP($D282,料理データ!$A$3:$BK$997,26,FALSE),\"\")","v":""},{"$f":"IFERROR(VLOOKUP($D282,料理データ!$A$3:$BK$997,29,FALSE),\"\")","v":""},{"$f":"IFERROR(VLOOKUP($D282,料理データ!$A$3:$BK$997,32,FALSE),\"\")","v":""},{"$f":"IFERROR(VLOOKUP($D282,料理データ!$A$3:$BK$997,35,FALSE),\"\")","v":""},{"$f":"IFERROR(VLOOKUP($D282,料理データ!$A$3:$BK$997,38,FALSE),\"\")","v":""},{"$f":"IFERROR(VLOOKUP($D282,料理データ!$A$3:$BK$997,41,FALSE),\"\")","v":""},{"$f":"IFERROR(VLOOKUP($D282,料理データ!$A$3:$BK$997,44,FALSE),\"\")","v":""},{"$f":"IFERROR(VLOOKUP($D282,料理データ!$A$3:$BK$997,47,FALSE),\"\")","v":""},{"$f":"IFERROR(VLOOKUP($D282,料理データ!$A$3:$BK$997,50,FALSE),\"\")","v":""},{"$f":"IFERROR(VLOOKUP($D282,料理データ!$A$3:$BK$997,53,FALSE),\"\")","v":""},{"$f":"IFERROR(VLOOKUP($D282,料理データ!$A$3:$BK$997,56,FALSE),\"\")","v":""},{"$f":"IFERROR(VLOOKUP($D282,料理データ!$A$3:$BK$997,59,FALSE),\"\")","v":""},{"$f":"IFERROR(VLOOKUP($D282,料理データ!$A$3:$BK$997,62,FALSE),\"\")","v":""},"                   ","                   "]
[null,null,null,{"$f":"+'月間献立（乳児）'!G27","v":0},{"$f":"IFERROR(VLOOKUP($D283,料理データ!$A$3:$BK$997,3,FALSE),\"\")","v":""},{"$f":"IFERROR(VLOOKUP($D283,料理データ!$A$3:$BK$997,5,FALSE),\"\")","v":""},{"$f":"IFERROR(VLOOKUP($D283,料理データ!$A$3:$BK$997,8,FALSE),\"\")","v":""},{"$f":"IFERROR(VLOOKUP($D283,料理データ!$A$3:$BK$997,11,FALSE),\"\")","v":""},{"$f":"IFERROR(VLOOKUP($D283,料理データ!$A$3:$BK$997,14,FALSE),\"\")","v":""},{"$f":"IFERROR(VLOOKUP($D283,料理データ!$A$3:$BK$997,17,FALSE),\"\")","v":""},{"$f":"IFERROR(VLOOKUP($D283,料理データ!$A$3:$BK$997,20,FALSE),\"\")","v":""},{"$f":"IFERROR(VLOOKUP($D283,料理データ!$A$3:$BK$997,23,FALSE),\"\")","v":""},{"$f":"IFERROR(VLOOKUP($D283,料理データ!$A$3:$BK$997,26,FALSE),\"\")","v":""},{"$f":"IFERROR(VLOOKUP($D283,料理データ!$A$3:$BK$997,29,FALSE),\"\")","v":""},{"$f":"IFERROR(VLOOKUP($D283,料理データ!$A$3:$BK$997,32,FALSE),\"\")","v":""},{"$f":"IFERROR(VLOOKUP($D283,料理データ!$A$3:$BK$997,35,FALSE),\"\")","v":""},{"$f":"IFERROR(VLOOKUP($D283,料理データ!$A$3:$BK$997,38,FALSE),\"\")","v":""},{"$f":"IFERROR(VLOOKUP($D283,料理データ!$A$3:$BK$997,41,FALSE),\"\")","v":""},{"$f":"IFERROR(VLOOKUP($D283,料理データ!$A$3:$BK$997,44,FALSE),\"\")","v":""},{"$f":"IFERROR(VLOOKUP($D283,料理データ!$A$3:$BK$997,47,FALSE),\"\")","v":""},{"$f":"IFERROR(VLOOKUP($D283,料理データ!$A$3:$BK$997,50,FALSE),\"\")","v":""},{"$f":"IFERROR(VLOOKUP($D283,料理データ!$A$3:$BK$997,53,FALSE),\"\")","v":""},{"$f":"IFERROR(VLOOKUP($D283,料理データ!$A$3:$BK$997,56,FALSE),\"\")","v":""},{"$f":"IFERROR(VLOOKUP($D283,料理データ!$A$3:$BK$997,59,FALSE),\"\")","v":""},{"$f":"IFERROR(VLOOKUP($D283,料理データ!$A$3:$BK$997,62,FALSE),\"\")","v":""},"                   ","                   "]
[null,null,null,{"$f":"+'月間献立（乳児）'!H27","v":0},{"$f":"IFERROR(VLOOKUP($D284,料理データ!$A$3:$BK$997,3,FALSE),\"\")","v":""},{"$f":"IFERROR(VLOOKUP($D284,料理データ!$A$3:$BK$997,5,FALSE),\"\")","v":""},{"$f":"IFERROR(VLOOKUP($D284,料理データ!$A$3:$BK$997,8,FALSE),\"\")","v":""},{"$f":"IFERROR(VLOOKUP($D284,料理データ!$A$3:$BK$997,11,FALSE),\"\")","v":""},{"$f":"IFERROR(VLOOKUP($D284,料理データ!$A$3:$BK$997,14,FALSE),\"\")","v":""},{"$f":"IFERROR(VLOOKUP($D284,料理データ!$A$3:$BK$997,17,FALSE),\"\")","v":""},{"$f":"IFERROR(VLOOKUP($D284,料理データ!$A$3:$BK$997,20,FALSE),\"\")","v":""},{"$f":"IFERROR(VLOOKUP($D284,料理データ!$A$3:$BK$997,23,FALSE),\"\")","v":""},{"$f":"IFERROR(VLOOKUP($D284,料理データ!$A$3:$BK$997,26,FALSE),\"\")","v":""},{"$f":"IFERROR(VLOOKUP($D284,料理データ!$A$3:$BK$997,29,FALSE),\"\")","v":""},{"$f":"IFERROR(VLOOKUP($D284,料理データ!$A$3:$BK$997,32,FALSE),\"\")","v":""},{"$f":"IFERROR(VLOOKUP($D284,料理データ!$A$3:$BK$997,35,FALSE),\"\")","v":""},{"$f":"IFERROR(VLOOKUP($D284,料理データ!$A$3:$BK$997,38,FALSE),\"\")","v":""},{"$f":"IFERROR(VLOOKUP($D284,料理データ!$A$3:$BK$997,41,FALSE),\"\")","v":""},{"$f":"IFERROR(VLOOKUP($D284,料理データ!$A$3:$BK$997,44,FALSE),\"\")","v":""},{"$f":"IFERROR(VLOOKUP($D284,料理データ!$A$3:$BK$997,47,FALSE),\"\")","v":""},{"$f":"IFERROR(VLOOKUP($D284,料理データ!$A$3:$BK$997,50,FALSE),\"\")","v":""},{"$f":"IFERROR(VLOOKUP($D284,料理データ!$A$3:$BK$997,53,FALSE),\"\")","v":""},{"$f":"IFERROR(VLOOKUP($D284,料理データ!$A$3:$BK$997,56,FALSE),\"\")","v":""},{"$f":"IFERROR(VLOOKUP($D284,料理データ!$A$3:$BK$997,59,FALSE),\"\")","v":""},{"$f":"IFERROR(VLOOKUP($D284,料理データ!$A$3:$BK$997,62,FALSE),\"\")","v":""},"                   ","                   "]
[null,null,null,{"$f":"+'月間献立（乳児）'!I27","v":0},{"$f":"IFERROR(VLOOKUP($D285,料理データ!$A$3:$BK$997,3,FALSE),\"\")","v":""},{"$f":"IFERROR(VLOOKUP($D285,料理データ!$A$3:$BK$997,5,FALSE),\"\")","v":""},{"$f":"IFERROR(VLOOKUP($D285,料理データ!$A$3:$BK$997,8,FALSE),\"\")","v":""},{"$f":"IFERROR(VLOOKUP($D285,料理データ!$A$3:$BK$997,11,FALSE),\"\")","v":""},{"$f":"IFERROR(VLOOKUP($D285,料理データ!$A$3:$BK$997,14,FALSE),\"\")","v":""},{"$f":"IFERROR(VLOOKUP($D285,料理データ!$A$3:$BK$997,17,FALSE),\"\")","v":""},{"$f":"IFERROR(VLOOKUP($D285,料理データ!$A$3:$BK$997,20,FALSE),\"\")","v":""},{"$f":"IFERROR(VLOOKUP($D285,料理データ!$A$3:$BK$997,23,FALSE),\"\")","v":""},{"$f":"IFERROR(VLOOKUP($D285,料理データ!$A$3:$BK$997,26,FALSE),\"\")","v":""},{"$f":"IFERROR(VLOOKUP($D285,料理データ!$A$3:$BK$997,29,FALSE),\"\")","v":""},{"$f":"IFERROR(VLOOKUP($D285,料理データ!$A$3:$BK$997,32,FALSE),\"\")","v":""},{"$f":"IFERROR(VLOOKUP($D285,料理データ!$A$3:$BK$997,35,FALSE),\"\")","v":""},{"$f":"IFERROR(VLOOKUP($D285,料理データ!$A$3:$BK$997,38,FALSE),\"\")","v":""},{"$f":"IFERROR(VLOOKUP($D285,料理データ!$A$3:$BK$997,41,FALSE),\"\")","v":""},{"$f":"IFERROR(VLOOKUP($D285,料理データ!$A$3:$BK$997,44,FALSE),\"\")","v":""},{"$f":"IFERROR(VLOOKUP($D285,料理データ!$A$3:$BK$997,47,FALSE),\"\")","v":""},{"$f":"IFERROR(VLOOKUP($D285,料理データ!$A$3:$BK$997,50,FALSE),\"\")","v":""},{"$f":"IFERROR(VLOOKUP($D285,料理データ!$A$3:$BK$997,53,FALSE),\"\")","v":""},{"$f":"IFERROR(VLOOKUP($D285,料理データ!$A$3:$BK$997,56,FALSE),\"\")","v":""},{"$f":"IFERROR(VLOOKUP($D285,料理データ!$A$3:$BK$997,59,FALSE),\"\")","v":""},{"$f":"IFERROR(VLOOKUP($D285,料理データ!$A$3:$BK$997,62,FALSE),\"\")","v":""},"                   ","                   "]
[null,null,null,{"$f":"+'月間献立（乳児）'!J27","v":0},{"$f":"IFERROR(VLOOKUP($D286,料理データ!$A$3:$BK$997,3,FALSE),\"\")","v":""},{"$f":"IFERROR(VLOOKUP($D286,料理データ!$A$3:$BK$997,5,FALSE),\"\")","v":""},{"$f":"IFERROR(VLOOKUP($D286,料理データ!$A$3:$BK$997,8,FALSE),\"\")","v":""},{"$f":"IFERROR(VLOOKUP($D286,料理データ!$A$3:$BK$997,11,FALSE),\"\")","v":""},{"$f":"IFERROR(VLOOKUP($D286,料理データ!$A$3:$BK$997,14,FALSE),\"\")","v":""},{"$f":"IFERROR(VLOOKUP($D286,料理データ!$A$3:$BK$997,17,FALSE),\"\")","v":""},{"$f":"IFERROR(VLOOKUP($D286,料理データ!$A$3:$BK$997,20,FALSE),\"\")","v":""},{"$f":"IFERROR(VLOOKUP($D286,料理データ!$A$3:$BK$997,23,FALSE),\"\")","v":""},{"$f":"IFERROR(VLOOKUP($D286,料理データ!$A$3:$BK$997,26,FALSE),\"\")","v":""},{"$f":"IFERROR(VLOOKUP($D286,料理データ!$A$3:$BK$997,29,FALSE),\"\")","v":""},{"$f":"IFERROR(VLOOKUP($D286,料理データ!$A$3:$BK$997,32,FALSE),\"\")","v":""},{"$f":"IFERROR(VLOOKUP($D286,料理データ!$A$3:$BK$997,35,FALSE),\"\")","v":""},{"$f":"IFERROR(VLOOKUP($D286,料理データ!$A$3:$BK$997,38,FALSE),\"\")","v":""},{"$f":"IFERROR(VLOOKUP($D286,料理データ!$A$3:$BK$997,41,FALSE),\"\")","v":""},{"$f":"IFERROR(VLOOKUP($D286,料理データ!$A$3:$BK$997,44,FALSE),\"\")","v":""},{"$f":"IFERROR(VLOOKUP($D286,料理データ!$A$3:$BK$997,47,FALSE),\"\")","v":""},{"$f":"IFERROR(VLOOKUP($D286,料理データ!$A$3:$BK$997,50,FALSE),\"\")","v":""},{"$f":"IFERROR(VLOOKUP($D286,料理データ!$A$3:$BK$997,53,FALSE),\"\")","v":""},{"$f":"IFERROR(VLOOKUP($D286,料理データ!$A$3:$BK$997,56,FALSE),\"\")","v":""},{"$f":"IFERROR(VLOOKUP($D286,料理データ!$A$3:$BK$997,59,FALSE),\"\")","v":""},{"$f":"IFERROR(VLOOKUP($D286,料理データ!$A$3:$BK$997,62,FALSE),\"\")","v":""},"                   ","                   "]
[null,null,null,{"$f":"+'月間献立（乳児）'!K27","v":0},{"$f":"IFERROR(VLOOKUP($D287,料理データ!$A$3:$BK$997,3,FALSE),\"\")","v":""},{"$f":"IFERROR(VLOOKUP($D287,料理データ!$A$3:$BK$997,5,FALSE),\"\")","v":""},{"$f":"IFERROR(VLOOKUP($D287,料理データ!$A$3:$BK$997,8,FALSE),\"\")","v":""},{"$f":"IFERROR(VLOOKUP($D287,料理データ!$A$3:$BK$997,11,FALSE),\"\")","v":""},{"$f":"IFERROR(VLOOKUP($D287,料理データ!$A$3:$BK$997,14,FALSE),\"\")","v":""},{"$f":"IFERROR(VLOOKUP($D287,料理データ!$A$3:$BK$997,17,FALSE),\"\")","v":""},{"$f":"IFERROR(VLOOKUP($D287,料理データ!$A$3:$BK$997,20,FALSE),\"\")","v":""},{"$f":"IFERROR(VLOOKUP($D287,料理データ!$A$3:$BK$997,23,FALSE),\"\")","v":""},{"$f":"IFERROR(VLOOKUP($D287,料理データ!$A$3:$BK$997,26,FALSE),\"\")","v":""},{"$f":"IFERROR(VLOOKUP($D287,料理データ!$A$3:$BK$997,29,FALSE),\"\")","v":""},{"$f":"IFERROR(VLOOKUP($D287,料理データ!$A$3:$BK$997,32,FALSE),\"\")","v":""},{"$f":"IFERROR(VLOOKUP($D287,料理データ!$A$3:$BK$997,35,FALSE),\"\")","v":""},{"$f":"IFERROR(VLOOKUP($D287,料理データ!$A$3:$BK$997,38,FALSE),\"\")","v":""},{"$f":"IFERROR(VLOOKUP($D287,料理データ!$A$3:$BK$997,41,FALSE),\"\")","v":""},{"$f":"IFERROR(VLOOKUP($D287,料理データ!$A$3:$BK$997,44,FALSE),\"\")","v":""},{"$f":"IFERROR(VLOOKUP($D287,料理データ!$A$3:$BK$997,47,FALSE),\"\")","v":""},{"$f":"IFERROR(VLOOKUP($D287,料理データ!$A$3:$BK$997,50,FALSE),\"\")","v":""},{"$f":"IFERROR(VLOOKUP($D287,料理データ!$A$3:$BK$997,53,FALSE),\"\")","v":""},{"$f":"IFERROR(VLOOKUP($D287,料理データ!$A$3:$BK$997,56,FALSE),\"\")","v":""},{"$f":"IFERROR(VLOOKUP($D287,料理データ!$A$3:$BK$997,59,FALSE),\"\")","v":""},{"$f":"IFERROR(VLOOKUP($D287,料理データ!$A$3:$BK$997,62,FALSE),\"\")","v":""},"                   ","                   "]
[null,null,"午後おやつ",{"$f":"+'月間献立（乳児）'!L27","v":0},{"$f":"IFERROR(VLOOKUP($D288,料理データ!$A$3:$BK$997,3,FALSE),\"\")","v":""},{"$f":"IFERROR(VLOOKUP($D288,料理データ!$A$3:$BK$997,5,FALSE),\"\")","v":""},{"$f":"IFERROR(VLOOKUP($D288,料理データ!$A$3:$BK$997,8,FALSE),\"\")","v":""},{"$f":"IFERROR(VLOOKUP($D288,料理データ!$A$3:$BK$997,11,FALSE),\"\")","v":""},{"$f":"IFERROR(VLOOKUP($D288,料理データ!$A$3:$BK$997,14,FALSE),\"\")","v":""},{"$f":"IFERROR(VLOOKUP($D288,料理データ!$A$3:$BK$997,17,FALSE),\"\")","v":""},{"$f":"IFERROR(VLOOKUP($D288,料理データ!$A$3:$BK$997,20,FALSE),\"\")","v":""},{"$f":"IFERROR(VLOOKUP($D288,料理データ!$A$3:$BK$997,23,FALSE),\"\")","v":""},{"$f":"IFERROR(VLOOKUP($D288,料理データ!$A$3:$BK$997,26,FALSE),\"\")","v":""},{"$f":"IFERROR(VLOOKUP($D288,料理データ!$A$3:$BK$997,29,FALSE),\"\")","v":""},{"$f":"IFERROR(VLOOKUP($D288,料理データ!$A$3:$BK$997,32,FALSE),\"\")","v":""},{"$f":"IFERROR(VLOOKUP($D288,料理データ!$A$3:$BK$997,35,FALSE),\"\")","v":""},{"$f":"IFERROR(VLOOKUP($D288,料理データ!$A$3:$BK$997,38,FALSE),\"\")","v":""},{"$f":"IFERROR(VLOOKUP($D288,料理データ!$A$3:$BK$997,41,FALSE),\"\")","v":""},{"$f":"IFERROR(VLOOKUP($D288,料理データ!$A$3:$BK$997,44,FALSE),\"\")","v":""},{"$f":"IFERROR(VLOOKUP($D288,料理データ!$A$3:$BK$997,47,FALSE),\"\")","v":""},{"$f":"IFERROR(VLOOKUP($D288,料理データ!$A$3:$BK$997,50,FALSE),\"\")","v":""},{"$f":"IFERROR(VLOOKUP($D288,料理データ!$A$3:$BK$997,53,FALSE),\"\")","v":""},{"$f":"IFERROR(VLOOKUP($D288,料理データ!$A$3:$BK$997,56,FALSE),\"\")","v":""},{"$f":"IFERROR(VLOOKUP($D288,料理データ!$A$3:$BK$997,59,FALSE),\"\")","v":""},{"$f":"IFERROR(VLOOKUP($D288,料理データ!$A$3:$BK$997,62,FALSE),\"\")","v":""},"                   ","                   "]
[null,null,null,{"$f":"+'月間献立（乳児）'!M27","v":0},{"$f":"IFERROR(VLOOKUP($D289,料理データ!$A$3:$BK$997,3,FALSE),\"\")","v":""},{"$f":"IFERROR(VLOOKUP($D289,料理データ!$A$3:$BK$997,5,FALSE),\"\")","v":""},{"$f":"IFERROR(VLOOKUP($D289,料理データ!$A$3:$BK$997,8,FALSE),\"\")","v":""},{"$f":"IFERROR(VLOOKUP($D289,料理データ!$A$3:$BK$997,11,FALSE),\"\")","v":""},{"$f":"IFERROR(VLOOKUP($D289,料理データ!$A$3:$BK$997,14,FALSE),\"\")","v":""},{"$f":"IFERROR(VLOOKUP($D289,料理データ!$A$3:$BK$997,17,FALSE),\"\")","v":""},{"$f":"IFERROR(VLOOKUP($D289,料理データ!$A$3:$BK$997,20,FALSE),\"\")","v":""},{"$f":"IFERROR(VLOOKUP($D289,料理データ!$A$3:$BK$997,23,FALSE),\"\")","v":""},{"$f":"IFERROR(VLOOKUP($D289,料理データ!$A$3:$BK$997,26,FALSE),\"\")","v":""},{"$f":"IFERROR(VLOOKUP($D289,料理データ!$A$3:$BK$997,29,FALSE),\"\")","v":""},{"$f":"IFERROR(VLOOKUP($D289,料理データ!$A$3:$BK$997,32,FALSE),\"\")","v":""},{"$f":"IFERROR(VLOOKUP($D289,料理データ!$A$3:$BK$997,35,FALSE),\"\")","v":""},{"$f":"IFERROR(VLOOKUP($D289,料理データ!$A$3:$BK$997,38,FALSE),\"\")","v":""},{"$f":"IFERROR(VLOOKUP($D289,料理データ!$A$3:$BK$997,41,FALSE),\"\")","v":""},{"$f":"IFERROR(VLOOKUP($D289,料理データ!$A$3:$BK$997,44,FALSE),\"\")","v":""},{"$f":"IFERROR(VLOOKUP($D289,料理データ!$A$3:$BK$997,47,FALSE),\"\")","v":""},{"$f":"IFERROR(VLOOKUP($D289,料理データ!$A$3:$BK$997,50,FALSE),\"\")","v":""},{"$f":"IFERROR(VLOOKUP($D289,料理データ!$A$3:$BK$997,53,FALSE),\"\")","v":""},{"$f":"IFERROR(VLOOKUP($D289,料理データ!$A$3:$BK$997,56,FALSE),\"\")","v":""},{"$f":"IFERROR(VLOOKUP($D289,料理データ!$A$3:$BK$997,59,FALSE),\"\")","v":""},{"$f":"IFERROR(VLOOKUP($D289,料理データ!$A$3:$BK$997,62,FALSE),\"\")","v":""},"                   ","                   "]
[null,null,null,{"$f":"+'月間献立（乳児）'!N27","v":0},{"$f":"IFERROR(VLOOKUP($D290,料理データ!$A$3:$BK$997,3,FALSE),\"\")","v":""},{"$f":"IFERROR(VLOOKUP($D290,料理データ!$A$3:$BK$997,5,FALSE),\"\")","v":""},{"$f":"IFERROR(VLOOKUP($D290,料理データ!$A$3:$BK$997,8,FALSE),\"\")","v":""},{"$f":"IFERROR(VLOOKUP($D290,料理データ!$A$3:$BK$997,11,FALSE),\"\")","v":""},{"$f":"IFERROR(VLOOKUP($D290,料理データ!$A$3:$BK$997,14,FALSE),\"\")","v":""},{"$f":"IFERROR(VLOOKUP($D290,料理データ!$A$3:$BK$997,17,FALSE),\"\")","v":""},{"$f":"IFERROR(VLOOKUP($D290,料理データ!$A$3:$BK$997,20,FALSE),\"\")","v":""},{"$f":"IFERROR(VLOOKUP($D290,料理データ!$A$3:$BK$997,23,FALSE),\"\")","v":""},{"$f":"IFERROR(VLOOKUP($D290,料理データ!$A$3:$BK$997,26,FALSE),\"\")","v":""},{"$f":"IFERROR(VLOOKUP($D290,料理データ!$A$3:$BK$997,29,FALSE),\"\")","v":""},{"$f":"IFERROR(VLOOKUP($D290,料理データ!$A$3:$BK$997,32,FALSE),\"\")","v":""},{"$f":"IFERROR(VLOOKUP($D290,料理データ!$A$3:$BK$997,35,FALSE),\"\")","v":""},{"$f":"IFERROR(VLOOKUP($D290,料理データ!$A$3:$BK$997,38,FALSE),\"\")","v":""},{"$f":"IFERROR(VLOOKUP($D290,料理データ!$A$3:$BK$997,41,FALSE),\"\")","v":""},{"$f":"IFERROR(VLOOKUP($D290,料理データ!$A$3:$BK$997,44,FALSE),\"\")","v":""},{"$f":"IFERROR(VLOOKUP($D290,料理データ!$A$3:$BK$997,47,FALSE),\"\")","v":""},{"$f":"IFERROR(VLOOKUP($D290,料理データ!$A$3:$BK$997,50,FALSE),\"\")","v":""},{"$f":"IFERROR(VLOOKUP($D290,料理データ!$A$3:$BK$997,53,FALSE),\"\")","v":""},{"$f":"IFERROR(VLOOKUP($D290,料理データ!$A$3:$BK$997,56,FALSE),\"\")","v":""},{"$f":"IFERROR(VLOOKUP($D290,料理データ!$A$3:$BK$997,59,FALSE),\"\")","v":""},{"$f":"IFERROR(VLOOKUP($D290,料理データ!$A$3:$BK$997,62,FALSE),\"\")","v":""},"                   ",{"$f":"SUBSTITUTE(Z290,\"-\",\"\")","v":"                   "}]
[{"$f":"+'月間献立（幼児）'!A29","v":25},{"$f":"+'月間献立（幼児）'!B29","v":"(火)"},"午前おやつ",{"$f":"+'月間献立（乳児）'!C28","v":0},{"$f":"IFERROR(VLOOKUP($D291,料理データ!$A$3:$BK$997,3,FALSE),\"\")","v":""},{"$f":"IFERROR(VLOOKUP($D291,料理データ!$A$3:$BK$997,5,FALSE),\"\")","v":""},{"$f":"IFERROR(VLOOKUP($D291,料理データ!$A$3:$BK$997,8,FALSE),\"\")","v":""},{"$f":"IFERROR(VLOOKUP($D291,料理データ!$A$3:$BK$997,11,FALSE),\"\")","v":""},{"$f":"IFERROR(VLOOKUP($D291,料理データ!$A$3:$BK$997,14,FALSE),\"\")","v":""},{"$f":"IFERROR(VLOOKUP($D291,料理データ!$A$3:$BK$997,17,FALSE),\"\")","v":""},{"$f":"IFERROR(VLOOKUP($D291,料理データ!$A$3:$BK$997,20,FALSE),\"\")","v":""},{"$f":"IFERROR(VLOOKUP($D291,料理データ!$A$3:$BK$997,23,FALSE),\"\")","v":""},{"$f":"IFERROR(VLOOKUP($D291,料理データ!$A$3:$BK$997,26,FALSE),\"\")","v":""},{"$f":"IFERROR(VLOOKUP($D291,料理データ!$A$3:$BK$997,29,FALSE),\"\")","v":""},{"$f":"IFERROR(VLOOKUP($D291,料理データ!$A$3:$BK$997,32,FALSE),\"\")","v":""},{"$f":"IFERROR(VLOOKUP($D291,料理データ!$A$3:$BK$997,35,FALSE),\"\")","v":""},{"$f":"IFERROR(VLOOKUP($D291,料理データ!$A$3:$BK$997,38,FALSE),\"\")","v":""},{"$f":"IFERROR(VLOOKUP($D291,料理データ!$A$3:$BK$997,41,FALSE),\"\")","v":""},{"$f":"IFERROR(VLOOKUP($D291,料理データ!$A$3:$BK$997,44,FALSE),\"\")","v":""},{"$f":"IFERROR(VLOOKUP($D291,料理データ!$A$3:$BK$997,47,FALSE),\"\")","v":""},{"$f":"IFERROR(VLOOKUP($D291,料理データ!$A$3:$BK$997,50,FALSE),\"\")","v":""},{"$f":"IFERROR(VLOOKUP($D291,料理データ!$A$3:$BK$997,53,FALSE),\"\")","v":""},{"$f":"IFERROR(VLOOKUP($D291,料理データ!$A$3:$BK$997,56,FALSE),\"\")","v":""},{"$f":"IFERROR(VLOOKUP($D291,料理データ!$A$3:$BK$997,59,FALSE),\"\")","v":""},{"$f":"IFERROR(VLOOKUP($D291,料理データ!$A$3:$BK$997,62,FALSE),\"\")","v":""},"                   ",{"$f":"SUBSTITUTE(Z291,\"-\",\" \")","v":"                   "},{"$f":"TRIM(CONCATENATE(AA291,AA292,AA293,\"▲\",AA294,AA295,AA296,AA297,AA298,AA299,\"▲\",AA300,AA301,AA302))","v":"▲ ▲"}]
[null,null,null,{"$f":"+'月間献立（乳児）'!D28","v":0},{"$f":"IFERROR(VLOOKUP($D292,料理データ!$A$3:$BK$997,3,FALSE),\"\")","v":""},{"$f":"IFERROR(VLOOKUP($D292,料理データ!$A$3:$BK$997,5,FALSE),\"\")","v":""},{"$f":"IFERROR(VLOOKUP($D292,料理データ!$A$3:$BK$997,8,FALSE),\"\")","v":""},{"$f":"IFERROR(VLOOKUP($D292,料理データ!$A$3:$BK$997,11,FALSE),\"\")","v":""},{"$f":"IFERROR(VLOOKUP($D292,料理データ!$A$3:$BK$997,14,FALSE),\"\")","v":""},{"$f":"IFERROR(VLOOKUP($D292,料理データ!$A$3:$BK$997,17,FALSE),\"\")","v":""},{"$f":"IFERROR(VLOOKUP($D292,料理データ!$A$3:$BK$997,20,FALSE),\"\")","v":""},{"$f":"IFERROR(VLOOKUP($D292,料理データ!$A$3:$BK$997,23,FALSE),\"\")","v":""},{"$f":"IFERROR(VLOOKUP($D292,料理データ!$A$3:$BK$997,26,FALSE),\"\")","v":""},{"$f":"IFERROR(VLOOKUP($D292,料理データ!$A$3:$BK$997,29,FALSE),\"\")","v":""},{"$f":"IFERROR(VLOOKUP($D292,料理データ!$A$3:$BK$997,32,FALSE),\"\")","v":""},{"$f":"IFERROR(VLOOKUP($D292,料理データ!$A$3:$BK$997,35,FALSE),\"\")","v":""},{"$f":"IFERROR(VLOOKUP($D292,料理データ!$A$3:$BK$997,38,FALSE),\"\")","v":""},{"$f":"IFERROR(VLOOKUP($D292,料理データ!$A$3:$BK$997,41,FALSE),\"\")","v":""},{"$f":"IFERROR(VLOOKUP($D292,料理データ!$A$3:$BK$997,44,FALSE),\"\")","v":""},{"$f":"IFERROR(VLOOKUP($D292,料理データ!$A$3:$BK$997,47,FALSE),\"\")","v":""},{"$f":"IFERROR(VLOOKUP($D292,料理データ!$A$3:$BK$997,50,FALSE),\"\")","v":""},{"$f":"IFERROR(VLOOKUP($D292,料理データ!$A$3:$BK$997,53,FALSE),\"\")","v":""},{"$f":"IFERROR(VLOOKUP($D292,料理データ!$A$3:$BK$997,56,FALSE),\"\")","v":""},{"$f":"IFERROR(VLOOKUP($D292,料理データ!$A$3:$BK$997,59,FALSE),\"\")","v":""},{"$f":"IFERROR(VLOOKUP($D292,料理データ!$A$3:$BK$997,62,FALSE),\"\")","v":""},"                   ",{"$f":"SUBSTITUTE(Z292,\"-\",\" \")","v":"                   "}]
[null,null,null,{"$f":"+'月間献立（乳児）'!E28","v":0},{"$f":"IFERROR(VLOOKUP($D293,料理データ!$A$3:$BK$997,3,FALSE),\"\")","v":""},{"$f":"IFERROR(VLOOKUP($D293,料理データ!$A$3:$BK$997,5,FALSE),\"\")","v":""},{"$f":"IFERROR(VLOOKUP($D293,料理データ!$A$3:$BK$997,8,FALSE),\"\")","v":""},{"$f":"IFERROR(VLOOKUP($D293,料理データ!$A$3:$BK$997,11,FALSE),\"\")","v":""},{"$f":"IFERROR(VLOOKUP($D293,料理データ!$A$3:$BK$997,14,FALSE),\"\")","v":""},{"$f":"IFERROR(VLOOKUP($D293,料理データ!$A$3:$BK$997,17,FALSE),\"\")","v":""},{"$f":"IFERROR(VLOOKUP($D293,料理データ!$A$3:$BK$997,20,FALSE),\"\")","v":""},{"$f":"IFERROR(VLOOKUP($D293,料理データ!$A$3:$BK$997,23,FALSE),\"\")","v":""},{"$f":"IFERROR(VLOOKUP($D293,料理データ!$A$3:$BK$997,26,FALSE),\"\")","v":""},{"$f":"IFERROR(VLOOKUP($D293,料理データ!$A$3:$BK$997,29,FALSE),\"\")","v":""},{"$f":"IFERROR(VLOOKUP($D293,料理データ!$A$3:$BK$997,32,FALSE),\"\")","v":""},{"$f":"IFERROR(VLOOKUP($D293,料理データ!$A$3:$BK$997,35,FALSE),\"\")","v":""},{"$f":"IFERROR(VLOOKUP($D293,料理データ!$A$3:$BK$997,38,FALSE),\"\")","v":""},{"$f":"IFERROR(VLOOKUP($D293,料理データ!$A$3:$BK$997,41,FALSE),\"\")","v":""},{"$f":"IFERROR(VLOOKUP($D293,料理データ!$A$3:$BK$997,44,FALSE),\"\")","v":""},{"$f":"IFERROR(VLOOKUP($D293,料理データ!$A$3:$BK$997,47,FALSE),\"\")","v":""},{"$f":"IFERROR(VLOOKUP($D293,料理データ!$A$3:$BK$997,50,FALSE),\"\")","v":""},{"$f":"IFERROR(VLOOKUP($D293,料理データ!$A$3:$BK$997,53,FALSE),\"\")","v":""},{"$f":"IFERROR(VLOOKUP($D293,料理データ!$A$3:$BK$997,56,FALSE),\"\")","v":""},{"$f":"IFERROR(VLOOKUP($D293,料理データ!$A$3:$BK$997,59,FALSE),\"\")","v":""},{"$f":"IFERROR(VLOOKUP($D293,料理データ!$A$3:$BK$997,62,FALSE),\"\")","v":""},"                   ",{"$f":"SUBSTITUTE(Z293,\"-\",\" \")","v":"                   "}]
[null,null,"昼食",{"$f":"+'月間献立（乳児）'!F28","v":0},{"$f":"IFERROR(VLOOKUP($D294,料理データ!$A$3:$BK$997,3,FALSE),\"\")","v":""},{"$f":"IFERROR(VLOOKUP($D294,料理データ!$A$3:$BK$997,5,FALSE),\"\")","v":""},{"$f":"IFERROR(VLOOKUP($D294,料理データ!$A$3:$BK$997,8,FALSE),\"\")","v":""},{"$f":"IFERROR(VLOOKUP($D294,料理データ!$A$3:$BK$997,11,FALSE),\"\")","v":""},{"$f":"IFERROR(VLOOKUP($D294,料理データ!$A$3:$BK$997,14,FALSE),\"\")","v":""},{"$f":"IFERROR(VLOOKUP($D294,料理データ!$A$3:$BK$997,17,FALSE),\"\")","v":""},{"$f":"IFERROR(VLOOKUP($D294,料理データ!$A$3:$BK$997,20,FALSE),\"\")","v":""},{"$f":"IFERROR(VLOOKUP($D294,料理データ!$A$3:$BK$997,23,FALSE),\"\")","v":""},{"$f":"IFERROR(VLOOKUP($D294,料理データ!$A$3:$BK$997,26,FALSE),\"\")","v":""},{"$f":"IFERROR(VLOOKUP($D294,料理データ!$A$3:$BK$997,29,FALSE),\"\")","v":""},{"$f":"IFERROR(VLOOKUP($D294,料理データ!$A$3:$BK$997,32,FALSE),\"\")","v":""},{"$f":"IFERROR(VLOOKUP($D294,料理データ!$A$3:$BK$997,35,FALSE),\"\")","v":""},{"$f":"IFERROR(VLOOKUP($D294,料理データ!$A$3:$BK$997,38,FALSE),\"\")","v":""},{"$f":"IFERROR(VLOOKUP($D294,料理データ!$A$3:$BK$997,41,FALSE),\"\")","v":""},{"$f":"IFERROR(VLOOKUP($D294,料理データ!$A$3:$BK$997,44,FALSE),\"\")","v":""},{"$f":"IFERROR(VLOOKUP($D294,料理データ!$A$3:$BK$997,47,FALSE),\"\")","v":""},{"$f":"IFERROR(VLOOKUP($D294,料理データ!$A$3:$BK$997,50,FALSE),\"\")","v":""},{"$f":"IFERROR(VLOOKUP($D294,料理データ!$A$3:$BK$997,53,FALSE),\"\")","v":""},{"$f":"IFERROR(VLOOKUP($D294,料理データ!$A$3:$BK$997,56,FALSE),\"\")","v":""},{"$f":"IFERROR(VLOOKUP($D294,料理データ!$A$3:$BK$997,59,FALSE),\"\")","v":""},{"$f":"IFERROR(VLOOKUP($D294,料理データ!$A$3:$BK$997,62,FALSE),\"\")","v":""},"                   ","                   "]
[null,null,null,{"$f":"+'月間献立（乳児）'!G28","v":0},{"$f":"IFERROR(VLOOKUP($D295,料理データ!$A$3:$BK$997,3,FALSE),\"\")","v":""},{"$f":"IFERROR(VLOOKUP($D295,料理データ!$A$3:$BK$997,5,FALSE),\"\")","v":""},{"$f":"IFERROR(VLOOKUP($D295,料理データ!$A$3:$BK$997,8,FALSE),\"\")","v":""},{"$f":"IFERROR(VLOOKUP($D295,料理データ!$A$3:$BK$997,11,FALSE),\"\")","v":""},{"$f":"IFERROR(VLOOKUP($D295,料理データ!$A$3:$BK$997,14,FALSE),\"\")","v":""},{"$f":"IFERROR(VLOOKUP($D295,料理データ!$A$3:$BK$997,17,FALSE),\"\")","v":""},{"$f":"IFERROR(VLOOKUP($D295,料理データ!$A$3:$BK$997,20,FALSE),\"\")","v":""},{"$f":"IFERROR(VLOOKUP($D295,料理データ!$A$3:$BK$997,23,FALSE),\"\")","v":""},{"$f":"IFERROR(VLOOKUP($D295,料理データ!$A$3:$BK$997,26,FALSE),\"\")","v":""},{"$f":"IFERROR(VLOOKUP($D295,料理データ!$A$3:$BK$997,29,FALSE),\"\")","v":""},{"$f":"IFERROR(VLOOKUP($D295,料理データ!$A$3:$BK$997,32,FALSE),\"\")","v":""},{"$f":"IFERROR(VLOOKUP($D295,料理データ!$A$3:$BK$997,35,FALSE),\"\")","v":""},{"$f":"IFERROR(VLOOKUP($D295,料理データ!$A$3:$BK$997,38,FALSE),\"\")","v":""},{"$f":"IFERROR(VLOOKUP($D295,料理データ!$A$3:$BK$997,41,FALSE),\"\")","v":""},{"$f":"IFERROR(VLOOKUP($D295,料理データ!$A$3:$BK$997,44,FALSE),\"\")","v":""},{"$f":"IFERROR(VLOOKUP($D295,料理データ!$A$3:$BK$997,47,FALSE),\"\")","v":""},{"$f":"IFERROR(VLOOKUP($D295,料理データ!$A$3:$BK$997,50,FALSE),\"\")","v":""},{"$f":"IFERROR(VLOOKUP($D295,料理データ!$A$3:$BK$997,53,FALSE),\"\")","v":""},{"$f":"IFERROR(VLOOKUP($D295,料理データ!$A$3:$BK$997,56,FALSE),\"\")","v":""},{"$f":"IFERROR(VLOOKUP($D295,料理データ!$A$3:$BK$997,59,FALSE),\"\")","v":""},{"$f":"IFERROR(VLOOKUP($D295,料理データ!$A$3:$BK$997,62,FALSE),\"\")","v":""},"                   ","                   "]
[null,null,null,{"$f":"+'月間献立（乳児）'!H28","v":0},{"$f":"IFERROR(VLOOKUP($D296,料理データ!$A$3:$BK$997,3,FALSE),\"\")","v":""},{"$f":"IFERROR(VLOOKUP($D296,料理データ!$A$3:$BK$997,5,FALSE),\"\")","v":""},{"$f":"IFERROR(VLOOKUP($D296,料理データ!$A$3:$BK$997,8,FALSE),\"\")","v":""},{"$f":"IFERROR(VLOOKUP($D296,料理データ!$A$3:$BK$997,11,FALSE),\"\")","v":""},{"$f":"IFERROR(VLOOKUP($D296,料理データ!$A$3:$BK$997,14,FALSE),\"\")","v":""},{"$f":"IFERROR(VLOOKUP($D296,料理データ!$A$3:$BK$997,17,FALSE),\"\")","v":""},{"$f":"IFERROR(VLOOKUP($D296,料理データ!$A$3:$BK$997,20,FALSE),\"\")","v":""},{"$f":"IFERROR(VLOOKUP($D296,料理データ!$A$3:$BK$997,23,FALSE),\"\")","v":""},{"$f":"IFERROR(VLOOKUP($D296,料理データ!$A$3:$BK$997,26,FALSE),\"\")","v":""},{"$f":"IFERROR(VLOOKUP($D296,料理データ!$A$3:$BK$997,29,FALSE),\"\")","v":""},{"$f":"IFERROR(VLOOKUP($D296,料理データ!$A$3:$BK$997,32,FALSE),\"\")","v":""},{"$f":"IFERROR(VLOOKUP($D296,料理データ!$A$3:$BK$997,35,FALSE),\"\")","v":""},{"$f":"IFERROR(VLOOKUP($D296,料理データ!$A$3:$BK$997,38,FALSE),\"\")","v":""},{"$f":"IFERROR(VLOOKUP($D296,料理データ!$A$3:$BK$997,41,FALSE),\"\")","v":""},{"$f":"IFERROR(VLOOKUP($D296,料理データ!$A$3:$BK$997,44,FALSE),\"\")","v":""},{"$f":"IFERROR(VLOOKUP($D296,料理データ!$A$3:$BK$997,47,FALSE),\"\")","v":""},{"$f":"IFERROR(VLOOKUP($D296,料理データ!$A$3:$BK$997,50,FALSE),\"\")","v":""},{"$f":"IFERROR(VLOOKUP($D296,料理データ!$A$3:$BK$997,53,FALSE),\"\")","v":""},{"$f":"IFERROR(VLOOKUP($D296,料理データ!$A$3:$BK$997,56,FALSE),\"\")","v":""},{"$f":"IFERROR(VLOOKUP($D296,料理データ!$A$3:$BK$997,59,FALSE),\"\")","v":""},{"$f":"IFERROR(VLOOKUP($D296,料理データ!$A$3:$BK$997,62,FALSE),\"\")","v":""},"                   ","                   "]
[null,null,null,{"$f":"+'月間献立（乳児）'!I28","v":0},{"$f":"IFERROR(VLOOKUP($D297,料理データ!$A$3:$BK$997,3,FALSE),\"\")","v":""},{"$f":"IFERROR(VLOOKUP($D297,料理データ!$A$3:$BK$997,5,FALSE),\"\")","v":""},{"$f":"IFERROR(VLOOKUP($D297,料理データ!$A$3:$BK$997,8,FALSE),\"\")","v":""},{"$f":"IFERROR(VLOOKUP($D297,料理データ!$A$3:$BK$997,11,FALSE),\"\")","v":""},{"$f":"IFERROR(VLOOKUP($D297,料理データ!$A$3:$BK$997,14,FALSE),\"\")","v":""},{"$f":"IFERROR(VLOOKUP($D297,料理データ!$A$3:$BK$997,17,FALSE),\"\")","v":""},{"$f":"IFERROR(VLOOKUP($D297,料理データ!$A$3:$BK$997,20,FALSE),\"\")","v":""},{"$f":"IFERROR(VLOOKUP($D297,料理データ!$A$3:$BK$997,23,FALSE),\"\")","v":""},{"$f":"IFERROR(VLOOKUP($D297,料理データ!$A$3:$BK$997,26,FALSE),\"\")","v":""},{"$f":"IFERROR(VLOOKUP($D297,料理データ!$A$3:$BK$997,29,FALSE),\"\")","v":""},{"$f":"IFERROR(VLOOKUP($D297,料理データ!$A$3:$BK$997,32,FALSE),\"\")","v":""},{"$f":"IFERROR(VLOOKUP($D297,料理データ!$A$3:$BK$997,35,FALSE),\"\")","v":""},{"$f":"IFERROR(VLOOKUP($D297,料理データ!$A$3:$BK$997,38,FALSE),\"\")","v":""},{"$f":"IFERROR(VLOOKUP($D297,料理データ!$A$3:$BK$997,41,FALSE),\"\")","v":""},{"$f":"IFERROR(VLOOKUP($D297,料理データ!$A$3:$BK$997,44,FALSE),\"\")","v":""},{"$f":"IFERROR(VLOOKUP($D297,料理データ!$A$3:$BK$997,47,FALSE),\"\")","v":""},{"$f":"IFERROR(VLOOKUP($D297,料理データ!$A$3:$BK$997,50,FALSE),\"\")","v":""},{"$f":"IFERROR(VLOOKUP($D297,料理データ!$A$3:$BK$997,53,FALSE),\"\")","v":""},{"$f":"IFERROR(VLOOKUP($D297,料理データ!$A$3:$BK$997,56,FALSE),\"\")","v":""},{"$f":"IFERROR(VLOOKUP($D297,料理データ!$A$3:$BK$997,59,FALSE),\"\")","v":""},{"$f":"IFERROR(VLOOKUP($D297,料理データ!$A$3:$BK$997,62,FALSE),\"\")","v":""},"                   ","                   "]
[null,null,null,{"$f":"+'月間献立（乳児）'!J28","v":0},{"$f":"IFERROR(VLOOKUP($D298,料理データ!$A$3:$BK$997,3,FALSE),\"\")","v":""},{"$f":"IFERROR(VLOOKUP($D298,料理データ!$A$3:$BK$997,5,FALSE),\"\")","v":""},{"$f":"IFERROR(VLOOKUP($D298,料理データ!$A$3:$BK$997,8,FALSE),\"\")","v":""},{"$f":"IFERROR(VLOOKUP($D298,料理データ!$A$3:$BK$997,11,FALSE),\"\")","v":""},{"$f":"IFERROR(VLOOKUP($D298,料理データ!$A$3:$BK$997,14,FALSE),\"\")","v":""},{"$f":"IFERROR(VLOOKUP($D298,料理データ!$A$3:$BK$997,17,FALSE),\"\")","v":""},{"$f":"IFERROR(VLOOKUP($D298,料理データ!$A$3:$BK$997,20,FALSE),\"\")","v":""},{"$f":"IFERROR(VLOOKUP($D298,料理データ!$A$3:$BK$997,23,FALSE),\"\")","v":""},{"$f":"IFERROR(VLOOKUP($D298,料理データ!$A$3:$BK$997,26,FALSE),\"\")","v":""},{"$f":"IFERROR(VLOOKUP($D298,料理データ!$A$3:$BK$997,29,FALSE),\"\")","v":""},{"$f":"IFERROR(VLOOKUP($D298,料理データ!$A$3:$BK$997,32,FALSE),\"\")","v":""},{"$f":"IFERROR(VLOOKUP($D298,料理データ!$A$3:$BK$997,35,FALSE),\"\")","v":""},{"$f":"IFERROR(VLOOKUP($D298,料理データ!$A$3:$BK$997,38,FALSE),\"\")","v":""},{"$f":"IFERROR(VLOOKUP($D298,料理データ!$A$3:$BK$997,41,FALSE),\"\")","v":""},{"$f":"IFERROR(VLOOKUP($D298,料理データ!$A$3:$BK$997,44,FALSE),\"\")","v":""},{"$f":"IFERROR(VLOOKUP($D298,料理データ!$A$3:$BK$997,47,FALSE),\"\")","v":""},{"$f":"IFERROR(VLOOKUP($D298,料理データ!$A$3:$BK$997,50,FALSE),\"\")","v":""},{"$f":"IFERROR(VLOOKUP($D298,料理データ!$A$3:$BK$997,53,FALSE),\"\")","v":""},{"$f":"IFERROR(VLOOKUP($D298,料理データ!$A$3:$BK$997,56,FALSE),\"\")","v":""},{"$f":"IFERROR(VLOOKUP($D298,料理データ!$A$3:$BK$997,59,FALSE),\"\")","v":""},{"$f":"IFERROR(VLOOKUP($D298,料理データ!$A$3:$BK$997,62,FALSE),\"\")","v":""},"                   ","                   "]
[null,null,null,{"$f":"+'月間献立（乳児）'!K28","v":0},{"$f":"IFERROR(VLOOKUP($D299,料理データ!$A$3:$BK$997,3,FALSE),\"\")","v":""},{"$f":"IFERROR(VLOOKUP($D299,料理データ!$A$3:$BK$997,5,FALSE),\"\")","v":""},{"$f":"IFERROR(VLOOKUP($D299,料理データ!$A$3:$BK$997,8,FALSE),\"\")","v":""},{"$f":"IFERROR(VLOOKUP($D299,料理データ!$A$3:$BK$997,11,FALSE),\"\")","v":""},{"$f":"IFERROR(VLOOKUP($D299,料理データ!$A$3:$BK$997,14,FALSE),\"\")","v":""},{"$f":"IFERROR(VLOOKUP($D299,料理データ!$A$3:$BK$997,17,FALSE),\"\")","v":""},{"$f":"IFERROR(VLOOKUP($D299,料理データ!$A$3:$BK$997,20,FALSE),\"\")","v":""},{"$f":"IFERROR(VLOOKUP($D299,料理データ!$A$3:$BK$997,23,FALSE),\"\")","v":""},{"$f":"IFERROR(VLOOKUP($D299,料理データ!$A$3:$BK$997,26,FALSE),\"\")","v":""},{"$f":"IFERROR(VLOOKUP($D299,料理データ!$A$3:$BK$997,29,FALSE),\"\")","v":""},{"$f":"IFERROR(VLOOKUP($D299,料理データ!$A$3:$BK$997,32,FALSE),\"\")","v":""},{"$f":"IFERROR(VLOOKUP($D299,料理データ!$A$3:$BK$997,35,FALSE),\"\")","v":""},{"$f":"IFERROR(VLOOKUP($D299,料理データ!$A$3:$BK$997,38,FALSE),\"\")","v":""},{"$f":"IFERROR(VLOOKUP($D299,料理データ!$A$3:$BK$997,41,FALSE),\"\")","v":""},{"$f":"IFERROR(VLOOKUP($D299,料理データ!$A$3:$BK$997,44,FALSE),\"\")","v":""},{"$f":"IFERROR(VLOOKUP($D299,料理データ!$A$3:$BK$997,47,FALSE),\"\")","v":""},{"$f":"IFERROR(VLOOKUP($D299,料理データ!$A$3:$BK$997,50,FALSE),\"\")","v":""},{"$f":"IFERROR(VLOOKUP($D299,料理データ!$A$3:$BK$997,53,FALSE),\"\")","v":""},{"$f":"IFERROR(VLOOKUP($D299,料理データ!$A$3:$BK$997,56,FALSE),\"\")","v":""},{"$f":"IFERROR(VLOOKUP($D299,料理データ!$A$3:$BK$997,59,FALSE),\"\")","v":""},{"$f":"IFERROR(VLOOKUP($D299,料理データ!$A$3:$BK$997,62,FALSE),\"\")","v":""},"                   ","                   "]
[null,null,"午後おやつ",{"$f":"+'月間献立（乳児）'!L28","v":0},{"$f":"IFERROR(VLOOKUP($D300,料理データ!$A$3:$BK$997,3,FALSE),\"\")","v":""},{"$f":"IFERROR(VLOOKUP($D300,料理データ!$A$3:$BK$997,5,FALSE),\"\")","v":""},{"$f":"IFERROR(VLOOKUP($D300,料理データ!$A$3:$BK$997,8,FALSE),\"\")","v":""},{"$f":"IFERROR(VLOOKUP($D300,料理データ!$A$3:$BK$997,11,FALSE),\"\")","v":""},{"$f":"IFERROR(VLOOKUP($D300,料理データ!$A$3:$BK$997,14,FALSE),\"\")","v":""},{"$f":"IFERROR(VLOOKUP($D300,料理データ!$A$3:$BK$997,17,FALSE),\"\")","v":""},{"$f":"IFERROR(VLOOKUP($D300,料理データ!$A$3:$BK$997,20,FALSE),\"\")","v":""},{"$f":"IFERROR(VLOOKUP($D300,料理データ!$A$3:$BK$997,23,FALSE),\"\")","v":""},{"$f":"IFERROR(VLOOKUP($D300,料理データ!$A$3:$BK$997,26,FALSE),\"\")","v":""},{"$f":"IFERROR(VLOOKUP($D300,料理データ!$A$3:$BK$997,29,FALSE),\"\")","v":""},{"$f":"IFERROR(VLOOKUP($D300,料理データ!$A$3:$BK$997,32,FALSE),\"\")","v":""},{"$f":"IFERROR(VLOOKUP($D300,料理データ!$A$3:$BK$997,35,FALSE),\"\")","v":""},{"$f":"IFERROR(VLOOKUP($D300,料理データ!$A$3:$BK$997,38,FALSE),\"\")","v":""},{"$f":"IFERROR(VLOOKUP($D300,料理データ!$A$3:$BK$997,41,FALSE),\"\")","v":""},{"$f":"IFERROR(VLOOKUP($D300,料理データ!$A$3:$BK$997,44,FALSE),\"\")","v":""},{"$f":"IFERROR(VLOOKUP($D300,料理データ!$A$3:$BK$997,47,FALSE),\"\")","v":""},{"$f":"IFERROR(VLOOKUP($D300,料理データ!$A$3:$BK$997,50,FALSE),\"\")","v":""},{"$f":"IFERROR(VLOOKUP($D300,料理データ!$A$3:$BK$997,53,FALSE),\"\")","v":""},{"$f":"IFERROR(VLOOKUP($D300,料理データ!$A$3:$BK$997,56,FALSE),\"\")","v":""},{"$f":"IFERROR(VLOOKUP($D300,料理データ!$A$3:$BK$997,59,FALSE),\"\")","v":""},{"$f":"IFERROR(VLOOKUP($D300,料理データ!$A$3:$BK$997,62,FALSE),\"\")","v":""},"                   ",{"$f":"SUBSTITUTE(Z300,\"-\",\"\")","v":"                   "}]
[null,null,null,{"$f":"+'月間献立（乳児）'!M28","v":0},{"$f":"IFERROR(VLOOKUP($D301,料理データ!$A$3:$BK$997,3,FALSE),\"\")","v":""},{"$f":"IFERROR(VLOOKUP($D301,料理データ!$A$3:$BK$997,5,FALSE),\"\")","v":""},{"$f":"IFERROR(VLOOKUP($D301,料理データ!$A$3:$BK$997,8,FALSE),\"\")","v":""},{"$f":"IFERROR(VLOOKUP($D301,料理データ!$A$3:$BK$997,11,FALSE),\"\")","v":""},{"$f":"IFERROR(VLOOKUP($D301,料理データ!$A$3:$BK$997,14,FALSE),\"\")","v":""},{"$f":"IFERROR(VLOOKUP($D301,料理データ!$A$3:$BK$997,17,FALSE),\"\")","v":""},{"$f":"IFERROR(VLOOKUP($D301,料理データ!$A$3:$BK$997,20,FALSE),\"\")","v":""},{"$f":"IFERROR(VLOOKUP($D301,料理データ!$A$3:$BK$997,23,FALSE),\"\")","v":""},{"$f":"IFERROR(VLOOKUP($D301,料理データ!$A$3:$BK$997,26,FALSE),\"\")","v":""},{"$f":"IFERROR(VLOOKUP($D301,料理データ!$A$3:$BK$997,29,FALSE),\"\")","v":""},{"$f":"IFERROR(VLOOKUP($D301,料理データ!$A$3:$BK$997,32,FALSE),\"\")","v":""},{"$f":"IFERROR(VLOOKUP($D301,料理データ!$A$3:$BK$997,35,FALSE),\"\")","v":""},{"$f":"IFERROR(VLOOKUP($D301,料理データ!$A$3:$BK$997,38,FALSE),\"\")","v":""},{"$f":"IFERROR(VLOOKUP($D301,料理データ!$A$3:$BK$997,41,FALSE),\"\")","v":""},{"$f":"IFERROR(VLOOKUP($D301,料理データ!$A$3:$BK$997,44,FALSE),\"\")","v":""},{"$f":"IFERROR(VLOOKUP($D301,料理データ!$A$3:$BK$997,47,FALSE),\"\")","v":""},{"$f":"IFERROR(VLOOKUP($D301,料理データ!$A$3:$BK$997,50,FALSE),\"\")","v":""},{"$f":"IFERROR(VLOOKUP($D301,料理データ!$A$3:$BK$997,53,FALSE),\"\")","v":""},{"$f":"IFERROR(VLOOKUP($D301,料理データ!$A$3:$BK$997,56,FALSE),\"\")","v":""},{"$f":"IFERROR(VLOOKUP($D301,料理データ!$A$3:$BK$997,59,FALSE),\"\")","v":""},{"$f":"IFERROR(VLOOKUP($D301,料理データ!$A$3:$BK$997,62,FALSE),\"\")","v":""},"                   ",{"$f":"SUBSTITUTE(Z301,\"-\",\" \")","v":"                   "}]
[null,null,null,{"$f":"+'月間献立（乳児）'!N28","v":0},{"$f":"IFERROR(VLOOKUP($D302,料理データ!$A$3:$BK$997,3,FALSE),\"\")","v":""},{"$f":"IFERROR(VLOOKUP($D302,料理データ!$A$3:$BK$997,5,FALSE),\"\")","v":""},{"$f":"IFERROR(VLOOKUP($D302,料理データ!$A$3:$BK$997,8,FALSE),\"\")","v":""},{"$f":"IFERROR(VLOOKUP($D302,料理データ!$A$3:$BK$997,11,FALSE),\"\")","v":""},{"$f":"IFERROR(VLOOKUP($D302,料理データ!$A$3:$BK$997,14,FALSE),\"\")","v":""},{"$f":"IFERROR(VLOOKUP($D302,料理データ!$A$3:$BK$997,17,FALSE),\"\")","v":""},{"$f":"IFERROR(VLOOKUP($D302,料理データ!$A$3:$BK$997,20,FALSE),\"\")","v":""},{"$f":"IFERROR(VLOOKUP($D302,料理データ!$A$3:$BK$997,23,FALSE),\"\")","v":""},{"$f":"IFERROR(VLOOKUP($D302,料理データ!$A$3:$BK$997,26,FALSE),\"\")","v":""},{"$f":"IFERROR(VLOOKUP($D302,料理データ!$A$3:$BK$997,29,FALSE),\"\")","v":""},{"$f":"IFERROR(VLOOKUP($D302,料理データ!$A$3:$BK$997,32,FALSE),\"\")","v":""},{"$f":"IFERROR(VLOOKUP($D302,料理データ!$A$3:$BK$997,35,FALSE),\"\")","v":""},{"$f":"IFERROR(VLOOKUP($D302,料理データ!$A$3:$BK$997,38,FALSE),\"\")","v":""},{"$f":"IFERROR(VLOOKUP($D302,料理データ!$A$3:$BK$997,41,FALSE),\"\")","v":""},{"$f":"IFERROR(VLOOKUP($D302,料理データ!$A$3:$BK$997,44,FALSE),\"\")","v":""},{"$f":"IFERROR(VLOOKUP($D302,料理データ!$A$3:$BK$997,47,FALSE),\"\")","v":""},{"$f":"IFERROR(VLOOKUP($D302,料理データ!$A$3:$BK$997,50,FALSE),\"\")","v":""},{"$f":"IFERROR(VLOOKUP($D302,料理データ!$A$3:$BK$997,53,FALSE),\"\")","v":""},{"$f":"IFERROR(VLOOKUP($D302,料理データ!$A$3:$BK$997,56,FALSE),\"\")","v":""},{"$f":"IFERROR(VLOOKUP($D302,料理データ!$A$3:$BK$997,59,FALSE),\"\")","v":""},{"$f":"IFERROR(VLOOKUP($D302,料理データ!$A$3:$BK$997,62,FALSE),\"\")","v":""},"                   ",{"$f":"SUBSTITUTE(Z302,\"-\",\"\")","v":"                   "}]
[{"$f":"+'月間献立（幼児）'!A30","v":26},{"$f":"+'月間献立（幼児）'!B30","v":"(水)"},"午前おやつ",{"$f":"+'月間献立（乳児）'!C29","v":0},{"$f":"IFERROR(VLOOKUP($D303,料理データ!$A$3:$BK$997,3,FALSE),\"\")","v":""},{"$f":"IFERROR(VLOOKUP($D303,料理データ!$A$3:$BK$997,5,FALSE),\"\")","v":""},{"$f":"IFERROR(VLOOKUP($D303,料理データ!$A$3:$BK$997,8,FALSE),\"\")","v":""},{"$f":"IFERROR(VLOOKUP($D303,料理データ!$A$3:$BK$997,11,FALSE),\"\")","v":""},{"$f":"IFERROR(VLOOKUP($D303,料理データ!$A$3:$BK$997,14,FALSE),\"\")","v":""},{"$f":"IFERROR(VLOOKUP($D303,料理データ!$A$3:$BK$997,17,FALSE),\"\")","v":""},{"$f":"IFERROR(VLOOKUP($D303,料理データ!$A$3:$BK$997,20,FALSE),\"\")","v":""},{"$f":"IFERROR(VLOOKUP($D303,料理データ!$A$3:$BK$997,23,FALSE),\"\")","v":""},{"$f":"IFERROR(VLOOKUP($D303,料理データ!$A$3:$BK$997,26,FALSE),\"\")","v":""},{"$f":"IFERROR(VLOOKUP($D303,料理データ!$A$3:$BK$997,29,FALSE),\"\")","v":""},{"$f":"IFERROR(VLOOKUP($D303,料理データ!$A$3:$BK$997,32,FALSE),\"\")","v":""},{"$f":"IFERROR(VLOOKUP($D303,料理データ!$A$3:$BK$997,35,FALSE),\"\")","v":""},{"$f":"IFERROR(VLOOKUP($D303,料理データ!$A$3:$BK$997,38,FALSE),\"\")","v":""},{"$f":"IFERROR(VLOOKUP($D303,料理データ!$A$3:$BK$997,41,FALSE),\"\")","v":""},{"$f":"IFERROR(VLOOKUP($D303,料理データ!$A$3:$BK$997,44,FALSE),\"\")","v":""},{"$f":"IFERROR(VLOOKUP($D303,料理データ!$A$3:$BK$997,47,FALSE),\"\")","v":""},{"$f":"IFERROR(VLOOKUP($D303,料理データ!$A$3:$BK$997,50,FALSE),\"\")","v":""},{"$f":"IFERROR(VLOOKUP($D303,料理データ!$A$3:$BK$997,53,FALSE),\"\")","v":""},{"$f":"IFERROR(VLOOKUP($D303,料理データ!$A$3:$BK$997,56,FALSE),\"\")","v":""},{"$f":"IFERROR(VLOOKUP($D303,料理データ!$A$3:$BK$997,59,FALSE),\"\")","v":""},{"$f":"IFERROR(VLOOKUP($D303,料理データ!$A$3:$BK$997,62,FALSE),\"\")","v":""},"                   ",{"$f":"SUBSTITUTE(Z303,\"-\",\" \")","v":"                   "},{"$f":"TRIM(CONCATENATE(AA303,AA304,AA305,\"▲\",AA306,AA307,AA308,AA309,AA310,AA311,\"▲\",AA312,AA313,AA314))","v":"▲ ▲"}]
[null,null,null,{"$f":"+'月間献立（乳児）'!D29","v":0},{"$f":"IFERROR(VLOOKUP($D304,料理データ!$A$3:$BK$997,3,FALSE),\"\")","v":""},{"$f":"IFERROR(VLOOKUP($D304,料理データ!$A$3:$BK$997,5,FALSE),\"\")","v":""},{"$f":"IFERROR(VLOOKUP($D304,料理データ!$A$3:$BK$997,8,FALSE),\"\")","v":""},{"$f":"IFERROR(VLOOKUP($D304,料理データ!$A$3:$BK$997,11,FALSE),\"\")","v":""},{"$f":"IFERROR(VLOOKUP($D304,料理データ!$A$3:$BK$997,14,FALSE),\"\")","v":""},{"$f":"IFERROR(VLOOKUP($D304,料理データ!$A$3:$BK$997,17,FALSE),\"\")","v":""},{"$f":"IFERROR(VLOOKUP($D304,料理データ!$A$3:$BK$997,20,FALSE),\"\")","v":""},{"$f":"IFERROR(VLOOKUP($D304,料理データ!$A$3:$BK$997,23,FALSE),\"\")","v":""},{"$f":"IFERROR(VLOOKUP($D304,料理データ!$A$3:$BK$997,26,FALSE),\"\")","v":""},{"$f":"IFERROR(VLOOKUP($D304,料理データ!$A$3:$BK$997,29,FALSE),\"\")","v":""},{"$f":"IFERROR(VLOOKUP($D304,料理データ!$A$3:$BK$997,32,FALSE),\"\")","v":""},{"$f":"IFERROR(VLOOKUP($D304,料理データ!$A$3:$BK$997,35,FALSE),\"\")","v":""},{"$f":"IFERROR(VLOOKUP($D304,料理データ!$A$3:$BK$997,38,FALSE),\"\")","v":""},{"$f":"IFERROR(VLOOKUP($D304,料理データ!$A$3:$BK$997,41,FALSE),\"\")","v":""},{"$f":"IFERROR(VLOOKUP($D304,料理データ!$A$3:$BK$997,44,FALSE),\"\")","v":""},{"$f":"IFERROR(VLOOKUP($D304,料理データ!$A$3:$BK$997,47,FALSE),\"\")","v":""},{"$f":"IFERROR(VLOOKUP($D304,料理データ!$A$3:$BK$997,50,FALSE),\"\")","v":""},{"$f":"IFERROR(VLOOKUP($D304,料理データ!$A$3:$BK$997,53,FALSE),\"\")","v":""},{"$f":"IFERROR(VLOOKUP($D304,料理データ!$A$3:$BK$997,56,FALSE),\"\")","v":""},{"$f":"IFERROR(VLOOKUP($D304,料理データ!$A$3:$BK$997,59,FALSE),\"\")","v":""},{"$f":"IFERROR(VLOOKUP($D304,料理データ!$A$3:$BK$997,62,FALSE),\"\")","v":""},"                   ",{"$f":"SUBSTITUTE(Z304,\"-\",\" \")","v":"                   "}]
[null,null,null,{"$f":"+'月間献立（乳児）'!E29","v":0},{"$f":"IFERROR(VLOOKUP($D305,料理データ!$A$3:$BK$997,3,FALSE),\"\")","v":""},{"$f":"IFERROR(VLOOKUP($D305,料理データ!$A$3:$BK$997,5,FALSE),\"\")","v":""},{"$f":"IFERROR(VLOOKUP($D305,料理データ!$A$3:$BK$997,8,FALSE),\"\")","v":""},{"$f":"IFERROR(VLOOKUP($D305,料理データ!$A$3:$BK$997,11,FALSE),\"\")","v":""},{"$f":"IFERROR(VLOOKUP($D305,料理データ!$A$3:$BK$997,14,FALSE),\"\")","v":""},{"$f":"IFERROR(VLOOKUP($D305,料理データ!$A$3:$BK$997,17,FALSE),\"\")","v":""},{"$f":"IFERROR(VLOOKUP($D305,料理データ!$A$3:$BK$997,20,FALSE),\"\")","v":""},{"$f":"IFERROR(VLOOKUP($D305,料理データ!$A$3:$BK$997,23,FALSE),\"\")","v":""},{"$f":"IFERROR(VLOOKUP($D305,料理データ!$A$3:$BK$997,26,FALSE),\"\")","v":""},{"$f":"IFERROR(VLOOKUP($D305,料理データ!$A$3:$BK$997,29,FALSE),\"\")","v":""},{"$f":"IFERROR(VLOOKUP($D305,料理データ!$A$3:$BK$997,32,FALSE),\"\")","v":""},{"$f":"IFERROR(VLOOKUP($D305,料理データ!$A$3:$BK$997,35,FALSE),\"\")","v":""},{"$f":"IFERROR(VLOOKUP($D305,料理データ!$A$3:$BK$997,38,FALSE),\"\")","v":""},{"$f":"IFERROR(VLOOKUP($D305,料理データ!$A$3:$BK$997,41,FALSE),\"\")","v":""},{"$f":"IFERROR(VLOOKUP($D305,料理データ!$A$3:$BK$997,44,FALSE),\"\")","v":""},{"$f":"IFERROR(VLOOKUP($D305,料理データ!$A$3:$BK$997,47,FALSE),\"\")","v":""},{"$f":"IFERROR(VLOOKUP($D305,料理データ!$A$3:$BK$997,50,FALSE),\"\")","v":""},{"$f":"IFERROR(VLOOKUP($D305,料理データ!$A$3:$BK$997,53,FALSE),\"\")","v":""},{"$f":"IFERROR(VLOOKUP($D305,料理データ!$A$3:$BK$997,56,FALSE),\"\")","v":""},{"$f":"IFERROR(VLOOKUP($D305,料理データ!$A$3:$BK$997,59,FALSE),\"\")","v":""},{"$f":"IFERROR(VLOOKUP($D305,料理データ!$A$3:$BK$997,62,FALSE),\"\")","v":""},"                   ",{"$f":"SUBSTITUTE(Z305,\"-\",\" \")","v":"                   "}]
[null,null,"昼食",{"$f":"+'月間献立（乳児）'!F29","v":0},{"$f":"IFERROR(VLOOKUP($D306,料理データ!$A$3:$BK$997,3,FALSE),\"\")","v":""},{"$f":"IFERROR(VLOOKUP($D306,料理データ!$A$3:$BK$997,5,FALSE),\"\")","v":""},{"$f":"IFERROR(VLOOKUP($D306,料理データ!$A$3:$BK$997,8,FALSE),\"\")","v":""},{"$f":"IFERROR(VLOOKUP($D306,料理データ!$A$3:$BK$997,11,FALSE),\"\")","v":""},{"$f":"IFERROR(VLOOKUP($D306,料理データ!$A$3:$BK$997,14,FALSE),\"\")","v":""},{"$f":"IFERROR(VLOOKUP($D306,料理データ!$A$3:$BK$997,17,FALSE),\"\")","v":""},{"$f":"IFERROR(VLOOKUP($D306,料理データ!$A$3:$BK$997,20,FALSE),\"\")","v":""},{"$f":"IFERROR(VLOOKUP($D306,料理データ!$A$3:$BK$997,23,FALSE),\"\")","v":""},{"$f":"IFERROR(VLOOKUP($D306,料理データ!$A$3:$BK$997,26,FALSE),\"\")","v":""},{"$f":"IFERROR(VLOOKUP($D306,料理データ!$A$3:$BK$997,29,FALSE),\"\")","v":""},{"$f":"IFERROR(VLOOKUP($D306,料理データ!$A$3:$BK$997,32,FALSE),\"\")","v":""},{"$f":"IFERROR(VLOOKUP($D306,料理データ!$A$3:$BK$997,35,FALSE),\"\")","v":""},{"$f":"IFERROR(VLOOKUP($D306,料理データ!$A$3:$BK$997,38,FALSE),\"\")","v":""},{"$f":"IFERROR(VLOOKUP($D306,料理データ!$A$3:$BK$997,41,FALSE),\"\")","v":""},{"$f":"IFERROR(VLOOKUP($D306,料理データ!$A$3:$BK$997,44,FALSE),\"\")","v":""},{"$f":"IFERROR(VLOOKUP($D306,料理データ!$A$3:$BK$997,47,FALSE),\"\")","v":""},{"$f":"IFERROR(VLOOKUP($D306,料理データ!$A$3:$BK$997,50,FALSE),\"\")","v":""},{"$f":"IFERROR(VLOOKUP($D306,料理データ!$A$3:$BK$997,53,FALSE),\"\")","v":""},{"$f":"IFERROR(VLOOKUP($D306,料理データ!$A$3:$BK$997,56,FALSE),\"\")","v":""},{"$f":"IFERROR(VLOOKUP($D306,料理データ!$A$3:$BK$997,59,FALSE),\"\")","v":""},{"$f":"IFERROR(VLOOKUP($D306,料理データ!$A$3:$BK$997,62,FALSE),\"\")","v":""},"                   ","                   "]
[null,null,null,{"$f":"+'月間献立（乳児）'!G29","v":0},{"$f":"IFERROR(VLOOKUP($D307,料理データ!$A$3:$BK$997,3,FALSE),\"\")","v":""},{"$f":"IFERROR(VLOOKUP($D307,料理データ!$A$3:$BK$997,5,FALSE),\"\")","v":""},{"$f":"IFERROR(VLOOKUP($D307,料理データ!$A$3:$BK$997,8,FALSE),\"\")","v":""},{"$f":"IFERROR(VLOOKUP($D307,料理データ!$A$3:$BK$997,11,FALSE),\"\")","v":""},{"$f":"IFERROR(VLOOKUP($D307,料理データ!$A$3:$BK$997,14,FALSE),\"\")","v":""},{"$f":"IFERROR(VLOOKUP($D307,料理データ!$A$3:$BK$997,17,FALSE),\"\")","v":""},{"$f":"IFERROR(VLOOKUP($D307,料理データ!$A$3:$BK$997,20,FALSE),\"\")","v":""},{"$f":"IFERROR(VLOOKUP($D307,料理データ!$A$3:$BK$997,23,FALSE),\"\")","v":""},{"$f":"IFERROR(VLOOKUP($D307,料理データ!$A$3:$BK$997,26,FALSE),\"\")","v":""},{"$f":"IFERROR(VLOOKUP($D307,料理データ!$A$3:$BK$997,29,FALSE),\"\")","v":""},{"$f":"IFERROR(VLOOKUP($D307,料理データ!$A$3:$BK$997,32,FALSE),\"\")","v":""},{"$f":"IFERROR(VLOOKUP($D307,料理データ!$A$3:$BK$997,35,FALSE),\"\")","v":""},{"$f":"IFERROR(VLOOKUP($D307,料理データ!$A$3:$BK$997,38,FALSE),\"\")","v":""},{"$f":"IFERROR(VLOOKUP($D307,料理データ!$A$3:$BK$997,41,FALSE),\"\")","v":""},{"$f":"IFERROR(VLOOKUP($D307,料理データ!$A$3:$BK$997,44,FALSE),\"\")","v":""},{"$f":"IFERROR(VLOOKUP($D307,料理データ!$A$3:$BK$997,47,FALSE),\"\")","v":""},{"$f":"IFERROR(VLOOKUP($D307,料理データ!$A$3:$BK$997,50,FALSE),\"\")","v":""},{"$f":"IFERROR(VLOOKUP($D307,料理データ!$A$3:$BK$997,53,FALSE),\"\")","v":""},{"$f":"IFERROR(VLOOKUP($D307,料理データ!$A$3:$BK$997,56,FALSE),\"\")","v":""},{"$f":"IFERROR(VLOOKUP($D307,料理データ!$A$3:$BK$997,59,FALSE),\"\")","v":""},{"$f":"IFERROR(VLOOKUP($D307,料理データ!$A$3:$BK$997,62,FALSE),\"\")","v":""},"                   ","                   "]
[null,null,null,{"$f":"+'月間献立（乳児）'!H29","v":0},{"$f":"IFERROR(VLOOKUP($D308,料理データ!$A$3:$BK$997,3,FALSE),\"\")","v":""},{"$f":"IFERROR(VLOOKUP($D308,料理データ!$A$3:$BK$997,5,FALSE),\"\")","v":""},{"$f":"IFERROR(VLOOKUP($D308,料理データ!$A$3:$BK$997,8,FALSE),\"\")","v":""},{"$f":"IFERROR(VLOOKUP($D308,料理データ!$A$3:$BK$997,11,FALSE),\"\")","v":""},{"$f":"IFERROR(VLOOKUP($D308,料理データ!$A$3:$BK$997,14,FALSE),\"\")","v":""},{"$f":"IFERROR(VLOOKUP($D308,料理データ!$A$3:$BK$997,17,FALSE),\"\")","v":""},{"$f":"IFERROR(VLOOKUP($D308,料理データ!$A$3:$BK$997,20,FALSE),\"\")","v":""},{"$f":"IFERROR(VLOOKUP($D308,料理データ!$A$3:$BK$997,23,FALSE),\"\")","v":""},{"$f":"IFERROR(VLOOKUP($D308,料理データ!$A$3:$BK$997,26,FALSE),\"\")","v":""},{"$f":"IFERROR(VLOOKUP($D308,料理データ!$A$3:$BK$997,29,FALSE),\"\")","v":""},{"$f":"IFERROR(VLOOKUP($D308,料理データ!$A$3:$BK$997,32,FALSE),\"\")","v":""},{"$f":"IFERROR(VLOOKUP($D308,料理データ!$A$3:$BK$997,35,FALSE),\"\")","v":""},{"$f":"IFERROR(VLOOKUP($D308,料理データ!$A$3:$BK$997,38,FALSE),\"\")","v":""},{"$f":"IFERROR(VLOOKUP($D308,料理データ!$A$3:$BK$997,41,FALSE),\"\")","v":""},{"$f":"IFERROR(VLOOKUP($D308,料理データ!$A$3:$BK$997,44,FALSE),\"\")","v":""},{"$f":"IFERROR(VLOOKUP($D308,料理データ!$A$3:$BK$997,47,FALSE),\"\")","v":""},{"$f":"IFERROR(VLOOKUP($D308,料理データ!$A$3:$BK$997,50,FALSE),\"\")","v":""},{"$f":"IFERROR(VLOOKUP($D308,料理データ!$A$3:$BK$997,53,FALSE),\"\")","v":""},{"$f":"IFERROR(VLOOKUP($D308,料理データ!$A$3:$BK$997,56,FALSE),\"\")","v":""},{"$f":"IFERROR(VLOOKUP($D308,料理データ!$A$3:$BK$997,59,FALSE),\"\")","v":""},{"$f":"IFERROR(VLOOKUP($D308,料理データ!$A$3:$BK$997,62,FALSE),\"\")","v":""},"                   ","                   "]
[null,null,null,{"$f":"+'月間献立（乳児）'!I29","v":0},{"$f":"IFERROR(VLOOKUP($D309,料理データ!$A$3:$BK$997,3,FALSE),\"\")","v":""},{"$f":"IFERROR(VLOOKUP($D309,料理データ!$A$3:$BK$997,5,FALSE),\"\")","v":""},{"$f":"IFERROR(VLOOKUP($D309,料理データ!$A$3:$BK$997,8,FALSE),\"\")","v":""},{"$f":"IFERROR(VLOOKUP($D309,料理データ!$A$3:$BK$997,11,FALSE),\"\")","v":""},{"$f":"IFERROR(VLOOKUP($D309,料理データ!$A$3:$BK$997,14,FALSE),\"\")","v":""},{"$f":"IFERROR(VLOOKUP($D309,料理データ!$A$3:$BK$997,17,FALSE),\"\")","v":""},{"$f":"IFERROR(VLOOKUP($D309,料理データ!$A$3:$BK$997,20,FALSE),\"\")","v":""},{"$f":"IFERROR(VLOOKUP($D309,料理データ!$A$3:$BK$997,23,FALSE),\"\")","v":""},{"$f":"IFERROR(VLOOKUP($D309,料理データ!$A$3:$BK$997,26,FALSE),\"\")","v":""},{"$f":"IFERROR(VLOOKUP($D309,料理データ!$A$3:$BK$997,29,FALSE),\"\")","v":""},{"$f":"IFERROR(VLOOKUP($D309,料理データ!$A$3:$BK$997,32,FALSE),\"\")","v":""},{"$f":"IFERROR(VLOOKUP($D309,料理データ!$A$3:$BK$997,35,FALSE),\"\")","v":""},{"$f":"IFERROR(VLOOKUP($D309,料理データ!$A$3:$BK$997,38,FALSE),\"\")","v":""},{"$f":"IFERROR(VLOOKUP($D309,料理データ!$A$3:$BK$997,41,FALSE),\"\")","v":""},{"$f":"IFERROR(VLOOKUP($D309,料理データ!$A$3:$BK$997,44,FALSE),\"\")","v":""},{"$f":"IFERROR(VLOOKUP($D309,料理データ!$A$3:$BK$997,47,FALSE),\"\")","v":""},{"$f":"IFERROR(VLOOKUP($D309,料理データ!$A$3:$BK$997,50,FALSE),\"\")","v":""},{"$f":"IFERROR(VLOOKUP($D309,料理データ!$A$3:$BK$997,53,FALSE),\"\")","v":""},{"$f":"IFERROR(VLOOKUP($D309,料理データ!$A$3:$BK$997,56,FALSE),\"\")","v":""},{"$f":"IFERROR(VLOOKUP($D309,料理データ!$A$3:$BK$997,59,FALSE),\"\")","v":""},{"$f":"IFERROR(VLOOKUP($D309,料理データ!$A$3:$BK$997,62,FALSE),\"\")","v":""},"                   ","                   "]
[null,null,null,{"$f":"+'月間献立（乳児）'!J29","v":0},{"$f":"IFERROR(VLOOKUP($D310,料理データ!$A$3:$BK$997,3,FALSE),\"\")","v":""},{"$f":"IFERROR(VLOOKUP($D310,料理データ!$A$3:$BK$997,5,FALSE),\"\")","v":""},{"$f":"IFERROR(VLOOKUP($D310,料理データ!$A$3:$BK$997,8,FALSE),\"\")","v":""},{"$f":"IFERROR(VLOOKUP($D310,料理データ!$A$3:$BK$997,11,FALSE),\"\")","v":""},{"$f":"IFERROR(VLOOKUP($D310,料理データ!$A$3:$BK$997,14,FALSE),\"\")","v":""},{"$f":"IFERROR(VLOOKUP($D310,料理データ!$A$3:$BK$997,17,FALSE),\"\")","v":""},{"$f":"IFERROR(VLOOKUP($D310,料理データ!$A$3:$BK$997,20,FALSE),\"\")","v":""},{"$f":"IFERROR(VLOOKUP($D310,料理データ!$A$3:$BK$997,23,FALSE),\"\")","v":""},{"$f":"IFERROR(VLOOKUP($D310,料理データ!$A$3:$BK$997,26,FALSE),\"\")","v":""},{"$f":"IFERROR(VLOOKUP($D310,料理データ!$A$3:$BK$997,29,FALSE),\"\")","v":""},{"$f":"IFERROR(VLOOKUP($D310,料理データ!$A$3:$BK$997,32,FALSE),\"\")","v":""},{"$f":"IFERROR(VLOOKUP($D310,料理データ!$A$3:$BK$997,35,FALSE),\"\")","v":""},{"$f":"IFERROR(VLOOKUP($D310,料理データ!$A$3:$BK$997,38,FALSE),\"\")","v":""},{"$f":"IFERROR(VLOOKUP($D310,料理データ!$A$3:$BK$997,41,FALSE),\"\")","v":""},{"$f":"IFERROR(VLOOKUP($D310,料理データ!$A$3:$BK$997,44,FALSE),\"\")","v":""},{"$f":"IFERROR(VLOOKUP($D310,料理データ!$A$3:$BK$997,47,FALSE),\"\")","v":""},{"$f":"IFERROR(VLOOKUP($D310,料理データ!$A$3:$BK$997,50,FALSE),\"\")","v":""},{"$f":"IFERROR(VLOOKUP($D310,料理データ!$A$3:$BK$997,53,FALSE),\"\")","v":""},{"$f":"IFERROR(VLOOKUP($D310,料理データ!$A$3:$BK$997,56,FALSE),\"\")","v":""},{"$f":"IFERROR(VLOOKUP($D310,料理データ!$A$3:$BK$997,59,FALSE),\"\")","v":""},{"$f":"IFERROR(VLOOKUP($D310,料理データ!$A$3:$BK$997,62,FALSE),\"\")","v":""},"                   ","                   "]
[null,null,null,{"$f":"+'月間献立（乳児）'!K29","v":0},{"$f":"IFERROR(VLOOKUP($D311,料理データ!$A$3:$BK$997,3,FALSE),\"\")","v":""},{"$f":"IFERROR(VLOOKUP($D311,料理データ!$A$3:$BK$997,5,FALSE),\"\")","v":""},{"$f":"IFERROR(VLOOKUP($D311,料理データ!$A$3:$BK$997,8,FALSE),\"\")","v":""},{"$f":"IFERROR(VLOOKUP($D311,料理データ!$A$3:$BK$997,11,FALSE),\"\")","v":""},{"$f":"IFERROR(VLOOKUP($D311,料理データ!$A$3:$BK$997,14,FALSE),\"\")","v":""},{"$f":"IFERROR(VLOOKUP($D311,料理データ!$A$3:$BK$997,17,FALSE),\"\")","v":""},{"$f":"IFERROR(VLOOKUP($D311,料理データ!$A$3:$BK$997,20,FALSE),\"\")","v":""},{"$f":"IFERROR(VLOOKUP($D311,料理データ!$A$3:$BK$997,23,FALSE),\"\")","v":""},{"$f":"IFERROR(VLOOKUP($D311,料理データ!$A$3:$BK$997,26,FALSE),\"\")","v":""},{"$f":"IFERROR(VLOOKUP($D311,料理データ!$A$3:$BK$997,29,FALSE),\"\")","v":""},{"$f":"IFERROR(VLOOKUP($D311,料理データ!$A$3:$BK$997,32,FALSE),\"\")","v":""},{"$f":"IFERROR(VLOOKUP($D311,料理データ!$A$3:$BK$997,35,FALSE),\"\")","v":""},{"$f":"IFERROR(VLOOKUP($D311,料理データ!$A$3:$BK$997,38,FALSE),\"\")","v":""},{"$f":"IFERROR(VLOOKUP($D311,料理データ!$A$3:$BK$997,41,FALSE),\"\")","v":""},{"$f":"IFERROR(VLOOKUP($D311,料理データ!$A$3:$BK$997,44,FALSE),\"\")","v":""},{"$f":"IFERROR(VLOOKUP($D311,料理データ!$A$3:$BK$997,47,FALSE),\"\")","v":""},{"$f":"IFERROR(VLOOKUP($D311,料理データ!$A$3:$BK$997,50,FALSE),\"\")","v":""},{"$f":"IFERROR(VLOOKUP($D311,料理データ!$A$3:$BK$997,53,FALSE),\"\")","v":""},{"$f":"IFERROR(VLOOKUP($D311,料理データ!$A$3:$BK$997,56,FALSE),\"\")","v":""},{"$f":"IFERROR(VLOOKUP($D311,料理データ!$A$3:$BK$997,59,FALSE),\"\")","v":""},{"$f":"IFERROR(VLOOKUP($D311,料理データ!$A$3:$BK$997,62,FALSE),\"\")","v":""},"                   ","                   "]
[null,null,"午後おやつ",{"$f":"+'月間献立（乳児）'!L29","v":0},{"$f":"IFERROR(VLOOKUP($D312,料理データ!$A$3:$BK$997,3,FALSE),\"\")","v":""},{"$f":"IFERROR(VLOOKUP($D312,料理データ!$A$3:$BK$997,5,FALSE),\"\")","v":""},{"$f":"IFERROR(VLOOKUP($D312,料理データ!$A$3:$BK$997,8,FALSE),\"\")","v":""},{"$f":"IFERROR(VLOOKUP($D312,料理データ!$A$3:$BK$997,11,FALSE),\"\")","v":""},{"$f":"IFERROR(VLOOKUP($D312,料理データ!$A$3:$BK$997,14,FALSE),\"\")","v":""},{"$f":"IFERROR(VLOOKUP($D312,料理データ!$A$3:$BK$997,17,FALSE),\"\")","v":""},{"$f":"IFERROR(VLOOKUP($D312,料理データ!$A$3:$BK$997,20,FALSE),\"\")","v":""},{"$f":"IFERROR(VLOOKUP($D312,料理データ!$A$3:$BK$997,23,FALSE),\"\")","v":""},{"$f":"IFERROR(VLOOKUP($D312,料理データ!$A$3:$BK$997,26,FALSE),\"\")","v":""},{"$f":"IFERROR(VLOOKUP($D312,料理データ!$A$3:$BK$997,29,FALSE),\"\")","v":""},{"$f":"IFERROR(VLOOKUP($D312,料理データ!$A$3:$BK$997,32,FALSE),\"\")","v":""},{"$f":"IFERROR(VLOOKUP($D312,料理データ!$A$3:$BK$997,35,FALSE),\"\")","v":""},{"$f":"IFERROR(VLOOKUP($D312,料理データ!$A$3:$BK$997,38,FALSE),\"\")","v":""},{"$f":"IFERROR(VLOOKUP($D312,料理データ!$A$3:$BK$997,41,FALSE),\"\")","v":""},{"$f":"IFERROR(VLOOKUP($D312,料理データ!$A$3:$BK$997,44,FALSE),\"\")","v":""},{"$f":"IFERROR(VLOOKUP($D312,料理データ!$A$3:$BK$997,47,FALSE),\"\")","v":""},{"$f":"IFERROR(VLOOKUP($D312,料理データ!$A$3:$BK$997,50,FALSE),\"\")","v":""},{"$f":"IFERROR(VLOOKUP($D312,料理データ!$A$3:$BK$997,53,FALSE),\"\")","v":""},{"$f":"IFERROR(VLOOKUP($D312,料理データ!$A$3:$BK$997,56,FALSE),\"\")","v":""},{"$f":"IFERROR(VLOOKUP($D312,料理データ!$A$3:$BK$997,59,FALSE),\"\")","v":""},{"$f":"IFERROR(VLOOKUP($D312,料理データ!$A$3:$BK$997,62,FALSE),\"\")","v":""},"                   ","                   "]
[null,null,null,{"$f":"+'月間献立（乳児）'!M29","v":0},{"$f":"IFERROR(VLOOKUP($D313,料理データ!$A$3:$BK$997,3,FALSE),\"\")","v":""},{"$f":"IFERROR(VLOOKUP($D313,料理データ!$A$3:$BK$997,5,FALSE),\"\")","v":""},{"$f":"IFERROR(VLOOKUP($D313,料理データ!$A$3:$BK$997,8,FALSE),\"\")","v":""},{"$f":"IFERROR(VLOOKUP($D313,料理データ!$A$3:$BK$997,11,FALSE),\"\")","v":""},{"$f":"IFERROR(VLOOKUP($D313,料理データ!$A$3:$BK$997,14,FALSE),\"\")","v":""},{"$f":"IFERROR(VLOOKUP($D313,料理データ!$A$3:$BK$997,17,FALSE),\"\")","v":""},{"$f":"IFERROR(VLOOKUP($D313,料理データ!$A$3:$BK$997,20,FALSE),\"\")","v":""},{"$f":"IFERROR(VLOOKUP($D313,料理データ!$A$3:$BK$997,23,FALSE),\"\")","v":""},{"$f":"IFERROR(VLOOKUP($D313,料理データ!$A$3:$BK$997,26,FALSE),\"\")","v":""},{"$f":"IFERROR(VLOOKUP($D313,料理データ!$A$3:$BK$997,29,FALSE),\"\")","v":""},{"$f":"IFERROR(VLOOKUP($D313,料理データ!$A$3:$BK$997,32,FALSE),\"\")","v":""},{"$f":"IFERROR(VLOOKUP($D313,料理データ!$A$3:$BK$997,35,FALSE),\"\")","v":""},{"$f":"IFERROR(VLOOKUP($D313,料理データ!$A$3:$BK$997,38,FALSE),\"\")","v":""},{"$f":"IFERROR(VLOOKUP($D313,料理データ!$A$3:$BK$997,41,FALSE),\"\")","v":""},{"$f":"IFERROR(VLOOKUP($D313,料理データ!$A$3:$BK$997,44,FALSE),\"\")","v":""},{"$f":"IFERROR(VLOOKUP($D313,料理データ!$A$3:$BK$997,47,FALSE),\"\")","v":""},{"$f":"IFERROR(VLOOKUP($D313,料理データ!$A$3:$BK$997,50,FALSE),\"\")","v":""},{"$f":"IFERROR(VLOOKUP($D313,料理データ!$A$3:$BK$997,53,FALSE),\"\")","v":""},{"$f":"IFERROR(VLOOKUP($D313,料理データ!$A$3:$BK$997,56,FALSE),\"\")","v":""},{"$f":"IFERROR(VLOOKUP($D313,料理データ!$A$3:$BK$997,59,FALSE),\"\")","v":""},{"$f":"IFERROR(VLOOKUP($D313,料理データ!$A$3:$BK$997,62,FALSE),\"\")","v":""},"                   ","                   "]
[null,null,null,{"$f":"+'月間献立（乳児）'!N29","v":0},{"$f":"IFERROR(VLOOKUP($D314,料理データ!$A$3:$BK$997,3,FALSE),\"\")","v":""},{"$f":"IFERROR(VLOOKUP($D314,料理データ!$A$3:$BK$997,5,FALSE),\"\")","v":""},{"$f":"IFERROR(VLOOKUP($D314,料理データ!$A$3:$BK$997,8,FALSE),\"\")","v":""},{"$f":"IFERROR(VLOOKUP($D314,料理データ!$A$3:$BK$997,11,FALSE),\"\")","v":""},{"$f":"IFERROR(VLOOKUP($D314,料理データ!$A$3:$BK$997,14,FALSE),\"\")","v":""},{"$f":"IFERROR(VLOOKUP($D314,料理データ!$A$3:$BK$997,17,FALSE),\"\")","v":""},{"$f":"IFERROR(VLOOKUP($D314,料理データ!$A$3:$BK$997,20,FALSE),\"\")","v":""},{"$f":"IFERROR(VLOOKUP($D314,料理データ!$A$3:$BK$997,23,FALSE),\"\")","v":""},{"$f":"IFERROR(VLOOKUP($D314,料理データ!$A$3:$BK$997,26,FALSE),\"\")","v":""},{"$f":"IFERROR(VLOOKUP($D314,料理データ!$A$3:$BK$997,29,FALSE),\"\")","v":""},{"$f":"IFERROR(VLOOKUP($D314,料理データ!$A$3:$BK$997,32,FALSE),\"\")","v":""},{"$f":"IFERROR(VLOOKUP($D314,料理データ!$A$3:$BK$997,35,FALSE),\"\")","v":""},{"$f":"IFERROR(VLOOKUP($D314,料理データ!$A$3:$BK$997,38,FALSE),\"\")","v":""},{"$f":"IFERROR(VLOOKUP($D314,料理データ!$A$3:$BK$997,41,FALSE),\"\")","v":""},{"$f":"IFERROR(VLOOKUP($D314,料理データ!$A$3:$BK$997,44,FALSE),\"\")","v":""},{"$f":"IFERROR(VLOOKUP($D314,料理データ!$A$3:$BK$997,47,FALSE),\"\")","v":""},{"$f":"IFERROR(VLOOKUP($D314,料理データ!$A$3:$BK$997,50,FALSE),\"\")","v":""},{"$f":"IFERROR(VLOOKUP($D314,料理データ!$A$3:$BK$997,53,FALSE),\"\")","v":""},{"$f":"IFERROR(VLOOKUP($D314,料理データ!$A$3:$BK$997,56,FALSE),\"\")","v":""},{"$f":"IFERROR(VLOOKUP($D314,料理データ!$A$3:$BK$997,59,FALSE),\"\")","v":""},{"$f":"IFERROR(VLOOKUP($D314,料理データ!$A$3:$BK$997,62,FALSE),\"\")","v":""},"                   ",{"$f":"SUBSTITUTE(Z314,\"-\",\"\")","v":"                   "}]
[{"$f":"+'月間献立（幼児）'!A31","v":27},{"$f":"+'月間献立（幼児）'!B31","v":"(木)"},"午前おやつ",{"$f":"+'月間献立（乳児）'!C30","v":0},{"$f":"IFERROR(VLOOKUP($D315,料理データ!$A$3:$BK$997,3,FALSE),\"\")","v":""},{"$f":"IFERROR(VLOOKUP($D315,料理データ!$A$3:$BK$997,5,FALSE),\"\")","v":""},{"$f":"IFERROR(VLOOKUP($D315,料理データ!$A$3:$BK$997,8,FALSE),\"\")","v":""},{"$f":"IFERROR(VLOOKUP($D315,料理データ!$A$3:$BK$997,11,FALSE),\"\")","v":""},{"$f":"IFERROR(VLOOKUP($D315,料理データ!$A$3:$BK$997,14,FALSE),\"\")","v":""},{"$f":"IFERROR(VLOOKUP($D315,料理データ!$A$3:$BK$997,17,FALSE),\"\")","v":""},{"$f":"IFERROR(VLOOKUP($D315,料理データ!$A$3:$BK$997,20,FALSE),\"\")","v":""},{"$f":"IFERROR(VLOOKUP($D315,料理データ!$A$3:$BK$997,23,FALSE),\"\")","v":""},{"$f":"IFERROR(VLOOKUP($D315,料理データ!$A$3:$BK$997,26,FALSE),\"\")","v":""},{"$f":"IFERROR(VLOOKUP($D315,料理データ!$A$3:$BK$997,29,FALSE),\"\")","v":""},{"$f":"IFERROR(VLOOKUP($D315,料理データ!$A$3:$BK$997,32,FALSE),\"\")","v":""},{"$f":"IFERROR(VLOOKUP($D315,料理データ!$A$3:$BK$997,35,FALSE),\"\")","v":""},{"$f":"IFERROR(VLOOKUP($D315,料理データ!$A$3:$BK$997,38,FALSE),\"\")","v":""},{"$f":"IFERROR(VLOOKUP($D315,料理データ!$A$3:$BK$997,41,FALSE),\"\")","v":""},{"$f":"IFERROR(VLOOKUP($D315,料理データ!$A$3:$BK$997,44,FALSE),\"\")","v":""},{"$f":"IFERROR(VLOOKUP($D315,料理データ!$A$3:$BK$997,47,FALSE),\"\")","v":""},{"$f":"IFERROR(VLOOKUP($D315,料理データ!$A$3:$BK$997,50,FALSE),\"\")","v":""},{"$f":"IFERROR(VLOOKUP($D315,料理データ!$A$3:$BK$997,53,FALSE),\"\")","v":""},{"$f":"IFERROR(VLOOKUP($D315,料理データ!$A$3:$BK$997,56,FALSE),\"\")","v":""},{"$f":"IFERROR(VLOOKUP($D315,料理データ!$A$3:$BK$997,59,FALSE),\"\")","v":""},{"$f":"IFERROR(VLOOKUP($D315,料理データ!$A$3:$BK$997,62,FALSE),\"\")","v":""},"                   ",{"$f":"SUBSTITUTE(Z315,\"-\",\" \")","v":"                   "},{"$f":"TRIM(CONCATENATE(AA315,AA316,AA317,\"▲\",AA318,AA319,AA320,AA321,AA322,AA323,\"▲\",AA324,AA325,AA326))","v":"▲ ▲"}]
[null,null,null,{"$f":"+'月間献立（乳児）'!D30","v":0},{"$f":"IFERROR(VLOOKUP($D316,料理データ!$A$3:$BK$997,3,FALSE),\"\")","v":""},{"$f":"IFERROR(VLOOKUP($D316,料理データ!$A$3:$BK$997,5,FALSE),\"\")","v":""},{"$f":"IFERROR(VLOOKUP($D316,料理データ!$A$3:$BK$997,8,FALSE),\"\")","v":""},{"$f":"IFERROR(VLOOKUP($D316,料理データ!$A$3:$BK$997,11,FALSE),\"\")","v":""},{"$f":"IFERROR(VLOOKUP($D316,料理データ!$A$3:$BK$997,14,FALSE),\"\")","v":""},{"$f":"IFERROR(VLOOKUP($D316,料理データ!$A$3:$BK$997,17,FALSE),\"\")","v":""},{"$f":"IFERROR(VLOOKUP($D316,料理データ!$A$3:$BK$997,20,FALSE),\"\")","v":""},{"$f":"IFERROR(VLOOKUP($D316,料理データ!$A$3:$BK$997,23,FALSE),\"\")","v":""},{"$f":"IFERROR(VLOOKUP($D316,料理データ!$A$3:$BK$997,26,FALSE),\"\")","v":""},{"$f":"IFERROR(VLOOKUP($D316,料理データ!$A$3:$BK$997,29,FALSE),\"\")","v":""},{"$f":"IFERROR(VLOOKUP($D316,料理データ!$A$3:$BK$997,32,FALSE),\"\")","v":""},{"$f":"IFERROR(VLOOKUP($D316,料理データ!$A$3:$BK$997,35,FALSE),\"\")","v":""},{"$f":"IFERROR(VLOOKUP($D316,料理データ!$A$3:$BK$997,38,FALSE),\"\")","v":""},{"$f":"IFERROR(VLOOKUP($D316,料理データ!$A$3:$BK$997,41,FALSE),\"\")","v":""},{"$f":"IFERROR(VLOOKUP($D316,料理データ!$A$3:$BK$997,44,FALSE),\"\")","v":""},{"$f":"IFERROR(VLOOKUP($D316,料理データ!$A$3:$BK$997,47,FALSE),\"\")","v":""},{"$f":"IFERROR(VLOOKUP($D316,料理データ!$A$3:$BK$997,50,FALSE),\"\")","v":""},{"$f":"IFERROR(VLOOKUP($D316,料理データ!$A$3:$BK$997,53,FALSE),\"\")","v":""},{"$f":"IFERROR(VLOOKUP($D316,料理データ!$A$3:$BK$997,56,FALSE),\"\")","v":""},{"$f":"IFERROR(VLOOKUP($D316,料理データ!$A$3:$BK$997,59,FALSE),\"\")","v":""},{"$f":"IFERROR(VLOOKUP($D316,料理データ!$A$3:$BK$997,62,FALSE),\"\")","v":""},"                   ",{"$f":"SUBSTITUTE(Z316,\"-\",\" \")","v":"                   "}]
[null,null,null,{"$f":"+'月間献立（乳児）'!E30","v":0},{"$f":"IFERROR(VLOOKUP($D317,料理データ!$A$3:$BK$997,3,FALSE),\"\")","v":""},{"$f":"IFERROR(VLOOKUP($D317,料理データ!$A$3:$BK$997,5,FALSE),\"\")","v":""},{"$f":"IFERROR(VLOOKUP($D317,料理データ!$A$3:$BK$997,8,FALSE),\"\")","v":""},{"$f":"IFERROR(VLOOKUP($D317,料理データ!$A$3:$BK$997,11,FALSE),\"\")","v":""},{"$f":"IFERROR(VLOOKUP($D317,料理データ!$A$3:$BK$997,14,FALSE),\"\")","v":""},{"$f":"IFERROR(VLOOKUP($D317,料理データ!$A$3:$BK$997,17,FALSE),\"\")","v":""},{"$f":"IFERROR(VLOOKUP($D317,料理データ!$A$3:$BK$997,20,FALSE),\"\")","v":""},{"$f":"IFERROR(VLOOKUP($D317,料理データ!$A$3:$BK$997,23,FALSE),\"\")","v":""},{"$f":"IFERROR(VLOOKUP($D317,料理データ!$A$3:$BK$997,26,FALSE),\"\")","v":""},{"$f":"IFERROR(VLOOKUP($D317,料理データ!$A$3:$BK$997,29,FALSE),\"\")","v":""},{"$f":"IFERROR(VLOOKUP($D317,料理データ!$A$3:$BK$997,32,FALSE),\"\")","v":""},{"$f":"IFERROR(VLOOKUP($D317,料理データ!$A$3:$BK$997,35,FALSE),\"\")","v":""},{"$f":"IFERROR(VLOOKUP($D317,料理データ!$A$3:$BK$997,38,FALSE),\"\")","v":""},{"$f":"IFERROR(VLOOKUP($D317,料理データ!$A$3:$BK$997,41,FALSE),\"\")","v":""},{"$f":"IFERROR(VLOOKUP($D317,料理データ!$A$3:$BK$997,44,FALSE),\"\")","v":""},{"$f":"IFERROR(VLOOKUP($D317,料理データ!$A$3:$BK$997,47,FALSE),\"\")","v":""},{"$f":"IFERROR(VLOOKUP($D317,料理データ!$A$3:$BK$997,50,FALSE),\"\")","v":""},{"$f":"IFERROR(VLOOKUP($D317,料理データ!$A$3:$BK$997,53,FALSE),\"\")","v":""},{"$f":"IFERROR(VLOOKUP($D317,料理データ!$A$3:$BK$997,56,FALSE),\"\")","v":""},{"$f":"IFERROR(VLOOKUP($D317,料理データ!$A$3:$BK$997,59,FALSE),\"\")","v":""},{"$f":"IFERROR(VLOOKUP($D317,料理データ!$A$3:$BK$997,62,FALSE),\"\")","v":""},"                   ",{"$f":"SUBSTITUTE(Z317,\"-\",\" \")","v":"                   "}]
[null,null,"昼食",{"$f":"+'月間献立（乳児）'!F30","v":0},{"$f":"IFERROR(VLOOKUP($D318,料理データ!$A$3:$BK$997,3,FALSE),\"\")","v":""},{"$f":"IFERROR(VLOOKUP($D318,料理データ!$A$3:$BK$997,5,FALSE),\"\")","v":""},{"$f":"IFERROR(VLOOKUP($D318,料理データ!$A$3:$BK$997,8,FALSE),\"\")","v":""},{"$f":"IFERROR(VLOOKUP($D318,料理データ!$A$3:$BK$997,11,FALSE),\"\")","v":""},{"$f":"IFERROR(VLOOKUP($D318,料理データ!$A$3:$BK$997,14,FALSE),\"\")","v":""},{"$f":"IFERROR(VLOOKUP($D318,料理データ!$A$3:$BK$997,17,FALSE),\"\")","v":""},{"$f":"IFERROR(VLOOKUP($D318,料理データ!$A$3:$BK$997,20,FALSE),\"\")","v":""},{"$f":"IFERROR(VLOOKUP($D318,料理データ!$A$3:$BK$997,23,FALSE),\"\")","v":""},{"$f":"IFERROR(VLOOKUP($D318,料理データ!$A$3:$BK$997,26,FALSE),\"\")","v":""},{"$f":"IFERROR(VLOOKUP($D318,料理データ!$A$3:$BK$997,29,FALSE),\"\")","v":""},{"$f":"IFERROR(VLOOKUP($D318,料理データ!$A$3:$BK$997,32,FALSE),\"\")","v":""},{"$f":"IFERROR(VLOOKUP($D318,料理データ!$A$3:$BK$997,35,FALSE),\"\")","v":""},{"$f":"IFERROR(VLOOKUP($D318,料理データ!$A$3:$BK$997,38,FALSE),\"\")","v":""},{"$f":"IFERROR(VLOOKUP($D318,料理データ!$A$3:$BK$997,41,FALSE),\"\")","v":""},{"$f":"IFERROR(VLOOKUP($D318,料理データ!$A$3:$BK$997,44,FALSE),\"\")","v":""},{"$f":"IFERROR(VLOOKUP($D318,料理データ!$A$3:$BK$997,47,FALSE),\"\")","v":""},{"$f":"IFERROR(VLOOKUP($D318,料理データ!$A$3:$BK$997,50,FALSE),\"\")","v":""},{"$f":"IFERROR(VLOOKUP($D318,料理データ!$A$3:$BK$997,53,FALSE),\"\")","v":""},{"$f":"IFERROR(VLOOKUP($D318,料理データ!$A$3:$BK$997,56,FALSE),\"\")","v":""},{"$f":"IFERROR(VLOOKUP($D318,料理データ!$A$3:$BK$997,59,FALSE),\"\")","v":""},{"$f":"IFERROR(VLOOKUP($D318,料理データ!$A$3:$BK$997,62,FALSE),\"\")","v":""},"                   ","                   "]
[null,null,null,{"$f":"+'月間献立（乳児）'!G30","v":0},{"$f":"IFERROR(VLOOKUP($D319,料理データ!$A$3:$BK$997,3,FALSE),\"\")","v":""},{"$f":"IFERROR(VLOOKUP($D319,料理データ!$A$3:$BK$997,5,FALSE),\"\")","v":""},{"$f":"IFERROR(VLOOKUP($D319,料理データ!$A$3:$BK$997,8,FALSE),\"\")","v":""},{"$f":"IFERROR(VLOOKUP($D319,料理データ!$A$3:$BK$997,11,FALSE),\"\")","v":""},{"$f":"IFERROR(VLOOKUP($D319,料理データ!$A$3:$BK$997,14,FALSE),\"\")","v":""},{"$f":"IFERROR(VLOOKUP($D319,料理データ!$A$3:$BK$997,17,FALSE),\"\")","v":""},{"$f":"IFERROR(VLOOKUP($D319,料理データ!$A$3:$BK$997,20,FALSE),\"\")","v":""},{"$f":"IFERROR(VLOOKUP($D319,料理データ!$A$3:$BK$997,23,FALSE),\"\")","v":""},{"$f":"IFERROR(VLOOKUP($D319,料理データ!$A$3:$BK$997,26,FALSE),\"\")","v":""},{"$f":"IFERROR(VLOOKUP($D319,料理データ!$A$3:$BK$997,29,FALSE),\"\")","v":""},{"$f":"IFERROR(VLOOKUP($D319,料理データ!$A$3:$BK$997,32,FALSE),\"\")","v":""},{"$f":"IFERROR(VLOOKUP($D319,料理データ!$A$3:$BK$997,35,FALSE),\"\")","v":""},{"$f":"IFERROR(VLOOKUP($D319,料理データ!$A$3:$BK$997,38,FALSE),\"\")","v":""},{"$f":"IFERROR(VLOOKUP($D319,料理データ!$A$3:$BK$997,41,FALSE),\"\")","v":""},{"$f":"IFERROR(VLOOKUP($D319,料理データ!$A$3:$BK$997,44,FALSE),\"\")","v":""},{"$f":"IFERROR(VLOOKUP($D319,料理データ!$A$3:$BK$997,47,FALSE),\"\")","v":""},{"$f":"IFERROR(VLOOKUP($D319,料理データ!$A$3:$BK$997,50,FALSE),\"\")","v":""},{"$f":"IFERROR(VLOOKUP($D319,料理データ!$A$3:$BK$997,53,FALSE),\"\")","v":""},{"$f":"IFERROR(VLOOKUP($D319,料理データ!$A$3:$BK$997,56,FALSE),\"\")","v":""},{"$f":"IFERROR(VLOOKUP($D319,料理データ!$A$3:$BK$997,59,FALSE),\"\")","v":""},{"$f":"IFERROR(VLOOKUP($D319,料理データ!$A$3:$BK$997,62,FALSE),\"\")","v":""},"                   ","                   "]
[null,null,null,{"$f":"+'月間献立（乳児）'!H30","v":0},{"$f":"IFERROR(VLOOKUP($D320,料理データ!$A$3:$BK$997,3,FALSE),\"\")","v":""},{"$f":"IFERROR(VLOOKUP($D320,料理データ!$A$3:$BK$997,5,FALSE),\"\")","v":""},{"$f":"IFERROR(VLOOKUP($D320,料理データ!$A$3:$BK$997,8,FALSE),\"\")","v":""},{"$f":"IFERROR(VLOOKUP($D320,料理データ!$A$3:$BK$997,11,FALSE),\"\")","v":""},{"$f":"IFERROR(VLOOKUP($D320,料理データ!$A$3:$BK$997,14,FALSE),\"\")","v":""},{"$f":"IFERROR(VLOOKUP($D320,料理データ!$A$3:$BK$997,17,FALSE),\"\")","v":""},{"$f":"IFERROR(VLOOKUP($D320,料理データ!$A$3:$BK$997,20,FALSE),\"\")","v":""},{"$f":"IFERROR(VLOOKUP($D320,料理データ!$A$3:$BK$997,23,FALSE),\"\")","v":""},{"$f":"IFERROR(VLOOKUP($D320,料理データ!$A$3:$BK$997,26,FALSE),\"\")","v":""},{"$f":"IFERROR(VLOOKUP($D320,料理データ!$A$3:$BK$997,29,FALSE),\"\")","v":""},{"$f":"IFERROR(VLOOKUP($D320,料理データ!$A$3:$BK$997,32,FALSE),\"\")","v":""},{"$f":"IFERROR(VLOOKUP($D320,料理データ!$A$3:$BK$997,35,FALSE),\"\")","v":""},{"$f":"IFERROR(VLOOKUP($D320,料理データ!$A$3:$BK$997,38,FALSE),\"\")","v":""},{"$f":"IFERROR(VLOOKUP($D320,料理データ!$A$3:$BK$997,41,FALSE),\"\")","v":""},{"$f":"IFERROR(VLOOKUP($D320,料理データ!$A$3:$BK$997,44,FALSE),\"\")","v":""},{"$f":"IFERROR(VLOOKUP($D320,料理データ!$A$3:$BK$997,47,FALSE),\"\")","v":""},{"$f":"IFERROR(VLOOKUP($D320,料理データ!$A$3:$BK$997,50,FALSE),\"\")","v":""},{"$f":"IFERROR(VLOOKUP($D320,料理データ!$A$3:$BK$997,53,FALSE),\"\")","v":""},{"$f":"IFERROR(VLOOKUP($D320,料理データ!$A$3:$BK$997,56,FALSE),\"\")","v":""},{"$f":"IFERROR(VLOOKUP($D320,料理データ!$A$3:$BK$997,59,FALSE),\"\")","v":""},{"$f":"IFERROR(VLOOKUP($D320,料理データ!$A$3:$BK$997,62,FALSE),\"\")","v":""},"                   ","                   "]
[null,null,null,{"$f":"+'月間献立（乳児）'!I30","v":0},{"$f":"IFERROR(VLOOKUP($D321,料理データ!$A$3:$BK$997,3,FALSE),\"\")","v":""},{"$f":"IFERROR(VLOOKUP($D321,料理データ!$A$3:$BK$997,5,FALSE),\"\")","v":""},{"$f":"IFERROR(VLOOKUP($D321,料理データ!$A$3:$BK$997,8,FALSE),\"\")","v":""},{"$f":"IFERROR(VLOOKUP($D321,料理データ!$A$3:$BK$997,11,FALSE),\"\")","v":""},{"$f":"IFERROR(VLOOKUP($D321,料理データ!$A$3:$BK$997,14,FALSE),\"\")","v":""},{"$f":"IFERROR(VLOOKUP($D321,料理データ!$A$3:$BK$997,17,FALSE),\"\")","v":""},{"$f":"IFERROR(VLOOKUP($D321,料理データ!$A$3:$BK$997,20,FALSE),\"\")","v":""},{"$f":"IFERROR(VLOOKUP($D321,料理データ!$A$3:$BK$997,23,FALSE),\"\")","v":""},{"$f":"IFERROR(VLOOKUP($D321,料理データ!$A$3:$BK$997,26,FALSE),\"\")","v":""},{"$f":"IFERROR(VLOOKUP($D321,料理データ!$A$3:$BK$997,29,FALSE),\"\")","v":""},{"$f":"IFERROR(VLOOKUP($D321,料理データ!$A$3:$BK$997,32,FALSE),\"\")","v":""},{"$f":"IFERROR(VLOOKUP($D321,料理データ!$A$3:$BK$997,35,FALSE),\"\")","v":""},{"$f":"IFERROR(VLOOKUP($D321,料理データ!$A$3:$BK$997,38,FALSE),\"\")","v":""},{"$f":"IFERROR(VLOOKUP($D321,料理データ!$A$3:$BK$997,41,FALSE),\"\")","v":""},{"$f":"IFERROR(VLOOKUP($D321,料理データ!$A$3:$BK$997,44,FALSE),\"\")","v":""},{"$f":"IFERROR(VLOOKUP($D321,料理データ!$A$3:$BK$997,47,FALSE),\"\")","v":""},{"$f":"IFERROR(VLOOKUP($D321,料理データ!$A$3:$BK$997,50,FALSE),\"\")","v":""},{"$f":"IFERROR(VLOOKUP($D321,料理データ!$A$3:$BK$997,53,FALSE),\"\")","v":""},{"$f":"IFERROR(VLOOKUP($D321,料理データ!$A$3:$BK$997,56,FALSE),\"\")","v":""},{"$f":"IFERROR(VLOOKUP($D321,料理データ!$A$3:$BK$997,59,FALSE),\"\")","v":""},{"$f":"IFERROR(VLOOKUP($D321,料理データ!$A$3:$BK$997,62,FALSE),\"\")","v":""},"                   ","                   "]
[null,null,null,{"$f":"+'月間献立（乳児）'!J30","v":0},{"$f":"IFERROR(VLOOKUP($D322,料理データ!$A$3:$BK$997,3,FALSE),\"\")","v":""},{"$f":"IFERROR(VLOOKUP($D322,料理データ!$A$3:$BK$997,5,FALSE),\"\")","v":""},{"$f":"IFERROR(VLOOKUP($D322,料理データ!$A$3:$BK$997,8,FALSE),\"\")","v":""},{"$f":"IFERROR(VLOOKUP($D322,料理データ!$A$3:$BK$997,11,FALSE),\"\")","v":""},{"$f":"IFERROR(VLOOKUP($D322,料理データ!$A$3:$BK$997,14,FALSE),\"\")","v":""},{"$f":"IFERROR(VLOOKUP($D322,料理データ!$A$3:$BK$997,17,FALSE),\"\")","v":""},{"$f":"IFERROR(VLOOKUP($D322,料理データ!$A$3:$BK$997,20,FALSE),\"\")","v":""},{"$f":"IFERROR(VLOOKUP($D322,料理データ!$A$3:$BK$997,23,FALSE),\"\")","v":""},{"$f":"IFERROR(VLOOKUP($D322,料理データ!$A$3:$BK$997,26,FALSE),\"\")","v":""},{"$f":"IFERROR(VLOOKUP($D322,料理データ!$A$3:$BK$997,29,FALSE),\"\")","v":""},{"$f":"IFERROR(VLOOKUP($D322,料理データ!$A$3:$BK$997,32,FALSE),\"\")","v":""},{"$f":"IFERROR(VLOOKUP($D322,料理データ!$A$3:$BK$997,35,FALSE),\"\")","v":""},{"$f":"IFERROR(VLOOKUP($D322,料理データ!$A$3:$BK$997,38,FALSE),\"\")","v":""},{"$f":"IFERROR(VLOOKUP($D322,料理データ!$A$3:$BK$997,41,FALSE),\"\")","v":""},{"$f":"IFERROR(VLOOKUP($D322,料理データ!$A$3:$BK$997,44,FALSE),\"\")","v":""},{"$f":"IFERROR(VLOOKUP($D322,料理データ!$A$3:$BK$997,47,FALSE),\"\")","v":""},{"$f":"IFERROR(VLOOKUP($D322,料理データ!$A$3:$BK$997,50,FALSE),\"\")","v":""},{"$f":"IFERROR(VLOOKUP($D322,料理データ!$A$3:$BK$997,53,FALSE),\"\")","v":""},{"$f":"IFERROR(VLOOKUP($D322,料理データ!$A$3:$BK$997,56,FALSE),\"\")","v":""},{"$f":"IFERROR(VLOOKUP($D322,料理データ!$A$3:$BK$997,59,FALSE),\"\")","v":""},{"$f":"IFERROR(VLOOKUP($D322,料理データ!$A$3:$BK$997,62,FALSE),\"\")","v":""},"                   ","                   "]
[null,null,null,{"$f":"+'月間献立（乳児）'!K30","v":0},{"$f":"IFERROR(VLOOKUP($D323,料理データ!$A$3:$BK$997,3,FALSE),\"\")","v":""},{"$f":"IFERROR(VLOOKUP($D323,料理データ!$A$3:$BK$997,5,FALSE),\"\")","v":""},{"$f":"IFERROR(VLOOKUP($D323,料理データ!$A$3:$BK$997,8,FALSE),\"\")","v":""},{"$f":"IFERROR(VLOOKUP($D323,料理データ!$A$3:$BK$997,11,FALSE),\"\")","v":""},{"$f":"IFERROR(VLOOKUP($D323,料理データ!$A$3:$BK$997,14,FALSE),\"\")","v":""},{"$f":"IFERROR(VLOOKUP($D323,料理データ!$A$3:$BK$997,17,FALSE),\"\")","v":""},{"$f":"IFERROR(VLOOKUP($D323,料理データ!$A$3:$BK$997,20,FALSE),\"\")","v":""},{"$f":"IFERROR(VLOOKUP($D323,料理データ!$A$3:$BK$997,23,FALSE),\"\")","v":""},{"$f":"IFERROR(VLOOKUP($D323,料理データ!$A$3:$BK$997,26,FALSE),\"\")","v":""},{"$f":"IFERROR(VLOOKUP($D323,料理データ!$A$3:$BK$997,29,FALSE),\"\")","v":""},{"$f":"IFERROR(VLOOKUP($D323,料理データ!$A$3:$BK$997,32,FALSE),\"\")","v":""},{"$f":"IFERROR(VLOOKUP($D323,料理データ!$A$3:$BK$997,35,FALSE),\"\")","v":""},{"$f":"IFERROR(VLOOKUP($D323,料理データ!$A$3:$BK$997,38,FALSE),\"\")","v":""},{"$f":"IFERROR(VLOOKUP($D323,料理データ!$A$3:$BK$997,41,FALSE),\"\")","v":""},{"$f":"IFERROR(VLOOKUP($D323,料理データ!$A$3:$BK$997,44,FALSE),\"\")","v":""},{"$f":"IFERROR(VLOOKUP($D323,料理データ!$A$3:$BK$997,47,FALSE),\"\")","v":""},{"$f":"IFERROR(VLOOKUP($D323,料理データ!$A$3:$BK$997,50,FALSE),\"\")","v":""},{"$f":"IFERROR(VLOOKUP($D323,料理データ!$A$3:$BK$997,53,FALSE),\"\")","v":""},{"$f":"IFERROR(VLOOKUP($D323,料理データ!$A$3:$BK$997,56,FALSE),\"\")","v":""},{"$f":"IFERROR(VLOOKUP($D323,料理データ!$A$3:$BK$997,59,FALSE),\"\")","v":""},{"$f":"IFERROR(VLOOKUP($D323,料理データ!$A$3:$BK$997,62,FALSE),\"\")","v":""},"                   ","                   "]
[null,null,"午後おやつ",{"$f":"+'月間献立（乳児）'!L30","v":0},{"$f":"IFERROR(VLOOKUP($D324,料理データ!$A$3:$BK$997,3,FALSE),\"\")","v":""},{"$f":"IFERROR(VLOOKUP($D324,料理データ!$A$3:$BK$997,5,FALSE),\"\")","v":""},{"$f":"IFERROR(VLOOKUP($D324,料理データ!$A$3:$BK$997,8,FALSE),\"\")","v":""},{"$f":"IFERROR(VLOOKUP($D324,料理データ!$A$3:$BK$997,11,FALSE),\"\")","v":""},{"$f":"IFERROR(VLOOKUP($D324,料理データ!$A$3:$BK$997,14,FALSE),\"\")","v":""},{"$f":"IFERROR(VLOOKUP($D324,料理データ!$A$3:$BK$997,17,FALSE),\"\")","v":""},{"$f":"IFERROR(VLOOKUP($D324,料理データ!$A$3:$BK$997,20,FALSE),\"\")","v":""},{"$f":"IFERROR(VLOOKUP($D324,料理データ!$A$3:$BK$997,23,FALSE),\"\")","v":""},{"$f":"IFERROR(VLOOKUP($D324,料理データ!$A$3:$BK$997,26,FALSE),\"\")","v":""},{"$f":"IFERROR(VLOOKUP($D324,料理データ!$A$3:$BK$997,29,FALSE),\"\")","v":""},{"$f":"IFERROR(VLOOKUP($D324,料理データ!$A$3:$BK$997,32,FALSE),\"\")","v":""},{"$f":"IFERROR(VLOOKUP($D324,料理データ!$A$3:$BK$997,35,FALSE),\"\")","v":""},{"$f":"IFERROR(VLOOKUP($D324,料理データ!$A$3:$BK$997,38,FALSE),\"\")","v":""},{"$f":"IFERROR(VLOOKUP($D324,料理データ!$A$3:$BK$997,41,FALSE),\"\")","v":""},{"$f":"IFERROR(VLOOKUP($D324,料理データ!$A$3:$BK$997,44,FALSE),\"\")","v":""},{"$f":"IFERROR(VLOOKUP($D324,料理データ!$A$3:$BK$997,47,FALSE),\"\")","v":""},{"$f":"IFERROR(VLOOKUP($D324,料理データ!$A$3:$BK$997,50,FALSE),\"\")","v":""},{"$f":"IFERROR(VLOOKUP($D324,料理データ!$A$3:$BK$997,53,FALSE),\"\")","v":""},{"$f":"IFERROR(VLOOKUP($D324,料理データ!$A$3:$BK$997,56,FALSE),\"\")","v":""},{"$f":"IFERROR(VLOOKUP($D324,料理データ!$A$3:$BK$997,59,FALSE),\"\")","v":""},{"$f":"IFERROR(VLOOKUP($D324,料理データ!$A$3:$BK$997,62,FALSE),\"\")","v":""},"                   ","                   "]
[null,null,null,{"$f":"+'月間献立（乳児）'!M30","v":0},{"$f":"IFERROR(VLOOKUP($D325,料理データ!$A$3:$BK$997,3,FALSE),\"\")","v":""},{"$f":"IFERROR(VLOOKUP($D325,料理データ!$A$3:$BK$997,5,FALSE),\"\")","v":""},{"$f":"IFERROR(VLOOKUP($D325,料理データ!$A$3:$BK$997,8,FALSE),\"\")","v":""},{"$f":"IFERROR(VLOOKUP($D325,料理データ!$A$3:$BK$997,11,FALSE),\"\")","v":""},{"$f":"IFERROR(VLOOKUP($D325,料理データ!$A$3:$BK$997,14,FALSE),\"\")","v":""},{"$f":"IFERROR(VLOOKUP($D325,料理データ!$A$3:$BK$997,17,FALSE),\"\")","v":""},{"$f":"IFERROR(VLOOKUP($D325,料理データ!$A$3:$BK$997,20,FALSE),\"\")","v":""},{"$f":"IFERROR(VLOOKUP($D325,料理データ!$A$3:$BK$997,23,FALSE),\"\")","v":""},{"$f":"IFERROR(VLOOKUP($D325,料理データ!$A$3:$BK$997,26,FALSE),\"\")","v":""},{"$f":"IFERROR(VLOOKUP($D325,料理データ!$A$3:$BK$997,29,FALSE),\"\")","v":""},{"$f":"IFERROR(VLOOKUP($D325,料理データ!$A$3:$BK$997,32,FALSE),\"\")","v":""},{"$f":"IFERROR(VLOOKUP($D325,料理データ!$A$3:$BK$997,35,FALSE),\"\")","v":""},{"$f":"IFERROR(VLOOKUP($D325,料理データ!$A$3:$BK$997,38,FALSE),\"\")","v":""},{"$f":"IFERROR(VLOOKUP($D325,料理データ!$A$3:$BK$997,41,FALSE),\"\")","v":""},{"$f":"IFERROR(VLOOKUP($D325,料理データ!$A$3:$BK$997,44,FALSE),\"\")","v":""},{"$f":"IFERROR(VLOOKUP($D325,料理データ!$A$3:$BK$997,47,FALSE),\"\")","v":""},{"$f":"IFERROR(VLOOKUP($D325,料理データ!$A$3:$BK$997,50,FALSE),\"\")","v":""},{"$f":"IFERROR(VLOOKUP($D325,料理データ!$A$3:$BK$997,53,FALSE),\"\")","v":""},{"$f":"IFERROR(VLOOKUP($D325,料理データ!$A$3:$BK$997,56,FALSE),\"\")","v":""},{"$f":"IFERROR(VLOOKUP($D325,料理データ!$A$3:$BK$997,59,FALSE),\"\")","v":""},{"$f":"IFERROR(VLOOKUP($D325,料理データ!$A$3:$BK$997,62,FALSE),\"\")","v":""},"                   ","                   "]
[null,null,null,{"$f":"+'月間献立（乳児）'!N30","v":0},{"$f":"IFERROR(VLOOKUP($D326,料理データ!$A$3:$BK$997,3,FALSE),\"\")","v":""},{"$f":"IFERROR(VLOOKUP($D326,料理データ!$A$3:$BK$997,5,FALSE),\"\")","v":""},{"$f":"IFERROR(VLOOKUP($D326,料理データ!$A$3:$BK$997,8,FALSE),\"\")","v":""},{"$f":"IFERROR(VLOOKUP($D326,料理データ!$A$3:$BK$997,11,FALSE),\"\")","v":""},{"$f":"IFERROR(VLOOKUP($D326,料理データ!$A$3:$BK$997,14,FALSE),\"\")","v":""},{"$f":"IFERROR(VLOOKUP($D326,料理データ!$A$3:$BK$997,17,FALSE),\"\")","v":""},{"$f":"IFERROR(VLOOKUP($D326,料理データ!$A$3:$BK$997,20,FALSE),\"\")","v":""},{"$f":"IFERROR(VLOOKUP($D326,料理データ!$A$3:$BK$997,23,FALSE),\"\")","v":""},{"$f":"IFERROR(VLOOKUP($D326,料理データ!$A$3:$BK$997,26,FALSE),\"\")","v":""},{"$f":"IFERROR(VLOOKUP($D326,料理データ!$A$3:$BK$997,29,FALSE),\"\")","v":""},{"$f":"IFERROR(VLOOKUP($D326,料理データ!$A$3:$BK$997,32,FALSE),\"\")","v":""},{"$f":"IFERROR(VLOOKUP($D326,料理データ!$A$3:$BK$997,35,FALSE),\"\")","v":""},{"$f":"IFERROR(VLOOKUP($D326,料理データ!$A$3:$BK$997,38,FALSE),\"\")","v":""},{"$f":"IFERROR(VLOOKUP($D326,料理データ!$A$3:$BK$997,41,FALSE),\"\")","v":""},{"$f":"IFERROR(VLOOKUP($D326,料理データ!$A$3:$BK$997,44,FALSE),\"\")","v":""},{"$f":"IFERROR(VLOOKUP($D326,料理データ!$A$3:$BK$997,47,FALSE),\"\")","v":""},{"$f":"IFERROR(VLOOKUP($D326,料理データ!$A$3:$BK$997,50,FALSE),\"\")","v":""},{"$f":"IFERROR(VLOOKUP($D326,料理データ!$A$3:$BK$997,53,FALSE),\"\")","v":""},{"$f":"IFERROR(VLOOKUP($D326,料理データ!$A$3:$BK$997,56,FALSE),\"\")","v":""},{"$f":"IFERROR(VLOOKUP($D326,料理データ!$A$3:$BK$997,59,FALSE),\"\")","v":""},{"$f":"IFERROR(VLOOKUP($D326,料理データ!$A$3:$BK$997,62,FALSE),\"\")","v":""},"                   ",{"$f":"SUBSTITUTE(Z326,\"-\",\"\")","v":"                   "}]
[{"$f":"+'月間献立（幼児）'!A32","v":28},{"$f":"+'月間献立（幼児）'!B32","v":"(金)"},"午前おやつ",{"$f":"+'月間献立（乳児）'!C31","v":0},{"$f":"IFERROR(VLOOKUP($D327,料理データ!$A$3:$BK$997,3,FALSE),\"\")","v":""},{"$f":"IFERROR(VLOOKUP($D327,料理データ!$A$3:$BK$997,5,FALSE),\"\")","v":""},{"$f":"IFERROR(VLOOKUP($D327,料理データ!$A$3:$BK$997,8,FALSE),\"\")","v":""},{"$f":"IFERROR(VLOOKUP($D327,料理データ!$A$3:$BK$997,11,FALSE),\"\")","v":""},{"$f":"IFERROR(VLOOKUP($D327,料理データ!$A$3:$BK$997,14,FALSE),\"\")","v":""},{"$f":"IFERROR(VLOOKUP($D327,料理データ!$A$3:$BK$997,17,FALSE),\"\")","v":""},{"$f":"IFERROR(VLOOKUP($D327,料理データ!$A$3:$BK$997,20,FALSE),\"\")","v":""},{"$f":"IFERROR(VLOOKUP($D327,料理データ!$A$3:$BK$997,23,FALSE),\"\")","v":""},{"$f":"IFERROR(VLOOKUP($D327,料理データ!$A$3:$BK$997,26,FALSE),\"\")","v":""},{"$f":"IFERROR(VLOOKUP($D327,料理データ!$A$3:$BK$997,29,FALSE),\"\")","v":""},{"$f":"IFERROR(VLOOKUP($D327,料理データ!$A$3:$BK$997,32,FALSE),\"\")","v":""},{"$f":"IFERROR(VLOOKUP($D327,料理データ!$A$3:$BK$997,35,FALSE),\"\")","v":""},{"$f":"IFERROR(VLOOKUP($D327,料理データ!$A$3:$BK$997,38,FALSE),\"\")","v":""},{"$f":"IFERROR(VLOOKUP($D327,料理データ!$A$3:$BK$997,41,FALSE),\"\")","v":""},{"$f":"IFERROR(VLOOKUP($D327,料理データ!$A$3:$BK$997,44,FALSE),\"\")","v":""},{"$f":"IFERROR(VLOOKUP($D327,料理データ!$A$3:$BK$997,47,FALSE),\"\")","v":""},{"$f":"IFERROR(VLOOKUP($D327,料理データ!$A$3:$BK$997,50,FALSE),\"\")","v":""},{"$f":"IFERROR(VLOOKUP($D327,料理データ!$A$3:$BK$997,53,FALSE),\"\")","v":""},{"$f":"IFERROR(VLOOKUP($D327,料理データ!$A$3:$BK$997,56,FALSE),\"\")","v":""},{"$f":"IFERROR(VLOOKUP($D327,料理データ!$A$3:$BK$997,59,FALSE),\"\")","v":""},{"$f":"IFERROR(VLOOKUP($D327,料理データ!$A$3:$BK$997,62,FALSE),\"\")","v":""},"                   ",{"$f":"SUBSTITUTE(Z327,\"-\",\" \")","v":"                   "},{"$f":"TRIM(CONCATENATE(AA327,AA328,AA329,\"▲\",AA330,AA331,AA332,AA333,AA334,AA335,\"▲\",AA336,AA337,AA338))","v":"▲ ▲"}]
[null,null,null,{"$f":"+'月間献立（乳児）'!D31","v":0},{"$f":"IFERROR(VLOOKUP($D328,料理データ!$A$3:$BK$997,3,FALSE),\"\")","v":""},{"$f":"IFERROR(VLOOKUP($D328,料理データ!$A$3:$BK$997,5,FALSE),\"\")","v":""},{"$f":"IFERROR(VLOOKUP($D328,料理データ!$A$3:$BK$997,8,FALSE),\"\")","v":""},{"$f":"IFERROR(VLOOKUP($D328,料理データ!$A$3:$BK$997,11,FALSE),\"\")","v":""},{"$f":"IFERROR(VLOOKUP($D328,料理データ!$A$3:$BK$997,14,FALSE),\"\")","v":""},{"$f":"IFERROR(VLOOKUP($D328,料理データ!$A$3:$BK$997,17,FALSE),\"\")","v":""},{"$f":"IFERROR(VLOOKUP($D328,料理データ!$A$3:$BK$997,20,FALSE),\"\")","v":""},{"$f":"IFERROR(VLOOKUP($D328,料理データ!$A$3:$BK$997,23,FALSE),\"\")","v":""},{"$f":"IFERROR(VLOOKUP($D328,料理データ!$A$3:$BK$997,26,FALSE),\"\")","v":""},{"$f":"IFERROR(VLOOKUP($D328,料理データ!$A$3:$BK$997,29,FALSE),\"\")","v":""},{"$f":"IFERROR(VLOOKUP($D328,料理データ!$A$3:$BK$997,32,FALSE),\"\")","v":""},{"$f":"IFERROR(VLOOKUP($D328,料理データ!$A$3:$BK$997,35,FALSE),\"\")","v":""},{"$f":"IFERROR(VLOOKUP($D328,料理データ!$A$3:$BK$997,38,FALSE),\"\")","v":""},{"$f":"IFERROR(VLOOKUP($D328,料理データ!$A$3:$BK$997,41,FALSE),\"\")","v":""},{"$f":"IFERROR(VLOOKUP($D328,料理データ!$A$3:$BK$997,44,FALSE),\"\")","v":""},{"$f":"IFERROR(VLOOKUP($D328,料理データ!$A$3:$BK$997,47,FALSE),\"\")","v":""},{"$f":"IFERROR(VLOOKUP($D328,料理データ!$A$3:$BK$997,50,FALSE),\"\")","v":""},{"$f":"IFERROR(VLOOKUP($D328,料理データ!$A$3:$BK$997,53,FALSE),\"\")","v":""},{"$f":"IFERROR(VLOOKUP($D328,料理データ!$A$3:$BK$997,56,FALSE),\"\")","v":""},{"$f":"IFERROR(VLOOKUP($D328,料理データ!$A$3:$BK$997,59,FALSE),\"\")","v":""},{"$f":"IFERROR(VLOOKUP($D328,料理データ!$A$3:$BK$997,62,FALSE),\"\")","v":""},"                   ",{"$f":"SUBSTITUTE(Z328,\"-\",\" \")","v":"                   "}]
[null,null,null,{"$f":"+'月間献立（乳児）'!E31","v":0},{"$f":"IFERROR(VLOOKUP($D329,料理データ!$A$3:$BK$997,3,FALSE),\"\")","v":""},{"$f":"IFERROR(VLOOKUP($D329,料理データ!$A$3:$BK$997,5,FALSE),\"\")","v":""},{"$f":"IFERROR(VLOOKUP($D329,料理データ!$A$3:$BK$997,8,FALSE),\"\")","v":""},{"$f":"IFERROR(VLOOKUP($D329,料理データ!$A$3:$BK$997,11,FALSE),\"\")","v":""},{"$f":"IFERROR(VLOOKUP($D329,料理データ!$A$3:$BK$997,14,FALSE),\"\")","v":""},{"$f":"IFERROR(VLOOKUP($D329,料理データ!$A$3:$BK$997,17,FALSE),\"\")","v":""},{"$f":"IFERROR(VLOOKUP($D329,料理データ!$A$3:$BK$997,20,FALSE),\"\")","v":""},{"$f":"IFERROR(VLOOKUP($D329,料理データ!$A$3:$BK$997,23,FALSE),\"\")","v":""},{"$f":"IFERROR(VLOOKUP($D329,料理データ!$A$3:$BK$997,26,FALSE),\"\")","v":""},{"$f":"IFERROR(VLOOKUP($D329,料理データ!$A$3:$BK$997,29,FALSE),\"\")","v":""},{"$f":"IFERROR(VLOOKUP($D329,料理データ!$A$3:$BK$997,32,FALSE),\"\")","v":""},{"$f":"IFERROR(VLOOKUP($D329,料理データ!$A$3:$BK$997,35,FALSE),\"\")","v":""},{"$f":"IFERROR(VLOOKUP($D329,料理データ!$A$3:$BK$997,38,FALSE),\"\")","v":""},{"$f":"IFERROR(VLOOKUP($D329,料理データ!$A$3:$BK$997,41,FALSE),\"\")","v":""},{"$f":"IFERROR(VLOOKUP($D329,料理データ!$A$3:$BK$997,44,FALSE),\"\")","v":""},{"$f":"IFERROR(VLOOKUP($D329,料理データ!$A$3:$BK$997,47,FALSE),\"\")","v":""},{"$f":"IFERROR(VLOOKUP($D329,料理データ!$A$3:$BK$997,50,FALSE),\"\")","v":""},{"$f":"IFERROR(VLOOKUP($D329,料理データ!$A$3:$BK$997,53,FALSE),\"\")","v":""},{"$f":"IFERROR(VLOOKUP($D329,料理データ!$A$3:$BK$997,56,FALSE),\"\")","v":""},{"$f":"IFERROR(VLOOKUP($D329,料理データ!$A$3:$BK$997,59,FALSE),\"\")","v":""},{"$f":"IFERROR(VLOOKUP($D329,料理データ!$A$3:$BK$997,62,FALSE),\"\")","v":""},"                   ",{"$f":"SUBSTITUTE(Z329,\"-\",\" \")","v":"                   "}]
[null,null,"昼食",{"$f":"+'月間献立（乳児）'!F31","v":0},{"$f":"IFERROR(VLOOKUP($D330,料理データ!$A$3:$BK$997,3,FALSE),\"\")","v":""},{"$f":"IFERROR(VLOOKUP($D330,料理データ!$A$3:$BK$997,5,FALSE),\"\")","v":""},{"$f":"IFERROR(VLOOKUP($D330,料理データ!$A$3:$BK$997,8,FALSE),\"\")","v":""},{"$f":"IFERROR(VLOOKUP($D330,料理データ!$A$3:$BK$997,11,FALSE),\"\")","v":""},{"$f":"IFERROR(VLOOKUP($D330,料理データ!$A$3:$BK$997,14,FALSE),\"\")","v":""},{"$f":"IFERROR(VLOOKUP($D330,料理データ!$A$3:$BK$997,17,FALSE),\"\")","v":""},{"$f":"IFERROR(VLOOKUP($D330,料理データ!$A$3:$BK$997,20,FALSE),\"\")","v":""},{"$f":"IFERROR(VLOOKUP($D330,料理データ!$A$3:$BK$997,23,FALSE),\"\")","v":""},{"$f":"IFERROR(VLOOKUP($D330,料理データ!$A$3:$BK$997,26,FALSE),\"\")","v":""},{"$f":"IFERROR(VLOOKUP($D330,料理データ!$A$3:$BK$997,29,FALSE),\"\")","v":""},{"$f":"IFERROR(VLOOKUP($D330,料理データ!$A$3:$BK$997,32,FALSE),\"\")","v":""},{"$f":"IFERROR(VLOOKUP($D330,料理データ!$A$3:$BK$997,35,FALSE),\"\")","v":""},{"$f":"IFERROR(VLOOKUP($D330,料理データ!$A$3:$BK$997,38,FALSE),\"\")","v":""},{"$f":"IFERROR(VLOOKUP($D330,料理データ!$A$3:$BK$997,41,FALSE),\"\")","v":""},{"$f":"IFERROR(VLOOKUP($D330,料理データ!$A$3:$BK$997,44,FALSE),\"\")","v":""},{"$f":"IFERROR(VLOOKUP($D330,料理データ!$A$3:$BK$997,47,FALSE),\"\")","v":""},{"$f":"IFERROR(VLOOKUP($D330,料理データ!$A$3:$BK$997,50,FALSE),\"\")","v":""},{"$f":"IFERROR(VLOOKUP($D330,料理データ!$A$3:$BK$997,53,FALSE),\"\")","v":""},{"$f":"IFERROR(VLOOKUP($D330,料理データ!$A$3:$BK$997,56,FALSE),\"\")","v":""},{"$f":"IFERROR(VLOOKUP($D330,料理データ!$A$3:$BK$997,59,FALSE),\"\")","v":""},{"$f":"IFERROR(VLOOKUP($D330,料理データ!$A$3:$BK$997,62,FALSE),\"\")","v":""},{"$f":"CONCATENATE($F330,\" \",$G330,\" \",$H330,\" \",$I330,\" \",$J330,\" \",$K330,\" \",$L330,\" \",$M330,\" \",$N330,\" \",$O330,\" \",$P330,\" \",$Q330,\" \",$R330,\" \",$S330,\" \",$T330,\" \",$U330,\" \",$V330,\" \",$W330,\" \",$X330,\" \",$Y330)","v":"                   "},"                   "]
[null,null,null,{"$f":"+'月間献立（乳児）'!G31","v":0},{"$f":"IFERROR(VLOOKUP($D331,料理データ!$A$3:$BK$997,3,FALSE),\"\")","v":""},{"$f":"IFERROR(VLOOKUP($D331,料理データ!$A$3:$BK$997,5,FALSE),\"\")","v":""},{"$f":"IFERROR(VLOOKUP($D331,料理データ!$A$3:$BK$997,8,FALSE),\"\")","v":""},{"$f":"IFERROR(VLOOKUP($D331,料理データ!$A$3:$BK$997,11,FALSE),\"\")","v":""},{"$f":"IFERROR(VLOOKUP($D331,料理データ!$A$3:$BK$997,14,FALSE),\"\")","v":""},{"$f":"IFERROR(VLOOKUP($D331,料理データ!$A$3:$BK$997,17,FALSE),\"\")","v":""},{"$f":"IFERROR(VLOOKUP($D331,料理データ!$A$3:$BK$997,20,FALSE),\"\")","v":""},{"$f":"IFERROR(VLOOKUP($D331,料理データ!$A$3:$BK$997,23,FALSE),\"\")","v":""},{"$f":"IFERROR(VLOOKUP($D331,料理データ!$A$3:$BK$997,26,FALSE),\"\")","v":""},{"$f":"IFERROR(VLOOKUP($D331,料理データ!$A$3:$BK$997,29,FALSE),\"\")","v":""},{"$f":"IFERROR(VLOOKUP($D331,料理データ!$A$3:$BK$997,32,FALSE),\"\")","v":""},{"$f":"IFERROR(VLOOKUP($D331,料理データ!$A$3:$BK$997,35,FALSE),\"\")","v":""},{"$f":"IFERROR(VLOOKUP($D331,料理データ!$A$3:$BK$997,38,FALSE),\"\")","v":""},{"$f":"IFERROR(VLOOKUP($D331,料理データ!$A$3:$BK$997,41,FALSE),\"\")","v":""},{"$f":"IFERROR(VLOOKUP($D331,料理データ!$A$3:$BK$997,44,FALSE),\"\")","v":""},{"$f":"IFERROR(VLOOKUP($D331,料理データ!$A$3:$BK$997,47,FALSE),\"\")","v":""},{"$f":"IFERROR(VLOOKUP($D331,料理データ!$A$3:$BK$997,50,FALSE),\"\")","v":""},{"$f":"IFERROR(VLOOKUP($D331,料理データ!$A$3:$BK$997,53,FALSE),\"\")","v":""},{"$f":"IFERROR(VLOOKUP($D331,料理データ!$A$3:$BK$997,56,FALSE),\"\")","v":""},{"$f":"IFERROR(VLOOKUP($D331,料理データ!$A$3:$BK$997,59,FALSE),\"\")","v":""},{"$f":"IFERROR(VLOOKUP($D331,料理データ!$A$3:$BK$997,62,FALSE),\"\")","v":""},"                   ","                   "]
[null,null,null,{"$f":"+'月間献立（乳児）'!H31","v":0},{"$f":"IFERROR(VLOOKUP($D332,料理データ!$A$3:$BK$997,3,FALSE),\"\")","v":""},{"$f":"IFERROR(VLOOKUP($D332,料理データ!$A$3:$BK$997,5,FALSE),\"\")","v":""},{"$f":"IFERROR(VLOOKUP($D332,料理データ!$A$3:$BK$997,8,FALSE),\"\")","v":""},{"$f":"IFERROR(VLOOKUP($D332,料理データ!$A$3:$BK$997,11,FALSE),\"\")","v":""},{"$f":"IFERROR(VLOOKUP($D332,料理データ!$A$3:$BK$997,14,FALSE),\"\")","v":""},{"$f":"IFERROR(VLOOKUP($D332,料理データ!$A$3:$BK$997,17,FALSE),\"\")","v":""},{"$f":"IFERROR(VLOOKUP($D332,料理データ!$A$3:$BK$997,20,FALSE),\"\")","v":""},{"$f":"IFERROR(VLOOKUP($D332,料理データ!$A$3:$BK$997,23,FALSE),\"\")","v":""},{"$f":"IFERROR(VLOOKUP($D332,料理データ!$A$3:$BK$997,26,FALSE),\"\")","v":""},{"$f":"IFERROR(VLOOKUP($D332,料理データ!$A$3:$BK$997,29,FALSE),\"\")","v":""},{"$f":"IFERROR(VLOOKUP($D332,料理データ!$A$3:$BK$997,32,FALSE),\"\")","v":""},{"$f":"IFERROR(VLOOKUP($D332,料理データ!$A$3:$BK$997,35,FALSE),\"\")","v":""},{"$f":"IFERROR(VLOOKUP($D332,料理データ!$A$3:$BK$997,38,FALSE),\"\")","v":""},{"$f":"IFERROR(VLOOKUP($D332,料理データ!$A$3:$BK$997,41,FALSE),\"\")","v":""},{"$f":"IFERROR(VLOOKUP($D332,料理データ!$A$3:$BK$997,44,FALSE),\"\")","v":""},{"$f":"IFERROR(VLOOKUP($D332,料理データ!$A$3:$BK$997,47,FALSE),\"\")","v":""},{"$f":"IFERROR(VLOOKUP($D332,料理データ!$A$3:$BK$997,50,FALSE),\"\")","v":""},{"$f":"IFERROR(VLOOKUP($D332,料理データ!$A$3:$BK$997,53,FALSE),\"\")","v":""},{"$f":"IFERROR(VLOOKUP($D332,料理データ!$A$3:$BK$997,56,FALSE),\"\")","v":""},{"$f":"IFERROR(VLOOKUP($D332,料理データ!$A$3:$BK$997,59,FALSE),\"\")","v":""},{"$f":"IFERROR(VLOOKUP($D332,料理データ!$A$3:$BK$997,62,FALSE),\"\")","v":""},"                   ","                   "]
[null,null,null,{"$f":"+'月間献立（乳児）'!I31","v":0},{"$f":"IFERROR(VLOOKUP($D333,料理データ!$A$3:$BK$997,3,FALSE),\"\")","v":""},{"$f":"IFERROR(VLOOKUP($D333,料理データ!$A$3:$BK$997,5,FALSE),\"\")","v":""},{"$f":"IFERROR(VLOOKUP($D333,料理データ!$A$3:$BK$997,8,FALSE),\"\")","v":""},{"$f":"IFERROR(VLOOKUP($D333,料理データ!$A$3:$BK$997,11,FALSE),\"\")","v":""},{"$f":"IFERROR(VLOOKUP($D333,料理データ!$A$3:$BK$997,14,FALSE),\"\")","v":""},{"$f":"IFERROR(VLOOKUP($D333,料理データ!$A$3:$BK$997,17,FALSE),\"\")","v":""},{"$f":"IFERROR(VLOOKUP($D333,料理データ!$A$3:$BK$997,20,FALSE),\"\")","v":""},{"$f":"IFERROR(VLOOKUP($D333,料理データ!$A$3:$BK$997,23,FALSE),\"\")","v":""},{"$f":"IFERROR(VLOOKUP($D333,料理データ!$A$3:$BK$997,26,FALSE),\"\")","v":""},{"$f":"IFERROR(VLOOKUP($D333,料理データ!$A$3:$BK$997,29,FALSE),\"\")","v":""},{"$f":"IFERROR(VLOOKUP($D333,料理データ!$A$3:$BK$997,32,FALSE),\"\")","v":""},{"$f":"IFERROR(VLOOKUP($D333,料理データ!$A$3:$BK$997,35,FALSE),\"\")","v":""},{"$f":"IFERROR(VLOOKUP($D333,料理データ!$A$3:$BK$997,38,FALSE),\"\")","v":""},{"$f":"IFERROR(VLOOKUP($D333,料理データ!$A$3:$BK$997,41,FALSE),\"\")","v":""},{"$f":"IFERROR(VLOOKUP($D333,料理データ!$A$3:$BK$997,44,FALSE),\"\")","v":""},{"$f":"IFERROR(VLOOKUP($D333,料理データ!$A$3:$BK$997,47,FALSE),\"\")","v":""},{"$f":"IFERROR(VLOOKUP($D333,料理データ!$A$3:$BK$997,50,FALSE),\"\")","v":""},{"$f":"IFERROR(VLOOKUP($D333,料理データ!$A$3:$BK$997,53,FALSE),\"\")","v":""},{"$f":"IFERROR(VLOOKUP($D333,料理データ!$A$3:$BK$997,56,FALSE),\"\")","v":""},{"$f":"IFERROR(VLOOKUP($D333,料理データ!$A$3:$BK$997,59,FALSE),\"\")","v":""},{"$f":"IFERROR(VLOOKUP($D333,料理データ!$A$3:$BK$997,62,FALSE),\"\")","v":""},"                   ","                   "]
[null,null,null,{"$f":"+'月間献立（乳児）'!J31","v":0},{"$f":"IFERROR(VLOOKUP($D334,料理データ!$A$3:$BK$997,3,FALSE),\"\")","v":""},{"$f":"IFERROR(VLOOKUP($D334,料理データ!$A$3:$BK$997,5,FALSE),\"\")","v":""},{"$f":"IFERROR(VLOOKUP($D334,料理データ!$A$3:$BK$997,8,FALSE),\"\")","v":""},{"$f":"IFERROR(VLOOKUP($D334,料理データ!$A$3:$BK$997,11,FALSE),\"\")","v":""},{"$f":"IFERROR(VLOOKUP($D334,料理データ!$A$3:$BK$997,14,FALSE),\"\")","v":""},{"$f":"IFERROR(VLOOKUP($D334,料理データ!$A$3:$BK$997,17,FALSE),\"\")","v":""},{"$f":"IFERROR(VLOOKUP($D334,料理データ!$A$3:$BK$997,20,FALSE),\"\")","v":""},{"$f":"IFERROR(VLOOKUP($D334,料理データ!$A$3:$BK$997,23,FALSE),\"\")","v":""},{"$f":"IFERROR(VLOOKUP($D334,料理データ!$A$3:$BK$997,26,FALSE),\"\")","v":""},{"$f":"IFERROR(VLOOKUP($D334,料理データ!$A$3:$BK$997,29,FALSE),\"\")","v":""},{"$f":"IFERROR(VLOOKUP($D334,料理データ!$A$3:$BK$997,32,FALSE),\"\")","v":""},{"$f":"IFERROR(VLOOKUP($D334,料理データ!$A$3:$BK$997,35,FALSE),\"\")","v":""},{"$f":"IFERROR(VLOOKUP($D334,料理データ!$A$3:$BK$997,38,FALSE),\"\")","v":""},{"$f":"IFERROR(VLOOKUP($D334,料理データ!$A$3:$BK$997,41,FALSE),\"\")","v":""},{"$f":"IFERROR(VLOOKUP($D334,料理データ!$A$3:$BK$997,44,FALSE),\"\")","v":""},{"$f":"IFERROR(VLOOKUP($D334,料理データ!$A$3:$BK$997,47,FALSE),\"\")","v":""},{"$f":"IFERROR(VLOOKUP($D334,料理データ!$A$3:$BK$997,50,FALSE),\"\")","v":""},{"$f":"IFERROR(VLOOKUP($D334,料理データ!$A$3:$BK$997,53,FALSE),\"\")","v":""},{"$f":"IFERROR(VLOOKUP($D334,料理データ!$A$3:$BK$997,56,FALSE),\"\")","v":""},{"$f":"IFERROR(VLOOKUP($D334,料理データ!$A$3:$BK$997,59,FALSE),\"\")","v":""},{"$f":"IFERROR(VLOOKUP($D334,料理データ!$A$3:$BK$997,62,FALSE),\"\")","v":""},"                   ","                   "]
[null,null,null,{"$f":"+'月間献立（乳児）'!K31","v":0},{"$f":"IFERROR(VLOOKUP($D335,料理データ!$A$3:$BK$997,3,FALSE),\"\")","v":""},{"$f":"IFERROR(VLOOKUP($D335,料理データ!$A$3:$BK$997,5,FALSE),\"\")","v":""},{"$f":"IFERROR(VLOOKUP($D335,料理データ!$A$3:$BK$997,8,FALSE),\"\")","v":""},{"$f":"IFERROR(VLOOKUP($D335,料理データ!$A$3:$BK$997,11,FALSE),\"\")","v":""},{"$f":"IFERROR(VLOOKUP($D335,料理データ!$A$3:$BK$997,14,FALSE),\"\")","v":""},{"$f":"IFERROR(VLOOKUP($D335,料理データ!$A$3:$BK$997,17,FALSE),\"\")","v":""},{"$f":"IFERROR(VLOOKUP($D335,料理データ!$A$3:$BK$997,20,FALSE),\"\")","v":""},{"$f":"IFERROR(VLOOKUP($D335,料理データ!$A$3:$BK$997,23,FALSE),\"\")","v":""},{"$f":"IFERROR(VLOOKUP($D335,料理データ!$A$3:$BK$997,26,FALSE),\"\")","v":""},{"$f":"IFERROR(VLOOKUP($D335,料理データ!$A$3:$BK$997,29,FALSE),\"\")","v":""},{"$f":"IFERROR(VLOOKUP($D335,料理データ!$A$3:$BK$997,32,FALSE),\"\")","v":""},{"$f":"IFERROR(VLOOKUP($D335,料理データ!$A$3:$BK$997,35,FALSE),\"\")","v":""},{"$f":"IFERROR(VLOOKUP($D335,料理データ!$A$3:$BK$997,38,FALSE),\"\")","v":""},{"$f":"IFERROR(VLOOKUP($D335,料理データ!$A$3:$BK$997,41,FALSE),\"\")","v":""},{"$f":"IFERROR(VLOOKUP($D335,料理データ!$A$3:$BK$997,44,FALSE),\"\")","v":""},{"$f":"IFERROR(VLOOKUP($D335,料理データ!$A$3:$BK$997,47,FALSE),\"\")","v":""},{"$f":"IFERROR(VLOOKUP($D335,料理データ!$A$3:$BK$997,50,FALSE),\"\")","v":""},{"$f":"IFERROR(VLOOKUP($D335,料理データ!$A$3:$BK$997,53,FALSE),\"\")","v":""},{"$f":"IFERROR(VLOOKUP($D335,料理データ!$A$3:$BK$997,56,FALSE),\"\")","v":""},{"$f":"IFERROR(VLOOKUP($D335,料理データ!$A$3:$BK$997,59,FALSE),\"\")","v":""},{"$f":"IFERROR(VLOOKUP($D335,料理データ!$A$3:$BK$997,62,FALSE),\"\")","v":""},"                   ","                   "]
[null,null,"午後おやつ",{"$f":"+'月間献立（乳児）'!L31","v":0},{"$f":"IFERROR(VLOOKUP($D336,料理データ!$A$3:$BK$997,3,FALSE),\"\")","v":""},{"$f":"IFERROR(VLOOKUP($D336,料理データ!$A$3:$BK$997,5,FALSE),\"\")","v":""},{"$f":"IFERROR(VLOOKUP($D336,料理データ!$A$3:$BK$997,8,FALSE),\"\")","v":""},{"$f":"IFERROR(VLOOKUP($D336,料理データ!$A$3:$BK$997,11,FALSE),\"\")","v":""},{"$f":"IFERROR(VLOOKUP($D336,料理データ!$A$3:$BK$997,14,FALSE),\"\")","v":""},{"$f":"IFERROR(VLOOKUP($D336,料理データ!$A$3:$BK$997,17,FALSE),\"\")","v":""},{"$f":"IFERROR(VLOOKUP($D336,料理データ!$A$3:$BK$997,20,FALSE),\"\")","v":""},{"$f":"IFERROR(VLOOKUP($D336,料理データ!$A$3:$BK$997,23,FALSE),\"\")","v":""},{"$f":"IFERROR(VLOOKUP($D336,料理データ!$A$3:$BK$997,26,FALSE),\"\")","v":""},{"$f":"IFERROR(VLOOKUP($D336,料理データ!$A$3:$BK$997,29,FALSE),\"\")","v":""},{"$f":"IFERROR(VLOOKUP($D336,料理データ!$A$3:$BK$997,32,FALSE),\"\")","v":""},{"$f":"IFERROR(VLOOKUP($D336,料理データ!$A$3:$BK$997,35,FALSE),\"\")","v":""},{"$f":"IFERROR(VLOOKUP($D336,料理データ!$A$3:$BK$997,38,FALSE),\"\")","v":""},{"$f":"IFERROR(VLOOKUP($D336,料理データ!$A$3:$BK$997,41,FALSE),\"\")","v":""},{"$f":"IFERROR(VLOOKUP($D336,料理データ!$A$3:$BK$997,44,FALSE),\"\")","v":""},{"$f":"IFERROR(VLOOKUP($D336,料理データ!$A$3:$BK$997,47,FALSE),\"\")","v":""},{"$f":"IFERROR(VLOOKUP($D336,料理データ!$A$3:$BK$997,50,FALSE),\"\")","v":""},{"$f":"IFERROR(VLOOKUP($D336,料理データ!$A$3:$BK$997,53,FALSE),\"\")","v":""},{"$f":"IFERROR(VLOOKUP($D336,料理データ!$A$3:$BK$997,56,FALSE),\"\")","v":""},{"$f":"IFERROR(VLOOKUP($D336,料理データ!$A$3:$BK$997,59,FALSE),\"\")","v":""},{"$f":"IFERROR(VLOOKUP($D336,料理データ!$A$3:$BK$997,62,FALSE),\"\")","v":""},"                   ","                   "]
[null,null,null,{"$f":"+'月間献立（乳児）'!M31","v":0},{"$f":"IFERROR(VLOOKUP($D337,料理データ!$A$3:$BK$997,3,FALSE),\"\")","v":""},{"$f":"IFERROR(VLOOKUP($D337,料理データ!$A$3:$BK$997,5,FALSE),\"\")","v":""},{"$f":"IFERROR(VLOOKUP($D337,料理データ!$A$3:$BK$997,8,FALSE),\"\")","v":""},{"$f":"IFERROR(VLOOKUP($D337,料理データ!$A$3:$BK$997,11,FALSE),\"\")","v":""},{"$f":"IFERROR(VLOOKUP($D337,料理データ!$A$3:$BK$997,14,FALSE),\"\")","v":""},{"$f":"IFERROR(VLOOKUP($D337,料理データ!$A$3:$BK$997,17,FALSE),\"\")","v":""},{"$f":"IFERROR(VLOOKUP($D337,料理データ!$A$3:$BK$997,20,FALSE),\"\")","v":""},{"$f":"IFERROR(VLOOKUP($D337,料理データ!$A$3:$BK$997,23,FALSE),\"\")","v":""},{"$f":"IFERROR(VLOOKUP($D337,料理データ!$A$3:$BK$997,26,FALSE),\"\")","v":""},{"$f":"IFERROR(VLOOKUP($D337,料理データ!$A$3:$BK$997,29,FALSE),\"\")","v":""},{"$f":"IFERROR(VLOOKUP($D337,料理データ!$A$3:$BK$997,32,FALSE),\"\")","v":""},{"$f":"IFERROR(VLOOKUP($D337,料理データ!$A$3:$BK$997,35,FALSE),\"\")","v":""},{"$f":"IFERROR(VLOOKUP($D337,料理データ!$A$3:$BK$997,38,FALSE),\"\")","v":""},{"$f":"IFERROR(VLOOKUP($D337,料理データ!$A$3:$BK$997,41,FALSE),\"\")","v":""},{"$f":"IFERROR(VLOOKUP($D337,料理データ!$A$3:$BK$997,44,FALSE),\"\")","v":""},{"$f":"IFERROR(VLOOKUP($D337,料理データ!$A$3:$BK$997,47,FALSE),\"\")","v":""},{"$f":"IFERROR(VLOOKUP($D337,料理データ!$A$3:$BK$997,50,FALSE),\"\")","v":""},{"$f":"IFERROR(VLOOKUP($D337,料理データ!$A$3:$BK$997,53,FALSE),\"\")","v":""},{"$f":"IFERROR(VLOOKUP($D337,料理データ!$A$3:$BK$997,56,FALSE),\"\")","v":""},{"$f":"IFERROR(VLOOKUP($D337,料理データ!$A$3:$BK$997,59,FALSE),\"\")","v":""},{"$f":"IFERROR(VLOOKUP($D337,料理データ!$A$3:$BK$997,62,FALSE),\"\")","v":""},"                   ","                   "]
[null,null,null,{"$f":"+'月間献立（乳児）'!N31","v":0},{"$f":"IFERROR(VLOOKUP($D338,料理データ!$A$3:$BK$997,3,FALSE),\"\")","v":""},{"$f":"IFERROR(VLOOKUP($D338,料理データ!$A$3:$BK$997,5,FALSE),\"\")","v":""},{"$f":"IFERROR(VLOOKUP($D338,料理データ!$A$3:$BK$997,8,FALSE),\"\")","v":""},{"$f":"IFERROR(VLOOKUP($D338,料理データ!$A$3:$BK$997,11,FALSE),\"\")","v":""},{"$f":"IFERROR(VLOOKUP($D338,料理データ!$A$3:$BK$997,14,FALSE),\"\")","v":""},{"$f":"IFERROR(VLOOKUP($D338,料理データ!$A$3:$BK$997,17,FALSE),\"\")","v":""},{"$f":"IFERROR(VLOOKUP($D338,料理データ!$A$3:$BK$997,20,FALSE),\"\")","v":""},{"$f":"IFERROR(VLOOKUP($D338,料理データ!$A$3:$BK$997,23,FALSE),\"\")","v":""},{"$f":"IFERROR(VLOOKUP($D338,料理データ!$A$3:$BK$997,26,FALSE),\"\")","v":""},{"$f":"IFERROR(VLOOKUP($D338,料理データ!$A$3:$BK$997,29,FALSE),\"\")","v":""},{"$f":"IFERROR(VLOOKUP($D338,料理データ!$A$3:$BK$997,32,FALSE),\"\")","v":""},{"$f":"IFERROR(VLOOKUP($D338,料理データ!$A$3:$BK$997,35,FALSE),\"\")","v":""},{"$f":"IFERROR(VLOOKUP($D338,料理データ!$A$3:$BK$997,38,FALSE),\"\")","v":""},{"$f":"IFERROR(VLOOKUP($D338,料理データ!$A$3:$BK$997,41,FALSE),\"\")","v":""},{"$f":"IFERROR(VLOOKUP($D338,料理データ!$A$3:$BK$997,44,FALSE),\"\")","v":""},{"$f":"IFERROR(VLOOKUP($D338,料理データ!$A$3:$BK$997,47,FALSE),\"\")","v":""},{"$f":"IFERROR(VLOOKUP($D338,料理データ!$A$3:$BK$997,50,FALSE),\"\")","v":""},{"$f":"IFERROR(VLOOKUP($D338,料理データ!$A$3:$BK$997,53,FALSE),\"\")","v":""},{"$f":"IFERROR(VLOOKUP($D338,料理データ!$A$3:$BK$997,56,FALSE),\"\")","v":""},{"$f":"IFERROR(VLOOKUP($D338,料理データ!$A$3:$BK$997,59,FALSE),\"\")","v":""},{"$f":"IFERROR(VLOOKUP($D338,料理データ!$A$3:$BK$997,62,FALSE),\"\")","v":""},"                   ",{"$f":"SUBSTITUTE(Z338,\"-\",\"\")","v":"                   "}]
[{"$f":"+'月間献立（幼児）'!A33","v":29},{"$f":"+'月間献立（幼児）'!B33","v":"(土)"},"午前おやつ",{"$f":"+'月間献立（乳児）'!C32","v":0},{"$f":"IFERROR(VLOOKUP($D339,料理データ!$A$3:$BK$997,3,FALSE),\"\")","v":""},{"$f":"IFERROR(VLOOKUP($D339,料理データ!$A$3:$BK$997,5,FALSE),\"\")","v":""},{"$f":"IFERROR(VLOOKUP($D339,料理データ!$A$3:$BK$997,8,FALSE),\"\")","v":""},{"$f":"IFERROR(VLOOKUP($D339,料理データ!$A$3:$BK$997,11,FALSE),\"\")","v":""},{"$f":"IFERROR(VLOOKUP($D339,料理データ!$A$3:$BK$997,14,FALSE),\"\")","v":""},{"$f":"IFERROR(VLOOKUP($D339,料理データ!$A$3:$BK$997,17,FALSE),\"\")","v":""},{"$f":"IFERROR(VLOOKUP($D339,料理データ!$A$3:$BK$997,20,FALSE),\"\")","v":""},{"$f":"IFERROR(VLOOKUP($D339,料理データ!$A$3:$BK$997,23,FALSE),\"\")","v":""},{"$f":"IFERROR(VLOOKUP($D339,料理データ!$A$3:$BK$997,26,FALSE),\"\")","v":""},{"$f":"IFERROR(VLOOKUP($D339,料理データ!$A$3:$BK$997,29,FALSE),\"\")","v":""},{"$f":"IFERROR(VLOOKUP($D339,料理データ!$A$3:$BK$997,32,FALSE),\"\")","v":""},{"$f":"IFERROR(VLOOKUP($D339,料理データ!$A$3:$BK$997,35,FALSE),\"\")","v":""},{"$f":"IFERROR(VLOOKUP($D339,料理データ!$A$3:$BK$997,38,FALSE),\"\")","v":""},{"$f":"IFERROR(VLOOKUP($D339,料理データ!$A$3:$BK$997,41,FALSE),\"\")","v":""},{"$f":"IFERROR(VLOOKUP($D339,料理データ!$A$3:$BK$997,44,FALSE),\"\")","v":""},{"$f":"IFERROR(VLOOKUP($D339,料理データ!$A$3:$BK$997,47,FALSE),\"\")","v":""},{"$f":"IFERROR(VLOOKUP($D339,料理データ!$A$3:$BK$997,50,FALSE),\"\")","v":""},{"$f":"IFERROR(VLOOKUP($D339,料理データ!$A$3:$BK$997,53,FALSE),\"\")","v":""},{"$f":"IFERROR(VLOOKUP($D339,料理データ!$A$3:$BK$997,56,FALSE),\"\")","v":""},{"$f":"IFERROR(VLOOKUP($D339,料理データ!$A$3:$BK$997,59,FALSE),\"\")","v":""},{"$f":"IFERROR(VLOOKUP($D339,料理データ!$A$3:$BK$997,62,FALSE),\"\")","v":""},"                   ",{"$f":"SUBSTITUTE(Z339,\"-\",\" \")","v":"                   "},{"$f":"TRIM(CONCATENATE(AA339,AA340,AA341,\"▲\",AA342,AA343,AA344,AA345,AA346,AA347,\"▲\",AA348,AA349,AA350))","v":"▲ ▲"}]
[null,null,null,{"$f":"+'月間献立（乳児）'!D32","v":0},{"$f":"IFERROR(VLOOKUP($D340,料理データ!$A$3:$BK$997,3,FALSE),\"\")","v":""},{"$f":"IFERROR(VLOOKUP($D340,料理データ!$A$3:$BK$997,5,FALSE),\"\")","v":""},{"$f":"IFERROR(VLOOKUP($D340,料理データ!$A$3:$BK$997,8,FALSE),\"\")","v":""},{"$f":"IFERROR(VLOOKUP($D340,料理データ!$A$3:$BK$997,11,FALSE),\"\")","v":""},{"$f":"IFERROR(VLOOKUP($D340,料理データ!$A$3:$BK$997,14,FALSE),\"\")","v":""},{"$f":"IFERROR(VLOOKUP($D340,料理データ!$A$3:$BK$997,17,FALSE),\"\")","v":""},{"$f":"IFERROR(VLOOKUP($D340,料理データ!$A$3:$BK$997,20,FALSE),\"\")","v":""},{"$f":"IFERROR(VLOOKUP($D340,料理データ!$A$3:$BK$997,23,FALSE),\"\")","v":""},{"$f":"IFERROR(VLOOKUP($D340,料理データ!$A$3:$BK$997,26,FALSE),\"\")","v":""},{"$f":"IFERROR(VLOOKUP($D340,料理データ!$A$3:$BK$997,29,FALSE),\"\")","v":""},{"$f":"IFERROR(VLOOKUP($D340,料理データ!$A$3:$BK$997,32,FALSE),\"\")","v":""},{"$f":"IFERROR(VLOOKUP($D340,料理データ!$A$3:$BK$997,35,FALSE),\"\")","v":""},{"$f":"IFERROR(VLOOKUP($D340,料理データ!$A$3:$BK$997,38,FALSE),\"\")","v":""},{"$f":"IFERROR(VLOOKUP($D340,料理データ!$A$3:$BK$997,41,FALSE),\"\")","v":""},{"$f":"IFERROR(VLOOKUP($D340,料理データ!$A$3:$BK$997,44,FALSE),\"\")","v":""},{"$f":"IFERROR(VLOOKUP($D340,料理データ!$A$3:$BK$997,47,FALSE),\"\")","v":""},{"$f":"IFERROR(VLOOKUP($D340,料理データ!$A$3:$BK$997,50,FALSE),\"\")","v":""},{"$f":"IFERROR(VLOOKUP($D340,料理データ!$A$3:$BK$997,53,FALSE),\"\")","v":""},{"$f":"IFERROR(VLOOKUP($D340,料理データ!$A$3:$BK$997,56,FALSE),\"\")","v":""},{"$f":"IFERROR(VLOOKUP($D340,料理データ!$A$3:$BK$997,59,FALSE),\"\")","v":""},{"$f":"IFERROR(VLOOKUP($D340,料理データ!$A$3:$BK$997,62,FALSE),\"\")","v":""},"                   ",{"$f":"SUBSTITUTE(Z340,\"-\",\" \")","v":"                   "}]
[null,null,null,{"$f":"+'月間献立（乳児）'!E32","v":0},{"$f":"IFERROR(VLOOKUP($D341,料理データ!$A$3:$BK$997,3,FALSE),\"\")","v":""},{"$f":"IFERROR(VLOOKUP($D341,料理データ!$A$3:$BK$997,5,FALSE),\"\")","v":""},{"$f":"IFERROR(VLOOKUP($D341,料理データ!$A$3:$BK$997,8,FALSE),\"\")","v":""},{"$f":"IFERROR(VLOOKUP($D341,料理データ!$A$3:$BK$997,11,FALSE),\"\")","v":""},{"$f":"IFERROR(VLOOKUP($D341,料理データ!$A$3:$BK$997,14,FALSE),\"\")","v":""},{"$f":"IFERROR(VLOOKUP($D341,料理データ!$A$3:$BK$997,17,FALSE),\"\")","v":""},{"$f":"IFERROR(VLOOKUP($D341,料理データ!$A$3:$BK$997,20,FALSE),\"\")","v":""},{"$f":"IFERROR(VLOOKUP($D341,料理データ!$A$3:$BK$997,23,FALSE),\"\")","v":""},{"$f":"IFERROR(VLOOKUP($D341,料理データ!$A$3:$BK$997,26,FALSE),\"\")","v":""},{"$f":"IFERROR(VLOOKUP($D341,料理データ!$A$3:$BK$997,29,FALSE),\"\")","v":""},{"$f":"IFERROR(VLOOKUP($D341,料理データ!$A$3:$BK$997,32,FALSE),\"\")","v":""},{"$f":"IFERROR(VLOOKUP($D341,料理データ!$A$3:$BK$997,35,FALSE),\"\")","v":""},{"$f":"IFERROR(VLOOKUP($D341,料理データ!$A$3:$BK$997,38,FALSE),\"\")","v":""},{"$f":"IFERROR(VLOOKUP($D341,料理データ!$A$3:$BK$997,41,FALSE),\"\")","v":""},{"$f":"IFERROR(VLOOKUP($D341,料理データ!$A$3:$BK$997,44,FALSE),\"\")","v":""},{"$f":"IFERROR(VLOOKUP($D341,料理データ!$A$3:$BK$997,47,FALSE),\"\")","v":""},{"$f":"IFERROR(VLOOKUP($D341,料理データ!$A$3:$BK$997,50,FALSE),\"\")","v":""},{"$f":"IFERROR(VLOOKUP($D341,料理データ!$A$3:$BK$997,53,FALSE),\"\")","v":""},{"$f":"IFERROR(VLOOKUP($D341,料理データ!$A$3:$BK$997,56,FALSE),\"\")","v":""},{"$f":"IFERROR(VLOOKUP($D341,料理データ!$A$3:$BK$997,59,FALSE),\"\")","v":""},{"$f":"IFERROR(VLOOKUP($D341,料理データ!$A$3:$BK$997,62,FALSE),\"\")","v":""},"                   ",{"$f":"SUBSTITUTE(Z341,\"-\",\" \")","v":"                   "}]
[null,null,"昼食",{"$f":"+'月間献立（乳児）'!F32","v":0},{"$f":"IFERROR(VLOOKUP($D342,料理データ!$A$3:$BK$997,3,FALSE),\"\")","v":""},{"$f":"IFERROR(VLOOKUP($D342,料理データ!$A$3:$BK$997,5,FALSE),\"\")","v":""},{"$f":"IFERROR(VLOOKUP($D342,料理データ!$A$3:$BK$997,8,FALSE),\"\")","v":""},{"$f":"IFERROR(VLOOKUP($D342,料理データ!$A$3:$BK$997,11,FALSE),\"\")","v":""},{"$f":"IFERROR(VLOOKUP($D342,料理データ!$A$3:$BK$997,14,FALSE),\"\")","v":""},{"$f":"IFERROR(VLOOKUP($D342,料理データ!$A$3:$BK$997,17,FALSE),\"\")","v":""},{"$f":"IFERROR(VLOOKUP($D342,料理データ!$A$3:$BK$997,20,FALSE),\"\")","v":""},{"$f":"IFERROR(VLOOKUP($D342,料理データ!$A$3:$BK$997,23,FALSE),\"\")","v":""},{"$f":"IFERROR(VLOOKUP($D342,料理データ!$A$3:$BK$997,26,FALSE),\"\")","v":""},{"$f":"IFERROR(VLOOKUP($D342,料理データ!$A$3:$BK$997,29,FALSE),\"\")","v":""},{"$f":"IFERROR(VLOOKUP($D342,料理データ!$A$3:$BK$997,32,FALSE),\"\")","v":""},{"$f":"IFERROR(VLOOKUP($D342,料理データ!$A$3:$BK$997,35,FALSE),\"\")","v":""},{"$f":"IFERROR(VLOOKUP($D342,料理データ!$A$3:$BK$997,38,FALSE),\"\")","v":""},{"$f":"IFERROR(VLOOKUP($D342,料理データ!$A$3:$BK$997,41,FALSE),\"\")","v":""},{"$f":"IFERROR(VLOOKUP($D342,料理データ!$A$3:$BK$997,44,FALSE),\"\")","v":""},{"$f":"IFERROR(VLOOKUP($D342,料理データ!$A$3:$BK$997,47,FALSE),\"\")","v":""},{"$f":"IFERROR(VLOOKUP($D342,料理データ!$A$3:$BK$997,50,FALSE),\"\")","v":""},{"$f":"IFERROR(VLOOKUP($D342,料理データ!$A$3:$BK$997,53,FALSE),\"\")","v":""},{"$f":"IFERROR(VLOOKUP($D342,料理データ!$A$3:$BK$997,56,FALSE),\"\")","v":""},{"$f":"IFERROR(VLOOKUP($D342,料理データ!$A$3:$BK$997,59,FALSE),\"\")","v":""},{"$f":"IFERROR(VLOOKUP($D342,料理データ!$A$3:$BK$997,62,FALSE),\"\")","v":""},"                   ","                   "]
[null,null,null,{"$f":"+'月間献立（乳児）'!G32","v":0},{"$f":"IFERROR(VLOOKUP($D343,料理データ!$A$3:$BK$997,3,FALSE),\"\")","v":""},{"$f":"IFERROR(VLOOKUP($D343,料理データ!$A$3:$BK$997,5,FALSE),\"\")","v":""},{"$f":"IFERROR(VLOOKUP($D343,料理データ!$A$3:$BK$997,8,FALSE),\"\")","v":""},{"$f":"IFERROR(VLOOKUP($D343,料理データ!$A$3:$BK$997,11,FALSE),\"\")","v":""},{"$f":"IFERROR(VLOOKUP($D343,料理データ!$A$3:$BK$997,14,FALSE),\"\")","v":""},{"$f":"IFERROR(VLOOKUP($D343,料理データ!$A$3:$BK$997,17,FALSE),\"\")","v":""},{"$f":"IFERROR(VLOOKUP($D343,料理データ!$A$3:$BK$997,20,FALSE),\"\")","v":""},{"$f":"IFERROR(VLOOKUP($D343,料理データ!$A$3:$BK$997,23,FALSE),\"\")","v":""},{"$f":"IFERROR(VLOOKUP($D343,料理データ!$A$3:$BK$997,26,FALSE),\"\")","v":""},{"$f":"IFERROR(VLOOKUP($D343,料理データ!$A$3:$BK$997,29,FALSE),\"\")","v":""},{"$f":"IFERROR(VLOOKUP($D343,料理データ!$A$3:$BK$997,32,FALSE),\"\")","v":""},{"$f":"IFERROR(VLOOKUP($D343,料理データ!$A$3:$BK$997,35,FALSE),\"\")","v":""},{"$f":"IFERROR(VLOOKUP($D343,料理データ!$A$3:$BK$997,38,FALSE),\"\")","v":""},{"$f":"IFERROR(VLOOKUP($D343,料理データ!$A$3:$BK$997,41,FALSE),\"\")","v":""},{"$f":"IFERROR(VLOOKUP($D343,料理データ!$A$3:$BK$997,44,FALSE),\"\")","v":""},{"$f":"IFERROR(VLOOKUP($D343,料理データ!$A$3:$BK$997,47,FALSE),\"\")","v":""},{"$f":"IFERROR(VLOOKUP($D343,料理データ!$A$3:$BK$997,50,FALSE),\"\")","v":""},{"$f":"IFERROR(VLOOKUP($D343,料理データ!$A$3:$BK$997,53,FALSE),\"\")","v":""},{"$f":"IFERROR(VLOOKUP($D343,料理データ!$A$3:$BK$997,56,FALSE),\"\")","v":""},{"$f":"IFERROR(VLOOKUP($D343,料理データ!$A$3:$BK$997,59,FALSE),\"\")","v":""},{"$f":"IFERROR(VLOOKUP($D343,料理データ!$A$3:$BK$997,62,FALSE),\"\")","v":""},"                   ","                   "]
[null,null,null,{"$f":"+'月間献立（乳児）'!H32","v":0},{"$f":"IFERROR(VLOOKUP($D344,料理データ!$A$3:$BK$997,3,FALSE),\"\")","v":""},{"$f":"IFERROR(VLOOKUP($D344,料理データ!$A$3:$BK$997,5,FALSE),\"\")","v":""},{"$f":"IFERROR(VLOOKUP($D344,料理データ!$A$3:$BK$997,8,FALSE),\"\")","v":""},{"$f":"IFERROR(VLOOKUP($D344,料理データ!$A$3:$BK$997,11,FALSE),\"\")","v":""},{"$f":"IFERROR(VLOOKUP($D344,料理データ!$A$3:$BK$997,14,FALSE),\"\")","v":""},{"$f":"IFERROR(VLOOKUP($D344,料理データ!$A$3:$BK$997,17,FALSE),\"\")","v":""},{"$f":"IFERROR(VLOOKUP($D344,料理データ!$A$3:$BK$997,20,FALSE),\"\")","v":""},{"$f":"IFERROR(VLOOKUP($D344,料理データ!$A$3:$BK$997,23,FALSE),\"\")","v":""},{"$f":"IFERROR(VLOOKUP($D344,料理データ!$A$3:$BK$997,26,FALSE),\"\")","v":""},{"$f":"IFERROR(VLOOKUP($D344,料理データ!$A$3:$BK$997,29,FALSE),\"\")","v":""},{"$f":"IFERROR(VLOOKUP($D344,料理データ!$A$3:$BK$997,32,FALSE),\"\")","v":""},{"$f":"IFERROR(VLOOKUP($D344,料理データ!$A$3:$BK$997,35,FALSE),\"\")","v":""},{"$f":"IFERROR(VLOOKUP($D344,料理データ!$A$3:$BK$997,38,FALSE),\"\")","v":""},{"$f":"IFERROR(VLOOKUP($D344,料理データ!$A$3:$BK$997,41,FALSE),\"\")","v":""},{"$f":"IFERROR(VLOOKUP($D344,料理データ!$A$3:$BK$997,44,FALSE),\"\")","v":""},{"$f":"IFERROR(VLOOKUP($D344,料理データ!$A$3:$BK$997,47,FALSE),\"\")","v":""},{"$f":"IFERROR(VLOOKUP($D344,料理データ!$A$3:$BK$997,50,FALSE),\"\")","v":""},{"$f":"IFERROR(VLOOKUP($D344,料理データ!$A$3:$BK$997,53,FALSE),\"\")","v":""},{"$f":"IFERROR(VLOOKUP($D344,料理データ!$A$3:$BK$997,56,FALSE),\"\")","v":""},{"$f":"IFERROR(VLOOKUP($D344,料理データ!$A$3:$BK$997,59,FALSE),\"\")","v":""},{"$f":"IFERROR(VLOOKUP($D344,料理データ!$A$3:$BK$997,62,FALSE),\"\")","v":""},"                   ","                   "]
[null,null,null,{"$f":"+'月間献立（乳児）'!I32","v":0},{"$f":"IFERROR(VLOOKUP($D345,料理データ!$A$3:$BK$997,3,FALSE),\"\")","v":""},{"$f":"IFERROR(VLOOKUP($D345,料理データ!$A$3:$BK$997,5,FALSE),\"\")","v":""},{"$f":"IFERROR(VLOOKUP($D345,料理データ!$A$3:$BK$997,8,FALSE),\"\")","v":""},{"$f":"IFERROR(VLOOKUP($D345,料理データ!$A$3:$BK$997,11,FALSE),\"\")","v":""},{"$f":"IFERROR(VLOOKUP($D345,料理データ!$A$3:$BK$997,14,FALSE),\"\")","v":""},{"$f":"IFERROR(VLOOKUP($D345,料理データ!$A$3:$BK$997,17,FALSE),\"\")","v":""},{"$f":"IFERROR(VLOOKUP($D345,料理データ!$A$3:$BK$997,20,FALSE),\"\")","v":""},{"$f":"IFERROR(VLOOKUP($D345,料理データ!$A$3:$BK$997,23,FALSE),\"\")","v":""},{"$f":"IFERROR(VLOOKUP($D345,料理データ!$A$3:$BK$997,26,FALSE),\"\")","v":""},{"$f":"IFERROR(VLOOKUP($D345,料理データ!$A$3:$BK$997,29,FALSE),\"\")","v":""},{"$f":"IFERROR(VLOOKUP($D345,料理データ!$A$3:$BK$997,32,FALSE),\"\")","v":""},{"$f":"IFERROR(VLOOKUP($D345,料理データ!$A$3:$BK$997,35,FALSE),\"\")","v":""},{"$f":"IFERROR(VLOOKUP($D345,料理データ!$A$3:$BK$997,38,FALSE),\"\")","v":""},{"$f":"IFERROR(VLOOKUP($D345,料理データ!$A$3:$BK$997,41,FALSE),\"\")","v":""},{"$f":"IFERROR(VLOOKUP($D345,料理データ!$A$3:$BK$997,44,FALSE),\"\")","v":""},{"$f":"IFERROR(VLOOKUP($D345,料理データ!$A$3:$BK$997,47,FALSE),\"\")","v":""},{"$f":"IFERROR(VLOOKUP($D345,料理データ!$A$3:$BK$997,50,FALSE),\"\")","v":""},{"$f":"IFERROR(VLOOKUP($D345,料理データ!$A$3:$BK$997,53,FALSE),\"\")","v":""},{"$f":"IFERROR(VLOOKUP($D345,料理データ!$A$3:$BK$997,56,FALSE),\"\")","v":""},{"$f":"IFERROR(VLOOKUP($D345,料理データ!$A$3:$BK$997,59,FALSE),\"\")","v":""},{"$f":"IFERROR(VLOOKUP($D345,料理データ!$A$3:$BK$997,62,FALSE),\"\")","v":""},"                   ","                   "]
[null,null,null,{"$f":"+'月間献立（乳児）'!J32","v":0},{"$f":"IFERROR(VLOOKUP($D346,料理データ!$A$3:$BK$997,3,FALSE),\"\")","v":""},{"$f":"IFERROR(VLOOKUP($D346,料理データ!$A$3:$BK$997,5,FALSE),\"\")","v":""},{"$f":"IFERROR(VLOOKUP($D346,料理データ!$A$3:$BK$997,8,FALSE),\"\")","v":""},{"$f":"IFERROR(VLOOKUP($D346,料理データ!$A$3:$BK$997,11,FALSE),\"\")","v":""},{"$f":"IFERROR(VLOOKUP($D346,料理データ!$A$3:$BK$997,14,FALSE),\"\")","v":""},{"$f":"IFERROR(VLOOKUP($D346,料理データ!$A$3:$BK$997,17,FALSE),\"\")","v":""},{"$f":"IFERROR(VLOOKUP($D346,料理データ!$A$3:$BK$997,20,FALSE),\"\")","v":""},{"$f":"IFERROR(VLOOKUP($D346,料理データ!$A$3:$BK$997,23,FALSE),\"\")","v":""},{"$f":"IFERROR(VLOOKUP($D346,料理データ!$A$3:$BK$997,26,FALSE),\"\")","v":""},{"$f":"IFERROR(VLOOKUP($D346,料理データ!$A$3:$BK$997,29,FALSE),\"\")","v":""},{"$f":"IFERROR(VLOOKUP($D346,料理データ!$A$3:$BK$997,32,FALSE),\"\")","v":""},{"$f":"IFERROR(VLOOKUP($D346,料理データ!$A$3:$BK$997,35,FALSE),\"\")","v":""},{"$f":"IFERROR(VLOOKUP($D346,料理データ!$A$3:$BK$997,38,FALSE),\"\")","v":""},{"$f":"IFERROR(VLOOKUP($D346,料理データ!$A$3:$BK$997,41,FALSE),\"\")","v":""},{"$f":"IFERROR(VLOOKUP($D346,料理データ!$A$3:$BK$997,44,FALSE),\"\")","v":""},{"$f":"IFERROR(VLOOKUP($D346,料理データ!$A$3:$BK$997,47,FALSE),\"\")","v":""},{"$f":"IFERROR(VLOOKUP($D346,料理データ!$A$3:$BK$997,50,FALSE),\"\")","v":""},{"$f":"IFERROR(VLOOKUP($D346,料理データ!$A$3:$BK$997,53,FALSE),\"\")","v":""},{"$f":"IFERROR(VLOOKUP($D346,料理データ!$A$3:$BK$997,56,FALSE),\"\")","v":""},{"$f":"IFERROR(VLOOKUP($D346,料理データ!$A$3:$BK$997,59,FALSE),\"\")","v":""},{"$f":"IFERROR(VLOOKUP($D346,料理データ!$A$3:$BK$997,62,FALSE),\"\")","v":""},"                   ","                   "]
[null,null,null,{"$f":"+'月間献立（乳児）'!K32","v":0},{"$f":"IFERROR(VLOOKUP($D347,料理データ!$A$3:$BK$997,3,FALSE),\"\")","v":""},{"$f":"IFERROR(VLOOKUP($D347,料理データ!$A$3:$BK$997,5,FALSE),\"\")","v":""},{"$f":"IFERROR(VLOOKUP($D347,料理データ!$A$3:$BK$997,8,FALSE),\"\")","v":""},{"$f":"IFERROR(VLOOKUP($D347,料理データ!$A$3:$BK$997,11,FALSE),\"\")","v":""},{"$f":"IFERROR(VLOOKUP($D347,料理データ!$A$3:$BK$997,14,FALSE),\"\")","v":""},{"$f":"IFERROR(VLOOKUP($D347,料理データ!$A$3:$BK$997,17,FALSE),\"\")","v":""},{"$f":"IFERROR(VLOOKUP($D347,料理データ!$A$3:$BK$997,20,FALSE),\"\")","v":""},{"$f":"IFERROR(VLOOKUP($D347,料理データ!$A$3:$BK$997,23,FALSE),\"\")","v":""},{"$f":"IFERROR(VLOOKUP($D347,料理データ!$A$3:$BK$997,26,FALSE),\"\")","v":""},{"$f":"IFERROR(VLOOKUP($D347,料理データ!$A$3:$BK$997,29,FALSE),\"\")","v":""},{"$f":"IFERROR(VLOOKUP($D347,料理データ!$A$3:$BK$997,32,FALSE),\"\")","v":""},{"$f":"IFERROR(VLOOKUP($D347,料理データ!$A$3:$BK$997,35,FALSE),\"\")","v":""},{"$f":"IFERROR(VLOOKUP($D347,料理データ!$A$3:$BK$997,38,FALSE),\"\")","v":""},{"$f":"IFERROR(VLOOKUP($D347,料理データ!$A$3:$BK$997,41,FALSE),\"\")","v":""},{"$f":"IFERROR(VLOOKUP($D347,料理データ!$A$3:$BK$997,44,FALSE),\"\")","v":""},{"$f":"IFERROR(VLOOKUP($D347,料理データ!$A$3:$BK$997,47,FALSE),\"\")","v":""},{"$f":"IFERROR(VLOOKUP($D347,料理データ!$A$3:$BK$997,50,FALSE),\"\")","v":""},{"$f":"IFERROR(VLOOKUP($D347,料理データ!$A$3:$BK$997,53,FALSE),\"\")","v":""},{"$f":"IFERROR(VLOOKUP($D347,料理データ!$A$3:$BK$997,56,FALSE),\"\")","v":""},{"$f":"IFERROR(VLOOKUP($D347,料理データ!$A$3:$BK$997,59,FALSE),\"\")","v":""},{"$f":"IFERROR(VLOOKUP($D347,料理データ!$A$3:$BK$997,62,FALSE),\"\")","v":""},"                   ","                   "]
[null,null,"午後おやつ",{"$f":"+'月間献立（乳児）'!L32","v":0},{"$f":"IFERROR(VLOOKUP($D348,料理データ!$A$3:$BK$997,3,FALSE),\"\")","v":""},{"$f":"IFERROR(VLOOKUP($D348,料理データ!$A$3:$BK$997,5,FALSE),\"\")","v":""},{"$f":"IFERROR(VLOOKUP($D348,料理データ!$A$3:$BK$997,8,FALSE),\"\")","v":""},{"$f":"IFERROR(VLOOKUP($D348,料理データ!$A$3:$BK$997,11,FALSE),\"\")","v":""},{"$f":"IFERROR(VLOOKUP($D348,料理データ!$A$3:$BK$997,14,FALSE),\"\")","v":""},{"$f":"IFERROR(VLOOKUP($D348,料理データ!$A$3:$BK$997,17,FALSE),\"\")","v":""},{"$f":"IFERROR(VLOOKUP($D348,料理データ!$A$3:$BK$997,20,FALSE),\"\")","v":""},{"$f":"IFERROR(VLOOKUP($D348,料理データ!$A$3:$BK$997,23,FALSE),\"\")","v":""},{"$f":"IFERROR(VLOOKUP($D348,料理データ!$A$3:$BK$997,26,FALSE),\"\")","v":""},{"$f":"IFERROR(VLOOKUP($D348,料理データ!$A$3:$BK$997,29,FALSE),\"\")","v":""},{"$f":"IFERROR(VLOOKUP($D348,料理データ!$A$3:$BK$997,32,FALSE),\"\")","v":""},{"$f":"IFERROR(VLOOKUP($D348,料理データ!$A$3:$BK$997,35,FALSE),\"\")","v":""},{"$f":"IFERROR(VLOOKUP($D348,料理データ!$A$3:$BK$997,38,FALSE),\"\")","v":""},{"$f":"IFERROR(VLOOKUP($D348,料理データ!$A$3:$BK$997,41,FALSE),\"\")","v":""},{"$f":"IFERROR(VLOOKUP($D348,料理データ!$A$3:$BK$997,44,FALSE),\"\")","v":""},{"$f":"IFERROR(VLOOKUP($D348,料理データ!$A$3:$BK$997,47,FALSE),\"\")","v":""},{"$f":"IFERROR(VLOOKUP($D348,料理データ!$A$3:$BK$997,50,FALSE),\"\")","v":""},{"$f":"IFERROR(VLOOKUP($D348,料理データ!$A$3:$BK$997,53,FALSE),\"\")","v":""},{"$f":"IFERROR(VLOOKUP($D348,料理データ!$A$3:$BK$997,56,FALSE),\"\")","v":""},{"$f":"IFERROR(VLOOKUP($D348,料理データ!$A$3:$BK$997,59,FALSE),\"\")","v":""},{"$f":"IFERROR(VLOOKUP($D348,料理データ!$A$3:$BK$997,62,FALSE),\"\")","v":""},"                   ","                   "]
[null,null,null,{"$f":"+'月間献立（乳児）'!M32","v":0},{"$f":"IFERROR(VLOOKUP($D349,料理データ!$A$3:$BK$997,3,FALSE),\"\")","v":""},{"$f":"IFERROR(VLOOKUP($D349,料理データ!$A$3:$BK$997,5,FALSE),\"\")","v":""},{"$f":"IFERROR(VLOOKUP($D349,料理データ!$A$3:$BK$997,8,FALSE),\"\")","v":""},{"$f":"IFERROR(VLOOKUP($D349,料理データ!$A$3:$BK$997,11,FALSE),\"\")","v":""},{"$f":"IFERROR(VLOOKUP($D349,料理データ!$A$3:$BK$997,14,FALSE),\"\")","v":""},{"$f":"IFERROR(VLOOKUP($D349,料理データ!$A$3:$BK$997,17,FALSE),\"\")","v":""},{"$f":"IFERROR(VLOOKUP($D349,料理データ!$A$3:$BK$997,20,FALSE),\"\")","v":""},{"$f":"IFERROR(VLOOKUP($D349,料理データ!$A$3:$BK$997,23,FALSE),\"\")","v":""},{"$f":"IFERROR(VLOOKUP($D349,料理データ!$A$3:$BK$997,26,FALSE),\"\")","v":""},{"$f":"IFERROR(VLOOKUP($D349,料理データ!$A$3:$BK$997,29,FALSE),\"\")","v":""},{"$f":"IFERROR(VLOOKUP($D349,料理データ!$A$3:$BK$997,32,FALSE),\"\")","v":""},{"$f":"IFERROR(VLOOKUP($D349,料理データ!$A$3:$BK$997,35,FALSE),\"\")","v":""},{"$f":"IFERROR(VLOOKUP($D349,料理データ!$A$3:$BK$997,38,FALSE),\"\")","v":""},{"$f":"IFERROR(VLOOKUP($D349,料理データ!$A$3:$BK$997,41,FALSE),\"\")","v":""},{"$f":"IFERROR(VLOOKUP($D349,料理データ!$A$3:$BK$997,44,FALSE),\"\")","v":""},{"$f":"IFERROR(VLOOKUP($D349,料理データ!$A$3:$BK$997,47,FALSE),\"\")","v":""},{"$f":"IFERROR(VLOOKUP($D349,料理データ!$A$3:$BK$997,50,FALSE),\"\")","v":""},{"$f":"IFERROR(VLOOKUP($D349,料理データ!$A$3:$BK$997,53,FALSE),\"\")","v":""},{"$f":"IFERROR(VLOOKUP($D349,料理データ!$A$3:$BK$997,56,FALSE),\"\")","v":""},{"$f":"IFERROR(VLOOKUP($D349,料理データ!$A$3:$BK$997,59,FALSE),\"\")","v":""},{"$f":"IFERROR(VLOOKUP($D349,料理データ!$A$3:$BK$997,62,FALSE),\"\")","v":""},"                   ","                   "]
[null,null,null,{"$f":"+'月間献立（乳児）'!N32","v":0},{"$f":"IFERROR(VLOOKUP($D350,料理データ!$A$3:$BK$997,3,FALSE),\"\")","v":""},{"$f":"IFERROR(VLOOKUP($D350,料理データ!$A$3:$BK$997,5,FALSE),\"\")","v":""},{"$f":"IFERROR(VLOOKUP($D350,料理データ!$A$3:$BK$997,8,FALSE),\"\")","v":""},{"$f":"IFERROR(VLOOKUP($D350,料理データ!$A$3:$BK$997,11,FALSE),\"\")","v":""},{"$f":"IFERROR(VLOOKUP($D350,料理データ!$A$3:$BK$997,14,FALSE),\"\")","v":""},{"$f":"IFERROR(VLOOKUP($D350,料理データ!$A$3:$BK$997,17,FALSE),\"\")","v":""},{"$f":"IFERROR(VLOOKUP($D350,料理データ!$A$3:$BK$997,20,FALSE),\"\")","v":""},{"$f":"IFERROR(VLOOKUP($D350,料理データ!$A$3:$BK$997,23,FALSE),\"\")","v":""},{"$f":"IFERROR(VLOOKUP($D350,料理データ!$A$3:$BK$997,26,FALSE),\"\")","v":""},{"$f":"IFERROR(VLOOKUP($D350,料理データ!$A$3:$BK$997,29,FALSE),\"\")","v":""},{"$f":"IFERROR(VLOOKUP($D350,料理データ!$A$3:$BK$997,32,FALSE),\"\")","v":""},{"$f":"IFERROR(VLOOKUP($D350,料理データ!$A$3:$BK$997,35,FALSE),\"\")","v":""},{"$f":"IFERROR(VLOOKUP($D350,料理データ!$A$3:$BK$997,38,FALSE),\"\")","v":""},{"$f":"IFERROR(VLOOKUP($D350,料理データ!$A$3:$BK$997,41,FALSE),\"\")","v":""},{"$f":"IFERROR(VLOOKUP($D350,料理データ!$A$3:$BK$997,44,FALSE),\"\")","v":""},{"$f":"IFERROR(VLOOKUP($D350,料理データ!$A$3:$BK$997,47,FALSE),\"\")","v":""},{"$f":"IFERROR(VLOOKUP($D350,料理データ!$A$3:$BK$997,50,FALSE),\"\")","v":""},{"$f":"IFERROR(VLOOKUP($D350,料理データ!$A$3:$BK$997,53,FALSE),\"\")","v":""},{"$f":"IFERROR(VLOOKUP($D350,料理データ!$A$3:$BK$997,56,FALSE),\"\")","v":""},{"$f":"IFERROR(VLOOKUP($D350,料理データ!$A$3:$BK$997,59,FALSE),\"\")","v":""},{"$f":"IFERROR(VLOOKUP($D350,料理データ!$A$3:$BK$997,62,FALSE),\"\")","v":""},"                   ",{"$f":"SUBSTITUTE(Z350,\"-\",\"\")","v":"                   "}]
[{"$f":"+'月間献立（幼児）'!A34","v":30},{"$f":"+'月間献立（幼児）'!B34","v":"(日)"},"午前おやつ",{"$f":"+'月間献立（乳児）'!C33","v":0},{"$f":"IFERROR(VLOOKUP($D351,料理データ!$A$3:$BK$997,3,FALSE),\"\")","v":""},{"$f":"IFERROR(VLOOKUP($D351,料理データ!$A$3:$BK$997,5,FALSE),\"\")","v":""},{"$f":"IFERROR(VLOOKUP($D351,料理データ!$A$3:$BK$997,8,FALSE),\"\")","v":""},{"$f":"IFERROR(VLOOKUP($D351,料理データ!$A$3:$BK$997,11,FALSE),\"\")","v":""},{"$f":"IFERROR(VLOOKUP($D351,料理データ!$A$3:$BK$997,14,FALSE),\"\")","v":""},{"$f":"IFERROR(VLOOKUP($D351,料理データ!$A$3:$BK$997,17,FALSE),\"\")","v":""},{"$f":"IFERROR(VLOOKUP($D351,料理データ!$A$3:$BK$997,20,FALSE),\"\")","v":""},{"$f":"IFERROR(VLOOKUP($D351,料理データ!$A$3:$BK$997,23,FALSE),\"\")","v":""},{"$f":"IFERROR(VLOOKUP($D351,料理データ!$A$3:$BK$997,26,FALSE),\"\")","v":""},{"$f":"IFERROR(VLOOKUP($D351,料理データ!$A$3:$BK$997,29,FALSE),\"\")","v":""},{"$f":"IFERROR(VLOOKUP($D351,料理データ!$A$3:$BK$997,32,FALSE),\"\")","v":""},{"$f":"IFERROR(VLOOKUP($D351,料理データ!$A$3:$BK$997,35,FALSE),\"\")","v":""},{"$f":"IFERROR(VLOOKUP($D351,料理データ!$A$3:$BK$997,38,FALSE),\"\")","v":""},{"$f":"IFERROR(VLOOKUP($D351,料理データ!$A$3:$BK$997,41,FALSE),\"\")","v":""},{"$f":"IFERROR(VLOOKUP($D351,料理データ!$A$3:$BK$997,44,FALSE),\"\")","v":""},{"$f":"IFERROR(VLOOKUP($D351,料理データ!$A$3:$BK$997,47,FALSE),\"\")","v":""},{"$f":"IFERROR(VLOOKUP($D351,料理データ!$A$3:$BK$997,50,FALSE),\"\")","v":""},{"$f":"IFERROR(VLOOKUP($D351,料理データ!$A$3:$BK$997,53,FALSE),\"\")","v":""},{"$f":"IFERROR(VLOOKUP($D351,料理データ!$A$3:$BK$997,56,FALSE),\"\")","v":""},{"$f":"IFERROR(VLOOKUP($D351,料理データ!$A$3:$BK$997,59,FALSE),\"\")","v":""},{"$f":"IFERROR(VLOOKUP($D351,料理データ!$A$3:$BK$997,62,FALSE),\"\")","v":""},"                   ",{"$f":"SUBSTITUTE(Z351,\"-\",\" \")","v":"                   "},{"$f":"TRIM(CONCATENATE(AA351,AA352,AA353,\"▲\",AA354,AA355,AA356,AA357,AA358,AA359,\"▲\",AA360,AA361,AA362))","v":"▲ ▲"}]
[null,null,null,{"$f":"+'月間献立（乳児）'!D33","v":0},{"$f":"IFERROR(VLOOKUP($D352,料理データ!$A$3:$BK$997,3,FALSE),\"\")","v":""},{"$f":"IFERROR(VLOOKUP($D352,料理データ!$A$3:$BK$997,5,FALSE),\"\")","v":""},{"$f":"IFERROR(VLOOKUP($D352,料理データ!$A$3:$BK$997,8,FALSE),\"\")","v":""},{"$f":"IFERROR(VLOOKUP($D352,料理データ!$A$3:$BK$997,11,FALSE),\"\")","v":""},{"$f":"IFERROR(VLOOKUP($D352,料理データ!$A$3:$BK$997,14,FALSE),\"\")","v":""},{"$f":"IFERROR(VLOOKUP($D352,料理データ!$A$3:$BK$997,17,FALSE),\"\")","v":""},{"$f":"IFERROR(VLOOKUP($D352,料理データ!$A$3:$BK$997,20,FALSE),\"\")","v":""},{"$f":"IFERROR(VLOOKUP($D352,料理データ!$A$3:$BK$997,23,FALSE),\"\")","v":""},{"$f":"IFERROR(VLOOKUP($D352,料理データ!$A$3:$BK$997,26,FALSE),\"\")","v":""},{"$f":"IFERROR(VLOOKUP($D352,料理データ!$A$3:$BK$997,29,FALSE),\"\")","v":""},{"$f":"IFERROR(VLOOKUP($D352,料理データ!$A$3:$BK$997,32,FALSE),\"\")","v":""},{"$f":"IFERROR(VLOOKUP($D352,料理データ!$A$3:$BK$997,35,FALSE),\"\")","v":""},{"$f":"IFERROR(VLOOKUP($D352,料理データ!$A$3:$BK$997,38,FALSE),\"\")","v":""},{"$f":"IFERROR(VLOOKUP($D352,料理データ!$A$3:$BK$997,41,FALSE),\"\")","v":""},{"$f":"IFERROR(VLOOKUP($D352,料理データ!$A$3:$BK$997,44,FALSE),\"\")","v":""},{"$f":"IFERROR(VLOOKUP($D352,料理データ!$A$3:$BK$997,47,FALSE),\"\")","v":""},{"$f":"IFERROR(VLOOKUP($D352,料理データ!$A$3:$BK$997,50,FALSE),\"\")","v":""},{"$f":"IFERROR(VLOOKUP($D352,料理データ!$A$3:$BK$997,53,FALSE),\"\")","v":""},{"$f":"IFERROR(VLOOKUP($D352,料理データ!$A$3:$BK$997,56,FALSE),\"\")","v":""},{"$f":"IFERROR(VLOOKUP($D352,料理データ!$A$3:$BK$997,59,FALSE),\"\")","v":""},{"$f":"IFERROR(VLOOKUP($D352,料理データ!$A$3:$BK$997,62,FALSE),\"\")","v":""},"                   ",{"$f":"SUBSTITUTE(Z352,\"-\",\" \")","v":"                   "}]
[null,null,null,{"$f":"+'月間献立（乳児）'!E33","v":0},{"$f":"IFERROR(VLOOKUP($D353,料理データ!$A$3:$BK$997,3,FALSE),\"\")","v":""},{"$f":"IFERROR(VLOOKUP($D353,料理データ!$A$3:$BK$997,5,FALSE),\"\")","v":""},{"$f":"IFERROR(VLOOKUP($D353,料理データ!$A$3:$BK$997,8,FALSE),\"\")","v":""},{"$f":"IFERROR(VLOOKUP($D353,料理データ!$A$3:$BK$997,11,FALSE),\"\")","v":""},{"$f":"IFERROR(VLOOKUP($D353,料理データ!$A$3:$BK$997,14,FALSE),\"\")","v":""},{"$f":"IFERROR(VLOOKUP($D353,料理データ!$A$3:$BK$997,17,FALSE),\"\")","v":""},{"$f":"IFERROR(VLOOKUP($D353,料理データ!$A$3:$BK$997,20,FALSE),\"\")","v":""},{"$f":"IFERROR(VLOOKUP($D353,料理データ!$A$3:$BK$997,23,FALSE),\"\")","v":""},{"$f":"IFERROR(VLOOKUP($D353,料理データ!$A$3:$BK$997,26,FALSE),\"\")","v":""},{"$f":"IFERROR(VLOOKUP($D353,料理データ!$A$3:$BK$997,29,FALSE),\"\")","v":""},{"$f":"IFERROR(VLOOKUP($D353,料理データ!$A$3:$BK$997,32,FALSE),\"\")","v":""},{"$f":"IFERROR(VLOOKUP($D353,料理データ!$A$3:$BK$997,35,FALSE),\"\")","v":""},{"$f":"IFERROR(VLOOKUP($D353,料理データ!$A$3:$BK$997,38,FALSE),\"\")","v":""},{"$f":"IFERROR(VLOOKUP($D353,料理データ!$A$3:$BK$997,41,FALSE),\"\")","v":""},{"$f":"IFERROR(VLOOKUP($D353,料理データ!$A$3:$BK$997,44,FALSE),\"\")","v":""},{"$f":"IFERROR(VLOOKUP($D353,料理データ!$A$3:$BK$997,47,FALSE),\"\")","v":""},{"$f":"IFERROR(VLOOKUP($D353,料理データ!$A$3:$BK$997,50,FALSE),\"\")","v":""},{"$f":"IFERROR(VLOOKUP($D353,料理データ!$A$3:$BK$997,53,FALSE),\"\")","v":""},{"$f":"IFERROR(VLOOKUP($D353,料理データ!$A$3:$BK$997,56,FALSE),\"\")","v":""},{"$f":"IFERROR(VLOOKUP($D353,料理データ!$A$3:$BK$997,59,FALSE),\"\")","v":""},{"$f":"IFERROR(VLOOKUP($D353,料理データ!$A$3:$BK$997,62,FALSE),\"\")","v":""},"                   ",{"$f":"SUBSTITUTE(Z353,\"-\",\" \")","v":"                   "}]
[null,null,"昼食",{"$f":"+'月間献立（乳児）'!F33","v":0},{"$f":"IFERROR(VLOOKUP($D354,料理データ!$A$3:$BK$997,3,FALSE),\"\")","v":""},{"$f":"IFERROR(VLOOKUP($D354,料理データ!$A$3:$BK$997,5,FALSE),\"\")","v":""},{"$f":"IFERROR(VLOOKUP($D354,料理データ!$A$3:$BK$997,8,FALSE),\"\")","v":""},{"$f":"IFERROR(VLOOKUP($D354,料理データ!$A$3:$BK$997,11,FALSE),\"\")","v":""},{"$f":"IFERROR(VLOOKUP($D354,料理データ!$A$3:$BK$997,14,FALSE),\"\")","v":""},{"$f":"IFERROR(VLOOKUP($D354,料理データ!$A$3:$BK$997,17,FALSE),\"\")","v":""},{"$f":"IFERROR(VLOOKUP($D354,料理データ!$A$3:$BK$997,20,FALSE),\"\")","v":""},{"$f":"IFERROR(VLOOKUP($D354,料理データ!$A$3:$BK$997,23,FALSE),\"\")","v":""},{"$f":"IFERROR(VLOOKUP($D354,料理データ!$A$3:$BK$997,26,FALSE),\"\")","v":""},{"$f":"IFERROR(VLOOKUP($D354,料理データ!$A$3:$BK$997,29,FALSE),\"\")","v":""},{"$f":"IFERROR(VLOOKUP($D354,料理データ!$A$3:$BK$997,32,FALSE),\"\")","v":""},{"$f":"IFERROR(VLOOKUP($D354,料理データ!$A$3:$BK$997,35,FALSE),\"\")","v":""},{"$f":"IFERROR(VLOOKUP($D354,料理データ!$A$3:$BK$997,38,FALSE),\"\")","v":""},{"$f":"IFERROR(VLOOKUP($D354,料理データ!$A$3:$BK$997,41,FALSE),\"\")","v":""},{"$f":"IFERROR(VLOOKUP($D354,料理データ!$A$3:$BK$997,44,FALSE),\"\")","v":""},{"$f":"IFERROR(VLOOKUP($D354,料理データ!$A$3:$BK$997,47,FALSE),\"\")","v":""},{"$f":"IFERROR(VLOOKUP($D354,料理データ!$A$3:$BK$997,50,FALSE),\"\")","v":""},{"$f":"IFERROR(VLOOKUP($D354,料理データ!$A$3:$BK$997,53,FALSE),\"\")","v":""},{"$f":"IFERROR(VLOOKUP($D354,料理データ!$A$3:$BK$997,56,FALSE),\"\")","v":""},{"$f":"IFERROR(VLOOKUP($D354,料理データ!$A$3:$BK$997,59,FALSE),\"\")","v":""},{"$f":"IFERROR(VLOOKUP($D354,料理データ!$A$3:$BK$997,62,FALSE),\"\")","v":""},"                   ","                   "]
[null,null,null,{"$f":"+'月間献立（乳児）'!G33","v":0},{"$f":"IFERROR(VLOOKUP($D355,料理データ!$A$3:$BK$997,3,FALSE),\"\")","v":""},{"$f":"IFERROR(VLOOKUP($D355,料理データ!$A$3:$BK$997,5,FALSE),\"\")","v":""},{"$f":"IFERROR(VLOOKUP($D355,料理データ!$A$3:$BK$997,8,FALSE),\"\")","v":""},{"$f":"IFERROR(VLOOKUP($D355,料理データ!$A$3:$BK$997,11,FALSE),\"\")","v":""},{"$f":"IFERROR(VLOOKUP($D355,料理データ!$A$3:$BK$997,14,FALSE),\"\")","v":""},{"$f":"IFERROR(VLOOKUP($D355,料理データ!$A$3:$BK$997,17,FALSE),\"\")","v":""},{"$f":"IFERROR(VLOOKUP($D355,料理データ!$A$3:$BK$997,20,FALSE),\"\")","v":""},{"$f":"IFERROR(VLOOKUP($D355,料理データ!$A$3:$BK$997,23,FALSE),\"\")","v":""},{"$f":"IFERROR(VLOOKUP($D355,料理データ!$A$3:$BK$997,26,FALSE),\"\")","v":""},{"$f":"IFERROR(VLOOKUP($D355,料理データ!$A$3:$BK$997,29,FALSE),\"\")","v":""},{"$f":"IFERROR(VLOOKUP($D355,料理データ!$A$3:$BK$997,32,FALSE),\"\")","v":""},{"$f":"IFERROR(VLOOKUP($D355,料理データ!$A$3:$BK$997,35,FALSE),\"\")","v":""},{"$f":"IFERROR(VLOOKUP($D355,料理データ!$A$3:$BK$997,38,FALSE),\"\")","v":""},{"$f":"IFERROR(VLOOKUP($D355,料理データ!$A$3:$BK$997,41,FALSE),\"\")","v":""},{"$f":"IFERROR(VLOOKUP($D355,料理データ!$A$3:$BK$997,44,FALSE),\"\")","v":""},{"$f":"IFERROR(VLOOKUP($D355,料理データ!$A$3:$BK$997,47,FALSE),\"\")","v":""},{"$f":"IFERROR(VLOOKUP($D355,料理データ!$A$3:$BK$997,50,FALSE),\"\")","v":""},{"$f":"IFERROR(VLOOKUP($D355,料理データ!$A$3:$BK$997,53,FALSE),\"\")","v":""},{"$f":"IFERROR(VLOOKUP($D355,料理データ!$A$3:$BK$997,56,FALSE),\"\")","v":""},{"$f":"IFERROR(VLOOKUP($D355,料理データ!$A$3:$BK$997,59,FALSE),\"\")","v":""},{"$f":"IFERROR(VLOOKUP($D355,料理データ!$A$3:$BK$997,62,FALSE),\"\")","v":""},"                   ","                   "]
[null,null,null,{"$f":"+'月間献立（乳児）'!H33","v":0},{"$f":"IFERROR(VLOOKUP($D356,料理データ!$A$3:$BK$997,3,FALSE),\"\")","v":""},{"$f":"IFERROR(VLOOKUP($D356,料理データ!$A$3:$BK$997,5,FALSE),\"\")","v":""},{"$f":"IFERROR(VLOOKUP($D356,料理データ!$A$3:$BK$997,8,FALSE),\"\")","v":""},{"$f":"IFERROR(VLOOKUP($D356,料理データ!$A$3:$BK$997,11,FALSE),\"\")","v":""},{"$f":"IFERROR(VLOOKUP($D356,料理データ!$A$3:$BK$997,14,FALSE),\"\")","v":""},{"$f":"IFERROR(VLOOKUP($D356,料理データ!$A$3:$BK$997,17,FALSE),\"\")","v":""},{"$f":"IFERROR(VLOOKUP($D356,料理データ!$A$3:$BK$997,20,FALSE),\"\")","v":""},{"$f":"IFERROR(VLOOKUP($D356,料理データ!$A$3:$BK$997,23,FALSE),\"\")","v":""},{"$f":"IFERROR(VLOOKUP($D356,料理データ!$A$3:$BK$997,26,FALSE),\"\")","v":""},{"$f":"IFERROR(VLOOKUP($D356,料理データ!$A$3:$BK$997,29,FALSE),\"\")","v":""},{"$f":"IFERROR(VLOOKUP($D356,料理データ!$A$3:$BK$997,32,FALSE),\"\")","v":""},{"$f":"IFERROR(VLOOKUP($D356,料理データ!$A$3:$BK$997,35,FALSE),\"\")","v":""},{"$f":"IFERROR(VLOOKUP($D356,料理データ!$A$3:$BK$997,38,FALSE),\"\")","v":""},{"$f":"IFERROR(VLOOKUP($D356,料理データ!$A$3:$BK$997,41,FALSE),\"\")","v":""},{"$f":"IFERROR(VLOOKUP($D356,料理データ!$A$3:$BK$997,44,FALSE),\"\")","v":""},{"$f":"IFERROR(VLOOKUP($D356,料理データ!$A$3:$BK$997,47,FALSE),\"\")","v":""},{"$f":"IFERROR(VLOOKUP($D356,料理データ!$A$3:$BK$997,50,FALSE),\"\")","v":""},{"$f":"IFERROR(VLOOKUP($D356,料理データ!$A$3:$BK$997,53,FALSE),\"\")","v":""},{"$f":"IFERROR(VLOOKUP($D356,料理データ!$A$3:$BK$997,56,FALSE),\"\")","v":""},{"$f":"IFERROR(VLOOKUP($D356,料理データ!$A$3:$BK$997,59,FALSE),\"\")","v":""},{"$f":"IFERROR(VLOOKUP($D356,料理データ!$A$3:$BK$997,62,FALSE),\"\")","v":""},"                   ","                   "]
[null,null,null,{"$f":"+'月間献立（乳児）'!I33","v":0},{"$f":"IFERROR(VLOOKUP($D357,料理データ!$A$3:$BK$997,3,FALSE),\"\")","v":""},{"$f":"IFERROR(VLOOKUP($D357,料理データ!$A$3:$BK$997,5,FALSE),\"\")","v":""},{"$f":"IFERROR(VLOOKUP($D357,料理データ!$A$3:$BK$997,8,FALSE),\"\")","v":""},{"$f":"IFERROR(VLOOKUP($D357,料理データ!$A$3:$BK$997,11,FALSE),\"\")","v":""},{"$f":"IFERROR(VLOOKUP($D357,料理データ!$A$3:$BK$997,14,FALSE),\"\")","v":""},{"$f":"IFERROR(VLOOKUP($D357,料理データ!$A$3:$BK$997,17,FALSE),\"\")","v":""},{"$f":"IFERROR(VLOOKUP($D357,料理データ!$A$3:$BK$997,20,FALSE),\"\")","v":""},{"$f":"IFERROR(VLOOKUP($D357,料理データ!$A$3:$BK$997,23,FALSE),\"\")","v":""},{"$f":"IFERROR(VLOOKUP($D357,料理データ!$A$3:$BK$997,26,FALSE),\"\")","v":""},{"$f":"IFERROR(VLOOKUP($D357,料理データ!$A$3:$BK$997,29,FALSE),\"\")","v":""},{"$f":"IFERROR(VLOOKUP($D357,料理データ!$A$3:$BK$997,32,FALSE),\"\")","v":""},{"$f":"IFERROR(VLOOKUP($D357,料理データ!$A$3:$BK$997,35,FALSE),\"\")","v":""},{"$f":"IFERROR(VLOOKUP($D357,料理データ!$A$3:$BK$997,38,FALSE),\"\")","v":""},{"$f":"IFERROR(VLOOKUP($D357,料理データ!$A$3:$BK$997,41,FALSE),\"\")","v":""},{"$f":"IFERROR(VLOOKUP($D357,料理データ!$A$3:$BK$997,44,FALSE),\"\")","v":""},{"$f":"IFERROR(VLOOKUP($D357,料理データ!$A$3:$BK$997,47,FALSE),\"\")","v":""},{"$f":"IFERROR(VLOOKUP($D357,料理データ!$A$3:$BK$997,50,FALSE),\"\")","v":""},{"$f":"IFERROR(VLOOKUP($D357,料理データ!$A$3:$BK$997,53,FALSE),\"\")","v":""},{"$f":"IFERROR(VLOOKUP($D357,料理データ!$A$3:$BK$997,56,FALSE),\"\")","v":""},{"$f":"IFERROR(VLOOKUP($D357,料理データ!$A$3:$BK$997,59,FALSE),\"\")","v":""},{"$f":"IFERROR(VLOOKUP($D357,料理データ!$A$3:$BK$997,62,FALSE),\"\")","v":""},"                   ","                   "]
[null,null,null,{"$f":"+'月間献立（乳児）'!J33","v":0},{"$f":"IFERROR(VLOOKUP($D358,料理データ!$A$3:$BK$997,3,FALSE),\"\")","v":""},{"$f":"IFERROR(VLOOKUP($D358,料理データ!$A$3:$BK$997,5,FALSE),\"\")","v":""},{"$f":"IFERROR(VLOOKUP($D358,料理データ!$A$3:$BK$997,8,FALSE),\"\")","v":""},{"$f":"IFERROR(VLOOKUP($D358,料理データ!$A$3:$BK$997,11,FALSE),\"\")","v":""},{"$f":"IFERROR(VLOOKUP($D358,料理データ!$A$3:$BK$997,14,FALSE),\"\")","v":""},{"$f":"IFERROR(VLOOKUP($D358,料理データ!$A$3:$BK$997,17,FALSE),\"\")","v":""},{"$f":"IFERROR(VLOOKUP($D358,料理データ!$A$3:$BK$997,20,FALSE),\"\")","v":""},{"$f":"IFERROR(VLOOKUP($D358,料理データ!$A$3:$BK$997,23,FALSE),\"\")","v":""},{"$f":"IFERROR(VLOOKUP($D358,料理データ!$A$3:$BK$997,26,FALSE),\"\")","v":""},{"$f":"IFERROR(VLOOKUP($D358,料理データ!$A$3:$BK$997,29,FALSE),\"\")","v":""},{"$f":"IFERROR(VLOOKUP($D358,料理データ!$A$3:$BK$997,32,FALSE),\"\")","v":""},{"$f":"IFERROR(VLOOKUP($D358,料理データ!$A$3:$BK$997,35,FALSE),\"\")","v":""},{"$f":"IFERROR(VLOOKUP($D358,料理データ!$A$3:$BK$997,38,FALSE),\"\")","v":""},{"$f":"IFERROR(VLOOKUP($D358,料理データ!$A$3:$BK$997,41,FALSE),\"\")","v":""},{"$f":"IFERROR(VLOOKUP($D358,料理データ!$A$3:$BK$997,44,FALSE),\"\")","v":""},{"$f":"IFERROR(VLOOKUP($D358,料理データ!$A$3:$BK$997,47,FALSE),\"\")","v":""},{"$f":"IFERROR(VLOOKUP($D358,料理データ!$A$3:$BK$997,50,FALSE),\"\")","v":""},{"$f":"IFERROR(VLOOKUP($D358,料理データ!$A$3:$BK$997,53,FALSE),\"\")","v":""},{"$f":"IFERROR(VLOOKUP($D358,料理データ!$A$3:$BK$997,56,FALSE),\"\")","v":""},{"$f":"IFERROR(VLOOKUP($D358,料理データ!$A$3:$BK$997,59,FALSE),\"\")","v":""},{"$f":"IFERROR(VLOOKUP($D358,料理データ!$A$3:$BK$997,62,FALSE),\"\")","v":""},"                   ","                   "]
[null,null,null,{"$f":"+'月間献立（乳児）'!K33","v":0},{"$f":"IFERROR(VLOOKUP($D359,料理データ!$A$3:$BK$997,3,FALSE),\"\")","v":""},{"$f":"IFERROR(VLOOKUP($D359,料理データ!$A$3:$BK$997,5,FALSE),\"\")","v":""},{"$f":"IFERROR(VLOOKUP($D359,料理データ!$A$3:$BK$997,8,FALSE),\"\")","v":""},{"$f":"IFERROR(VLOOKUP($D359,料理データ!$A$3:$BK$997,11,FALSE),\"\")","v":""},{"$f":"IFERROR(VLOOKUP($D359,料理データ!$A$3:$BK$997,14,FALSE),\"\")","v":""},{"$f":"IFERROR(VLOOKUP($D359,料理データ!$A$3:$BK$997,17,FALSE),\"\")","v":""},{"$f":"IFERROR(VLOOKUP($D359,料理データ!$A$3:$BK$997,20,FALSE),\"\")","v":""},{"$f":"IFERROR(VLOOKUP($D359,料理データ!$A$3:$BK$997,23,FALSE),\"\")","v":""},{"$f":"IFERROR(VLOOKUP($D359,料理データ!$A$3:$BK$997,26,FALSE),\"\")","v":""},{"$f":"IFERROR(VLOOKUP($D359,料理データ!$A$3:$BK$997,29,FALSE),\"\")","v":""},{"$f":"IFERROR(VLOOKUP($D359,料理データ!$A$3:$BK$997,32,FALSE),\"\")","v":""},{"$f":"IFERROR(VLOOKUP($D359,料理データ!$A$3:$BK$997,35,FALSE),\"\")","v":""},{"$f":"IFERROR(VLOOKUP($D359,料理データ!$A$3:$BK$997,38,FALSE),\"\")","v":""},{"$f":"IFERROR(VLOOKUP($D359,料理データ!$A$3:$BK$997,41,FALSE),\"\")","v":""},{"$f":"IFERROR(VLOOKUP($D359,料理データ!$A$3:$BK$997,44,FALSE),\"\")","v":""},{"$f":"IFERROR(VLOOKUP($D359,料理データ!$A$3:$BK$997,47,FALSE),\"\")","v":""},{"$f":"IFERROR(VLOOKUP($D359,料理データ!$A$3:$BK$997,50,FALSE),\"\")","v":""},{"$f":"IFERROR(VLOOKUP($D359,料理データ!$A$3:$BK$997,53,FALSE),\"\")","v":""},{"$f":"IFERROR(VLOOKUP($D359,料理データ!$A$3:$BK$997,56,FALSE),\"\")","v":""},{"$f":"IFERROR(VLOOKUP($D359,料理データ!$A$3:$BK$997,59,FALSE),\"\")","v":""},{"$f":"IFERROR(VLOOKUP($D359,料理データ!$A$3:$BK$997,62,FALSE),\"\")","v":""},"                   ","                   "]
[null,null,"午後おやつ",{"$f":"+'月間献立（乳児）'!L33","v":0},{"$f":"IFERROR(VLOOKUP($D360,料理データ!$A$3:$BK$997,3,FALSE),\"\")","v":""},{"$f":"IFERROR(VLOOKUP($D360,料理データ!$A$3:$BK$997,5,FALSE),\"\")","v":""},{"$f":"IFERROR(VLOOKUP($D360,料理データ!$A$3:$BK$997,8,FALSE),\"\")","v":""},{"$f":"IFERROR(VLOOKUP($D360,料理データ!$A$3:$BK$997,11,FALSE),\"\")","v":""},{"$f":"IFERROR(VLOOKUP($D360,料理データ!$A$3:$BK$997,14,FALSE),\"\")","v":""},{"$f":"IFERROR(VLOOKUP($D360,料理データ!$A$3:$BK$997,17,FALSE),\"\")","v":""},{"$f":"IFERROR(VLOOKUP($D360,料理データ!$A$3:$BK$997,20,FALSE),\"\")","v":""},{"$f":"IFERROR(VLOOKUP($D360,料理データ!$A$3:$BK$997,23,FALSE),\"\")","v":""},{"$f":"IFERROR(VLOOKUP($D360,料理データ!$A$3:$BK$997,26,FALSE),\"\")","v":""},{"$f":"IFERROR(VLOOKUP($D360,料理データ!$A$3:$BK$997,29,FALSE),\"\")","v":""},{"$f":"IFERROR(VLOOKUP($D360,料理データ!$A$3:$BK$997,32,FALSE),\"\")","v":""},{"$f":"IFERROR(VLOOKUP($D360,料理データ!$A$3:$BK$997,35,FALSE),\"\")","v":""},{"$f":"IFERROR(VLOOKUP($D360,料理データ!$A$3:$BK$997,38,FALSE),\"\")","v":""},{"$f":"IFERROR(VLOOKUP($D360,料理データ!$A$3:$BK$997,41,FALSE),\"\")","v":""},{"$f":"IFERROR(VLOOKUP($D360,料理データ!$A$3:$BK$997,44,FALSE),\"\")","v":""},{"$f":"IFERROR(VLOOKUP($D360,料理データ!$A$3:$BK$997,47,FALSE),\"\")","v":""},{"$f":"IFERROR(VLOOKUP($D360,料理データ!$A$3:$BK$997,50,FALSE),\"\")","v":""},{"$f":"IFERROR(VLOOKUP($D360,料理データ!$A$3:$BK$997,53,FALSE),\"\")","v":""},{"$f":"IFERROR(VLOOKUP($D360,料理データ!$A$3:$BK$997,56,FALSE),\"\")","v":""},{"$f":"IFERROR(VLOOKUP($D360,料理データ!$A$3:$BK$997,59,FALSE),\"\")","v":""},{"$f":"IFERROR(VLOOKUP($D360,料理データ!$A$3:$BK$997,62,FALSE),\"\")","v":""},"                   ","                   "]
[null,null,null,{"$f":"+'月間献立（乳児）'!M33","v":0},{"$f":"IFERROR(VLOOKUP($D361,料理データ!$A$3:$BK$997,3,FALSE),\"\")","v":""},{"$f":"IFERROR(VLOOKUP($D361,料理データ!$A$3:$BK$997,5,FALSE),\"\")","v":""},{"$f":"IFERROR(VLOOKUP($D361,料理データ!$A$3:$BK$997,8,FALSE),\"\")","v":""},{"$f":"IFERROR(VLOOKUP($D361,料理データ!$A$3:$BK$997,11,FALSE),\"\")","v":""},{"$f":"IFERROR(VLOOKUP($D361,料理データ!$A$3:$BK$997,14,FALSE),\"\")","v":""},{"$f":"IFERROR(VLOOKUP($D361,料理データ!$A$3:$BK$997,17,FALSE),\"\")","v":""},{"$f":"IFERROR(VLOOKUP($D361,料理データ!$A$3:$BK$997,20,FALSE),\"\")","v":""},{"$f":"IFERROR(VLOOKUP($D361,料理データ!$A$3:$BK$997,23,FALSE),\"\")","v":""},{"$f":"IFERROR(VLOOKUP($D361,料理データ!$A$3:$BK$997,26,FALSE),\"\")","v":""},{"$f":"IFERROR(VLOOKUP($D361,料理データ!$A$3:$BK$997,29,FALSE),\"\")","v":""},{"$f":"IFERROR(VLOOKUP($D361,料理データ!$A$3:$BK$997,32,FALSE),\"\")","v":""},{"$f":"IFERROR(VLOOKUP($D361,料理データ!$A$3:$BK$997,35,FALSE),\"\")","v":""},{"$f":"IFERROR(VLOOKUP($D361,料理データ!$A$3:$BK$997,38,FALSE),\"\")","v":""},{"$f":"IFERROR(VLOOKUP($D361,料理データ!$A$3:$BK$997,41,FALSE),\"\")","v":""},{"$f":"IFERROR(VLOOKUP($D361,料理データ!$A$3:$BK$997,44,FALSE),\"\")","v":""},{"$f":"IFERROR(VLOOKUP($D361,料理データ!$A$3:$BK$997,47,FALSE),\"\")","v":""},{"$f":"IFERROR(VLOOKUP($D361,料理データ!$A$3:$BK$997,50,FALSE),\"\")","v":""},{"$f":"IFERROR(VLOOKUP($D361,料理データ!$A$3:$BK$997,53,FALSE),\"\")","v":""},{"$f":"IFERROR(VLOOKUP($D361,料理データ!$A$3:$BK$997,56,FALSE),\"\")","v":""},{"$f":"IFERROR(VLOOKUP($D361,料理データ!$A$3:$BK$997,59,FALSE),\"\")","v":""},{"$f":"IFERROR(VLOOKUP($D361,料理データ!$A$3:$BK$997,62,FALSE),\"\")","v":""},"                   ","                   "]
[null,null,null,{"$f":"+'月間献立（乳児）'!N33","v":0},{"$f":"IFERROR(VLOOKUP($D362,料理データ!$A$3:$BK$997,3,FALSE),\"\")","v":""},{"$f":"IFERROR(VLOOKUP($D362,料理データ!$A$3:$BK$997,5,FALSE),\"\")","v":""},{"$f":"IFERROR(VLOOKUP($D362,料理データ!$A$3:$BK$997,8,FALSE),\"\")","v":""},{"$f":"IFERROR(VLOOKUP($D362,料理データ!$A$3:$BK$997,11,FALSE),\"\")","v":""},{"$f":"IFERROR(VLOOKUP($D362,料理データ!$A$3:$BK$997,14,FALSE),\"\")","v":""},{"$f":"IFERROR(VLOOKUP($D362,料理データ!$A$3:$BK$997,17,FALSE),\"\")","v":""},{"$f":"IFERROR(VLOOKUP($D362,料理データ!$A$3:$BK$997,20,FALSE),\"\")","v":""},{"$f":"IFERROR(VLOOKUP($D362,料理データ!$A$3:$BK$997,23,FALSE),\"\")","v":""},{"$f":"IFERROR(VLOOKUP($D362,料理データ!$A$3:$BK$997,26,FALSE),\"\")","v":""},{"$f":"IFERROR(VLOOKUP($D362,料理データ!$A$3:$BK$997,29,FALSE),\"\")","v":""},{"$f":"IFERROR(VLOOKUP($D362,料理データ!$A$3:$BK$997,32,FALSE),\"\")","v":""},{"$f":"IFERROR(VLOOKUP($D362,料理データ!$A$3:$BK$997,35,FALSE),\"\")","v":""},{"$f":"IFERROR(VLOOKUP($D362,料理データ!$A$3:$BK$997,38,FALSE),\"\")","v":""},{"$f":"IFERROR(VLOOKUP($D362,料理データ!$A$3:$BK$997,41,FALSE),\"\")","v":""},{"$f":"IFERROR(VLOOKUP($D362,料理データ!$A$3:$BK$997,44,FALSE),\"\")","v":""},{"$f":"IFERROR(VLOOKUP($D362,料理データ!$A$3:$BK$997,47,FALSE),\"\")","v":""},{"$f":"IFERROR(VLOOKUP($D362,料理データ!$A$3:$BK$997,50,FALSE),\"\")","v":""},{"$f":"IFERROR(VLOOKUP($D362,料理データ!$A$3:$BK$997,53,FALSE),\"\")","v":""},{"$f":"IFERROR(VLOOKUP($D362,料理データ!$A$3:$BK$997,56,FALSE),\"\")","v":""},{"$f":"IFERROR(VLOOKUP($D362,料理データ!$A$3:$BK$997,59,FALSE),\"\")","v":""},{"$f":"IFERROR(VLOOKUP($D362,料理データ!$A$3:$BK$997,62,FALSE),\"\")","v":""},"                   ",{"$f":"SUBSTITUTE(Z362,\"-\",\"\")","v":"                   "}]
[{"$f":"+'月間献立（幼児）'!A35","v":31},{"$f":"+'月間献立（幼児）'!B35","v":"(月)"},"午前おやつ",{"$f":"+'月間献立（乳児）'!C34","v":0},{"$f":"IFERROR(VLOOKUP($D363,料理データ!$A$3:$BK$997,3,FALSE),\"\")","v":""},{"$f":"IFERROR(VLOOKUP($D363,料理データ!$A$3:$BK$997,5,FALSE),\"\")","v":""},{"$f":"IFERROR(VLOOKUP($D363,料理データ!$A$3:$BK$997,8,FALSE),\"\")","v":""},{"$f":"IFERROR(VLOOKUP($D363,料理データ!$A$3:$BK$997,11,FALSE),\"\")","v":""},{"$f":"IFERROR(VLOOKUP($D363,料理データ!$A$3:$BK$997,14,FALSE),\"\")","v":""},{"$f":"IFERROR(VLOOKUP($D363,料理データ!$A$3:$BK$997,17,FALSE),\"\")","v":""},{"$f":"IFERROR(VLOOKUP($D363,料理データ!$A$3:$BK$997,20,FALSE),\"\")","v":""},{"$f":"IFERROR(VLOOKUP($D363,料理データ!$A$3:$BK$997,23,FALSE),\"\")","v":""},{"$f":"IFERROR(VLOOKUP($D363,料理データ!$A$3:$BK$997,26,FALSE),\"\")","v":""},{"$f":"IFERROR(VLOOKUP($D363,料理データ!$A$3:$BK$997,29,FALSE),\"\")","v":""},{"$f":"IFERROR(VLOOKUP($D363,料理データ!$A$3:$BK$997,32,FALSE),\"\")","v":""},{"$f":"IFERROR(VLOOKUP($D363,料理データ!$A$3:$BK$997,35,FALSE),\"\")","v":""},{"$f":"IFERROR(VLOOKUP($D363,料理データ!$A$3:$BK$997,38,FALSE),\"\")","v":""},{"$f":"IFERROR(VLOOKUP($D363,料理データ!$A$3:$BK$997,41,FALSE),\"\")","v":""},{"$f":"IFERROR(VLOOKUP($D363,料理データ!$A$3:$BK$997,44,FALSE),\"\")","v":""},{"$f":"IFERROR(VLOOKUP($D363,料理データ!$A$3:$BK$997,47,FALSE),\"\")","v":""},{"$f":"IFERROR(VLOOKUP($D363,料理データ!$A$3:$BK$997,50,FALSE),\"\")","v":""},{"$f":"IFERROR(VLOOKUP($D363,料理データ!$A$3:$BK$997,53,FALSE),\"\")","v":""},{"$f":"IFERROR(VLOOKUP($D363,料理データ!$A$3:$BK$997,56,FALSE),\"\")","v":""},{"$f":"IFERROR(VLOOKUP($D363,料理データ!$A$3:$BK$997,59,FALSE),\"\")","v":""},{"$f":"IFERROR(VLOOKUP($D363,料理データ!$A$3:$BK$997,62,FALSE),\"\")","v":""},"                   ",{"$f":"SUBSTITUTE(Z363,\"-\",\" \")","v":"                   "},{"$f":"TRIM(CONCATENATE(AA363,AA364,AA365,\"▲\",AA366,AA367,AA368,AA369,AA370,AA371,\"▲\",AA372,AA373,AA374))","v":"▲ ▲"}]
[null,null,null,{"$f":"+'月間献立（乳児）'!D34","v":0},{"$f":"IFERROR(VLOOKUP($D364,料理データ!$A$3:$BK$997,3,FALSE),\"\")","v":""},{"$f":"IFERROR(VLOOKUP($D364,料理データ!$A$3:$BK$997,5,FALSE),\"\")","v":""},{"$f":"IFERROR(VLOOKUP($D364,料理データ!$A$3:$BK$997,8,FALSE),\"\")","v":""},{"$f":"IFERROR(VLOOKUP($D364,料理データ!$A$3:$BK$997,11,FALSE),\"\")","v":""},{"$f":"IFERROR(VLOOKUP($D364,料理データ!$A$3:$BK$997,14,FALSE),\"\")","v":""},{"$f":"IFERROR(VLOOKUP($D364,料理データ!$A$3:$BK$997,17,FALSE),\"\")","v":""},{"$f":"IFERROR(VLOOKUP($D364,料理データ!$A$3:$BK$997,20,FALSE),\"\")","v":""},{"$f":"IFERROR(VLOOKUP($D364,料理データ!$A$3:$BK$997,23,FALSE),\"\")","v":""},{"$f":"IFERROR(VLOOKUP($D364,料理データ!$A$3:$BK$997,26,FALSE),\"\")","v":""},{"$f":"IFERROR(VLOOKUP($D364,料理データ!$A$3:$BK$997,29,FALSE),\"\")","v":""},{"$f":"IFERROR(VLOOKUP($D364,料理データ!$A$3:$BK$997,32,FALSE),\"\")","v":""},{"$f":"IFERROR(VLOOKUP($D364,料理データ!$A$3:$BK$997,35,FALSE),\"\")","v":""},{"$f":"IFERROR(VLOOKUP($D364,料理データ!$A$3:$BK$997,38,FALSE),\"\")","v":""},{"$f":"IFERROR(VLOOKUP($D364,料理データ!$A$3:$BK$997,41,FALSE),\"\")","v":""},{"$f":"IFERROR(VLOOKUP($D364,料理データ!$A$3:$BK$997,44,FALSE),\"\")","v":""},{"$f":"IFERROR(VLOOKUP($D364,料理データ!$A$3:$BK$997,47,FALSE),\"\")","v":""},{"$f":"IFERROR(VLOOKUP($D364,料理データ!$A$3:$BK$997,50,FALSE),\"\")","v":""},{"$f":"IFERROR(VLOOKUP($D364,料理データ!$A$3:$BK$997,53,FALSE),\"\")","v":""},{"$f":"IFERROR(VLOOKUP($D364,料理データ!$A$3:$BK$997,56,FALSE),\"\")","v":""},{"$f":"IFERROR(VLOOKUP($D364,料理データ!$A$3:$BK$997,59,FALSE),\"\")","v":""},{"$f":"IFERROR(VLOOKUP($D364,料理データ!$A$3:$BK$997,62,FALSE),\"\")","v":""},"                   ",{"$f":"SUBSTITUTE(Z364,\"-\",\" \")","v":"                   "}]
[null,null,null,{"$f":"+'月間献立（乳児）'!E34","v":0},{"$f":"IFERROR(VLOOKUP($D365,料理データ!$A$3:$BK$997,3,FALSE),\"\")","v":""},{"$f":"IFERROR(VLOOKUP($D365,料理データ!$A$3:$BK$997,5,FALSE),\"\")","v":""},{"$f":"IFERROR(VLOOKUP($D365,料理データ!$A$3:$BK$997,8,FALSE),\"\")","v":""},{"$f":"IFERROR(VLOOKUP($D365,料理データ!$A$3:$BK$997,11,FALSE),\"\")","v":""},{"$f":"IFERROR(VLOOKUP($D365,料理データ!$A$3:$BK$997,14,FALSE),\"\")","v":""},{"$f":"IFERROR(VLOOKUP($D365,料理データ!$A$3:$BK$997,17,FALSE),\"\")","v":""},{"$f":"IFERROR(VLOOKUP($D365,料理データ!$A$3:$BK$997,20,FALSE),\"\")","v":""},{"$f":"IFERROR(VLOOKUP($D365,料理データ!$A$3:$BK$997,23,FALSE),\"\")","v":""},{"$f":"IFERROR(VLOOKUP($D365,料理データ!$A$3:$BK$997,26,FALSE),\"\")","v":""},{"$f":"IFERROR(VLOOKUP($D365,料理データ!$A$3:$BK$997,29,FALSE),\"\")","v":""},{"$f":"IFERROR(VLOOKUP($D365,料理データ!$A$3:$BK$997,32,FALSE),\"\")","v":""},{"$f":"IFERROR(VLOOKUP($D365,料理データ!$A$3:$BK$997,35,FALSE),\"\")","v":""},{"$f":"IFERROR(VLOOKUP($D365,料理データ!$A$3:$BK$997,38,FALSE),\"\")","v":""},{"$f":"IFERROR(VLOOKUP($D365,料理データ!$A$3:$BK$997,41,FALSE),\"\")","v":""},{"$f":"IFERROR(VLOOKUP($D365,料理データ!$A$3:$BK$997,44,FALSE),\"\")","v":""},{"$f":"IFERROR(VLOOKUP($D365,料理データ!$A$3:$BK$997,47,FALSE),\"\")","v":""},{"$f":"IFERROR(VLOOKUP($D365,料理データ!$A$3:$BK$997,50,FALSE),\"\")","v":""},{"$f":"IFERROR(VLOOKUP($D365,料理データ!$A$3:$BK$997,53,FALSE),\"\")","v":""},{"$f":"IFERROR(VLOOKUP($D365,料理データ!$A$3:$BK$997,56,FALSE),\"\")","v":""},{"$f":"IFERROR(VLOOKUP($D365,料理データ!$A$3:$BK$997,59,FALSE),\"\")","v":""},{"$f":"IFERROR(VLOOKUP($D365,料理データ!$A$3:$BK$997,62,FALSE),\"\")","v":""},"                   ",{"$f":"SUBSTITUTE(Z365,\"-\",\" \")","v":"                   "}]
[null,null,"昼食",{"$f":"+'月間献立（乳児）'!F34","v":0},{"$f":"IFERROR(VLOOKUP($D366,料理データ!$A$3:$BK$997,3,FALSE),\"\")","v":""},{"$f":"IFERROR(VLOOKUP($D366,料理データ!$A$3:$BK$997,5,FALSE),\"\")","v":""},{"$f":"IFERROR(VLOOKUP($D366,料理データ!$A$3:$BK$997,8,FALSE),\"\")","v":""},{"$f":"IFERROR(VLOOKUP($D366,料理データ!$A$3:$BK$997,11,FALSE),\"\")","v":""},{"$f":"IFERROR(VLOOKUP($D366,料理データ!$A$3:$BK$997,14,FALSE),\"\")","v":""},{"$f":"IFERROR(VLOOKUP($D366,料理データ!$A$3:$BK$997,17,FALSE),\"\")","v":""},{"$f":"IFERROR(VLOOKUP($D366,料理データ!$A$3:$BK$997,20,FALSE),\"\")","v":""},{"$f":"IFERROR(VLOOKUP($D366,料理データ!$A$3:$BK$997,23,FALSE),\"\")","v":""},{"$f":"IFERROR(VLOOKUP($D366,料理データ!$A$3:$BK$997,26,FALSE),\"\")","v":""},{"$f":"IFERROR(VLOOKUP($D366,料理データ!$A$3:$BK$997,29,FALSE),\"\")","v":""},{"$f":"IFERROR(VLOOKUP($D366,料理データ!$A$3:$BK$997,32,FALSE),\"\")","v":""},{"$f":"IFERROR(VLOOKUP($D366,料理データ!$A$3:$BK$997,35,FALSE),\"\")","v":""},{"$f":"IFERROR(VLOOKUP($D366,料理データ!$A$3:$BK$997,38,FALSE),\"\")","v":""},{"$f":"IFERROR(VLOOKUP($D366,料理データ!$A$3:$BK$997,41,FALSE),\"\")","v":""},{"$f":"IFERROR(VLOOKUP($D366,料理データ!$A$3:$BK$997,44,FALSE),\"\")","v":""},{"$f":"IFERROR(VLOOKUP($D366,料理データ!$A$3:$BK$997,47,FALSE),\"\")","v":""},{"$f":"IFERROR(VLOOKUP($D366,料理データ!$A$3:$BK$997,50,FALSE),\"\")","v":""},{"$f":"IFERROR(VLOOKUP($D366,料理データ!$A$3:$BK$997,53,FALSE),\"\")","v":""},{"$f":"IFERROR(VLOOKUP($D366,料理データ!$A$3:$BK$997,56,FALSE),\"\")","v":""},{"$f":"IFERROR(VLOOKUP($D366,料理データ!$A$3:$BK$997,59,FALSE),\"\")","v":""},{"$f":"IFERROR(VLOOKUP($D366,料理データ!$A$3:$BK$997,62,FALSE),\"\")","v":""},"                   ","                   "]
[null,null,null,{"$f":"+'月間献立（乳児）'!G34","v":0},{"$f":"IFERROR(VLOOKUP($D367,料理データ!$A$3:$BK$997,3,FALSE),\"\")","v":""},{"$f":"IFERROR(VLOOKUP($D367,料理データ!$A$3:$BK$997,5,FALSE),\"\")","v":""},{"$f":"IFERROR(VLOOKUP($D367,料理データ!$A$3:$BK$997,8,FALSE),\"\")","v":""},{"$f":"IFERROR(VLOOKUP($D367,料理データ!$A$3:$BK$997,11,FALSE),\"\")","v":""},{"$f":"IFERROR(VLOOKUP($D367,料理データ!$A$3:$BK$997,14,FALSE),\"\")","v":""},{"$f":"IFERROR(VLOOKUP($D367,料理データ!$A$3:$BK$997,17,FALSE),\"\")","v":""},{"$f":"IFERROR(VLOOKUP($D367,料理データ!$A$3:$BK$997,20,FALSE),\"\")","v":""},{"$f":"IFERROR(VLOOKUP($D367,料理データ!$A$3:$BK$997,23,FALSE),\"\")","v":""},{"$f":"IFERROR(VLOOKUP($D367,料理データ!$A$3:$BK$997,26,FALSE),\"\")","v":""},{"$f":"IFERROR(VLOOKUP($D367,料理データ!$A$3:$BK$997,29,FALSE),\"\")","v":""},{"$f":"IFERROR(VLOOKUP($D367,料理データ!$A$3:$BK$997,32,FALSE),\"\")","v":""},{"$f":"IFERROR(VLOOKUP($D367,料理データ!$A$3:$BK$997,35,FALSE),\"\")","v":""},{"$f":"IFERROR(VLOOKUP($D367,料理データ!$A$3:$BK$997,38,FALSE),\"\")","v":""},{"$f":"IFERROR(VLOOKUP($D367,料理データ!$A$3:$BK$997,41,FALSE),\"\")","v":""},{"$f":"IFERROR(VLOOKUP($D367,料理データ!$A$3:$BK$997,44,FALSE),\"\")","v":""},{"$f":"IFERROR(VLOOKUP($D367,料理データ!$A$3:$BK$997,47,FALSE),\"\")","v":""},{"$f":"IFERROR(VLOOKUP($D367,料理データ!$A$3:$BK$997,50,FALSE),\"\")","v":""},{"$f":"IFERROR(VLOOKUP($D367,料理データ!$A$3:$BK$997,53,FALSE),\"\")","v":""},{"$f":"IFERROR(VLOOKUP($D367,料理データ!$A$3:$BK$997,56,FALSE),\"\")","v":""},{"$f":"IFERROR(VLOOKUP($D367,料理データ!$A$3:$BK$997,59,FALSE),\"\")","v":""},{"$f":"IFERROR(VLOOKUP($D367,料理データ!$A$3:$BK$997,62,FALSE),\"\")","v":""},"                   ","                   "]
[null,null,null,{"$f":"+'月間献立（乳児）'!H34","v":0},{"$f":"IFERROR(VLOOKUP($D368,料理データ!$A$3:$BK$997,3,FALSE),\"\")","v":""},{"$f":"IFERROR(VLOOKUP($D368,料理データ!$A$3:$BK$997,5,FALSE),\"\")","v":""},{"$f":"IFERROR(VLOOKUP($D368,料理データ!$A$3:$BK$997,8,FALSE),\"\")","v":""},{"$f":"IFERROR(VLOOKUP($D368,料理データ!$A$3:$BK$997,11,FALSE),\"\")","v":""},{"$f":"IFERROR(VLOOKUP($D368,料理データ!$A$3:$BK$997,14,FALSE),\"\")","v":""},{"$f":"IFERROR(VLOOKUP($D368,料理データ!$A$3:$BK$997,17,FALSE),\"\")","v":""},{"$f":"IFERROR(VLOOKUP($D368,料理データ!$A$3:$BK$997,20,FALSE),\"\")","v":""},{"$f":"IFERROR(VLOOKUP($D368,料理データ!$A$3:$BK$997,23,FALSE),\"\")","v":""},{"$f":"IFERROR(VLOOKUP($D368,料理データ!$A$3:$BK$997,26,FALSE),\"\")","v":""},{"$f":"IFERROR(VLOOKUP($D368,料理データ!$A$3:$BK$997,29,FALSE),\"\")","v":""},{"$f":"IFERROR(VLOOKUP($D368,料理データ!$A$3:$BK$997,32,FALSE),\"\")","v":""},{"$f":"IFERROR(VLOOKUP($D368,料理データ!$A$3:$BK$997,35,FALSE),\"\")","v":""},{"$f":"IFERROR(VLOOKUP($D368,料理データ!$A$3:$BK$997,38,FALSE),\"\")","v":""},{"$f":"IFERROR(VLOOKUP($D368,料理データ!$A$3:$BK$997,41,FALSE),\"\")","v":""},{"$f":"IFERROR(VLOOKUP($D368,料理データ!$A$3:$BK$997,44,FALSE),\"\")","v":""},{"$f":"IFERROR(VLOOKUP($D368,料理データ!$A$3:$BK$997,47,FALSE),\"\")","v":""},{"$f":"IFERROR(VLOOKUP($D368,料理データ!$A$3:$BK$997,50,FALSE),\"\")","v":""},{"$f":"IFERROR(VLOOKUP($D368,料理データ!$A$3:$BK$997,53,FALSE),\"\")","v":""},{"$f":"IFERROR(VLOOKUP($D368,料理データ!$A$3:$BK$997,56,FALSE),\"\")","v":""},{"$f":"IFERROR(VLOOKUP($D368,料理データ!$A$3:$BK$997,59,FALSE),\"\")","v":""},{"$f":"IFERROR(VLOOKUP($D368,料理データ!$A$3:$BK$997,62,FALSE),\"\")","v":""},"                   ","                   "]
[null,null,null,{"$f":"+'月間献立（乳児）'!I34","v":0},{"$f":"IFERROR(VLOOKUP($D369,料理データ!$A$3:$BK$997,3,FALSE),\"\")","v":""},{"$f":"IFERROR(VLOOKUP($D369,料理データ!$A$3:$BK$997,5,FALSE),\"\")","v":""},{"$f":"IFERROR(VLOOKUP($D369,料理データ!$A$3:$BK$997,8,FALSE),\"\")","v":""},{"$f":"IFERROR(VLOOKUP($D369,料理データ!$A$3:$BK$997,11,FALSE),\"\")","v":""},{"$f":"IFERROR(VLOOKUP($D369,料理データ!$A$3:$BK$997,14,FALSE),\"\")","v":""},{"$f":"IFERROR(VLOOKUP($D369,料理データ!$A$3:$BK$997,17,FALSE),\"\")","v":""},{"$f":"IFERROR(VLOOKUP($D369,料理データ!$A$3:$BK$997,20,FALSE),\"\")","v":""},{"$f":"IFERROR(VLOOKUP($D369,料理データ!$A$3:$BK$997,23,FALSE),\"\")","v":""},{"$f":"IFERROR(VLOOKUP($D369,料理データ!$A$3:$BK$997,26,FALSE),\"\")","v":""},{"$f":"IFERROR(VLOOKUP($D369,料理データ!$A$3:$BK$997,29,FALSE),\"\")","v":""},{"$f":"IFERROR(VLOOKUP($D369,料理データ!$A$3:$BK$997,32,FALSE),\"\")","v":""},{"$f":"IFERROR(VLOOKUP($D369,料理データ!$A$3:$BK$997,35,FALSE),\"\")","v":""},{"$f":"IFERROR(VLOOKUP($D369,料理データ!$A$3:$BK$997,38,FALSE),\"\")","v":""},{"$f":"IFERROR(VLOOKUP($D369,料理データ!$A$3:$BK$997,41,FALSE),\"\")","v":""},{"$f":"IFERROR(VLOOKUP($D369,料理データ!$A$3:$BK$997,44,FALSE),\"\")","v":""},{"$f":"IFERROR(VLOOKUP($D369,料理データ!$A$3:$BK$997,47,FALSE),\"\")","v":""},{"$f":"IFERROR(VLOOKUP($D369,料理データ!$A$3:$BK$997,50,FALSE),\"\")","v":""},{"$f":"IFERROR(VLOOKUP($D369,料理データ!$A$3:$BK$997,53,FALSE),\"\")","v":""},{"$f":"IFERROR(VLOOKUP($D369,料理データ!$A$3:$BK$997,56,FALSE),\"\")","v":""},{"$f":"IFERROR(VLOOKUP($D369,料理データ!$A$3:$BK$997,59,FALSE),\"\")","v":""},{"$f":"IFERROR(VLOOKUP($D369,料理データ!$A$3:$BK$997,62,FALSE),\"\")","v":""},"                   ","                   "]
[null,null,null,{"$f":"+'月間献立（乳児）'!J34","v":0},{"$f":"IFERROR(VLOOKUP($D370,料理データ!$A$3:$BK$997,3,FALSE),\"\")","v":""},{"$f":"IFERROR(VLOOKUP($D370,料理データ!$A$3:$BK$997,5,FALSE),\"\")","v":""},{"$f":"IFERROR(VLOOKUP($D370,料理データ!$A$3:$BK$997,8,FALSE),\"\")","v":""},{"$f":"IFERROR(VLOOKUP($D370,料理データ!$A$3:$BK$997,11,FALSE),\"\")","v":""},{"$f":"IFERROR(VLOOKUP($D370,料理データ!$A$3:$BK$997,14,FALSE),\"\")","v":""},{"$f":"IFERROR(VLOOKUP($D370,料理データ!$A$3:$BK$997,17,FALSE),\"\")","v":""},{"$f":"IFERROR(VLOOKUP($D370,料理データ!$A$3:$BK$997,20,FALSE),\"\")","v":""},{"$f":"IFERROR(VLOOKUP($D370,料理データ!$A$3:$BK$997,23,FALSE),\"\")","v":""},{"$f":"IFERROR(VLOOKUP($D370,料理データ!$A$3:$BK$997,26,FALSE),\"\")","v":""},{"$f":"IFERROR(VLOOKUP($D370,料理データ!$A$3:$BK$997,29,FALSE),\"\")","v":""},{"$f":"IFERROR(VLOOKUP($D370,料理データ!$A$3:$BK$997,32,FALSE),\"\")","v":""},{"$f":"IFERROR(VLOOKUP($D370,料理データ!$A$3:$BK$997,35,FALSE),\"\")","v":""},{"$f":"IFERROR(VLOOKUP($D370,料理データ!$A$3:$BK$997,38,FALSE),\"\")","v":""},{"$f":"IFERROR(VLOOKUP($D370,料理データ!$A$3:$BK$997,41,FALSE),\"\")","v":""},{"$f":"IFERROR(VLOOKUP($D370,料理データ!$A$3:$BK$997,44,FALSE),\"\")","v":""},{"$f":"IFERROR(VLOOKUP($D370,料理データ!$A$3:$BK$997,47,FALSE),\"\")","v":""},{"$f":"IFERROR(VLOOKUP($D370,料理データ!$A$3:$BK$997,50,FALSE),\"\")","v":""},{"$f":"IFERROR(VLOOKUP($D370,料理データ!$A$3:$BK$997,53,FALSE),\"\")","v":""},{"$f":"IFERROR(VLOOKUP($D370,料理データ!$A$3:$BK$997,56,FALSE),\"\")","v":""},{"$f":"IFERROR(VLOOKUP($D370,料理データ!$A$3:$BK$997,59,FALSE),\"\")","v":""},{"$f":"IFERROR(VLOOKUP($D370,料理データ!$A$3:$BK$997,62,FALSE),\"\")","v":""},"                   ","                   "]
[null,null,null,{"$f":"+'月間献立（乳児）'!K34","v":0},{"$f":"IFERROR(VLOOKUP($D371,料理データ!$A$3:$BK$997,3,FALSE),\"\")","v":""},{"$f":"IFERROR(VLOOKUP($D371,料理データ!$A$3:$BK$997,5,FALSE),\"\")","v":""},{"$f":"IFERROR(VLOOKUP($D371,料理データ!$A$3:$BK$997,8,FALSE),\"\")","v":""},{"$f":"IFERROR(VLOOKUP($D371,料理データ!$A$3:$BK$997,11,FALSE),\"\")","v":""},{"$f":"IFERROR(VLOOKUP($D371,料理データ!$A$3:$BK$997,14,FALSE),\"\")","v":""},{"$f":"IFERROR(VLOOKUP($D371,料理データ!$A$3:$BK$997,17,FALSE),\"\")","v":""},{"$f":"IFERROR(VLOOKUP($D371,料理データ!$A$3:$BK$997,20,FALSE),\"\")","v":""},{"$f":"IFERROR(VLOOKUP($D371,料理データ!$A$3:$BK$997,23,FALSE),\"\")","v":""},{"$f":"IFERROR(VLOOKUP($D371,料理データ!$A$3:$BK$997,26,FALSE),\"\")","v":""},{"$f":"IFERROR(VLOOKUP($D371,料理データ!$A$3:$BK$997,29,FALSE),\"\")","v":""},{"$f":"IFERROR(VLOOKUP($D371,料理データ!$A$3:$BK$997,32,FALSE),\"\")","v":""},{"$f":"IFERROR(VLOOKUP($D371,料理データ!$A$3:$BK$997,35,FALSE),\"\")","v":""},{"$f":"IFERROR(VLOOKUP($D371,料理データ!$A$3:$BK$997,38,FALSE),\"\")","v":""},{"$f":"IFERROR(VLOOKUP($D371,料理データ!$A$3:$BK$997,41,FALSE),\"\")","v":""},{"$f":"IFERROR(VLOOKUP($D371,料理データ!$A$3:$BK$997,44,FALSE),\"\")","v":""},{"$f":"IFERROR(VLOOKUP($D371,料理データ!$A$3:$BK$997,47,FALSE),\"\")","v":""},{"$f":"IFERROR(VLOOKUP($D371,料理データ!$A$3:$BK$997,50,FALSE),\"\")","v":""},{"$f":"IFERROR(VLOOKUP($D371,料理データ!$A$3:$BK$997,53,FALSE),\"\")","v":""},{"$f":"IFERROR(VLOOKUP($D371,料理データ!$A$3:$BK$997,56,FALSE),\"\")","v":""},{"$f":"IFERROR(VLOOKUP($D371,料理データ!$A$3:$BK$997,59,FALSE),\"\")","v":""},{"$f":"IFERROR(VLOOKUP($D371,料理データ!$A$3:$BK$997,62,FALSE),\"\")","v":""},"                   ","                   "]
[null,null,"午後おやつ",{"$f":"+'月間献立（乳児）'!L34","v":0},{"$f":"IFERROR(VLOOKUP($D372,料理データ!$A$3:$BK$997,3,FALSE),\"\")","v":""},{"$f":"IFERROR(VLOOKUP($D372,料理データ!$A$3:$BK$997,5,FALSE),\"\")","v":""},{"$f":"IFERROR(VLOOKUP($D372,料理データ!$A$3:$BK$997,8,FALSE),\"\")","v":""},{"$f":"IFERROR(VLOOKUP($D372,料理データ!$A$3:$BK$997,11,FALSE),\"\")","v":""},{"$f":"IFERROR(VLOOKUP($D372,料理データ!$A$3:$BK$997,14,FALSE),\"\")","v":""},{"$f":"IFERROR(VLOOKUP($D372,料理データ!$A$3:$BK$997,17,FALSE),\"\")","v":""},{"$f":"IFERROR(VLOOKUP($D372,料理データ!$A$3:$BK$997,20,FALSE),\"\")","v":""},{"$f":"IFERROR(VLOOKUP($D372,料理データ!$A$3:$BK$997,23,FALSE),\"\")","v":""},{"$f":"IFERROR(VLOOKUP($D372,料理データ!$A$3:$BK$997,26,FALSE),\"\")","v":""},{"$f":"IFERROR(VLOOKUP($D372,料理データ!$A$3:$BK$997,29,FALSE),\"\")","v":""},{"$f":"IFERROR(VLOOKUP($D372,料理データ!$A$3:$BK$997,32,FALSE),\"\")","v":""},{"$f":"IFERROR(VLOOKUP($D372,料理データ!$A$3:$BK$997,35,FALSE),\"\")","v":""},{"$f":"IFERROR(VLOOKUP($D372,料理データ!$A$3:$BK$997,38,FALSE),\"\")","v":""},{"$f":"IFERROR(VLOOKUP($D372,料理データ!$A$3:$BK$997,41,FALSE),\"\")","v":""},{"$f":"IFERROR(VLOOKUP($D372,料理データ!$A$3:$BK$997,44,FALSE),\"\")","v":""},{"$f":"IFERROR(VLOOKUP($D372,料理データ!$A$3:$BK$997,47,FALSE),\"\")","v":""},{"$f":"IFERROR(VLOOKUP($D372,料理データ!$A$3:$BK$997,50,FALSE),\"\")","v":""},{"$f":"IFERROR(VLOOKUP($D372,料理データ!$A$3:$BK$997,53,FALSE),\"\")","v":""},{"$f":"IFERROR(VLOOKUP($D372,料理データ!$A$3:$BK$997,56,FALSE),\"\")","v":""},{"$f":"IFERROR(VLOOKUP($D372,料理データ!$A$3:$BK$997,59,FALSE),\"\")","v":""},{"$f":"IFERROR(VLOOKUP($D372,料理データ!$A$3:$BK$997,62,FALSE),\"\")","v":""},"                   ",{"$f":"SUBSTITUTE(Z372,\"-\",\"\")","v":"                   "}]
[null,null,null,{"$f":"+'月間献立（乳児）'!M34","v":0},{"$f":"IFERROR(VLOOKUP($D373,料理データ!$A$3:$BK$997,3,FALSE),\"\")","v":""},{"$f":"IFERROR(VLOOKUP($D373,料理データ!$A$3:$BK$997,5,FALSE),\"\")","v":""},{"$f":"IFERROR(VLOOKUP($D373,料理データ!$A$3:$BK$997,8,FALSE),\"\")","v":""},{"$f":"IFERROR(VLOOKUP($D373,料理データ!$A$3:$BK$997,11,FALSE),\"\")","v":""},{"$f":"IFERROR(VLOOKUP($D373,料理データ!$A$3:$BK$997,14,FALSE),\"\")","v":""},{"$f":"IFERROR(VLOOKUP($D373,料理データ!$A$3:$BK$997,17,FALSE),\"\")","v":""},{"$f":"IFERROR(VLOOKUP($D373,料理データ!$A$3:$BK$997,20,FALSE),\"\")","v":""},{"$f":"IFERROR(VLOOKUP($D373,料理データ!$A$3:$BK$997,23,FALSE),\"\")","v":""},{"$f":"IFERROR(VLOOKUP($D373,料理データ!$A$3:$BK$997,26,FALSE),\"\")","v":""},{"$f":"IFERROR(VLOOKUP($D373,料理データ!$A$3:$BK$997,29,FALSE),\"\")","v":""},{"$f":"IFERROR(VLOOKUP($D373,料理データ!$A$3:$BK$997,32,FALSE),\"\")","v":""},{"$f":"IFERROR(VLOOKUP($D373,料理データ!$A$3:$BK$997,35,FALSE),\"\")","v":""},{"$f":"IFERROR(VLOOKUP($D373,料理データ!$A$3:$BK$997,38,FALSE),\"\")","v":""},{"$f":"IFERROR(VLOOKUP($D373,料理データ!$A$3:$BK$997,41,FALSE),\"\")","v":""},{"$f":"IFERROR(VLOOKUP($D373,料理データ!$A$3:$BK$997,44,FALSE),\"\")","v":""},{"$f":"IFERROR(VLOOKUP($D373,料理データ!$A$3:$BK$997,47,FALSE),\"\")","v":""},{"$f":"IFERROR(VLOOKUP($D373,料理データ!$A$3:$BK$997,50,FALSE),\"\")","v":""},{"$f":"IFERROR(VLOOKUP($D373,料理データ!$A$3:$BK$997,53,FALSE),\"\")","v":""},{"$f":"IFERROR(VLOOKUP($D373,料理データ!$A$3:$BK$997,56,FALSE),\"\")","v":""},{"$f":"IFERROR(VLOOKUP($D373,料理データ!$A$3:$BK$997,59,FALSE),\"\")","v":""},{"$f":"IFERROR(VLOOKUP($D373,料理データ!$A$3:$BK$997,62,FALSE),\"\")","v":""},"                   ",{"$f":"SUBSTITUTE(Z373,\"-\",\" \")","v":"                   "}]
[null,null,null,{"$f":"+'月間献立（乳児）'!N34","v":0},{"$f":"IFERROR(VLOOKUP($D374,料理データ!$A$3:$BK$997,3,FALSE),\"\")","v":""},{"$f":"IFERROR(VLOOKUP($D374,料理データ!$A$3:$BK$997,5,FALSE),\"\")","v":""},{"$f":"IFERROR(VLOOKUP($D374,料理データ!$A$3:$BK$997,8,FALSE),\"\")","v":""},{"$f":"IFERROR(VLOOKUP($D374,料理データ!$A$3:$BK$997,11,FALSE),\"\")","v":""},{"$f":"IFERROR(VLOOKUP($D374,料理データ!$A$3:$BK$997,14,FALSE),\"\")","v":""},{"$f":"IFERROR(VLOOKUP($D374,料理データ!$A$3:$BK$997,17,FALSE),\"\")","v":""},{"$f":"IFERROR(VLOOKUP($D374,料理データ!$A$3:$BK$997,20,FALSE),\"\")","v":""},{"$f":"IFERROR(VLOOKUP($D374,料理データ!$A$3:$BK$997,23,FALSE),\"\")","v":""},{"$f":"IFERROR(VLOOKUP($D374,料理データ!$A$3:$BK$997,26,FALSE),\"\")","v":""},{"$f":"IFERROR(VLOOKUP($D374,料理データ!$A$3:$BK$997,29,FALSE),\"\")","v":""},{"$f":"IFERROR(VLOOKUP($D374,料理データ!$A$3:$BK$997,32,FALSE),\"\")","v":""},{"$f":"IFERROR(VLOOKUP($D374,料理データ!$A$3:$BK$997,35,FALSE),\"\")","v":""},{"$f":"IFERROR(VLOOKUP($D374,料理データ!$A$3:$BK$997,38,FALSE),\"\")","v":""},{"$f":"IFERROR(VLOOKUP($D374,料理データ!$A$3:$BK$997,41,FALSE),\"\")","v":""},{"$f":"IFERROR(VLOOKUP($D374,料理データ!$A$3:$BK$997,44,FALSE),\"\")","v":""},{"$f":"IFERROR(VLOOKUP($D374,料理データ!$A$3:$BK$997,47,FALSE),\"\")","v":""},{"$f":"IFERROR(VLOOKUP($D374,料理データ!$A$3:$BK$997,50,FALSE),\"\")","v":""},{"$f":"IFERROR(VLOOKUP($D374,料理データ!$A$3:$BK$997,53,FALSE),\"\")","v":""},{"$f":"IFERROR(VLOOKUP($D374,料理データ!$A$3:$BK$997,56,FALSE),\"\")","v":""},{"$f":"IFERROR(VLOOKUP($D374,料理データ!$A$3:$BK$997,59,FALSE),\"\")","v":""},{"$f":"IFERROR(VLOOKUP($D374,料理データ!$A$3:$BK$997,62,FALSE),\"\")","v":""},"                   ",{"$f":"SUBSTITUTE(Z374,\"-\",\"\")","v":"                   "}]
[]
[null,null,null,null,"料理名"]
[{"$f":"+'月間献立（幼児）'!A5","v":1},{"$f":"+'月間献立（幼児）'!B5","v":"(土)"},"午前おやつ",null,{"$f":"CONCATENATE(E3,\"　\",E4,\"　\",E5)","v":"　　"}]
[null,null,"昼食",null,{"$f":"CONCATENATE(E6,\"　\",E7,\"　\",E8,\"　\",E9,\"　\",E10,\"　\",E11)","v":"　　　　　"}]
[null,null,"午後おやつ",null,{"$f":"CONCATENATE(E12,\"　\",,E13,\"　\",E14)","v":"　　"}]
[{"$f":"+'月間献立（幼児）'!A6","v":2},{"$f":"+'月間献立（幼児）'!B6","v":"(日)"},"午前おやつ",null,{"$f":"CONCATENATE(E15,\"　\",E16,\"　\",E17)","v":"　　"}]
[null,null,"昼食",null,{"$f":"CONCATENATE(E18,\"　\",E19,\"　\",E20,\"　\",E21,\"　\",E22,\"　\",E23)","v":"　　　　　"}]
[null,null,"午後おやつ",null,{"$f":"CONCATENATE(E24,\"　\",E25,\"　\",E26)","v":"　　"}]
[{"$f":"+'月間献立（幼児）'!A7","v":3},{"$f":"+'月間献立（幼児）'!B7","v":"(月)"},"午前おやつ",null,{"$f":"CONCATENATE(E27,\"　\",E28,\"　\",E29)","v":"　　"}]
[null,null,"昼食",null,{"$f":"CONCATENATE(E30,\"　\",E31,\"　\",E32,\"　\",E33,\"　\",E34,\"　\",E35)","v":"　　　　　"}]
[null,null,"午後おやつ",null,{"$f":"CONCATENATE(E36,\"　\",E37,\"　\",E38)","v":"　　"}]
[{"$f":"+'月間献立（幼児）'!A8","v":4},{"$f":"+'月間献立（幼児）'!B8","v":"(火)"},"午前おやつ",null,{"$f":"CONCATENATE(E39,\"　\",E40,\"　\",E41)","v":"　　"}]
[null,null,"昼食",null,{"$f":"CONCATENATE(E42,\"　\",E43,\"　\",E44,\"　\",E45,\"　\",E46,\"　\",E47)","v":"　　　　　"}]
[null,null,"午後おやつ",null,{"$f":"CONCATENATE(E48,\"　\",E49,\"　\",E50)","v":"　　"}]
[{"$f":"+'月間献立（幼児）'!A9","v":5},{"$f":"+'月間献立（幼児）'!B9","v":"(水)"},"午前おやつ",null,{"$f":"CONCATENATE(E51,\"　\",E52,\"　\",E53)","v":"　　"}]
[null,null,"昼食",null,{"$f":"CONCATENATE(E54,\"　\",E55,\"　\",E56,\"　\",E57,\"　\",E58,\"　\",E59)","v":"　　　　　"}]
[null,null,"午後おやつ",null,{"$f":"CONCATENATE(E60,\"　\",E61,\"　\",E62)","v":"　　"}]
[{"$f":"+'月間献立（幼児）'!A10","v":6},{"$f":"+'月間献立（幼児）'!B10","v":"(木)"},"午前おやつ",null,{"$f":"CONCATENATE(E63,\"　\",E64,\"　\",E65)","v":"　　"}]
[null,null,"昼食",null,{"$f":"CONCATENATE(E66,\"　\",E67,\"　\",E68,\"　\",E69,\"　\",E70,\"　\",E71)","v":"　　　　　"}]
[null,null,"午後おやつ",null,{"$f":"CONCATENATE(E72,\"　\",E73,\"　\",E74)","v":"　　"}]
[{"$f":"+'月間献立（幼児）'!A11","v":7},{"$f":"+'月間献立（幼児）'!B11","v":"(金)"},"午前おやつ",null,{"$f":"CONCATENATE(E75,\"　\",E76,\"　\",E77)","v":"　　"}]
[null,null,"昼食",null,{"$f":"CONCATENATE(E78,\"　\",E79,\"　\",E80,\"　\",E81,\"　\",E82,\"　\",E83)","v":"　　　　　"}]
[null,null,"午後おやつ",null,{"$f":"CONCATENATE(E84,\"　\",E85,\"　\",E86)","v":"　　"}]
[{"$f":"+'月間献立（幼児）'!A12","v":8},{"$f":"+'月間献立（幼児）'!B12","v":"(土)"},"午前おやつ",null,{"$f":"CONCATENATE(E87,\"　\",E88,\"　\",E89)","v":"　　"}]
[null,null,"昼食",null,{"$f":"CONCATENATE(E90,\"　\",E91,\"　\",E92,\"　\",E93,\"　\",E94,\"　\",E95)","v":"　　　　　"}]
[null,null,"午後おやつ",null,{"$f":"CONCATENATE(E96,\"　\",E97,\"　\",E98)","v":"　　"}]
[{"$f":"+'月間献立（幼児）'!A13","v":9},{"$f":"+'月間献立（幼児）'!B13","v":"(日)"},"午前おやつ",null,{"$f":"CONCATENATE(E99,\"　\",E100,\"　\",E101)","v":"　　"}]
[null,null,"昼食",null,{"$f":"CONCATENATE(E102,\"　\",E103,\"　\",E104,\"　\",E105,\"　\",E106,\"　\",E107)","v":"　　　　　"}]
[null,null,"午後おやつ",null,{"$f":"CONCATENATE(E108,\"　\",E109,\"　\",E110)","v":"　　"}]
[{"$f":"+'月間献立（幼児）'!A14","v":10},{"$f":"+'月間献立（幼児）'!B14","v":"(月)"},"午前おやつ",null,{"$f":"CONCATENATE(E111,\"　\",E112,\"　\",E113)","v":"　　"}]
[null,null,"昼食",null,{"$f":"CONCATENATE(E114,\"　\",E115,\"　\",E116,\"　\",E117,\"　\",E118,\"　\",E119)","v":"　　　　　"}]
[null,null,"午後おやつ",null,{"$f":"CONCATENATE(E120,\"　\",E121,\"　\",E122)","v":"　　"}]
[{"$f":"+'月間献立（幼児）'!A15","v":11},{"$f":"+'月間献立（幼児）'!B15","v":"(火)"},"午前おやつ",null,{"$f":"CONCATENATE(E123,\"　\",E124,\"　\",E125)","v":"　　"}]
[null,null,"昼食",null,{"$f":"CONCATENATE(E126,\"　\",E127,\"　\",E128,\"　\",E129,\"　\",E130,\"　\",E131)","v":"　　　　　"}]
[null,null,"午後おやつ",null,{"$f":"CONCATENATE(E132,\"　\",E133,\"　\",E134)","v":"　　"}]
[{"$f":"+'月間献立（幼児）'!A16","v":12},{"$f":"+'月間献立（幼児）'!B16","v":"(水)"},"午前おやつ",null,{"$f":"CONCATENATE(E135,\"　\",E136,\"　\",E137)","v":"　　"}]
[null,null,"昼食",null,{"$f":"CONCATENATE(E138,\"　\",E139,\"　\",E140,\"　\",E141,\"　\",E142,\"　\",E143)","v":"　　　　　"}]
[null,null,"午後おやつ",null,{"$f":"CONCATENATE(E144,\"　\",E145,\"　\",E146)","v":"　　"}]
[{"$f":"+'月間献立（幼児）'!A17","v":13},{"$f":"+'月間献立（幼児）'!B17","v":"(木)"},"午前おやつ",null,{"$f":"CONCATENATE(E147,\"　\",E148,\"　\",E149)","v":"　　"}]
[null,null,"昼食",null,{"$f":"CONCATENATE(E150,\"　\",E151,\"　\",E152,\"　\",E153,\"　\",E154,\"　\",E155)","v":"　　　　　"}]
[null,null,"午後おやつ",null,{"$f":"CONCATENATE(E156,\"　\",E157,\"　\",E158)","v":"　　"}]
[{"$f":"+'月間献立（幼児）'!A18","v":14},{"$f":"+'月間献立（幼児）'!B18","v":"(金)"},"午前おやつ",null,{"$f":"CONCATENATE(E159,\"　\",E160,\"　\",E161)","v":"　　"}]
[null,null,"昼食",null,{"$f":"CONCATENATE(E162,\"　\",E163,\"　\",E164,\"　\",E165,\"　\",E166,\"　\",E167)","v":"　　　　　"}]
[null,null,"午後おやつ",null,{"$f":"CONCATENATE(E168,\"  \",E169,\"  \",E170)","v":"    "}]
[{"$f":"+'月間献立（幼児）'!A19","v":15},{"$f":"+'月間献立（幼児）'!B19","v":"(土)"},"午前おやつ",null,{"$f":"CONCATENATE(E171,\"　\",E172,\"　\",E173)","v":"　　"}]
[null,null,"昼食",null,{"$f":"CONCATENATE(E174,\"　\",E175,\"　\",E176,\"　\",E177,\"　\",E178,\"　\",E179)","v":"　　　　　"}]
[null,null,"午後おやつ",null,{"$f":"CONCATENATE(E180,\"　\",E181,\"　\",E182)","v":"　　"}]
[{"$f":"+'月間献立（幼児）'!A20","v":16},{"$f":"+'月間献立（幼児）'!B20","v":"(日)"},"午前おやつ",null,{"$f":"CONCATENATE(E183,\"　\",E184,\"　\",E185)","v":"　　"}]
[null,null,"昼食",null,{"$f":"CONCATENATE(E186,\"　\",E187,\"　\",E188,\"　\",E189,\"　\",E190,\"　\",E191)","v":"　　　　　"}]
[null,null,"午後おやつ",null,{"$f":"CONCATENATE(E192,\"　\",E193,\"　\",E194)","v":"　　"}]
[{"$f":"+'月間献立（幼児）'!A21","v":17},{"$f":"+'月間献立（幼児）'!B21","v":"(月)"},"午前おやつ",null,{"$f":"CONCATENATE(E195,\"　\",E196,\"　\",E197)","v":"　　"}]
[null,null,"昼食",null,{"$f":"CONCATENATE(E198,\"　\",E199,\"　\",E200,\"　\",E201,\"　\",E202,\"　\",E203)","v":"　　　　　"}]
[null,null,"午後おやつ",null,{"$f":"CONCATENATE(E204,\"　\",E205,\"　\",E206)","v":"　　"}]
[{"$f":"+'月間献立（幼児）'!A22","v":18},{"$f":"+'月間献立（幼児）'!B22","v":"(火)"},"午前おやつ",null,{"$f":"CONCATENATE(E207,\"　\",E208,\"　\",E209)","v":"　　"}]
[null,null,"昼食",null,{"$f":"CONCATENATE(E210,\"　\",E211,\"　\",E212,\"　\",E213,\"　\",E214,\"　\",E215)","v":"　　　　　"}]
[null,null,"午後おやつ",null,{"$f":"CONCATENATE(E216,\"　\",E217,\"　\",E218)","v":"　　"}]
[{"$f":"+'月間献立（幼児）'!A23","v":19},{"$f":"+'月間献立（幼児）'!B23","v":"(水)"},"午前おやつ",null,{"$f":"CONCATENATE(E219,\"　\",E220,\"　\",E221)","v":"　　"}]
[null,null,"昼食",null,{"$f":"CONCATENATE(E222,\"　\",E223,\"　\",E224,\"　\",E225,\"　\",E226,\"　\",E227)","v":"　　　　　"}]
[null,null,"午後おやつ",null,{"$f":"CONCATENATE(E228,\"　\",E229,\"　\",E230)","v":"　　"}]
[{"$f":"+'月間献立（幼児）'!A24","v":20},{"$f":"+'月間献立（幼児）'!B24","v":"(木)"},"午前おやつ",null,{"$f":"CONCATENATE(E231,\"　\",E232,\"　\",E233)","v":"　　"}]
[null,null,"昼食",null,{"$f":"CONCATENATE(E234,\"　\",E235,\"　\",E236,\"　\",E237,\"　\",E238,\"　\",E239)","v":"　　　　　"}]
[null,null,"午後おやつ",null,{"$f":"CONCATENATE(E240,\"　\",E241,\"　\",E242)","v":"　　"}]
[{"$f":"+'月間献立（幼児）'!A25","v":21},{"$f":"+'月間献立（幼児）'!B25","v":"(金)"},"午前おやつ",null,{"$f":"CONCATENATE(E243,\"　\",E244,\"　\",E245)","v":"　　"}]
[null,null,"昼食",null,{"$f":"CONCATENATE(E246,\"　\",E247,\"　\",E248,\"　\",E249,\"　\",E250,\"　\",E251)","v":"　　　　　"}]
[null,null,"午後おやつ",null,{"$f":"CONCATENATE(E252,\"　\",E253,\"　\",E254)","v":"　　"}]
[{"$f":"+'月間献立（幼児）'!A26","v":22},{"$f":"+'月間献立（幼児）'!B26","v":"(土)"},"午前おやつ",null,{"$f":"CONCATENATE(E255,\"　\",E256,\"　\",E257)","v":"　　"}]
[null,null,"昼食",null,{"$f":"CONCATENATE(E258,\"　\",E259,\"　\",E260,\"　\",E261,\"　\",E262,\"　\",E263)","v":"　　　　　"}]
[null,null,"午後おやつ",null,{"$f":"CONCATENATE(E264,\"　\",E265,\"　\",E266)","v":"　　"}]
[{"$f":"+'月間献立（幼児）'!A27","v":23},{"$f":"+'月間献立（幼児）'!B27","v":"(日)"},"午前おやつ",null,{"$f":"CONCATENATE(E267,\"　\",E268,\"　\",E269)","v":"　　"}]
[null,null,"昼食",null,{"$f":"CONCATENATE(E270,\"　\",E271,\"　\",E272,\"　\",E273,\"　\",E274,\"　\",E275)","v":"　　　　　"}]
[null,null,"午後おやつ",null,{"$f":"CONCATENATE(E276,\"　\",E277,\"　\",E278)","v":"　　"}]
[{"$f":"+'月間献立（幼児）'!A28","v":24},{"$f":"+'月間献立（幼児）'!B28","v":"(月)"},"午前おやつ",null,{"$f":"CONCATENATE(E279,\"　\",E280,\"　\",E281)","v":"　　"}]
[null,null,"昼食",null,{"$f":"CONCATENATE(E282,\"　\",E283,\"　\",E284,\"　\",E285,\"　\",E286,\"　\",E287)","v":"　　　　　"}]
[null,null,"午後おやつ",null,{"$f":"CONCATENATE(E288,\"　\",E289,\"　\",E290)","v":"　　"}]
[{"$f":"+'月間献立（幼児）'!A29","v":25},{"$f":"+'月間献立（幼児）'!B29","v":"(火)"},"午前おやつ",null,{"$f":"CONCATENATE(E291,\"　\",E292,\"　\",E293)","v":"　　"}]
[null,null,"昼食",null,{"$f":"CONCATENATE(E294,\"　\",E295,\"　\",E296,\"　\",E297,\"　\",E298,\"　\",E299)","v":"　　　　　"}]
[null,null,"午後おやつ",null,{"$f":"CONCATENATE(E300,\"　\",E301,\"　\",E302)","v":"　　"}]
[{"$f":"+'月間献立（幼児）'!A30","v":26},{"$f":"+'月間献立（幼児）'!B30","v":"(水)"},"午前おやつ",null,{"$f":"CONCATENATE(E303,\"  \",E304,\"  \",E305)","v":"    "}]
[null,null,"昼食",null,{"$f":"CONCATENATE(E306,\"　\",E307,\"　\",E308,\"　\",E309,\"　\",E310,\"　\",E311)","v":"　　　　　"}]
[null,null,"午後おやつ",null,{"$f":"CONCATENATE(E312,\"　\",E313,\"  \",E314)","v":"　  "}]
[{"$f":"+'月間献立（幼児）'!A31","v":27},{"$f":"+'月間献立（幼児）'!B31","v":"(木)"},"午前おやつ",null,{"$f":"CONCATENATE(E315,\"　\",E316,\"　\",E317)","v":"　　"}]
[null,null,"昼食",null,{"$f":"CONCATENATE(E318,\"　\",E319,\"　\",E320,\"　\",E321,\"　\",E322,\"　\",E323)","v":"　　　　　"}]
[null,null,"午後おやつ",null,{"$f":"CONCATENATE(E324,\"　\",E325,\"　\",E326)","v":"　　"}]
[{"$f":"+'月間献立（幼児）'!A32","v":28},{"$f":"+'月間献立（幼児）'!B32","v":"(金)"},"午前おやつ",null,{"$f":"CONCATENATE(E327,\"　\",E328,\"　\",E329)","v":"　　"}]
[null,null,"昼食",null,{"$f":"CONCATENATE(E330,\"　\",E331,\"　\",E332,\"　\",E333,\"　\",E334,\"　\",E335)","v":"　　　　　"}]
[null,null,"午後おやつ",null,{"$f":"CONCATENATE(E336,\"　\",E337,\"　\",E338)","v":"　　"}]
[{"$f":"+'月間献立（幼児）'!A33","v":29},{"$f":"+'月間献立（幼児）'!B33","v":"(土)"},"午前おやつ",null,{"$f":"CONCATENATE(E339,\"　\",E340,\"　\",E341)","v":"　　"}]
[null,null,"昼食",null,{"$f":"CONCATENATE(E342,\"　\",E343,\"　\",E344,\"　\",E345,\"　\",E346,\"　\",E347)","v":"　　　　　"}]
[null,null,"午後おやつ",null,{"$f":"CONCATENATE(E348,\"　\",E349,\"　\",E350)","v":"　　"}]
[{"$f":"+'月間献立（幼児）'!A34","v":30},{"$f":"+'月間献立（幼児）'!B34","v":"(日)"},"午前おやつ",null,{"$f":"CONCATENATE(E351,\"　\",E352,\"　\",E353)","v":"　　"}]
[null,null,"昼食",null,{"$f":"CONCATENATE(E354,\"　\",E355,\"　\",E356,\"　\",E357,\"　\",E358,\"　\",E359)","v":"　　　　　"}]
[null,null,"午後おやつ",null,{"$f":"CONCATENATE(E360,\"　\",E361,\"　\",E362)","v":"　　"}]
[{"$f":"+'月間献立（幼児）'!A35","v":31},{"$f":"+'月間献立（幼児）'!B35","v":"(月)"},"午前おやつ",null,{"$f":"CONCATENATE(E363,\"　\",E364,\"　\",E365)","v":"　　"}]
[null,null,"昼食",null,{"$f":"CONCATENATE(E366,\"　\",E367,\"　\",E368,\"　\",E369,\"　\",E370,\"　\",E371)","v":"　　　　　"}]
[null,null,"午後おやつ",null,{"$f":"CONCATENATE(E372,\"　\",E373,\"　\",E374)","v":"　　"}]