Workbook

Sheet 提出書類一覧表（区分B）
D1: 提出書類一覧表（チェック表） 【募集区分Ｂ】 | AD1: 施設名 | AE1: ='４付表１（事業所情報等）'!E5 -> 0
C2: 番号 | D2: 必 要 （添 付） 書 類 | AD2: 添付の 有無 | AE2: 備 考
C3: １ | D3: 乳児等通園支援事業認可申請書 【様式乳第１号】
C4: ２ | D4: 特定乳児等通園支援事業確認申請書 【様式乳確第１号】
C5: ３ | D5: 申請書別添
C6: ４ | D6: 付表１、付表２、付表３、付表４
C7: ５ | D7: 経営者等一覧表 （別紙１） ※経営者等について取締役・理事等以外に評議員（社員）・監事・監査役などを指す。 | AE7: 事業所内保育事業の場合で委託している場合は委託元、委託先両方提出
C8: ６ | D8: 経営責任者経歴書 （別紙２） ※代表者のみ必要。（他役員の添付は不要）
C9: ７ | D9: 実務を担当する幹部職員 （別紙３） | AE9: 社会福祉法人及び学校法人は提出不要
C10: ８ | D10: 職員等一覧表 （別紙４） ※乳児等通園支援事業に従事する職員のみで作成
C11: ９ | D11: 管理者の経歴書 （別紙５）
C12: １０ | D12: 所定労働時間等の明記された職員雇用通知書の控えの写し ※管理者及び配置基準の対象となる職員のみ必要
C13: １１ | D13: 職員の資格証明書（保育士証等）の写し ※管理者及び配置基準の対象となる職員のみ必要
C14: １２ | D14: 配置職員ローテーション表 ※曜日、時間ごとで資格の有無及び雇用形態も含めた職員配置が分かるもの
C15: １３ | D15: 平面図 ※各室の用途が分かるもので、詳細な寸法、保育室等の有効面積及び必要な設備が記載されているもの ※各保育室の有効面崎は必ず記載していること
C16: １４ | D16: 設置者の定款又は寄付行為等の写し | AF16: ← | AH16: 定款は申請時に変更前を提出して後日差し替えする
C17: １５ | D17: 運営規程 ※乳児等通園支援事業についての記載があるものを提出
C18: １６ | D18: 保育所保育指針に準じたこども誰でも通園制度の全体的な計画 ※保育課程及び年間指導計画は必須
C19: １７ | D19: 就業規則、安全衛生規定、給与規定、経理規定、その他の規程（作成している場合のみ）
C20: １８ | D20: 決算書 ※直近３決算期または３事業年度分の実績 | AE20: 法人全体分を提出 （令和５、６、７年度の３か年）
C21: １９ | D21: 収支予算書 ※事業開始年度のもの | AE21: 乳児等通園支援事業に係る部分のみで作成。
C22: ２０ | D22: 金融機関発行の残高証明書 ※原本提出（コピー不可） ※残高証明書が複数ある場合は同一日現在の残高がわかるものの提出が必要 ※預金通帳の写しは不可 | AE22: 令和８年10月１日現在のもの | AF22: ← | AH22: 必ず原本を提出すること。
C23: ２１ | D23: 理事会等の決議録 ※乳児等通園支援事業開園を決議したもの | AE23: 法人の場合のみ提出
C24: ２２ | D24: 児童福祉法第34条の15第３項第４号の規定に該当しない旨の誓約書 （別紙６）
C25: ２３ | D25: 反社会的勢力に該当しない旨の誓約書 （別紙７）
C26: ２４ | D26: 子ども・子育て支援法第52条第２項に規定する申請をすることができない者に該当しない旨の誓約書 （別紙８）
C27: ２５ | D27: 利用者又はその家族からの苦情を処理するために講ずる措置の概要
C28: ２６ | D28: 事故防止、災害対策、緊急時対応、安全管理、健康管理、衛生管理マニュアル
C29: ２７ | D29: 事故等に対する保険加入証等の写し
C30: ２８ | D30: 虐待防止マニュアル
C31: ２９ | D31: 乳児等通園支援事業にかかる保護者等に提供する情報開示書類（園募集要項、重要事項説明書、ホームページ等） ※ 重要事項説明書の提出は必須
C32: ３０ | D32: 個人情報保護に関する取扱いを示すもの
C33: ３１ | D33: その他必要に応じて大阪市が求める書類
D34: ・提出がある場合は、「○」を記入してください。該当しない場合については、「－」を記入してください。
D35: 「○」、「－」のいずれかを必ず記入してください。
D36: ・提出不要の書類があっても、見出し用の紙を差し込み、提出不要であることを明記してください。
E41: 必要な不動産の登記事項証明書
E42: 建物 | H42: 土地 | K42: 必要な登記事項証明書
E43: 自己所有 | H43: 自己所有 | K43: 建物、土地の両方必要
E44: 賃貸 | H44: 自己所有 | K44: 建物、土地の両方必要
...

Sheet 認可項目チェック
I1: 施設名 | J1: ='４付表１（事業所情報等）'!E5 -> 0
A2: 番号 | B2: チェック項目 | I2: 申請者 チェック | J2: 大阪市 チェック | K2: 備考
A3: 1 | B3: 乳児等通園支援事業認可申請書 【様式乳第１号】
B4: ・ | C4: 申請日が記載されていること
B5: ・ | C5: 届出者が保育所園等を実施する法人又は個人になっていること （申請する事業所名ではない）
B6: ・ | C6: 認可申請する事業所は、誰でも通園で使用する事業所名称になっていること
A7: 2 | B7: 特定乳児等通園支援事業確認申請書 【様式乳確第１号】
B8: ・ | C8: 申請日が記載されていること
B9: ・ | C9: 届出者が保育所園等を実施する法人又は個人になっていること （申請する事業所名ではない）
B10: ・ | C10: 確認申請する事業所は、誰でも通園で使用する事業所名称になっていること
A11: 3 | B11: 申請書別添
B12: ・ | C12: 申請者欄の内容は保育所園等を実施する法人又は個人の内容になっていること
B13: ・ | C13: 問い合わせ先欄が記載されていること
B14: ・ | C14: 乳児等通園支援事業の区分欄は、どちらか一方に「〇」がついていること
A15: 4 | B15: 付表１【事業所情報】
C16: ・ | D16: 事業所名称、所在地、連絡先は、誰でも通園のものになっていること
C17: ・ | D17: 併設施設は、認可している保育所園等のものになっていること
C18: ・ | D18: 管理者は、誰でも通園の管理者を記載していること
D19: ※管理者が、併設施設（保育所等）の施設長が兼務する際には、併設施設側で専従加算に抵触する場合は減算措置されるので注意すること
B20: 付表１【事業所情報】
C21: ・ | D21: 乳児等通園支援事業欄に全て記載していること
C22: ・ | D22: 実施開始（予定）年月日は、令和９年４月１日までの日付であること
B23: 付表２【実施情報】
C24: ・ | D24: 事業所名、保育所等と一体的な運営欄が記載されていること
C25: ・ | D25: 保育室面積欄が「0.00㎡」でないこと。保育士及び保育従事者数欄に数字が入力されていること。
C26: ・ | D26: 利用方法、同年齢・異年齢別、実施時間、実施曜日、実施回数、定員欄の全てに入力があること（定員欄は、定員を設けない歳児は空白になる）
C27: ・ | D27: 必要面積の「判定」が全て「○」になっていること
C28: ・ | D28: 必要配置人数（保育所等と一体的な運営をする場合は「一体運営」）が、全ての曜日、時間において、必要書類「配置職員ローテーション」に記載されている人数を満たしていること
B29: 付表３ 【職員の状況】
C30: ・ | D30: 配置数の内訳が職員等一覧表と一致していること
B31: 付表３ 【運営の状況①】
C32: ・ | D32: 全て入力されていること。
D33: （食事等の提供欄の「外部搬入又はお弁当の場合、保管方法と安全対策」は、食事欄が給食提供ありのみの場合は記載不要）
C34: ・ | D34: 食事等の提供欄の給食の実施方法項目で施設内調理に✔をした場合
D35: 調理担当が事業実施者の場合は、職員等一覧表（別紙４）に調理員を記載していること
C36: ・ | D36: 親子通園、障がい児の受入、医療的ケア児の受入について、実施の有（または実施）の場合はその具体的な内容、実施の無（または未実施）の場合は理由が記載されていること
B37: 付表３ 【運営の状況②】
C38: ・ | D38: その他の運営情報欄が全て記載されていること
B39: 付表４ 【事業所情報（設備等）】
C40: ・ | D40: 建物の構造・階数が記載されていること
...

Sheet １ 認可申請書
B3: （様式乳第１号）
B5: 乳児等通園支援事業認可申請書
AE9: 令和 | AI9: 年 | AL9: 月 | AO9: 日
B12: 大 阪 市 長 様
U15: 住所又は所在地 | AC15: =CONCATENATE('３申請書別添'!K5)
AC16: =IF('３申請書別添'!K6="","",+'３申請書別添'!K6)
AC17: =+'３申請書別添'!S7 -> 0
S18: 届 出 者 | U18: 氏名又は法人名 | AC18: =+'３申請書別添'!K3 -> 0
U19: 法人の場合は代表者の役職及び氏名
AC20: =+'３申請書別添'!M13 -> 0 | AH20: =+'３申請書別添'!AA14 -> 0
B26: 児童福祉法第34条の15第２項の規定により、乳児等通園支援事業の認可を申請します。
G33: 認可申請する事業所 | R33: ='４付表１（事業所情報等）'!E5 -> 0

Sheet ２確認申請書
B3: （様式乳確第１号）
B5: 特定乳児等通園支援事業確認申請書
AE9: 令和 | AG9: =+'１ 認可申請書'!AG9 -> 0 | AI9: 年 | AJ9: =+'１ 認可申請書'!AJ9 -> 0 | AL9: 月 | AM9: =+'１ 認可申請書'!AM9 -> 0 | AO9: 日
B12: 大 阪 市 長 様
U15: 住所又は所在地 | AC15: ='３申請書別添'!K5 -> 0
AC16: ='３申請書別添'!K6 -> 0
AC17: ='３申請書別添'!S7 -> 0
S18: 届 出 者 | U18: 氏名又は法人名 | AC18: =+'３申請書別添'!K3 -> 0
U19: 法人の場合は代表者の役職及び氏名
AC20: =+'３申請書別添'!M13 -> 0 | AH20: =+'３申請書別添'!AA14 -> 0
B26: 子ども・子育て支援法第54条の２第２項の規定に基づき、特定乳児等通園支援事業者に係る確認を受けたいので、次のとおり、必要書類を添えて申請します。
G33: 申請する事業所 | P33: ='４付表１（事業所情報等）'!E5 -> 0
C41: （添付書類） | I41: 事業所情報、事業実施情報、職員の状況、運営の状況がわかる書面
I42: 組織、職員の配置・資格を証する書面
I43: 図面、定款・寄附行為その他の規約、
I44: 財務諸表、経済的基盤を証する書面、
I45: 各種マニュアル類等、募集要項で提出を求める書面（認可時と変更なければその旨）

Sheet ３申請書別添
B1: 申請書別添 | U1: 【 | V1: ='４付表１（事業所情報等）'!E5 -> 0 | AL1: 】
B2: 申請者（認可・確認を受けようとする者） | D2: フリガナ | AM2: ← | AN2: 半角フリガナで記入すること。
D3: 氏名又は名称 | AM3: ← | AN3: 事業所内保育事業の場合、認可を受ける事業者名を記入すること。登記事項証明書にある「名称」を記入すること。
D4: 住所又は所在地 | K4: （ | L4: 郵便番号 | S4: ー | X4: ） | AN4: 登記事項証明書にある「主たる事務所」・「本店」、又は個人の場合住所を記入すること
AM5: ←
K7: （ビルの名称等） | AN7: 法人、又は個人の場合は事業所の代表電話・ＦＡＸを記入すること
K8: 電話番号 | R8: ー | V8: ー | AM8: ←
K9: FAX番号 | R9: ー | V9: ー
K10: E-mail アドレス | AN10: 法人の本部等の代表E‐mailを記入すること。
D11: 設立年月日 | Q11: 年 | T11: 月 | W11: 日
D12: 法人等の種別 | T12: 法人所轄庁
D13: 代表者の 職名・氏名 | K13: 職名 | V13: フリガナ | AN13: 個人事業者については、記入の必要なし。
V14: 氏 名 | AM14: ←
D15: 代表者の 住所 | K15: （ | L15: 郵便番号 | S15: ー | X15: ）
B20: この件の問合せ先 | I20: フリガナ 担当者 | AN20: 今回の申請にあたってのご担当者の名前、電話番号を記入すること。
AM21: ←
I22: 電話 | O22: ー | S22: ー
B24: 乳児等通園支援事業 の区分 | K24: 区 分 | AF24: 添付様式
M25: 一般型乳児等通園支援事業（在園児合同実施） | AF25: 付表１～４
M26: 一般型乳児等通園支援事業（専用室独立実施）
B30: 個人 | I30: 大阪市
B31: 社会福祉法人 | I31: 大阪府
B32: 株式会社 | I32: その他
B33: 公益財団法人
B34: 有限会社
B35: 合同会社
B36: 合資会社
B37: 合名会社
B38: 一般財団法人
B39: 公益財団法人
B40: 一般社団法人
B41: 公益社団法人
B42: 特定非営利活動法人等
B43: 学校法人
B44: 宗教法人
... B46: その他

Sheet ４付表１（事業所情報等）
B1: 付表１ 乳児等通園支援事業の認可に係る記載事項 | AM1: =TIME(W1,AB1,0) -> 0
AM2: =TIME(W2,AB2,0) -> 0
B3: 【事業所情報】 | T3: 【 | U3: =+E5 -> 0 | AL3: 】 | AM3: =TIME(W3,AB3,0) -> 0
B4: フリガナ | AM4: =TIME(W4,AB4,0) -> 0 | AW4: ← | AX4: 正式な事業所名称を記入すること。（使える文字は、ひらがな、漢字、アルファベット、アラビア数字のみです。）
B5: 事業所名称 | AM5: =TIME(W5,AB5,0) -> 0
B6: 実施する 乳児等通園支援事業 | E6: ='３申請書別添'!K25 -> 0 | G6: 一般型乳児等通園支援事業（在園児合同実施） | AM6: =TIME(W6,AB6,0) -> 0
E7: ='３申請書別添'!K26 -> 0 | G7: 一般型乳児等通園支援事業（専用室独立実施） | AM7: =+AC7 -> 0
AM8: =+AC8 -> 0
B9: フリガナ | E9: ='３申請書別添'!K2 -> 0 | AM9: =+AC9 -> 0
B10: 事業者名 【認可主体】 | E10: ='３申請書別添'!K3 -> 0 | AM10: =+AC10 -> 0
B11: 事業所の 所在地 ・ 連絡先 | E11: （ | F11: 郵便番号 | M11: ー | R11: ）
E12: 大阪市 | K12: 区 | AW12: ← | AX12: 事業所の住所を記入すること。
E14: （ビルの名称等）
E15: 電話番号 | L15: ー | P15: ー | U15: FAX番号 | AB15: ー | AF15: ー
E16: E-mailｱﾄﾞﾚｽ （公表用） | AW16: ← | AX16: 利用者などに公表しているメールアドレスを記入すること。
E17: E-mailｱﾄﾞﾚｽ （事務用） | AW17: ← | AX17: 利用者などに公表はしていないが、事務で使用しているメールアドレスを記入すること。
E18: 施設ホームページＵＲＬ
B19: 併設施設 （併設する施設がある場合は記入） | E19: 名 称
E20: 施設種別 | AX20: 申請日 | AY20: =CONCATENATE('１ 認可申請書'!AE9,'１ 認可申請書'!AG9,'１ 認可申請書'!AI9,'１ 認可申請書'!AJ9,'１ 認可申請書'!AL9,'１ 認可申請書'!AM9,'１ 認可申請書'!AO9) -> 令和年月日
B21: 管理者 | C21: 氏名・生年月日 | E21: フリガナ | U21: 生年月日 | AD21: 年 | AG21: 月 | AK21: 日 | AM21: 日 | AY21: =CONCATENATE(Z21,AB21,AD21,AE21,AG21,AH21,AK21) -> 年月日
E22: 氏 名 | AE22: （ | AF22: 満 | AG22: =IFERROR(DATEDIF(AY21,AY20,"Y"),"") | AI22: 歳 | AJ22: ） | AM22: ）
C23: 就任年月日 | I23: 年 | L23: 月 | O23: 日
C24: 免許・資格の 種 類 | F24: 無 | I24: 保育士資格 | O24: 幼稚園教諭免許（ | V24: 専修免許 | AA24: 一種免許 | AF24: 二種免許） | AO24: FALSE | AP24: FALSE | AQ24: FALSE | AR24: FALSE | AS24: FALSE | AT24: FALSE
F25: 看護師免許 | L25: その他 | O25: （ | AL25: ） | AN25: FALSE
B26: 職員数 | E26: 管理者 | I26: 保育士 | M26: 保育従事者 | Q26: その他 | U26: 計 | AX26: =IF(U27='４付表３（職員・運営の状況）'!AJ4+'４付表３（職員・運営の状況）'!AJ5,"OK","×") -> OK
E27: ='４付表３（職員・運営の状況）'!E4+'４付表３（職員・運営の状況）'!H4+'４付表３（職員・運営の状況）'!E5+'４付表３（職員・運営の状況）'!H5 -> 0 | H27: 人 | I27: ='４付表３（職員・運営の状況）'!K4+'４付表３（職員・運営の状況）'!N4+'４付表３（職員・運営の状況）'!K5+'４付表３（職員・運営の状況）'!N5 -> 0 | L27: 人 | M27: ='４付表３（職員・運営の状況）'!Q4+'４付表３（職員・運営の状況）'!T4+'４付表３（職員・運営の状況）'!Q5+'４付表３（職員・運営の状況）'!T5 -> 0 | P27: 人 | Q27: ='４付表３（職員・運営の状況）'!W4+'４付表３（職員・運営の状況）'!Z4+'４付表３（職員・運営の状況）'!AC4+'４付表３（職員・運営の状況）'!AF4+'４付表３（職員・運営の状況）'!W5+'４付表３（職員・運営の状況）'!Z5+'４付表３（職員・運営の状況）'!AC5+'４付表３（職員・運営の状況）'!AF5 -> 0 | T27: 人 | U27: =E27+I27+M27+Q27 -> 0 | X27: 人
B29: 【実施情報】
B30: 乳児等通園支援事業 | D30: 開所曜日 | H30: 月 | L30: 火 | P30: 水 | T30: 木 | X30: 金 | AB30: 土 | AF30: 日 | AI30: 祝 | AM30: 祝 | AT30: =TIME(X30,AC30,0) -> #VALUE! | AW30: ← | AX30: 開所する曜日を記入すること。 （今後開所する可能性がある曜日も含め記入すること。なお記入していない曜日を実施する場合は、認可変更が必要です。）
D32: 開所時間 | AM32: =TIME(L32,Q32,0) -> 0 | AT32: =TIME(X32,AC32,0) -> 0 | AW32: ← | AX32: 開所する時間を記入すること。 （今後開所する可能性がある時間も含め記入すること。なお、記入していない時間を実施する場合は、認可変更が必要です。）
D33: 認可定員 | G33: 0歳児 | O33: 人 | P33: １歳児 | X33: 人 | Y33: ２歳児 | AG33: 人 | AM33: =TIME(L33,Q33,0) -> 0
D34: 実施しない日 | G34: ●本体保育施設等の長期休暇や実情に合わせて実施しない月、週、日 | AW34: ← | AX34: 本体保育施設等の長期休暇や実情に合わせて実施しない月、週、日を設ける場合は記入
D36: 実施開始 (予定)年月日 | H36: 令和 | L36: 年 | O36: 月 | R36: 日
B38: 北 | D38: 保育所
B39: 都島 | D39: 保育所型認定こども園
B40: 福島 | D40: 幼保連携型認定こども園
B41: 此花 | D41: 公私連携幼保連携型認定こども園
B42: 中央 | D42: 幼稚園型認定こども園
B43: 西 | D43: 小規模保育事業者-A型
B44: 港 | D44: 小規模保育事業者-B型
B45: 大正 | D45: 小規模保育事業者-C型
...

Sheet ４付表２（実施情報）
B1: 付表２【実施情報】
B2: 事業所名 | E2: ='４付表１（事業所情報等）'!E5 -> 0
B3: 保育室面積 | E3: ='４付表４（設備等）'!E12 -> 0 | BA3: =IF(E3>=AJ41,TRUE,FALSE) -> TRUE
B4: 保育士及び保育従事者数 | E4: ='８別紙４（職員等一覧表）'!AQ7+'８別紙４（職員等一覧表）'!AQ8 -> 0 | AG4: 保育所等と一体的な運営
C6: 利用方法 | D6: 同年齢・ 異年齢別 | E6: 実施時間 | O6: 実施 曜日 | Q6: 実施 回数 ※ | T6: 定員 | AJ6: 必要面積 | AP6: 必要 配置人数 | AT6: 備考
T7: ０歳児 (生後６か月以降) (3.3㎡/人) | X7: １歳児 (3.3㎡/人) | AB7: ２歳児 (満３歳未満まで) (1.98㎡/人) | AF7: 合計
AN8: 判定 | AR8: 一体 運営 | BA8: 0歳児 | BB8: １歳児 | BC8: 2歳児 | BD8: 必要職員数
B9: 例１ | C9: 定期利用 | D9: 同年齢保育 | E9: 0.39583333 | I9: ～ | J9: 0.5 | N9: =(J9-E9)*24 -> 2.5 | O9: 水 | Q9: 4 | T9: 1 | X9: 1 | AF9: =SUM(T9:AE9) -> 2 | AJ9: =(T9*3.3)+(X9*3.3)+(AB9*1.98) -> 6.6 | AN9: =IF($E$3>=AJ9,"◯","×") -> × | AP9: =BD9 -> 2 | AR9: =IF(AF9=0,"",IF($AR$4="有",IF(AF9>3,BD9,1),"")) | BA9: =ROUNDDOWN(T9/3,1) -> 0.3 | BB9: =ROUNDDOWN(X9/6,1) -> 0.1 | BC9: =ROUNDDOWN(AB9/6,1) -> 0 | BD9: =IF(AF9=0,"",IF(ROUND(SUM(BA9,BB9,BC9),0)>=2,ROUND(SUM(BA9,BB9,BC9),0),2)) -> 2
B10: 例２ | C10: 柔軟利用 | D10: 異年齢保育 | E10: 0.39583333 | I10: ～ | J10: 0.60416667 | N10: =(J10-E10)*24 -> 5 | O10: 火 | Q10: 4 | X10: 2 | AF10: =SUM(T10:AE10) -> 2 | AJ10: =(T10*3.3)+(X10*3.3)+(AB10*1.98) -> 6.6 | AN10: =IF($E$3>=AJ10,"◯","×") -> × | AP10: =BD10 -> 2 | AR10: =IF(AF10=0,"",IF($AR$4="有",IF(AF10>3,BD10,1),"")) | AT10: 1・２歳児受入 | BA10: =ROUNDDOWN(T10/3,1) -> 0 | BB10: =ROUNDDOWN(X10/6,1) -> 0.3 | BC10: =ROUNDDOWN(AB10/6,1) -> 0 | BD10: =IF(AF10=0,"",IF(ROUND(SUM(BA10,BB10,BC10),0)>=2,ROUND(SUM(BA10,BB10,BC10),0),2)) -> 2
B11: ① | I11: ～ | N11: =(J11-E11)*24 -> 0 | AF11: =SUM(T11:AE11) -> 0 | AJ11: =(T11*3.3)+(X11*3.3)+(AB11*1.98) -> 0 | AN11: =IF($E$3>=AJ11,"◯","×") -> ◯ | AP11: =BD11 | AR11: =IF(AF11=0,"",IF($AR$4="有",IF(AF11>3,BD11,1),"")) | BA11: =ROUNDDOWN(T11/3,1) -> 0 | BB11: =ROUNDDOWN(X11/6,1) -> 0 | BC11: =ROUNDDOWN(AB11/6,1) -> 0 | BD11: =IF(AF11=0,"",IF(ROUND(SUM(BA11,BB11,BC11),0)>=2,ROUND(SUM(BA11,BB11,BC11),0),2))
B12: ② | I12: ～ | N12: =(J12-E12)*24 -> 0 | AF12: =SUM(T12:AE12) -> 0 | AJ12: =(T12*3.3)+(X12*3.3)+(AB12*1.98) -> 0 | AN12: =IF($E$3>=AJ12,"◯","×") -> ◯ | AP12: =BD12 | AR12: =IF(AF12=0,"",IF($AR$4="有",IF(AF12>3,BD12,1),"")) | BA12: =ROUNDDOWN(T12/3,1) -> 0 | BB12: =ROUNDDOWN(X12/6,1) -> 0 | BC12: =ROUNDDOWN(AB12/6,1) -> 0 | BD12: =IF(AF12=0,"",IF(ROUND(SUM(BA12,BB12,BC12),0)>=2,ROUND(SUM(BA12,BB12,BC12),0),2))
B13: ③ | I13: ～ | N13: =(J13-E13)*24 -> 0 | AF13: =SUM(T13:AE13) -> 0 | AJ13: =(T13*3.3)+(X13*3.3)+(AB13*1.98) -> 0 | AN13: =IF($E$3>=AJ13,"◯","×") -> ◯ | AP13: =BD13 | AR13: =IF(AF13=0,"",IF($AR$4="有",IF(AF13>3,BD13,1),"")) | BA13: =ROUNDDOWN(T13/3,1) -> 0 | BB13: =ROUNDDOWN(X13/6,1) -> 0 | BC13: =ROUNDDOWN(AB13/6,1) -> 0 | BD13: =IF(AF13=0,"",IF(ROUND(SUM(BA13,BB13,BC13),0)>=2,ROUND(SUM(BA13,BB13,BC13),0),2))
B14: ④ | I14: ～ | N14: =(J14-E14)*24 -> 0 | AF14: =SUM(T14:AE14) -> 0 | AJ14: =(T14*3.3)+(X14*3.3)+(AB14*1.98) -> 0 | AN14: =IF($E$3>=AJ14,"◯","×") -> ◯ | AP14: =BD14 | AR14: =IF(AF14=0,"",IF($AR$4="有",IF(AF14>3,BD14,1),"")) | BA14: =ROUNDDOWN(T14/3,1) -> 0 | BB14: =ROUNDDOWN(X14/6,1) -> 0 | BC14: =ROUNDDOWN(AB14/6,1) -> 0 | BD14: =IF(AF14=0,"",IF(ROUND(SUM(BA14,BB14,BC14),0)>=2,ROUND(SUM(BA14,BB14,BC14),0),2))
B15: ⑤ | I15: ～ | N15: =(J15-E15)*24 -> 0 | AF15: =SUM(T15:AE15) -> 0 | AJ15: =(T15*3.3)+(X15*3.3)+(AB15*1.98) -> 0 | AN15: =IF($E$3>=AJ15,"◯","×") -> ◯ | AP15: =BD15 | AR15: =IF(AF15=0,"",IF($AR$4="有",IF(AF15>3,BD15,1),"")) | BA15: =ROUNDDOWN(T15/3,1) -> 0 | BB15: =ROUNDDOWN(X15/6,1) -> 0 | BC15: =ROUNDDOWN(AB15/6,1) -> 0 | BD15: =IF(AF15=0,"",IF(ROUND(SUM(BA15,BB15,BC15),0)>=2,ROUND(SUM(BA15,BB15,BC15),0),2))
B16: ⑥ | I16: ～ | N16: =(J16-E16)*24 -> 0 | AF16: =SUM(T16:AE16) -> 0 | AJ16: =(T16*3.3)+(X16*3.3)+(AB16*1.98) -> 0 | AN16: =IF($E$3>=AJ16,"◯","×") -> ◯ | AP16: =BD16 | AR16: =IF(AF16=0,"",IF($AR$4="有",IF(AF16>3,BD16,1),"")) | BA16: =ROUNDDOWN(T16/3,1) -> 0 | BB16: =ROUNDDOWN(X16/6,1) -> 0 | BC16: =ROUNDDOWN(AB16/6,1) -> 0 | BD16: =IF(AF16=0,"",IF(ROUND(SUM(BA16,BB16,BC16),0)>=2,ROUND(SUM(BA16,BB16,BC16),0),2))
B17: ⑦ | I17: ～ | N17: =(J17-E17)*24 -> 0 | AF17: =SUM(T17:AE17) -> 0 | AJ17: =(T17*3.3)+(X17*3.3)+(AB17*1.98) -> 0 | AN17: =IF($E$3>=AJ17,"◯","×") -> ◯ | AP17: =BD17 | AR17: =IF(AF17=0,"",IF($AR$4="有",IF(AF17>3,BD17,1),"")) | BA17: =ROUNDDOWN(T17/3,1) -> 0 | BB17: =ROUNDDOWN(X17/6,1) -> 0 | BC17: =ROUNDDOWN(AB17/6,1) -> 0 | BD17: =IF(AF17=0,"",IF(ROUND(SUM(BA17,BB17,BC17),0)>=2,ROUND(SUM(BA17,BB17,BC17),0),2))
B18: ⑧ | I18: ～ | N18: =(J18-E18)*24 -> 0 | AF18: =SUM(T18:AE18) -> 0 | AJ18: =(T18*3.3)+(X18*3.3)+(AB18*1.98) -> 0 | AN18: =IF($E$3>=AJ18,"◯","×") -> ◯ | AP18: =BD18 | AR18: =IF(AF18=0,"",IF($AR$4="有",IF(AF18>3,BD18,1),"")) | BA18: =ROUNDDOWN(T18/3,1) -> 0 | BB18: =ROUNDDOWN(X18/6,1) -> 0 | BC18: =ROUNDDOWN(AB18/6,1) -> 0 | BD18: =IF(AF18=0,"",IF(ROUND(SUM(BA18,BB18,BC18),0)>=2,ROUND(SUM(BA18,BB18,BC18),0),2))
B19: ⑨ | I19: ～ | N19: =(J19-E19)*24 -> 0 | AF19: =SUM(T19:AE19) -> 0 | AJ19: =(T19*3.3)+(X19*3.3)+(AB19*1.98) -> 0 | AN19: =IF($E$3>=AJ19,"◯","×") -> ◯ | AP19: =BD19 | AR19: =IF(AF19=0,"",IF($AR$4="有",IF(AF19>3,BD19,1),"")) | BA19: =ROUNDDOWN(T19/3,1) -> 0 | BB19: =ROUNDDOWN(X19/6,1) -> 0 | BC19: =ROUNDDOWN(AB19/6,1) -> 0 | BD19: =IF(AF19=0,"",IF(ROUND(SUM(BA19,BB19,BC19),0)>=2,ROUND(SUM(BA19,BB19,BC19),0),2))
B20: ⑩ | I20: ～ | N20: =(J20-E20)*24 -> 0 | AF20: =SUM(T20:AE20) -> 0 | AJ20: =(T20*3.3)+(X20*3.3)+(AB20*1.98) -> 0 | AN20: =IF($E$3>=AJ20,"◯","×") -> ◯ | AP20: =BD20 | AR20: =IF(AF20=0,"",IF($AR$4="有",IF(AF20>3,BD20,1),"")) | BA20: =ROUNDDOWN(T20/3,1) -> 0 | BB20: =ROUNDDOWN(X20/6,1) -> 0 | BC20: =ROUNDDOWN(AB20/6,1) -> 0 | BD20: =IF(AF20=0,"",IF(ROUND(SUM(BA20,BB20,BC20),0)>=2,ROUND(SUM(BA20,BB20,BC20),0),2))
B21: ⑪ | I21: ～ | N21: =(J21-E21)*24 -> 0 | AF21: =SUM(T21:AE21) -> 0 | AJ21: =(T21*3.3)+(X21*3.3)+(AB21*1.98) -> 0 | AN21: =IF($E$3>=AJ21,"◯","×") -> ◯ | AP21: =BD21 | AR21: =IF(AF21=0,"",IF($AR$4="有",IF(AF21>3,BD21,1),"")) | BA21: =ROUNDDOWN(T21/3,1) -> 0 | BB21: =ROUNDDOWN(X21/6,1) -> 0 | BC21: =ROUNDDOWN(AB21/6,1) -> 0 | BD21: =IF(AF21=0,"",IF(ROUND(SUM(BA21,BB21,BC21),0)>=2,ROUND(SUM(BA21,BB21,BC21),0),2))
B22: ⑫ | I22: ～ | N22: =(J22-E22)*24 -> 0 | AF22: =SUM(T22:AE22) -> 0 | AJ22: =(T22*3.3)+(X22*3.3)+(AB22*1.98) -> 0 | AN22: =IF($E$3>=AJ22,"◯","×") -> ◯ | AP22: =BD22 | AR22: =IF(AF22=0,"",IF($AR$4="有",IF(AF22>3,BD22,1),"")) | BA22: =ROUNDDOWN(T22/3,1) -> 0 | BB22: =ROUNDDOWN(X22/6,1) -> 0 | BC22: =ROUNDDOWN(AB22/6,1) -> 0 | BD22: =IF(AF22=0,"",IF(ROUND(SUM(BA22,BB22,BC22),0)>=2,ROUND(SUM(BA22,BB22,BC22),0),2))
... B28: ⑱ | I28: ～ | N28: =(J28-E28)*24 -> 0 | AF28: =SUM(T28:AE28) -> 0 | AJ28: =(T28*3.3)+(X28*3.3)+(AB28*1.98) -> 0 | AN28: =IF($E$3>=AJ28,"◯","×") -> ◯ | AP28: =BD28 | AR28: =IF(AF28=0,"",IF($AR$4="有",IF(AF28>3,BD28,1),"")) | BA28: =ROUNDDOWN(T28/3,1) -> 0 | BB28: =ROUNDDOWN(X28/6,1) -> 0 | BC28: =ROUNDDOWN(AB28/6,1) -> 0 | BD28: =IF(AF28=0,"",IF(ROUND(SUM(BA28,BB28,BC28),0)>=2,ROUND(SUM(BA28,BB28,BC28),0),2))
B29: ⑲ | I29: ～ | N29: =(J29-E29)*24 -> 0 | AF29: =SUM(T29:AE29) -> 0 | AJ29: =(T29*3.3)+(X29*3.3)+(AB29*1.98) -> 0 | AN29: =IF($E$3>=AJ29,"◯","×") -> ◯ | AP29: =BD29 | AR29: =IF(AF29=0,"",IF($AR$4="有",IF(AF29>3,BD29,1),"")) | BA29: =ROUNDDOWN(T29/3,1) -> 0 | BB29: =ROUNDDOWN(X29/6,1) -> 0 | BC29: =ROUNDDOWN(AB29/6,1) -> 0 | BD29: =IF(AF29=0,"",IF(ROUND(SUM(BA29,BB29,BC29),0)>=2,ROUND(SUM(BA29,BB29,BC29),0),2)) | BP29: =ROUNDDOWN(T29/3,2) -> 0 | BQ29: =ROUNDDOWN((X29+AB29)/6,2) -> 0
B30: ⑳ | I30: ～ | N30: =(J30-E30)*24 -> 0 | AF30: =SUM(T30:AE30) -> 0 | AJ30: =(T30*3.3)+(X30*3.3)+(AB30*1.98) -> 0 | AN30: =IF($E$3>=AJ30,"◯","×") -> ◯ | AP30: =BD30 | AR30: =IF(AF30=0,"",IF($AR$4="有",IF(AF30>3,BD30,1),"")) | BA30: =ROUNDDOWN(T30/3,1) -> 0 | BB30: =ROUNDDOWN(X30/6,1) -> 0 | BC30: =ROUNDDOWN(AB30/6,1) -> 0 | BD30: =IF(AF30=0,"",IF(ROUND(SUM(BA30,BB30,BC30),0)>=2,ROUND(SUM(BA30,BB30,BC30),0),2)) | BP30: =ROUNDDOWN(T30/3,2) -> 0 | BQ30: =ROUNDDOWN((X30+AB30)/6,2) -> 0
B31: ㉑ | I31: ～ | N31: =(J31-E31)*24 -> 0 | AF31: =SUM(T31:AE31) -> 0 | AJ31: =(T31*3.3)+(X31*3.3)+(AB31*1.98) -> 0 | AN31: =IF($E$3>=AJ31,"◯","×") -> ◯ | AP31: =BD31 | AR31: =IF(AF31=0,"",IF($AR$4="有",IF(AF31>3,BD31,1),"")) | BA31: =ROUNDDOWN(T31/3,1) -> 0 | BB31: =ROUNDDOWN(X31/6,1) -> 0 | BC31: =ROUNDDOWN(AB31/6,1) -> 0 | BD31: =IF(AF31=0,"",IF(ROUND(SUM(BA31,BB31,BC31),0)>=2,ROUND(SUM(BA31,BB31,BC31),0),2)) | BP31: =ROUNDDOWN(T31/3,2) -> 0 | BQ31: =ROUNDDOWN((X31+AB31)/6,2) -> 0
B32: ㉒ | I32: ～ | N32: =(J32-E32)*24 -> 0 | AF32: =SUM(T32:AE32) -> 0 | AJ32: =(T32*3.3)+(X32*3.3)+(AB32*1.98) -> 0 | AN32: =IF($E$3>=AJ32,"◯","×") -> ◯ | AP32: =BD32 | AR32: =IF(AF32=0,"",IF($AR$4="有",IF(AF32>3,BD32,1),"")) | BA32: =ROUNDDOWN(T32/3,1) -> 0 | BB32: =ROUNDDOWN(X32/6,1) -> 0 | BC32: =ROUNDDOWN(AB32/6,1) -> 0 | BD32: =IF(AF32=0,"",IF(ROUND(SUM(BA32,BB32,BC32),0)>=2,ROUND(SUM(BA32,BB32,BC32),0),2)) | BP32: =ROUNDDOWN(T32/3,2) -> 0 | BQ32: =ROUNDDOWN((X32+AB32)/6,2) -> 0
B33: ㉓ | I33: ～ | N33: =(J33-E33)*24 -> 0 | AF33: =SUM(T33:AE33) -> 0 | AJ33: =(T33*3.3)+(X33*3.3)+(AB33*1.98) -> 0 | AN33: =IF($E$3>=AJ33,"◯","×") -> ◯ | AP33: =BD33 | AR33: =IF(AF33=0,"",IF($AR$4="有",IF(AF33>3,BD33,1),"")) | BA33: =ROUNDDOWN(T33/3,1) -> 0 | BB33: =ROUNDDOWN(X33/6,1) -> 0 | BC33: =ROUNDDOWN(AB33/6,1) -> 0 | BD33: =IF(AF33=0,"",IF(ROUND(SUM(BA33,BB33,BC33),0)>=2,ROUND(SUM(BA33,BB33,BC33),0),2)) | BP33: =ROUNDDOWN(T33/3,2) -> 0 | BQ33: =ROUNDDOWN((X33+AB33)/6,2) -> 0
B34: ㉔ | I34: ～ | N34: =(J34-E34)*24 -> 0 | AF34: =SUM(T34:AE34) -> 0 | AJ34: =(T34*3.3)+(X34*3.3)+(AB34*1.98) -> 0 | AN34: =IF($E$3>=AJ34,"◯","×") -> ◯ | AP34: =BD34 | AR34: =IF(AF34=0,"",IF($AR$4="有",IF(AF34>3,BD34,1),"")) | BA34: =ROUNDDOWN(T34/3,1) -> 0 | BB34: =ROUNDDOWN(X34/6,1) -> 0 | BC34: =ROUNDDOWN(AB34/6,1) -> 0 | BD34: =IF(AF34=0,"",IF(ROUND(SUM(BA34,BB34,BC34),0)>=2,ROUND(SUM(BA34,BB34,BC34),0),2)) | BP34: =ROUNDDOWN(T34/3,2) -> 0 | BQ34: =ROUNDDOWN((X34+AB34)/6,2) -> 0
B35: ㉕ | I35: ～ | N35: =(J35-E35)*24 -> 0 | AF35: =SUM(T35:AE35) -> 0 | AJ35: =(T35*3.3)+(X35*3.3)+(AB35*1.98) -> 0 | AN35: =IF($E$3>=AJ35,"◯","×") -> ◯ | AP35: =BD35 | AR35: =IF(AF35=0,"",IF($AR$4="有",IF(AF35>3,BD35,1),"")) | BA35: =ROUNDDOWN(T35/3,1) -> 0 | BB35: =ROUNDDOWN(X35/6,1) -> 0 | BC35: =ROUNDDOWN(AB35/6,1) -> 0 | BD35: =IF(AF35=0,"",IF(ROUND(SUM(BA35,BB35,BC35),0)>=2,ROUND(SUM(BA35,BB35,BC35),0),2)) | BP35: =ROUNDDOWN(T35/3,2) -> 0 | BQ35: =ROUNDDOWN((X35+AB35)/6,2) -> 0
B36: ㉖ | I36: ～ | N36: =(J36-E36)*24 -> 0 | AF36: =SUM(T36:AE36) -> 0 | AJ36: =(T36*3.3)+(X36*3.3)+(AB36*1.98) -> 0 | AN36: =IF($E$3>=AJ36,"◯","×") -> ◯ | AP36: =BD36 | AR36: =IF(AF36=0,"",IF($AR$4="有",IF(AF36>3,BD36,1),"")) | BA36: =ROUNDDOWN(T36/3,1) -> 0 | BB36: =ROUNDDOWN(X36/6,1) -> 0 | BC36: =ROUNDDOWN(AB36/6,1) -> 0 | BD36: =IF(AF36=0,"",IF(ROUND(SUM(BA36,BB36,BC36),0)>=2,ROUND(SUM(BA36,BB36,BC36),0),2)) | BP36: =ROUNDDOWN(T36/3,2) -> 0 | BQ36: =ROUNDDOWN((X36+AB36)/6,2) -> 0
B37: ㉗ | I37: ～ | N37: =(J37-E37)*24 -> 0 | AF37: =SUM(T37:AE37) -> 0 | AJ37: =(T37*3.3)+(X37*3.3)+(AB37*1.98) -> 0 | AN37: =IF($E$3>=AJ37,"◯","×") -> ◯ | AP37: =BD37 | AR37: =IF(AF37=0,"",IF($AR$4="有",IF(AF37>3,BD37,1),"")) | BA37: =ROUNDDOWN(T37/3,1) -> 0 | BB37: =ROUNDDOWN(X37/6,1) -> 0 | BC37: =ROUNDDOWN(AB37/6,1) -> 0 | BD37: =IF(AF37=0,"",IF(ROUND(SUM(BA37,BB37,BC37),0)>=2,ROUND(SUM(BA37,BB37,BC37),0),2)) | BP37: =ROUNDDOWN(T37/3,2) -> 0 | BQ37: =ROUNDDOWN((X37+AB37)/6,2) -> 0
B38: ㉘ | I38: ～ | N38: =(J38-E38)*24 -> 0 | AF38: =SUM(T38:AE38) -> 0 | AJ38: =(T38*3.3)+(X38*3.3)+(AB38*1.98) -> 0 | AN38: =IF($E$3>=AJ38,"◯","×") -> ◯ | AP38: =BD38 | AR38: =IF(AF38=0,"",IF($AR$4="有",IF(AF38>3,BD38,1),"")) | BA38: =ROUNDDOWN(T38/3,1) -> 0 | BB38: =ROUNDDOWN(X38/6,1) -> 0 | BC38: =ROUNDDOWN(AB38/6,1) -> 0 | BD38: =IF(AF38=0,"",IF(ROUND(SUM(BA38,BB38,BC38),0)>=2,ROUND(SUM(BA38,BB38,BC38),0),2)) | BP38: =ROUNDDOWN(T38/3,2) -> 0 | BQ38: =ROUNDDOWN((X38+AB38)/6,2) -> 0
B39: ㉙ | I39: ～ | N39: =(J39-E39)*24 -> 0 | AF39: =SUM(T39:AE39) -> 0 | AJ39: =(T39*3.3)+(X39*3.3)+(AB39*1.98) -> 0 | AN39: =IF($E$3>=AJ39,"◯","×") -> ◯ | AP39: =BD39 | AR39: =IF(AF39=0,"",IF($AR$4="有",IF(AF39>3,BD39,1),"")) | BA39: =ROUNDDOWN(T39/3,1) -> 0 | BB39: =ROUNDDOWN(X39/6,1) -> 0 | BC39: =ROUNDDOWN(AB39/6,1) -> 0 | BD39: =IF(AF39=0,"",IF(ROUND(SUM(BA39,BB39,BC39),0)>=2,ROUND(SUM(BA39,BB39,BC39),0),2)) | BP39: =ROUNDDOWN(T39/3,2) -> 0 | BQ39: =ROUNDDOWN((X39+AB39)/6,2) -> 0
B40: ㉚ | I40: ～ | N40: =(J40-E40)*24 -> 0 | AF40: =SUM(T40:AE40) -> 0 | AJ40: =(T40*3.3)+(X40*3.3)+(AB40*1.98) -> 0 | AN40: =IF($E$3>=AJ40,"◯","×") -> ◯ | AP40: =BD40 | AR40: =IF(AF40=0,"",IF($AR$4="有",IF(AF40>3,BD40,1),"")) | BA40: =ROUNDDOWN(T40/3,1) -> 0 | BB40: =ROUNDDOWN(X40/6,1) -> 0 | BC40: =ROUNDDOWN(AB40/6,1) -> 0 | BD40: =IF(AF40=0,"",IF(ROUND(SUM(BA40,BB40,BC40),0)>=2,ROUND(SUM(BA40,BB40,BC40),0),2)) | BP40: =ROUNDDOWN(T40/3,2) -> 0 | BQ40: =ROUNDDOWN((X40+AB40)/6,2) -> 0
B41: 最大必要面積 | AJ41: =MAX(AJ11:AM40) -> 0
B42: ※ 実施回数は、１か月を４週間としたときの回数です。

Sheet ４付表３（職員・運営の状況）
B1: 付表３ 【職員の状況】 | T1: 【 | U1: ='４付表１（事業所情報等）'!E5 -> 0 | AH1: 】
B2: 職員の状況 | C2: 職 種 | E2: 管理者 | K2: 保育士 | Q2: 保育従事者 | W2: 看護師（准看護師） | AC2: その他の職員
E3: 専任 | H3: 兼任 | K3: 専任 | N3: 兼任 | Q3: 専任 | T3: 兼任 | W3: 専任 | Z3: 兼任 | AC3: 専任 | AF3: 兼任
C4: 配 置 職員数 | D4: 常勤 | E4: =SUM('８別紙４（職員等一覧表）'!$AU$6,) -> 0 | G4: 人 | H4: =SUM('８別紙４（職員等一覧表）'!$AW$6,) -> 0 | J4: 人 | K4: =SUM('８別紙４（職員等一覧表）'!$AU$7,) -> 0 | M4: 人 | N4: =SUM('８別紙４（職員等一覧表）'!$AW$7,) -> 0 | P4: 人 | Q4: =SUM('８別紙４（職員等一覧表）'!$AU$8,) -> 0 | S4: 人 | T4: =SUM('８別紙４（職員等一覧表）'!$AW$8,) -> 0 | V4: 人 | W4: =SUM('８別紙４（職員等一覧表）'!$AU$9,) -> 0 | Y4: 人 | Z4: =SUM('８別紙４（職員等一覧表）'!$AW$9,) -> 0 | AB4: 人 | AC4: =SUM('８別紙４（職員等一覧表）'!$AU$10,) -> 0 | AE4: 人 | AF4: =SUM('８別紙４（職員等一覧表）'!$AW$10,) -> 0 | AH4: 人 | AJ4: =SUM(E4,H4,K4,N4,Q4,T4,W4,Z4,AC4,AF4) -> 0
D5: 非常勤 | E5: =SUM('８別紙４（職員等一覧表）'!$AV$6,) -> 0 | G5: 人 | H5: =SUM('８別紙４（職員等一覧表）'!$AX$6,) -> 0 | J5: 人 | K5: =SUM('８別紙４（職員等一覧表）'!$AV$7,) -> 0 | M5: 人 | N5: =SUM('８別紙４（職員等一覧表）'!$AX$7,) -> 0 | P5: 人 | Q5: =SUM('８別紙４（職員等一覧表）'!$AV$8,) -> 0 | S5: 人 | T5: =SUM('８別紙４（職員等一覧表）'!$AX$8,) -> 0 | V5: 人 | W5: =SUM('８別紙４（職員等一覧表）'!$AV$9,) -> 0 | Y5: 人 | Z5: =SUM('８別紙４（職員等一覧表）'!$AX$9,) -> 0 | AB5: 人 | AC5: =SUM('８別紙４（職員等一覧表）'!$AV$10,) -> 0 | AE5: 人 | AF5: =SUM('８別紙４（職員等一覧表）'!$AX$10,) -> 0 | AH5: 人 | AJ5: =SUM(E5,H5,K5,N5,Q5,T5,W5,Z5,AC5,AF5) -> 0
B7: 【運営の状況①】
B8: 利用料 | E8: 利用料 | N8: こども１人１時間あたり | Y8: 円
E9: 実費徴収の 有（内容・金額）・無 | P9: （ | AF9: ）
O10: 有 | AH10: 無
N12: （ ）に記載しきれない場合は、別紙に記載して添付してください。
B13: 食事等の提供 | E13: 食事 | I13: 給食提供あり | T13: 弁当持参 | AC13: 食事なし | AI13: ← | AJ13: 利用者がお弁当を持参する場合は、お弁当のみをチェック
E14: おやつ | I14: 提供あり | AC14: 提供なし
E15: 飲み物 | I15: 提供あり | L15: （ | M15: 提供する飲み物： | Z15: ） | AC15: 提供なし
E16: 給食の 実施方法 | I16: 本体施設（併設施設）内で調理
I17: 施設内調理
I18: （調理担当 | N18: 事業実施者 | S18: 委託事業者（事業者名： | AG18: ）） | AI18: ← | AJ18: 施設内「「調理の場合は、調理担当欄も記入すること。
I19: 外部施設からの搬入 | P19: （事業所名： | AH19: ）
P20: （事業所所在地： | AH20: ）
I21: その他 | N21: （ | AH21: ）
E22: 外部搬入又はお弁当の場合、保管方法と安全対策
E24: アレルギー対策
E26: 給食の実施方法がその他の場合、その理由と今後の進め方 | K26: ●衛生面、栄養面等外部搬入をするに当たっての必要な要件の確保について記入
B28: 親子通園 | F28: 有 | G28: （ | AH28: ） | AI28: ← | AJ28: 有の場合、実施回数又は期間を記入してください。 長期間にならない程度で実施可能です。 利用の条件とすることは適当ではありません。
F29: 無
B30: 障がい児の 受入について | F30: 実施 | H30: （ | AH30: ） | AI30: ← | AJ30: 実施の場合、具体的な受入日、受入人数、受入時間を記載してください。
F31: 未実施 | H31: （ | AH31: ） | AI31: ← | AJ31: 未実施の場合、受入できない理由を記載してください （例：職員が足りないため）
B32: 医療的ケア児の 受入について | F32: 実施 | H32: （ | AH32: ） | AI32: ← | AJ32: 実施の場合、具体的な受入日、受入人数、受入時間及び居宅訪問も実施するのかを記載してください。
F33: 未実施 | H33: （ | AH33: ） | AI33: ← | AJ33: 未実施の場合、受入できない理由を記載してください （例：職員が足りないため）
B34: 【運営の状況②】 | T34: 【 | U34: ='４付表１（事業所情報等）'!E5 -> 0 | AH34: 】
B35: その他の運営情報 | C35: 事業所の 運営方針 | I35: ( | AH35: ) | AI35: ← | AJ35: 事業所の運営方針に基づき、乳児等通園支援事業において目指すこどもの育ちのねらいや目標、通園支援の内容の概要等を記入
C36: 通園支援の 内容・特徴 | D36: 通園支援の概要
D37: 職員の 研修計画 | F37: 基本的な 考え方 | AI37: ← | AJ37: 認可基準第10条 当該事業所の職員の資質向上に関する基本的な考え方を入力すること。
F38: 具体的な 実施計画 | AI38: ← | AJ38: 職員に対する１年間の主な研修計画について、時期、研修名称・内容、研修対象者を記入。
C39: 利 用 者 | D39: 平等取扱原則、虐待防止 | F39: 基本的な 考え方 | AI39: ← | AJ39: 認可基準第５条第１項、第12条、第13条 当該事業所を利用するこどもに対する人権に関する基本的な考え方を記入。
F40: 具体的な 実施計画 | AI40: ← | AJ40: 特に、虐待等防止について、具体的に実施することを記入。
D41: 心身の状況等の把握 | F41: 具体的な 実施計画 | AI41: ← | AJ41: 当該事業所を利用するこどもの日々の心身の状況等の具体的な把握方法について記入。
T43: 【 | U43: ='４付表１（事業所情報等）'!$E$5 -> 0 | AH43: 】
B44: その他の運営情報 | C44: 事 業 所 及 び 利 用 者 | D44: 衛生管理 | F44: 基本的な 考え方 | AI44: ← | AJ44: 認可基準第14条 当該事業所、備品等の衛生管理について基本的な考え方を記入。
F45: 具体的な 実施計画 | AI45: ← | AJ45: 当該事業所、備品等の衛生管理の具体的な実施計画について記入。
D46: 食事の提供 | F46: 基本的な 考え方 | AI46: ← | AJ46: 認可基準第15条 園児への食事の提供について、こだわりや注意すべき事項等基本的な考え方を記入。食事を提供しない施設は、記載不要
...

Sheet ４付表４（設備等）
B1: 付表４ 【事業所情報（設備等）】 | T1: 【 | U1: ='４付表１（事業所情報等）'!E5 -> 0 | AH1: 】
B2: 認可定員 | E2: ０歳児 | K2: １歳児 | Q2: ２歳児
E3: ='４付表１（事業所情報等）'!K33 -> 0 | J3: 人 | K3: ='４付表１（事業所情報等）'!T33 -> 0 | P3: 人 | Q3: ='４付表１（事業所情報等）'!AC33 -> 0 | V3: 人
B4: 事 業 所 設 備 | C4: 建物 | E4: 種類 | L4: 専用建物 | R4: 併用建物 | W4: 集合建物 | AD4: 戸建住宅
L5: その他（ | Z5: ）
E6: 構造及び施設の階数 | S6: 造 | W6: 階建 のうち | AG6: 階 | AI6: ← | AJ6: 建物の登記事項証明書の構造と合せること
E7: 賃貸借面積 | Q7: ㎡ | R7: 築年月 | AC7: 年 | AG7: 月 | AI7: ← | AJ7: 賃貸借の場合、記入し、賃貸借契約書に合わせること。
E8: 権利関係 | L8: 自己所有 | Q8: 賃貸 | T8: その他 | W8: （ | AH8: ） | AI8: FALSE
E9: 月額賃料 （管理費含む） | U9: 円 | V9: （賃貸借契約書に記載の金額） | AI9: ← | AJ9: 賃貸借の場合、記入し、賃貸借契約書に合わせること。
C10: 保育室等 | E10: 保育室等 専用部分のみ記載 | K10: 便所 | Q10: 調理スペース | W10: その他 専用部分のみ記載 | AC10: 計
L11: 専用 | O11: 兼用 | R11: 専用 | U11: 兼用
J12: ㎡ | P12: ㎡ | V12: ㎡ | AB12: ㎡ | AC12: =E12+K12+Q12+W12 -> 0 | AH12: ㎡ | AI12: ← | AJ12: 在園児合同または専用室独立は、乳児等通園支援事業を実施する面積を記載
C13: 事業所 床面積 | E13: 自己所有 | I13: 賃貸借 | M13: その他 | Q13: 計 | U13: 建物床面積の計と別紙「室別面積表」の計は同数になっているか確認 | AI13: ← | AJ13: 自己所有の場合は、建物の登記事項証明書の床面積と合わせ、賃貸借の場合は、賃貸借契約書の面積と合わせること。
H14: ㎡ | L14: ㎡ | P14: ㎡ | Q14: =+M14+I14+E14 -> 0 | T14: ㎡
C15: 敷地面積 | E15: 自己所有 | I15: 借 地 | M15: その他 | Q15: 計【Ａ】 | U15: 建物が賃貸借の場合は記入不要 | AJ15: 土地の登記事項証明書の面積と合わせること。なお、建物が賃貸借の場合は記入不要。
H16: ㎡ | L16: ㎡ | P16: ㎡ | Q16: =+M16+I16+E16 -> 0 | T16: ㎡ | U16: 【Ａ】は同数の記入が必要 | AI16: ←
C17: 敷地の 使用方法 | E17: 建 築 | I17: 屋外遊戯場 | M17: その他 | Q17: 計【Ａ】 | AI17: ← | AJ17: 土地の登記事項証明書の面積と合わせること。なお、建物が賃貸借の場合は記入不要。
H18: ㎡ | L18: ㎡ | P18: ㎡ | Q18: =+M18+I18+E18 -> 0 | T18: ㎡
C19: 設備状況 | E19: 調 理 | I19: ●給食実施の場合のみ記載
J20: 調理室 | O20: 調理設備 | T20: 調理室なし | AI20: ← | AJ20: 該当するものにチェックを入れること。 給食実施の場合のみ記載
E21: 保育室と調理室との区画 | J21: 有 | K21: （区画方法： | AA21: ） | AD21: 無
E22: 便所・ 手洗い | J22: 実施歳児に応じた便所あり | W22: 実施歳児に応じた手洗いあり | AI22: ← | AJ22: チェックがないと認可できません。 おまるは便所として認めされません。
J23: （おまるは便所として認められません）
C25: ※ 本市が認可した認可保育所等は記入不要

Sheet ５別紙１（経営者等一覧表）
B1: （別紙１）
AC2: 令和 | AE2: ='１ 認可申請書'!AG9 -> 0 | AF2: 年 | AG2: ='１ 認可申請書'!AJ9 -> 0 | AH2: 月 | AI2: ='１ 認可申請書'!AM9 -> 0 | AJ2: 日現在 | AM2: =CONCATENATE(AC2,AE2,AF2,AG2,AH2,AI2,"日") -> 令和0年0月0日
B3: 経 営 者 等 一 覧 表
B5: No | C5: 職名 | F5: 評議員との 兼務 | I5: 氏 名 | N5: 生年月日 | V5: 年齢 | X5: 職 業 | AD5: 住 所
B6: 1 | Q6: 年 | S6: 月 | U6: 日 | V6: =IF(N6="","",DATEDIF(AM6,AM2,"Y")&"歳") | AM6: =CONCATENATE(N6,P6,Q6,R6,S6,T6,U6) -> 年月日
B7: 2 | Q7: 年 | S7: 月 | U7: 日 | V7: =IF(N7="","",DATEDIF(AM7,AM2,"Y")&"歳") | AM7: =CONCATENATE(N7,P7,Q7,R7,S7,T7,U7) -> 年月日
B8: 3 | Q8: 年 | S8: 月 | U8: 日 | V8: =IF(N8="","",DATEDIF(AM8,AM2,"Y")&"歳") | AM8: =CONCATENATE(N8,P8,Q8,R8,S8,T8,U8) -> 年月日
B9: 4 | Q9: 年 | S9: 月 | U9: 日 | V9: =IF(N9="","",DATEDIF(AM9,AM2,"Y")&"歳") | AM9: =CONCATENATE(N9,P9,Q9,R9,S9,T9,U9) -> 年月日
B10: 5 | Q10: 年 | S10: 月 | U10: 日 | V10: =IF(N10="","",DATEDIF(AM10,AM2,"Y")&"歳") | AM10: =CONCATENATE(N10,P10,Q10,R10,S10,T10,U10) -> 年月日
B11: 6 | Q11: 年 | S11: 月 | U11: 日 | V11: =IF(N11="","",DATEDIF(AM11,AM2,"Y")&"歳") | AM11: =CONCATENATE(N11,P11,Q11,R11,S11,T11,U11) -> 年月日
B12: 7 | Q12: 年 | S12: 月 | U12: 日 | V12: =IF(N12="","",DATEDIF(AM12,AM2,"Y")&"歳") | AM12: =CONCATENATE(N12,P12,Q12,R12,S12,T12,U12) -> 年月日
B13: 8 | Q13: 年 | S13: 月 | U13: 日 | V13: =IF(N13="","",DATEDIF(AM13,AM2,"Y")&"歳") | AM13: =CONCATENATE(N13,P13,Q13,R13,S13,T13,U13) -> 年月日
B14: 9 | Q14: 年 | S14: 月 | U14: 日 | V14: =IF(N14="","",DATEDIF(AM14,AM2,"Y")&"歳") | AM14: =CONCATENATE(N14,P14,Q14,R14,S14,T14,U14) -> 年月日
B15: 10 | Q15: 年 | S15: 月 | U15: 日 | V15: =IF(N15="","",DATEDIF(AM15,AM2,"Y")&"歳") | AM15: =CONCATENATE(N15,P15,Q15,R15,S15,T15,U15) -> 年月日
B16: 11 | Q16: 年 | S16: 月 | U16: 日 | V16: =IF(N16="","",DATEDIF(AM16,AM2,"Y")&"歳") | AM16: =CONCATENATE(N16,P16,Q16,R16,S16,T16,U16) -> 年月日
B17: 12 | Q17: 年 | S17: 月 | U17: 日 | V17: =IF(N17="","",DATEDIF(AM17,AM2,"Y")&"歳") | AM17: =CONCATENATE(N17,P17,Q17,R17,S17,T17,U17) -> 年月日
B18: 13 | Q18: 年 | S18: 月 | U18: 日 | V18: =IF(N18="","",DATEDIF(AM18,AM2,"Y")&"歳") | AM18: =CONCATENATE(N18,P18,Q18,R18,S18,T18,U18) -> 年月日
B19: 14 | Q19: 年 | S19: 月 | U19: 日 | V19: =IF(N19="","",DATEDIF(AM19,AM2,"Y")&"歳") | AM19: =CONCATENATE(N19,P19,Q19,R19,S19,T19,U19) -> 年月日
B20: 15 | Q20: 年 | S20: 月 | U20: 日 | V20: =IF(N20="","",DATEDIF(AM20,AM2,"Y")&"歳") | AM20: =CONCATENATE(N20,P20,Q20,R20,S20,T20,U20) -> 年月日
B21: 16 | Q21: 年 | S21: 月 | U21: 日 | V21: =IF(N21="","",DATEDIF(AM21,AM2,"Y")&"歳") | AM21: =CONCATENATE(N21,P21,Q21,R21,S21,T21,U21) -> 年月日
B22: 17 | Q22: 年 | S22: 月 | U22: 日 | V22: =IF(N22="","",DATEDIF(AM22,AM2,"Y")&"歳") | AM22: =CONCATENATE(N22,P22,Q22,R22,S22,T22,U22) -> 年月日
B23: 18 | Q23: 年 | S23: 月 | U23: 日 | V23: =IF(N23="","",DATEDIF(AM23,AM2,"Y")&"歳") | AM23: =CONCATENATE(N23,P23,Q23,R23,S23,T23,U23) -> 年月日
B24: 19 | Q24: 年 | S24: 月 | U24: 日 | V24: =IF(N24="","",DATEDIF(AM24,AM2,"Y")&"歳") | AM24: =CONCATENATE(N24,P24,Q24,R24,S24,T24,U24) -> 年月日
B25: 20 | Q25: 年 | S25: 月 | U25: 日 | V25: =IF(N25="","",DATEDIF(AM25,AM2,"Y")&"歳") | AM25: =CONCATENATE(N25,P25,Q25,R25,S25,T25,U25) -> 年月日
B27: ※ 経営者等とは理事長・理事・監事・評議員や取締役会を構成するもの。その全員について記入すること。
B28: ※ 当該法人の他の職と評議員を兼務している場合は、「評議員との兼務」欄に○を記入すること。

Sheet ６別紙２（経営責任者経歴書）
B1: （別紙２）
AC2: 令和 | AE2: ='１ 認可申請書'!AG9 -> 0 | AF2: 年 | AG2: ='１ 認可申請書'!AJ9 -> 0 | AH2: 月 | AI2: ='１ 認可申請書'!AM9 -> 0 | AJ2: 日現在 | AN2: =DATE(AE2+118,AG2,AI2) -> 43069
B3: 経 営 責 任 者 経 歴 書
B5: フリガナ | X5: 年 齢 | AB5: =IF(AB8="","",DATEDIF(AN8,$AN$2,"Y")&"歳") | AR5: 代表者のみ必要 他役員の添付は不要
B6: 氏 名 | AQ6: ←
B8: 現 住 所 | X8: 生年月日 | AF8: 年 | AI8: 月 | AL8: 日 | AN8: =DATE(AO8,AG8,AJ8) -> 43069 | AO8: =+AD8+AP8 -> 118 | AP8: =IF(AB8="平成",88,IF(AB8="昭和",25,IF(AB8="大正",11,IF(AB8="明治",-33,118)))) -> 118
AQ9: ← | AR9: シート⑧別紙１（経営者等一覧表）の氏名、生年月日、現職（職業）、現住所（住所）と一致させること。
B11: 現 職 | X11: 法人との 関係 | AQ11: ← | AR11: 現職は、認可届出時の現職を記入
B14: 職 歴 等
B15: 期 間 | O15: 勤 務 先 等 | AA15: 勤 務 内 容
E16: 年 | G16: 月 | H16: ～ | L16: 年 | N16: 月
E17: 年 | G17: 月 | H17: ～ | L17: 年 | N17: 月
E18: 年 | G18: 月 | H18: ～ | L18: 年 | N18: 月
E19: 年 | G19: 月 | H19: ～ | L19: 年 | N19: 月
E20: 年 | G20: 月 | H20: ～ | L20: 年 | N20: 月
E21: 年 | G21: 月 | H21: ～ | L21: 年 | N21: 月
E22: 年 | G22: 月 | H22: ～ | L22: 年 | N22: 月
E23: 年 | G23: 月 | H23: ～ | L23: 年 | N23: 月
E24: 年 | G24: 月 | H24: ～ | L24: 年 | N24: 月
E25: 年 | G25: 月 | H25: ～ | L25: 年 | N25: 月
B26: 最終学歴
B28: 公 職 歴 （社会福祉、幼児教育、地域活動）
B29: 期 間 | O29: 公 職 等
E30: 年 | G30: 月 | H30: ～ | L30: 年 | N30: 月
E31: 年 | G31: 月 | H31: ～ | L31: 年 | N31: 月
E32: 年 | G32: 月 | H32: ～ | L32: 年 | N32: 月
E33: 年 | G33: 月 | H33: ～ | L33: 年 | N33: 月
B35: 資 格 等 （社会福祉、幼児教育）
B36: 資格の種類 | N36: 資格取得年月 | AA36: 資格番号等
U37: 年 | X37: 月
U38: 年 | X38: 月
U39: 年 | X39: 月
U40: 年 | X40: 月
I183: （１６）経営者一覧表（別紙２）

Sheet ７別紙３（実務担当幹部職員）
B1: （別紙３）
AB2: 令和 | AD2: ='１ 認可申請書'!AG9 -> 0 | AE2: 年 | AF2: ='１ 認可申請書'!AJ9 -> 0 | AG2: 月 | AH2: ='１ 認可申請書'!AM9 -> 0 | AI2: 日現在 | AL2: =CONCATENATE(AB2,AD2,AE2,AF2,AG2,AH2,"日") -> 令和0年0月0日
B3: 実 務 を 担 当 す る 幹 部 職 員
B5: 大阪市乳児等通園支援事業の認可に関する審査基準第６条第１項
C6: (1) | G6: 実務を担当する幹部職員が、保育所等において２年以上勤務した経験を有する者であるか、若しくはこれと同等以上の能力を有すると認められる者であるか、又は、経営者に社会福祉事業について知識経験を有する者を含むこと。
C7: (2) | G7: 社会福祉事業について知識経験を有する者、乳児等通園支援事業の利用者（保育の利用者その他これに準ずる者を含む。）及び実務を担当する幹部職員を含む運営委員会（乳児等通園支援事業の運営に関し、当該乳児等通園支援事業の設置者の相談に応じ、又は意見を述べる委員会をいう。）を設置すること。
C8: (3) | G8: 経営者に、乳児等通園支援事業の利用者（保育の利用者その他これに準ずる者を含む。）及び実務を担当する幹部職員を含むこと。
B10: 大阪市乳児等通園支援事業の認可に関する審査基準第６条第１項(1)、(3)
C11: 職名 | F11: 氏 名 | L11: 生年月日 | T11: 年齢 | V11: 職 業 | AC11: 住 所 | AM11: ← | AN11: 乳児等通園支援事業の利用者又は実務を担当する幹部職員を記入してください。 乳児等通園支援事業の利用者の場合は氏名の前に（乳）を、実務担当幹部職員の場合は氏名の前に（実）と記入すること。 運営委員会を設置する場合は、下欄への記入になります。
B12: 1 | O12: 年 | Q12: 月 | S12: 日 | T12: =IFERROR(DATEDIF($AL12,$AL$2,"y"),"") | AL12: =CONCATENATE(L12,N12,O12,P12,Q12,R12,S12) -> 年月日
B13: 2 | O13: 年 | Q13: 月 | S13: 日 | T13: =IFERROR(DATEDIF($AL13,$AL$2,"y"),"") | AL13: =CONCATENATE(L13,N13,O13,P13,Q13,R13,S13) -> 年月日
B14: 3 | O14: 年 | Q14: 月 | S14: 日 | T14: =IFERROR(DATEDIF(AL14,$AL$2,"y"),"") | AL14: =CONCATENATE(L14,N14,O14,P14,Q14,R14,S14) -> 年月日
B15: 4 | O15: 年 | Q15: 月 | S15: 日 | T15: =IFERROR(DATEDIF(AL15,$AL$2,"y"),"") | AL15: =CONCATENATE(L15,N15,O15,P15,Q15,R15,S15) -> 年月日
B16: 5 | O16: 年 | Q16: 月 | S16: 日 | T16: =IFERROR(DATEDIF(AL16,$AL$2,"y"),"") | AL16: =CONCATENATE(L16,N16,O16,P16,Q16,R16,S16) -> 年月日
B17: ※ | C17: 乳児等通園支援事業の利用者の場合は氏名の前に（乳）を、実務担当幹部職員の場合は氏名の前に（実）と記入すること。運営委員会を設置する場合は、下欄への記入になります。
B19: 大阪市乳児等通園支援事業の認可に関する審査基準第６条第１項(2)（事業所を複数経営している法人に限る。）
B20: 運営委員会名 | AM20: ← | AN20: 運営委員会を設置する場合は、本欄に必要事項を記入してください。
C21: 氏 名 | I21: 生年月日 | Q21: 年齢 | S21: 委員の選定基準 | X21: 職 業 | AD21: 住 所
B22: 1 | L22: 年 | N22: 月 | P22: 日 | Q22: =IFERROR(DATEDIF($AL22,$AL$2,"y"),"") | AL22: =CONCATENATE(I22,K22,L22,M22,N22,O22,P22) -> 年月日
B23: 2 | L23: 年 | N23: 月 | P23: 日 | Q23: =IFERROR(DATEDIF($AL23,$AL$2,"y"),"") | AL23: =CONCATENATE(I23,K23,L23,M23,N23,O23,P23) -> 年月日
B24: 3 | L24: 年 | N24: 月 | P24: 日 | Q24: =IFERROR(DATEDIF($AL24,$AL$2,"y"),"") | AL24: =CONCATENATE(I24,K24,L24,M24,N24,O24,P24) -> 年月日
B25: 4 | L25: 年 | N25: 月 | P25: 日 | Q25: =IFERROR(DATEDIF($AL25,$AL$2,"y"),"") | AL25: =CONCATENATE(I25,K25,L25,M25,N25,O25,P25) -> 年月日
B26: 5 | L26: 年 | N26: 月 | P26: 日 | Q26: =IFERROR(DATEDIF($AL26,$AL$2,"y"),"") | AL26: =CONCATENATE(I26,K26,L26,M26,N26,O26,P26) -> 年月日
B27: 6 | L27: 年 | N27: 月 | P27: 日 | Q27: =IFERROR(DATEDIF($AL27,$AL$2,"y"),"") | AL27: =CONCATENATE(I27,K27,L27,M27,N27,O27,P27) -> 年月日
B28: 7 | L28: 年 | N28: 月 | P28: 日 | Q28: =IFERROR(DATEDIF($AL28,$AL$2,"y"),"") | AL28: =CONCATENATE(I28,K28,L28,M28,N28,O28,P28) -> 年月日
B29: 8 | L29: 年 | N29: 月 | P29: 日 | Q29: =IFERROR(DATEDIF($AL29,$AL$2,"y"),"") | AL29: =CONCATENATE(I29,K29,L29,M29,N29,O29,P29) -> 年月日
B30: 9 | L30: 年 | N30: 月 | P30: 日 | Q30: =IFERROR(DATEDIF($AL30,$AL$2,"y"),"") | AL30: =CONCATENATE(I30,K30,L30,M30,N30,O30,P30) -> 年月日
B31: 10 | L31: 年 | N31: 月 | P31: 日 | Q31: =IFERROR(DATEDIF($AL31,$AL$2,"y"),"") | AL31: =CONCATENATE(I31,K31,L31,M31,N31,O31,P31) -> 年月日
B32: ※ | C32: 大阪市乳児等通園支援事業の認可に関する審査基準第６条第１項(1)の表に乳児等通園支援事業の利用者の場合は氏名の前に（乳）を、実務担当幹部職員の場合は氏名の前に（実）と記入すること。

Sheet ８別紙４（職員等一覧表）
B1: （別紙４） | O1: 令和 | Q1: ='４付表１（事業所情報等）'!J36 -> 0 | R1: 年 | S1: ='４付表１（事業所情報等）'!M36 -> 0 | T1: 月 | U1: ='４付表１（事業所情報等）'!P36 -> 0 | V1: 日現在
C2: 職員等一覧表
D4: 職名 | E4: 氏名 | F4: 年齢 | G4: 資格の種類 | J4: 専任・兼任の別 (※１) | K4: 常勤・ 非常勤の別 (※２) | L4: 雇用 種別 (※２) | M4: 勤務 時間 （月） (※２) | N4: 勤続 年数 (※３) | O4: 経験 年数 (※４) | P4: 備考及び未採用者の 採用予定日及び 採用活動について (※５)
G5: 保育士 | H5: 研修修了者 | I5: その他 | AQ5: 人数 | AR5: 勤務時間計 | AS5: 勤続年数 | AT5: 経験年数 | AU5: 専 常 | AV5: 専 非常 | AW5: 兼 常 | AX5: 兼 非常 | AY5: 勤続年数 平均 | AZ5: 経験年数 平均
C6: 1 | D6: 管理者 | E6: ='４付表１（事業所情報等）'!I22 -> 0 | AP6: 管理者 | AQ6: =COUNTIF($D$6:$D$20,AP6) -> 1 | AR6: =SUMIF($D$6:$D$20,$AP6,$M$6:M20) -> 0 | AS6: =SUMIF($D$6:$D$20,$AP6,N$6:N$20) -> 0 | AT6: =SUMIF($D$6:$D$20,$AP6,O$6:O$20) -> 0 | AU6: =COUNTIFS($D$6:$D$20,$AP6,$J$6:$J$20,"専任",$K$6:$K$20,"常勤") -> 0 | AV6: =COUNTIFS($D$6:$D$20,$AP6,$J$6:$J$20,"専任",$K$6:$K$20,"非常勤") -> 0 | AW6: =COUNTIFS($D$6:$D$20,$AP6,$J$6:$J$20,"兼任",$K$6:$K$20,"常勤") -> 0 | AX6: =COUNTIFS($D$6:$D$20,$AP6,$J$6:$J$20,"兼任",$K$6:$K$20,"非常勤") -> 0 | AY6: =IFERROR($AS6/$AQ6,"") -> 0 | AZ6: =IFERROR($AT6/$AQ6,"") -> 0
C7: 2 | AP7: 保育士 | AQ7: =COUNTIF($D$6:$D$20,AP7) -> 0 | AR7: =SUMIF($D$6:$D$20,$AP7,$M$6:M21) -> 0 | AS7: =SUMIF($D$6:$D$20,$AP7,N$6:N$20) -> 0 | AT7: =SUMIF($D$6:$D$20,$AP7,O$6:O$20) -> 0 | AU7: =COUNTIFS($D$6:$D$20,$AP7,$J$6:$J$20,"専任",$K$6:$K$20,"常勤") -> 0 | AV7: =COUNTIFS($D$6:$D$20,$AP7,$J$6:$J$20,"専任",$K$6:$K$20,"非常勤") -> 0 | AW7: =COUNTIFS($D$6:$D$20,$AP7,$J$6:$J$20,"兼任",$K$6:$K$20,"常勤") -> 0 | AX7: =COUNTIFS($D$6:$D$20,$AP7,$J$6:$J$20,"兼任",$K$6:$K$20,"非常勤") -> 0 | AY7: =IFERROR($AS7/$AQ7,"") | AZ7: =IFERROR($AT7/$AQ7,"")
C8: 3 | AP8: 保育従事者 | AQ8: =COUNTIF($D$6:$D$20,AP8) -> 0 | AR8: =SUMIF($D$6:$D$20,$AP8,$M$6:M29) -> 0 | AS8: =SUMIF($D$6:$D$20,$AP8,N$6:N$20) -> 0 | AT8: =SUMIF($D$6:$D$20,$AP8,O$6:O$20) -> 0 | AU8: =COUNTIFS($D$6:$D$20,$AP8,$J$6:$J$20,"専任",$K$6:$K$20,"常勤") -> 0 | AV8: =COUNTIFS($D$6:$D$20,$AP8,$J$6:$J$20,"専任",$K$6:$K$20,"非常勤") -> 0 | AW8: =COUNTIFS($D$6:$D$20,$AP8,$J$6:$J$20,"兼任",$K$6:$K$20,"常勤") -> 0 | AX8: =COUNTIFS($D$6:$D$20,$AP8,$J$6:$J$20,"兼任",$K$6:$K$20,"非常勤") -> 0 | AY8: =IFERROR($AS8/$AQ8,"") | AZ8: =IFERROR($AT8/$AQ8,"")
C9: 4 | AP9: 看護師（准看護師） | AQ9: =COUNTIF($D$6:$D$20,AP9) -> 0 | AR9: =SUMIF($D$6:$D$20,$AP9,$M$6:M30) -> 0 | AS9: =SUMIF($D$6:$D$20,$AP9,N$6:N$20) -> 0 | AT9: =SUMIF($D$6:$D$20,$AP9,O$6:O$20) -> 0 | AU9: =COUNTIFS($D$6:$D$20,$AP9,$J$6:$J$20,"専任",$K$6:$K$20,"常勤") -> 0 | AV9: =COUNTIFS($D$6:$D$20,$AP9,$J$6:$J$20,"専任",$K$6:$K$20,"非常勤") -> 0 | AW9: =COUNTIFS($D$6:$D$20,$AP9,$J$6:$J$20,"兼任",$K$6:$K$20,"常勤") -> 0 | AX9: =COUNTIFS($D$6:$D$20,$AP9,$J$6:$J$20,"兼任",$K$6:$K$20,"非常勤") -> 0 | AY9: =IFERROR($AS9/$AQ9,"") | AZ9: =IFERROR($AT9/$AQ9,"")
C10: 5 | AP10: その他職員 | AQ10: =COUNTIF($D$6:$D$20,AP10) -> 0 | AR10: =SUMIF($D$6:$D$20,$AP10,$M$6:M31) -> 0 | AS10: =SUMIF($D$6:$D$20,$AP10,N$6:N$20) -> 0 | AT10: =SUMIF($D$6:$D$20,$AP10,O$6:O$20) -> 0 | AU10: =COUNTIFS($D$6:$D$20,$AP10,$J$6:$J$20,"専任",$K$6:$K$20,"常勤") -> 0 | AV10: =COUNTIFS($D$6:$D$20,$AP10,$J$6:$J$20,"専任",$K$6:$K$20,"非常勤") -> 0 | AW10: =COUNTIFS($D$6:$D$20,$AP10,$J$6:$J$20,"兼任",$K$6:$K$20,"常勤") -> 0 | AX10: =COUNTIFS($D$6:$D$20,$AP10,$J$6:$J$20,"兼任",$K$6:$K$20,"非常勤") -> 0 | AY10: =IFERROR($AS10/$AQ10,"") | AZ10: =IFERROR($AT10/$AQ10,"")
C11: 6
C12: 7 | AP12: 認可定員 | AQ12: ０歳児 | AR12: １歳児 | AS12: ２歳児
C13: 8 | AQ13: ='４付表１（事業所情報等）'!K33 -> 0 | AR13: ='４付表１（事業所情報等）'!T33 -> 0 | AS13: ='４付表１（事業所情報等）'!AC33 -> 0
C14: 9 | AP14: 認可定員による必要配置
C15: 10 | AQ15: 認可定員 | AR15: 配置基準
C16: 11 | AP16: ０歳児 | AQ16: =IF(AV16>0,ROUNDDOWN(AQ13/3,1),0) -> 0 | AR16: ３人：1人 | AV16: FLASH
C17: 12 | AP17: 1歳児 | AQ17: =IF(AV16>0,ROUNDDOWN((AS13+AR13)/6,1),0) -> 0 | AR17: ６人：1人
C18: 13 | AP18: ２歳児
C19: 14 | AP19: ※１ 少数点第２位以下切り捨て
C20: 15
C22: ※１ | D22: 「専任・兼任の別」は、「当該乳児等通園支援事業に専任しているのか、兼任しているのか」を記入すること。
C23: ※２ | D23: 「常勤・非常勤の別」、「雇用種別」、「勤務時間（月）」は、雇用契約書に基づくこと。
C24: ※３ | D24: 「勤続年数」は、当該法人等で勤務した年数のこと。また、○ヶ月の場合、「○月÷12月≒小数第２位を四捨五入した数字」とすること。
D25: 勤続年数及び経験年数については、認可日の属する年度の４月１日現在のものを記入すること。
C26: ※４ | D26: 「経験年数」とは、職名の（例えば、管理者としての）経験年数のこと。また、○ヶ月の場合、「○月÷12月≒小数第２位を四捨五入した数字」とすること。
C27: ※５ | D27: 調理員は、資格は「その他」を選択し、※３に「調理員」と記入すること。なお併設する保育所、認定こども園、地域型保育事業所において調理した給食を提供する場合は、調理員の記載は不要。
D28: 氏名欄に名前がない場合（保育士Ａなど）は記入例を参考に必ず記入すること。 【記入例】 〇月〇日 面接予定 、 派遣会社に依頼中

Sheet ９別紙5（管理者経歴書）
B1: （別紙５）
AC2: 令和 | AE2: ='１ 認可申請書'!AG9 -> 0 | AF2: 年 | AG2: ='１ 認可申請書'!AJ9 -> 0 | AH2: 月 | AI2: ='１ 認可申請書'!AM9 -> 0 | AJ2: 日現在 | AM2: =CONCATENATE(AC2,AE2,AF2,AG2,AH2,AI2,"日") -> 令和0年0月0日
B3: 管理者の経歴書 | AM3: =CONCATENATE(AB8,AD8,AF8,AG8,AI8,AJ8,AL8) -> 00年0月0日
B5: フリガナ | G5: ='４付表１（事業所情報等）'!I21 -> 0 | X5: 年齢 | AB5: ='４付表１（事業所情報等）'!AG22
B6: 氏 名 | G6: ='４付表１（事業所情報等）'!I22 -> 0
B8: 現 住 所 | X8: 生年月日 | AB8: ='４付表１（事業所情報等）'!Z21 -> 0 | AD8: ='４付表１（事業所情報等）'!AB21 -> 0 | AF8: 年 | AG8: ='４付表１（事業所情報等）'!AE21 -> 0 | AI8: 月 | AJ8: ='４付表１（事業所情報等）'!AH21 -> 0 | AL8: 日
B11: 現 職 | X11: 法人との 関係
B14: 職 歴 等
B15: 期 間 | O15: 勤 務 先 等 | AA15: 勤 務 内 容
E16: 年 | G16: 月 | H16: ～ | L16: 年 | N16: 月
E17: 年 | G17: 月 | H17: ～ | L17: 年 | N17: 月
E18: 年 | G18: 月 | H18: ～ | L18: 年 | N18: 月
E19: 年 | G19: 月 | H19: ～ | L19: 年 | N19: 月
E20: 年 | G20: 月 | H20: ～ | L20: 年 | N20: 月
E21: 年 | G21: 月 | H21: ～ | L21: 年 | N21: 月
E22: 年 | G22: 月 | H22: ～ | L22: 年 | N22: 月
E23: 年 | G23: 月 | H23: ～ | L23: 年 | N23: 月
E24: 年 | G24: 月 | H24: ～ | L24: 年 | N24: 月
E25: 年 | G25: 月 | H25: ～ | L25: 年 | N25: 月
B26: 最終学歴
B28: 公 職 歴 （社会福祉、幼児教育、地域活動）
B29: 期 間 | O29: 公 職 等 | AQ29: ← | AR29: 公職歴は、例えば、社会福祉は社会福祉法人の役員等、幼児教育は学校法人の役員等、地域活動はＰＴＡ・地域の役員等です。
E30: 年 | G30: 月 | H30: ～ | L30: 年 | N30: 月
E31: 年 | G31: 月 | H31: ～ | L31: 年 | N31: 月
E32: 年 | G32: 月 | H32: ～ | L32: 年 | N32: 月
E33: 年 | G33: 月 | H33: ～ | L33: 年 | N33: 月
B35: 資 格 等 （社会福祉、幼児教育）
B36: 資格の種類 | N36: 資格取得年月 | AA36: 資格番号等
U37: 年 | X37: 月
U38: 年 | X38: 月
U39: 年 | X39: 月
U40: 年 | X40: 月
I183: （１６）経営者一覧表（別紙２）

Sheet 2２別紙６（児童福祉法誓約書）
B1: （別紙６）
B3: 児童福祉法第34条の15第３項第４号の規定に該当しない旨の誓約書
Z5: 令和 | AC5: ='１ 認可申請書'!AG9 -> 0 | AE5: 年 | AF5: ='１ 認可申請書'!AJ9 -> 0 | AH5: 月 | AI5: ='１ 認可申請書'!AM9 -> 0 | AK5: 日
C7: 大 阪 市 長 様
S9: 設 置 者 | U9: 住所又は所在地 | AA9: ='３申請書別添'!K5 -> 0
AA10: ='３申請書別添'!K6 -> 0
AA11: ='３申請書別添'!S7 -> 0
U12: 氏名又は法人名 | AA12: ='３申請書別添'!K3 -> 0
U13: 法人の場合は代表者の役職及び氏名
AA14: ='３申請書別添'!M13 -> 0 | AG14: ='３申請書別添'!AA14 -> 0
B16: 児童福祉法第34条の15第３項第４号の規定に該当しないことを誓約いたします。
B19: 児童福祉法第34条の15第３項第４号
B20: 次のいずれにも該当しないこと。 イ 申請者が、拘禁刑以上の刑に処せられ、その執行を終わり、又は執行を受けることがなくなるまでの者であるとき。 ロ 申請者が、この法律その他国民の福祉に関する法律で政令で定めるものの規定により罰金の刑に処せられ、その執行を終 わり、又は執行を受けることがなくなるまでの者であるとき。 ハ 申請者が、労働に関する法律の規定であつて政令で定めるものにより罰金の刑に処せられ、その執行を終わり、又は執行 を受けることがなくなるまでの者であるとき。 ニ 申請者が、第五十八条第二項の規定により認可を取り消され、その取消しの日から起算して五年を経過しない者（当該認 可を取り消された者が法人である場合においては、当該取消しの処分に係る行政手続法第十五条の規定による通知があつた 日前六十日以内に当該法人の役員（業務を執行する社員、取締役、執行役又はこれらに準ずる者をいい、相談役、顧問その 他いかなる名称を有する者であるかを問わず、法人に対し業務を執行する社員、取締役、執行役又はこれらに準ずる者と同 等以上の支配力を有するものと認められる者を含む。ホにおいて同じ。）又はその事業を管理する者その他の政令で定める 使用人（以下この号及び第三十五条第五項第四号において「役員等」という。）であつた者で当該取消しの日から起算して 五年を経過しないものを含み、当該認可を取り消された者が法人でない場合においては、当該通知があつた日前六十日以内 に当該事業を行う者の管理者であつた者で当該取消しの日から起算して五年を経過しないものを含む。）であるとき。ただ し、当該認可の取消しが、家庭的保育事業等又は乳児等通園支援事業の認可の取消しのうち当該認可の取消しの処分の理由 なつた事実及び当該事実の発生を防止するための当該家庭的保育事業等又は乳児等通園支援事業を行う者による業務管理体 制の整備についての取組の状況その他の当該事実に関して当該家庭的保育事業等又は乳児等通園支援事業を行う者が有して いた責任の程度を考慮して、ニ本文に規定する認可の取消しに該当しないこととすることが相当であると認められるものと して内閣府令で定めるものに該当する場合を除く。 ホ 申請者と密接な関係を有する者（申請者（法人に限る。以下ホにおいて同じ。）の役員に占めるその役員の割合が二分の 一を超え、若しくは当該申請者の株式の所有その他の事由を通じて当該申請者の事業を実質的に支配し、若しくはその事業 に重要な影響を与える関係にある者として内閣府令で定めるもの（以下ホにおいて「申請者の親会社等」という。）、申請 者の親会社等の役員と同一の者がその役員に占める割合が二分の一を超え、若しくは申請者の親会社等が株式の所有その他 の事由を通じてその事業を実質的に支配し、若しくはその事業に重要な影響を与える関係にある者として内閣府令で定める もの又は当該申請者の役員と同一の者がその役員に占める割合が二分の一を超え、若しくは当該申請者が株式の所有その他 の事由を通じてその事業を実質的に支配し、若しくはその事業に重要な影響を与える関係にある者として内閣府令で定める もののうち、当該申請者と内閣府令で定める密接な関係を有する法人をいう。第三十五条第五項第四号ホにおいて同じ。） が、第五十八条第二項の規定により認可を取り消され、その取消しの日から起算して五年を経過していないとき。ただし、 当該認可の取消しが、家庭的保育事業等又は乳児等通園支援事業の認可の取消しのうち当該認可の取消しの処分の理由とな つた事実及び当該事実の発生を防止するための当該家庭的保育事業等又は乳児等通園支援事業を行う者による業務管理体制 の整備についての取組の状況その他の当該事実に関して当該家庭的保育事業等又は乳児等通園支援事業を行う者が有してい た責任の程度を考慮して、ホ本文に規定する認可の取消しに該当しないこととすることが相当であると認められるものとし て内閣府令で定めるものに該当する場合を除く。 ヘ 申請者が、第五十八条第二項の規定による認可の取消しの処分に係る行政手続法第十五条の規定による通知があつた日か ら当該処分をする日又は処分をしないことを決定する日までの間に第七項の規定による事業の廃止をした者（当該廃止につ いて相当の理由がある者を除く。）で、当該事業の廃止の承認の日から起算して五年を経過しないものであるとき。 ト 申請者が、第三十四条の十七第一項の規定による検査が行われた日から聴聞決定予定日（当該検査の結果に基づき第五十 八条第二項の規定による認可の取消しの処分に係る聴聞を行うか否かの決定をすることが見込まれる日として内閣府令で定 めるところにより市町村長が当該申請者に当該検査が行われた日から十日以内に特定の日を通知した場合における当該特定 の日をいう。）までの間に第七項の規定による事業の廃止をした者（当該廃止について相当の理由がある者を除く。） で、当該事業の廃止の承認の日から起算して五年を経過しないものであるとき。 チ ヘに規定する期間内に第七項の規定による事業の廃止の承認の申請があつた場合において、申請者が、ヘの通知の日前六 十日以内に当該申請に係る法人（当該事業の廃止について相当の理由がある法人を除く。）の役員等又は当該申請に係る法 人でない事業を行う者（当該事業の廃止について相当の理由があるものを除く。）の管理者であつた者で、当該事業の廃止 の承認の日から起算して五年を経過しないものであるとき。 リ 申請者が、認可の申請前五年以内に保育に関し不正又は著しく不当な行為をした者であるとき。 ヌ 申請者が、法人で、その役員等のうちにイからニまで又はヘからリまでのいずれかに該当する者のあるものであるとき。 ル 申請者が、法人でない者で、その管理者がイからニまで又はヘからリまでのいずれかに該当する者であるとき。
B47: ※ 児童福祉法に規定する「認可にあたっての欠格事項」に該当しない旨の誓約書であり、内容を確認のうえ、該当しない場合に提出すること。なお、欠格事項に該当する場合は、認可は不可。
I189: （１６）経営者一覧表（別紙２）

Sheet 2３別紙７（反社会的勢力排除誓約書）
B1: （別紙７）
B3: 反社会的勢力に該当しない旨の誓約書
Z5: 令和 | AC5: =+'１ 認可申請書'!AG9 -> 0 | AE5: 年 | AF5: =+'１ 認可申請書'!AJ9 -> 0 | AH5: 月 | AI5: =+'１ 認可申請書'!AM9 -> 0 | AK5: 日
C7: 大 阪 市 長 様
S9: 設 置 者 | U9: 住所又は所在地 | AA9: ='３申請書別添'!K5 -> 0
AA10: ='３申請書別添'!K6 -> 0
AA11: ='３申請書別添'!S7 -> 0
U12: 氏名又は法人名 | AA12: ='３申請書別添'!K3 -> 0
U13: 法人の場合は代表者の役職及び氏名
AA14: ='３申請書別添'!M13 -> 0 | AG14: ='３申請書別添'!AA14 -> 0
B17: 大阪市が大阪市暴力団排除条例第10条及び関係法令に基づき、市の事務事業により、暴力団を利することとならないように、本市の事務及び事業から暴力団員及び暴力団密接関係者について必要な措置を講ずること等により、本市の事務及び事業からの暴力団の排除を図っていることを承知したうえで、次に掲げる事項を誓約します。
B21: １ 私は、乳児等通園支援事業の認可を申請するに際して、次の第１号から第５号に掲げる事項のいずれにも該当しません。 (1) 暴力団、暴力団員、暴力団員でなくなったときから５年を経過しない者、暴力団準構成員、暴力団関係企業、 総会屋等、社会運動等標ぼうゴロ又は特殊知能暴力集団等、その他これらに準ずる者（以下、総称して「反社会的 勢力」という。） (2) 反社会的勢力と次のア及びイに掲げる関係を有する者。 ア 自ら若しくは第三者の不正な利益を図る目的、又は第三者に損害を与える目的をもって反社会的勢力を利用して いると認められる関係 イ 反社会的勢力に対して資金等を提供し、又は便宜を供与するなど反社会的勢力の維持、運営に協力し、又は関与 している関係 (3) 自らの役員（取締役、執行役、執行役員、監査役、相談役、会長その他、名称の如何を問わず、経営又は運営に 実質的に関与している者をいう。）が反社会的勢力である者、又は反社会的勢力と社会的に非難されるべき関係を 有する者。 (4) 反社会的勢力に自己の名義を利用させ、乳児等通園支援事業の申請を行おうとする者 (5) 自ら又は第三者を利用して乳児等通園支援事業に関して次のアからオに掲げる行為をする者 ア 暴力的な要求行為 イ 法的な責任を超えた不当な要求行為 ウ 乳児等通園支援事業の実施に関して、脅迫的な言動をし、又は暴力を用いる行為 エ 風説を流布し、偽計又は威力を用いて本市の業務を妨害し、又は信用を毀損する行為 オ アからエに準ずる行為 ２ 私は、暴力団、暴力団員及び大阪市暴力団排除条例施行規則第３条各号に掲げる者の該当の有無を確認するため、 大阪市から役員名簿等の提出を求められたときは、速やかに提出します。 ３ 私は、本誓約書及び役員名簿等が大阪市から大阪府警察本部に提供されることに同意します。 ４ 私が本誓約書１に該当する事業者であると大阪市が大阪府警察本部から通報を受け、又は大阪市の調査により判明 した場合は、大阪市が大阪市ホームページ等において、その旨を公表することに同意します。
C41: （参考） ○大阪市暴力団排除条例施行規則（抜粋） （暴力団密接関係者） 第３条 条例第２条第３号の市規則で定める者は、次のいずれかに該当する者とする。 （1）自己若しくは第三者の利益を図り又は第三者に損害を加える目的で、暴力団又は暴力団員を利用した者 （2）暴力団の威力を利用する目的で、又は暴力団の威力を利用したことに関し、暴力団又は暴力団員に対し、 金品その他の財産上の利益又は役務の供与（次号において「利益の供与」という。）をした者 （3）前号に定めるもののほか、暴力団又は暴力団員に対し、暴力団の活動を助長し、又は暴力団の運営に資す ることとなる相当の対償のない利益の供与をした者 （4）暴力団又は暴力団員と社会的に非難されるべき関係を有する者 （5）事業者で、次に掲げる者（アに掲げる者については、当該事業者が法人である場合に限る。）のうちに暴 力団員又は前各号のいずれかに該当する者のあるもの ア 事業者の役員（業務を執行する社員、取締役、執行役又はこれらに準ずる者をいい、相談役、顧問その 他のいかなる名称を有する者であるかを問わず、当該事業者に対し業務を執行する社員、取締役、執行役 又はこれらに準ずる者と同等以上の支配力を有するものと認められる者を含む。） イ 支配人、本店長、支店長、営業所長、事務所長その他いかなる名称を有する者であるかを問わず、営業 所、事務所その他の組織（以下「営業所等」という。）の業務を統括する者 ウ 営業所等において、部長、課長、支店次長、副支店長、副所長その他いかなる名称を有する者であるか を問わず、それらと同等以上の職にあるものであって、事業の利益に重大な影響を及ぼす業務について、 一切の裁判外の行為をする権限を有し、又は当該営業所等の業務を統括する者の権限を代行し得る地位に ある者 エ 事実上事業者の経営に参加していると認められる者 （6）前各号のいずれかに該当する者であることを知りながら、これを相手方として、公共工事等に係る下請契 約、資材又は原材料の購入契約その他の契約を締結した事業者
I202: （１６）経営者一覧表（別紙２）

Sheet 2４別紙８（子ども・子育て支援法誓約書）
B1: （別紙８）
B3: 子ども・子育て支援法第52条第２項に規定する申請をすることができない者に 該当しない旨の誓約書
Z5: 令和 | AC5: =+'１ 認可申請書'!AG9 -> 0 | AE5: 年 | AF5: =+'１ 認可申請書'!AJ9 -> 0 | AH5: 月 | AI5: =+'１ 認可申請書'!AM9 -> 0 | AK5: 日
C7: 大 阪 市 長 様
S9: 設 置 者 | U9: 住所又は所在地 | AA9: ='３申請書別添'!K5 -> 0
AA10: ='３申請書別添'!K6 -> 0
AA11: ='３申請書別添'!S7 -> 0
U12: 氏名又は法人名 | AA12: ='３申請書別添'!K3 -> 0
U13: 法人の場合は代表者の役職及び氏名
AA14: ='３申請書別添'!M13 -> 0 | AG14: ='３申請書別添'!AA14 -> 0
B16: 子ども・子育て支援法第54条の３で準用する、子ども・子育て支援法第52条第２項に規定する申請をすることができない者に該当しないことを誓約いたします。
B21: 子ども・子育て支援法第54条の３
B22: 第54条の３ 第44条から第54条までの規定（第45条第２項を除く。）は、前条第１項の確認を受けた者（以下「特定乳児等通園支援事業者」という。）について準用する。この場合において、必要な技術的読替えは、政令で定める。
B24: 子ども・子育て支援法第52条第２項
B25: 前項の規定により第29条第１項の確認を取り消された地域型保育事業を行う者（政令で定める者を除く。）及びこれに準ずる者として政令で定める者は、その取消しの日又はこれに準ずる日として政令で定める日から起算して５年を経過するまでの間は、第43条第１項の申請をすることができない。
B27: 子ども・子育て支援法第52条第１項
B28: 市町村長は、次の各号のいずれかに該当する場合においては、当該特定地域型保育事業者に係る第29条第１項の確認を取り消し、又は期間を定めてその確認の全部若しくは一部の効力を停止することができる。
C30: １ | D30: 特定地域型保育事業者が、第45条第６項の規定に違反したと認められるとき。
C31: ２ | D31: 特定地域型保育事業者が、地域型保育事業の認可基準に従って地域型保育給付費の支給に係る事業を行う者として適正な地域型保育事業の運営をすることができなくなったとき。
C32: ３ | D32: 特定地域型保育事業者が、第46条第２項の市町村の条例で定める特定地域型保育事業の運営に関する基準に従って地域型保育給付費の支給に係る事業を行う者として適正な特定地域型保育事業の運営をすることができなくなったとき。
C33: ４ | D33: 地域型保育給付費又は特例地域型保育給付費の請求に関し不正があったとき。
C34: ５ | D34: 特定地域型保育事業者が、第50条第１項の規定により報告又は帳簿書類その他の物件の提出若しくは提示を命ぜられてこれに従わず、又は虚偽の報告をしたとき。
C35: ６ | D35: 特定地域型保育事業者又はその特定地域型保育事業所の職員が、第50条第１項の規定により出頭を求められてこれに応ぜず、同項の規定による質問に対して答弁せず、若しくは虚偽の答弁をし、又は同項の規定による検査を拒み、妨げ、若しくは忌避したとき。ただし、当該特定地域型保育事業所の職員がその行為をした場合において、その行為を防止するため、当該特定地域型保育事業者が相当の注意及び監督を尽くしたときを除く。
C36: ７ | D36: 特定地域型保育事業者が、不正の手段により第29条第１項の確認を受けたとき。
C37: ８ | D37: 前各号に掲げる場合のほか、特定地域型保育事業者が、この法律その他国民の福祉に関する法律で政令で定めるもの又はこれらの法律に基づく命令若しくは処分に違反したとき。
C38: ９ | D38: 前各号に掲げる場合のほか、特定地域型保育事業者が、保育に関し不正又は著しく不当な行為をしたとき。
C39: 10 | D39: 特定地域型保育事業者が法人である場合において、当該法人の役員又はその事業所を管理する者その他の政令で定める使用人のうちに過去５年以内に保育に関し不正又は著しく不当な行為をした者があるとき。
C40: 11 | D40: 特定地域型保育事業者が法人でない場合において、その管理者が過去５年以内に保育に関し不正又は著しく不当な行為をした者であるとき。
I186: （１６）経営者一覧表（別紙２）
