Workbook
Name _Flg1: #REF!
Name _Flg2: #REF!
Name Data1: #REF!
Name Data10: #REF!
Name Data11: #REF!
Name Data12: #REF!
Name Data13: #REF!
Name Data14: #REF!
Name Data15: #REF!
Name Data16: #REF!
Name Data17: #REF!
Name Data18: #REF!
Name Data19: #REF!
Name Data2: #REF!
Name Data20: #REF!
Name Data21: #REF!
Name Data22: #REF!
Name Data23: #REF!
Name Data24: #REF!
Name Data25: #REF!
Name Data26: #REF!
Name Data27: #REF!
Name Data28: #REF!
Name Data29: #REF!
Name Data3: #REF!
Name Data30: #REF!
Name Data31: #REF!
Name Data32: #REF!
Name Data33: #REF!
Name Data4: #REF!
Name Data5: #REF!
Name Data6: #REF!
Name Data7: #REF!
Name Data8: #REF!
Name Data9: #REF!
Name DataA1: #REF!
Name DataA10: #REF!
Name DataA11: #REF!
Name DataA12: #REF!
Name DataA13: #REF!
Name DataA14: #REF!
Name DataA15: #REF!
Name DataA16: #REF!
Name DataA17: #REF!
Name DataA18: #REF!
Name DataA19: #REF!
Name DataA2: #REF!
Name DataA20: #REF!
Name DataA21: #REF!
Name DataA22: #REF!
Name DataA23: #REF!
Name DataA24: #REF!
Name DataA3: #REF!
Name DataA4: #REF!
Name DataA5: #REF!
Name DataA6: #REF!
Name DataA7: #REF!
Name DataA8: #REF!
Name DataA9: #REF!
Name HItem1: #REF!

Sheet ４　幼稚園別学級数、幼児数
A1: ４ 幼稚園別学級数、幼児数
Q2: 46143
A4: 区名 | B4: 園名 | C4: 学級数 | H4: 合計 | K4: ３歳児 | N4: ４歳児 | Q4: ５歳児
C5: ３歳児 | D5: ４歳児 | E5: ５歳児 | F5: 混合 | G5: 計 | H5: 男 | I5: 女 | J5: 計 | K5: 男 | L5: 女 | M5: 計 | N5: 男 | O5: 女 | P5: 計 | Q5: 男 | R5: 女 | S5: 計
A6: 北 | B6: 菅南 | C6: 1 | D6: 1 | E6: 1 | F6: - | G6: =SUM(C6:E6) -> 3 | H6: =SUM(K6,N6,Q6) -> 29 | I6: =SUM(L6,O6,R6) -> 23 | J6: =SUM(M6,P6,S6) -> 52 | K6: 12 | L6: 5 | M6: =SUM(K6:L6) -> 17 | N6: 8 | O6: 7 | P6: =SUM(N6:O6) -> 15 | Q6: 9 | R6: 11 | S6: =SUM(Q6:R6) -> 20
B7: 滝川 | C7: 1 | D7: 1 | E7: 1 | F7: - | G7: =SUM(C7:E7) -> 3 | H7: =SUM(K7,N7,Q7) -> 23 | I7: =SUM(L7,O7,R7) -> 27 | J7: =SUM(M7,P7,S7) -> 50 | K7: 8 | L7: 7 | M7: =SUM(K7:L7) -> 15 | N7: 6 | O7: 8 | P7: =SUM(N7:O7) -> 14 | Q7: 9 | R7: 12 | S7: =SUM(Q7:R7) -> 21
B8: 中大淀 | C8: 0 | D8: 1 | E8: 1 | F8: - | G8: =SUM(C8:E8) -> 2 | H8: =SUM(K8,N8,Q8) -> 14 | I8: =SUM(L8,O8,R8) -> 7 | J8: =SUM(M8,P8,S8) -> 21 | K8: 0 | L8: 0 | M8: =SUM(K8:L8) -> 0 | N8: 7 | O8: 0 | P8: =SUM(N8:O8) -> 7 | Q8: 7 | R8: 7 | S8: =SUM(Q8:R8) -> 14
B9: 計 | C9: =SUM(C6:C8) -> 2 | D9: =SUM(D6:D8) -> 3 | E9: =SUM(E6:E8) -> 3 | F9: - | G9: =SUM(C9:E9) -> 8 | H9: =SUM(K9,N9,Q9) -> 66 | I9: =SUM(L9,O9,R9) -> 57 | J9: =SUM(M9,P9,S9) -> 123 | K9: =SUM(K6:K8) -> 20 | L9: =SUM(L6:L8) -> 12 | M9: =SUM(M6:M8) -> 32 | N9: =SUM(N6:N8) -> 21 | O9: =SUM(O6:O8) -> 15 | P9: =SUM(P6:P8) -> 36 | Q9: =SUM(Q6:Q8) -> 25 | R9: =SUM(R6:R8) -> 30 | S9: =SUM(S6:S8) -> 55
K10: =_xlfn.XLOOKUP(B10,[1]歳時別・男女別!$B$3:$B$53,[1]歳時別・男女別!$D$3:$D$53,"") | L10: =_xlfn.XLOOKUP(B10,[1]歳時別・男女別!$B$3:$B$53,[1]歳時別・男女別!$E$3:$E$53,"") | N10: =_xlfn.XLOOKUP(B10,[1]歳時別・男女別!$B$3:$B$53,[1]歳時別・男女別!$H$3:$H$53,"") | O10: =_xlfn.XLOOKUP(B10,[1]歳時別・男女別!$B$3:$B$53,[1]歳時別・男女別!$I$3:$I$53,"") | Q10: =_xlfn.XLOOKUP(B10,[1]歳時別・男女別!$B$3:$B$53,[1]歳時別・男女別!$L$3:$L$53,"") | R10: =_xlfn.XLOOKUP(B10,[1]歳時別・男女別!$B$3:$B$53,[1]歳時別・男女別!$M$3:$M$53,"")
A11: 都島 | B11: 桜宮 | C11: 1 | D11: 1 | E11: 1 | F11: - | G11: =SUM(C11:E11) -> 3 | H11: =SUM(K11,N11,Q11) -> 20 | I11: =SUM(L11,O11,R11) -> 14 | J11: =SUM(M11,P11,S11) -> 34 | K11: 4 | L11: 2 | M11: =SUM(K11:L11) -> 6 | N11: 9 | O11: 4 | P11: =SUM(N11:O11) -> 13 | Q11: 7 | R11: 8 | S11: =SUM(Q11:R11) -> 15
B12: 計 | C12: =SUM(C11) -> 1 | D12: =SUM(D11) -> 1 | E12: =SUM(E11) -> 1 | F12: - | G12: =SUM(C12:E12) -> 3 | H12: =SUM(K12,N12,Q12) -> 20 | I12: =SUM(L12,O12,R12) -> 14 | J12: =SUM(M12,P12,S12) -> 34 | K12: =K11 -> 4 | L12: =L11 -> 2 | M12: =M11 -> 6 | N12: =SUM(N11) -> 9 | O12: =SUM(O11) -> 4 | P12: =P11 -> 13 | Q12: =SUM(Q11) -> 7 | R12: =SUM(R11) -> 8 | S12: =S11 -> 15
K13: =_xlfn.XLOOKUP(B13,[1]歳時別・男女別!$B$3:$B$53,[1]歳時別・男女別!$D$3:$D$53,"") | L13: =_xlfn.XLOOKUP(B13,[1]歳時別・男女別!$B$3:$B$53,[1]歳時別・男女別!$E$3:$E$53,"") | N13: =_xlfn.XLOOKUP(B13,[1]歳時別・男女別!$B$3:$B$53,[1]歳時別・男女別!$H$3:$H$53,"") | O13: =_xlfn.XLOOKUP(B13,[1]歳時別・男女別!$B$3:$B$53,[1]歳時別・男女別!$I$3:$I$53,"") | Q13: =_xlfn.XLOOKUP(B13,[1]歳時別・男女別!$B$3:$B$53,[1]歳時別・男女別!$L$3:$L$53,"") | R13: =_xlfn.XLOOKUP(B13,[1]歳時別・男女別!$B$3:$B$53,[1]歳時別・男女別!$M$3:$M$53,"")
A14: 福島 | B14: 西野田 | C14: 0 | D14: 1 | E14: 1 | F14: - | G14: =SUM(C14:E14) -> 2 | H14: =SUM(K14,N14,Q14) -> 16 | I14: =SUM(L14,O14,R14) -> 8 | J14: =SUM(M14,P14,S14) -> 24 | K14: 0 | L14: 0 | M14: =SUM(K14:L14) -> 0 | N14: 5 | O14: 4 | P14: =SUM(N14:O14) -> 9 | Q14: 11 | R14: 4 | S14: =SUM(Q14:R14) -> 15
B15: 貫江田 | C15: 2 | D15: 2 | E15: 2 | F15: - | G15: =SUM(C15:E15) -> 6 | H15: =SUM(K15,N15,Q15) -> 60 | I15: =SUM(L15,O15,R15) -> 73 | J15: =SUM(M15,P15,S15) -> 133 | K15: 16 | L15: 24 | M15: =SUM(K15:L15) -> 40 | N15: 22 | O15: 20 | P15: =SUM(N15:O15) -> 42 | Q15: 22 | R15: 29 | S15: =SUM(Q15:R15) -> 51
B16: 海老江西 | C16: 0 | D16: 0 | E16: 1 | F16: - | G16: =SUM(C16:E16) -> 1 | H16: =SUM(K16,N16,Q16) -> 4 | I16: =SUM(L16,O16,R16) -> 2 | J16: =SUM(M16,P16,S16) -> 6 | K16: 0 | L16: 0 | M16: =SUM(K16:L16) -> 0 | N16: 0 | O16: 0 | P16: =SUM(N16:O16) -> 0 | Q16: 4 | R16: 2 | S16: =SUM(Q16:R16) -> 6
B17: 計 | C17: =SUM(C14:C16) -> 2 | D17: =SUM(D14:D16) -> 3 | E17: =SUM(E14:E16) -> 4 | F17: - | G17: =SUM(C17:E17) -> 9 | H17: =SUM(K17,N17,Q17) -> 80 | I17: =SUM(L17,O17,R17) -> 83 | J17: =SUM(M17,P17,S17) -> 163 | K17: =SUM(K14:K16) -> 16 | L17: =SUM(L14:L16) -> 24 | M17: =SUM(M14:M16) -> 40 | N17: =SUM(N14:N16) -> 27 | O17: =SUM(O14:O16) -> 24 | P17: =SUM(P14:P16) -> 51 | Q17: =SUM(Q14:Q16) -> 37 | R17: =SUM(R14:R16) -> 35 | S17: =SUM(S14:S16) -> 72
K18: =_xlfn.XLOOKUP(B18,[1]歳時別・男女別!$B$3:$B$53,[1]歳時別・男女別!$D$3:$D$53,"") | L18: =_xlfn.XLOOKUP(B18,[1]歳時別・男女別!$B$3:$B$53,[1]歳時別・男女別!$E$3:$E$53,"") | N18: =_xlfn.XLOOKUP(B18,[1]歳時別・男女別!$B$3:$B$53,[1]歳時別・男女別!$H$3:$H$53,"") | O18: =_xlfn.XLOOKUP(B18,[1]歳時別・男女別!$B$3:$B$53,[1]歳時別・男女別!$I$3:$I$53,"") | Q18: =_xlfn.XLOOKUP(B18,[1]歳時別・男女別!$B$3:$B$53,[1]歳時別・男女別!$L$3:$L$53,"") | R18: =_xlfn.XLOOKUP(B18,[1]歳時別・男女別!$B$3:$B$53,[1]歳時別・男女別!$M$3:$M$53,"")
A19: 此花 | B19: 伝法 | C19: 1 | D19: 2 | E19: 2 | F19: - | G19: =SUM(C19:E19) -> 5 | H19: =SUM(K19,N19,Q19) -> 45 | I19: =SUM(L19,O19,R19) -> 46 | J19: =SUM(M19,P19,S19) -> 91 | K19: 10 | L19: 10 | M19: =SUM(K19:L19) -> 20 | N19: 20 | O19: 13 | P19: =SUM(N19:O19) -> 33 | Q19: 15 | R19: 23 | S19: =SUM(Q19:R19) -> 38
B20: 計 | C20: =SUM(C19) -> 1 | D20: =SUM(D19) -> 2 | E20: =SUM(E19) -> 2 | F20: - | G20: =SUM(C20:E20) -> 5 | H20: =SUM(K20,N20,Q20) -> 45 | I20: =SUM(L20,O20,R20) -> 46 | J20: =SUM(M20,P20,S20) -> 91 | K20: =K19 -> 10 | L20: =L19 -> 10 | M20: =M19 -> 20 | N20: =N19 -> 20 | O20: =O19 -> 13 | P20: =P19 -> 33 | Q20: =SUM(Q19) -> 15 | R20: =SUM(R19) -> 23 | S20: =S19 -> 38
K21: =_xlfn.XLOOKUP(B21,[1]歳時別・男女別!$B$3:$B$53,[1]歳時別・男女別!$D$3:$D$53,"") | L21: =_xlfn.XLOOKUP(B21,[1]歳時別・男女別!$B$3:$B$53,[1]歳時別・男女別!$E$3:$E$53,"") | N21: =_xlfn.XLOOKUP(B21,[1]歳時別・男女別!$B$3:$B$53,[1]歳時別・男女別!$H$3:$H$53,"") | O21: =_xlfn.XLOOKUP(B21,[1]歳時別・男女別!$B$3:$B$53,[1]歳時別・男女別!$I$3:$I$53,"") | Q21: =_xlfn.XLOOKUP(B21,[1]歳時別・男女別!$B$3:$B$53,[1]歳時別・男女別!$L$3:$L$53,"") | R21: =_xlfn.XLOOKUP(B21,[1]歳時別・男女別!$B$3:$B$53,[1]歳時別・男女別!$M$3:$M$53,"")
A22: 中央 | B22: 愛珠 | C22: 1 | D22: 1 | E22: 1 | F22: - | G22: =SUM(C22:E22) -> 3 | H22: =SUM(K22,N22,Q22) -> 26 | I22: =SUM(L22,O22,R22) -> 30 | J22: =SUM(M22,P22,S22) -> 56 | K22: 7 | L22: 13 | M22: =SUM(K22:L22) -> 20 | N22: 11 | O22: 7 | P22: =SUM(N22:O22) -> 18 | Q22: 8 | R22: 10 | S22: =SUM(Q22:R22) -> 18
B23: 銅座 | C23: 1 | D23: 1 | E23: 1 | F23: - | G23: =SUM(C23:E23) -> 3 | H23: =SUM(K23,N23,Q23) -> 33 | I23: =SUM(L23,O23,R23) -> 26 | J23: =SUM(M23,P23,S23) -> 59 | K23: 7 | L23: 10 | M23: =SUM(K23:L23) -> 17 | N23: 15 | O23: 6 | P23: =SUM(N23:O23) -> 21 | Q23: 11 | R23: 10 | S23: =SUM(Q23:R23) -> 21
B24: 玉造 | C24: 2 | D24: 2 | E24: 2 | F24: - | G24: =SUM(C24:E24) -> 6 | H24: =SUM(K24,N24,Q24) -> 73 | I24: =SUM(L24,O24,R24) -> 59 | J24: =SUM(M24,P24,S24) -> 132 | K24: 20 | L24: 20 | M24: =SUM(K24:L24) -> 40 | N24: 27 | O24: 20 | P24: =SUM(N24:O24) -> 47 | Q24: 26 | R24: 19 | S24: =SUM(Q24:R24) -> 45
B25: 中大江 | C25: 1 | D25: 1 | E25: 1 | F25: - | G25: =SUM(C25:E25) -> 3 | H25: =SUM(K25,N25,Q25) -> 23 | I25: =SUM(L25,O25,R25) -> 31 | J25: =SUM(M25,P25,S25) -> 54 | K25: 12 | L25: 8 | M25: =SUM(K25:L25) -> 20 | N25: 5 | O25: 7 | P25: =SUM(N25:O25) -> 12 | Q25: 6 | R25: 16 | S25: =SUM(Q25:R25) -> 22
B26: 桃園 | C26: 0 | D26: 1 | E26: 1 | F26: - | G26: =SUM(C26:E26) -> 2 | H26: =SUM(K26,N26,Q26) -> 8 | I26: =SUM(L26,O26,R26) -> 10 | J26: =SUM(M26,P26,S26) -> 18 | K26: 0 | L26: 0 | M26: =SUM(K26:L26) -> 0 | N26: 4 | O26: 4 | P26: =SUM(N26:O26) -> 8 | Q26: 4 | R26: 6 | S26: =SUM(Q26:R26) -> 10
B27: 南 | C27: 1 | D27: 1 | E27: 1 | F27: - | G27: =SUM(C27:E27) -> 3 | H27: =SUM(K27,N27,Q27) -> 24 | I27: =SUM(L27,O27,R27) -> 30 | J27: =SUM(M27,P27,S27) -> 54 | K27: 8 | L27: 10 | M27: =SUM(K27:L27) -> 18 | N27: 3 | O27: 9 | P27: =SUM(N27:O27) -> 12 | Q27: 13 | R27: 11 | S27: =SUM(Q27:R27) -> 24
B28: 計 | C28: =SUM(C22:C27) -> 6 | D28: =SUM(D22:D27) -> 7 | E28: =SUM(E22:E27) -> 7 | F28: - | G28: =SUM(C28:E28) -> 20 | H28: =SUM(K28,N28,Q28) -> 187 | I28: =SUM(L28,O28,R28) -> 186 | J28: =SUM(M28,P28,S28) -> 373 | K28: =SUM(K22:K27) -> 54 | L28: =SUM(L22:L27) -> 61 | M28: =SUM(M22:M27) -> 115 | N28: =SUM(N22:N27) -> 65 | O28: =SUM(O22:O27) -> 53 | P28: =SUM(P22:P27) -> 118 | Q28: =SUM(Q22:Q27) -> 68 | R28: =SUM(R22:R27) -> 72 | S28: =SUM(S22:S27) -> 140
K29: =_xlfn.XLOOKUP(B29,[1]歳時別・男女別!$B$3:$B$53,[1]歳時別・男女別!$D$3:$D$53,"") | L29: =_xlfn.XLOOKUP(B29,[1]歳時別・男女別!$B$3:$B$53,[1]歳時別・男女別!$E$3:$E$53,"") | N29: =_xlfn.XLOOKUP(B29,[1]歳時別・男女別!$B$3:$B$53,[1]歳時別・男女別!$H$3:$H$53,"") | O29: =_xlfn.XLOOKUP(B29,[1]歳時別・男女別!$B$3:$B$53,[1]歳時別・男女別!$I$3:$I$53,"") | Q29: =_xlfn.XLOOKUP(B29,[1]歳時別・男女別!$B$3:$B$53,[1]歳時別・男女別!$L$3:$L$53,"") | R29: =_xlfn.XLOOKUP(B29,[1]歳時別・男女別!$B$3:$B$53,[1]歳時別・男女別!$M$3:$M$53,"")
A30: 西 | B30: 九条 | C30: 0 | D30: 1 | E30: 1 | F30: - | G30: =SUM(C30:E30) -> 2 | H30: =SUM(K30,N30,Q30) -> 19 | I30: =SUM(L30,O30,R30) -> 16 | J30: =SUM(M30,P30,S30) -> 35 | K30: 0 | L30: 0 | M30: =SUM(K30:L30) -> 0 | N30: 7 | O30: 11 | P30: =SUM(N30:O30) -> 18 | Q30: 12 | R30: 5 | S30: =SUM(Q30:R30) -> 17
B31: 靱 | C31: 2 | D31: 2 | E31: 2 | F31: - | G31: =SUM(C31:E31) -> 6 | H31: =SUM(K31,N31,Q31) -> 43 | I31: =SUM(L31,O31,R31) -> 53 | J31: =SUM(M31,P31,S31) -> 96 | K31: 7 | L31: 16 | M31: =SUM(K31:L31) -> 23 | N31: 16 | O31: 20 | P31: =SUM(N31:O31) -> 36 | Q31: 20 | R31: 17 | S31: =SUM(Q31:R31) -> 37
B32: 日吉 | C32: 1 | D32: 1 | E32: 1 | F32: - | G32: =SUM(C32:E32) -> 3 | H32: =SUM(K32,N32,Q32) -> 32 | I32: =SUM(L32,O32,R32) -> 16 | J32: =SUM(M32,P32,S32) -> 48 | K32: 13 | L32: 7 | M32: =SUM(K32:L32) -> 20 | N32: 11 | O32: 7 | P32: =SUM(N32:O32) -> 18 | Q32: 8 | R32: 2 | S32: =SUM(Q32:R32) -> 10
B33: 計 | C33: =SUM(C30:C32) -> 3 | D33: =SUM(D30:D32) -> 4 | E33: =SUM(E30:E32) -> 4 | F33: - | G33: =SUM(C33:E33) -> 11 | H33: =SUM(K33,N33,Q33) -> 94 | I33: =SUM(L33,O33,R33) -> 85 | J33: =SUM(M33,P33,S33) -> 179 | K33: =SUM(K30:K32) -> 20 | L33: =SUM(L30:L32) -> 23 | M33: =SUM(M30:M32) -> 43 | N33: =SUM(N30:N32) -> 34 | O33: =SUM(O30:O32) -> 38 | P33: =SUM(P30:P32) -> 72 | Q33: =SUM(Q30:Q32) -> 40 | R33: =SUM(R30:R32) -> 24 | S33: =SUM(S30:S32) -> 64
K34: =_xlfn.XLOOKUP(B34,[1]歳時別・男女別!$B$3:$B$53,[1]歳時別・男女別!$D$3:$D$53,"") | L34: =_xlfn.XLOOKUP(B34,[1]歳時別・男女別!$B$3:$B$53,[1]歳時別・男女別!$E$3:$E$53,"") | N34: =_xlfn.XLOOKUP(B34,[1]歳時別・男女別!$B$3:$B$53,[1]歳時別・男女別!$H$3:$H$53,"") | O34: =_xlfn.XLOOKUP(B34,[1]歳時別・男女別!$B$3:$B$53,[1]歳時別・男女別!$I$3:$I$53,"") | Q34: =_xlfn.XLOOKUP(B34,[1]歳時別・男女別!$B$3:$B$53,[1]歳時別・男女別!$L$3:$L$53,"") | R34: =_xlfn.XLOOKUP(B34,[1]歳時別・男女別!$B$3:$B$53,[1]歳時別・男女別!$M$3:$M$53,"")
A35: 港 | B35: 三先 | C35: 1 | D35: 1 | E35: 1 | F35: - | G35: =SUM(C35:E35) -> 3 | H35: =SUM(K35,N35,Q35) -> 24 | I35: =SUM(L35,O35,R35) -> 26 | J35: =SUM(M35,P35,S35) -> 50 | K35: 5 | L35: 9 | M35: =SUM(K35:L35) -> 14 | N35: 12 | O35: 10 | P35: =SUM(N35:O35) -> 22 | Q35: 7 | R35: 7 | S35: =SUM(Q35:R35) -> 14
B36: 計 | C36: =SUM(C35) -> 1 | D36: =SUM(D35) -> 1 | E36: =SUM(E35) -> 1 | F36: - | G36: =SUM(C36:E36) -> 3 | H36: =SUM(K36,N36,Q36) -> 24 | I36: =SUM(L36,O36,R36) -> 26 | J36: =SUM(M36,P36,S36) -> 50 | K36: =K35 -> 5 | L36: =SUM(L35) -> 9 | M36: =M35 -> 14 | N36: =SUM(N35) -> 12 | O36: =SUM(O35) -> 10 | P36: =P35 -> 22 | Q36: =SUM(Q35) -> 7 | R36: =SUM(R35) -> 7 | S36: =S35 -> 14
K37: =_xlfn.XLOOKUP(B37,[1]歳時別・男女別!$B$3:$B$53,[1]歳時別・男女別!$D$3:$D$53,"") | L37: =_xlfn.XLOOKUP(B37,[1]歳時別・男女別!$B$3:$B$53,[1]歳時別・男女別!$E$3:$E$53,"") | N37: =_xlfn.XLOOKUP(B37,[1]歳時別・男女別!$B$3:$B$53,[1]歳時別・男女別!$H$3:$H$53,"") | O37: =_xlfn.XLOOKUP(B37,[1]歳時別・男女別!$B$3:$B$53,[1]歳時別・男女別!$I$3:$I$53,"") | Q37: =_xlfn.XLOOKUP(B37,[1]歳時別・男女別!$B$3:$B$53,[1]歳時別・男女別!$L$3:$L$53,"") | R37: =_xlfn.XLOOKUP(B37,[1]歳時別・男女別!$B$3:$B$53,[1]歳時別・男女別!$M$3:$M$53,"")
A38: 大正 | B38: 三軒家西 | C38: 1 | D38: 1 | E38: 1 | F38: - | G38: =SUM(C38:E38) -> 3 | H38: =SUM(K38,N38,Q38) -> 9 | I38: =SUM(L38,O38,R38) -> 5 | J38: =SUM(M38,P38,S38) -> 14 | K38: 1 | L38: 1 | M38: =SUM(K38:L38) -> 2 | N38: 4 | O38: 3 | P38: =SUM(N38:O38) -> 7 | Q38: 4 | R38: 1 | S38: =SUM(Q38:R38) -> 5
B39: 計 | C39: =SUM(C38) -> 1 | D39: =SUM(D38) -> 1 | E39: =SUM(E38) -> 1 | F39: - | G39: =SUM(C39:E39) -> 3 | H39: =SUM(K39,N39,Q39) -> 9 | I39: =SUM(L39,O39,R39) -> 5 | J39: =SUM(M39,P39,S39) -> 14 | K39: =K38 -> 1 | L39: =L38 -> 1 | M39: =M38 -> 2 | N39: =N38 -> 4 | O39: =O38 -> 3 | P39: =P38 -> 7 | Q39: =SUM(Q38) -> 4 | R39: =SUM(R38) -> 1 | S39: =S38 -> 5
K40: =_xlfn.XLOOKUP(B40,[1]歳時別・男女別!$B$3:$B$53,[1]歳時別・男女別!$D$3:$D$53,"") | L40: =_xlfn.XLOOKUP(B40,[1]歳時別・男女別!$B$3:$B$53,[1]歳時別・男女別!$E$3:$E$53,"") | N40: =_xlfn.XLOOKUP(B40,[1]歳時別・男女別!$B$3:$B$53,[1]歳時別・男女別!$H$3:$H$53,"") | O40: =_xlfn.XLOOKUP(B40,[1]歳時別・男女別!$B$3:$B$53,[1]歳時別・男女別!$I$3:$I$53,"") | Q40: =_xlfn.XLOOKUP(B40,[1]歳時別・男女別!$B$3:$B$53,[1]歳時別・男女別!$L$3:$L$53,"") | R40: =_xlfn.XLOOKUP(B40,[1]歳時別・男女別!$B$3:$B$53,[1]歳時別・男女別!$M$3:$M$53,"")
A41: 天王寺 | B41: 五条 | C41: 1 | D41: 1 | E41: 1 | F41: - | G41: =SUM(C41:E41) -> 3 | H41: =SUM(K41,N41,Q41) -> 41 | I41: =SUM(L41,O41,R41) -> 22 | J41: =SUM(M41,P41,S41) -> 63 | K41: 11 | L41: 8 | M41: =SUM(K41:L41) -> 19 | N41: 17 | O41: 3 | P41: =SUM(N41:O41) -> 20 | Q41: 13 | R41: 11 | S41: =SUM(Q41:R41) -> 24
...
