Workbook
Name _Flg1: #REF!
Name _Flg2: #REF!
Name Data1: #REF!
Name Data10: #REF!
Name Data11: #REF!
Name Data12: #REF!
Name Data13: #REF!
Name Data14: #REF!
Name Data15: #REF!
Name Data16: #REF!
Name Data17: #REF!
Name Data18: #REF!
Name Data19: #REF!
Name Data2: #REF!
Name Data20: #REF!
Name Data21: #REF!
Name Data22: #REF!
Name Data23: #REF!
Name Data24: #REF!
Name Data25: #REF!
Name Data26: #REF!
Name Data27: #REF!
Name Data28: #REF!
Name Data29: #REF!
Name Data3: #REF!
Name Data30: #REF!
Name Data31: #REF!
Name Data32: #REF!
Name Data33: #REF!
Name Data4: #REF!
Name Data5: #REF!
Name Data6: #REF!
Name Data7: #REF!
Name Data8: #REF!
Name Data9: #REF!
Name DataA1: #REF!
Name DataA10: #REF!
Name DataA11: #REF!
Name DataA12: #REF!
Name DataA13: #REF!
Name DataA14: #REF!
Name DataA15: #REF!
Name DataA16: #REF!
Name DataA17: #REF!
Name DataA18: #REF!
Name DataA19: #REF!
Name DataA2: #REF!
Name DataA20: #REF!
Name DataA21: #REF!
Name DataA22: #REF!
Name DataA23: #REF!
Name DataA24: #REF!
Name DataA3: #REF!
Name DataA4: #REF!
Name DataA5: #REF!
Name DataA6: #REF!
Name DataA7: #REF!
Name DataA8: #REF!
Name DataA9: #REF!
Name HItem1: #REF!

Sheet ４　幼稚園別学級数、幼児数
A1: ４ 幼稚園別学級数、幼児数
Q2: 46143
A4: 区名 | B4: 園名 | C4: 学級数 | H4: 合計 | K4: ３歳児 | N4: ４歳児 | Q4: ５歳児
C5: ３歳児 | D5: ４歳児 | E5: ５歳児 | F5: 混合 | G5: 計 | H5: 男 | I5: 女 | J5: 計 | K5: 男 | L5: 女 | M5: 計 | N5: 男 | O5: 女 | P5: 計 | Q5: 男 | R5: 女 | S5: 計
A6: 北 | B6: 菅南 | C6: 1 | D6: 1 | E6: 1 | F6: - | G6: =SUM(C6:E6) -> 3 | H6: =SUM(K6,N6,Q6) -> 29 | I6: =SUM(L6,O6,R6) -> 23 | J6: =SUM(M6,P6,S6) -> 52 | K6: 12 | L6: 5 | M6: =SUM(K6:L6) -> 17 | N6: 8 | O6: 7 | P6: =SUM(N6:O6) -> 15 | Q6: 9 | R6: 11 | S6: =SUM(Q6:R6) -> 20
B7: 滝川 | C7: 1 | D7: 1 | E7: 1 | F7: - | G7: =SUM(C7:E7) -> 3 | H7: =SUM(K7,N7,Q7) -> 23 | I7: =SUM(L7,O7,R7) -> 27 | J7: =SUM(M7,P7,S7) -> 50 | K7: 8 | L7: 7 | M7: =SUM(K7:L7) -> 15 | N7: 6 | O7: 8 | P7: =SUM(N7:O7) -> 14 | Q7: 9 | R7: 12 | S7: =SUM(Q7:R7) -> 21
B8: 中大淀 | C8: 0 | D8: 1 | E8: 1 | F8: - | G8: =SUM(C8:E8) -> 2 | H8: =SUM(K8,N8,Q8) -> 14 | I8: =SUM(L8,O8,R8) -> 7 | J8: =SUM(M8,P8,S8) -> 21 | K8: 0 | L8: 0 | M8: =SUM(K8:L8) -> 0 | N8: 7 | O8: 0 | P8: =SUM(N8:O8) -> 7 | Q8: 7 | R8: 7 | S8: =SUM(Q8:R8) -> 14
B9: 計 | C9: =SUM(C6:C8) -> 2 | D9: =SUM(D6:D8) -> 3 | E9: =SUM(E6:E8) -> 3 | F9: - | G9: =SUM(C9:E9) -> 8 | H9: =SUM(K9,N9,Q9) -> 66 | I9: =SUM(L9,O9,R9) -> 57 | J9: =SUM(M9,P9,S9) -> 123 | K9: =SUM(K6:K8) -> 20 | L9: =SUM(L6:L8) -> 12 | M9: =SUM(M6:M8) -> 32 | N9: =SUM(N6:N8) -> 21 | O9: =SUM(O6:O8) -> 15 | P9: =SUM(P6:P8) -> 36 | Q9: =SUM(Q6:Q8) -> 25 | R9: =SUM(R6:R8) -> 30 | S9: =SUM(S6:S8) -> 55
K10: =_xlfn.XLOOKUP(B10,[1]歳時別・男女別!$B$3:$B$53,[1]歳時別・男女別!$D$3:$D$53,"") | L10: =_xlfn.XLOOKUP(B10,[1]歳時別・男女別!$B$3:$B$53,[1]歳時別・男女別!$E$3:$E$53,"") | N10: =_xlfn.XLOOKUP(B10,[1]歳時別・男女別!$B$3:$B$53,[1]歳時別・男女別!$H$3:$H$53,"") | O10: =_xlfn.XLOOKUP(B10,[1]歳時別・男女別!$B$3:$B$53,[1]歳時別・男女別!$I$3:$I$53,"") | Q10: =_xlfn.XLOOKUP(B10,[1]歳時別・男女別!$B$3:$B$53,[1]歳時別・男女別!$L$3:$L$53,"") | R10: =_xlfn.XLOOKUP(B10,[1]歳時別・男女別!$B$3:$B$53,[1]歳時別・男女別!$M$3:$M$53,"")
A11: 都島 | B11: 桜宮 | C11: 1 | D11: 1 | E11: 1 | F11: - | G11: =SUM(C11:E11) -> 3 | H11: =SUM(K11,N11,Q11) -> 20 | I11: =SUM(L11,O11,R11) -> 14 | J11: =SUM(M11,P11,S11) -> 34 | K11: 4 | L11: 2 | M11: =SUM(K11:L11) -> 6 | N11: 9 | O11: 4 | P11: =SUM(N11:O11) -> 13 | Q11: 7 | R11: 8 | S11: =SUM(Q11:R11) -> 15
B12: 計 | C12: =SUM(C11) -> 1 | D12: =SUM(D11) -> 1 | E12: =SUM(E11) -> 1 | F12: - | G12: =SUM(C12:E12) -> 3 | H12: =SUM(K12,N12,Q12) -> 20 | I12: =SUM(L12,O12,R12) -> 14 | J12: =SUM(M12,P12,S12) -> 34 | K12: =K11 -> 4 | L12: =L11 -> 2 | M12: =M11 -> 6 | N12: =SUM(N11) -> 9 | O12: =SUM(O11) -> 4 | P12: =P11 -> 13 | Q12: =SUM(Q11) -> 7 | R12: =SUM(R11) -> 8 | S12: =S11 -> 15
K13: =_xlfn.XLOOKUP(B13,[1]歳時別・男女別!$B$3:$B$53,[1]歳時別・男女別!$D$3:$D$53,"") | L13: =_xlfn.XLOOKUP(B13,[1]歳時別・男女別!$B$3:$B$53,[1]歳時別・男女別!$E$3:$E$53,"") | N13: =_xlfn.XLOOKUP(B13,[1]歳時別・男女別!$B$3:$B$53,[1]歳時別・男女別!$H$3:$H$53,"") | O13: =_xlfn.XLOOKUP(B13,[1]歳時別・男女別!$B$3:$B$53,[1]歳時別・男女別!$I$3:$I$53,"") | Q13: =_xlfn.XLOOKUP(B13,[1]歳時別・男女別!$B$3:$B$53,[1]歳時別・男女別!$L$3:$L$53,"") | R13: =_xlfn.XLOOKUP(B13,[1]歳時別・男女別!$B$3:$B$53,[1]歳時別・男女別!$M$3:$M$53,"")
A14: 福島 | B14: 西野田 | C14: 0 | D14: 1 | E14: 1 | F14: - | G14: =SUM(C14:E14) -> 2 | H14: =SUM(K14,N14,Q14) -> 16 | I14: =SUM(L14,O14,R14) -> 8 | J14: =SUM(M14,P14,S14) -> 24 | K14: 0 | L14: 0 | M14: =SUM(K14:L14) -> 0 | N14: 5 | O14: 4 | P14: =SUM(N14:O14) -> 9 | Q14: 11 | R14: 4 | S14: =SUM(Q14:R14) -> 15
B15: 貫江田 | C15: 2 | D15: 2 | E15: 2 | F15: - | G15: =SUM(C15:E15) -> 6 | H15: =SUM(K15,N15,Q15) -> 60 | I15: =SUM(L15,O15,R15) -> 73 | J15: =SUM(M15,P15,S15) -> 133 | K15: 16 | L15: 24 | M15: =SUM(K15:L15) -> 40 | N15: 22 | O15: 20 | P15: =SUM(N15:O15) -> 42 | Q15: 22 | R15: 29 | S15: =SUM(Q15:R15) -> 51
B16: 海老江西 | C16: 0 | D16: 0 | E16: 1 | F16: - | G16: =SUM(C16:E16) -> 1 | H16: =SUM(K16,N16,Q16) -> 4 | I16: =SUM(L16,O16,R16) -> 2 | J16: =SUM(M16,P16,S16) -> 6 | K16: 0 | L16: 0 | M16: =SUM(K16:L16) -> 0 | N16: 0 | O16: 0 | P16: =SUM(N16:O16) -> 0 | Q16: 4 | R16: 2 | S16: =SUM(Q16:R16) -> 6
B17: 計 | C17: =SUM(C14:C16) -> 2 | D17: =SUM(D14:D16) -> 3 | E17: =SUM(E14:E16) -> 4 | F17: - | G17: =SUM(C17:E17) -> 9 | H17: =SUM(K17,N17,Q17) -> 80 | I17: =SUM(L17,O17,R17) -> 83 | J17: =SUM(M17,P17,S17) -> 163 | K17: =SUM(K14:K16) -> 16 | L17: =SUM(L14:L16) -> 24 | M17: =SUM(M14:M16) -> 40 | N17: =SUM(N14:N16) -> 27 | O17: =SUM(O14:O16) -> 24 | P17: =SUM(P14:P16) -> 51 | Q17: =SUM(Q14:Q16) -> 37 | R17: =SUM(R14:R16) -> 35 | S17: =SUM(S14:S16) -> 72
K18: =_xlfn.XLOOKUP(B18,[1]歳時別・男女別!$B$3:$B$53,[1]歳時別・男女別!$D$3:$D$53,"") | L18: =_xlfn.XLOOKUP(B18,[1]歳時別・男女別!$B$3:$B$53,[1]歳時別・男女別!$E$3:$E$53,"") | N18: =_xlfn.XLOOKUP(B18,[1]歳時別・男女別!$B$3:$B$53,[1]歳時別・男女別!$H$3:$H$53,"") | O18: =_xlfn.XLOOKUP(B18,[1]歳時別・男女別!$B$3:$B$53,[1]歳時別・男女別!$I$3:$I$53,"") | Q18: =_xlfn.XLOOKUP(B18,[1]歳時別・男女別!$B$3:$B$53,[1]歳時別・男女別!$L$3:$L$53,"") | R18: =_xlfn.XLOOKUP(B18,[1]歳時別・男女別!$B$3:$B$53,[1]歳時別・男女別!$M$3:$M$53,"")
A19: 此花 | B19: 伝法 | C19: 1 | D19: 2 | E19: 2 | F19: - | G19: =SUM(C19:E19) -> 5 | H19: =SUM(K19,N19,Q19) -> 45 | I19: =SUM(L19,O19,R19) -> 46 | J19: =SUM(M19,P19,S19) -> 91 | K19: 10 | L19: 10 | M19: =SUM(K19:L19) -> 20 | N19: 20 | O19: 13 | P19: =SUM(N19:O19) -> 33 | Q19: 15 | R19: 23 | S19: =SUM(Q19:R19) -> 38
B20: 計 | C20: =SUM(C19) -> 1 | D20: =SUM(D19) -> 2 | E20: =SUM(E19) -> 2 | F20: - | G20: =SUM(C20:E20) -> 5 | H20: =SUM(K20,N20,Q20) -> 45 | I20: =SUM(L20,O20,R20) -> 46 | J20: =SUM(M20,P20,S20) -> 91 | K20: =K19 -> 10 | L20: =L19 -> 10 | M20: =M19 -> 20 | N20: =N19 -> 20 | O20: =O19 -> 13 | P20: =P19 -> 33 | Q20: =SUM(Q19) -> 15 | R20: =SUM(R19) -> 23 | S20: =S19 -> 38
K21: =_xlfn.XLOOKUP(B21,[1]歳時別・男女別!$B$3:$B$53,[1]歳時別・男女別!$D$3:$D$53,"") | L21: =_xlfn.XLOOKUP(B21,[1]歳時別・男女別!$B$3:$B$53,[1]歳時別・男女別!$E$3:$E$53,"") | N21: =_xlfn.XLOOKUP(B21,[1]歳時別・男女別!$B$3:$B$53,[1]歳時別・男女別!$H$3:$H$53,"") | O21: =_xlfn.XLOOKUP(B21,[1]歳時別・男女別!$B$3:$B$53,[1]歳時別・男女別!$I$3:$I$53,"") | Q21: =_xlfn.XLOOKUP(B21,[1]歳時別・男女別!$B$3:$B$53,[1]歳時別・男女別!$L$3:$L$53,"") | R21: =_xlfn.XLOOKUP(B21,[1]歳時別・男女別!$B$3:$B$53,[1]歳時別・男女別!$M$3:$M$53,"")
A22: 中央 | B22: 愛珠 | C22: 1 | D22: 1 | E22: 1 | F22: - | G22: =SUM(C22:E22) -> 3 | H22: =SUM(K22,N22,Q22) -> 26 | I22: =SUM(L22,O22,R22) -> 30 | J22: =SUM(M22,P22,S22) -> 56 | K22: 7 | L22: 13 | M22: =SUM(K22:L22) -> 20 | N22: 11 | O22: 7 | P22: =SUM(N22:O22) -> 18 | Q22: 8 | R22: 10 | S22: =SUM(Q22:R22) -> 18
B23: 銅座 | C23: 1 | D23: 1 | E23: 1 | F23: - | G23: =SUM(C23:E23) -> 3 | H23: =SUM(K23,N23,Q23) -> 33 | I23: =SUM(L23,O23,R23) -> 26 | J23: =SUM(M23,P23,S23) -> 59 | K23: 7 | L23: 10 | M23: =SUM(K23:L23) -> 17 | N23: 15 | O23: 6 | P23: =SUM(N23:O23) -> 21 | Q23: 11 | R23: 10 | S23: =SUM(Q23:R23) -> 21
B24: 玉造 | C24: 2 | D24: 2 | E24: 2 | F24: - | G24: =SUM(C24:E24) -> 6 | H24: =SUM(K24,N24,Q24) -> 73 | I24: =SUM(L24,O24,R24) -> 59 | J24: =SUM(M24,P24,S24) -> 132 | K24: 20 | L24: 20 | M24: =SUM(K24:L24) -> 40 | N24: 27 | O24: 20 | P24: =SUM(N24:O24) -> 47 | Q24: 26 | R24: 19 | S24: =SUM(Q24:R24) -> 45
B25: 中大江 | C25: 1 | D25: 1 | E25: 1 | F25: - | G25: =SUM(C25:E25) -> 3 | H25: =SUM(K25,N25,Q25) -> 23 | I25: =SUM(L25,O25,R25) -> 31 | J25: =SUM(M25,P25,S25) -> 54 | K25: 12 | L25: 8 | M25: =SUM(K25:L25) -> 20 | N25: 5 | O25: 7 | P25: =SUM(N25:O25) -> 12 | Q25: 6 | R25: 16 | S25: =SUM(Q25:R25) -> 22
B26: 桃園 | C26: 0 | D26: 1 | E26: 1 | F26: - | G26: =SUM(C26:E26) -> 2 | H26: =SUM(K26,N26,Q26) -> 8 | I26: =SUM(L26,O26,R26) -> 10 | J26: =SUM(M26,P26,S26) -> 18 | K26: 0 | L26: 0 | M26: =SUM(K26:L26) -> 0 | N26: 4 | O26: 4 | P26: =SUM(N26:O26) -> 8 | Q26: 4 | R26: 6 | S26: =SUM(Q26:R26) -> 10
B27: 南 | C27: 1 | D27: 1 | E27: 1 | F27: - | G27: =SUM(C27:E27) -> 3 | H27: =SUM(K27,N27,Q27) -> 24 | I27: =SUM(L27,O27,R27) -> 30 | J27: =SUM(M27,P27,S27) -> 54 | K27: 8 | L27: 10 | M27: =SUM(K27:L27) -> 18 | N27: 3 | O27: 9 | P27: =SUM(N27:O27) -> 12 | Q27: 13 | R27: 11 | S27: =SUM(Q27:R27) -> 24
B28: 計 | C28: =SUM(C22:C27) -> 6 | D28: =SUM(D22:D27) -> 7 | E28: =SUM(E22:E27) -> 7 | F28: - | G28: =SUM(C28:E28) -> 20 | H28: =SUM(K28,N28,Q28) -> 187 | I28: =SUM(L28,O28,R28) -> 186 | J28: =SUM(M28,P28,S28) -> 373 | K28: =SUM(K22:K27) -> 54 | L28: =SUM(L22:L27) -> 61 | M28: =SUM(M22:M27) -> 115 | N28: =SUM(N22:N27) -> 65 | O28: =SUM(O22:O27) -> 53 | P28: =SUM(P22:P27) -> 118 | Q28: =SUM(Q22:Q27) -> 68 | R28: =SUM(R22:R27) -> 72 | S28: =SUM(S22:S27) -> 140
K29: =_xlfn.XLOOKUP(B29,[1]歳時別・男女別!$B$3:$B$53,[1]歳時別・男女別!$D$3:$D$53,"") | L29: =_xlfn.XLOOKUP(B29,[1]歳時別・男女別!$B$3:$B$53,[1]歳時別・男女別!$E$3:$E$53,"") | N29: =_xlfn.XLOOKUP(B29,[1]歳時別・男女別!$B$3:$B$53,[1]歳時別・男女別!$H$3:$H$53,"") | O29: =_xlfn.XLOOKUP(B29,[1]歳時別・男女別!$B$3:$B$53,[1]歳時別・男女別!$I$3:$I$53,"") | Q29: =_xlfn.XLOOKUP(B29,[1]歳時別・男女別!$B$3:$B$53,[1]歳時別・男女別!$L$3:$L$53,"") | R29: =_xlfn.XLOOKUP(B29,[1]歳時別・男女別!$B$3:$B$53,[1]歳時別・男女別!$M$3:$M$53,"")
A30: 西 | B30: 九条 | C30: 0 | D30: 1 | E30: 1 | F30: - | G30: =SUM(C30:E30) -> 2 | H30: =SUM(K30,N30,Q30) -> 19 | I30: =SUM(L30,O30,R30) -> 16 | J30: =SUM(M30,P30,S30) -> 35 | K30: 0 | L30: 0 | M30: =SUM(K30:L30) -> 0 | N30: 7 | O30: 11 | P30: =SUM(N30:O30) -> 18 | Q30: 12 | R30: 5 | S30: =SUM(Q30:R30) -> 17
B31: 靱 | C31: 2 | D31: 2 | E31: 2 | F31: - | G31: =SUM(C31:E31) -> 6 | H31: =SUM(K31,N31,Q31) -> 43 | I31: =SUM(L31,O31,R31) -> 53 | J31: =SUM(M31,P31,S31) -> 96 | K31: 7 | L31: 16 | M31: =SUM(K31:L31) -> 23 | N31: 16 | O31: 20 | P31: =SUM(N31:O31) -> 36 | Q31: 20 | R31: 17 | S31: =SUM(Q31:R31) -> 37
B32: 日吉 | C32: 1 | D32: 1 | E32: 1 | F32: - | G32: =SUM(C32:E32) -> 3 | H32: =SUM(K32,N32,Q32) -> 32 | I32: =SUM(L32,O32,R32) -> 16 | J32: =SUM(M32,P32,S32) -> 48 | K32: 13 | L32: 7 | M32: =SUM(K32:L32) -> 20 | N32: 11 | O32: 7 | P32: =SUM(N32:O32) -> 18 | Q32: 8 | R32: 2 | S32: =SUM(Q32:R32) -> 10
B33: 計 | C33: =SUM(C30:C32) -> 3 | D33: =SUM(D30:D32) -> 4 | E33: =SUM(E30:E32) -> 4 | F33: - | G33: =SUM(C33:E33) -> 11 | H33: =SUM(K33,N33,Q33) -> 94 | I33: =SUM(L33,O33,R33) -> 85 | J33: =SUM(M33,P33,S33) -> 179 | K33: =SUM(K30:K32) -> 20 | L33: =SUM(L30:L32) -> 23 | M33: =SUM(M30:M32) -> 43 | N33: =SUM(N30:N32) -> 34 | O33: =SUM(O30:O32) -> 38 | P33: =SUM(P30:P32) -> 72 | Q33: =SUM(Q30:Q32) -> 40 | R33: =SUM(R30:R32) -> 24 | S33: =SUM(S30:S32) -> 64
K34: =_xlfn.XLOOKUP(B34,[1]歳時別・男女別!$B$3:$B$53,[1]歳時別・男女別!$D$3:$D$53,"") | L34: =_xlfn.XLOOKUP(B34,[1]歳時別・男女別!$B$3:$B$53,[1]歳時別・男女別!$E$3:$E$53,"") | N34: =_xlfn.XLOOKUP(B34,[1]歳時別・男女別!$B$3:$B$53,[1]歳時別・男女別!$H$3:$H$53,"") | O34: =_xlfn.XLOOKUP(B34,[1]歳時別・男女別!$B$3:$B$53,[1]歳時別・男女別!$I$3:$I$53,"") | Q34: =_xlfn.XLOOKUP(B34,[1]歳時別・男女別!$B$3:$B$53,[1]歳時別・男女別!$L$3:$L$53,"") | R34: =_xlfn.XLOOKUP(B34,[1]歳時別・男女別!$B$3:$B$53,[1]歳時別・男女別!$M$3:$M$53,"")
A35: 港 | B35: 三先 | C35: 1 | D35: 1 | E35: 1 | F35: - | G35: =SUM(C35:E35) -> 3 | H35: =SUM(K35,N35,Q35) -> 24 | I35: =SUM(L35,O35,R35) -> 26 | J35: =SUM(M35,P35,S35) -> 50 | K35: 5 | L35: 9 | M35: =SUM(K35:L35) -> 14 | N35: 12 | O35: 10 | P35: =SUM(N35:O35) -> 22 | Q35: 7 | R35: 7 | S35: =SUM(Q35:R35) -> 14
B36: 計 | C36: =SUM(C35) -> 1 | D36: =SUM(D35) -> 1 | E36: =SUM(E35) -> 1 | F36: - | G36: =SUM(C36:E36) -> 3 | H36: =SUM(K36,N36,Q36) -> 24 | I36: =SUM(L36,O36,R36) -> 26 | J36: =SUM(M36,P36,S36) -> 50 | K36: =K35 -> 5 | L36: =SUM(L35) -> 9 | M36: =M35 -> 14 | N36: =SUM(N35) -> 12 | O36: =SUM(O35) -> 10 | P36: =P35 -> 22 | Q36: =SUM(Q35) -> 7 | R36: =SUM(R35) -> 7 | S36: =S35 -> 14
K37: =_xlfn.XLOOKUP(B37,[1]歳時別・男女別!$B$3:$B$53,[1]歳時別・男女別!$D$3:$D$53,"") | L37: =_xlfn.XLOOKUP(B37,[1]歳時別・男女別!$B$3:$B$53,[1]歳時別・男女別!$E$3:$E$53,"") | N37: =_xlfn.XLOOKUP(B37,[1]歳時別・男女別!$B$3:$B$53,[1]歳時別・男女別!$H$3:$H$53,"") | O37: =_xlfn.XLOOKUP(B37,[1]歳時別・男女別!$B$3:$B$53,[1]歳時別・男女別!$I$3:$I$53,"") | Q37: =_xlfn.XLOOKUP(B37,[1]歳時別・男女別!$B$3:$B$53,[1]歳時別・男女別!$L$3:$L$53,"") | R37: =_xlfn.XLOOKUP(B37,[1]歳時別・男女別!$B$3:$B$53,[1]歳時別・男女別!$M$3:$M$53,"")
A38: 大正 | B38: 三軒家西 | C38: 1 | D38: 1 | E38: 1 | F38: - | G38: =SUM(C38:E38) -> 3 | H38: =SUM(K38,N38,Q38) -> 9 | I38: =SUM(L38,O38,R38) -> 5 | J38: =SUM(M38,P38,S38) -> 14 | K38: 1 | L38: 1 | M38: =SUM(K38:L38) -> 2 | N38: 4 | O38: 3 | P38: =SUM(N38:O38) -> 7 | Q38: 4 | R38: 1 | S38: =SUM(Q38:R38) -> 5
B39: 計 | C39: =SUM(C38) -> 1 | D39: =SUM(D38) -> 1 | E39: =SUM(E38) -> 1 | F39: - | G39: =SUM(C39:E39) -> 3 | H39: =SUM(K39,N39,Q39) -> 9 | I39: =SUM(L39,O39,R39) -> 5 | J39: =SUM(M39,P39,S39) -> 14 | K39: =K38 -> 1 | L39: =L38 -> 1 | M39: =M38 -> 2 | N39: =N38 -> 4 | O39: =O38 -> 3 | P39: =P38 -> 7 | Q39: =SUM(Q38) -> 4 | R39: =SUM(R38) -> 1 | S39: =S38 -> 5
K40: =_xlfn.XLOOKUP(B40,[1]歳時別・男女別!$B$3:$B$53,[1]歳時別・男女別!$D$3:$D$53,"") | L40: =_xlfn.XLOOKUP(B40,[1]歳時別・男女別!$B$3:$B$53,[1]歳時別・男女別!$E$3:$E$53,"") | N40: =_xlfn.XLOOKUP(B40,[1]歳時別・男女別!$B$3:$B$53,[1]歳時別・男女別!$H$3:$H$53,"") | O40: =_xlfn.XLOOKUP(B40,[1]歳時別・男女別!$B$3:$B$53,[1]歳時別・男女別!$I$3:$I$53,"") | Q40: =_xlfn.XLOOKUP(B40,[1]歳時別・男女別!$B$3:$B$53,[1]歳時別・男女別!$L$3:$L$53,"") | R40: =_xlfn.XLOOKUP(B40,[1]歳時別・男女別!$B$3:$B$53,[1]歳時別・男女別!$M$3:$M$53,"")
A41: 天王寺 | B41: 五条 | C41: 1 | D41: 1 | E41: 1 | F41: - | G41: =SUM(C41:E41) -> 3 | H41: =SUM(K41,N41,Q41) -> 41 | I41: =SUM(L41,O41,R41) -> 22 | J41: =SUM(M41,P41,S41) -> 63 | K41: 11 | L41: 8 | M41: =SUM(K41:L41) -> 19 | N41: 17 | O41: 3 | P41: =SUM(N41:O41) -> 20 | Q41: 13 | R41: 11 | S41: =SUM(Q41:R41) -> 24
B42: 真田山 | C42: 1 | D42: 1 | E42: 1 | F42: - | G42: =SUM(C42:E42) -> 3 | H42: =SUM(K42,N42,Q42) -> 35 | I42: =SUM(L42,O42,R42) -> 26 | J42: =SUM(M42,P42,S42) -> 61 | K42: 8 | L42: 7 | M42: =SUM(K42:L42) -> 15 | N42: 15 | O42: 10 | P42: =SUM(N42:O42) -> 25 | Q42: 12 | R42: 9 | S42: =SUM(Q42:R42) -> 21
B43: 味原 | C43: 1 | D43: 1 | E43: 1 | F43: - | G43: =SUM(C43:E43) -> 3 | H43: =SUM(K43,N43,Q43) -> 22 | I43: =SUM(L43,O43,R43) -> 14 | J43: =SUM(M43,P43,S43) -> 36 | K43: 3 | L43: 4 | M43: =SUM(K43:L43) -> 7 | N43: 11 | O43: 4 | P43: =SUM(N43:O43) -> 15 | Q43: 8 | R43: 6 | S43: =SUM(Q43:R43) -> 14
B44: 大江 | C44: 1 | D44: 1 | E44: 1 | F44: - | G44: =SUM(C44:E44) -> 3 | H44: =SUM(K44,N44,Q44) -> 30 | I44: =SUM(L44,O44,R44) -> 20 | J44: =SUM(M44,P44,S44) -> 50 | K44: 10 | L44: 1 | M44: =SUM(K44:L44) -> 11 | N44: 12 | O44: 9 | P44: =SUM(N44:O44) -> 21 | Q44: 8 | R44: 10 | S44: =SUM(Q44:R44) -> 18
B45: 生魂 | C45: 1 | D45: 1 | E45: 1 | F45: - | G45: =SUM(C45:E45) -> 3 | H45: =SUM(K45,N45,Q45) -> 12 | I45: =SUM(L45,O45,R45) -> 16 | J45: =SUM(M45,P45,S45) -> 28 | K45: 4 | L45: 4 | M45: =SUM(K45:L45) -> 8 | N45: 3 | O45: 5 | P45: =SUM(N45:O45) -> 8 | Q45: 5 | R45: 7 | S45: =SUM(Q45:R45) -> 12
B46: 計 | C46: =SUM(C41:C45) -> 5 | D46: =SUM(D41:D45) -> 5 | E46: =SUM(E41:E45) -> 5 | F46: - | G46: =SUM(C46:E46) -> 15 | H46: =SUM(K46,N46,Q46) -> 140 | I46: =SUM(L46,O46,R46) -> 98 | J46: =SUM(M46,P46,S46) -> 238 | K46: =SUM(K41:K45) -> 36 | L46: =SUM(L41:L45) -> 24 | M46: =SUM(M41:M45) -> 60 | N46: =SUM(N41:N45) -> 58 | O46: =SUM(O41:O45) -> 31 | P46: =SUM(P41:P45) -> 89 | Q46: =SUM(Q41:Q45) -> 46 | R46: =SUM(R41:R45) -> 43 | S46: =SUM(S41:S45) -> 89
K47: =_xlfn.XLOOKUP(B47,[1]歳時別・男女別!$B$3:$B$53,[1]歳時別・男女別!$D$3:$D$53,"") | L47: =_xlfn.XLOOKUP(B47,[1]歳時別・男女別!$B$3:$B$53,[1]歳時別・男女別!$E$3:$E$53,"") | N47: =_xlfn.XLOOKUP(B47,[1]歳時別・男女別!$B$3:$B$53,[1]歳時別・男女別!$H$3:$H$53,"") | O47: =_xlfn.XLOOKUP(B47,[1]歳時別・男女別!$B$3:$B$53,[1]歳時別・男女別!$I$3:$I$53,"") | Q47: =_xlfn.XLOOKUP(B47,[1]歳時別・男女別!$B$3:$B$53,[1]歳時別・男女別!$L$3:$L$53,"") | R47: =_xlfn.XLOOKUP(B47,[1]歳時別・男女別!$B$3:$B$53,[1]歳時別・男女別!$M$3:$M$53,"")
A48: 浪速 | B48: 日東 | C48: 1 | D48: 1 | E48: 1 | F48: - | G48: =SUM(C48:E48) -> 3 | H48: =SUM(K48,N48,Q48) -> 25 | I48: =SUM(L48,O48,R48) -> 19 | J48: =SUM(M48,P48,S48) -> 44 | K48: 5 | L48: 6 | M48: =SUM(K48:L48) -> 11 | N48: 6 | O48: 10 | P48: =SUM(N48:O48) -> 16 | Q48: 14 | R48: 3 | S48: =SUM(Q48:R48) -> 17
B49: 立葉 | C49: 1 | D49: 1 | E49: 1 | F49: - | G49: =SUM(C49:E49) -> 3 | H49: =SUM(K49,N49,Q49) -> 20 | I49: =SUM(L49,O49,R49) -> 15 | J49: =SUM(M49,P49,S49) -> 35 | K49: 8 | L49: 4 | M49: =SUM(K49:L49) -> 12 | N49: 5 | O49: 8 | P49: =SUM(N49:O49) -> 13 | Q49: 7 | R49: 3 | S49: =SUM(Q49:R49) -> 10
B50: 計 | C50: =SUM(C48:C49) -> 2 | D50: =SUM(D48:D49) -> 2 | E50: =SUM(E48:E49) -> 2 | F50: - | G50: =SUM(C50:E50) -> 6 | H50: =SUM(K50,N50,Q50) -> 45 | I50: =SUM(L50,O50,R50) -> 34 | J50: =SUM(M50,P50,S50) -> 79 | K50: =SUM(K48:K49) -> 13 | L50: =SUM(L48:L49) -> 10 | M50: =SUM(M48:M49) -> 23 | N50: =SUM(N48:N49) -> 11 | O50: =SUM(O48:O49) -> 18 | P50: =SUM(P48:P49) -> 29 | Q50: =SUM(Q48:Q49) -> 21 | R50: =SUM(R48:R49) -> 6 | S50: =SUM(S48:S49) -> 27
K51: =_xlfn.XLOOKUP(B51,[1]歳時別・男女別!$B$3:$B$53,[1]歳時別・男女別!$D$3:$D$53,"") | L51: =_xlfn.XLOOKUP(B51,[1]歳時別・男女別!$B$3:$B$53,[1]歳時別・男女別!$E$3:$E$53,"") | N51: =_xlfn.XLOOKUP(B51,[1]歳時別・男女別!$B$3:$B$53,[1]歳時別・男女別!$H$3:$H$53,"") | O51: =_xlfn.XLOOKUP(B51,[1]歳時別・男女別!$B$3:$B$53,[1]歳時別・男女別!$I$3:$I$53,"") | Q51: =_xlfn.XLOOKUP(B51,[1]歳時別・男女別!$B$3:$B$53,[1]歳時別・男女別!$L$3:$L$53,"") | R51: =_xlfn.XLOOKUP(B51,[1]歳時別・男女別!$B$3:$B$53,[1]歳時別・男女別!$M$3:$M$53,"")
A52: 西淀川 | B52: 姫島 | C52: 1 | D52: 1 | E52: 1 | F52: - | G52: =SUM(C52:E52) -> 3 | H52: =SUM(K52,N52,Q52) -> 24 | I52: =SUM(L52,O52,R52) -> 19 | J52: =SUM(M52,P52,S52) -> 43 | K52: 9 | L52: 7 | M52: =SUM(K52:L52) -> 16 | N52: 8 | O52: 3 | P52: =SUM(N52:O52) -> 11 | Q52: 7 | R52: 9 | S52: =SUM(Q52:R52) -> 16
B53: 野里 | C53: 0 | D53: 1 | E53: 1 | F53: - | G53: =SUM(C53:E53) -> 2 | H53: =SUM(K53,N53,Q53) -> 9 | I53: =SUM(L53,O53,R53) -> 16 | J53: =SUM(M53,P53,S53) -> 25 | K53: 0 | L53: 0 | M53: =SUM(K53:L53) -> 0 | N53: 3 | O53: 7 | P53: =SUM(N53:O53) -> 10 | Q53: 6 | R53: 9 | S53: =SUM(Q53:R53) -> 15
B54: 大和田 | C54: 0 | D54: 1 | E54: 1 | F54: - | G54: =SUM(C54:E54) -> 2 | H54: =SUM(K54,N54,Q54) -> 7 | I54: =SUM(L54,O54,R54) -> 9 | J54: =SUM(M54,P54,S54) -> 16 | K54: 0 | L54: 0 | M54: =SUM(K54:L54) -> 0 | N54: 3 | O54: 2 | P54: =SUM(N54:O54) -> 5 | Q54: 4 | R54: 7 | S54: =SUM(Q54:R54) -> 11
B55: 計 | C55: =SUM(C52:C54) -> 1 | D55: =SUM(D52:D54) -> 3 | E55: =SUM(E52:E54) -> 3 | F55: - | G55: =SUM(C55:E55) -> 7 | H55: =SUM(K55,N55,Q55) -> 40 | I55: =SUM(L55,O55,R55) -> 44 | J55: =SUM(M55,P55,S55) -> 84 | K55: =SUM(K52:K54) -> 9 | L55: =SUM(L52:L54) -> 7 | M55: =SUM(M52:M54) -> 16 | N55: =SUM(N52:N54) -> 14 | O55: =SUM(O52:O54) -> 12 | P55: =SUM(P52:P54) -> 26 | Q55: =SUM(Q52:Q54) -> 17 | R55: =SUM(R52:R54) -> 25 | S55: =SUM(S52:S54) -> 42
K56: =_xlfn.XLOOKUP(B56,[1]歳時別・男女別!$B$3:$B$53,[1]歳時別・男女別!$D$3:$D$53,"") | L56: =_xlfn.XLOOKUP(B56,[1]歳時別・男女別!$B$3:$B$53,[1]歳時別・男女別!$E$3:$E$53,"") | N56: =_xlfn.XLOOKUP(B56,[1]歳時別・男女別!$B$3:$B$53,[1]歳時別・男女別!$H$3:$H$53,"") | O56: =_xlfn.XLOOKUP(B56,[1]歳時別・男女別!$B$3:$B$53,[1]歳時別・男女別!$I$3:$I$53,"") | Q56: =_xlfn.XLOOKUP(B56,[1]歳時別・男女別!$B$3:$B$53,[1]歳時別・男女別!$L$3:$L$53,"") | R56: =_xlfn.XLOOKUP(B56,[1]歳時別・男女別!$B$3:$B$53,[1]歳時別・男女別!$M$3:$M$53,"")
A57: 淀川 | B57: 西中島 | C57: 1 | D57: 1 | E57: 1 | F57: - | G57: =SUM(C57:E57) -> 3 | H57: =SUM(K57,N57,Q57) -> 21 | I57: =SUM(L57,O57,R57) -> 19 | J57: =SUM(M57,P57,S57) -> 40 | K57: 8 | L57: 9 | M57: =SUM(K57:L57) -> 17 | N57: 10 | O57: 3 | P57: =SUM(N57:O57) -> 13 | Q57: 3 | R57: 7 | S57: =SUM(Q57:R57) -> 10
B58: 田川 | C58: 0 | D58: 1 | E58: 1 | F58: - | G58: =SUM(C58:E58) -> 2 | H58: =SUM(K58,N58,Q58) -> 4 | I58: =SUM(L58,O58,R58) -> 3 | J58: =SUM(M58,P58,S58) -> 7 | K58: 0 | L58: 0 | M58: =SUM(K58:L58) -> 0 | N58: 2 | O58: 0 | P58: =SUM(N58:O58) -> 2 | Q58: 2 | R58: 3 | S58: =SUM(Q58:R58) -> 5
A59: ４ 幼稚園別学級数、幼児数
Q60: 46143
A62: 区名 | B62: 園名 | C62: 学級数 | H62: 合計 | K62: ３歳児 | N62: ４歳児 | Q62: ５歳児
C63: ３歳児 | D63: ４歳児 | E63: ５歳児 | F63: 混合 | G63: 計 | H63: 男 | I63: 女 | J63: 計 | K63: 男 | L63: 女 | M63: 計 | N63: 男 | O63: 女 | P63: 計 | Q63: 男 | R63: 女 | S63: 計
A64: 淀川 | B64: 新高 | C64: 0 | D64: 1 | E64: 1 | F64: - | G64: =SUM(C64:E64) -> 2 | H64: =SUM(K64,N64,Q64) -> 9 | I64: =SUM(L64,O64,R64) -> 6 | J64: =SUM(M64,P64,S64) -> 15 | K64: 0 | L64: 0 | M64: =SUM(K64:L64) -> 0 | N64: 2 | O64: 2 | P64: =SUM(N64:O64) -> 4 | Q64: 7 | R64: 4 | S64: =SUM(Q64:R64) -> 11
B65: 計 | C65: =SUM(C57:C58,C64) -> 1 | D65: =SUM(D57:D58,D64) -> 3 | E65: =SUM(E57:E58,E64) -> 3 | F65: - | G65: =SUM(C65:E65) -> 7 | H65: =SUM(K65,N65,Q65) -> 34 | I65: =SUM(L65,O65,R65) -> 28 | J65: =SUM(M65,P65,S65) -> 62 | K65: =SUM(K57:K58,K64) -> 8 | L65: =SUM(L57:L58,L64) -> 9 | M65: =SUM(M57:M58,M64) -> 17 | N65: =SUM(N57:N58,N64) -> 14 | O65: =SUM(O57:O58,O64) -> 5 | P65: =SUM(P57:P58,P64) -> 19 | Q65: =SUM(Q57:Q58,Q64) -> 12 | R65: =SUM(R57:R58,R64) -> 14 | S65: =SUM(S57:S58,S64) -> 26
K66: =_xlfn.XLOOKUP(B66,[1]歳時別・男女別!$B$3:$B$53,[1]歳時別・男女別!$D$3:$D$53,"") | L66: =_xlfn.XLOOKUP(B66,[1]歳時別・男女別!$B$3:$B$53,[1]歳時別・男女別!$E$3:$E$53,"") | N66: =_xlfn.XLOOKUP(B66,[1]歳時別・男女別!$B$3:$B$53,[1]歳時別・男女別!$H$3:$H$53,"") | O66: =_xlfn.XLOOKUP(B66,[1]歳時別・男女別!$B$3:$B$53,[1]歳時別・男女別!$I$3:$I$53,"") | Q66: =_xlfn.XLOOKUP(B66,[1]歳時別・男女別!$B$3:$B$53,[1]歳時別・男女別!$L$3:$L$53,"") | R66: =_xlfn.XLOOKUP(B66,[1]歳時別・男女別!$B$3:$B$53,[1]歳時別・男女別!$M$3:$M$53,"")
A67: 東成 | B67: 今里 | C67: 0 | D67: 1 | E67: 1 | F67: - | G67: =SUM(C67:E67) -> 2 | H67: =SUM(K67,N67,Q67) -> 5 | I67: =SUM(L67,O67,R67) -> 8 | J67: =SUM(M67,P67,S67) -> 13 | K67: 0 | L67: 0 | M67: =SUM(K67:L67) -> 0 | N67: 2 | O67: 5 | P67: =SUM(N67:O67) -> 7 | Q67: 3 | R67: 3 | S67: =SUM(Q67:R67) -> 6
B68: 東小橋 | C68: 1 | D68: 1 | E68: 1 | F68: - | G68: =SUM(C68:E68) -> 3 | H68: =SUM(K68,N68,Q68) -> 22 | I68: =SUM(L68,O68,R68) -> 15 | J68: =SUM(M68,P68,S68) -> 37 | K68: 4 | L68: 4 | M68: =SUM(K68:L68) -> 8 | N68: 10 | O68: 5 | P68: =SUM(N68:O68) -> 15 | Q68: 8 | R68: 6 | S68: =SUM(Q68:R68) -> 14
B69: 北中道 | C69: 1 | D69: 1 | E69: 1 | F69: - | G69: =SUM(C69:E69) -> 3 | H69: =SUM(K69,N69,Q69) -> 17 | I69: =SUM(L69,O69,R69) -> 13 | J69: =SUM(M69,P69,S69) -> 30 | K69: 5 | L69: 4 | M69: =SUM(K69:L69) -> 9 | N69: 5 | O69: 5 | P69: =SUM(N69:O69) -> 10 | Q69: 7 | R69: 4 | S69: =SUM(Q69:R69) -> 11
B70: 東中本 | C70: 0 | D70: 1 | E70: 1 | F70: - | G70: =SUM(C70:E70) -> 2 | H70: =SUM(K70,N70,Q70) -> 7 | I70: =SUM(L70,O70,R70) -> 11 | J70: =SUM(M70,P70,S70) -> 18 | K70: 0 | L70: 0 | M70: =SUM(K70:L70) -> 0 | N70: 6 | O70: 5 | P70: =SUM(N70:O70) -> 11 | Q70: 1 | R70: 6 | S70: =SUM(Q70:R70) -> 7
B71: 計 | C71: =SUM(C67:C70) -> 2 | D71: =SUM(D67:D70) -> 4 | E71: =SUM(E67:E70) -> 4 | F71: - | G71: =SUM(C71:E71) -> 10 | H71: =SUM(K71,N71,Q71) -> 51 | I71: =SUM(L71,O71,R71) -> 47 | J71: =SUM(M71,P71,S71) -> 98 | K71: =SUM(K67:K70) -> 9 | L71: =SUM(L67:L70) -> 8 | M71: =SUM(M67:M70) -> 17 | N71: =SUM(N67:N70) -> 23 | O71: =SUM(O67:O70) -> 20 | P71: =SUM(P67:P70) -> 43 | Q71: =SUM(Q67:Q70) -> 19 | R71: =SUM(R67:R70) -> 19 | S71: =SUM(S67:S70) -> 38
K72: =_xlfn.XLOOKUP(B72,[1]歳時別・男女別!$B$3:$B$53,[1]歳時別・男女別!$D$3:$D$53,"") | L72: =_xlfn.XLOOKUP(B72,[1]歳時別・男女別!$B$3:$B$53,[1]歳時別・男女別!$E$3:$E$53,"") | N72: =_xlfn.XLOOKUP(B72,[1]歳時別・男女別!$B$3:$B$53,[1]歳時別・男女別!$H$3:$H$53,"") | O72: =_xlfn.XLOOKUP(B72,[1]歳時別・男女別!$B$3:$B$53,[1]歳時別・男女別!$I$3:$I$53,"") | Q72: =_xlfn.XLOOKUP(B72,[1]歳時別・男女別!$B$3:$B$53,[1]歳時別・男女別!$L$3:$L$53,"") | R72: =_xlfn.XLOOKUP(B72,[1]歳時別・男女別!$B$3:$B$53,[1]歳時別・男女別!$M$3:$M$53,"")
A73: 生野 | B73: 鶴橋 | C73: 0 | D73: 1 | E73: 1 | F73: - | G73: =SUM(C73:E73) -> 2 | H73: =SUM(K73,N73,Q73) -> 9 | I73: =SUM(L73,O73,R73) -> 7 | J73: =SUM(M73,P73,S73) -> 16 | K73: 0 | L73: 0 | M73: =SUM(K73:L73) -> 0 | N73: 2 | O73: 2 | P73: =SUM(N73:O73) -> 4 | Q73: 7 | R73: 5 | S73: =SUM(Q73:R73) -> 12
B74: 計 | C74: =SUM(C73) -> 0 | D74: =SUM(D73) -> 1 | E74: =SUM(E73) -> 1 | F74: - | G74: =SUM(C74:E74) -> 2 | H74: =SUM(K74,N74,Q74) -> 9 | I74: =SUM(L74,O74,R74) -> 7 | J74: =SUM(M74,P74,S74) -> 16 | K74: =SUM(K73) -> 0 | L74: =SUM(L73) -> 0 | M74: =M73 -> 0 | N74: =SUM(N73) -> 2 | O74: =SUM(O73) -> 2 | P74: =P73 -> 4 | Q74: =SUM(Q73) -> 7 | R74: =SUM(R73) -> 5 | S74: =S73 -> 12
K75: =_xlfn.XLOOKUP(B75,[1]歳時別・男女別!$B$3:$B$53,[1]歳時別・男女別!$D$3:$D$53,"") | L75: =_xlfn.XLOOKUP(B75,[1]歳時別・男女別!$B$3:$B$53,[1]歳時別・男女別!$E$3:$E$53,"") | N75: =_xlfn.XLOOKUP(B75,[1]歳時別・男女別!$B$3:$B$53,[1]歳時別・男女別!$H$3:$H$53,"") | O75: =_xlfn.XLOOKUP(B75,[1]歳時別・男女別!$B$3:$B$53,[1]歳時別・男女別!$I$3:$I$53,"") | Q75: =_xlfn.XLOOKUP(B75,[1]歳時別・男女別!$B$3:$B$53,[1]歳時別・男女別!$L$3:$L$53,"") | R75: =_xlfn.XLOOKUP(B75,[1]歳時別・男女別!$B$3:$B$53,[1]歳時別・男女別!$M$3:$M$53,"")
A76: 旭 | B76: 旭東 | C76: 0 | D76: 1 | E76: 1 | F76: - | G76: =SUM(C76:E76) -> 2 | H76: =SUM(K76,N76,Q76) -> 13 | I76: =SUM(L76,O76,R76) -> 13 | J76: =SUM(M76,P76,S76) -> 26 | K76: 0 | L76: 0 | M76: =SUM(K76:L76) -> 0 | N76: 4 | O76: 5 | P76: =SUM(N76:O76) -> 9 | Q76: 9 | R76: 8 | S76: =SUM(Q76:R76) -> 17
B77: 計 | C77: =SUM(C76) -> 0 | D77: =SUM(D76) -> 1 | E77: =SUM(E76) -> 1 | F77: - | G77: =SUM(C77:E77) -> 2 | H77: =SUM(K77,N77,Q77) -> 13 | I77: =SUM(L77,O77,R77) -> 13 | J77: =SUM(M77,P77,S77) -> 26 | K77: =SUM(K76) -> 0 | L77: =SUM(L76) -> 0 | M77: =M76 -> 0 | N77: =SUM(N76) -> 4 | O77: =SUM(O76) -> 5 | P77: =P76 -> 9 | Q77: =SUM(Q76) -> 9 | R77: =SUM(R76) -> 8 | S77: =S76 -> 17
K78: =_xlfn.XLOOKUP(B78,[1]歳時別・男女別!$B$3:$B$53,[1]歳時別・男女別!$D$3:$D$53,"") | L78: =_xlfn.XLOOKUP(B78,[1]歳時別・男女別!$B$3:$B$53,[1]歳時別・男女別!$E$3:$E$53,"") | N78: =_xlfn.XLOOKUP(B78,[1]歳時別・男女別!$B$3:$B$53,[1]歳時別・男女別!$H$3:$H$53,"") | O78: =_xlfn.XLOOKUP(B78,[1]歳時別・男女別!$B$3:$B$53,[1]歳時別・男女別!$I$3:$I$53,"") | Q78: =_xlfn.XLOOKUP(B78,[1]歳時別・男女別!$B$3:$B$53,[1]歳時別・男女別!$L$3:$L$53,"") | R78: =_xlfn.XLOOKUP(B78,[1]歳時別・男女別!$B$3:$B$53,[1]歳時別・男女別!$M$3:$M$53,"")
A79: 城東 | B79: 鯰江 | C79: 0 | D79: 1 | E79: 1 | F79: - | G79: =SUM(C79:E79) -> 2 | H79: =SUM(K79,N79,Q79) -> 12 | I79: =SUM(L79,O79,R79) -> 12 | J79: =SUM(M79,P79,S79) -> 24 | K79: 0 | L79: 0 | M79: =SUM(K79:L79) -> 0 | N79: 6 | O79: 4 | P79: =SUM(N79:O79) -> 10 | Q79: 6 | R79: 8 | S79: =SUM(Q79:R79) -> 14
B80: 城東 | C80: 1 | D80: 2 | E80: 1 | F80: - | G80: =SUM(C80:E80) -> 4 | H80: =SUM(K80,N80,Q80) -> 43 | I80: =SUM(L80,O80,R80) -> 27 | J80: =SUM(M80,P80,S80) -> 70 | K80: 7 | L80: 7 | M80: =SUM(K80:L80) -> 14 | N80: 18 | O80: 14 | P80: =SUM(N80:O80) -> 32 | Q80: 18 | R80: 6 | S80: =SUM(Q80:R80) -> 24
B81: 計 | C81: =SUM(C79:C80) -> 1 | D81: =SUM(D79:D80) -> 3 | E81: =SUM(E79:E80) -> 2 | F81: - | G81: =SUM(C81:E81) -> 6 | H81: =SUM(K81,N81,Q81) -> 55 | I81: =SUM(L81,O81,R81) -> 39 | J81: =SUM(M81,P81,S81) -> 94 | K81: =SUM(K79:K80) -> 7 | L81: =SUM(L79:L80) -> 7 | M81: =SUM(M79:M80) -> 14 | N81: =SUM(N79:N80) -> 24 | O81: =SUM(O79:O80) -> 18 | P81: =SUM(P79:P80) -> 42 | Q81: =SUM(Q79:Q80) -> 24 | R81: =SUM(R79:R80) -> 14 | S81: =SUM(S79:S80) -> 38
K82: =_xlfn.XLOOKUP(B82,[1]歳時別・男女別!$B$3:$B$53,[1]歳時別・男女別!$D$3:$D$53,"") | L82: =_xlfn.XLOOKUP(B82,[1]歳時別・男女別!$B$3:$B$53,[1]歳時別・男女別!$E$3:$E$53,"") | N82: =_xlfn.XLOOKUP(B82,[1]歳時別・男女別!$B$3:$B$53,[1]歳時別・男女別!$H$3:$H$53,"") | O82: =_xlfn.XLOOKUP(B82,[1]歳時別・男女別!$B$3:$B$53,[1]歳時別・男女別!$I$3:$I$53,"") | Q82: =_xlfn.XLOOKUP(B82,[1]歳時別・男女別!$B$3:$B$53,[1]歳時別・男女別!$L$3:$L$53,"") | R82: =_xlfn.XLOOKUP(B82,[1]歳時別・男女別!$B$3:$B$53,[1]歳時別・男女別!$M$3:$M$53,"")
A83: 鶴見 | B83: 榎本 | C83: 0 | D83: 1 | E83: 1 | F83: - | G83: =SUM(C83:E83) -> 2 | H83: =SUM(K83,N83,Q83) -> 10 | I83: =SUM(L83,O83,R83) -> 11 | J83: =SUM(M83,P83,S83) -> 21 | K83: 0 | L83: 0 | M83: =SUM(K83:L83) -> 0 | N83: 5 | O83: 5 | P83: =SUM(N83:O83) -> 10 | Q83: 5 | R83: 6 | S83: =SUM(Q83:R83) -> 11
B84: 計 | C84: =SUM(C83) -> 0 | D84: =SUM(D83) -> 1 | E84: =SUM(E83) -> 1 | F84: - | G84: =SUM(C84:E84) -> 2 | H84: =SUM(K84,N84,Q84) -> 10 | I84: =SUM(L84,O84,R84) -> 11 | J84: =SUM(M84,P84,S84) -> 21 | K84: =SUM(K83) -> 0 | L84: =SUM(L83) -> 0 | M84: =M83 -> 0 | N84: =SUM(N83) -> 5 | O84: =SUM(O83) -> 5 | P84: =P83 -> 10 | Q84: =SUM(Q83) -> 5 | R84: =SUM(R83) -> 6 | S84: =S83 -> 11
K85: =_xlfn.XLOOKUP(B85,[1]歳時別・男女別!$B$3:$B$53,[1]歳時別・男女別!$D$3:$D$53,"") | L85: =_xlfn.XLOOKUP(B85,[1]歳時別・男女別!$B$3:$B$53,[1]歳時別・男女別!$E$3:$E$53,"") | N85: =_xlfn.XLOOKUP(B85,[1]歳時別・男女別!$B$3:$B$53,[1]歳時別・男女別!$H$3:$H$53,"") | O85: =_xlfn.XLOOKUP(B85,[1]歳時別・男女別!$B$3:$B$53,[1]歳時別・男女別!$I$3:$I$53,"") | Q85: =_xlfn.XLOOKUP(B85,[1]歳時別・男女別!$B$3:$B$53,[1]歳時別・男女別!$L$3:$L$53,"") | R85: =_xlfn.XLOOKUP(B85,[1]歳時別・男女別!$B$3:$B$53,[1]歳時別・男女別!$M$3:$M$53,"")
A86: 阿倍野 | B86: 常盤 | C86: 1 | D86: 1 | E86: 2 | F86: - | G86: =SUM(C86:E86) -> 4 | H86: =SUM(K86,N86,Q86) -> 35 | I86: =SUM(L86,O86,R86) -> 33 | J86: =SUM(M86,P86,S86) -> 68 | K86: 9 | L86: 10 | M86: =SUM(K86:L86) -> 19 | N86: 11 | O86: 7 | P86: =SUM(N86:O86) -> 18 | Q86: 15 | R86: 16 | S86: =SUM(Q86:R86) -> 31
B87: 計 | C87: =SUM(C86) -> 1 | D87: =SUM(D86) -> 1 | E87: =SUM(E86) -> 2 | F87: - | G87: =SUM(C87:E87) -> 4 | H87: =SUM(K87,N87,Q87) -> 35 | I87: =SUM(L87,O87,R87) -> 33 | J87: =SUM(M87,P87,S87) -> 68 | K87: =SUM(K86) -> 9 | L87: =SUM(L86) -> 10 | M87: =M86 -> 19 | N87: =SUM(N86) -> 11 | O87: =SUM(O86) -> 7 | P87: =P86 -> 18 | Q87: =SUM(Q86) -> 15 | R87: =SUM(R86) -> 16 | S87: =S86 -> 31
K88: =_xlfn.XLOOKUP(B88,[1]歳時別・男女別!$B$3:$B$53,[1]歳時別・男女別!$D$3:$D$53,"") | L88: =_xlfn.XLOOKUP(B88,[1]歳時別・男女別!$B$3:$B$53,[1]歳時別・男女別!$E$3:$E$53,"") | N88: =_xlfn.XLOOKUP(B88,[1]歳時別・男女別!$B$3:$B$53,[1]歳時別・男女別!$H$3:$H$53,"") | O88: =_xlfn.XLOOKUP(B88,[1]歳時別・男女別!$B$3:$B$53,[1]歳時別・男女別!$I$3:$I$53,"") | Q88: =_xlfn.XLOOKUP(B88,[1]歳時別・男女別!$B$3:$B$53,[1]歳時別・男女別!$L$3:$L$53,"") | R88: =_xlfn.XLOOKUP(B88,[1]歳時別・男女別!$B$3:$B$53,[1]歳時別・男女別!$M$3:$M$53,"")
A89: 住之江 | B89: 粉浜 | C89: 0 | D89: 1 | E89: 1 | F89: - | G89: =SUM(C89:E89) -> 2 | H89: =SUM(K89,N89,Q89) -> 2 | I89: =SUM(L89,O89,R89) -> 7 | J89: =SUM(M89,P89,S89) -> 9 | K89: 0 | L89: 0 | M89: =SUM(K89:L89) -> 0 | N89: 0 | O89: 1 | P89: =SUM(N89:O89) -> 1 | Q89: 2 | R89: 6 | S89: =SUM(Q89:R89) -> 8
B90: 計 | C90: =SUM(C89) -> 0 | D90: =SUM(D89) -> 1 | E90: =SUM(E89) -> 1 | F90: - | G90: =SUM(C90:E90) -> 2 | H90: =SUM(K90,N90,Q90) -> 2 | I90: =SUM(L90,O90,R90) -> 7 | J90: =SUM(M90,P90,S90) -> 9 | K90: =SUM(K89) -> 0 | L90: =SUM(L89) -> 0 | M90: =M89 -> 0 | N90: =SUM(N89) -> 0 | O90: =SUM(O89) -> 1 | P90: =P89 -> 1 | Q90: =SUM(Q89) -> 2 | R90: =SUM(R89) -> 6 | S90: =S89 -> 8
K91: =_xlfn.XLOOKUP(B91,[1]歳時別・男女別!$B$3:$B$53,[1]歳時別・男女別!$D$3:$D$53,"") | L91: =_xlfn.XLOOKUP(B91,[1]歳時別・男女別!$B$3:$B$53,[1]歳時別・男女別!$E$3:$E$53,"") | N91: =_xlfn.XLOOKUP(B91,[1]歳時別・男女別!$B$3:$B$53,[1]歳時別・男女別!$H$3:$H$53,"") | O91: =_xlfn.XLOOKUP(B91,[1]歳時別・男女別!$B$3:$B$53,[1]歳時別・男女別!$I$3:$I$53,"") | Q91: =_xlfn.XLOOKUP(B91,[1]歳時別・男女別!$B$3:$B$53,[1]歳時別・男女別!$L$3:$L$53,"") | R91: =_xlfn.XLOOKUP(B91,[1]歳時別・男女別!$B$3:$B$53,[1]歳時別・男女別!$M$3:$M$53,"")
A92: 住吉 | B92: 住吉 | C92: 1 | D92: 1 | E92: 1 | F92: - | G92: =SUM(C92:E92) -> 3 | H92: =SUM(K92,N92,Q92) -> 25 | I92: =SUM(L92,O92,R92) -> 15 | J92: =SUM(M92,P92,S92) -> 40 | K92: 10 | L92: 3 | M92: =SUM(K92:L92) -> 13 | N92: 9 | O92: 3 | P92: =SUM(N92:O92) -> 12 | Q92: 6 | R92: 9 | S92: =SUM(Q92:R92) -> 15
B93: 墨江 | C93: 0 | D93: 1 | E93: 1 | F93: - | G93: =SUM(C93:E93) -> 2 | H93: =SUM(K93,N93,Q93) -> 8 | I93: =SUM(L93,O93,R93) -> 12 | J93: =SUM(M93,P93,S93) -> 20 | K93: 0 | L93: 0 | M93: =SUM(K93:L93) -> 0 | N93: 4 | O93: 3 | P93: =SUM(N93:O93) -> 7 | Q93: 4 | R93: 9 | S93: =SUM(Q93:R93) -> 13
B94: 計 | C94: =SUM(C92:C93) -> 1 | D94: =SUM(D92:D93) -> 2 | E94: =SUM(E92:E93) -> 2 | F94: - | G94: =SUM(C94:E94) -> 5 | H94: =SUM(K94,N94,Q94) -> 33 | I94: =SUM(L94,O94,R94) -> 27 | J94: =SUM(M94,P94,S94) -> 60 | K94: =SUM(K92:K93) -> 10 | L94: =SUM(L92:L93) -> 3 | M94: =SUM(M92:M93) -> 13 | N94: =SUM(N92:N93) -> 13 | O94: =SUM(O92:O93) -> 6 | P94: =SUM(P92:P93) -> 19 | Q94: =SUM(Q92:Q93) -> 10 | R94: =SUM(R92:R93) -> 18 | S94: =SUM(S92:S93) -> 28
K95: =_xlfn.XLOOKUP(B95,[1]歳時別・男女別!$B$3:$B$53,[1]歳時別・男女別!$D$3:$D$53,"") | L95: =_xlfn.XLOOKUP(B95,[1]歳時別・男女別!$B$3:$B$53,[1]歳時別・男女別!$E$3:$E$53,"") | N95: =_xlfn.XLOOKUP(B95,[1]歳時別・男女別!$B$3:$B$53,[1]歳時別・男女別!$H$3:$H$53,"") | O95: =_xlfn.XLOOKUP(B95,[1]歳時別・男女別!$B$3:$B$53,[1]歳時別・男女別!$I$3:$I$53,"") | Q95: =_xlfn.XLOOKUP(B95,[1]歳時別・男女別!$B$3:$B$53,[1]歳時別・男女別!$L$3:$L$53,"") | R95: =_xlfn.XLOOKUP(B95,[1]歳時別・男女別!$B$3:$B$53,[1]歳時別・男女別!$M$3:$M$53,"")
A96: 平野 | B96: 長吉 | C96: 0 | D96: 1 | E96: 1 | F96: - | G96: =SUM(C96:E96) -> 2 | H96: =SUM(K96,N96,Q96) -> 5 | I96: =SUM(L96,O96,R96) -> 5 | J96: =SUM(M96,P96,S96) -> 10 | K96: 0 | L96: 0 | M96: =SUM(K96:L96) -> 0 | N96: 4 | O96: 1 | P96: =SUM(N96:O96) -> 5 | Q96: 1 | R96: 4 | S96: =SUM(Q96:R96) -> 5
B97: 長吉第二 | C97: 1 | D97: 1 | E97: 1 | F97: - | G97: =SUM(C97:E97) -> 3 | H97: =SUM(K97,N97,Q97) -> 10 | I97: =SUM(L97,O97,R97) -> 18 | J97: =SUM(M97,P97,S97) -> 28 | K97: 3 | L97: 5 | M97: =SUM(K97:L97) -> 8 | N97: 2 | O97: 6 | P97: =SUM(N97:O97) -> 8 | Q97: 5 | R97: 7 | S97: =SUM(Q97:R97) -> 12
B98: 瓜破北 | C98: 1 | D98: 1 | E98: 1 | F98: - | G98: =SUM(C98:E98) -> 3 | H98: =SUM(K98,N98,Q98) -> 31 | I98: =SUM(L98,O98,R98) -> 20 | J98: =SUM(M98,P98,S98) -> 51 | K98: 11 | L98: 9 | M98: =SUM(K98:L98) -> 20 | N98: 7 | O98: 4 | P98: =SUM(N98:O98) -> 11 | Q98: 13 | R98: 7 | S98: =SUM(Q98:R98) -> 20
B99: 加美北 | C99: 0 | D99: 1 | E99: 1 | F99: - | G99: =SUM(C99:E99) -> 2 | H99: =SUM(K99,N99,Q99) -> 14 | I99: =SUM(L99,O99,R99) -> 9 | J99: =SUM(M99,P99,S99) -> 23 | K99: 0 | L99: 0 | M99: =SUM(K99:L99) -> 0 | N99: 6 | O99: 3 | P99: =SUM(N99:O99) -> 9 | Q99: 8 | R99: 6 | S99: =SUM(Q99:R99) -> 14
B100: 計 | C100: =SUM(C96:C99) -> 2 | D100: =SUM(D96:D99) -> 4 | E100: =SUM(E96:E99) -> 4 | F100: - | G100: =SUM(C100:E100) -> 10 | H100: =SUM(K100,N100,Q100) -> 60 | I100: =SUM(L100,O100,R100) -> 52 | J100: =SUM(M100,P100,S100) -> 112 | K100: =SUM(K96:K99) -> 14 | L100: =SUM(L96:L99) -> 14 | M100: =SUM(M96:M99) -> 28 | N100: =SUM(N96:N99) -> 19 | O100: =SUM(O96:O99) -> 14 | P100: =SUM(P96:P99) -> 33 | Q100: =SUM(Q96:Q99) -> 27 | R100: =SUM(R96:R99) -> 24 | S100: =SUM(S96:S99) -> 51
K101: =_xlfn.XLOOKUP(B101,[1]歳時別・男女別!$B$3:$B$53,[1]歳時別・男女別!$D$3:$D$53,"") | L101: =_xlfn.XLOOKUP(B101,[1]歳時別・男女別!$B$3:$B$53,[1]歳時別・男女別!$E$3:$E$53,"") | N101: =_xlfn.XLOOKUP(B101,[1]歳時別・男女別!$B$3:$B$53,[1]歳時別・男女別!$H$3:$H$53,"") | O101: =_xlfn.XLOOKUP(B101,[1]歳時別・男女別!$B$3:$B$53,[1]歳時別・男女別!$I$3:$I$53,"") | Q101: =_xlfn.XLOOKUP(B101,[1]歳時別・男女別!$B$3:$B$53,[1]歳時別・男女別!$L$3:$L$53,"") | R101: =_xlfn.XLOOKUP(B101,[1]歳時別・男女別!$B$3:$B$53,[1]歳時別・男女別!$M$3:$M$53,"")
A102: 西成 | B102: 玉出 | C102: 1 | D102: 1 | E102: 1 | F102: - | G102: =SUM(C102:E102) -> 3 | H102: =SUM(K102,N102,Q102) -> 21 | I102: =SUM(L102,O102,R102) -> 17 | J102: =SUM(M102,P102,S102) -> 38 | K102: 2 | L102: 2 | M102: =SUM(K102:L102) -> 4 | N102: 5 | O102: 10 | P102: =SUM(N102:O102) -> 15 | Q102: 14 | R102: 5 | S102: =SUM(Q102:R102) -> 19
...
