Workbook

Sheet 【別紙１】経営関係収支報告
A1: (別紙１) | O1: 大阪港
B2: 第四号様式（第十三条関係）
A3: 収支報告
A4: （その一）経営関係収支報告
B5: 収 入 | J5: 支 出
B6: 費 目 | G6: 金 額 | J6: 費 目 | O6: 金 額
G7: （千円） | O7: （千円）
B8: 施設使用料及び役務利用料 | G8: =+G9+G10+G11+G16+G20+G26+G27+G31+G32+G33+G34+G35+G36+G37+G38+G39+G40 -> 15414922 | J8: 経営関係管理費 | O8: =SUM(O9:O21) -> 10534914
C9: 入港料 | G9: =ROUND([1]①収入分類表【一般・港営】!M4/1000,0) -> 131849 | K9: 人件費 | O9: =[1]⑧人件費算定表【一般・港営】!H6 -> 2001280
C10: 水域施設 | G10: =ROUND([1]①収入分類表【一般・港営】!M8/1000,0) -> 0 | K10: 庁費 | O10: =[1]⑥経営・建設関係集計表【一般・港営】!H4 -> 633116
C11: 係留施設 | G11: =+SUM(G12:G15) -> 527512 | K11: 港湾調査費 | O11: =[1]⑥経営・建設関係集計表【一般・港営】!H5 -> 22134
D12: 岸壁・さん橋 | G12: =ROUND([1]①収入分類表【一般・港営】!M11/1000,0) -> 526949 | K12: 港湾統計調査費 | O12: =[1]⑥経営・建設関係集計表【一般・港営】!H6 -> 12063
D13: 係船浮標・係船くい | G13: =ROUND([1]①収入分類表【一般・港営】!M16/1000,0) -> 563 | K13: 災害復旧費 | O13: =[1]⑥経営・建設関係集計表【一般・港営】!H7 -> 0
D14: 物揚場 | G14: =ROUND([1]①収入分類表【一般・港営】!M23/1000,0) -> 0 | K14: 施設維持補修費 | O14: =[1]⑥経営・建設関係集計表【一般・港営】!H11 -> 4343293
D15: その他 | G15: =ROUND([1]①収入分類表【一般・港営】!M24/1000,0) -> 0 | K15: 施設運営費 | O15: =[1]⑥経営・建設関係集計表【一般・港営】!H15 -> 1711443
C16: 臨港交通施設 | G16: =+SUM(G17:G19) -> 687065 | K16: 経営委託費 | O16: =[1]⑥経営・建設関係集計表【一般・港営】!H18 -> 844392
D17: 鉄道 | G17: =ROUND([1]①収入分類表【一般・港営】!M26/1000,0) -> 0 | K17: 港湾振興費 | O17: =[1]⑥経営・建設関係集計表【一般・港営】!H19 -> 141582
D18: 運河 | G18: =ROUND([1]①収入分類表【一般・港営】!M27/1000,0) -> 1547 | K18: 港湾環境整備・保全費 | O18: =[1]⑥経営・建設関係集計表【一般・港営】!H22 -> 503508
D19: その他 | G19: =ROUND([1]①収入分類表【一般・港営】!M31/1000,0) -> 685518 | K19: 港湾厚生費 | O19: =[1]⑥経営・建設関係集計表【一般・港営】!H26 -> 11643
C20: 荷さばき施設等 | G20: =+SUM(G21:G24) -> 4099111 | K20: 土地建物等使用料 | O20: =[1]⑥経営・建設関係集計表【一般・港営】!H27 -> 276788
D21: 荷役機械 | G21: =ROUND([1]①収入分類表【一般・港営】!M39/1000,0) -> 27317 | K21: その他 | O21: =+SUM(O22:O26) -> 33672
D22: 荷さばき地 | G22: =ROUND([1]①収入分類表【一般・港営】!M40/1000,0) -> 2368470 | L22: 補助金等返還金 | O22: 0
D23: 上屋 | G23: =ROUND([1]①収入分類表【一般・港営】!M44/1000,0)-1 -> 1701591 | L23: 使用料等還付金 | O23: 0
D24: 木材整理場 | G24: =ROUND([1]①収入分類表【一般・港営】!M45/1000,0) -> 1733 | L24: 補償費 | O24: 0
C25: 旅客施設 | G25: =ROUND([1]①収入分類表【一般・港営】!M48/1000,0) -> 0 | L25: 消費税 | O25: 0
C26: 保管施設 | G26: =+SUM(G27:G29) -> 1920 | L26: その他 | O26: =[1]⑥経営・建設関係集計表【一般・港営】!H28 -> 33672
D27: 野積場 | G27: =ROUND([1]①収入分類表【一般・港営】!M50/1000,0) -> 0 | J27: 経営関係公債償還費 | O27: =+O28+O35 -> 101652
D28: 貯木場 | G28: =ROUND([1]①収入分類表【一般・港営】!M51/1000,0) -> 0 | K28: 公債 | O28: =+O29+O32 -> 101652
D29: その他 | G29: =ROUND([1]①収入分類表【一般・港営】!M52/1000,0) -> 1920 | L29: 災害復旧費 | O29: =+O30+O31 -> 0
C30: 港湾情報提供施設 | G30: 0 | L30: 元金 | O30: 0
C31: 廃棄物処理施設 | G31: =ROUND([1]①収入分類表【一般・港営】!M53/1000,0) -> 3645563 | L31: 利子 | O31: 0
C32: 港湾環境整備施設 | G32: =ROUND([1]①収入分類表【一般・港営】!M54/1000,0) -> 1621 | L32: 管理的港湾工事 | O32: =+O33+O34 -> 101652
C33: 港湾厚生施設 | G33: =ROUND([1]①収入分類表【一般・港営】!M55/1000,0) -> 0 | L33: 元金 | O33: =[1]⑫公債償還費等【一般・港営】!D49 -> 88872
C34: 船舶給水等 | G34: =ROUND([1]①収入分類表【一般・港営】!M58/1000,0) -> 20308 | L34: 利子 | O34: =[1]⑫公債償還費等【一般・港営】!E49 -> 12780
C35: 船舶修理・保管 | G35: =ROUND([1]①収入分類表【一般・港営】!M62/1000,0) -> 0 | K35: その他 | O35: =+SUM(O36:O37) -> 0
C36: 引船 | G36: =ROUND([1]①収入分類表【一般・港営】!M63/1000,0) -> 0 | L36: 元金 | O36: 0
C37: 綱取 | G37: =ROUND([1]①収入分類表【一般・港営】!M64/1000,0) -> 0 | L37: 利子 | O37: 0
C38: 土地 | G38: =ROUND([1]①収入分類表【一般・港営】!M68/1000,0) -> 5968101 | J38: 一般会計への繰入分等 | O38: 8352461
C39: 建物 | G39: =ROUND([1]①収入分類表【一般・港営】!M78/1000,0) -> 93280
C40: その他 | G40: =ROUND([1]①収入分類表【一般・港営】!M81/1000,0) -> 238592
...
