Workbook

Sheet 【別紙１】経営関係収支報告
A1: (別紙１) | O1: 大阪港
B2: 第四号様式（第十三条関係）
A3: 収支報告
A4: （その一）経営関係収支報告
B5: 収 入 | J5: 支 出
B6: 費 目 | G6: 金 額 | J6: 費 目 | O6: 金 額
G7: （千円） | O7: （千円）
B8: 施設使用料及び役務利用料 | G8: =+G9+G10+G11+G16+G20+G26+G27+G31+G32+G33+G34+G35+G36+G37+G38+G39+G40 -> 15414922 | J8: 経営関係管理費 | O8: =SUM(O9:O21) -> 10534914
C9: 入港料 | G9: =ROUND([1]①収入分類表【一般・港営】!M4/1000,0) -> 131849 | K9: 人件費 | O9: =[1]⑧人件費算定表【一般・港営】!H6 -> 2001280
C10: 水域施設 | G10: =ROUND([1]①収入分類表【一般・港営】!M8/1000,0) -> 0 | K10: 庁費 | O10: =[1]⑥経営・建設関係集計表【一般・港営】!H4 -> 633116
C11: 係留施設 | G11: =+SUM(G12:G15) -> 527512 | K11: 港湾調査費 | O11: =[1]⑥経営・建設関係集計表【一般・港営】!H5 -> 22134
D12: 岸壁・さん橋 | G12: =ROUND([1]①収入分類表【一般・港営】!M11/1000,0) -> 526949 | K12: 港湾統計調査費 | O12: =[1]⑥経営・建設関係集計表【一般・港営】!H6 -> 12063
D13: 係船浮標・係船くい | G13: =ROUND([1]①収入分類表【一般・港営】!M16/1000,0) -> 563 | K13: 災害復旧費 | O13: =[1]⑥経営・建設関係集計表【一般・港営】!H7 -> 0
D14: 物揚場 | G14: =ROUND([1]①収入分類表【一般・港営】!M23/1000,0) -> 0 | K14: 施設維持補修費 | O14: =[1]⑥経営・建設関係集計表【一般・港営】!H11 -> 4343293
D15: その他 | G15: =ROUND([1]①収入分類表【一般・港営】!M24/1000,0) -> 0 | K15: 施設運営費 | O15: =[1]⑥経営・建設関係集計表【一般・港営】!H15 -> 1711443
C16: 臨港交通施設 | G16: =+SUM(G17:G19) -> 687065 | K16: 経営委託費 | O16: =[1]⑥経営・建設関係集計表【一般・港営】!H18 -> 844392
D17: 鉄道 | G17: =ROUND([1]①収入分類表【一般・港営】!M26/1000,0) -> 0 | K17: 港湾振興費 | O17: =[1]⑥経営・建設関係集計表【一般・港営】!H19 -> 141582
D18: 運河 | G18: =ROUND([1]①収入分類表【一般・港営】!M27/1000,0) -> 1547 | K18: 港湾環境整備・保全費 | O18: =[1]⑥経営・建設関係集計表【一般・港営】!H22 -> 503508
D19: その他 | G19: =ROUND([1]①収入分類表【一般・港営】!M31/1000,0) -> 685518 | K19: 港湾厚生費 | O19: =[1]⑥経営・建設関係集計表【一般・港営】!H26 -> 11643
C20: 荷さばき施設等 | G20: =+SUM(G21:G24) -> 4099111 | K20: 土地建物等使用料 | O20: =[1]⑥経営・建設関係集計表【一般・港営】!H27 -> 276788
D21: 荷役機械 | G21: =ROUND([1]①収入分類表【一般・港営】!M39/1000,0) -> 27317 | K21: その他 | O21: =+SUM(O22:O26) -> 33672
D22: 荷さばき地 | G22: =ROUND([1]①収入分類表【一般・港営】!M40/1000,0) -> 2368470 | L22: 補助金等返還金 | O22: 0
D23: 上屋 | G23: =ROUND([1]①収入分類表【一般・港営】!M44/1000,0)-1 -> 1701591 | L23: 使用料等還付金 | O23: 0
D24: 木材整理場 | G24: =ROUND([1]①収入分類表【一般・港営】!M45/1000,0) -> 1733 | L24: 補償費 | O24: 0
C25: 旅客施設 | G25: =ROUND([1]①収入分類表【一般・港営】!M48/1000,0) -> 0 | L25: 消費税 | O25: 0
C26: 保管施設 | G26: =+SUM(G27:G29) -> 1920 | L26: その他 | O26: =[1]⑥経営・建設関係集計表【一般・港営】!H28 -> 33672
D27: 野積場 | G27: =ROUND([1]①収入分類表【一般・港営】!M50/1000,0) -> 0 | J27: 経営関係公債償還費 | O27: =+O28+O35 -> 101652
D28: 貯木場 | G28: =ROUND([1]①収入分類表【一般・港営】!M51/1000,0) -> 0 | K28: 公債 | O28: =+O29+O32 -> 101652
D29: その他 | G29: =ROUND([1]①収入分類表【一般・港営】!M52/1000,0) -> 1920 | L29: 災害復旧費 | O29: =+O30+O31 -> 0
C30: 港湾情報提供施設 | G30: 0 | L30: 元金 | O30: 0
C31: 廃棄物処理施設 | G31: =ROUND([1]①収入分類表【一般・港営】!M53/1000,0) -> 3645563 | L31: 利子 | O31: 0
C32: 港湾環境整備施設 | G32: =ROUND([1]①収入分類表【一般・港営】!M54/1000,0) -> 1621 | L32: 管理的港湾工事 | O32: =+O33+O34 -> 101652
C33: 港湾厚生施設 | G33: =ROUND([1]①収入分類表【一般・港営】!M55/1000,0) -> 0 | L33: 元金 | O33: =[1]⑫公債償還費等【一般・港営】!D49 -> 88872
C34: 船舶給水等 | G34: =ROUND([1]①収入分類表【一般・港営】!M58/1000,0) -> 20308 | L34: 利子 | O34: =[1]⑫公債償還費等【一般・港営】!E49 -> 12780
C35: 船舶修理・保管 | G35: =ROUND([1]①収入分類表【一般・港営】!M62/1000,0) -> 0 | K35: その他 | O35: =+SUM(O36:O37) -> 0
C36: 引船 | G36: =ROUND([1]①収入分類表【一般・港営】!M63/1000,0) -> 0 | L36: 元金 | O36: 0
C37: 綱取 | G37: =ROUND([1]①収入分類表【一般・港営】!M64/1000,0) -> 0 | L37: 利子 | O37: 0
C38: 土地 | G38: =ROUND([1]①収入分類表【一般・港営】!M68/1000,0) -> 5968101 | J38: 一般会計への繰入分等 | O38: 8352461
C39: 建物 | G39: =ROUND([1]①収入分類表【一般・港営】!M78/1000,0) -> 93280
C40: その他 | G40: =ROUND([1]①収入分類表【一般・港営】!M81/1000,0) -> 238592
B41: 占用料等 | G41: =+SUM(G42:G45) -> 142459
C42: 水域占用料 | G42: =ROUND([1]①収入分類表【一般・港営】!M94/1000,0) -> 142459
C43: 土砂採取料 | G43: =ROUND([1]①収入分類表【一般・港営】!M96/1000,0) -> 0
C44: 埋立免許料 | G44: =ROUND([1]①収入分類表【一般・港営】!M97/1000,0) -> 0
C45: 手数料 | G45: =ROUND([1]①収入分類表【一般・港営】!M98/1000,0) -> 0
B46: 国庫支出金 | G46: =+SUM(G47:G49) -> 281143
C47: 災害復旧負担金 | G47: =ROUND([1]①収入分類表【一般・港営】!M100/1000,0) -> 0
C48: 管理的港湾工事補助金 | G48: =ROUND([1]①収入分類表【一般・港営】!M101/1000,0) -> 280168
C49: その他 | G49: =ROUND([1]①収入分類表【一般・港営】!M107/1000,0)+ROUND([1]①収入分類表【一般・港営】!M106/1000,0) -> 975
B50: 県・市町村支出金 | G50: =SUM(G51:G52) -> 16612
C51: 港湾統計委託費 | G51: =ROUND([1]①収入分類表【一般・港営】!M109/1000,0) -> 752
C52: 港湾費府補助金 | G52: =ROUND([1]①収入分類表【一般・港営】!M110/1000,0) -> 15860
B53: 受益者負担金等 | G53: =+SUM(G54:G56) -> 1738260
C54: 受益者等負担金 | G54: =ROUND([1]①収入分類表【一般・港営】!M112/1000,0) -> 1674277
C55: 港湾環境整備負担金 | G55: =ROUND([1]①収入分類表【一般・港営】!M132/1000,0)-1 -> 63983
C56: その他 | G56: =ROUND([1]①収入分類表【一般・港営】!M136/1000,0) -> 0
B57: 公債 | G57: =+SUM(G58:G59) -> 395000
C58: 災害復旧 | G58: =ROUND([1]①収入分類表【一般・港営】!M138/1000,0) -> 0
C59: 管理的港湾工事 | G59: =ROUND(([1]①収入分類表【一般・港営】!M141+[1]①収入分類表【一般・港営】!M159)/1000,0) -> 395000
B60: 財産売払収入 | G60: =ROUND([1]①収入分類表【一般・港営】!M162/1000,0) -> 663652
B61: その他 | G61: =+SUM(G62:G72) -> 336979
C62: 配当金 | G62: 0
C63: 利子 | G63: =ROUND([1]①収入分類表【一般・港営】!M169/1000,0) -> 4136
C64: 延滞金等 | G64: =ROUND([1]①収入分類表【一般・港営】!M201/1000,0) -> 29
C65: 弁償金 | G65: 0
C66: 受取保険料 | G66: 0
C67: 不要品売払 | G67: 0
C68: 立替払金受入 | G68: =ROUND([1]①収入分類表【一般・港営】!M170/1000,0)-1 -> 134427
C69: 消費税還付金 | G69: 0
C70: 基金繰入金 | G70: =ROUND(([1]①収入分類表【一般・港営】!F202)/1000,0) -> 59863
C71: 前年度繰入金 | G71: 0
C72: その他 | G72: =ROUND([1]①収入分類表【一般・港営】!M185/1000,0) -> 138524
B73: 一般会計からの繰入分等 | G73: 0
B75: 合 計 | G75: =+SUM(G8,G41,G46,G50,G53,G57,G60,G61,G73) -> 18989027 | J75: 合 計 | O75: =+O8+O27+O38 -> 18989027
