Workbook

Sheet 【別紙２】建設関係収支報告
A1: (別紙２) | O1: 大阪港
A2: （その二）建設関係収支報告
B3: 収 入 | J3: 支 出
B4: 費 目 | G4: 金 額 | J4: 費 目 | O4: 金 額
G5: （千円） | O5: （千円）
B6: 国庫支出金 | G6: =+SUM(G7:G9) -> 491450 | J6: 建設関係管理費 | O6: =+SUM(O7:O9) -> 1091158
C7: 基本施設 | G7: =ROUND([1]①収入分類表【一般・港営】!M218/1000,0) -> 491450 | K7: 人件費 | O7: =[1]⑧人件費算定表【一般・港営】!H9 -> 983680
C8: 運営施設 | G8: =ROUND([1]①収入分類表【一般・港営】!M226/1000,0) -> 0 | K8: 庁費 | O8: =[1]⑥経営・建設関係集計表【一般・港営】!H35 -> 107478
C9: 環境施設・保全施設 | G9: =ROUND([1]①収入分類表【一般・港営】!M227/1000,0) -> 0 | K9: 調査費 | O9: =[1]⑥経営・建設関係集計表【一般・港営】!H34 -> 0
B10: 県・市町村支出金 | G10: =+SUM(G11:G14) -> 27 | J10: 基本施設整備費 | O10: =+SUM(O11:O13) -> 6705969
C11: 基本施設 | G11: =ROUND([1]①収入分類表【一般・港営】!M231/1000,0) -> 27 | K11: 直轄事業負担金 | O11: =[1]⑥経営・建設関係集計表【一般・港営】!H38 -> 2761880
C12: 運営施設 | G12: 0 | K12: 補助事業負担金 | O12: =[1]⑥経営・建設関係集計表【一般・港営】!H39 -> 982945
C13: 環境施設・保全施設 | G13: 0 | K13: 単独事業 | O13: =[1]⑥経営・建設関係集計表【一般・港営】!H37 -> 2961144
C14: 厚生施設 | G14: 0 | J14: 運営施設整備費 | O14: =+SUM(O15:O17) -> 889405
B15: 受益者負担金 | G15: =+SUM(G16:G19) -> 6422 | K15: 直轄事業負担金 | O15: =[1]⑥経営・建設関係集計表【一般・港営】!H42 -> 0
C16: 基本施設 | G16: =ROUND([1]①収入分類表【一般・港営】!M237/1000,0) -> 6422 | K16: 補助事業負担金 | O16: =[1]⑥経営・建設関係集計表【一般・港営】!H43 -> 0
C17: 運営施設 | G17: =ROUND([1]①収入分類表【一般・港営】!M239/1000,0) -> 0 | K17: 単独事業 | O17: =[1]⑥経営・建設関係集計表【一般・港営】!H41 -> 889405
C18: 環境施設・保全施設 | G18: =ROUND([1]①収入分類表【一般・港営】!M241/1000,0) -> 0 | J18: 環境整備・保全施設整備費 | O18: =+SUM(O19:O20) -> 0
C19: 厚生施設 | G19: =ROUND([1]①収入分類表【一般・港営】!M242/1000,0) -> 0 | K19: 直轄事業負担金 | O19: =[1]⑥経営・建設関係集計表【一般・港営】!H46 -> 0
B20: 公債 | G20: =SUM(G21:G27) -> 6843500 | K20: 補助事業負担金 | O20: =[1]⑥経営・建設関係集計表【一般・港営】!H47 -> 0
C21: 庁費 | G21: =ROUND([1]①収入分類表【一般・港営】!M244/1000,0) -> 0 | J21: 厚生施設整備費 | O21: =[1]⑥経営・建設関係集計表【一般・港営】!H48 -> 0
C22: 基本施設 | G22: =ROUND([1]①収入分類表【一般・港営】!M246/1000,0) -> 5671000 | J22: 作業船整備費 | O22: =[1]⑥経営・建設関係集計表【一般・港営】!H49 -> 0
C23: 運営施設 | G23: =ROUND([1]①収入分類表【一般・港営】!M272/1000,0) -> 653000 | J23: 出資金 | O23: =[1]⑥経営・建設関係集計表【一般・港営】!H50 -> 0
C24: 環境施設・保全施設 | G24: =ROUND([1]①収入分類表【一般・港営】!M270/1000,0) -> 0 | J24: 貸付金 | O24: =[1]⑥経営・建設関係集計表【一般・港営】!H51 -> 809500
C25: 厚生施設 | G25: =ROUND([1]①収入分類表【一般・港営】!M276/1000,0) -> 0 | J25: その他 | O25: =SUM(O26:O28) -> 0
C26: 作業船 | G26: =ROUND([1]①収入分類表【一般・港営】!M277/1000,0) -> 0 | K26: 補助金返還金 | O26: 0
C27: その他 | G27: =ROUND([1]①収入分類表【一般・港営】!M278/1000,0) -> 519500 | K27: 先行補償費 | O27: 0
B28: 貸付金元利償還金 | G28: =ROUND([1]①収入分類表【一般・港営】!M282/1000,0) -> 1372646 | K28: 受託工事費 | O28: 0
B29: その他 | G29: =SUM(G30:G37) -> 18836147 | J29: 建設関係公債償還金等 | O29: =O30+O47 -> 5488525
C30: 精算還付金 | G30: =ROUND([1]①収入分類表【一般・港営】!M292/1000,0) -> 0 | K30: 公債 | O30: =+SUM(O31,O34,O38,O41,O44) -> 5272450
C31: 不要品売り払い収入 | G31: =ROUND([1]①収入分類表【一般・港営】!M295/1000,0) -> 365 | L31: 基本施設 | O31: =+SUM(O32:O33) -> 3722888
C32: 先行補償費償還 | G32: =ROUND([1]①収入分類表【一般・港営】!M300/1000,0) -> 0 | L32: 元金 | O32: =[1]⑫公債償還費等【一般・港営】!D53 -> 3254846
C33: 違約金 | G33: =ROUND([1]①収入分類表【一般・港営】!M303/1000,0) -> 0 | L33: 利子 | O33: =[1]⑫公債償還費等【一般・港営】!E53 -> 468042
C34: 他会計からの借入金 | G34: =ROUND([1]①収入分類表【一般・港営】!M306/1000,0) -> 0 | L34: 運営施設 | O34: =+SUM(O35:O36) -> 475733
C35: 受託事業収入 | G35: =ROUND([1]①収入分類表【一般・港営】!M308/1000,0) -> 0 | L35: 元金 | O35: =[1]⑫公債償還費等【一般・港営】!D54 -> 414439
C36: 港湾環境整備負担金 | G36: 0 | L36: 利子 | O36: =[1]⑫公債償還費等【一般・港営】!E54 -> 61294
C37: その他 | G37: =ROUND([1]①収入分類表【一般・港営】!M310/1000,0) -> 18835782
B38: 一般会計からの繰入分等 | G38: =SUM(G39:G46) -> 0 | L38: 環境施設・保全施設 | O38: =+SUM(O39:O40) -> 1073829
C39: 基本施設 | G39: 0 | L39: 元金 | O39: =[1]⑫公債償還費等【一般・港営】!D55 -> 822347
C40: 運営施設 | G40: 0 | L40: 利子 | O40: =[1]⑫公債償還費等【一般・港営】!E55 -> 251482
...
