{"text_format":"1","workbook":"xlsx","n_sheets":2,"sheets":["入力用","異動届出書（印刷用）"],"not_rendered":{"charts":0,"images":0,"macros":1,"external_links":0,"defined_names":415,"comments":1,"pivot_tables":0},"unopened":[],"bounds":{"document_bytes":16777216,"sheet_cells":100000,"rows_first":2000,"rows_last":500,"rows_between":2000,"halvings":0,"cell_chars":16384,"cell_head_chars":4096},"cells_cut":0,"cells_raw":0,"read":"whole","date_system":"1900"}

{"sheet":"入力用","index":0,"n_rows":143,"n_cols":246,"rows_kept":143,"cut":false,"hidden":false,"merged":[[142,2,142,3],[143,2,143,3],[99,222,99,223],[99,228,99,229],[99,234,99,235],[99,240,99,241],[140,2,140,4],[141,2,141,3],[99,186,99,187],[99,192,99,193],[99,198,99,199],[99,204,99,205],[99,210,99,211],[99,216,99,217],[99,150,99,151],[99,156,99,157],[99,162,99,163],[99,168,99,169],[99,174,99,175],[99,180,99,181],[99,114,99,115],[99,120,99,121],[99,126,99,127],[99,132,99,133],[99,138,99,139],[99,144,99,145],[99,78,99,79],[99,84,99,85],[99,90,99,91],[99,96,99,97],[99,102,99,103],[99,108,99,109],[99,42,99,43],[99,48,99,49],[99,54,99,55],[99,60,99,61],[99,66,99,67],[99,72,99,73],[98,222,98,223],[98,228,98,229],[98,234,98,235],[98,240,98,241],[99,6,99,7],[99,12,99,13],[99,18,99,19],[99,24,99,25],[99,30,99,31],[99,36,99,37],[98,186,98,187],[98,192,98,193],[98,198,98,199],[98,204,98,205],[98,210,98,211],[98,216,98,217],[98,150,98,151],[98,156,98,157],[98,162,98,163],[98,168,98,169],[98,174,98,175],[98,180,98,181],[98,114,98,115],[98,120,98,121],[98,126,98,127],[98,132,98,133],[98,138,98,139],[98,144,98,145],[98,78,98,79],[98,84,98,85],[98,90,98,91],[98,96,98,97],[98,102,98,103],[98,108,98,109],[98,42,98,43],[98,48,98,49],[98,54,98,55],[98,60,98,61],[98,66,98,67],[98,72,98,73],[97,222,97,223],[97,228,97,229],[97,234,97,235],[97,48,97,49],[97,54,97,55],[97,60,97,61],[97,66,97,67],[97,72,97,73],[97,240,97,241],[98,6,98,7],[98,12,98,13],[98,18,98,19],[98,24,98,25],[98,30,98,31],[98,36,98,37],[97,186,97,187],[97,192,97,193],[97,198,97,199],[97,204,97,205],[97,210,97,211],[97,216,97,217],[97,150,97,151],[97,156,97,157],[97,162,97,163],[97,168,97,169],[97,174,97,175],[97,180,97,181],[97,114,97,115],[97,120,97,121],[97,126,97,127],[97,132,97,133],[97,138,97,139],[97,144,97,145],[97,78,97,79],[97,84,97,85],[97,90,97,91],[97,96,97,97],[97,102,97,103],[97,108,97,109],[97,42,97,43],[96,222,96,224],[96,228,96,230],[96,234,96,236],[96,240,96,242],[97,6,97,7],[97,12,97,13],[97,18,97,19],[97,24,97,25],[97,30,97,31],[97,36,97,37],[96,186,96,188],[96,192,96,194],[96,198,96,200],[96,204,96,206],[96,210,96,212],[96,216,96,218],[96,150,96,152],[96,156,96,158],[96,162,96,164],[96,168,96,170],[96,174,96,176],[96,180,96,182],[96,114,96,116],[96,120,96,122],[96,126,96,128],[96,132,96,134],[96,138,96,140],[96,144,96,146],[96,78,96,80],[96,84,96,86],[96,90,96,92],[96,96,96,98],[96,102,96,104],[96,108,96,110],[96,42,96,44],[96,48,96,50],[96,54,96,56],[96,60,96,62],[96,66,96,68],[96,72,96,74],[76,222,76,226],[76,228,76,232],[76,234,76,238],[76,240,76,244],[96,6,96,8],[96,12,96,14],[96,18,96,20],[96,24,96,26],[96,30,96,32],[96,36,96,38],[76,186,76,190],[76,192,76,196],[76,198,76,202],[76,204,76,208],[76,210,76,214],[76,216,76,220],[76,150,76,154],[76,156,76,160],[76,162,76,166],[76,168,76,172],[76,174,76,178],[76,180,76,184],[76,114,76,118],[76,120,76,124],[76,126,76,130],[76,132,76,136],[76,138,76,142],[76,144,76,148],[76,78,76,82],[76,84,76,88],[76,90,76,94],[76,96,76,100],[76,102,76,106],[76,108,76,112],[76,42,76,46],[76,48,76,52],[76,54,76,58],[76,60,76,64],[76,66,76,70],[76,72,76,76],[76,6,76,10],[76,12,76,16],[76,18,76,22],[76,24,76,28],[76,30,76,34],[76,36,76,40],[71,222,71,226],[71,228,71,232],[71,234,71,238],[71,240,71,244],[72,2,72,4],[73,2,74,2],[73,4,74,4],[71,186,71,190],[71,192,71,196],[71,198,71,202],[71,204,71,208],[71,210,71,214],[71,216,71,220],[71,150,71,154],[71,156,71,160],[71,162,71,166],[71,168,71,172],[71,174,71,178],[71,180,71,184],[71,114,71,118],[71,120,71,124],[71,126,71,130],[71,132,71,136],[71,138,71,142],[71,144,71,148],[71,78,71,82],[71,84,71,88],[71,90,71,94],[71,96,71,100],[71,102,71,106],[71,108,71,112],[71,42,71,46],[71,48,71,52],[71,54,71,58],[71,60,71,64],[71,66,71,70],[71,72,71,76],[71,6,71,10],[71,12,71,16],[71,18,71,22],[71,24,71,28],[71,30,71,34],[71,36,71,40],[63,228,63,230],[63,231,63,233],[63,234,63,236],[63,237,63,239],[63,240,63,242],[63,243,63,245],[63,210,63,212],[63,213,63,215],[63,216,63,218],[63,219,63,221],[63,222,63,224],[63,225,63,227],[63,192,63,194],[63,195,63,197],[63,198,63,200],[63,201,63,203],[63,204,63,206],[63,207,63,209],[63,174,63,176],[63,177,63,179],[63,180,63,182],[63,183,63,185],[63,186,63,188],[63,189,63,191],[63,156,63,158],[63,159,63,161],[63,162,63,164],[63,165,63,167],[63,168,63,170],[63,171,63,173],[63,138,63,140],[63,141,63,143],[63,144,63,146],[63,147,63,149],[63,150,63,152],[63,153,63,155],[63,120,63,122],[63,123,63,125],[63,126,63,128],[63,129,63,131],[63,132,63,134],[63,135,63,137],[63,33,63,35],[63,36,63,38],[63,39,63,41],[63,42,63,44],[63,45,63,47],[62,240,62,244],[63,4,63,5],[63,6,63,8],[63,9,63,11],[63,12,63,14],[63,15,63,17],[63,18,63,20],[63,21,63,23],[63,24,63,26],[63,27,63,29],[62,204,62,208],[62,210,62,214],[62,216,62,220],[62,222,62,226],[62,228,62,232],[62,234,62,238],[62,168,62,172],[62,174,62,178],[62,180,62,184],[62,186,62,190],[63,102,63,104],[63,105,63,107],[63,108,63,110],[63,111,63,113],[63,114,63,116],[63,117,63,119],[63,84,63,86],[62,162,62,166],[62,96,62,100],[62,102,62,106],[62,108,62,112],[62,114,62,118],[62,120,62,124],[62,126,62,130],[62,60,62,64],[62,66,62,70],[62,72,62,76],[62,78,62,82],[62,84,62,88],[62,90,62,94],[63,48,63,50],[63,51,63,53],[63,54,63,56],[63,57,63,59],[63,60,63,62],[63,63,63,65],[63,87,63,89],[63,90,63,92],[63,93,63,95],[63,96,63,98],[63,99,63,101],[63,66,63,68],[63,69,63,71],[63,72,63,74],[63,75,63,77],[63,78,63,80],[63,81,63,83],[61,216,61,221],[61,222,61,227],[61,228,61,233],[61,234,61,239],[61,240,61,245],[62,4,62,5],[62,6,62,10],[62,12,62,16],[62,18,62,22],[61,180,61,185],[61,186,61,191],[61,192,61,197],[61,198,61,203],[61,204,61,209],[61,210,61,215],[61,144,61,149],[61,150,61,155],[61,156,61,161],[61,162,61,167],[61,168,61,173],[61,174,61,179],[61,108,61,113],[61,114,61,119],[61,120,61,125],[61,126,61,131],[62,192,62,196],[62,198,62,202],[62,132,62,136],[62,138,62,142],[62,144,62,148],[62,150,62,154],[62,156,62,160],[60,240,60,241],[60,242,60,243],[60,180,60,181],[60,182,60,183],[60,184,60,185],[60,186,60,187],[60,188,60,189],[60,166,60,167],[60,168,60,169],[60,170,60,171],[60,172,60,173],[60,174,60,175],[60,176,60,177],[60,154,60,155],[60,156,60,157],[60,158,60,159],[60,160,60,161],[60,200,60,201],[60,178,60,179],[61,132,61,137],[61,138,61,143],[61,72,61,77],[61,78,61,83],[61,84,61,89],[61,90,61,95],[61,96,61,101],[61,102,61,107],[61,36,61,41],[61,42,61,47],[61,48,61,53],[61,54,61,59],[61,60,61,65],[61,66,61,71],[60,238,60,239],[60,126,60,127],[60,128,60,129],[60,94,60,95],[60,96,60,97],[60,98,60,99],[60,100,60,101],[60,102,60,103],[60,104,60,105],[60,82,60,83],[60,84,60,85],[60,86,60,87],[60,88,60,89],[60,90,60,91],[60,92,60,93],[60,162,60,163],[60,164,60,165],[60,142,60,143],[60,244,60,245],[61,4,61,5],[61,6,61,11],[61,12,61,17],[61,18,61,23],[61,24,61,29],[61,30,61,35],[60,226,60,227],[60,228,60,229],[60,230,60,231],[60,232,60,233],[60,234,60,235],[60,236,60,237],[60,214,60,215],[60,216,60,217],[60,218,60,219],[60,220,60,221],[60,222,60,223],[60,224,60,225],[60,202,60,203],[60,204,60,205],[60,206,60,207],[60,208,60,209],[60,210,60,211],[60,212,60,213],[60,190,60,191],[60,192,60,193],[60,194,60,195],[60,196,60,197],[60,198,60,199],[60,114,60,115],[60,116,60,117],[60,108,60,109],[60,110,60,111],[60,112,60,113],[60,44,60,45],[60,22,60,23],[60,24,60,25],[60,26,60,27],[60,28,60,29],[60,30,60,31],[60,32,60,33],[60,144,60,145],[60,146,60,147],[60,148,60,149],[60,150,60,151],[60,152,60,153],[60,130,60,131],[60,132,60,133],[60,134,60,135],[60,136,60,137],[60,138,60,139],[60,140,60,141],[60,118,60,119],[60,120,60,121],[60,122,60,123],[60,124,60,125],[60,80,60,81],[60,58,60,59],[60,60,60,61],[60,62,60,63],[60,64,60,65],[60,66,60,67],[60,68,60,69],[59,240,59,245],[60,4,60,5],[60,6,60,7],[60,8,60,9],[60,10,60,11],[60,12,60,13],[60,14,60,15],[60,16,60,17],[60,18,60,19],[60,20,60,21],[59,204,59,209],[59,210,59,215],[59,216,59,221],[59,222,59,227],[59,228,59,233],[59,234,59,239],[59,168,59,173],[59,174,59,179],[59,180,59,185],[59,186,59,191],[60,70,60,71],[60,72,60,73],[60,74,60,75],[60,76,60,77],[60,78,60,79],[60,46,60,47],[60,48,60,49],[60,50,60,51],[60,52,60,53],[60,54,60,55],[60,56,60,57],[60,106,60,107],[58,102,58,107],[58,108,58,113],[58,114,58,119],[58,120,58,125],[58,126,58,131],[58,132,58,137],[58,66,58,71],[58,72,58,77],[59,192,59,197],[59,198,59,203],[59,132,59,137],[59,138,59,143],[59,144,59,149],[59,150,59,155],[59,156,59,161],[59,162,59,167],[59,96,59,101],[59,102,59,107],[59,108,59,113],[59,114,59,119],[59,120,59,125],[59,126,59,131],[59,66,59,71],[59,72,59,77],[59,78,59,83],[59,84,59,89],[59,90,59,95],[58,78,58,83],[58,84,58,89],[58,90,58,95],[58,96,58,101],[58,210,58,215],[58,216,58,221],[58,222,58,227],[58,228,58,233],[58,234,58,239],[58,240,58,245],[58,174,58,179],[58,180,58,185],[58,186,58,191],[58,192,58,197],[58,198,58,203],[58,204,58,209],[58,138,58,143],[58,144,58,149],[58,150,58,155],[58,156,58,161],[58,162,58,167],[58,168,58,173],[58,3,61,3],[58,4,58,5],[58,6,58,11],[58,12,58,17],[58,18,58,23],[58,24,58,29],[59,4,59,5],[59,6,59,11],[59,12,59,17],[59,18,59,23],[59,24,59,29],[59,30,59,35],[59,36,59,41],[59,42,59,47],[59,48,59,53],[59,54,59,59],[59,60,59,65],[60,34,60,35],[60,36,60,37],[60,38,60,39],[60,40,60,41],[60,42,60,43],[57,216,57,221],[57,222,57,227],[57,228,57,233],[57,234,57,239],[57,240,57,245],[57,174,57,179],[57,180,57,185],[57,186,57,191],[57,192,57,197],[57,198,57,203],[57,204,57,209],[57,138,57,143],[57,144,57,149],[57,150,57,155],[57,156,57,161],[57,162,57,167],[57,168,57,173],[57,114,57,119],[57,120,57,125],[57,126,57,131],[57,132,57,137],[57,66,57,71],[57,72,57,77],[57,78,57,83],[57,84,57,89],[57,90,57,95],[57,96,57,101],[57,30,57,35],[57,36,57,41],[57,42,57,47],[57,48,57,53],[57,54,57,59],[57,60,57,65],[57,210,57,215],[56,228,56,233],[56,234,56,239],[56,240,56,245],[57,4,57,5],[57,6,57,11],[57,12,57,17],[57,18,57,23],[57,24,57,29],[56,180,56,185],[56,186,56,191],[56,192,56,197],[56,198,56,203],[56,204,56,209],[56,210,56,215],[56,144,56,149],[56,150,56,155],[56,156,56,161],[56,162,56,167],[56,168,56,173],[56,174,56,179],[56,108,56,113],[56,114,56,119],[56,120,56,125],[56,126,56,131],[56,132,56,137],[56,138,56,143],[56,72,56,77],[56,78,56,83],[56,84,56,89],[56,90,56,95],[57,102,57,107],[57,108,57,113],[56,96,56,101],[56,102,56,107],[56,36,56,41],[56,42,56,47],[56,48,56,53],[56,54,56,59],[56,60,56,65],[56,66,56,71],[56,4,56,5],[56,6,56,11],[56,12,56,17],[56,18,56,23],[56,24,56,29],[56,30,56,35],[55,210,55,215],[55,216,55,221],[55,222,55,227],[55,66,55,71],[55,72,55,77],[55,78,55,83],[55,84,55,89],[55,90,55,95],[55,96,55,101],[55,30,55,35],[55,36,55,41],[55,42,55,47],[55,48,55,53],[55,54,55,59],[55,60,55,65],[56,216,56,221],[56,222,56,227],[55,240,55,245],[55,174,55,179],[55,180,55,185],[55,186,55,191],[55,192,55,197],[55,198,55,203],[55,204,55,209],[55,138,55,143],[55,144,55,149],[55,150,55,155],[55,156,55,161],[55,162,55,167],[55,168,55,173],[55,102,55,107],[55,108,55,113],[55,114,55,119],[55,120,55,125],[55,126,55,131],[55,132,55,137],[54,228,54,233],[54,234,54,239],[54,240,54,245],[55,4,55,5],[55,6,55,11],[55,12,55,17],[55,18,55,23],[55,24,55,29],[54,180,54,185],[54,186,54,191],[54,192,54,197],[54,198,54,203],[54,204,54,209],[54,210,54,215],[54,144,54,149],[54,150,54,155],[54,156,54,161],[54,162,54,167],[54,168,54,173],[54,174,54,179],[54,108,54,113],[54,114,54,119],[54,120,54,125],[54,126,54,131],[54,132,54,137],[54,138,54,143],[54,72,54,77],[54,78,54,83],[54,84,54,89],[54,90,54,95],[55,228,55,233],[55,234,55,239],[54,96,54,101],[54,102,54,107],[54,36,54,41],[54,42,54,47],[54,48,54,53],[54,54,54,59],[54,60,54,65],[54,66,54,71],[54,4,54,5],[54,6,54,11],[54,12,54,17],[54,18,54,23],[54,24,54,29],[54,30,54,35],[53,210,53,215],[53,216,53,221],[53,222,53,227],[53,66,53,71],[53,72,53,77],[53,78,53,83],[53,84,53,89],[53,90,53,95],[53,96,53,101],[53,30,53,35],[53,36,53,41],[53,42,53,47],[53,48,53,53],[53,54,53,59],[53,60,53,65],[54,216,54,221],[54,222,54,227],[53,180,53,185],[53,186,53,191],[53,192,53,197],[53,198,53,203],[53,204,53,209],[53,138,53,143],[53,144,53,149],[53,150,53,155],[53,156,53,161],[53,162,53,167],[53,168,53,173],[53,102,53,107],[53,108,53,113],[53,114,53,119],[53,120,53,125],[53,126,53,131],[53,132,53,137],[52,243,52,245],[53,234,53,239],[53,240,53,245],[52,129,52,131],[52,132,52,133],[52,135,52,137],[52,138,52,139],[52,105,52,107],[52,108,52,109],[52,111,52,113],[52,114,52,115],[52,117,52,119],[52,120,52,121],[52,231,52,233],[52,234,52,235],[52,237,52,239],[53,4,53,5],[53,6,53,11],[53,12,53,17],[53,18,53,23],[53,24,53,29],[52,213,52,215],[52,216,52,217],[52,219,52,221],[52,222,52,223],[52,225,52,227],[52,228,52,229],[52,195,52,197],[52,198,52,199],[52,201,52,203],[52,204,52,205],[52,207,52,209],[52,210,52,211],[52,177,52,179],[52,180,52,181],[52,183,52,185],[52,186,52,187],[52,189,52,191],[52,192,52,193],[52,159,52,161],[52,162,52,163],[52,165,52,167],[52,168,52,169],[53,228,53,233],[53,174,53,179],[52,156,52,157],[52,123,52,125],[52,126,52,127],[52,240,52,241],[51,216,51,221],[51,222,51,227],[51,228,51,233],[51,234,51,239],[51,240,51,245],[51,54,51,59],[51,60,51,65],[51,66,51,71],[52,87,52,89],[52,90,52,91],[52,93,52,95],[52,96,52,97],[52,99,52,101],[52,102,52,103],[52,69,52,71],[52,72,52,73],[52,75,52,77],[52,78,52,79],[52,81,52,83],[52,84,52,85],[52,54,52,55],[52,57,52,59],[52,60,52,61],[52,63,52,65],[52,66,52,67],[52,171,52,173],[52,174,52,175],[52,141,52,143],[52,144,52,145],[52,147,52,149],[52,150,52,151],[52,153,52,155],[51,96,51,101],[51,102,51,107],[51,36,51,41],[51,42,51,47],[51,48,51,53],[52,33,52,35],[52,36,52,37],[52,39,52,41],[52,42,52,43],[52,45,52,47],[52,48,52,49],[52,15,52,17],[52,18,52,19],[52,21,52,23],[52,24,52,25],[52,27,52,29],[52,30,52,31],[52,51,52,53],[50,96,50,101],[50,72,50,77],[50,42,50,47],[50,48,50,53],[50,54,50,59],[52,3,57,3],[52,4,52,5],[52,6,52,7],[52,9,52,11],[52,12,52,13],[51,180,51,185],[51,186,51,191],[51,192,51,197],[51,198,51,203],[51,204,51,209],[51,210,51,215],[51,144,51,149],[51,150,51,155],[51,156,51,161],[51,162,51,167],[51,168,51,173],[51,174,51,179],[51,108,51,113],[51,114,51,119],[51,120,51,125],[51,126,51,131],[51,132,51,137],[51,138,51,143],[51,72,51,77],[51,78,51,83],[51,84,51,89],[51,90,51,95],[50,222,50,227],[50,228,50,233],[50,234,50,239],[50,240,50,245],[49,84,49,89],[49,90,49,95],[49,96,49,101],[49,48,49,53],[51,3,51,5],[51,6,51,11],[51,12,51,17],[51,18,51,23],[51,24,51,29],[51,30,51,35],[50,186,50,191],[50,192,50,197],[50,198,50,203],[50,204,50,209],[50,210,50,215],[50,216,50,221],[50,150,50,155],[50,156,50,161],[50,162,50,167],[50,168,50,173],[50,174,50,179],[50,180,50,185],[50,114,50,119],[50,120,50,125],[50,126,50,131],[50,132,50,137],[50,138,50,143],[50,144,50,149],[49,132,49,137],[49,138,49,143],[49,144,49,149],[49,150,49,155],[49,102,49,107],[49,108,49,113],[49,114,49,119],[47,114,47,116],[49,228,49,233],[49,234,49,239],[49,240,49,245],[50,3,50,5],[50,6,50,11],[50,12,50,17],[50,18,50,23],[50,24,50,29],[50,30,50,35],[50,36,50,41],[49,192,49,197],[49,198,49,203],[49,204,49,209],[49,210,49,215],[49,216,49,221],[49,222,49,227],[49,156,49,161],[49,162,49,167],[49,168,49,173],[49,174,49,179],[49,180,49,185],[49,186,49,191],[49,120,49,125],[49,126,49,131],[47,108,47,110],[47,111,47,113],[47,243,47,245],[47,186,47,188],[47,153,47,155],[47,156,47,158],[47,159,47,161],[47,162,47,164]],"merged_total":2450,"flags":["merged_cut"]}
["給与所得者異動届出書(入力シート)"]
[]
["作成方法"]
["①　共通項目に必要事項を入力のうえ、各従業員等の項目に入力番号ごとに必要事項を入力してください。"]
["②　必要事項を入力後、「異動届出書(印刷用)」シートの入力番号欄に「入力用」シートの「入力番号」を入力いただくと該当者が表示されます。"]
["　　 記載内容に誤りがないかご確認のうえ、片面印刷で印刷（２枚印刷されます。）して、２枚とも提出してください。"]
[]
["提　出　年　月　日　　　　　令和",null,null,null,null,null,null,"年",null,"月",null,"日"]
["共通項目\n(すべてに印刷)","給与支払者情報\n（特別徴収義務者）","給与支払者番号\n（特別徴収指定番号）"]
[null,null,"郵便番号",null,null,null,null,null,null,"-"]
[null,null,"名　　称\n（氏　　名）"]
[null,null,"所　在　地\n（住　　　所）"]
[null,null,"個人番号又は法人番号",null,null,null,null,null,null,null,null,null,null,null,null,null,null,null,null,"（右詰めで入力してください。）"]
[null,null,"連　絡　先",null,null,null,"所属課・係",null,null,null,null,null,"氏　名",null,null,null,null,null,"電話番号",null,null,null,null,null,null,null,"内　線"]
[null,null,null,null,null,null,null,null,null,null,null,null,null,null,null,null,null,null,null,null,"－",null,null,"－"]
[]
["各従業員等の項目\n（入力番号ごとの内容がそれぞれ異動届出書に印刷）","入　力　番　号",null,null,null,null,1,null,null,null,null,null,2,null,null,null,null,null,3,null,null,null,null,null,4,null,null,null,null,null,5,null,null,null,null,null,6,null,null,null,null,null,7,null,null,null,null,null,8,null,null,null,null,null,9,null,null,null,null,null,10,null,null,null,null,null,11,null,null,null,null,null,12,null,null,null,null,null,13,null,null,null,null,null,14,null,null,null,null,null,15,null,null,null,null,null,16,null,null,null,null,null,17,null,null,null,null,null,18,null,null,null,null,null,19,null,null,null,null,null,20,null,null,null,null,null,21,null,null,null,null,null,22,null,null,null,null,null,23,null,null,null,null,null,24,null,null,null,null,null,25,null,null,null,null,null,26,null,null,null,null,null,27,null,null,null,null,null,28,null,null,null,null,null,29,null,null,null,null,null,30,null,null,null,null,null,31,null,null,null,null,null,32,null,null,null,null,null,33,null,null,null,null,null,34,null,null,null,null,null,35,null,null,null,null,null,36,null,null,null,null,null,37,null,null,null,null,null,38,null,null,null,null,null,39,null,null,null,null,null,40]
[null,"サブ番号",null,null,null,null,{"$f":"TEXT(G17&1,\"#,##0\")*1","v":11},{"$f":"+G18+1","v":12},{"$f":"+H18+1","v":13},{"$f":"+I18+1","v":14},{"$f":"+J18+1","v":15},{"$f":"+K18+1","v":16},{"$f":"TEXT(M17&1,\"#,##0\")*1","v":21},{"$f":"+M18+1","v":22},{"$f":"+N18+1","v":23},{"$f":"+O18+1","v":24},{"$f":"+P18+1","v":25},{"$f":"+Q18+1","v":26},{"$f":"TEXT(S17&1,\"#,##0\")*1","v":31},{"$f":"+S18+1","v":32},{"$f":"+T18+1","v":33},{"$f":"+U18+1","v":34},{"$f":"+V18+1","v":35},{"$f":"+W18+1","v":36},{"$f":"TEXT(Y17&1,\"#,##0\")*1","v":41},{"$f":"+Y18+1","v":42},{"$f":"+Z18+1","v":43},{"$f":"+AA18+1","v":44},{"$f":"+AB18+1","v":45},{"$f":"+AC18+1","v":46},{"$f":"TEXT(AE17&1,\"#,##0\")*1","v":51},{"$f":"+AE18+1","v":52},{"$f":"+AF18+1","v":53},{"$f":"+AG18+1","v":54},{"$f":"+AH18+1","v":55},{"$f":"+AI18+1","v":56},{"$f":"TEXT(AK17&1,\"#,##0\")*1","v":61},{"$f":"+AK18+1","v":62},{"$f":"+AL18+1","v":63},{"$f":"+AM18+1","v":64},{"$f":"+AN18+1","v":65},{"$f":"+AO18+1","v":66},{"$f":"TEXT(AQ17&1,\"#,##0\")*1","v":71},{"$f":"+AQ18+1","v":72},{"$f":"+AR18+1","v":73},{"$f":"+AS18+1","v":74},{"$f":"+AT18+1","v":75},{"$f":"+AU18+1","v":76},{"$f":"TEXT(AW17&1,\"#,##0\")*1","v":81},{"$f":"+AW18+1","v":82},{"$f":"+AX18+1","v":83},{"$f":"+AY18+1","v":84},{"$f":"+AZ18+1","v":85},{"$f":"+BA18+1","v":86},{"$f":"TEXT(BC17&1,\"#,##0\")*1","v":91},{"$f":"+BC18+1","v":92},{"$f":"+BD18+1","v":93},{"$f":"+BE18+1","v":94},{"$f":"+BF18+1","v":95},{"$f":"+BG18+1","v":96},{"$f":"TEXT(BI17&1,\"#,##0\")*1","v":101},{"$f":"+BI18+1","v":102},{"$f":"+BJ18+1","v":103},{"$f":"+BK18+1","v":104},{"$f":"+BL18+1","v":105},{"$f":"+BM18+1","v":106},{"$f":"TEXT(BO17&1,\"#,##0\")*1","v":111},{"$f":"+BO18+1","v":112},{"$f":"+BP18+1","v":113},{"$f":"+BQ18+1","v":114},{"$f":"+BR18+1","v":115},{"$f":"+BS18+1","v":116},{"$f":"TEXT(BU17&1,\"#,##0\")*1","v":121},{"$f":"+BU18+1","v":122},{"$f":"+BV18+1","v":123},{"$f":"+BW18+1","v":124},{"$f":"+BX18+1","v":125},{"$f":"+BY18+1","v":126},{"$f":"TEXT(CA17&1,\"#,##0\")*1","v":131},{"$f":"+CA18+1","v":132},{"$f":"+CB18+1","v":133},{"$f":"+CC18+1","v":134},{"$f":"+CD18+1","v":135},{"$f":"+CE18+1","v":136},{"$f":"TEXT(CG17&1,\"#,##0\")*1","v":141},{"$f":"+CG18+1","v":142},{"$f":"+CH18+1","v":143},{"$f":"+CI18+1","v":144},{"$f":"+CJ18+1","v":145},{"$f":"+CK18+1","v":146},{"$f":"TEXT(CM17&1,\"#,##0\")*1","v":151},{"$f":"+CM18+1","v":152},{"$f":"+CN18+1","v":153},{"$f":"+CO18+1","v":154},{"$f":"+CP18+1","v":155},{"$f":"+CQ18+1","v":156},{"$f":"TEXT(CS17&1,\"#,##0\")*1","v":161},{"$f":"+CS18+1","v":162},{"$f":"+CT18+1","v":163},{"$f":"+CU18+1","v":164},{"$f":"+CV18+1","v":165},{"$f":"+CW18+1","v":166},{"$f":"TEXT(CY17&1,\"#,##0\")*1","v":171},{"$f":"+CY18+1","v":172},{"$f":"+CZ18+1","v":173},{"$f":"+DA18+1","v":174},{"$f":"+DB18+1","v":175},{"$f":"+DC18+1","v":176},{"$f":"TEXT(DE17&1,\"#,##0\")*1","v":181},{"$f":"+DE18+1","v":182},{"$f":"+DF18+1","v":183},{"$f":"+DG18+1","v":184},{"$f":"+DH18+1","v":185},{"$f":"+DI18+1","v":186},{"$f":"TEXT(DK17&1,\"#,##0\")*1","v":191},{"$f":"+DK18+1","v":192},{"$f":"+DL18+1","v":193},{"$f":"+DM18+1","v":194},{"$f":"+DN18+1","v":195},{"$f":"+DO18+1","v":196},{"$f":"TEXT(DQ17&1,\"#,##0\")*1","v":201},{"$f":"+DQ18+1","v":202},{"$f":"+DR18+1","v":203},{"$f":"+DS18+1","v":204},{"$f":"+DT18+1","v":205},{"$f":"+DU18+1","v":206},{"$f":"TEXT(DW17&1,\"#,##0\")*1","v":211},{"$f":"+DW18+1","v":212},{"$f":"+DX18+1","v":213},{"$f":"+DY18+1","v":214},{"$f":"+DZ18+1","v":215},{"$f":"+EA18+1","v":216},{"$f":"TEXT(EC17&1,\"#,##0\")*1","v":221},{"$f":"+EC18+1","v":222},{"$f":"+ED18+1","v":223},{"$f":"+EE18+1","v":224},{"$f":"+EF18+1","v":225},{"$f":"+EG18+1","v":226},{"$f":"TEXT(EI17&1,\"#,##0\")*1","v":231},{"$f":"+EI18+1","v":232},{"$f":"+EJ18+1","v":233},{"$f":"+EK18+1","v":234},{"$f":"+EL18+1","v":235},{"$f":"+EM18+1","v":236},{"$f":"TEXT(EO17&1,\"#,##0\")*1","v":241},{"$f":"+EO18+1","v":242},{"$f":"+EP18+1","v":243},{"$f":"+EQ18+1","v":244},{"$f":"+ER18+1","v":245},{"$f":"+ES18+1","v":246},{"$f":"TEXT(EU17&1,\"#,##0\")*1","v":251},{"$f":"+EU18+1","v":252},{"$f":"+EV18+1","v":253},{"$f":"+EW18+1","v":254},{"$f":"+EX18+1","v":255},{"$f":"+EY18+1","v":256},{"$f":"TEXT(FA17&1,\"#,##0\")*1","v":261},{"$f":"+FA18+1","v":262},{"$f":"+FB18+1","v":263},{"$f":"+FC18+1","v":264},{"$f":"+FD18+1","v":265},{"$f":"+FE18+1","v":266},{"$f":"TEXT(FG17&1,\"#,##0\")*1","v":271},{"$f":"+FG18+1","v":272},{"$f":"+FH18+1","v":273},{"$f":"+FI18+1","v":274},{"$f":"+FJ18+1","v":275},{"$f":"+FK18+1","v":276},{"$f":"TEXT(FM17&1,\"#,##0\")*1","v":281},{"$f":"+FM18+1","v":282},{"$f":"+FN18+1","v":283},{"$f":"+FO18+1","v":284},{"$f":"+FP18+1","v":285},{"$f":"+FQ18+1","v":286},{"$f":"TEXT(FS17&1,\"#,##0\")*1","v":291},{"$f":"+FS18+1","v":292},{"$f":"+FT18+1","v":293},{"$f":"+FU18+1","v":294},{"$f":"+FV18+1","v":295},{"$f":"+FW18+1","v":296},{"$f":"TEXT(FY17&1,\"#,##0\")*1","v":301},{"$f":"+FY18+1","v":302},{"$f":"+FZ18+1","v":303},{"$f":"+GA18+1","v":304},{"$f":"+GB18+1","v":305},{"$f":"+GC18+1","v":306},{"$f":"TEXT(GE17&1,\"#,##0\")*1","v":311},{"$f":"+GE18+1","v":312},{"$f":"+GF18+1","v":313},{"$f":"+GG18+1","v":314},{"$f":"+GH18+1","v":315},{"$f":"+GI18+1","v":316},{"$f":"TEXT(GK17&1,\"#,##0\")*1","v":321},{"$f":"+GK18+1","v":322},{"$f":"+GL18+1","v":323},{"$f":"+GM18+1","v":324},{"$f":"+GN18+1","v":325},{"$f":"+GO18+1","v":326},{"$f":"TEXT(GQ17&1,\"#,##0\")*1","v":331},{"$f":"+GQ18+1","v":332},{"$f":"+GR18+1","v":333},{"$f":"+GS18+1","v":334},{"$f":"+GT18+1","v":335},{"$f":"+GU18+1","v":336},{"$f":"TEXT(GW17&1,\"#,##0\")*1","v":341},{"$f":"+GW18+1","v":342},{"$f":"+GX18+1","v":343},{"$f":"+GY18+1","v":344},{"$f":"+GZ18+1","v":345},{"$f":"+HA18+1","v":346},{"$f":"TEXT(HC17&1,\"#,##0\")*1","v":351},{"$f":"+HC18+1","v":352},{"$f":"+HD18+1","v":353},{"$f":"+HE18+1","v":354},{"$f":"+HF18+1","v":355},{"$f":"+HG18+1","v":356},{"$f":"TEXT(HI17&1,\"#,##0\")*1","v":361},{"$f":"+HI18+1","v":362},{"$f":"+HJ18+1","v":363},{"$f":"+HK18+1","v":364},{"$f":"+HL18+1","v":365},{"$f":"+HM18+1","v":366},{"$f":"TEXT(HO17&1,\"#,##0\")*1","v":371},{"$f":"+HO18+1","v":372},{"$f":"+HP18+1","v":373},{"$f":"+HQ18+1","v":374},{"$f":"+HR18+1","v":375},{"$f":"+HS18+1","v":376},{"$f":"TEXT(HU17&1,\"#,##0\")*1","v":381},{"$f":"+HU18+1","v":382},{"$f":"+HV18+1","v":383},{"$f":"+HW18+1","v":384},{"$f":"+HX18+1","v":385},{"$f":"+HY18+1","v":386},{"$f":"TEXT(IA17&1,\"#,##0\")*1","v":391},{"$f":"+IA18+1","v":392},{"$f":"+IB18+1","v":393},{"$f":"+IC18+1","v":394},{"$f":"+ID18+1","v":395},{"$f":"+IE18+1","v":396},{"$f":"TEXT(IG17&1,\"#,##0\")*1","v":401},{"$f":"+IG18+1","v":402},{"$f":"+IH18+1","v":403},{"$f":"+II18+1","v":404},{"$f":"+IJ18+1","v":405},{"$f":"+IK18+1","v":406}]
[null,"宛名番号（通知書記載の番号）"]
[null,"フリガナ"]
[null,"氏　　名"]
[null,null,"フリガナ"]
[null,null,"新　姓"]
[null,"生　年　月　日",null,null,null,"元号"]
[null,null,null,null,null,"年　月　日",null,"年",null,"月",null,"日",null,"年",null,"月",null,"日",null,"年",null,"月",null,"日",null,"年",null,"月",null,"日",null,"年",null,"月",null,"日",null,"年",null,"月",null,"日",null,"年",null,"月",null,"日",null,"年",null,"月",null,"日",null,"年",null,"月",null,"日",null,"年",null,"月",null,"日",null,"年",null,"月",null,"日",null,"年",null,"月",null,"日",null,"年",null,"月",null,"日",null,"年",null,"月",null,"日",null,"年",null,"月",null,"日",null,"年",null,"月",null,"日",null,"年",null,"月",null,"日",null,"年",null,"月",null,"日",null,"年",null,"月",null,"日",null,"年",null,"月",null,"日",null,"年",null,"月",null,"日",null,"年",null,"月",null,"日",null,"年",null,"月",null,"日",null,"年",null,"月",null,"日",null,"年",null,"月",null,"日",null,"年",null,"月",null,"日",null,"年",null,"月",null,"日",null,"年",null,"月",null,"日",null,"年",null,"月",null,"日",null,"年",null,"月",null,"日",null,"年",null,"月",null,"日",null,"年",null,"月",null,"日",null,"年",null,"月",null,"日",null,"年",null,"月",null,"日",null,"年",null,"月",null,"日",null,"年",null,"月",null,"日",null,"年",null,"月",null,"日",null,"年",null,"月",null,"日",null,"年",null,"月",null,"日",null,"年",null,"月",null,"日"]
[null,"個人番号（マイナンバー）"]
[null,"従業員等の住所","1月1日\n現在\n住所","市町村・区名",null,null,"大阪市",null,null,"区",null,null,"大阪市",null,null,"区",null,null,"大阪市",null,null,"区",null,null,"大阪市",null,null,"区",null,null,"大阪市",null,null,"区",null,null,"大阪市",null,null,"区",null,null,"大阪市",null,null,"区",null,null,"大阪市",null,null,"区",null,null,"大阪市",null,null,"区",null,null,"大阪市",null,null,"区",null,null,"大阪市",null,null,"区",null,null,"大阪市",null,null,"区",null,null,"大阪市",null,null,"区",null,null,"大阪市",null,null,"区",null,null,"大阪市",null,null,"区",null,null,"大阪市",null,null,"区",null,null,"大阪市",null,null,"区",null,null,"大阪市",null,null,"区",null,null,"大阪市",null,null,"区",null,null,"大阪市",null,null,"区",null,null,"大阪市",null,null,"区",null,null,"大阪市",null,null,"区",null,null,"大阪市",null,null,"区",null,null,"大阪市",null,null,"区",null,null,"大阪市",null,null,"区",null,null,"大阪市",null,null,"区",null,null,"大阪市",null,null,"区",null,null,"大阪市",null,null,"区",null,null,"大阪市",null,null,"区",null,null,"大阪市",null,null,"区",null,null,"大阪市",null,null,"区",null,null,"大阪市",null,null,"区",null,null,"大阪市",null,null,"区",null,null,"大阪市",null,null,"区",null,null,"大阪市",null,null,"区",null,null,"大阪市",null,null,"区",null,null,"大阪市",null,null,"区",null,null,"大阪市",null,null,"区",null,null,"大阪市",null,null,"区",null,null,"大阪市",null,null,"区"]
[null,null,null,"町　名"]
[null,null,null,"番　地"]
[null,null,null,"建物名等"]
[null,null,"現住所\n(異動後)\n\n上記と異なる場合のみ","都道府県名"]
[null,null,null,"市区町村名"]
[null,null,null,"町　名"]
[null,null,null,"番　地"]
[null,null,null,"建物名等"]
[null,"異動年月日　　　　令和",null,null,null,null,null,"年",null,"月",null,"日",null,"年",null,"月",null,"日",null,"年",null,"月",null,"日",null,"年",null,"月",null,"日",null,"年",null,"月",null,"日",null,"年",null,"月",null,"日",null,"年",null,"月",null,"日",null,"年",null,"月",null,"日",null,"年",null,"月",null,"日",null,"年",null,"月",null,"日",null,"年",null,"月",null,"日",null,"年",null,"月",null,"日",null,"年",null,"月",null,"日",null,"年",null,"月",null,"日",null,"年",null,"月",null,"日",null,"年",null,"月",null,"日",null,"年",null,"月",null,"日",null,"年",null,"月",null,"日",null,"年",null,"月",null,"日",null,"年",null,"月",null,"日",null,"年",null,"月",null,"日",null,"年",null,"月",null,"日",null,"年",null,"月",null,"日",null,"年",null,"月",null,"日",null,"年",null,"月",null,"日",null,"年",null,"月",null,"日",null,"年",null,"月",null,"日",null,"年",null,"月",null,"日",null,"年",null,"月",null,"日",null,"年",null,"月",null,"日",null,"年",null,"月",null,"日",null,"年",null,"月",null,"日",null,"年",null,"月",null,"日",null,"年",null,"月",null,"日",null,"年",null,"月",null,"日",null,"年",null,"月",null,"日",null,"年",null,"月",null,"日",null,"年",null,"月",null,"日",null,"年",null,"月",null,"日",null,"年",null,"月",null,"日"]
[null,"異動の事由"]
[null,null,"8　その他"]
[null,"特別徴収税額（年税額）",null,null,null,null,null,null,null,null,null,"円",null,null,null,null,null,"円",null,null,null,null,null,"円",null,null,null,null,null,"円",null,null,null,null,null,"円",null,null,null,null,null,"円",null,null,null,null,null,"円",null,null,null,null,null,"円",null,null,null,null,null,"円",null,null,null,null,null,"円",null,null,null,null,null,"円",null,null,null,null,null,"円",null,null,null,null,null,"円",null,null,null,null,null,"円",null,null,null,null,null,"円",null,null,null,null,null,"円",null,null,null,null,null,"円",null,null,null,null,null,"円",null,null,null,null,null,"円",null,null,null,null,null,"円",null,null,null,null,null,"円",null,null,null,null,null,"円",null,null,null,null,null,"円",null,null,null,null,null,"円",null,null,null,null,null,"円",null,null,null,null,null,"円",null,null,null,null,null,"円",null,null,null,null,null,"円",null,null,null,null,null,"円",null,null,null,null,null,"円",null,null,null,null,null,"円",null,null,null,null,null,"円",null,null,null,null,null,"円",null,null,null,null,null,"円",null,null,null,null,null,"円",null,null,null,null,null,"円",null,null,null,null,null,"円",null,null,null,null,null,"円",null,null,null,null,null,"円",null,null,null,null,null,"円"]
[null,null,"徴収済の税額",null,null,null,null,null,null,null,null,"円",null,null,null,null,null,"円",null,null,null,null,null,"円",null,null,null,null,null,"円",null,null,null,null,null,"円",null,null,null,null,null,"円",null,null,null,null,null,"円",null,null,null,null,null,"円",null,null,null,null,null,"円",null,null,null,null,null,"円",null,null,null,null,null,"円",null,null,null,null,null,"円",null,null,null,null,null,"円",null,null,null,null,null,"円",null,null,null,null,null,"円",null,null,null,null,null,"円",null,null,null,null,null,"円",null,null,null,null,null,"円",null,null,null,null,null,"円",null,null,null,null,null,"円",null,null,null,null,null,"円",null,null,null,null,null,"円",null,null,null,null,null,"円",null,null,null,null,null,"円",null,null,null,null,null,"円",null,null,null,null,null,"円",null,null,null,null,null,"円",null,null,null,null,null,"円",null,null,null,null,null,"円",null,null,null,null,null,"円",null,null,null,null,null,"円",null,null,null,null,null,"円",null,null,null,null,null,"円",null,null,null,null,null,"円",null,null,null,null,null,"円",null,null,null,null,null,"円",null,null,null,null,null,"円",null,null,null,null,null,"円",null,null,null,null,null,"円",null,null,null,null,null,"円"]
[null,null,"徴収済の月分",null,null,null,null,"月分～",null,null,"月分",null,null,"月分～",null,null,"月分",null,null,"月分～",null,null,"月分",null,null,"月分～",null,null,"月分",null,null,"月分～",null,null,"月分",null,null,"月分～",null,null,"月分",null,null,"月分～",null,null,"月分",null,null,"月分～",null,null,"月分",null,null,"月分～",null,null,"月分",null,null,"月分～",null,null,"月分",null,null,"月分～",null,null,"月分",null,null,"月分～",null,null,"月分",null,null,"月分～",null,null,"月分",null,null,"月分～",null,null,"月分",null,null,"月分～",null,null,"月分",null,null,"月分～",null,null,"月分",null,null,"月分～",null,null,"月分",null,null,"月分～",null,null,"月分",null,null,"月分～",null,null,"月分",null,null,"月分～",null,null,"月分",null,null,"月分～",null,null,"月分",null,null,"月分～",null,null,"月分",null,null,"月分～",null,null,"月分",null,null,"月分～",null,null,"月分",null,null,"月分～",null,null,"月分",null,null,"月分～",null,null,"月分",null,null,"月分～",null,null,"月分",null,null,"月分～",null,null,"月分",null,null,"月分～",null,null,"月分",null,null,"月分～",null,null,"月分",null,null,"月分～",null,null,"月分",null,null,"月分～",null,null,"月分",null,null,"月分～",null,null,"月分",null,null,"月分～",null,null,"月分",null,null,"月分～",null,null,"月分",null,null,"月分～",null,null,"月分",null,null,"月分～",null,null,"月分",null,null,"月分～",null,null,"月分",null,null,"月分～",null,null,"月分",null,null,"月分～",null,null,"月分"]
[null,null,"未徴収税額",null,null,null,{"$f":"+G39-G40","v":0},null,null,null,null,"円",{"$f":"+M39-M40","v":0},null,null,null,null,"円",{"$f":"+S39-S40","v":0},null,null,null,null,"円",{"$f":"+Y39-Y40","v":0},null,null,null,null,"円",{"$f":"+AE39-AE40","v":0},null,null,null,null,"円",{"$f":"+AK39-AK40","v":0},null,null,null,null,"円",{"$f":"+AQ39-AQ40","v":0},null,null,null,null,"円",{"$f":"+AW39-AW40","v":0},null,null,null,null,"円",{"$f":"+BC39-BC40","v":0},null,null,null,null,"円",{"$f":"+BI39-BI40","v":0},null,null,null,null,"円",{"$f":"+BO39-BO40","v":0},null,null,null,null,"円",{"$f":"+BU39-BU40","v":0},null,null,null,null,"円",{"$f":"+CA39-CA40","v":0},null,null,null,null,"円",{"$f":"+CG39-CG40","v":0},null,null,null,null,"円",{"$f":"+CM39-CM40","v":0},null,null,null,null,"円",{"$f":"+CS39-CS40","v":0},null,null,null,null,"円",{"$f":"+CY39-CY40","v":0},null,null,null,null,"円",{"$f":"+DE39-DE40","v":0},null,null,null,null,"円",{"$f":"+DK39-DK40","v":0},null,null,null,null,"円",{"$f":"+DQ39-DQ40","v":0},null,null,null,null,"円",{"$f":"+DW39-DW40","v":0},null,null,null,null,"円",{"$f":"+EC39-EC40","v":0},null,null,null,null,"円",{"$f":"+EI39-EI40","v":0},null,null,null,null,"円",{"$f":"+EO39-EO40","v":0},null,null,null,null,"円",{"$f":"+EU39-EU40","v":0},null,null,null,null,"円",{"$f":"+FA39-FA40","v":0},null,null,null,null,"円",{"$f":"+FG39-FG40","v":0},null,null,null,null,"円",{"$f":"+FM39-FM40","v":0},null,null,null,null,"円",{"$f":"+FS39-FS40","v":0},null,null,null,null,"円",{"$f":"+FY39-FY40","v":0},null,null,null,null,"円",{"$f":"+GE39-GE40","v":0},null,null,null,null,"円",{"$f":"+GK39-GK40","v":0},null,null,null,null,"円",{"$f":"+GQ39-GQ40","v":0},null,null,null,null,"円",{"$f":"+GW39-GW40","v":0},null,null,null,null,"円",{"$f":"+HC39-HC40","v":0},null,null,null,null,"円",{"$f":"+HI39-HI40","v":0},null,null,null,null,"円",{"$f":"+HO39-HO40","v":0},null,null,null,null,"円",{"$f":"+HU39-HU40","v":0},null,null,null,null,"円",{"$f":"+IA39-IA40","v":0},null,null,null,null,"円",{"$f":"+IG39-IG40","v":0},null,null,null,null,"円"]
[null,"1月1日以降退職時までの\n給与支払額(退職手当等を除く)",null,null,null,null,null,null,null,null,null,"円",null,null,null,null,null,"円",null,null,null,null,null,"円",null,null,null,null,null,"円",null,null,null,null,null,"円",null,null,null,null,null,"円",null,null,null,null,null,"円",null,null,null,null,null,"円",null,null,null,null,null,"円",null,null,null,null,null,"円",null,null,null,null,null,"円",null,null,null,null,null,"円",null,null,null,null,null,"円",null,null,null,null,null,"円",null,null,null,null,null,"円",null,null,null,null,null,"円",null,null,null,null,null,"円",null,null,null,null,null,"円",null,null,null,null,null,"円",null,null,null,null,null,"円",null,null,null,null,null,"円",null,null,null,null,null,"円",null,null,null,null,null,"円",null,null,null,null,null,"円",null,null,null,null,null,"円",null,null,null,null,null,"円",null,null,null,null,null,"円",null,null,null,null,null,"円",null,null,null,null,null,"円",null,null,null,null,null,"円",null,null,null,null,null,"円",null,null,null,null,null,"円",null,null,null,null,null,"円",null,null,null,null,null,"円",null,null,null,null,null,"円",null,null,null,null,null,"円",null,null,null,null,null,"円",null,null,null,null,null,"円",null,null,null,null,null,"円",null,null,null,null,null,"円"]
[null,"社会保険料控除額",null,null,null,null,null,null,null,null,null,"円",null,null,null,null,null,"円",null,null,null,null,null,"円",null,null,null,null,null,"円",null,null,null,null,null,"円",null,null,null,null,null,"円",null,null,null,null,null,"円",null,null,null,null,null,"円",null,null,null,null,null,"円",null,null,null,null,null,"円",null,null,null,null,null,"円",null,null,null,null,null,"円",null,null,null,null,null,"円",null,null,null,null,null,"円",null,null,null,null,null,"円",null,null,null,null,null,"円",null,null,null,null,null,"円",null,null,null,null,null,"円",null,null,null,null,null,"円",null,null,null,null,null,"円",null,null,null,null,null,"円",null,null,null,null,null,"円",null,null,null,null,null,"円",null,null,null,null,null,"円",null,null,null,null,null,"円",null,null,null,null,null,"円",null,null,null,null,null,"円",null,null,null,null,null,"円",null,null,null,null,null,"円",null,null,null,null,null,"円",null,null,null,null,null,"円",null,null,null,null,null,"円",null,null,null,null,null,"円",null,null,null,null,null,"円",null,null,null,null,null,"円",null,null,null,null,null,"円",null,null,null,null,null,"円",null,null,null,null,null,"円",null,null,null,null,null,"円",null,null,null,null,null,"円"]
[null,"未徴収税額の徴収方法"]
[null,null,"普通徴収の理由"]
[null,null,"一括徴収","徴　収　額\n（未徴収の税額と同額）",null,null,{"$f":"IF(G42=0,\"\",IF(COUNTIF(G45,\"*一括徴収*\"),G42,\"\"))","v":""},null,null,null,null,"円",{"$f":"IF(M42=0,\"\",IF(COUNTIF(M45,\"*一括徴収*\"),M42,\"\"))","v":""},null,null,null,null,"円",{"$f":"IF(S42=0,\"\",IF(COUNTIF(S45,\"*一括徴収*\"),S42,\"\"))","v":""},null,null,null,null,"円",{"$f":"IF(Y42=0,\"\",IF(COUNTIF(Y45,\"*一括徴収*\"),Y42,\"\"))","v":""},null,null,null,null,"円",{"$f":"IF(AE42=0,\"\",IF(COUNTIF(AE45,\"*一括徴収*\"),AE42,\"\"))","v":""},null,null,null,null,"円",{"$f":"IF(AK42=0,\"\",IF(COUNTIF(AK45,\"*一括徴収*\"),AK42,\"\"))","v":""},null,null,null,null,"円",{"$f":"IF(AQ42=0,\"\",IF(COUNTIF(AQ45,\"*一括徴収*\"),AQ42,\"\"))","v":""},null,null,null,null,"円",{"$f":"IF(AW42=0,\"\",IF(COUNTIF(AW45,\"*一括徴収*\"),AW42,\"\"))","v":""},null,null,null,null,"円",{"$f":"IF(BC42=0,\"\",IF(COUNTIF(BC45,\"*一括徴収*\"),BC42,\"\"))","v":""},null,null,null,null,"円",{"$f":"IF(BI42=0,\"\",IF(COUNTIF(BI45,\"*一括徴収*\"),BI42,\"\"))","v":""},null,null,null,null,"円",{"$f":"IF(BO42=0,\"\",IF(COUNTIF(BO45,\"*一括徴収*\"),BO42,\"\"))","v":""},null,null,null,null,"円",{"$f":"IF(BU42=0,\"\",IF(COUNTIF(BU45,\"*一括徴収*\"),BU42,\"\"))","v":""},null,null,null,null,"円",{"$f":"IF(CA42=0,\"\",IF(COUNTIF(CA45,\"*一括徴収*\"),CA42,\"\"))","v":""},null,null,null,null,"円",{"$f":"IF(CG42=0,\"\",IF(COUNTIF(CG45,\"*一括徴収*\"),CG42,\"\"))","v":""},null,null,null,null,"円",{"$f":"IF(CM42=0,\"\",IF(COUNTIF(CM45,\"*一括徴収*\"),CM42,\"\"))","v":""},null,null,null,null,"円",{"$f":"IF(CS42=0,\"\",IF(COUNTIF(CS45,\"*一括徴収*\"),CS42,\"\"))","v":""},null,null,null,null,"円",{"$f":"IF(CY42=0,\"\",IF(COUNTIF(CY45,\"*一括徴収*\"),CY42,\"\"))","v":""},null,null,null,null,"円",{"$f":"IF(DE42=0,\"\",IF(COUNTIF(DE45,\"*一括徴収*\"),DE42,\"\"))","v":""},null,null,null,null,"円",{"$f":"IF(DK42=0,\"\",IF(COUNTIF(DK45,\"*一括徴収*\"),DK42,\"\"))","v":""},null,null,null,null,"円",{"$f":"IF(DQ42=0,\"\",IF(COUNTIF(DQ45,\"*一括徴収*\"),DQ42,\"\"))","v":""},null,null,null,null,"円",{"$f":"IF(DW42=0,\"\",IF(COUNTIF(DW45,\"*一括徴収*\"),DW42,\"\"))","v":""},null,null,null,null,"円",{"$f":"IF(EC42=0,\"\",IF(COUNTIF(EC45,\"*一括徴収*\"),EC42,\"\"))","v":""},null,null,null,null,"円",{"$f":"IF(EI42=0,\"\",IF(COUNTIF(EI45,\"*一括徴収*\"),EI42,\"\"))","v":""},null,null,null,null,"円",{"$f":"IF(EO42=0,\"\",IF(COUNTIF(EO45,\"*一括徴収*\"),EO42,\"\"))","v":""},null,null,null,null,"円",{"$f":"IF(EU42=0,\"\",IF(COUNTIF(EU45,\"*一括徴収*\"),EU42,\"\"))","v":""},null,null,null,null,"円",{"$f":"IF(FA42=0,\"\",IF(COUNTIF(FA45,\"*一括徴収*\"),FA42,\"\"))","v":""},null,null,null,null,"円",{"$f":"IF(FG42=0,\"\",IF(COUNTIF(FG45,\"*一括徴収*\"),FG42,\"\"))","v":""},null,null,null,null,"円",{"$f":"IF(FM42=0,\"\",IF(COUNTIF(FM45,\"*一括徴収*\"),FM42,\"\"))","v":""},null,null,null,null,"円",{"$f":"IF(FS42=0,\"\",IF(COUNTIF(FS45,\"*一括徴収*\"),FS42,\"\"))","v":""},null,null,null,null,"円",{"$f":"IF(FY42=0,\"\",IF(COUNTIF(FY45,\"*一括徴収*\"),FY42,\"\"))","v":""},null,null,null,null,"円",{"$f":"IF(GE42=0,\"\",IF(COUNTIF(GE45,\"*一括徴収*\"),GE42,\"\"))","v":""},null,null,null,null,"円",{"$f":"IF(GK42=0,\"\",IF(COUNTIF(GK45,\"*一括徴収*\"),GK42,\"\"))","v":""},null,null,null,null,"円",{"$f":"IF(GQ42=0,\"\",IF(COUNTIF(GQ45,\"*一括徴収*\"),GQ42,\"\"))","v":""},null,null,null,null,"円",{"$f":"IF(GW42=0,\"\",IF(COUNTIF(GW45,\"*一括徴収*\"),GW42,\"\"))","v":""},null,null,null,null,"円",{"$f":"IF(HC42=0,\"\",IF(COUNTIF(HC45,\"*一括徴収*\"),HC42,\"\"))","v":""},null,null,null,null,"円",{"$f":"IF(HI42=0,\"\",IF(COUNTIF(HI45,\"*一括徴収*\"),HI42,\"\"))","v":""},null,null,null,null,"円",{"$f":"IF(HO42=0,\"\",IF(COUNTIF(HO45,\"*一括徴収*\"),HO42,\"\"))","v":""},null,null,null,null,"円",{"$f":"IF(HU42=0,\"\",IF(COUNTIF(HU45,\"*一括徴収*\"),HU42,\"\"))","v":""},null,null,null,null,"円",{"$f":"IF(IA42=0,\"\",IF(COUNTIF(IA45,\"*一括徴収*\"),IA42,\"\"))","v":""},null,null,null,null,"円",{"$f":"IF(IG42=0,\"\",IF(COUNTIF(IG45,\"*一括徴収*\"),IG42,\"\"))","v":""},null,null,null,null,"円"]
[null,null,null,"納　入　月",null,null,null,null,null,"月分\n(翌月10日期限)",null,null,null,null,null,"月分\n(翌月10日期限)",null,null,null,null,null,"月分\n(翌月10日期限)",null,null,null,null,null,"月分\n(翌月10日期限)",null,null,null,null,null,"月分\n(翌月10日期限)",null,null,null,null,null,"月分\n(翌月10日期限)",null,null,null,null,null,"月分\n(翌月10日期限)",null,null,null,null,null,"月分\n(翌月10日期限)",null,null,null,null,null,"月分\n(翌月10日期限)",null,null,null,null,null,"月分\n(翌月10日期限)",null,null,null,null,null,"月分\n(翌月10日期限)",null,null,null,null,null,"月分\n(翌月10日期限)",null,null,null,null,null,"月分\n(翌月10日期限)",null,null,null,null,null,"月分\n(翌月10日期限)",null,null,null,null,null,"月分\n(翌月10日期限)",null,null,null,null,null,"月分\n(翌月10日期限)",null,null,null,null,null,"月分\n(翌月10日期限)",null,null,null,null,null,"月分\n(翌月10日期限)",null,null,null,null,null,"月分\n(翌月10日期限)",null,null,null,null,null,"月分\n(翌月10日期限)",null,null,null,null,null,"月分\n(翌月10日期限)",null,null,null,null,null,"月分\n(翌月10日期限)",null,null,null,null,null,"月分\n(翌月10日期限)",null,null,null,null,null,"月分\n(翌月10日期限)",null,null,null,null,null,"月分\n(翌月10日期限)",null,null,null,null,null,"月分\n(翌月10日期限)",null,null,null,null,null,"月分\n(翌月10日期限)",null,null,null,null,null,"月分\n(翌月10日期限)",null,null,null,null,null,"月分\n(翌月10日期限)",null,null,null,null,null,"月分\n(翌月10日期限)",null,null,null,null,null,"月分\n(翌月10日期限)",null,null,null,null,null,"月分\n(翌月10日期限)",null,null,null,null,null,"月分\n(翌月10日期限)",null,null,null,null,null,"月分\n(翌月10日期限)",null,null,null,null,null,"月分\n(翌月10日期限)",null,null,null,null,null,"月分\n(翌月10日期限)",null,null,null,null,null,"月分\n(翌月10日期限)",null,null,null,null,null,"月分\n(翌月10日期限)",null,null,null,null,null,"月分\n(翌月10日期限)",null,null,null,null,null,"月分\n(翌月10日期限)"]
[null,null,"特　別　徴　収　継　続\n(継続先給与支払者情報)","給与支払者番号\n(特別徴収指定番号)"]
[null,null,null,null,null,"フリガナ"]
[null,null,null,"給与支払者名称"]
[null,null,null,"法人番号"]
[null,null,null,"所在地","郵便番号",null,null,null,"－",null,null,null,null,null,"－",null,null,null,null,null,"－",null,null,null,null,null,"－",null,null,null,null,null,"－",null,null,null,null,null,"－",null,null,null,null,null,"－",null,null,null,null,null,"－",null,null,null,null,null,"－",null,null,null,null,null,"－",null,null,null,null,null,"－",null,null,null,null,null,"－",null,null,null,null,null,"－",null,null,null,null,null,"－",null,null,null,null,null,"－",null,null,null,null,null,"－",null,null,null,null,null,"－",null,null,null,null,null,"－",null,null,null,null,null,"－",null,null,null,null,null,"－",null,null,null,null,null,"－",null,null,null,null,null,"－",null,null,null,null,null,"－",null,null,null,null,null,"－",null,null,null,null,null,"－",null,null,null,null,null,"－",null,null,null,null,null,"－",null,null,null,null,null,"－",null,null,null,null,null,"－",null,null,null,null,null,"－",null,null,null,null,null,"－",null,null,null,null,null,"－",null,null,null,null,null,"－",null,null,null,null,null,"－",null,null,null,null,null,"－",null,null,null,null,null,"－",null,null,null,null,null,"－",null,null,null,null,null,"－",null,null,null,null,null,"－",null,null,null,null,null,"－"]
[null,null,null,null,"都道府県名"]
[null,null,null,null,"市区町村名"]
[null,null,null,null,"町　名"]
[null,null,null,null,"番　地"]
[null,null,null,null,"建物名等"]
[null,null,null,"連絡先","所属課・係"]
[null,null,null,null,"氏　名"]
[null,null,null,null,"電話番号"]
[null,null,null,null,"内　線"]
[null,null,null,"依頼済","徴収月割額",null,null,null,null,null,null,"円",null,null,null,null,null,"円",null,null,null,null,null,"円",null,null,null,null,null,"円",null,null,null,null,null,"円",null,null,null,null,null,"円",null,null,null,null,null,"円",null,null,null,null,null,"円",null,null,null,null,null,"円",null,null,null,null,null,"円",null,null,null,null,null,"円",null,null,null,null,null,"円",null,null,null,null,null,"円",null,null,null,null,null,"円",null,null,null,null,null,"円",null,null,null,null,null,"円",null,null,null,null,null,"円",null,null,null,null,null,"円",null,null,null,null,null,"円",null,null,null,null,null,"円",null,null,null,null,null,"円",null,null,null,null,null,"円",null,null,null,null,null,"円",null,null,null,null,null,"円",null,null,null,null,null,"円",null,null,null,null,null,"円",null,null,null,null,null,"円",null,null,null,null,null,"円",null,null,null,null,null,"円",null,null,null,null,null,"円",null,null,null,null,null,"円",null,null,null,null,null,"円",null,null,null,null,null,"円",null,null,null,null,null,"円",null,null,null,null,null,"円",null,null,null,null,null,"円",null,null,null,null,null,"円",null,null,null,null,null,"円",null,null,null,null,null,"円",null,null,null,null,null,"円"]
[null,null,null,null,"徴収開始月",null,null,null,null,"月分\n(翌月10日期限)",null,null,null,null,null,"月分\n(翌月10日期限)",null,null,null,null,null,"月分\n(翌月10日期限)",null,null,null,null,null,"月分\n(翌月10日期限)",null,null,null,null,null,"月分\n(翌月10日期限)",null,null,null,null,null,"月分\n(翌月10日期限)",null,null,null,null,null,"月分\n(翌月10日期限)",null,null,null,null,null,"月分\n(翌月10日期限)",null,null,null,null,null,"月分\n(翌月10日期限)",null,null,null,null,null,"月分\n(翌月10日期限)",null,null,null,null,null,"月分\n(翌月10日期限)",null,null,null,null,null,"月分\n(翌月10日期限)",null,null,null,null,null,"月分\n(翌月10日期限)",null,null,null,null,null,"月分\n(翌月10日期限)",null,null,null,null,null,"月分\n(翌月10日期限)",null,null,null,null,null,"月分\n(翌月10日期限)",null,null,null,null,null,"月分\n(翌月10日期限)",null,null,null,null,null,"月分\n(翌月10日期限)",null,null,null,null,null,"月分\n(翌月10日期限)",null,null,null,null,null,"月分\n(翌月10日期限)",null,null,null,null,null,"月分\n(翌月10日期限)",null,null,null,null,null,"月分\n(翌月10日期限)",null,null,null,null,null,"月分\n(翌月10日期限)",null,null,null,null,null,"月分\n(翌月10日期限)",null,null,null,null,null,"月分\n(翌月10日期限)",null,null,null,null,null,"月分\n(翌月10日期限)",null,null,null,null,null,"月分\n(翌月10日期限)",null,null,null,null,null,"月分\n(翌月10日期限)",null,null,null,null,null,"月分\n(翌月10日期限)",null,null,null,null,null,"月分\n(翌月10日期限)",null,null,null,null,null,"月分\n(翌月10日期限)",null,null,null,null,null,"月分\n(翌月10日期限)",null,null,null,null,null,"月分\n(翌月10日期限)",null,null,null,null,null,"月分\n(翌月10日期限)",null,null,null,null,null,"月分\n(翌月10日期限)",null,null,null,null,null,"月分\n(翌月10日期限)",null,null,null,null,null,"月分\n(翌月10日期限)",null,null,null,null,null,"月分\n(翌月10日期限)",null,null,null,null,null,"月分\n(翌月10日期限)",null,null,null,null,null,"月分\n(翌月10日期限)"]
[null,null,null,null,"受給者番号"]
[null,null,null,null,"納入書の要否\n（新規の場合のみ記載）"]
[]
[]
[]
[]
[]
[null,null,null,null,null,"異動事由","徴収方法",null,null,null,null,null,"徴収方法",null,null,null,null,null,"徴収方法",null,null,null,null,null,"徴収方法",null,null,null,null,null,"徴収方法",null,null,null,null,null,"徴収方法",null,null,null,null,null,"徴収方法",null,null,null,null,null,"徴収方法",null,null,null,null,null,"徴収方法",null,null,null,null,null,"徴収方法",null,null,null,null,null,"徴収方法",null,null,null,null,null,"徴収方法",null,null,null,null,null,"徴収方法",null,null,null,null,null,"徴収方法",null,null,null,null,null,"徴収方法",null,null,null,null,null,"徴収方法",null,null,null,null,null,"徴収方法",null,null,null,null,null,"徴収方法",null,null,null,null,null,"徴収方法",null,null,null,null,null,"徴収方法",null,null,null,null,null,"徴収方法",null,null,null,null,null,"徴収方法",null,null,null,null,null,"徴収方法",null,null,null,null,null,"徴収方法",null,null,null,null,null,"徴収方法",null,null,null,null,null,"徴収方法",null,null,null,null,null,"徴収方法",null,null,null,null,null,"徴収方法",null,null,null,null,null,"徴収方法",null,null,null,null,null,"徴収方法",null,null,null,null,null,"徴収方法",null,null,null,null,null,"徴収方法",null,null,null,null,null,"徴収方法",null,null,null,null,null,"徴収方法",null,null,null,null,null,"徴収方法",null,null,null,null,null,"徴収方法",null,null,null,null,null,"徴収方法",null,null,null,null,null,"徴収方法",null,null,null,null,null,"徴収方法",null,null,null,null,null,"徴収方法"]
[null,{"$f":"IF(AND(G21<>\"\",G25<>\"\",I25<>\"\",K25<>\"\"),G17,\"\")","v":""},"年齢テーブル",null,null,"1　転勤・転籍",{"$f":"IF(AND(I36>=1,I36<=5),\"一括徴収\",\"\")","v":""},null,null,null,null,null,{"$f":"IF(AND(O36>=1,O36<=5),\"一括徴収\",\"\")","v":""},null,null,null,null,null,{"$f":"IF(AND(U36>=1,U36<=5),\"一括徴収\",\"\")","v":""},null,null,null,null,null,{"$f":"IF(AND(AA36>=1,AA36<=5),\"一括徴収\",\"\")","v":""},null,null,null,null,null,{"$f":"IF(AND(AG36>=1,AG36<=5),\"一括徴収\",\"\")","v":""},null,null,null,null,null,{"$f":"IF(AND(AM36>=1,AM36<=5),\"一括徴収\",\"\")","v":""},null,null,null,null,null,{"$f":"IF(AND(AS36>=1,AS36<=5),\"一括徴収\",\"\")","v":""},null,null,null,null,null,{"$f":"IF(AND(AY36>=1,AY36<=5),\"一括徴収\",\"\")","v":""},null,null,null,null,null,{"$f":"IF(AND(BE36>=1,BE36<=5),\"一括徴収\",\"\")","v":""},null,null,null,null,null,{"$f":"IF(AND(BK36>=1,BK36<=5),\"一括徴収\",\"\")","v":""},null,null,null,null,null,{"$f":"IF(AND(BQ36>=1,BQ36<=5),\"一括徴収\",\"\")","v":""},null,null,null,null,null,{"$f":"IF(AND(BW36>=1,BW36<=5),\"一括徴収\",\"\")","v":""},null,null,null,null,null,{"$f":"IF(AND(CC36>=1,CC36<=5),\"一括徴収\",\"\")","v":""},null,null,null,null,null,{"$f":"IF(AND(CI36>=1,CI36<=5),\"一括徴収\",\"\")","v":""},null,null,null,null,null,{"$f":"IF(AND(CO36>=1,CO36<=5),\"一括徴収\",\"\")","v":""},null,null,null,null,null,{"$f":"IF(AND(CU36>=1,CU36<=5),\"一括徴収\",\"\")","v":""},null,null,null,null,null,{"$f":"IF(AND(DA36>=1,DA36<=5),\"一括徴収\",\"\")","v":""},null,null,null,null,null,{"$f":"IF(AND(DG36>=1,DG36<=5),\"一括徴収\",\"\")","v":""},null,null,null,null,null,{"$f":"IF(AND(DM36>=1,DM36<=5),\"一括徴収\",\"\")","v":""},null,null,null,null,null,{"$f":"IF(AND(DS36>=1,DS36<=5),\"一括徴収\",\"\")","v":""},null,null,null,null,null,{"$f":"IF(AND(DY36>=1,DY36<=5),\"一括徴収\",\"\")","v":""},null,null,null,null,null,{"$f":"IF(AND(EE36>=1,EE36<=5),\"一括徴収\",\"\")","v":""},null,null,null,null,null,{"$f":"IF(AND(EK36>=1,EK36<=5),\"一括徴収\",\"\")","v":""},null,null,null,null,null,{"$f":"IF(AND(EQ36>=1,EQ36<=5),\"一括徴収\",\"\")","v":""},null,null,null,null,null,{"$f":"IF(AND(EW36>=1,EW36<=5),\"一括徴収\",\"\")","v":""},null,null,null,null,null,{"$f":"IF(AND(FC36>=1,FC36<=5),\"一括徴収\",\"\")","v":""},null,null,null,null,null,{"$f":"IF(AND(FI36>=1,FI36<=5),\"一括徴収\",\"\")","v":""},null,null,null,null,null,{"$f":"IF(AND(FO36>=1,FO36<=5),\"一括徴収\",\"\")","v":""},null,null,null,null,null,{"$f":"IF(AND(FU36>=1,FU36<=5),\"一括徴収\",\"\")","v":""},null,null,null,null,null,{"$f":"IF(AND(GA36>=1,GA36<=5),\"一括徴収\",\"\")","v":""},null,null,null,null,null,{"$f":"IF(AND(GG36>=1,GG36<=5),\"一括徴収\",\"\")","v":""},null,null,null,null,null,{"$f":"IF(AND(GM36>=1,GM36<=5),\"一括徴収\",\"\")","v":""},null,null,null,null,null,{"$f":"IF(AND(GS36>=1,GS36<=5),\"一括徴収\",\"\")","v":""},null,null,null,null,null,{"$f":"IF(AND(GY36>=1,GY36<=5),\"一括徴収\",\"\")","v":""},null,null,null,null,null,{"$f":"IF(AND(HE36>=1,HE36<=5),\"一括徴収\",\"\")","v":""},null,null,null,null,null,{"$f":"IF(AND(HK36>=1,HK36<=5),\"一括徴収\",\"\")","v":""},null,null,null,null,null,{"$f":"IF(AND(HQ36>=1,HQ36<=5),\"一括徴収\",\"\")","v":""},null,null,null,null,null,{"$f":"IF(AND(HW36>=1,HW36<=5),\"一括徴収\",\"\")","v":""},null,null,null,null,null,{"$f":"IF(AND(IC36>=1,IC36<=5),\"一括徴収\",\"\")","v":""},null,null,null,null,null,{"$f":"IF(AND(II36>=1,II36<=5),\"一括徴収\",\"\")","v":""}]
[null,{"$f":"IF(AND(M21<>\"\",M25<>\"\",O25<>\"\",Q25<>\"\"),M17,\"\")","v":""},"年号","today","生年","2　退職",{"$f":"IF(AND(I36>=6,I36<=12),\"一括徴収(本人希望)\",\"\")","v":""},null,null,null,null,null,{"$f":"IF(AND(O36>=6,O36<=12),\"一括徴収(本人希望)\",\"\")","v":""},null,null,null,null,null,{"$f":"IF(AND(U36>=6,U36<=12),\"一括徴収(本人希望)\",\"\")","v":""},null,null,null,null,null,{"$f":"IF(AND(AA36>=6,AA36<=12),\"一括徴収(本人希望)\",\"\")","v":""},null,null,null,null,null,{"$f":"IF(AND(AG36>=6,AG36<=12),\"一括徴収(本人希望)\",\"\")","v":""},null,null,null,null,null,{"$f":"IF(AND(AM36>=6,AM36<=12),\"一括徴収(本人希望)\",\"\")","v":""},null,null,null,null,null,{"$f":"IF(AND(AS36>=6,AS36<=12),\"一括徴収(本人希望)\",\"\")","v":""},null,null,null,null,null,{"$f":"IF(AND(AY36>=6,AY36<=12),\"一括徴収(本人希望)\",\"\")","v":""},null,null,null,null,null,{"$f":"IF(AND(BE36>=6,BE36<=12),\"一括徴収(本人希望)\",\"\")","v":""},null,null,null,null,null,{"$f":"IF(AND(BK36>=6,BK36<=12),\"一括徴収(本人希望)\",\"\")","v":""},null,null,null,null,null,{"$f":"IF(AND(BQ36>=6,BQ36<=12),\"一括徴収(本人希望)\",\"\")","v":""},null,null,null,null,null,{"$f":"IF(AND(BW36>=6,BW36<=12),\"一括徴収(本人希望)\",\"\")","v":""},null,null,null,null,null,{"$f":"IF(AND(CC36>=6,CC36<=12),\"一括徴収(本人希望)\",\"\")","v":""},null,null,null,null,null,{"$f":"IF(AND(CI36>=6,CI36<=12),\"一括徴収(本人希望)\",\"\")","v":""},null,null,null,null,null,{"$f":"IF(AND(CO36>=6,CO36<=12),\"一括徴収(本人希望)\",\"\")","v":""},null,null,null,null,null,{"$f":"IF(AND(CU36>=6,CU36<=12),\"一括徴収(本人希望)\",\"\")","v":""},null,null,null,null,null,{"$f":"IF(AND(DA36>=6,DA36<=12),\"一括徴収(本人希望)\",\"\")","v":""},null,null,null,null,null,{"$f":"IF(AND(DG36>=6,DG36<=12),\"一括徴収(本人希望)\",\"\")","v":""},null,null,null,null,null,{"$f":"IF(AND(DM36>=6,DM36<=12),\"一括徴収(本人希望)\",\"\")","v":""},null,null,null,null,null,{"$f":"IF(AND(DS36>=6,DS36<=12),\"一括徴収(本人希望)\",\"\")","v":""},null,null,null,null,null,{"$f":"IF(AND(DY36>=6,DY36<=12),\"一括徴収(本人希望)\",\"\")","v":""},null,null,null,null,null,{"$f":"IF(AND(EE36>=6,EE36<=12),\"一括徴収(本人希望)\",\"\")","v":""},null,null,null,null,null,{"$f":"IF(AND(EK36>=6,EK36<=12),\"一括徴収(本人希望)\",\"\")","v":""},null,null,null,null,null,{"$f":"IF(AND(EQ36>=6,EQ36<=12),\"一括徴収(本人希望)\",\"\")","v":""},null,null,null,null,null,{"$f":"IF(AND(EW36>=6,EW36<=12),\"一括徴収(本人希望)\",\"\")","v":""},null,null,null,null,null,{"$f":"IF(AND(FC36>=6,FC36<=12),\"一括徴収(本人希望)\",\"\")","v":""},null,null,null,null,null,{"$f":"IF(AND(FI36>=6,FI36<=12),\"一括徴収(本人希望)\",\"\")","v":""},null,null,null,null,null,{"$f":"IF(AND(FO36>=6,FO36<=12),\"一括徴収(本人希望)\",\"\")","v":""},null,null,null,null,null,{"$f":"IF(AND(FU36>=6,FU36<=12),\"一括徴収(本人希望)\",\"\")","v":""},null,null,null,null,null,{"$f":"IF(AND(GA36>=6,GA36<=12),\"一括徴収(本人希望)\",\"\")","v":""},null,null,null,null,null,{"$f":"IF(AND(GG36>=6,GG36<=12),\"一括徴収(本人希望)\",\"\")","v":""},null,null,null,null,null,{"$f":"IF(AND(GM36>=6,GM36<=12),\"一括徴収(本人希望)\",\"\")","v":""},null,null,null,null,null,{"$f":"IF(AND(GS36>=6,GS36<=12),\"一括徴収(本人希望)\",\"\")","v":""},null,null,null,null,null,{"$f":"IF(AND(GY36>=6,GY36<=12),\"一括徴収(本人希望)\",\"\")","v":""},null,null,null,null,null,{"$f":"IF(AND(HE36>=6,HE36<=12),\"一括徴収(本人希望)\",\"\")","v":""},null,null,null,null,null,{"$f":"IF(AND(HK36>=6,HK36<=12),\"一括徴収(本人希望)\",\"\")","v":""},null,null,null,null,null,{"$f":"IF(AND(HQ36>=6,HQ36<=12),\"一括徴収(本人希望)\",\"\")","v":""},null,null,null,null,null,{"$f":"IF(AND(HW36>=6,HW36<=12),\"一括徴収(本人希望)\",\"\")","v":""},null,null,null,null,null,{"$f":"IF(AND(IC36>=6,IC36<=12),\"一括徴収(本人希望)\",\"\")","v":""},null,null,null,null,null,{"$f":"IF(AND(II36>=6,II36<=12),\"一括徴収(本人希望)\",\"\")","v":""}]
[null,{"$f":"IF(AND(S21<>\"\",S25<>\"\",U25<>\"\",W25<>\"\"),S17,\"\")","v":""},null,{"$f":"TEXT(TODAY(),\"yyyy\")","v":"2022"},null,"3　死亡",{"$f":"IF(G37=$F$73,\"特別徴収継続(転勤・転籍)\",\"\")","v":""},null,null,null,null,null,{"$f":"IF(M37=$F$73,\"特別徴収継続(転勤・転籍)\",\"\")","v":""},null,null,null,null,null,{"$f":"IF(S37=$F$73,\"特別徴収継続(転勤・転籍)\",\"\")","v":""},null,null,null,null,null,{"$f":"IF(Y37=$F$73,\"特別徴収継続(転勤・転籍)\",\"\")","v":""},null,null,null,null,null,{"$f":"IF(AE37=$F$73,\"特別徴収継続(転勤・転籍)\",\"\")","v":""},null,null,null,null,null,{"$f":"IF(AK37=$F$73,\"特別徴収継続(転勤・転籍)\",\"\")","v":""},null,null,null,null,null,{"$f":"IF(AQ37=$F$73,\"特別徴収継続(転勤・転籍)\",\"\")","v":""},null,null,null,null,null,{"$f":"IF(AW37=$F$73,\"特別徴収継続(転勤・転籍)\",\"\")","v":""},null,null,null,null,null,{"$f":"IF(BC37=$F$73,\"特別徴収継続(転勤・転籍)\",\"\")","v":""},null,null,null,null,null,{"$f":"IF(BI37=$F$73,\"特別徴収継続(転勤・転籍)\",\"\")","v":""},null,null,null,null,null,{"$f":"IF(BO37=$F$73,\"特別徴収継続(転勤・転籍)\",\"\")","v":""},null,null,null,null,null,{"$f":"IF(BU37=$F$73,\"特別徴収継続(転勤・転籍)\",\"\")","v":""},null,null,null,null,null,{"$f":"IF(CA37=$F$73,\"特別徴収継続(転勤・転籍)\",\"\")","v":""},null,null,null,null,null,{"$f":"IF(CG37=$F$73,\"特別徴収継続(転勤・転籍)\",\"\")","v":""},null,null,null,null,null,{"$f":"IF(CM37=$F$73,\"特別徴収継続(転勤・転籍)\",\"\")","v":""},null,null,null,null,null,{"$f":"IF(CS37=$F$73,\"特別徴収継続(転勤・転籍)\",\"\")","v":""},null,null,null,null,null,{"$f":"IF(CY37=$F$73,\"特別徴収継続(転勤・転籍)\",\"\")","v":""},null,null,null,null,null,{"$f":"IF(DE37=$F$73,\"特別徴収継続(転勤・転籍)\",\"\")","v":""},null,null,null,null,null,{"$f":"IF(DK37=$F$73,\"特別徴収継続(転勤・転籍)\",\"\")","v":""},null,null,null,null,null,{"$f":"IF(DQ37=$F$73,\"特別徴収継続(転勤・転籍)\",\"\")","v":""},null,null,null,null,null,{"$f":"IF(DW37=$F$73,\"特別徴収継続(転勤・転籍)\",\"\")","v":""},null,null,null,null,null,{"$f":"IF(EC37=$F$73,\"特別徴収継続(転勤・転籍)\",\"\")","v":""},null,null,null,null,null,{"$f":"IF(EI37=$F$73,\"特別徴収継続(転勤・転籍)\",\"\")","v":""},null,null,null,null,null,{"$f":"IF(EO37=$F$73,\"特別徴収継続(転勤・転籍)\",\"\")","v":""},null,null,null,null,null,{"$f":"IF(EU37=$F$73,\"特別徴収継続(転勤・転籍)\",\"\")","v":""},null,null,null,null,null,{"$f":"IF(FA37=$F$73,\"特別徴収継続(転勤・転籍)\",\"\")","v":""},null,null,null,null,null,{"$f":"IF(FG37=$F$73,\"特別徴収継続(転勤・転籍)\",\"\")","v":""},null,null,null,null,null,{"$f":"IF(FM37=$F$73,\"特別徴収継続(転勤・転籍)\",\"\")","v":""},null,null,null,null,null,{"$f":"IF(FS37=$F$73,\"特別徴収継続(転勤・転籍)\",\"\")","v":""},null,null,null,null,null,{"$f":"IF(FY37=$F$73,\"特別徴収継続(転勤・転籍)\",\"\")","v":""},null,null,null,null,null,{"$f":"IF(GE37=$F$73,\"特別徴収継続(転勤・転籍)\",\"\")","v":""},null,null,null,null,null,{"$f":"IF(GK37=$F$73,\"特別徴収継続(転勤・転籍)\",\"\")","v":""},null,null,null,null,null,{"$f":"IF(GQ37=$F$73,\"特別徴収継続(転勤・転籍)\",\"\")","v":""},null,null,null,null,null,{"$f":"IF(GW37=$F$73,\"特別徴収継続(転勤・転籍)\",\"\")","v":""},null,null,null,null,null,{"$f":"IF(HC37=$F$73,\"特別徴収継続(転勤・転籍)\",\"\")","v":""},null,null,null,null,null,{"$f":"IF(HI37=$F$73,\"特別徴収継続(転勤・転籍)\",\"\")","v":""},null,null,null,null,null,{"$f":"IF(HO37=$F$73,\"特別徴収継続(転勤・転籍)\",\"\")","v":""},null,null,null,null,null,{"$f":"IF(HU37=$F$73,\"特別徴収継続(転勤・転籍)\",\"\")","v":""},null,null,null,null,null,{"$f":"IF(IA37=$F$73,\"特別徴収継続(転勤・転籍)\",\"\")","v":""},null,null,null,null,null,{"$f":"IF(IG37=$F$73,\"特別徴収継続(転勤・転籍)\",\"\")","v":""}]
[null,{"$f":"IF(AND(Y21<>\"\",Y25<>\"\",AA25<>\"\",AC25<>\"\"),Y17,\"\")","v":""},"平",{"$f":"IF(D75-2004>0,D75-2004,64)","v":18},{"$f":"C76&D76","v":"平18"},"4　休職",{"$f":"IF(OR(AND(I36>=6,I36<=12),G37=$F$75),\"普通徴収(本人が納付)\",IF(AND(I36>=1,I36<=5),\"普通徴収(本人が納付)\",\"\"))","v":""},null,null,null,null,null,{"$f":"IF(OR(AND(O36>=6,O36<=12),M37=$F$75),\"普通徴収(本人が納付)\",IF(AND(O36>=1,O36<=5),\"普通徴収(本人が納付)\",\"\"))","v":""},null,null,null,null,null,{"$f":"IF(OR(AND(U36>=6,U36<=12),S37=$F$75),\"普通徴収(本人が納付)\",IF(AND(U36>=1,U36<=5),\"普通徴収(本人が納付)\",\"\"))","v":""},null,null,null,null,null,{"$f":"IF(OR(AND(AA36>=6,AA36<=12),Y37=$F$75),\"普通徴収(本人が納付)\",IF(AND(AA36>=1,AA36<=5),\"普通徴収(本人が納付)\",\"\"))","v":""},null,null,null,null,null,{"$f":"IF(OR(AND(AG36>=6,AG36<=12),AE37=$F$75),\"普通徴収(本人が納付)\",IF(AND(AG36>=1,AG36<=5),\"普通徴収(本人が納付)\",\"\"))","v":""},null,null,null,null,null,{"$f":"IF(OR(AND(AM36>=6,AM36<=12),AK37=$F$75),\"普通徴収(本人が納付)\",IF(AND(AM36>=1,AM36<=5),\"普通徴収(本人が納付)\",\"\"))","v":""},null,null,null,null,null,{"$f":"IF(OR(AND(AS36>=6,AS36<=12),AQ37=$F$75),\"普通徴収(本人が納付)\",IF(AND(AS36>=1,AS36<=5),\"普通徴収(本人が納付)\",\"\"))","v":""},null,null,null,null,null,{"$f":"IF(OR(AND(AY36>=6,AY36<=12),AW37=$F$75),\"普通徴収(本人が納付)\",IF(AND(AY36>=1,AY36<=5),\"普通徴収(本人が納付)\",\"\"))","v":""},null,null,null,null,null,{"$f":"IF(OR(AND(BE36>=6,BE36<=12),BC37=$F$75),\"普通徴収(本人が納付)\",IF(AND(BE36>=1,BE36<=5),\"普通徴収(本人が納付)\",\"\"))","v":""},null,null,null,null,null,{"$f":"IF(OR(AND(BK36>=6,BK36<=12),BI37=$F$75),\"普通徴収(本人が納付)\",IF(AND(BK36>=1,BK36<=5),\"普通徴収(本人が納付)\",\"\"))","v":""},null,null,null,null,null,{"$f":"IF(OR(AND(BQ36>=6,BQ36<=12),BO37=$F$75),\"普通徴収(本人が納付)\",IF(AND(BQ36>=1,BQ36<=5),\"普通徴収(本人が納付)\",\"\"))","v":""},null,null,null,null,null,{"$f":"IF(OR(AND(BW36>=6,BW36<=12),BU37=$F$75),\"普通徴収(本人が納付)\",IF(AND(BW36>=1,BW36<=5),\"普通徴収(本人が納付)\",\"\"))","v":""},null,null,null,null,null,{"$f":"IF(OR(AND(CC36>=6,CC36<=12),CA37=$F$75),\"普通徴収(本人が納付)\",IF(AND(CC36>=1,CC36<=5),\"普通徴収(本人が納付)\",\"\"))","v":""},null,null,null,null,null,{"$f":"IF(OR(AND(CI36>=6,CI36<=12),CG37=$F$75),\"普通徴収(本人が納付)\",IF(AND(CI36>=1,CI36<=5),\"普通徴収(本人が納付)\",\"\"))","v":""},null,null,null,null,null,{"$f":"IF(OR(AND(CO36>=6,CO36<=12),CM37=$F$75),\"普通徴収(本人が納付)\",IF(AND(CO36>=1,CO36<=5),\"普通徴収(本人が納付)\",\"\"))","v":""},null,null,null,null,null,{"$f":"IF(OR(AND(CU36>=6,CU36<=12),CS37=$F$75),\"普通徴収(本人が納付)\",IF(AND(CU36>=1,CU36<=5),\"普通徴収(本人が納付)\",\"\"))","v":""},null,null,null,null,null,{"$f":"IF(OR(AND(DA36>=6,DA36<=12),CY37=$F$75),\"普通徴収(本人が納付)\",IF(AND(DA36>=1,DA36<=5),\"普通徴収(本人が納付)\",\"\"))","v":""},null,null,null,null,null,{"$f":"IF(OR(AND(DG36>=6,DG36<=12),DE37=$F$75),\"普通徴収(本人が納付)\",IF(AND(DG36>=1,DG36<=5),\"普通徴収(本人が納付)\",\"\"))","v":""},null,null,null,null,null,{"$f":"IF(OR(AND(DM36>=6,DM36<=12),DK37=$F$75),\"普通徴収(本人が納付)\",IF(AND(DM36>=1,DM36<=5),\"普通徴収(本人が納付)\",\"\"))","v":""},null,null,null,null,null,{"$f":"IF(OR(AND(DS36>=6,DS36<=12),DQ37=$F$75),\"普通徴収(本人が納付)\",IF(AND(DS36>=1,DS36<=5),\"普通徴収(本人が納付)\",\"\"))","v":""},null,null,null,null,null,{"$f":"IF(OR(AND(DY36>=6,DY36<=12),DW37=$F$75),\"普通徴収(本人が納付)\",IF(AND(DY36>=1,DY36<=5),\"普通徴収(本人が納付)\",\"\"))","v":""},null,null,null,null,null,{"$f":"IF(OR(AND(EE36>=6,EE36<=12),EC37=$F$75),\"普通徴収(本人が納付)\",IF(AND(EE36>=1,EE36<=5),\"普通徴収(本人が納付)\",\"\"))","v":""},null,null,null,null,null,{"$f":"IF(OR(AND(EK36>=6,EK36<=12),EI37=$F$75),\"普通徴収(本人が納付)\",IF(AND(EK36>=1,EK36<=5),\"普通徴収(本人が納付)\",\"\"))","v":""},null,null,null,null,null,{"$f":"IF(OR(AND(EQ36>=6,EQ36<=12),EO37=$F$75),\"普通徴収(本人が納付)\",IF(AND(EQ36>=1,EQ36<=5),\"普通徴収(本人が納付)\",\"\"))","v":""},null,null,null,null,null,{"$f":"IF(OR(AND(EW36>=6,EW36<=12),EU37=$F$75),\"普通徴収(本人が納付)\",IF(AND(EW36>=1,EW36<=5),\"普通徴収(本人が納付)\",\"\"))","v":""},null,null,null,null,null,{"$f":"IF(OR(AND(FC36>=6,FC36<=12),FA37=$F$75),\"普通徴収(本人が納付)\",IF(AND(FC36>=1,FC36<=5),\"普通徴収(本人が納付)\",\"\"))","v":""},null,null,null,null,null,{"$f":"IF(OR(AND(FI36>=6,FI36<=12),FG37=$F$75),\"普通徴収(本人が納付)\",IF(AND(FI36>=1,FI36<=5),\"普通徴収(本人が納付)\",\"\"))","v":""},null,null,null,null,null,{"$f":"IF(OR(AND(FO36>=6,FO36<=12),FM37=$F$75),\"普通徴収(本人が納付)\",IF(AND(FO36>=1,FO36<=5),\"普通徴収(本人が納付)\",\"\"))","v":""},null,null,null,null,null,{"$f":"IF(OR(AND(FU36>=6,FU36<=12),FS37=$F$75),\"普通徴収(本人が納付)\",IF(AND(FU36>=1,FU36<=5),\"普通徴収(本人が納付)\",\"\"))","v":""},null,null,null,null,null,{"$f":"IF(OR(AND(GA36>=6,GA36<=12),FY37=$F$75),\"普通徴収(本人が納付)\",IF(AND(GA36>=1,GA36<=5),\"普通徴収(本人が納付)\",\"\"))","v":""},null,null,null,null,null,{"$f":"IF(OR(AND(GG36>=6,GG36<=12),GE37=$F$75),\"普通徴収(本人が納付)\",IF(AND(GG36>=1,GG36<=5),\"普通徴収(本人が納付)\",\"\"))","v":""},null,null,null,null,null,{"$f":"IF(OR(AND(GM36>=6,GM36<=12),GK37=$F$75),\"普通徴収(本人が納付)\",IF(AND(GM36>=1,GM36<=5),\"普通徴収(本人が納付)\",\"\"))","v":""},null,null,null,null,null,{"$f":"IF(OR(AND(GS36>=6,GS36<=12),GQ37=$F$75),\"普通徴収(本人が納付)\",IF(AND(GS36>=1,GS36<=5),\"普通徴収(本人が納付)\",\"\"))","v":""},null,null,null,null,null,{"$f":"IF(OR(AND(GY36>=6,GY36<=12),GW37=$F$75),\"普通徴収(本人が納付)\",IF(AND(GY36>=1,GY36<=5),\"普通徴収(本人が納付)\",\"\"))","v":""},null,null,null,null,null,{"$f":"IF(OR(AND(HE36>=6,HE36<=12),HC37=$F$75),\"普通徴収(本人が納付)\",IF(AND(HE36>=1,HE36<=5),\"普通徴収(本人が納付)\",\"\"))","v":""},null,null,null,null,null,{"$f":"IF(OR(AND(HK36>=6,HK36<=12),HI37=$F$75),\"普通徴収(本人が納付)\",IF(AND(HK36>=1,HK36<=5),\"普通徴収(本人が納付)\",\"\"))","v":""},null,null,null,null,null,{"$f":"IF(OR(AND(HQ36>=6,HQ36<=12),HO37=$F$75),\"普通徴収(本人が納付)\",IF(AND(HQ36>=1,HQ36<=5),\"普通徴収(本人が納付)\",\"\"))","v":""},null,null,null,null,null,{"$f":"IF(OR(AND(HW36>=6,HW36<=12),HU37=$F$75),\"普通徴収(本人が納付)\",IF(AND(HW36>=1,HW36<=5),\"普通徴収(本人が納付)\",\"\"))","v":""},null,null,null,null,null,{"$f":"IF(OR(AND(IC36>=6,IC36<=12),IA37=$F$75),\"普通徴収(本人が納付)\",IF(AND(IC36>=1,IC36<=5),\"普通徴収(本人が納付)\",\"\"))","v":""},null,null,null,null,null,{"$f":"IF(OR(AND(II36>=6,II36<=12),IG37=$F$75),\"普通徴収(本人が納付)\",IF(AND(II36>=1,II36<=5),\"普通徴収(本人が納付)\",\"\"))","v":""}]
[null,{"$f":"IF(AND(AE21<>\"\",AE25<>\"\",AG25<>\"\",AI25<>\"\"),AE17,\"\")","v":""},{"$f":"IF(D77=64,\"昭\",IF(C76=\"昭\",\"昭\",\"平\"))","v":"平"},{"$f":"IF(D76-1>0,D76-1,64)","v":17},{"$f":"C77&D77","v":"平17"},"5　長欠","普徴理由",null,null,null,null,null,"普徴理由",null,null,null,null,null,"普徴理由",null,null,null,null,null,"普徴理由",null,null,null,null,null,"普徴理由",null,null,null,null,null,"普徴理由",null,null,null,null,null,"普徴理由",null,null,null,null,null,"普徴理由",null,null,null,null,null,"普徴理由",null,null,null,null,null,"普徴理由",null,null,null,null,null,"普徴理由",null,null,null,null,null,"普徴理由",null,null,null,null,null,"普徴理由",null,null,null,null,null,"普徴理由",null,null,null,null,null,"普徴理由",null,null,null,null,null,"普徴理由",null,null,null,null,null,"普徴理由",null,null,null,null,null,"普徴理由",null,null,null,null,null,"普徴理由",null,null,null,null,null,"普徴理由",null,null,null,null,null,"普徴理由",null,null,null,null,null,"普徴理由",null,null,null,null,null,"普徴理由",null,null,null,null,null,"普徴理由",null,null,null,null,null,"普徴理由",null,null,null,null,null,"普徴理由",null,null,null,null,null,"普徴理由",null,null,null,null,null,"普徴理由",null,null,null,null,null,"普徴理由",null,null,null,null,null,"普徴理由",null,null,null,null,null,"普徴理由",null,null,null,null,null,"普徴理由",null,null,null,null,null,"普徴理由",null,null,null,null,null,"普徴理由",null,null,null,null,null,"普徴理由",null,null,null,null,null,"普徴理由",null,null,null,null,null,"普徴理由",null,null,null,null,null,"普徴理由",null,null,null,null,null,"普徴理由",null,null,null,null,null,"普徴理由"]
[null,{"$f":"IF(AND(AK21<>\"\",AK25<>\"\",AM25<>\"\",AO25<>\"\"),AK17,\"\")","v":""},{"$f":"IF(D78=64,\"昭\",IF(C77=\"昭\",\"昭\",\"平\"))","v":"平"},{"$f":"IF(D77-1>0,D77-1,64)","v":16},"平16","6　支払少額",{"$f":"IF(AND(I36>=6,I36<=12,G45=G76),\"一括徴収の本人申出がないため\",\"\")","v":""},null,null,null,null,null,{"$f":"IF(AND(O36>=6,O36<=12,M45=M76),\"一括徴収の本人申出がないため\",\"\")","v":""},null,null,null,null,null,{"$f":"IF(AND(U36>=6,U36<=12,S45=S76),\"一括徴収の本人申出がないため\",\"\")","v":""},null,null,null,null,null,{"$f":"IF(AND(AA36>=6,AA36<=12,Y45=Y76),\"一括徴収の本人申出がないため\",\"\")","v":""},null,null,null,null,null,{"$f":"IF(AND(AG36>=6,AG36<=12,AE45=AE76),\"一括徴収の本人申出がないため\",\"\")","v":""},null,null,null,null,null,{"$f":"IF(AND(AM36>=6,AM36<=12,AK45=AK76),\"一括徴収の本人申出がないため\",\"\")","v":""},null,null,null,null,null,{"$f":"IF(AND(AS36>=6,AS36<=12,AQ45=AQ76),\"一括徴収の本人申出がないため\",\"\")","v":""},null,null,null,null,null,{"$f":"IF(AND(AY36>=6,AY36<=12,AW45=AW76),\"一括徴収の本人申出がないため\",\"\")","v":""},null,null,null,null,null,{"$f":"IF(AND(BE36>=6,BE36<=12,BC45=BC76),\"一括徴収の本人申出がないため\",\"\")","v":""},null,null,null,null,null,{"$f":"IF(AND(BK36>=6,BK36<=12,BI45=BI76),\"一括徴収の本人申出がないため\",\"\")","v":""},null,null,null,null,null,{"$f":"IF(AND(BQ36>=6,BQ36<=12,BO45=BO76),\"一括徴収の本人申出がないため\",\"\")","v":""},null,null,null,null,null,{"$f":"IF(AND(BW36>=6,BW36<=12,BU45=BU76),\"一括徴収の本人申出がないため\",\"\")","v":""},null,null,null,null,null,{"$f":"IF(AND(CC36>=6,CC36<=12,CA45=CA76),\"一括徴収の本人申出がないため\",\"\")","v":""},null,null,null,null,null,{"$f":"IF(AND(CI36>=6,CI36<=12,CG45=CG76),\"一括徴収の本人申出がないため\",\"\")","v":""},null,null,null,null,null,{"$f":"IF(AND(CO36>=6,CO36<=12,CM45=CM76),\"一括徴収の本人申出がないため\",\"\")","v":""},null,null,null,null,null,{"$f":"IF(AND(CU36>=6,CU36<=12,CS45=CS76),\"一括徴収の本人申出がないため\",\"\")","v":""},null,null,null,null,null,{"$f":"IF(AND(DA36>=6,DA36<=12,CY45=CY76),\"一括徴収の本人申出がないため\",\"\")","v":""},null,null,null,null,null,{"$f":"IF(AND(DG36>=6,DG36<=12,DE45=DE76),\"一括徴収の本人申出がないため\",\"\")","v":""},null,null,null,null,null,{"$f":"IF(AND(DM36>=6,DM36<=12,DK45=DK76),\"一括徴収の本人申出がないため\",\"\")","v":""},null,null,null,null,null,{"$f":"IF(AND(DS36>=6,DS36<=12,DQ45=DQ76),\"一括徴収の本人申出がないため\",\"\")","v":""},null,null,null,null,null,{"$f":"IF(AND(DY36>=6,DY36<=12,DW45=DW76),\"一括徴収の本人申出がないため\",\"\")","v":""},null,null,null,null,null,{"$f":"IF(AND(EE36>=6,EE36<=12,EC45=EC76),\"一括徴収の本人申出がないため\",\"\")","v":""},null,null,null,null,null,{"$f":"IF(AND(EK36>=6,EK36<=12,EI45=EI76),\"一括徴収の本人申出がないため\",\"\")","v":""},null,null,null,null,null,{"$f":"IF(AND(EQ36>=6,EQ36<=12,EO45=EO76),\"一括徴収の本人申出がないため\",\"\")","v":""},null,null,null,null,null,{"$f":"IF(AND(EW36>=6,EW36<=12,EU45=EU76),\"一括徴収の本人申出がないため\",\"\")","v":""},null,null,null,null,null,{"$f":"IF(AND(FC36>=6,FC36<=12,FA45=FA76),\"一括徴収の本人申出がないため\",\"\")","v":""},null,null,null,null,null,{"$f":"IF(AND(FI36>=6,FI36<=12,FG45=FG76),\"一括徴収の本人申出がないため\",\"\")","v":""},null,null,null,null,null,{"$f":"IF(AND(FO36>=6,FO36<=12,FM45=FM76),\"一括徴収の本人申出がないため\",\"\")","v":""},null,null,null,null,null,{"$f":"IF(AND(FU36>=6,FU36<=12,FS45=FS76),\"一括徴収の本人申出がないため\",\"\")","v":""},null,null,null,null,null,{"$f":"IF(AND(GA36>=6,GA36<=12,FY45=FY76),\"一括徴収の本人申出がないため\",\"\")","v":""},null,null,null,null,null,{"$f":"IF(AND(GG36>=6,GG36<=12,GE45=GE76),\"一括徴収の本人申出がないため\",\"\")","v":""},null,null,null,null,null,{"$f":"IF(AND(GM36>=6,GM36<=12,GK45=GK76),\"一括徴収の本人申出がないため\",\"\")","v":""},null,null,null,null,null,{"$f":"IF(AND(GS36>=6,GS36<=12,GQ45=GQ76),\"一括徴収の本人申出がないため\",\"\")","v":""},null,null,null,null,null,{"$f":"IF(AND(GY36>=6,GY36<=12,GW45=GW76),\"一括徴収の本人申出がないため\",\"\")","v":""},null,null,null,null,null,{"$f":"IF(AND(HE36>=6,HE36<=12,HC45=HC76),\"一括徴収の本人申出がないため\",\"\")","v":""},null,null,null,null,null,{"$f":"IF(AND(HK36>=6,HK36<=12,HI45=HI76),\"一括徴収の本人申出がないため\",\"\")","v":""},null,null,null,null,null,{"$f":"IF(AND(HQ36>=6,HQ36<=12,HO45=HO76),\"一括徴収の本人申出がないため\",\"\")","v":""},null,null,null,null,null,{"$f":"IF(AND(HW36>=6,HW36<=12,HU45=HU76),\"一括徴収の本人申出がないため\",\"\")","v":""},null,null,null,null,null,{"$f":"IF(AND(IC36>=6,IC36<=12,IA45=IA76),\"一括徴収の本人申出がないため\",\"\")","v":""},null,null,null,null,null,{"$f":"IF(AND(II36>=6,II36<=12,IG45=IG76),\"一括徴収の本人申出がないため\",\"\")","v":""}]
[null,{"$f":"IF(AND(AQ21<>\"\",AQ25<>\"\",AS25<>\"\",AU25<>\"\"),AQ17,\"\")","v":""},"平",{"$f":"IF(D78-1>0,D78-1,64)","v":15},"平15","7　支払不定期",{"$f":"IF(G45=G76,\"給与及び退職手当等から未徴収税額を一括徴収できないため\",\"\")","v":"給与及び退職手当等から未徴収税額を一括徴収できないため"},null,null,null,null,null,{"$f":"IF(M45=M76,\"給与及び退職手当等から未徴収税額を一括徴収できないため\",\"\")","v":"給与及び退職手当等から未徴収税額を一括徴収できないため"},null,null,null,null,null,{"$f":"IF(S45=S76,\"給与及び退職手当等から未徴収税額を一括徴収できないため\",\"\")","v":"給与及び退職手当等から未徴収税額を一括徴収できないため"},null,null,null,null,null,{"$f":"IF(Y45=Y76,\"給与及び退職手当等から未徴収税額を一括徴収できないため\",\"\")","v":"給与及び退職手当等から未徴収税額を一括徴収できないため"},null,null,null,null,null,{"$f":"IF(AE45=AE76,\"給与及び退職手当等から未徴収税額を一括徴収できないため\",\"\")","v":"給与及び退職手当等から未徴収税額を一括徴収できないため"},null,null,null,null,null,{"$f":"IF(AK45=AK76,\"給与及び退職手当等から未徴収税額を一括徴収できないため\",\"\")","v":"給与及び退職手当等から未徴収税額を一括徴収できないため"},null,null,null,null,null,{"$f":"IF(AQ45=AQ76,\"給与及び退職手当等から未徴収税額を一括徴収できないため\",\"\")","v":"給与及び退職手当等から未徴収税額を一括徴収できないため"},null,null,null,null,null,{"$f":"IF(AW45=AW76,\"給与及び退職手当等から未徴収税額を一括徴収できないため\",\"\")","v":"給与及び退職手当等から未徴収税額を一括徴収できないため"},null,null,null,null,null,{"$f":"IF(BC45=BC76,\"給与及び退職手当等から未徴収税額を一括徴収できないため\",\"\")","v":"給与及び退職手当等から未徴収税額を一括徴収できないため"},null,null,null,null,null,{"$f":"IF(BI45=BI76,\"給与及び退職手当等から未徴収税額を一括徴収できないため\",\"\")","v":"給与及び退職手当等から未徴収税額を一括徴収できないため"},null,null,null,null,null,{"$f":"IF(BO45=BO76,\"給与及び退職手当等から未徴収税額を一括徴収できないため\",\"\")","v":"給与及び退職手当等から未徴収税額を一括徴収できないため"},null,null,null,null,null,{"$f":"IF(BU45=BU76,\"給与及び退職手当等から未徴収税額を一括徴収できないため\",\"\")","v":"給与及び退職手当等から未徴収税額を一括徴収できないため"},null,null,null,null,null,{"$f":"IF(CA45=CA76,\"給与及び退職手当等から未徴収税額を一括徴収できないため\",\"\")","v":"給与及び退職手当等から未徴収税額を一括徴収できないため"},null,null,null,null,null,{"$f":"IF(CG45=CG76,\"給与及び退職手当等から未徴収税額を一括徴収できないため\",\"\")","v":"給与及び退職手当等から未徴収税額を一括徴収できないため"},null,null,null,null,null,{"$f":"IF(CM45=CM76,\"給与及び退職手当等から未徴収税額を一括徴収できないため\",\"\")","v":"給与及び退職手当等から未徴収税額を一括徴収できないため"},null,null,null,null,null,{"$f":"IF(CS45=CS76,\"給与及び退職手当等から未徴収税額を一括徴収できないため\",\"\")","v":"給与及び退職手当等から未徴収税額を一括徴収できないため"},null,null,null,null,null,{"$f":"IF(CY45=CY76,\"給与及び退職手当等から未徴収税額を一括徴収できないため\",\"\")","v":"給与及び退職手当等から未徴収税額を一括徴収できないため"},null,null,null,null,null,{"$f":"IF(DE45=DE76,\"給与及び退職手当等から未徴収税額を一括徴収できないため\",\"\")","v":"給与及び退職手当等から未徴収税額を一括徴収できないため"},null,null,null,null,null,{"$f":"IF(DK45=DK76,\"給与及び退職手当等から未徴収税額を一括徴収できないため\",\"\")","v":"給与及び退職手当等から未徴収税額を一括徴収できないため"},null,null,null,null,null,{"$f":"IF(DQ45=DQ76,\"給与及び退職手当等から未徴収税額を一括徴収できないため\",\"\")","v":"給与及び退職手当等から未徴収税額を一括徴収できないため"},null,null,null,null,null,{"$f":"IF(DW45=DW76,\"給与及び退職手当等から未徴収税額を一括徴収できないため\",\"\")","v":"給与及び退職手当等から未徴収税額を一括徴収できないため"},null,null,null,null,null,{"$f":"IF(EC45=EC76,\"給与及び退職手当等から未徴収税額を一括徴収できないため\",\"\")","v":"給与及び退職手当等から未徴収税額を一括徴収できないため"},null,null,null,null,null,{"$f":"IF(EI45=EI76,\"給与及び退職手当等から未徴収税額を一括徴収できないため\",\"\")","v":"給与及び退職手当等から未徴収税額を一括徴収できないため"},null,null,null,null,null,{"$f":"IF(EO45=EO76,\"給与及び退職手当等から未徴収税額を一括徴収できないため\",\"\")","v":"給与及び退職手当等から未徴収税額を一括徴収できないため"},null,null,null,null,null,{"$f":"IF(EU45=EU76,\"給与及び退職手当等から未徴収税額を一括徴収できないため\",\"\")","v":"給与及び退職手当等から未徴収税額を一括徴収できないため"},null,null,null,null,null,{"$f":"IF(FA45=FA76,\"給与及び退職手当等から未徴収税額を一括徴収できないため\",\"\")","v":"給与及び退職手当等から未徴収税額を一括徴収できないため"},null,null,null,null,null,{"$f":"IF(FG45=FG76,\"給与及び退職手当等から未徴収税額を一括徴収できないため\",\"\")","v":"給与及び退職手当等から未徴収税額を一括徴収できないため"},null,null,null,null,null,{"$f":"IF(FM45=FM76,\"給与及び退職手当等から未徴収税額を一括徴収できないため\",\"\")","v":"給与及び退職手当等から未徴収税額を一括徴収できないため"},null,null,null,null,null,{"$f":"IF(FS45=FS76,\"給与及び退職手当等から未徴収税額を一括徴収できないため\",\"\")","v":"給与及び退職手当等から未徴収税額を一括徴収できないため"},null,null,null,null,null,{"$f":"IF(FY45=FY76,\"給与及び退職手当等から未徴収税額を一括徴収できないため\",\"\")","v":"給与及び退職手当等から未徴収税額を一括徴収できないため"},null,null,null,null,null,{"$f":"IF(GE45=GE76,\"給与及び退職手当等から未徴収税額を一括徴収できないため\",\"\")","v":"給与及び退職手当等から未徴収税額を一括徴収できないため"},null,null,null,null,null,{"$f":"IF(GK45=GK76,\"給与及び退職手当等から未徴収税額を一括徴収できないため\",\"\")","v":"給与及び退職手当等から未徴収税額を一括徴収できないため"},null,null,null,null,null,{"$f":"IF(GQ45=GQ76,\"給与及び退職手当等から未徴収税額を一括徴収できないため\",\"\")","v":"給与及び退職手当等から未徴収税額を一括徴収できないため"},null,null,null,null,null,{"$f":"IF(GW45=GW76,\"給与及び退職手当等から未徴収税額を一括徴収できないため\",\"\")","v":"給与及び退職手当等から未徴収税額を一括徴収できないため"},null,null,null,null,null,{"$f":"IF(HC45=HC76,\"給与及び退職手当等から未徴収税額を一括徴収できないため\",\"\")","v":"給与及び退職手当等から未徴収税額を一括徴収できないため"},null,null,null,null,null,{"$f":"IF(HI45=HI76,\"給与及び退職手当等から未徴収税額を一括徴収できないため\",\"\")","v":"給与及び退職手当等から未徴収税額を一括徴収できないため"},null,null,null,null,null,{"$f":"IF(HO45=HO76,\"給与及び退職手当等から未徴収税額を一括徴収できないため\",\"\")","v":"給与及び退職手当等から未徴収税額を一括徴収できないため"},null,null,null,null,null,{"$f":"IF(HU45=HU76,\"給与及び退職手当等から未徴収税額を一括徴収できないため\",\"\")","v":"給与及び退職手当等から未徴収税額を一括徴収できないため"},null,null,null,null,null,{"$f":"IF(IA45=IA76,\"給与及び退職手当等から未徴収税額を一括徴収できないため\",\"\")","v":"給与及び退職手当等から未徴収税額を一括徴収できないため"},null,null,null,null,null,{"$f":"IF(IG45=IG76,\"給与及び退職手当等から未徴収税額を一括徴収できないため\",\"\")","v":"給与及び退職手当等から未徴収税額を一括徴収できないため"}]
[null,{"$f":"IF(AND(AW21<>\"\",AW25<>\"\",AY25<>\"\",BA25<>\"\"),AW17,\"\")","v":""},"平",{"$f":"IF(D79-1>0,D79-1,64)","v":14},"平14","8　その他",{"$f":"IF(AND(G37=$F$75,G45=G76),\"死亡による退職のため\",\"\")","v":""},null,null,null,null,null,{"$f":"IF(AND(M37=$F$75,M45=M76),\"死亡による退職のため\",\"\")","v":""},null,null,null,null,null,{"$f":"IF(AND(S37=$F$75,S45=S76),\"死亡による退職のため\",\"\")","v":""},null,null,null,null,null,{"$f":"IF(AND(Y37=$F$75,Y45=Y76),\"死亡による退職のため\",\"\")","v":""},null,null,null,null,null,{"$f":"IF(AND(AE37=$F$75,AE45=AE76),\"死亡による退職のため\",\"\")","v":""},null,null,null,null,null,{"$f":"IF(AND(AK37=$F$75,AK45=AK76),\"死亡による退職のため\",\"\")","v":""},null,null,null,null,null,{"$f":"IF(AND(AQ37=$F$75,AQ45=AQ76),\"死亡による退職のため\",\"\")","v":""},null,null,null,null,null,{"$f":"IF(AND(AW37=$F$75,AW45=AW76),\"死亡による退職のため\",\"\")","v":""},null,null,null,null,null,{"$f":"IF(AND(BC37=$F$75,BC45=BC76),\"死亡による退職のため\",\"\")","v":""},null,null,null,null,null,{"$f":"IF(AND(BI37=$F$75,BI45=BI76),\"死亡による退職のため\",\"\")","v":""},null,null,null,null,null,{"$f":"IF(AND(BO37=$F$75,BO45=BO76),\"死亡による退職のため\",\"\")","v":""},null,null,null,null,null,{"$f":"IF(AND(BU37=$F$75,BU45=BU76),\"死亡による退職のため\",\"\")","v":""},null,null,null,null,null,{"$f":"IF(AND(CA37=$F$75,CA45=CA76),\"死亡による退職のため\",\"\")","v":""},null,null,null,null,null,{"$f":"IF(AND(CG37=$F$75,CG45=CG76),\"死亡による退職のため\",\"\")","v":""},null,null,null,null,null,{"$f":"IF(AND(CM37=$F$75,CM45=CM76),\"死亡による退職のため\",\"\")","v":""},null,null,null,null,null,{"$f":"IF(AND(CS37=$F$75,CS45=CS76),\"死亡による退職のため\",\"\")","v":""},null,null,null,null,null,{"$f":"IF(AND(CY37=$F$75,CY45=CY76),\"死亡による退職のため\",\"\")","v":""},null,null,null,null,null,{"$f":"IF(AND(DE37=$F$75,DE45=DE76),\"死亡による退職のため\",\"\")","v":""},null,null,null,null,null,{"$f":"IF(AND(DK37=$F$75,DK45=DK76),\"死亡による退職のため\",\"\")","v":""},null,null,null,null,null,{"$f":"IF(AND(DQ37=$F$75,DQ45=DQ76),\"死亡による退職のため\",\"\")","v":""},null,null,null,null,null,{"$f":"IF(AND(DW37=$F$75,DW45=DW76),\"死亡による退職のため\",\"\")","v":""},null,null,null,null,null,{"$f":"IF(AND(EC37=$F$75,EC45=EC76),\"死亡による退職のため\",\"\")","v":""},null,null,null,null,null,{"$f":"IF(AND(EI37=$F$75,EI45=EI76),\"死亡による退職のため\",\"\")","v":""},null,null,null,null,null,{"$f":"IF(AND(EO37=$F$75,EO45=EO76),\"死亡による退職のため\",\"\")","v":""},null,null,null,null,null,{"$f":"IF(AND(EU37=$F$75,EU45=EU76),\"死亡による退職のため\",\"\")","v":""},null,null,null,null,null,{"$f":"IF(AND(FA37=$F$75,FA45=FA76),\"死亡による退職のため\",\"\")","v":""},null,null,null,null,null,{"$f":"IF(AND(FG37=$F$75,FG45=FG76),\"死亡による退職のため\",\"\")","v":""},null,null,null,null,null,{"$f":"IF(AND(FM37=$F$75,FM45=FM76),\"死亡による退職のため\",\"\")","v":""},null,null,null,null,null,{"$f":"IF(AND(FS37=$F$75,FS45=FS76),\"死亡による退職のため\",\"\")","v":""},null,null,null,null,null,{"$f":"IF(AND(FY37=$F$75,FY45=FY76),\"死亡による退職のため\",\"\")","v":""},null,null,null,null,null,{"$f":"IF(AND(GE37=$F$75,GE45=GE76),\"死亡による退職のため\",\"\")","v":""},null,null,null,null,null,{"$f":"IF(AND(GK37=$F$75,GK45=GK76),\"死亡による退職のため\",\"\")","v":""},null,null,null,null,null,{"$f":"IF(AND(GQ37=$F$75,GQ45=GQ76),\"死亡による退職のため\",\"\")","v":""},null,null,null,null,null,{"$f":"IF(AND(GW37=$F$75,GW45=GW76),\"死亡による退職のため\",\"\")","v":""},null,null,null,null,null,{"$f":"IF(AND(HC37=$F$75,HC45=HC76),\"死亡による退職のため\",\"\")","v":""},null,null,null,null,null,{"$f":"IF(AND(HI37=$F$75,HI45=HI76),\"死亡による退職のため\",\"\")","v":""},null,null,null,null,null,{"$f":"IF(AND(HO37=$F$75,HO45=HO76),\"死亡による退職のため\",\"\")","v":""},null,null,null,null,null,{"$f":"IF(AND(HU37=$F$75,HU45=HU76),\"死亡による退職のため\",\"\")","v":""},null,null,null,null,null,{"$f":"IF(AND(IA37=$F$75,IA45=IA76),\"死亡による退職のため\",\"\")","v":""},null,null,null,null,null,{"$f":"IF(AND(IG37=$F$75,IG45=IG76),\"死亡による退職のため\",\"\")","v":""}]
[null,{"$f":"IF(AND(BC21<>\"\",BC25<>\"\",BE25<>\"\",BG25<>\"\"),BC17,\"\")","v":""},{"$f":"IF(D81=64,\"昭\",IF(C80=\"昭\",\"昭\",\"平\"))","v":"平"},{"$f":"IF(D80-1>0,D80-1,64)","v":13},"平13","納入書の要否"]
[null,{"$f":"IF(AND(BI21<>\"\",BI25<>\"\",BK25<>\"\",BM25<>\"\"),BI17,\"\")","v":""},"平",12,"平12","1　必要","済月","納月","開月",null,null,null,"済月","納月","開月",null,null,null,"済月","納月","開月",null,null,null,"済月","納月","開月",null,null,null,"済月","納月","開月",null,null,null,"済月","納月","開月",null,null,null,"済月","納月","開月",null,null,null,"済月","納月","開月",null,null,null,"済月","納月","開月",null,null,null,"済月","納月","開月",null,null,null,"済月","納月","開月",null,null,null,"済月","納月","開月",null,null,null,"済月","納月","開月",null,null,null,"済月","納月","開月",null,null,null,"済月","納月","開月",null,null,null,"済月","納月","開月",null,null,null,"済月","納月","開月",null,null,null,"済月","納月","開月",null,null,null,"済月","納月","開月",null,null,null,"済月","納月","開月",null,null,null,"済月","納月","開月",null,null,null,"済月","納月","開月",null,null,null,"済月","納月","開月",null,null,null,"済月","納月","開月",null,null,null,"済月","納月","開月",null,null,null,"済月","納月","開月",null,null,null,"済月","納月","開月",null,null,null,"済月","納月","開月",null,null,null,"済月","納月","開月",null,null,null,"済月","納月","開月",null,null,null,"済月","納月","開月",null,null,null,"済月","納月","開月",null,null,null,"済月","納月","開月",null,null,null,"済月","納月","開月",null,null,null,"済月","納月","開月",null,null,null,"済月","納月","開月",null,null,null,"済月","納月","開月",null,null,null,"済月","納月","開月",null,null,null,"済月","納月","開月",null,null,null,"済月","納月","開月"]
[null,{"$f":"IF(AND(BO21<>\"\",BO25<>\"\",BQ25<>\"\",BS25<>\"\"),BO17,\"\")","v":""},"平",11,"平11","2　不要",{"$f":"IF(OR(G84=\"\",G$41=7),\"\",6)","v":6},{"$f":"IF(OR(H84=\"\",J$41=4),\"\",IF(AND(I$36>=1,I$36<=4,G$36=31),\"平成\"&30&\"年\"&6,IF(AND(I$36=5,G$36=\"元\"),\"平成\"&30&\"年\"&6,IF(AND(I$36>=6,G$36=\"元\"),\"令和元年\"&6,IF(AND(I$36>=1,I$36<=5,G$36=2),\"令和元年\"&6,(IF((AND(I$36>=1,I$36<=5)),\"令和\"&G$36-1&\"年\"&6,\"令和\"&G$36&\"年\"&6)))))))","v":"令和年6"},{"$f":"IF(OR(H84=\"\",J$41=4),\"\",IF(AND(I$36>=1,I$36<=4,G$36=31),\"平成\"&30&\"年\"&6,IF(AND(I$36=5,G$36=\"元\"),\"平成\"&30&\"年\"&6,IF(AND(I$36>=6,G$36=\"元\"),\"令和元年\"&6,IF(AND(I$36>=1,I$36<=5,G$36=2),\"令和元年\"&6,(IF((AND(I$36>=1,I$36<=5)),\"令和\"&G$36-1&\"年\"&6,\"令和\"&G$36&\"年\"&6)))))))","v":"令和年6"},null,null,null,{"$f":"IF(OR(M84=\"\",M$41=7),\"\",6)","v":6},{"$f":"IF(OR(N84=\"\",P$41=4),\"\",IF(AND(O$36>=1,O$36<=4,M$36=31),\"平成\"&30&\"年\"&6,IF(AND(O$36=5,M$36=\"元\"),\"平成\"&30&\"年\"&6,IF(AND(O$36>=6,M$36=\"元\"),\"令和元年\"&6,IF(AND(O$36>=1,O$36<=5,M$36=2),\"令和元年\"&6,(IF((AND(O$36>=1,O$36<=5)),\"令和\"&M$36-1&\"年\"&6,\"令和\"&M$36&\"年\"&6)))))))","v":"令和年6"},{"$f":"IF(OR(N84=\"\",P$41=4),\"\",IF(AND(O$36>=1,O$36<=4,M$36=31),\"平成\"&30&\"年\"&6,IF(AND(O$36=5,M$36=\"元\"),\"平成\"&30&\"年\"&6,IF(AND(O$36>=6,M$36=\"元\"),\"令和元年\"&6,IF(AND(O$36>=1,O$36<=5,M$36=2),\"令和元年\"&6,(IF((AND(O$36>=1,O$36<=5)),\"令和\"&M$36-1&\"年\"&6,\"令和\"&M$36&\"年\"&6)))))))","v":"令和年6"},null,null,null,{"$f":"IF(OR(S84=\"\",S$41=7),\"\",6)","v":6},{"$f":"IF(OR(T84=\"\",V$41=4),\"\",IF(AND(U$36>=1,U$36<=4,S$36=31),\"平成\"&30&\"年\"&6,IF(AND(U$36=5,S$36=\"元\"),\"平成\"&30&\"年\"&6,IF(AND(U$36>=6,S$36=\"元\"),\"令和元年\"&6,IF(AND(U$36>=1,U$36<=5,S$36=2),\"令和元年\"&6,(IF((AND(U$36>=1,U$36<=5)),\"令和\"&S$36-1&\"年\"&6,\"令和\"&S$36&\"年\"&6)))))))","v":"令和年6"},{"$f":"IF(OR(T84=\"\",V$41=4),\"\",IF(AND(U$36>=1,U$36<=4,S$36=31),\"平成\"&30&\"年\"&6,IF(AND(U$36=5,S$36=\"元\"),\"平成\"&30&\"年\"&6,IF(AND(U$36>=6,S$36=\"元\"),\"令和元年\"&6,IF(AND(U$36>=1,U$36<=5,S$36=2),\"令和元年\"&6,(IF((AND(U$36>=1,U$36<=5)),\"令和\"&S$36-1&\"年\"&6,\"令和\"&S$36&\"年\"&6)))))))","v":"令和年6"},null,null,null,{"$f":"IF(OR(Y84=\"\",Y$41=7),\"\",6)","v":6},{"$f":"IF(OR(Z84=\"\",AB$41=4),\"\",IF(AND(AA$36>=1,AA$36<=4,Y$36=31),\"平成\"&30&\"年\"&6,IF(AND(AA$36=5,Y$36=\"元\"),\"平成\"&30&\"年\"&6,IF(AND(AA$36>=6,Y$36=\"元\"),\"令和元年\"&6,IF(AND(AA$36>=1,AA$36<=5,Y$36=2),\"令和元年\"&6,(IF((AND(AA$36>=1,AA$36<=5)),\"令和\"&Y$36-1&\"年\"&6,\"令和\"&Y$36&\"年\"&6)))))))","v":"令和年6"},{"$f":"IF(OR(Z84=\"\",AB$41=4),\"\",IF(AND(AA$36>=1,AA$36<=4,Y$36=31),\"平成\"&30&\"年\"&6,IF(AND(AA$36=5,Y$36=\"元\"),\"平成\"&30&\"年\"&6,IF(AND(AA$36>=6,Y$36=\"元\"),\"令和元年\"&6,IF(AND(AA$36>=1,AA$36<=5,Y$36=2),\"令和元年\"&6,(IF((AND(AA$36>=1,AA$36<=5)),\"令和\"&Y$36-1&\"年\"&6,\"令和\"&Y$36&\"年\"&6)))))))","v":"令和年6"},null,null,null,{"$f":"IF(OR(AE84=\"\",AE$41=7),\"\",6)","v":6},{"$f":"IF(OR(AF84=\"\",AH$41=4),\"\",IF(AND(AG$36>=1,AG$36<=4,AE$36=31),\"平成\"&30&\"年\"&6,IF(AND(AG$36=5,AE$36=\"元\"),\"平成\"&30&\"年\"&6,IF(AND(AG$36>=6,AE$36=\"元\"),\"令和元年\"&6,IF(AND(AG$36>=1,AG$36<=5,AE$36=2),\"令和元年\"&6,(IF((AND(AG$36>=1,AG$36<=5)),\"令和\"&AE$36-1&\"年\"&6,\"令和\"&AE$36&\"年\"&6)))))))","v":"令和年6"},{"$f":"IF(OR(AF84=\"\",AH$41=4),\"\",IF(AND(AG$36>=1,AG$36<=4,AE$36=31),\"平成\"&30&\"年\"&6,IF(AND(AG$36=5,AE$36=\"元\"),\"平成\"&30&\"年\"&6,IF(AND(AG$36>=6,AE$36=\"元\"),\"令和元年\"&6,IF(AND(AG$36>=1,AG$36<=5,AE$36=2),\"令和元年\"&6,(IF((AND(AG$36>=1,AG$36<=5)),\"令和\"&AE$36-1&\"年\"&6,\"令和\"&AE$36&\"年\"&6)))))))","v":"令和年6"},null,null,null,{"$f":"IF(OR(AK84=\"\",AK$41=7),\"\",6)","v":6},{"$f":"IF(OR(AL84=\"\",AN$41=4),\"\",IF(AND(AM$36>=1,AM$36<=4,AK$36=31),\"平成\"&30&\"年\"&6,IF(AND(AM$36=5,AK$36=\"元\"),\"平成\"&30&\"年\"&6,IF(AND(AM$36>=6,AK$36=\"元\"),\"令和元年\"&6,IF(AND(AM$36>=1,AM$36<=5,AK$36=2),\"令和元年\"&6,(IF((AND(AM$36>=1,AM$36<=5)),\"令和\"&AK$36-1&\"年\"&6,\"令和\"&AK$36&\"年\"&6)))))))","v":"令和年6"},{"$f":"IF(OR(AL84=\"\",AN$41=4),\"\",IF(AND(AM$36>=1,AM$36<=4,AK$36=31),\"平成\"&30&\"年\"&6,IF(AND(AM$36=5,AK$36=\"元\"),\"平成\"&30&\"年\"&6,IF(AND(AM$36>=6,AK$36=\"元\"),\"令和元年\"&6,IF(AND(AM$36>=1,AM$36<=5,AK$36=2),\"令和元年\"&6,(IF((AND(AM$36>=1,AM$36<=5)),\"令和\"&AK$36-1&\"年\"&6,\"令和\"&AK$36&\"年\"&6)))))))","v":"令和年6"},null,null,null,{"$f":"IF(OR(AQ84=\"\",AQ$41=7),\"\",6)","v":6},{"$f":"IF(OR(AR84=\"\",AT$41=4),\"\",IF(AND(AS$36>=1,AS$36<=4,AQ$36=31),\"平成\"&30&\"年\"&6,IF(AND(AS$36=5,AQ$36=\"元\"),\"平成\"&30&\"年\"&6,IF(AND(AS$36>=6,AQ$36=\"元\"),\"令和元年\"&6,IF(AND(AS$36>=1,AS$36<=5,AQ$36=2),\"令和元年\"&6,(IF((AND(AS$36>=1,AS$36<=5)),\"令和\"&AQ$36-1&\"年\"&6,\"令和\"&AQ$36&\"年\"&6)))))))","v":"令和年6"},{"$f":"IF(OR(AR84=\"\",AT$41=4),\"\",IF(AND(AS$36>=1,AS$36<=4,AQ$36=31),\"平成\"&30&\"年\"&6,IF(AND(AS$36=5,AQ$36=\"元\"),\"平成\"&30&\"年\"&6,IF(AND(AS$36>=6,AQ$36=\"元\"),\"令和元年\"&6,IF(AND(AS$36>=1,AS$36<=5,AQ$36=2),\"令和元年\"&6,(IF((AND(AS$36>=1,AS$36<=5)),\"令和\"&AQ$36-1&\"年\"&6,\"令和\"&AQ$36&\"年\"&6)))))))","v":"令和年6"},null,null,null,{"$f":"IF(OR(AW84=\"\",AW$41=7),\"\",6)","v":6},{"$f":"IF(OR(AX84=\"\",AZ$41=4),\"\",IF(AND(AY$36>=1,AY$36<=4,AW$36=31),\"平成\"&30&\"年\"&6,IF(AND(AY$36=5,AW$36=\"元\"),\"平成\"&30&\"年\"&6,IF(AND(AY$36>=6,AW$36=\"元\"),\"令和元年\"&6,IF(AND(AY$36>=1,AY$36<=5,AW$36=2),\"令和元年\"&6,(IF((AND(AY$36>=1,AY$36<=5)),\"令和\"&AW$36-1&\"年\"&6,\"令和\"&AW$36&\"年\"&6)))))))","v":"令和年6"},{"$f":"IF(OR(AX84=\"\",AZ$41=4),\"\",IF(AND(AY$36>=1,AY$36<=4,AW$36=31),\"平成\"&30&\"年\"&6,IF(AND(AY$36=5,AW$36=\"元\"),\"平成\"&30&\"年\"&6,IF(AND(AY$36>=6,AW$36=\"元\"),\"令和元年\"&6,IF(AND(AY$36>=1,AY$36<=5,AW$36=2),\"令和元年\"&6,(IF((AND(AY$36>=1,AY$36<=5)),\"令和\"&AW$36-1&\"年\"&6,\"令和\"&AW$36&\"年\"&6)))))))","v":"令和年6"},null,null,null,{"$f":"IF(OR(BC84=\"\",BC$41=7),\"\",6)","v":6},{"$f":"IF(OR(BD84=\"\",BF$41=4),\"\",IF(AND(BE$36>=1,BE$36<=4,BC$36=31),\"平成\"&30&\"年\"&6,IF(AND(BE$36=5,BC$36=\"元\"),\"平成\"&30&\"年\"&6,IF(AND(BE$36>=6,BC$36=\"元\"),\"令和元年\"&6,IF(AND(BE$36>=1,BE$36<=5,BC$36=2),\"令和元年\"&6,(IF((AND(BE$36>=1,BE$36<=5)),\"令和\"&BC$36-1&\"年\"&6,\"令和\"&BC$36&\"年\"&6)))))))","v":"令和年6"},{"$f":"IF(OR(BD84=\"\",BF$41=4),\"\",IF(AND(BE$36>=1,BE$36<=4,BC$36=31),\"平成\"&30&\"年\"&6,IF(AND(BE$36=5,BC$36=\"元\"),\"平成\"&30&\"年\"&6,IF(AND(BE$36>=6,BC$36=\"元\"),\"令和元年\"&6,IF(AND(BE$36>=1,BE$36<=5,BC$36=2),\"令和元年\"&6,(IF((AND(BE$36>=1,BE$36<=5)),\"令和\"&BC$36-1&\"年\"&6,\"令和\"&BC$36&\"年\"&6)))))))","v":"令和年6"},null,null,null,{"$f":"IF(OR(BI84=\"\",BI$41=7),\"\",6)","v":6},{"$f":"IF(OR(BJ84=\"\",BL$41=4),\"\",IF(AND(BK$36>=1,BK$36<=4,BI$36=31),\"平成\"&30&\"年\"&6,IF(AND(BK$36=5,BI$36=\"元\"),\"平成\"&30&\"年\"&6,IF(AND(BK$36>=6,BI$36=\"元\"),\"令和元年\"&6,IF(AND(BK$36>=1,BK$36<=5,BI$36=2),\"令和元年\"&6,(IF((AND(BK$36>=1,BK$36<=5)),\"令和\"&BI$36-1&\"年\"&6,\"令和\"&BI$36&\"年\"&6)))))))","v":"令和年6"},{"$f":"IF(OR(BJ84=\"\",BL$41=4),\"\",IF(AND(BK$36>=1,BK$36<=4,BI$36=31),\"平成\"&30&\"年\"&6,IF(AND(BK$36=5,BI$36=\"元\"),\"平成\"&30&\"年\"&6,IF(AND(BK$36>=6,BI$36=\"元\"),\"令和元年\"&6,IF(AND(BK$36>=1,BK$36<=5,BI$36=2),\"令和元年\"&6,(IF((AND(BK$36>=1,BK$36<=5)),\"令和\"&BI$36-1&\"年\"&6,\"令和\"&BI$36&\"年\"&6)))))))","v":"令和年6"},null,null,null,{"$f":"IF(OR(BO84=\"\",BO$41=7),\"\",6)","v":6},{"$f":"IF(OR(BP84=\"\",BR$41=4),\"\",IF(AND(BQ$36>=1,BQ$36<=4,BO$36=31),\"平成\"&30&\"年\"&6,IF(AND(BQ$36=5,BO$36=\"元\"),\"平成\"&30&\"年\"&6,IF(AND(BQ$36>=6,BO$36=\"元\"),\"令和元年\"&6,IF(AND(BQ$36>=1,BQ$36<=5,BO$36=2),\"令和元年\"&6,(IF((AND(BQ$36>=1,BQ$36<=5)),\"令和\"&BO$36-1&\"年\"&6,\"令和\"&BO$36&\"年\"&6)))))))","v":"令和年6"},{"$f":"IF(OR(BP84=\"\",BR$41=4),\"\",IF(AND(BQ$36>=1,BQ$36<=4,BO$36=31),\"平成\"&30&\"年\"&6,IF(AND(BQ$36=5,BO$36=\"元\"),\"平成\"&30&\"年\"&6,IF(AND(BQ$36>=6,BO$36=\"元\"),\"令和元年\"&6,IF(AND(BQ$36>=1,BQ$36<=5,BO$36=2),\"令和元年\"&6,(IF((AND(BQ$36>=1,BQ$36<=5)),\"令和\"&BO$36-1&\"年\"&6,\"令和\"&BO$36&\"年\"&6)))))))","v":"令和年6"},null,null,null,{"$f":"IF(OR(BU84=\"\",BU$41=7),\"\",6)","v":6},{"$f":"IF(OR(BV84=\"\",BX$41=4),\"\",IF(AND(BW$36>=1,BW$36<=4,BU$36=31),\"平成\"&30&\"年\"&6,IF(AND(BW$36=5,BU$36=\"元\"),\"平成\"&30&\"年\"&6,IF(AND(BW$36>=6,BU$36=\"元\"),\"令和元年\"&6,IF(AND(BW$36>=1,BW$36<=5,BU$36=2),\"令和元年\"&6,(IF((AND(BW$36>=1,BW$36<=5)),\"令和\"&BU$36-1&\"年\"&6,\"令和\"&BU$36&\"年\"&6)))))))","v":"令和年6"},{"$f":"IF(OR(BV84=\"\",BX$41=4),\"\",IF(AND(BW$36>=1,BW$36<=4,BU$36=31),\"平成\"&30&\"年\"&6,IF(AND(BW$36=5,BU$36=\"元\"),\"平成\"&30&\"年\"&6,IF(AND(BW$36>=6,BU$36=\"元\"),\"令和元年\"&6,IF(AND(BW$36>=1,BW$36<=5,BU$36=2),\"令和元年\"&6,(IF((AND(BW$36>=1,BW$36<=5)),\"令和\"&BU$36-1&\"年\"&6,\"令和\"&BU$36&\"年\"&6)))))))","v":"令和年6"},null,null,null,{"$f":"IF(OR(CA84=\"\",CA$41=7),\"\",6)","v":6},{"$f":"IF(OR(CB84=\"\",CD$41=4),\"\",IF(AND(CC$36>=1,CC$36<=4,CA$36=31),\"平成\"&30&\"年\"&6,IF(AND(CC$36=5,CA$36=\"元\"),\"平成\"&30&\"年\"&6,IF(AND(CC$36>=6,CA$36=\"元\"),\"令和元年\"&6,IF(AND(CC$36>=1,CC$36<=5,CA$36=2),\"令和元年\"&6,(IF((AND(CC$36>=1,CC$36<=5)),\"令和\"&CA$36-1&\"年\"&6,\"令和\"&CA$36&\"年\"&6)))))))","v":"令和年6"},{"$f":"IF(OR(CB84=\"\",CD$41=4),\"\",IF(AND(CC$36>=1,CC$36<=4,CA$36=31),\"平成\"&30&\"年\"&6,IF(AND(CC$36=5,CA$36=\"元\"),\"平成\"&30&\"年\"&6,IF(AND(CC$36>=6,CA$36=\"元\"),\"令和元年\"&6,IF(AND(CC$36>=1,CC$36<=5,CA$36=2),\"令和元年\"&6,(IF((AND(CC$36>=1,CC$36<=5)),\"令和\"&CA$36-1&\"年\"&6,\"令和\"&CA$36&\"年\"&6)))))))","v":"令和年6"},null,null,null,{"$f":"IF(OR(CG84=\"\",CG$41=7),\"\",6)","v":6},{"$f":"IF(OR(CH84=\"\",CJ$41=4),\"\",IF(AND(CI$36>=1,CI$36<=4,CG$36=31),\"平成\"&30&\"年\"&6,IF(AND(CI$36=5,CG$36=\"元\"),\"平成\"&30&\"年\"&6,IF(AND(CI$36>=6,CG$36=\"元\"),\"令和元年\"&6,IF(AND(CI$36>=1,CI$36<=5,CG$36=2),\"令和元年\"&6,(IF((AND(CI$36>=1,CI$36<=5)),\"令和\"&CG$36-1&\"年\"&6,\"令和\"&CG$36&\"年\"&6)))))))","v":"令和年6"},{"$f":"IF(OR(CH84=\"\",CJ$41=4),\"\",IF(AND(CI$36>=1,CI$36<=4,CG$36=31),\"平成\"&30&\"年\"&6,IF(AND(CI$36=5,CG$36=\"元\"),\"平成\"&30&\"年\"&6,IF(AND(CI$36>=6,CG$36=\"元\"),\"令和元年\"&6,IF(AND(CI$36>=1,CI$36<=5,CG$36=2),\"令和元年\"&6,(IF((AND(CI$36>=1,CI$36<=5)),\"令和\"&CG$36-1&\"年\"&6,\"令和\"&CG$36&\"年\"&6)))))))","v":"令和年6"},null,null,null,{"$f":"IF(OR(CM84=\"\",CM$41=7),\"\",6)","v":6},{"$f":"IF(OR(CN84=\"\",CP$41=4),\"\",IF(AND(CO$36>=1,CO$36<=4,CM$36=31),\"平成\"&30&\"年\"&6,IF(AND(CO$36=5,CM$36=\"元\"),\"平成\"&30&\"年\"&6,IF(AND(CO$36>=6,CM$36=\"元\"),\"令和元年\"&6,IF(AND(CO$36>=1,CO$36<=5,CM$36=2),\"令和元年\"&6,(IF((AND(CO$36>=1,CO$36<=5)),\"令和\"&CM$36-1&\"年\"&6,\"令和\"&CM$36&\"年\"&6)))))))","v":"令和年6"},{"$f":"IF(OR(CN84=\"\",CP$41=4),\"\",IF(AND(CO$36>=1,CO$36<=4,CM$36=31),\"平成\"&30&\"年\"&6,IF(AND(CO$36=5,CM$36=\"元\"),\"平成\"&30&\"年\"&6,IF(AND(CO$36>=6,CM$36=\"元\"),\"令和元年\"&6,IF(AND(CO$36>=1,CO$36<=5,CM$36=2),\"令和元年\"&6,(IF((AND(CO$36>=1,CO$36<=5)),\"令和\"&CM$36-1&\"年\"&6,\"令和\"&CM$36&\"年\"&6)))))))","v":"令和年6"},null,null,null,{"$f":"IF(OR(CS84=\"\",CS$41=7),\"\",6)","v":6},{"$f":"IF(OR(CT84=\"\",CV$41=4),\"\",IF(AND(CU$36>=1,CU$36<=4,CS$36=31),\"平成\"&30&\"年\"&6,IF(AND(CU$36=5,CS$36=\"元\"),\"平成\"&30&\"年\"&6,IF(AND(CU$36>=6,CS$36=\"元\"),\"令和元年\"&6,IF(AND(CU$36>=1,CU$36<=5,CS$36=2),\"令和元年\"&6,(IF((AND(CU$36>=1,CU$36<=5)),\"令和\"&CS$36-1&\"年\"&6,\"令和\"&CS$36&\"年\"&6)))))))","v":"令和年6"},{"$f":"IF(OR(CT84=\"\",CV$41=4),\"\",IF(AND(CU$36>=1,CU$36<=4,CS$36=31),\"平成\"&30&\"年\"&6,IF(AND(CU$36=5,CS$36=\"元\"),\"平成\"&30&\"年\"&6,IF(AND(CU$36>=6,CS$36=\"元\"),\"令和元年\"&6,IF(AND(CU$36>=1,CU$36<=5,CS$36=2),\"令和元年\"&6,(IF((AND(CU$36>=1,CU$36<=5)),\"令和\"&CS$36-1&\"年\"&6,\"令和\"&CS$36&\"年\"&6)))))))","v":"令和年6"},null,null,null,{"$f":"IF(OR(CY84=\"\",CY$41=7),\"\",6)","v":6},{"$f":"IF(OR(CZ84=\"\",DB$41=4),\"\",IF(AND(DA$36>=1,DA$36<=4,CY$36=31),\"平成\"&30&\"年\"&6,IF(AND(DA$36=5,CY$36=\"元\"),\"平成\"&30&\"年\"&6,IF(AND(DA$36>=6,CY$36=\"元\"),\"令和元年\"&6,IF(AND(DA$36>=1,DA$36<=5,CY$36=2),\"令和元年\"&6,(IF((AND(DA$36>=1,DA$36<=5)),\"令和\"&CY$36-1&\"年\"&6,\"令和\"&CY$36&\"年\"&6)))))))","v":"令和年6"},{"$f":"IF(OR(CZ84=\"\",DB$41=4),\"\",IF(AND(DA$36>=1,DA$36<=4,CY$36=31),\"平成\"&30&\"年\"&6,IF(AND(DA$36=5,CY$36=\"元\"),\"平成\"&30&\"年\"&6,IF(AND(DA$36>=6,CY$36=\"元\"),\"令和元年\"&6,IF(AND(DA$36>=1,DA$36<=5,CY$36=2),\"令和元年\"&6,(IF((AND(DA$36>=1,DA$36<=5)),\"令和\"&CY$36-1&\"年\"&6,\"令和\"&CY$36&\"年\"&6)))))))","v":"令和年6"},null,null,null,{"$f":"IF(OR(DE84=\"\",DE$41=7),\"\",6)","v":6},{"$f":"IF(OR(DF84=\"\",DH$41=4),\"\",IF(AND(DG$36>=1,DG$36<=4,DE$36=31),\"平成\"&30&\"年\"&6,IF(AND(DG$36=5,DE$36=\"元\"),\"平成\"&30&\"年\"&6,IF(AND(DG$36>=6,DE$36=\"元\"),\"令和元年\"&6,IF(AND(DG$36>=1,DG$36<=5,DE$36=2),\"令和元年\"&6,(IF((AND(DG$36>=1,DG$36<=5)),\"令和\"&DE$36-1&\"年\"&6,\"令和\"&DE$36&\"年\"&6)))))))","v":"令和年6"},{"$f":"IF(OR(DF84=\"\",DH$41=4),\"\",IF(AND(DG$36>=1,DG$36<=4,DE$36=31),\"平成\"&30&\"年\"&6,IF(AND(DG$36=5,DE$36=\"元\"),\"平成\"&30&\"年\"&6,IF(AND(DG$36>=6,DE$36=\"元\"),\"令和元年\"&6,IF(AND(DG$36>=1,DG$36<=5,DE$36=2),\"令和元年\"&6,(IF((AND(DG$36>=1,DG$36<=5)),\"令和\"&DE$36-1&\"年\"&6,\"令和\"&DE$36&\"年\"&6)))))))","v":"令和年6"},null,null,null,{"$f":"IF(OR(DK84=\"\",DK$41=7),\"\",6)","v":6},{"$f":"IF(OR(DL84=\"\",DN$41=4),\"\",IF(AND(DM$36>=1,DM$36<=4,DK$36=31),\"平成\"&30&\"年\"&6,IF(AND(DM$36=5,DK$36=\"元\"),\"平成\"&30&\"年\"&6,IF(AND(DM$36>=6,DK$36=\"元\"),\"令和元年\"&6,IF(AND(DM$36>=1,DM$36<=5,DK$36=2),\"令和元年\"&6,(IF((AND(DM$36>=1,DM$36<=5)),\"令和\"&DK$36-1&\"年\"&6,\"令和\"&DK$36&\"年\"&6)))))))","v":"令和年6"},{"$f":"IF(OR(DL84=\"\",DN$41=4),\"\",IF(AND(DM$36>=1,DM$36<=4,DK$36=31),\"平成\"&30&\"年\"&6,IF(AND(DM$36=5,DK$36=\"元\"),\"平成\"&30&\"年\"&6,IF(AND(DM$36>=6,DK$36=\"元\"),\"令和元年\"&6,IF(AND(DM$36>=1,DM$36<=5,DK$36=2),\"令和元年\"&6,(IF((AND(DM$36>=1,DM$36<=5)),\"令和\"&DK$36-1&\"年\"&6,\"令和\"&DK$36&\"年\"&6)))))))","v":"令和年6"},null,null,null,{"$f":"IF(OR(DQ84=\"\",DQ$41=7),\"\",6)","v":6},{"$f":"IF(OR(DR84=\"\",DT$41=4),\"\",IF(AND(DS$36>=1,DS$36<=4,DQ$36=31),\"平成\"&30&\"年\"&6,IF(AND(DS$36=5,DQ$36=\"元\"),\"平成\"&30&\"年\"&6,IF(AND(DS$36>=6,DQ$36=\"元\"),\"令和元年\"&6,IF(AND(DS$36>=1,DS$36<=5,DQ$36=2),\"令和元年\"&6,(IF((AND(DS$36>=1,DS$36<=5)),\"令和\"&DQ$36-1&\"年\"&6,\"令和\"&DQ$36&\"年\"&6)))))))","v":"令和年6"},{"$f":"IF(OR(DR84=\"\",DT$41=4),\"\",IF(AND(DS$36>=1,DS$36<=4,DQ$36=31),\"平成\"&30&\"年\"&6,IF(AND(DS$36=5,DQ$36=\"元\"),\"平成\"&30&\"年\"&6,IF(AND(DS$36>=6,DQ$36=\"元\"),\"令和元年\"&6,IF(AND(DS$36>=1,DS$36<=5,DQ$36=2),\"令和元年\"&6,(IF((AND(DS$36>=1,DS$36<=5)),\"令和\"&DQ$36-1&\"年\"&6,\"令和\"&DQ$36&\"年\"&6)))))))","v":"令和年6"},null,null,null,{"$f":"IF(OR(DW84=\"\",DW$41=7),\"\",6)","v":6},{"$f":"IF(OR(DX84=\"\",DZ$41=4),\"\",IF(AND(DY$36>=1,DY$36<=4,DW$36=31),\"平成\"&30&\"年\"&6,IF(AND(DY$36=5,DW$36=\"元\"),\"平成\"&30&\"年\"&6,IF(AND(DY$36>=6,DW$36=\"元\"),\"令和元年\"&6,IF(AND(DY$36>=1,DY$36<=5,DW$36=2),\"令和元年\"&6,(IF((AND(DY$36>=1,DY$36<=5)),\"令和\"&DW$36-1&\"年\"&6,\"令和\"&DW$36&\"年\"&6)))))))","v":"令和年6"},{"$f":"IF(OR(DX84=\"\",DZ$41=4),\"\",IF(AND(DY$36>=1,DY$36<=4,DW$36=31),\"平成\"&30&\"年\"&6,IF(AND(DY$36=5,DW$36=\"元\"),\"平成\"&30&\"年\"&6,IF(AND(DY$36>=6,DW$36=\"元\"),\"令和元年\"&6,IF(AND(DY$36>=1,DY$36<=5,DW$36=2),\"令和元年\"&6,(IF((AND(DY$36>=1,DY$36<=5)),\"令和\"&DW$36-1&\"年\"&6,\"令和\"&DW$36&\"年\"&6)))))))","v":"令和年6"},null,null,null,{"$f":"IF(OR(EC84=\"\",EC$41=7),\"\",6)","v":6},{"$f":"IF(OR(ED84=\"\",EF$41=4),\"\",IF(AND(EE$36>=1,EE$36<=4,EC$36=31),\"平成\"&30&\"年\"&6,IF(AND(EE$36=5,EC$36=\"元\"),\"平成\"&30&\"年\"&6,IF(AND(EE$36>=6,EC$36=\"元\"),\"令和元年\"&6,IF(AND(EE$36>=1,EE$36<=5,EC$36=2),\"令和元年\"&6,(IF((AND(EE$36>=1,EE$36<=5)),\"令和\"&EC$36-1&\"年\"&6,\"令和\"&EC$36&\"年\"&6)))))))","v":"令和年6"},{"$f":"IF(OR(ED84=\"\",EF$41=4),\"\",IF(AND(EE$36>=1,EE$36<=4,EC$36=31),\"平成\"&30&\"年\"&6,IF(AND(EE$36=5,EC$36=\"元\"),\"平成\"&30&\"年\"&6,IF(AND(EE$36>=6,EC$36=\"元\"),\"令和元年\"&6,IF(AND(EE$36>=1,EE$36<=5,EC$36=2),\"令和元年\"&6,(IF((AND(EE$36>=1,EE$36<=5)),\"令和\"&EC$36-1&\"年\"&6,\"令和\"&EC$36&\"年\"&6)))))))","v":"令和年6"},null,null,null,{"$f":"IF(OR(EI84=\"\",EI$41=7),\"\",6)","v":6},{"$f":"IF(OR(EJ84=\"\",EL$41=4),\"\",IF(AND(EK$36>=1,EK$36<=4,EI$36=31),\"平成\"&30&\"年\"&6,IF(AND(EK$36=5,EI$36=\"元\"),\"平成\"&30&\"年\"&6,IF(AND(EK$36>=6,EI$36=\"元\"),\"令和元年\"&6,IF(AND(EK$36>=1,EK$36<=5,EI$36=2),\"令和元年\"&6,(IF((AND(EK$36>=1,EK$36<=5)),\"令和\"&EI$36-1&\"年\"&6,\"令和\"&EI$36&\"年\"&6)))))))","v":"令和年6"},{"$f":"IF(OR(EJ84=\"\",EL$41=4),\"\",IF(AND(EK$36>=1,EK$36<=4,EI$36=31),\"平成\"&30&\"年\"&6,IF(AND(EK$36=5,EI$36=\"元\"),\"平成\"&30&\"年\"&6,IF(AND(EK$36>=6,EI$36=\"元\"),\"令和元年\"&6,IF(AND(EK$36>=1,EK$36<=5,EI$36=2),\"令和元年\"&6,(IF((AND(EK$36>=1,EK$36<=5)),\"令和\"&EI$36-1&\"年\"&6,\"令和\"&EI$36&\"年\"&6)))))))","v":"令和年6"},null,null,null,{"$f":"IF(OR(EO84=\"\",EO$41=7),\"\",6)","v":6},{"$f":"IF(OR(EP84=\"\",ER$41=4),\"\",IF(AND(EQ$36>=1,EQ$36<=4,EO$36=31),\"平成\"&30&\"年\"&6,IF(AND(EQ$36=5,EO$36=\"元\"),\"平成\"&30&\"年\"&6,IF(AND(EQ$36>=6,EO$36=\"元\"),\"令和元年\"&6,IF(AND(EQ$36>=1,EQ$36<=5,EO$36=2),\"令和元年\"&6,(IF((AND(EQ$36>=1,EQ$36<=5)),\"令和\"&EO$36-1&\"年\"&6,\"令和\"&EO$36&\"年\"&6)))))))","v":"令和年6"},{"$f":"IF(OR(EP84=\"\",ER$41=4),\"\",IF(AND(EQ$36>=1,EQ$36<=4,EO$36=31),\"平成\"&30&\"年\"&6,IF(AND(EQ$36=5,EO$36=\"元\"),\"平成\"&30&\"年\"&6,IF(AND(EQ$36>=6,EO$36=\"元\"),\"令和元年\"&6,IF(AND(EQ$36>=1,EQ$36<=5,EO$36=2),\"令和元年\"&6,(IF((AND(EQ$36>=1,EQ$36<=5)),\"令和\"&EO$36-1&\"年\"&6,\"令和\"&EO$36&\"年\"&6)))))))","v":"令和年6"},null,null,null,{"$f":"IF(OR(EU84=\"\",EU$41=7),\"\",6)","v":6},{"$f":"IF(OR(EV84=\"\",EX$41=4),\"\",IF(AND(EW$36>=1,EW$36<=4,EU$36=31),\"平成\"&30&\"年\"&6,IF(AND(EW$36=5,EU$36=\"元\"),\"平成\"&30&\"年\"&6,IF(AND(EW$36>=6,EU$36=\"元\"),\"令和元年\"&6,IF(AND(EW$36>=1,EW$36<=5,EU$36=2),\"令和元年\"&6,(IF((AND(EW$36>=1,EW$36<=5)),\"令和\"&EU$36-1&\"年\"&6,\"令和\"&EU$36&\"年\"&6)))))))","v":"令和年6"},{"$f":"IF(OR(EV84=\"\",EX$41=4),\"\",IF(AND(EW$36>=1,EW$36<=4,EU$36=31),\"平成\"&30&\"年\"&6,IF(AND(EW$36=5,EU$36=\"元\"),\"平成\"&30&\"年\"&6,IF(AND(EW$36>=6,EU$36=\"元\"),\"令和元年\"&6,IF(AND(EW$36>=1,EW$36<=5,EU$36=2),\"令和元年\"&6,(IF((AND(EW$36>=1,EW$36<=5)),\"令和\"&EU$36-1&\"年\"&6,\"令和\"&EU$36&\"年\"&6)))))))","v":"令和年6"},null,null,null,{"$f":"IF(OR(FA84=\"\",FA$41=7),\"\",6)","v":6},{"$f":"IF(OR(FB84=\"\",FD$41=4),\"\",IF(AND(FC$36>=1,FC$36<=4,FA$36=31),\"平成\"&30&\"年\"&6,IF(AND(FC$36=5,FA$36=\"元\"),\"平成\"&30&\"年\"&6,IF(AND(FC$36>=6,FA$36=\"元\"),\"令和元年\"&6,IF(AND(FC$36>=1,FC$36<=5,FA$36=2),\"令和元年\"&6,(IF((AND(FC$36>=1,FC$36<=5)),\"令和\"&FA$36-1&\"年\"&6,\"令和\"&FA$36&\"年\"&6)))))))","v":"令和年6"},{"$f":"IF(OR(FB84=\"\",FD$41=4),\"\",IF(AND(FC$36>=1,FC$36<=4,FA$36=31),\"平成\"&30&\"年\"&6,IF(AND(FC$36=5,FA$36=\"元\"),\"平成\"&30&\"年\"&6,IF(AND(FC$36>=6,FA$36=\"元\"),\"令和元年\"&6,IF(AND(FC$36>=1,FC$36<=5,FA$36=2),\"令和元年\"&6,(IF((AND(FC$36>=1,FC$36<=5)),\"令和\"&FA$36-1&\"年\"&6,\"令和\"&FA$36&\"年\"&6)))))))","v":"令和年6"},null,null,null,{"$f":"IF(OR(FG84=\"\",FG$41=7),\"\",6)","v":6},{"$f":"IF(OR(FH84=\"\",FJ$41=4),\"\",IF(AND(FI$36>=1,FI$36<=4,FG$36=31),\"平成\"&30&\"年\"&6,IF(AND(FI$36=5,FG$36=\"元\"),\"平成\"&30&\"年\"&6,IF(AND(FI$36>=6,FG$36=\"元\"),\"令和元年\"&6,IF(AND(FI$36>=1,FI$36<=5,FG$36=2),\"令和元年\"&6,(IF((AND(FI$36>=1,FI$36<=5)),\"令和\"&FG$36-1&\"年\"&6,\"令和\"&FG$36&\"年\"&6)))))))","v":"令和年6"},{"$f":"IF(OR(FH84=\"\",FJ$41=4),\"\",IF(AND(FI$36>=1,FI$36<=4,FG$36=31),\"平成\"&30&\"年\"&6,IF(AND(FI$36=5,FG$36=\"元\"),\"平成\"&30&\"年\"&6,IF(AND(FI$36>=6,FG$36=\"元\"),\"令和元年\"&6,IF(AND(FI$36>=1,FI$36<=5,FG$36=2),\"令和元年\"&6,(IF((AND(FI$36>=1,FI$36<=5)),\"令和\"&FG$36-1&\"年\"&6,\"令和\"&FG$36&\"年\"&6)))))))","v":"令和年6"},null,null,null,{"$f":"IF(OR(FM84=\"\",FM$41=7),\"\",6)","v":6},{"$f":"IF(OR(FN84=\"\",FP$41=4),\"\",IF(AND(FO$36>=1,FO$36<=4,FM$36=31),\"平成\"&30&\"年\"&6,IF(AND(FO$36=5,FM$36=\"元\"),\"平成\"&30&\"年\"&6,IF(AND(FO$36>=6,FM$36=\"元\"),\"令和元年\"&6,IF(AND(FO$36>=1,FO$36<=5,FM$36=2),\"令和元年\"&6,(IF((AND(FO$36>=1,FO$36<=5)),\"令和\"&FM$36-1&\"年\"&6,\"令和\"&FM$36&\"年\"&6)))))))","v":"令和年6"},{"$f":"IF(OR(FN84=\"\",FP$41=4),\"\",IF(AND(FO$36>=1,FO$36<=4,FM$36=31),\"平成\"&30&\"年\"&6,IF(AND(FO$36=5,FM$36=\"元\"),\"平成\"&30&\"年\"&6,IF(AND(FO$36>=6,FM$36=\"元\"),\"令和元年\"&6,IF(AND(FO$36>=1,FO$36<=5,FM$36=2),\"令和元年\"&6,(IF((AND(FO$36>=1,FO$36<=5)),\"令和\"&FM$36-1&\"年\"&6,\"令和\"&FM$36&\"年\"&6)))))))","v":"令和年6"},null,null,null,{"$f":"IF(OR(FS84=\"\",FS$41=7),\"\",6)","v":6},{"$f":"IF(OR(FT84=\"\",FV$41=4),\"\",IF(AND(FU$36>=1,FU$36<=4,FS$36=31),\"平成\"&30&\"年\"&6,IF(AND(FU$36=5,FS$36=\"元\"),\"平成\"&30&\"年\"&6,IF(AND(FU$36>=6,FS$36=\"元\"),\"令和元年\"&6,IF(AND(FU$36>=1,FU$36<=5,FS$36=2),\"令和元年\"&6,(IF((AND(FU$36>=1,FU$36<=5)),\"令和\"&FS$36-1&\"年\"&6,\"令和\"&FS$36&\"年\"&6)))))))","v":"令和年6"},{"$f":"IF(OR(FT84=\"\",FV$41=4),\"\",IF(AND(FU$36>=1,FU$36<=4,FS$36=31),\"平成\"&30&\"年\"&6,IF(AND(FU$36=5,FS$36=\"元\"),\"平成\"&30&\"年\"&6,IF(AND(FU$36>=6,FS$36=\"元\"),\"令和元年\"&6,IF(AND(FU$36>=1,FU$36<=5,FS$36=2),\"令和元年\"&6,(IF((AND(FU$36>=1,FU$36<=5)),\"令和\"&FS$36-1&\"年\"&6,\"令和\"&FS$36&\"年\"&6)))))))","v":"令和年6"},null,null,null,{"$f":"IF(OR(FY84=\"\",FY$41=7),\"\",6)","v":6},{"$f":"IF(OR(FZ84=\"\",GB$41=4),\"\",IF(AND(GA$36>=1,GA$36<=4,FY$36=31),\"平成\"&30&\"年\"&6,IF(AND(GA$36=5,FY$36=\"元\"),\"平成\"&30&\"年\"&6,IF(AND(GA$36>=6,FY$36=\"元\"),\"令和元年\"&6,IF(AND(GA$36>=1,GA$36<=5,FY$36=2),\"令和元年\"&6,(IF((AND(GA$36>=1,GA$36<=5)),\"令和\"&FY$36-1&\"年\"&6,\"令和\"&FY$36&\"年\"&6)))))))","v":"令和年6"},{"$f":"IF(OR(FZ84=\"\",GB$41=4),\"\",IF(AND(GA$36>=1,GA$36<=4,FY$36=31),\"平成\"&30&\"年\"&6,IF(AND(GA$36=5,FY$36=\"元\"),\"平成\"&30&\"年\"&6,IF(AND(GA$36>=6,FY$36=\"元\"),\"令和元年\"&6,IF(AND(GA$36>=1,GA$36<=5,FY$36=2),\"令和元年\"&6,(IF((AND(GA$36>=1,GA$36<=5)),\"令和\"&FY$36-1&\"年\"&6,\"令和\"&FY$36&\"年\"&6)))))))","v":"令和年6"},null,null,null,{"$f":"IF(OR(GE84=\"\",GE$41=7),\"\",6)","v":6},{"$f":"IF(OR(GF84=\"\",GH$41=4),\"\",IF(AND(GG$36>=1,GG$36<=4,GE$36=31),\"平成\"&30&\"年\"&6,IF(AND(GG$36=5,GE$36=\"元\"),\"平成\"&30&\"年\"&6,IF(AND(GG$36>=6,GE$36=\"元\"),\"令和元年\"&6,IF(AND(GG$36>=1,GG$36<=5,GE$36=2),\"令和元年\"&6,(IF((AND(GG$36>=1,GG$36<=5)),\"令和\"&GE$36-1&\"年\"&6,\"令和\"&GE$36&\"年\"&6)))))))","v":"令和年6"},{"$f":"IF(OR(GF84=\"\",GH$41=4),\"\",IF(AND(GG$36>=1,GG$36<=4,GE$36=31),\"平成\"&30&\"年\"&6,IF(AND(GG$36=5,GE$36=\"元\"),\"平成\"&30&\"年\"&6,IF(AND(GG$36>=6,GE$36=\"元\"),\"令和元年\"&6,IF(AND(GG$36>=1,GG$36<=5,GE$36=2),\"令和元年\"&6,(IF((AND(GG$36>=1,GG$36<=5)),\"令和\"&GE$36-1&\"年\"&6,\"令和\"&GE$36&\"年\"&6)))))))","v":"令和年6"},null,null,null,{"$f":"IF(OR(GK84=\"\",GK$41=7),\"\",6)","v":6},{"$f":"IF(OR(GL84=\"\",GN$41=4),\"\",IF(AND(GM$36>=1,GM$36<=4,GK$36=31),\"平成\"&30&\"年\"&6,IF(AND(GM$36=5,GK$36=\"元\"),\"平成\"&30&\"年\"&6,IF(AND(GM$36>=6,GK$36=\"元\"),\"令和元年\"&6,IF(AND(GM$36>=1,GM$36<=5,GK$36=2),\"令和元年\"&6,(IF((AND(GM$36>=1,GM$36<=5)),\"令和\"&GK$36-1&\"年\"&6,\"令和\"&GK$36&\"年\"&6)))))))","v":"令和年6"},{"$f":"IF(OR(GL84=\"\",GN$41=4),\"\",IF(AND(GM$36>=1,GM$36<=4,GK$36=31),\"平成\"&30&\"年\"&6,IF(AND(GM$36=5,GK$36=\"元\"),\"平成\"&30&\"年\"&6,IF(AND(GM$36>=6,GK$36=\"元\"),\"令和元年\"&6,IF(AND(GM$36>=1,GM$36<=5,GK$36=2),\"令和元年\"&6,(IF((AND(GM$36>=1,GM$36<=5)),\"令和\"&GK$36-1&\"年\"&6,\"令和\"&GK$36&\"年\"&6)))))))","v":"令和年6"},null,null,null,{"$f":"IF(OR(GQ84=\"\",GQ$41=7),\"\",6)","v":6},{"$f":"IF(OR(GR84=\"\",GT$41=4),\"\",IF(AND(GS$36>=1,GS$36<=4,GQ$36=31),\"平成\"&30&\"年\"&6,IF(AND(GS$36=5,GQ$36=\"元\"),\"平成\"&30&\"年\"&6,IF(AND(GS$36>=6,GQ$36=\"元\"),\"令和元年\"&6,IF(AND(GS$36>=1,GS$36<=5,GQ$36=2),\"令和元年\"&6,(IF((AND(GS$36>=1,GS$36<=5)),\"令和\"&GQ$36-1&\"年\"&6,\"令和\"&GQ$36&\"年\"&6)))))))","v":"令和年6"},{"$f":"IF(OR(GR84=\"\",GT$41=4),\"\",IF(AND(GS$36>=1,GS$36<=4,GQ$36=31),\"平成\"&30&\"年\"&6,IF(AND(GS$36=5,GQ$36=\"元\"),\"平成\"&30&\"年\"&6,IF(AND(GS$36>=6,GQ$36=\"元\"),\"令和元年\"&6,IF(AND(GS$36>=1,GS$36<=5,GQ$36=2),\"令和元年\"&6,(IF((AND(GS$36>=1,GS$36<=5)),\"令和\"&GQ$36-1&\"年\"&6,\"令和\"&GQ$36&\"年\"&6)))))))","v":"令和年6"},null,null,null,{"$f":"IF(OR(GW84=\"\",GW$41=7),\"\",6)","v":6},{"$f":"IF(OR(GX84=\"\",GZ$41=4),\"\",IF(AND(GY$36>=1,GY$36<=4,GW$36=31),\"平成\"&30&\"年\"&6,IF(AND(GY$36=5,GW$36=\"元\"),\"平成\"&30&\"年\"&6,IF(AND(GY$36>=6,GW$36=\"元\"),\"令和元年\"&6,IF(AND(GY$36>=1,GY$36<=5,GW$36=2),\"令和元年\"&6,(IF((AND(GY$36>=1,GY$36<=5)),\"令和\"&GW$36-1&\"年\"&6,\"令和\"&GW$36&\"年\"&6)))))))","v":"令和年6"},{"$f":"IF(OR(GX84=\"\",GZ$41=4),\"\",IF(AND(GY$36>=1,GY$36<=4,GW$36=31),\"平成\"&30&\"年\"&6,IF(AND(GY$36=5,GW$36=\"元\"),\"平成\"&30&\"年\"&6,IF(AND(GY$36>=6,GW$36=\"元\"),\"令和元年\"&6,IF(AND(GY$36>=1,GY$36<=5,GW$36=2),\"令和元年\"&6,(IF((AND(GY$36>=1,GY$36<=5)),\"令和\"&GW$36-1&\"年\"&6,\"令和\"&GW$36&\"年\"&6)))))))","v":"令和年6"},null,null,null,{"$f":"IF(OR(HC84=\"\",HC$41=7),\"\",6)","v":6},{"$f":"IF(OR(HD84=\"\",HF$41=4),\"\",IF(AND(HE$36>=1,HE$36<=4,HC$36=31),\"平成\"&30&\"年\"&6,IF(AND(HE$36=5,HC$36=\"元\"),\"平成\"&30&\"年\"&6,IF(AND(HE$36>=6,HC$36=\"元\"),\"令和元年\"&6,IF(AND(HE$36>=1,HE$36<=5,HC$36=2),\"令和元年\"&6,(IF((AND(HE$36>=1,HE$36<=5)),\"令和\"&HC$36-1&\"年\"&6,\"令和\"&HC$36&\"年\"&6)))))))","v":"令和年6"},{"$f":"IF(OR(HD84=\"\",HF$41=4),\"\",IF(AND(HE$36>=1,HE$36<=4,HC$36=31),\"平成\"&30&\"年\"&6,IF(AND(HE$36=5,HC$36=\"元\"),\"平成\"&30&\"年\"&6,IF(AND(HE$36>=6,HC$36=\"元\"),\"令和元年\"&6,IF(AND(HE$36>=1,HE$36<=5,HC$36=2),\"令和元年\"&6,(IF((AND(HE$36>=1,HE$36<=5)),\"令和\"&HC$36-1&\"年\"&6,\"令和\"&HC$36&\"年\"&6)))))))","v":"令和年6"},null,null,null,{"$f":"IF(OR(HI84=\"\",HI$41=7),\"\",6)","v":6},{"$f":"IF(OR(HJ84=\"\",HL$41=4),\"\",IF(AND(HK$36>=1,HK$36<=4,HI$36=31),\"平成\"&30&\"年\"&6,IF(AND(HK$36=5,HI$36=\"元\"),\"平成\"&30&\"年\"&6,IF(AND(HK$36>=6,HI$36=\"元\"),\"令和元年\"&6,IF(AND(HK$36>=1,HK$36<=5,HI$36=2),\"令和元年\"&6,(IF((AND(HK$36>=1,HK$36<=5)),\"令和\"&HI$36-1&\"年\"&6,\"令和\"&HI$36&\"年\"&6)))))))","v":"令和年6"},{"$f":"IF(OR(HJ84=\"\",HL$41=4),\"\",IF(AND(HK$36>=1,HK$36<=4,HI$36=31),\"平成\"&30&\"年\"&6,IF(AND(HK$36=5,HI$36=\"元\"),\"平成\"&30&\"年\"&6,IF(AND(HK$36>=6,HI$36=\"元\"),\"令和元年\"&6,IF(AND(HK$36>=1,HK$36<=5,HI$36=2),\"令和元年\"&6,(IF((AND(HK$36>=1,HK$36<=5)),\"令和\"&HI$36-1&\"年\"&6,\"令和\"&HI$36&\"年\"&6)))))))","v":"令和年6"},null,null,null,{"$f":"IF(OR(HO84=\"\",HO$41=7),\"\",6)","v":6},{"$f":"IF(OR(HP84=\"\",HR$41=4),\"\",IF(AND(HQ$36>=1,HQ$36<=4,HO$36=31),\"平成\"&30&\"年\"&6,IF(AND(HQ$36=5,HO$36=\"元\"),\"平成\"&30&\"年\"&6,IF(AND(HQ$36>=6,HO$36=\"元\"),\"令和元年\"&6,IF(AND(HQ$36>=1,HQ$36<=5,HO$36=2),\"令和元年\"&6,(IF((AND(HQ$36>=1,HQ$36<=5)),\"令和\"&HO$36-1&\"年\"&6,\"令和\"&HO$36&\"年\"&6)))))))","v":"令和年6"},{"$f":"IF(OR(HP84=\"\",HR$41=4),\"\",IF(AND(HQ$36>=1,HQ$36<=4,HO$36=31),\"平成\"&30&\"年\"&6,IF(AND(HQ$36=5,HO$36=\"元\"),\"平成\"&30&\"年\"&6,IF(AND(HQ$36>=6,HO$36=\"元\"),\"令和元年\"&6,IF(AND(HQ$36>=1,HQ$36<=5,HO$36=2),\"令和元年\"&6,(IF((AND(HQ$36>=1,HQ$36<=5)),\"令和\"&HO$36-1&\"年\"&6,\"令和\"&HO$36&\"年\"&6)))))))","v":"令和年6"},null,null,null,{"$f":"IF(OR(HU84=\"\",HU$41=7),\"\",6)","v":6},{"$f":"IF(OR(HV84=\"\",HX$41=4),\"\",IF(AND(HW$36>=1,HW$36<=4,HU$36=31),\"平成\"&30&\"年\"&6,IF(AND(HW$36=5,HU$36=\"元\"),\"平成\"&30&\"年\"&6,IF(AND(HW$36>=6,HU$36=\"元\"),\"令和元年\"&6,IF(AND(HW$36>=1,HW$36<=5,HU$36=2),\"令和元年\"&6,(IF((AND(HW$36>=1,HW$36<=5)),\"令和\"&HU$36-1&\"年\"&6,\"令和\"&HU$36&\"年\"&6)))))))","v":"令和年6"},{"$f":"IF(OR(HV84=\"\",HX$41=4),\"\",IF(AND(HW$36>=1,HW$36<=4,HU$36=31),\"平成\"&30&\"年\"&6,IF(AND(HW$36=5,HU$36=\"元\"),\"平成\"&30&\"年\"&6,IF(AND(HW$36>=6,HU$36=\"元\"),\"令和元年\"&6,IF(AND(HW$36>=1,HW$36<=5,HU$36=2),\"令和元年\"&6,(IF((AND(HW$36>=1,HW$36<=5)),\"令和\"&HU$36-1&\"年\"&6,\"令和\"&HU$36&\"年\"&6)))))))","v":"令和年6"},null,null,null,{"$f":"IF(OR(IA84=\"\",IA$41=7),\"\",6)","v":6},{"$f":"IF(OR(IB84=\"\",ID$41=4),\"\",IF(AND(IC$36>=1,IC$36<=4,IA$36=31),\"平成\"&30&\"年\"&6,IF(AND(IC$36=5,IA$36=\"元\"),\"平成\"&30&\"年\"&6,IF(AND(IC$36>=6,IA$36=\"元\"),\"令和元年\"&6,IF(AND(IC$36>=1,IC$36<=5,IA$36=2),\"令和元年\"&6,(IF((AND(IC$36>=1,IC$36<=5)),\"令和\"&IA$36-1&\"年\"&6,\"令和\"&IA$36&\"年\"&6)))))))","v":"令和年6"},{"$f":"IF(OR(IB84=\"\",ID$41=4),\"\",IF(AND(IC$36>=1,IC$36<=4,IA$36=31),\"平成\"&30&\"年\"&6,IF(AND(IC$36=5,IA$36=\"元\"),\"平成\"&30&\"年\"&6,IF(AND(IC$36>=6,IA$36=\"元\"),\"令和元年\"&6,IF(AND(IC$36>=1,IC$36<=5,IA$36=2),\"令和元年\"&6,(IF((AND(IC$36>=1,IC$36<=5)),\"令和\"&IA$36-1&\"年\"&6,\"令和\"&IA$36&\"年\"&6)))))))","v":"令和年6"},null,null,null,{"$f":"IF(OR(IG84=\"\",IG$41=7),\"\",6)","v":6},{"$f":"IF(OR(IH84=\"\",IJ$41=4),\"\",IF(AND(II$36>=1,II$36<=4,IG$36=31),\"平成\"&30&\"年\"&6,IF(AND(II$36=5,IG$36=\"元\"),\"平成\"&30&\"年\"&6,IF(AND(II$36>=6,IG$36=\"元\"),\"令和元年\"&6,IF(AND(II$36>=1,II$36<=5,IG$36=2),\"令和元年\"&6,(IF((AND(II$36>=1,II$36<=5)),\"令和\"&IG$36-1&\"年\"&6,\"令和\"&IG$36&\"年\"&6)))))))","v":"令和年6"},{"$f":"IF(OR(IH84=\"\",IJ$41=4),\"\",IF(AND(II$36>=1,II$36<=4,IG$36=31),\"平成\"&30&\"年\"&6,IF(AND(II$36=5,IG$36=\"元\"),\"平成\"&30&\"年\"&6,IF(AND(II$36>=6,IG$36=\"元\"),\"令和元年\"&6,IF(AND(II$36>=1,II$36<=5,IG$36=2),\"令和元年\"&6,(IF((AND(II$36>=1,II$36<=5)),\"令和\"&IG$36-1&\"年\"&6,\"令和\"&IG$36&\"年\"&6)))))))","v":"令和年6"}]
[null,{"$f":"IF(AND(BU21<>\"\",BU25<>\"\",BW25<>\"\",BY25<>\"\"),BU17,\"\")","v":""},"平",10,"平10",null,{"$f":"IF(OR(G85=\"\",G$41=8),\"\",7)","v":7},{"$f":"IF(OR(H85=\"\",J$41=4),\"\",IF(AND(I$36>=1,I$36<=4,G$36=31),\"平成\"&30&\"年\"&7,IF(AND(I$36=5,G$36=\"元\"),\"平成\"&30&\"年\"&7,IF(AND(I$36>=6,G$36=\"元\"),\"令和元年\"&7,IF(AND(I$36>=1,I$36<=5,G$36=2),\"令和元年\"&7,(IF((AND(I$36>=1,I$36<=5)),\"令和\"&G$36-1&\"年\"&7,\"令和\"&G$36&\"年\"&7)))))))","v":"令和年7"},{"$f":"IF(OR(H85=\"\",J$41=4),\"\",IF(AND(I$36>=1,I$36<=4,G$36=31),\"平成\"&30&\"年\"&7,IF(AND(I$36=5,G$36=\"元\"),\"平成\"&30&\"年\"&7,IF(AND(I$36>=6,G$36=\"元\"),\"令和元年\"&7,IF(AND(I$36>=1,I$36<=5,G$36=2),\"令和元年\"&7,(IF((AND(I$36>=1,I$36<=5)),\"令和\"&G$36-1&\"年\"&7,\"令和\"&G$36&\"年\"&7)))))))","v":"令和年7"},null,null,null,{"$f":"IF(OR(M85=\"\",M$41=8),\"\",7)","v":7},{"$f":"IF(OR(N85=\"\",P$41=4),\"\",IF(AND(O$36>=1,O$36<=4,M$36=31),\"平成\"&30&\"年\"&7,IF(AND(O$36=5,M$36=\"元\"),\"平成\"&30&\"年\"&7,IF(AND(O$36>=6,M$36=\"元\"),\"令和元年\"&7,IF(AND(O$36>=1,O$36<=5,M$36=2),\"令和元年\"&7,(IF((AND(O$36>=1,O$36<=5)),\"令和\"&M$36-1&\"年\"&7,\"令和\"&M$36&\"年\"&7)))))))","v":"令和年7"},{"$f":"IF(OR(N85=\"\",P$41=4),\"\",IF(AND(O$36>=1,O$36<=4,M$36=31),\"平成\"&30&\"年\"&7,IF(AND(O$36=5,M$36=\"元\"),\"平成\"&30&\"年\"&7,IF(AND(O$36>=6,M$36=\"元\"),\"令和元年\"&7,IF(AND(O$36>=1,O$36<=5,M$36=2),\"令和元年\"&7,(IF((AND(O$36>=1,O$36<=5)),\"令和\"&M$36-1&\"年\"&7,\"令和\"&M$36&\"年\"&7)))))))","v":"令和年7"},null,null,null,{"$f":"IF(OR(S85=\"\",S$41=8),\"\",7)","v":7},{"$f":"IF(OR(T85=\"\",V$41=4),\"\",IF(AND(U$36>=1,U$36<=4,S$36=31),\"平成\"&30&\"年\"&7,IF(AND(U$36=5,S$36=\"元\"),\"平成\"&30&\"年\"&7,IF(AND(U$36>=6,S$36=\"元\"),\"令和元年\"&7,IF(AND(U$36>=1,U$36<=5,S$36=2),\"令和元年\"&7,(IF((AND(U$36>=1,U$36<=5)),\"令和\"&S$36-1&\"年\"&7,\"令和\"&S$36&\"年\"&7)))))))","v":"令和年7"},{"$f":"IF(OR(T85=\"\",V$41=4),\"\",IF(AND(U$36>=1,U$36<=4,S$36=31),\"平成\"&30&\"年\"&7,IF(AND(U$36=5,S$36=\"元\"),\"平成\"&30&\"年\"&7,IF(AND(U$36>=6,S$36=\"元\"),\"令和元年\"&7,IF(AND(U$36>=1,U$36<=5,S$36=2),\"令和元年\"&7,(IF((AND(U$36>=1,U$36<=5)),\"令和\"&S$36-1&\"年\"&7,\"令和\"&S$36&\"年\"&7)))))))","v":"令和年7"},null,null,null,{"$f":"IF(OR(Y85=\"\",Y$41=8),\"\",7)","v":7},{"$f":"IF(OR(Z85=\"\",AB$41=4),\"\",IF(AND(AA$36>=1,AA$36<=4,Y$36=31),\"平成\"&30&\"年\"&7,IF(AND(AA$36=5,Y$36=\"元\"),\"平成\"&30&\"年\"&7,IF(AND(AA$36>=6,Y$36=\"元\"),\"令和元年\"&7,IF(AND(AA$36>=1,AA$36<=5,Y$36=2),\"令和元年\"&7,(IF((AND(AA$36>=1,AA$36<=5)),\"令和\"&Y$36-1&\"年\"&7,\"令和\"&Y$36&\"年\"&7)))))))","v":"令和年7"},{"$f":"IF(OR(Z85=\"\",AB$41=4),\"\",IF(AND(AA$36>=1,AA$36<=4,Y$36=31),\"平成\"&30&\"年\"&7,IF(AND(AA$36=5,Y$36=\"元\"),\"平成\"&30&\"年\"&7,IF(AND(AA$36>=6,Y$36=\"元\"),\"令和元年\"&7,IF(AND(AA$36>=1,AA$36<=5,Y$36=2),\"令和元年\"&7,(IF((AND(AA$36>=1,AA$36<=5)),\"令和\"&Y$36-1&\"年\"&7,\"令和\"&Y$36&\"年\"&7)))))))","v":"令和年7"},null,null,null,{"$f":"IF(OR(AE85=\"\",AE$41=8),\"\",7)","v":7},{"$f":"IF(OR(AF85=\"\",AH$41=4),\"\",IF(AND(AG$36>=1,AG$36<=4,AE$36=31),\"平成\"&30&\"年\"&7,IF(AND(AG$36=5,AE$36=\"元\"),\"平成\"&30&\"年\"&7,IF(AND(AG$36>=6,AE$36=\"元\"),\"令和元年\"&7,IF(AND(AG$36>=1,AG$36<=5,AE$36=2),\"令和元年\"&7,(IF((AND(AG$36>=1,AG$36<=5)),\"令和\"&AE$36-1&\"年\"&7,\"令和\"&AE$36&\"年\"&7)))))))","v":"令和年7"},{"$f":"IF(OR(AF85=\"\",AH$41=4),\"\",IF(AND(AG$36>=1,AG$36<=4,AE$36=31),\"平成\"&30&\"年\"&7,IF(AND(AG$36=5,AE$36=\"元\"),\"平成\"&30&\"年\"&7,IF(AND(AG$36>=6,AE$36=\"元\"),\"令和元年\"&7,IF(AND(AG$36>=1,AG$36<=5,AE$36=2),\"令和元年\"&7,(IF((AND(AG$36>=1,AG$36<=5)),\"令和\"&AE$36-1&\"年\"&7,\"令和\"&AE$36&\"年\"&7)))))))","v":"令和年7"},null,null,null,{"$f":"IF(OR(AK85=\"\",AK$41=8),\"\",7)","v":7},{"$f":"IF(OR(AL85=\"\",AN$41=4),\"\",IF(AND(AM$36>=1,AM$36<=4,AK$36=31),\"平成\"&30&\"年\"&7,IF(AND(AM$36=5,AK$36=\"元\"),\"平成\"&30&\"年\"&7,IF(AND(AM$36>=6,AK$36=\"元\"),\"令和元年\"&7,IF(AND(AM$36>=1,AM$36<=5,AK$36=2),\"令和元年\"&7,(IF((AND(AM$36>=1,AM$36<=5)),\"令和\"&AK$36-1&\"年\"&7,\"令和\"&AK$36&\"年\"&7)))))))","v":"令和年7"},{"$f":"IF(OR(AL85=\"\",AN$41=4),\"\",IF(AND(AM$36>=1,AM$36<=4,AK$36=31),\"平成\"&30&\"年\"&7,IF(AND(AM$36=5,AK$36=\"元\"),\"平成\"&30&\"年\"&7,IF(AND(AM$36>=6,AK$36=\"元\"),\"令和元年\"&7,IF(AND(AM$36>=1,AM$36<=5,AK$36=2),\"令和元年\"&7,(IF((AND(AM$36>=1,AM$36<=5)),\"令和\"&AK$36-1&\"年\"&7,\"令和\"&AK$36&\"年\"&7)))))))","v":"令和年7"},null,null,null,{"$f":"IF(OR(AQ85=\"\",AQ$41=8),\"\",7)","v":7},{"$f":"IF(OR(AR85=\"\",AT$41=4),\"\",IF(AND(AS$36>=1,AS$36<=4,AQ$36=31),\"平成\"&30&\"年\"&7,IF(AND(AS$36=5,AQ$36=\"元\"),\"平成\"&30&\"年\"&7,IF(AND(AS$36>=6,AQ$36=\"元\"),\"令和元年\"&7,IF(AND(AS$36>=1,AS$36<=5,AQ$36=2),\"令和元年\"&7,(IF((AND(AS$36>=1,AS$36<=5)),\"令和\"&AQ$36-1&\"年\"&7,\"令和\"&AQ$36&\"年\"&7)))))))","v":"令和年7"},{"$f":"IF(OR(AR85=\"\",AT$41=4),\"\",IF(AND(AS$36>=1,AS$36<=4,AQ$36=31),\"平成\"&30&\"年\"&7,IF(AND(AS$36=5,AQ$36=\"元\"),\"平成\"&30&\"年\"&7,IF(AND(AS$36>=6,AQ$36=\"元\"),\"令和元年\"&7,IF(AND(AS$36>=1,AS$36<=5,AQ$36=2),\"令和元年\"&7,(IF((AND(AS$36>=1,AS$36<=5)),\"令和\"&AQ$36-1&\"年\"&7,\"令和\"&AQ$36&\"年\"&7)))))))","v":"令和年7"},null,null,null,{"$f":"IF(OR(AW85=\"\",AW$41=8),\"\",7)","v":7},{"$f":"IF(OR(AX85=\"\",AZ$41=4),\"\",IF(AND(AY$36>=1,AY$36<=4,AW$36=31),\"平成\"&30&\"年\"&7,IF(AND(AY$36=5,AW$36=\"元\"),\"平成\"&30&\"年\"&7,IF(AND(AY$36>=6,AW$36=\"元\"),\"令和元年\"&7,IF(AND(AY$36>=1,AY$36<=5,AW$36=2),\"令和元年\"&7,(IF((AND(AY$36>=1,AY$36<=5)),\"令和\"&AW$36-1&\"年\"&7,\"令和\"&AW$36&\"年\"&7)))))))","v":"令和年7"},{"$f":"IF(OR(AX85=\"\",AZ$41=4),\"\",IF(AND(AY$36>=1,AY$36<=4,AW$36=31),\"平成\"&30&\"年\"&7,IF(AND(AY$36=5,AW$36=\"元\"),\"平成\"&30&\"年\"&7,IF(AND(AY$36>=6,AW$36=\"元\"),\"令和元年\"&7,IF(AND(AY$36>=1,AY$36<=5,AW$36=2),\"令和元年\"&7,(IF((AND(AY$36>=1,AY$36<=5)),\"令和\"&AW$36-1&\"年\"&7,\"令和\"&AW$36&\"年\"&7)))))))","v":"令和年7"},null,null,null,{"$f":"IF(OR(BC85=\"\",BC$41=8),\"\",7)","v":7},{"$f":"IF(OR(BD85=\"\",BF$41=4),\"\",IF(AND(BE$36>=1,BE$36<=4,BC$36=31),\"平成\"&30&\"年\"&7,IF(AND(BE$36=5,BC$36=\"元\"),\"平成\"&30&\"年\"&7,IF(AND(BE$36>=6,BC$36=\"元\"),\"令和元年\"&7,IF(AND(BE$36>=1,BE$36<=5,BC$36=2),\"令和元年\"&7,(IF((AND(BE$36>=1,BE$36<=5)),\"令和\"&BC$36-1&\"年\"&7,\"令和\"&BC$36&\"年\"&7)))))))","v":"令和年7"},{"$f":"IF(OR(BD85=\"\",BF$41=4),\"\",IF(AND(BE$36>=1,BE$36<=4,BC$36=31),\"平成\"&30&\"年\"&7,IF(AND(BE$36=5,BC$36=\"元\"),\"平成\"&30&\"年\"&7,IF(AND(BE$36>=6,BC$36=\"元\"),\"令和元年\"&7,IF(AND(BE$36>=1,BE$36<=5,BC$36=2),\"令和元年\"&7,(IF((AND(BE$36>=1,BE$36<=5)),\"令和\"&BC$36-1&\"年\"&7,\"令和\"&BC$36&\"年\"&7)))))))","v":"令和年7"},null,null,null,{"$f":"IF(OR(BI85=\"\",BI$41=8),\"\",7)","v":7},{"$f":"IF(OR(BJ85=\"\",BL$41=4),\"\",IF(AND(BK$36>=1,BK$36<=4,BI$36=31),\"平成\"&30&\"年\"&7,IF(AND(BK$36=5,BI$36=\"元\"),\"平成\"&30&\"年\"&7,IF(AND(BK$36>=6,BI$36=\"元\"),\"令和元年\"&7,IF(AND(BK$36>=1,BK$36<=5,BI$36=2),\"令和元年\"&7,(IF((AND(BK$36>=1,BK$36<=5)),\"令和\"&BI$36-1&\"年\"&7,\"令和\"&BI$36&\"年\"&7)))))))","v":"令和年7"},{"$f":"IF(OR(BJ85=\"\",BL$41=4),\"\",IF(AND(BK$36>=1,BK$36<=4,BI$36=31),\"平成\"&30&\"年\"&7,IF(AND(BK$36=5,BI$36=\"元\"),\"平成\"&30&\"年\"&7,IF(AND(BK$36>=6,BI$36=\"元\"),\"令和元年\"&7,IF(AND(BK$36>=1,BK$36<=5,BI$36=2),\"令和元年\"&7,(IF((AND(BK$36>=1,BK$36<=5)),\"令和\"&BI$36-1&\"年\"&7,\"令和\"&BI$36&\"年\"&7)))))))","v":"令和年7"},null,null,null,{"$f":"IF(OR(BO85=\"\",BO$41=8),\"\",7)","v":7},{"$f":"IF(OR(BP85=\"\",BR$41=4),\"\",IF(AND(BQ$36>=1,BQ$36<=4,BO$36=31),\"平成\"&30&\"年\"&7,IF(AND(BQ$36=5,BO$36=\"元\"),\"平成\"&30&\"年\"&7,IF(AND(BQ$36>=6,BO$36=\"元\"),\"令和元年\"&7,IF(AND(BQ$36>=1,BQ$36<=5,BO$36=2),\"令和元年\"&7,(IF((AND(BQ$36>=1,BQ$36<=5)),\"令和\"&BO$36-1&\"年\"&7,\"令和\"&BO$36&\"年\"&7)))))))","v":"令和年7"},{"$f":"IF(OR(BP85=\"\",BR$41=4),\"\",IF(AND(BQ$36>=1,BQ$36<=4,BO$36=31),\"平成\"&30&\"年\"&7,IF(AND(BQ$36=5,BO$36=\"元\"),\"平成\"&30&\"年\"&7,IF(AND(BQ$36>=6,BO$36=\"元\"),\"令和元年\"&7,IF(AND(BQ$36>=1,BQ$36<=5,BO$36=2),\"令和元年\"&7,(IF((AND(BQ$36>=1,BQ$36<=5)),\"令和\"&BO$36-1&\"年\"&7,\"令和\"&BO$36&\"年\"&7)))))))","v":"令和年7"},null,null,null,{"$f":"IF(OR(BU85=\"\",BU$41=8),\"\",7)","v":7},{"$f":"IF(OR(BV85=\"\",BX$41=4),\"\",IF(AND(BW$36>=1,BW$36<=4,BU$36=31),\"平成\"&30&\"年\"&7,IF(AND(BW$36=5,BU$36=\"元\"),\"平成\"&30&\"年\"&7,IF(AND(BW$36>=6,BU$36=\"元\"),\"令和元年\"&7,IF(AND(BW$36>=1,BW$36<=5,BU$36=2),\"令和元年\"&7,(IF((AND(BW$36>=1,BW$36<=5)),\"令和\"&BU$36-1&\"年\"&7,\"令和\"&BU$36&\"年\"&7)))))))","v":"令和年7"},{"$f":"IF(OR(BV85=\"\",BX$41=4),\"\",IF(AND(BW$36>=1,BW$36<=4,BU$36=31),\"平成\"&30&\"年\"&7,IF(AND(BW$36=5,BU$36=\"元\"),\"平成\"&30&\"年\"&7,IF(AND(BW$36>=6,BU$36=\"元\"),\"令和元年\"&7,IF(AND(BW$36>=1,BW$36<=5,BU$36=2),\"令和元年\"&7,(IF((AND(BW$36>=1,BW$36<=5)),\"令和\"&BU$36-1&\"年\"&7,\"令和\"&BU$36&\"年\"&7)))))))","v":"令和年7"},null,null,null,{"$f":"IF(OR(CA85=\"\",CA$41=8),\"\",7)","v":7},{"$f":"IF(OR(CB85=\"\",CD$41=4),\"\",IF(AND(CC$36>=1,CC$36<=4,CA$36=31),\"平成\"&30&\"年\"&7,IF(AND(CC$36=5,CA$36=\"元\"),\"平成\"&30&\"年\"&7,IF(AND(CC$36>=6,CA$36=\"元\"),\"令和元年\"&7,IF(AND(CC$36>=1,CC$36<=5,CA$36=2),\"令和元年\"&7,(IF((AND(CC$36>=1,CC$36<=5)),\"令和\"&CA$36-1&\"年\"&7,\"令和\"&CA$36&\"年\"&7)))))))","v":"令和年7"},{"$f":"IF(OR(CB85=\"\",CD$41=4),\"\",IF(AND(CC$36>=1,CC$36<=4,CA$36=31),\"平成\"&30&\"年\"&7,IF(AND(CC$36=5,CA$36=\"元\"),\"平成\"&30&\"年\"&7,IF(AND(CC$36>=6,CA$36=\"元\"),\"令和元年\"&7,IF(AND(CC$36>=1,CC$36<=5,CA$36=2),\"令和元年\"&7,(IF((AND(CC$36>=1,CC$36<=5)),\"令和\"&CA$36-1&\"年\"&7,\"令和\"&CA$36&\"年\"&7)))))))","v":"令和年7"},null,null,null,{"$f":"IF(OR(CG85=\"\",CG$41=8),\"\",7)","v":7},{"$f":"IF(OR(CH85=\"\",CJ$41=4),\"\",IF(AND(CI$36>=1,CI$36<=4,CG$36=31),\"平成\"&30&\"年\"&7,IF(AND(CI$36=5,CG$36=\"元\"),\"平成\"&30&\"年\"&7,IF(AND(CI$36>=6,CG$36=\"元\"),\"令和元年\"&7,IF(AND(CI$36>=1,CI$36<=5,CG$36=2),\"令和元年\"&7,(IF((AND(CI$36>=1,CI$36<=5)),\"令和\"&CG$36-1&\"年\"&7,\"令和\"&CG$36&\"年\"&7)))))))","v":"令和年7"},{"$f":"IF(OR(CH85=\"\",CJ$41=4),\"\",IF(AND(CI$36>=1,CI$36<=4,CG$36=31),\"平成\"&30&\"年\"&7,IF(AND(CI$36=5,CG$36=\"元\"),\"平成\"&30&\"年\"&7,IF(AND(CI$36>=6,CG$36=\"元\"),\"令和元年\"&7,IF(AND(CI$36>=1,CI$36<=5,CG$36=2),\"令和元年\"&7,(IF((AND(CI$36>=1,CI$36<=5)),\"令和\"&CG$36-1&\"年\"&7,\"令和\"&CG$36&\"年\"&7)))))))","v":"令和年7"},null,null,null,{"$f":"IF(OR(CM85=\"\",CM$41=8),\"\",7)","v":7},{"$f":"IF(OR(CN85=\"\",CP$41=4),\"\",IF(AND(CO$36>=1,CO$36<=4,CM$36=31),\"平成\"&30&\"年\"&7,IF(AND(CO$36=5,CM$36=\"元\"),\"平成\"&30&\"年\"&7,IF(AND(CO$36>=6,CM$36=\"元\"),\"令和元年\"&7,IF(AND(CO$36>=1,CO$36<=5,CM$36=2),\"令和元年\"&7,(IF((AND(CO$36>=1,CO$36<=5)),\"令和\"&CM$36-1&\"年\"&7,\"令和\"&CM$36&\"年\"&7)))))))","v":"令和年7"},{"$f":"IF(OR(CN85=\"\",CP$41=4),\"\",IF(AND(CO$36>=1,CO$36<=4,CM$36=31),\"平成\"&30&\"年\"&7,IF(AND(CO$36=5,CM$36=\"元\"),\"平成\"&30&\"年\"&7,IF(AND(CO$36>=6,CM$36=\"元\"),\"令和元年\"&7,IF(AND(CO$36>=1,CO$36<=5,CM$36=2),\"令和元年\"&7,(IF((AND(CO$36>=1,CO$36<=5)),\"令和\"&CM$36-1&\"年\"&7,\"令和\"&CM$36&\"年\"&7)))))))","v":"令和年7"},null,null,null,{"$f":"IF(OR(CS85=\"\",CS$41=8),\"\",7)","v":7},{"$f":"IF(OR(CT85=\"\",CV$41=4),\"\",IF(AND(CU$36>=1,CU$36<=4,CS$36=31),\"平成\"&30&\"年\"&7,IF(AND(CU$36=5,CS$36=\"元\"),\"平成\"&30&\"年\"&7,IF(AND(CU$36>=6,CS$36=\"元\"),\"令和元年\"&7,IF(AND(CU$36>=1,CU$36<=5,CS$36=2),\"令和元年\"&7,(IF((AND(CU$36>=1,CU$36<=5)),\"令和\"&CS$36-1&\"年\"&7,\"令和\"&CS$36&\"年\"&7)))))))","v":"令和年7"},{"$f":"IF(OR(CT85=\"\",CV$41=4),\"\",IF(AND(CU$36>=1,CU$36<=4,CS$36=31),\"平成\"&30&\"年\"&7,IF(AND(CU$36=5,CS$36=\"元\"),\"平成\"&30&\"年\"&7,IF(AND(CU$36>=6,CS$36=\"元\"),\"令和元年\"&7,IF(AND(CU$36>=1,CU$36<=5,CS$36=2),\"令和元年\"&7,(IF((AND(CU$36>=1,CU$36<=5)),\"令和\"&CS$36-1&\"年\"&7,\"令和\"&CS$36&\"年\"&7)))))))","v":"令和年7"},null,null,null,{"$f":"IF(OR(CY85=\"\",CY$41=8),\"\",7)","v":7},{"$f":"IF(OR(CZ85=\"\",DB$41=4),\"\",IF(AND(DA$36>=1,DA$36<=4,CY$36=31),\"平成\"&30&\"年\"&7,IF(AND(DA$36=5,CY$36=\"元\"),\"平成\"&30&\"年\"&7,IF(AND(DA$36>=6,CY$36=\"元\"),\"令和元年\"&7,IF(AND(DA$36>=1,DA$36<=5,CY$36=2),\"令和元年\"&7,(IF((AND(DA$36>=1,DA$36<=5)),\"令和\"&CY$36-1&\"年\"&7,\"令和\"&CY$36&\"年\"&7)))))))","v":"令和年7"},{"$f":"IF(OR(CZ85=\"\",DB$41=4),\"\",IF(AND(DA$36>=1,DA$36<=4,CY$36=31),\"平成\"&30&\"年\"&7,IF(AND(DA$36=5,CY$36=\"元\"),\"平成\"&30&\"年\"&7,IF(AND(DA$36>=6,CY$36=\"元\"),\"令和元年\"&7,IF(AND(DA$36>=1,DA$36<=5,CY$36=2),\"令和元年\"&7,(IF((AND(DA$36>=1,DA$36<=5)),\"令和\"&CY$36-1&\"年\"&7,\"令和\"&CY$36&\"年\"&7)))))))","v":"令和年7"},null,null,null,{"$f":"IF(OR(DE85=\"\",DE$41=8),\"\",7)","v":7},{"$f":"IF(OR(DF85=\"\",DH$41=4),\"\",IF(AND(DG$36>=1,DG$36<=4,DE$36=31),\"平成\"&30&\"年\"&7,IF(AND(DG$36=5,DE$36=\"元\"),\"平成\"&30&\"年\"&7,IF(AND(DG$36>=6,DE$36=\"元\"),\"令和元年\"&7,IF(AND(DG$36>=1,DG$36<=5,DE$36=2),\"令和元年\"&7,(IF((AND(DG$36>=1,DG$36<=5)),\"令和\"&DE$36-1&\"年\"&7,\"令和\"&DE$36&\"年\"&7)))))))","v":"令和年7"},{"$f":"IF(OR(DF85=\"\",DH$41=4),\"\",IF(AND(DG$36>=1,DG$36<=4,DE$36=31),\"平成\"&30&\"年\"&7,IF(AND(DG$36=5,DE$36=\"元\"),\"平成\"&30&\"年\"&7,IF(AND(DG$36>=6,DE$36=\"元\"),\"令和元年\"&7,IF(AND(DG$36>=1,DG$36<=5,DE$36=2),\"令和元年\"&7,(IF((AND(DG$36>=1,DG$36<=5)),\"令和\"&DE$36-1&\"年\"&7,\"令和\"&DE$36&\"年\"&7)))))))","v":"令和年7"},null,null,null,{"$f":"IF(OR(DK85=\"\",DK$41=8),\"\",7)","v":7},{"$f":"IF(OR(DL85=\"\",DN$41=4),\"\",IF(AND(DM$36>=1,DM$36<=4,DK$36=31),\"平成\"&30&\"年\"&7,IF(AND(DM$36=5,DK$36=\"元\"),\"平成\"&30&\"年\"&7,IF(AND(DM$36>=6,DK$36=\"元\"),\"令和元年\"&7,IF(AND(DM$36>=1,DM$36<=5,DK$36=2),\"令和元年\"&7,(IF((AND(DM$36>=1,DM$36<=5)),\"令和\"&DK$36-1&\"年\"&7,\"令和\"&DK$36&\"年\"&7)))))))","v":"令和年7"},{"$f":"IF(OR(DL85=\"\",DN$41=4),\"\",IF(AND(DM$36>=1,DM$36<=4,DK$36=31),\"平成\"&30&\"年\"&7,IF(AND(DM$36=5,DK$36=\"元\"),\"平成\"&30&\"年\"&7,IF(AND(DM$36>=6,DK$36=\"元\"),\"令和元年\"&7,IF(AND(DM$36>=1,DM$36<=5,DK$36=2),\"令和元年\"&7,(IF((AND(DM$36>=1,DM$36<=5)),\"令和\"&DK$36-1&\"年\"&7,\"令和\"&DK$36&\"年\"&7)))))))","v":"令和年7"},null,null,null,{"$f":"IF(OR(DQ85=\"\",DQ$41=8),\"\",7)","v":7},{"$f":"IF(OR(DR85=\"\",DT$41=4),\"\",IF(AND(DS$36>=1,DS$36<=4,DQ$36=31),\"平成\"&30&\"年\"&7,IF(AND(DS$36=5,DQ$36=\"元\"),\"平成\"&30&\"年\"&7,IF(AND(DS$36>=6,DQ$36=\"元\"),\"令和元年\"&7,IF(AND(DS$36>=1,DS$36<=5,DQ$36=2),\"令和元年\"&7,(IF((AND(DS$36>=1,DS$36<=5)),\"令和\"&DQ$36-1&\"年\"&7,\"令和\"&DQ$36&\"年\"&7)))))))","v":"令和年7"},{"$f":"IF(OR(DR85=\"\",DT$41=4),\"\",IF(AND(DS$36>=1,DS$36<=4,DQ$36=31),\"平成\"&30&\"年\"&7,IF(AND(DS$36=5,DQ$36=\"元\"),\"平成\"&30&\"年\"&7,IF(AND(DS$36>=6,DQ$36=\"元\"),\"令和元年\"&7,IF(AND(DS$36>=1,DS$36<=5,DQ$36=2),\"令和元年\"&7,(IF((AND(DS$36>=1,DS$36<=5)),\"令和\"&DQ$36-1&\"年\"&7,\"令和\"&DQ$36&\"年\"&7)))))))","v":"令和年7"},null,null,null,{"$f":"IF(OR(DW85=\"\",DW$41=8),\"\",7)","v":7},{"$f":"IF(OR(DX85=\"\",DZ$41=4),\"\",IF(AND(DY$36>=1,DY$36<=4,DW$36=31),\"平成\"&30&\"年\"&7,IF(AND(DY$36=5,DW$36=\"元\"),\"平成\"&30&\"年\"&7,IF(AND(DY$36>=6,DW$36=\"元\"),\"令和元年\"&7,IF(AND(DY$36>=1,DY$36<=5,DW$36=2),\"令和元年\"&7,(IF((AND(DY$36>=1,DY$36<=5)),\"令和\"&DW$36-1&\"年\"&7,\"令和\"&DW$36&\"年\"&7)))))))","v":"令和年7"},{"$f":"IF(OR(DX85=\"\",DZ$41=4),\"\",IF(AND(DY$36>=1,DY$36<=4,DW$36=31),\"平成\"&30&\"年\"&7,IF(AND(DY$36=5,DW$36=\"元\"),\"平成\"&30&\"年\"&7,IF(AND(DY$36>=6,DW$36=\"元\"),\"令和元年\"&7,IF(AND(DY$36>=1,DY$36<=5,DW$36=2),\"令和元年\"&7,(IF((AND(DY$36>=1,DY$36<=5)),\"令和\"&DW$36-1&\"年\"&7,\"令和\"&DW$36&\"年\"&7)))))))","v":"令和年7"},null,null,null,{"$f":"IF(OR(EC85=\"\",EC$41=8),\"\",7)","v":7},{"$f":"IF(OR(ED85=\"\",EF$41=4),\"\",IF(AND(EE$36>=1,EE$36<=4,EC$36=31),\"平成\"&30&\"年\"&7,IF(AND(EE$36=5,EC$36=\"元\"),\"平成\"&30&\"年\"&7,IF(AND(EE$36>=6,EC$36=\"元\"),\"令和元年\"&7,IF(AND(EE$36>=1,EE$36<=5,EC$36=2),\"令和元年\"&7,(IF((AND(EE$36>=1,EE$36<=5)),\"令和\"&EC$36-1&\"年\"&7,\"令和\"&EC$36&\"年\"&7)))))))","v":"令和年7"},{"$f":"IF(OR(ED85=\"\",EF$41=4),\"\",IF(AND(EE$36>=1,EE$36<=4,EC$36=31),\"平成\"&30&\"年\"&7,IF(AND(EE$36=5,EC$36=\"元\"),\"平成\"&30&\"年\"&7,IF(AND(EE$36>=6,EC$36=\"元\"),\"令和元年\"&7,IF(AND(EE$36>=1,EE$36<=5,EC$36=2),\"令和元年\"&7,(IF((AND(EE$36>=1,EE$36<=5)),\"令和\"&EC$36-1&\"年\"&7,\"令和\"&EC$36&\"年\"&7)))))))","v":"令和年7"},null,null,null,{"$f":"IF(OR(EI85=\"\",EI$41=8),\"\",7)","v":7},{"$f":"IF(OR(EJ85=\"\",EL$41=4),\"\",IF(AND(EK$36>=1,EK$36<=4,EI$36=31),\"平成\"&30&\"年\"&7,IF(AND(EK$36=5,EI$36=\"元\"),\"平成\"&30&\"年\"&7,IF(AND(EK$36>=6,EI$36=\"元\"),\"令和元年\"&7,IF(AND(EK$36>=1,EK$36<=5,EI$36=2),\"令和元年\"&7,(IF((AND(EK$36>=1,EK$36<=5)),\"令和\"&EI$36-1&\"年\"&7,\"令和\"&EI$36&\"年\"&7)))))))","v":"令和年7"},{"$f":"IF(OR(EJ85=\"\",EL$41=4),\"\",IF(AND(EK$36>=1,EK$36<=4,EI$36=31),\"平成\"&30&\"年\"&7,IF(AND(EK$36=5,EI$36=\"元\"),\"平成\"&30&\"年\"&7,IF(AND(EK$36>=6,EI$36=\"元\"),\"令和元年\"&7,IF(AND(EK$36>=1,EK$36<=5,EI$36=2),\"令和元年\"&7,(IF((AND(EK$36>=1,EK$36<=5)),\"令和\"&EI$36-1&\"年\"&7,\"令和\"&EI$36&\"年\"&7)))))))","v":"令和年7"},null,null,null,{"$f":"IF(OR(EO85=\"\",EO$41=8),\"\",7)","v":7},{"$f":"IF(OR(EP85=\"\",ER$41=4),\"\",IF(AND(EQ$36>=1,EQ$36<=4,EO$36=31),\"平成\"&30&\"年\"&7,IF(AND(EQ$36=5,EO$36=\"元\"),\"平成\"&30&\"年\"&7,IF(AND(EQ$36>=6,EO$36=\"元\"),\"令和元年\"&7,IF(AND(EQ$36>=1,EQ$36<=5,EO$36=2),\"令和元年\"&7,(IF((AND(EQ$36>=1,EQ$36<=5)),\"令和\"&EO$36-1&\"年\"&7,\"令和\"&EO$36&\"年\"&7)))))))","v":"令和年7"},{"$f":"IF(OR(EP85=\"\",ER$41=4),\"\",IF(AND(EQ$36>=1,EQ$36<=4,EO$36=31),\"平成\"&30&\"年\"&7,IF(AND(EQ$36=5,EO$36=\"元\"),\"平成\"&30&\"年\"&7,IF(AND(EQ$36>=6,EO$36=\"元\"),\"令和元年\"&7,IF(AND(EQ$36>=1,EQ$36<=5,EO$36=2),\"令和元年\"&7,(IF((AND(EQ$36>=1,EQ$36<=5)),\"令和\"&EO$36-1&\"年\"&7,\"令和\"&EO$36&\"年\"&7)))))))","v":"令和年7"},null,null,null,{"$f":"IF(OR(EU85=\"\",EU$41=8),\"\",7)","v":7},{"$f":"IF(OR(EV85=\"\",EX$41=4),\"\",IF(AND(EW$36>=1,EW$36<=4,EU$36=31),\"平成\"&30&\"年\"&7,IF(AND(EW$36=5,EU$36=\"元\"),\"平成\"&30&\"年\"&7,IF(AND(EW$36>=6,EU$36=\"元\"),\"令和元年\"&7,IF(AND(EW$36>=1,EW$36<=5,EU$36=2),\"令和元年\"&7,(IF((AND(EW$36>=1,EW$36<=5)),\"令和\"&EU$36-1&\"年\"&7,\"令和\"&EU$36&\"年\"&7)))))))","v":"令和年7"},{"$f":"IF(OR(EV85=\"\",EX$41=4),\"\",IF(AND(EW$36>=1,EW$36<=4,EU$36=31),\"平成\"&30&\"年\"&7,IF(AND(EW$36=5,EU$36=\"元\"),\"平成\"&30&\"年\"&7,IF(AND(EW$36>=6,EU$36=\"元\"),\"令和元年\"&7,IF(AND(EW$36>=1,EW$36<=5,EU$36=2),\"令和元年\"&7,(IF((AND(EW$36>=1,EW$36<=5)),\"令和\"&EU$36-1&\"年\"&7,\"令和\"&EU$36&\"年\"&7)))))))","v":"令和年7"},null,null,null,{"$f":"IF(OR(FA85=\"\",FA$41=8),\"\",7)","v":7},{"$f":"IF(OR(FB85=\"\",FD$41=4),\"\",IF(AND(FC$36>=1,FC$36<=4,FA$36=31),\"平成\"&30&\"年\"&7,IF(AND(FC$36=5,FA$36=\"元\"),\"平成\"&30&\"年\"&7,IF(AND(FC$36>=6,FA$36=\"元\"),\"令和元年\"&7,IF(AND(FC$36>=1,FC$36<=5,FA$36=2),\"令和元年\"&7,(IF((AND(FC$36>=1,FC$36<=5)),\"令和\"&FA$36-1&\"年\"&7,\"令和\"&FA$36&\"年\"&7)))))))","v":"令和年7"},{"$f":"IF(OR(FB85=\"\",FD$41=4),\"\",IF(AND(FC$36>=1,FC$36<=4,FA$36=31),\"平成\"&30&\"年\"&7,IF(AND(FC$36=5,FA$36=\"元\"),\"平成\"&30&\"年\"&7,IF(AND(FC$36>=6,FA$36=\"元\"),\"令和元年\"&7,IF(AND(FC$36>=1,FC$36<=5,FA$36=2),\"令和元年\"&7,(IF((AND(FC$36>=1,FC$36<=5)),\"令和\"&FA$36-1&\"年\"&7,\"令和\"&FA$36&\"年\"&7)))))))","v":"令和年7"},null,null,null,{"$f":"IF(OR(FG85=\"\",FG$41=8),\"\",7)","v":7},{"$f":"IF(OR(FH85=\"\",FJ$41=4),\"\",IF(AND(FI$36>=1,FI$36<=4,FG$36=31),\"平成\"&30&\"年\"&7,IF(AND(FI$36=5,FG$36=\"元\"),\"平成\"&30&\"年\"&7,IF(AND(FI$36>=6,FG$36=\"元\"),\"令和元年\"&7,IF(AND(FI$36>=1,FI$36<=5,FG$36=2),\"令和元年\"&7,(IF((AND(FI$36>=1,FI$36<=5)),\"令和\"&FG$36-1&\"年\"&7,\"令和\"&FG$36&\"年\"&7)))))))","v":"令和年7"},{"$f":"IF(OR(FH85=\"\",FJ$41=4),\"\",IF(AND(FI$36>=1,FI$36<=4,FG$36=31),\"平成\"&30&\"年\"&7,IF(AND(FI$36=5,FG$36=\"元\"),\"平成\"&30&\"年\"&7,IF(AND(FI$36>=6,FG$36=\"元\"),\"令和元年\"&7,IF(AND(FI$36>=1,FI$36<=5,FG$36=2),\"令和元年\"&7,(IF((AND(FI$36>=1,FI$36<=5)),\"令和\"&FG$36-1&\"年\"&7,\"令和\"&FG$36&\"年\"&7)))))))","v":"令和年7"},null,null,null,{"$f":"IF(OR(FM85=\"\",FM$41=8),\"\",7)","v":7},{"$f":"IF(OR(FN85=\"\",FP$41=4),\"\",IF(AND(FO$36>=1,FO$36<=4,FM$36=31),\"平成\"&30&\"年\"&7,IF(AND(FO$36=5,FM$36=\"元\"),\"平成\"&30&\"年\"&7,IF(AND(FO$36>=6,FM$36=\"元\"),\"令和元年\"&7,IF(AND(FO$36>=1,FO$36<=5,FM$36=2),\"令和元年\"&7,(IF((AND(FO$36>=1,FO$36<=5)),\"令和\"&FM$36-1&\"年\"&7,\"令和\"&FM$36&\"年\"&7)))))))","v":"令和年7"},{"$f":"IF(OR(FN85=\"\",FP$41=4),\"\",IF(AND(FO$36>=1,FO$36<=4,FM$36=31),\"平成\"&30&\"年\"&7,IF(AND(FO$36=5,FM$36=\"元\"),\"平成\"&30&\"年\"&7,IF(AND(FO$36>=6,FM$36=\"元\"),\"令和元年\"&7,IF(AND(FO$36>=1,FO$36<=5,FM$36=2),\"令和元年\"&7,(IF((AND(FO$36>=1,FO$36<=5)),\"令和\"&FM$36-1&\"年\"&7,\"令和\"&FM$36&\"年\"&7)))))))","v":"令和年7"},null,null,null,{"$f":"IF(OR(FS85=\"\",FS$41=8),\"\",7)","v":7},{"$f":"IF(OR(FT85=\"\",FV$41=4),\"\",IF(AND(FU$36>=1,FU$36<=4,FS$36=31),\"平成\"&30&\"年\"&7,IF(AND(FU$36=5,FS$36=\"元\"),\"平成\"&30&\"年\"&7,IF(AND(FU$36>=6,FS$36=\"元\"),\"令和元年\"&7,IF(AND(FU$36>=1,FU$36<=5,FS$36=2),\"令和元年\"&7,(IF((AND(FU$36>=1,FU$36<=5)),\"令和\"&FS$36-1&\"年\"&7,\"令和\"&FS$36&\"年\"&7)))))))","v":"令和年7"},{"$f":"IF(OR(FT85=\"\",FV$41=4),\"\",IF(AND(FU$36>=1,FU$36<=4,FS$36=31),\"平成\"&30&\"年\"&7,IF(AND(FU$36=5,FS$36=\"元\"),\"平成\"&30&\"年\"&7,IF(AND(FU$36>=6,FS$36=\"元\"),\"令和元年\"&7,IF(AND(FU$36>=1,FU$36<=5,FS$36=2),\"令和元年\"&7,(IF((AND(FU$36>=1,FU$36<=5)),\"令和\"&FS$36-1&\"年\"&7,\"令和\"&FS$36&\"年\"&7)))))))","v":"令和年7"},null,null,null,{"$f":"IF(OR(FY85=\"\",FY$41=8),\"\",7)","v":7},{"$f":"IF(OR(FZ85=\"\",GB$41=4),\"\",IF(AND(GA$36>=1,GA$36<=4,FY$36=31),\"平成\"&30&\"年\"&7,IF(AND(GA$36=5,FY$36=\"元\"),\"平成\"&30&\"年\"&7,IF(AND(GA$36>=6,FY$36=\"元\"),\"令和元年\"&7,IF(AND(GA$36>=1,GA$36<=5,FY$36=2),\"令和元年\"&7,(IF((AND(GA$36>=1,GA$36<=5)),\"令和\"&FY$36-1&\"年\"&7,\"令和\"&FY$36&\"年\"&7)))))))","v":"令和年7"},{"$f":"IF(OR(FZ85=\"\",GB$41=4),\"\",IF(AND(GA$36>=1,GA$36<=4,FY$36=31),\"平成\"&30&\"年\"&7,IF(AND(GA$36=5,FY$36=\"元\"),\"平成\"&30&\"年\"&7,IF(AND(GA$36>=6,FY$36=\"元\"),\"令和元年\"&7,IF(AND(GA$36>=1,GA$36<=5,FY$36=2),\"令和元年\"&7,(IF((AND(GA$36>=1,GA$36<=5)),\"令和\"&FY$36-1&\"年\"&7,\"令和\"&FY$36&\"年\"&7)))))))","v":"令和年7"},null,null,null,{"$f":"IF(OR(GE85=\"\",GE$41=8),\"\",7)","v":7},{"$f":"IF(OR(GF85=\"\",GH$41=4),\"\",IF(AND(GG$36>=1,GG$36<=4,GE$36=31),\"平成\"&30&\"年\"&7,IF(AND(GG$36=5,GE$36=\"元\"),\"平成\"&30&\"年\"&7,IF(AND(GG$36>=6,GE$36=\"元\"),\"令和元年\"&7,IF(AND(GG$36>=1,GG$36<=5,GE$36=2),\"令和元年\"&7,(IF((AND(GG$36>=1,GG$36<=5)),\"令和\"&GE$36-1&\"年\"&7,\"令和\"&GE$36&\"年\"&7)))))))","v":"令和年7"},{"$f":"IF(OR(GF85=\"\",GH$41=4),\"\",IF(AND(GG$36>=1,GG$36<=4,GE$36=31),\"平成\"&30&\"年\"&7,IF(AND(GG$36=5,GE$36=\"元\"),\"平成\"&30&\"年\"&7,IF(AND(GG$36>=6,GE$36=\"元\"),\"令和元年\"&7,IF(AND(GG$36>=1,GG$36<=5,GE$36=2),\"令和元年\"&7,(IF((AND(GG$36>=1,GG$36<=5)),\"令和\"&GE$36-1&\"年\"&7,\"令和\"&GE$36&\"年\"&7)))))))","v":"令和年7"},null,null,null,{"$f":"IF(OR(GK85=\"\",GK$41=8),\"\",7)","v":7},{"$f":"IF(OR(GL85=\"\",GN$41=4),\"\",IF(AND(GM$36>=1,GM$36<=4,GK$36=31),\"平成\"&30&\"年\"&7,IF(AND(GM$36=5,GK$36=\"元\"),\"平成\"&30&\"年\"&7,IF(AND(GM$36>=6,GK$36=\"元\"),\"令和元年\"&7,IF(AND(GM$36>=1,GM$36<=5,GK$36=2),\"令和元年\"&7,(IF((AND(GM$36>=1,GM$36<=5)),\"令和\"&GK$36-1&\"年\"&7,\"令和\"&GK$36&\"年\"&7)))))))","v":"令和年7"},{"$f":"IF(OR(GL85=\"\",GN$41=4),\"\",IF(AND(GM$36>=1,GM$36<=4,GK$36=31),\"平成\"&30&\"年\"&7,IF(AND(GM$36=5,GK$36=\"元\"),\"平成\"&30&\"年\"&7,IF(AND(GM$36>=6,GK$36=\"元\"),\"令和元年\"&7,IF(AND(GM$36>=1,GM$36<=5,GK$36=2),\"令和元年\"&7,(IF((AND(GM$36>=1,GM$36<=5)),\"令和\"&GK$36-1&\"年\"&7,\"令和\"&GK$36&\"年\"&7)))))))","v":"令和年7"},null,null,null,{"$f":"IF(OR(GQ85=\"\",GQ$41=8),\"\",7)","v":7},{"$f":"IF(OR(GR85=\"\",GT$41=4),\"\",IF(AND(GS$36>=1,GS$36<=4,GQ$36=31),\"平成\"&30&\"年\"&7,IF(AND(GS$36=5,GQ$36=\"元\"),\"平成\"&30&\"年\"&7,IF(AND(GS$36>=6,GQ$36=\"元\"),\"令和元年\"&7,IF(AND(GS$36>=1,GS$36<=5,GQ$36=2),\"令和元年\"&7,(IF((AND(GS$36>=1,GS$36<=5)),\"令和\"&GQ$36-1&\"年\"&7,\"令和\"&GQ$36&\"年\"&7)))))))","v":"令和年7"},{"$f":"IF(OR(GR85=\"\",GT$41=4),\"\",IF(AND(GS$36>=1,GS$36<=4,GQ$36=31),\"平成\"&30&\"年\"&7,IF(AND(GS$36=5,GQ$36=\"元\"),\"平成\"&30&\"年\"&7,IF(AND(GS$36>=6,GQ$36=\"元\"),\"令和元年\"&7,IF(AND(GS$36>=1,GS$36<=5,GQ$36=2),\"令和元年\"&7,(IF((AND(GS$36>=1,GS$36<=5)),\"令和\"&GQ$36-1&\"年\"&7,\"令和\"&GQ$36&\"年\"&7)))))))","v":"令和年7"},null,null,null,{"$f":"IF(OR(GW85=\"\",GW$41=8),\"\",7)","v":7},{"$f":"IF(OR(GX85=\"\",GZ$41=4),\"\",IF(AND(GY$36>=1,GY$36<=4,GW$36=31),\"平成\"&30&\"年\"&7,IF(AND(GY$36=5,GW$36=\"元\"),\"平成\"&30&\"年\"&7,IF(AND(GY$36>=6,GW$36=\"元\"),\"令和元年\"&7,IF(AND(GY$36>=1,GY$36<=5,GW$36=2),\"令和元年\"&7,(IF((AND(GY$36>=1,GY$36<=5)),\"令和\"&GW$36-1&\"年\"&7,\"令和\"&GW$36&\"年\"&7)))))))","v":"令和年7"},{"$f":"IF(OR(GX85=\"\",GZ$41=4),\"\",IF(AND(GY$36>=1,GY$36<=4,GW$36=31),\"平成\"&30&\"年\"&7,IF(AND(GY$36=5,GW$36=\"元\"),\"平成\"&30&\"年\"&7,IF(AND(GY$36>=6,GW$36=\"元\"),\"令和元年\"&7,IF(AND(GY$36>=1,GY$36<=5,GW$36=2),\"令和元年\"&7,(IF((AND(GY$36>=1,GY$36<=5)),\"令和\"&GW$36-1&\"年\"&7,\"令和\"&GW$36&\"年\"&7)))))))","v":"令和年7"},null,null,null,{"$f":"IF(OR(HC85=\"\",HC$41=8),\"\",7)","v":7},{"$f":"IF(OR(HD85=\"\",HF$41=4),\"\",IF(AND(HE$36>=1,HE$36<=4,HC$36=31),\"平成\"&30&\"年\"&7,IF(AND(HE$36=5,HC$36=\"元\"),\"平成\"&30&\"年\"&7,IF(AND(HE$36>=6,HC$36=\"元\"),\"令和元年\"&7,IF(AND(HE$36>=1,HE$36<=5,HC$36=2),\"令和元年\"&7,(IF((AND(HE$36>=1,HE$36<=5)),\"令和\"&HC$36-1&\"年\"&7,\"令和\"&HC$36&\"年\"&7)))))))","v":"令和年7"},{"$f":"IF(OR(HD85=\"\",HF$41=4),\"\",IF(AND(HE$36>=1,HE$36<=4,HC$36=31),\"平成\"&30&\"年\"&7,IF(AND(HE$36=5,HC$36=\"元\"),\"平成\"&30&\"年\"&7,IF(AND(HE$36>=6,HC$36=\"元\"),\"令和元年\"&7,IF(AND(HE$36>=1,HE$36<=5,HC$36=2),\"令和元年\"&7,(IF((AND(HE$36>=1,HE$36<=5)),\"令和\"&HC$36-1&\"年\"&7,\"令和\"&HC$36&\"年\"&7)))))))","v":"令和年7"},null,null,null,{"$f":"IF(OR(HI85=\"\",HI$41=8),\"\",7)","v":7},{"$f":"IF(OR(HJ85=\"\",HL$41=4),\"\",IF(AND(HK$36>=1,HK$36<=4,HI$36=31),\"平成\"&30&\"年\"&7,IF(AND(HK$36=5,HI$36=\"元\"),\"平成\"&30&\"年\"&7,IF(AND(HK$36>=6,HI$36=\"元\"),\"令和元年\"&7,IF(AND(HK$36>=1,HK$36<=5,HI$36=2),\"令和元年\"&7,(IF((AND(HK$36>=1,HK$36<=5)),\"令和\"&HI$36-1&\"年\"&7,\"令和\"&HI$36&\"年\"&7)))))))","v":"令和年7"},{"$f":"IF(OR(HJ85=\"\",HL$41=4),\"\",IF(AND(HK$36>=1,HK$36<=4,HI$36=31),\"平成\"&30&\"年\"&7,IF(AND(HK$36=5,HI$36=\"元\"),\"平成\"&30&\"年\"&7,IF(AND(HK$36>=6,HI$36=\"元\"),\"令和元年\"&7,IF(AND(HK$36>=1,HK$36<=5,HI$36=2),\"令和元年\"&7,(IF((AND(HK$36>=1,HK$36<=5)),\"令和\"&HI$36-1&\"年\"&7,\"令和\"&HI$36&\"年\"&7)))))))","v":"令和年7"},null,null,null,{"$f":"IF(OR(HO85=\"\",HO$41=8),\"\",7)","v":7},{"$f":"IF(OR(HP85=\"\",HR$41=4),\"\",IF(AND(HQ$36>=1,HQ$36<=4,HO$36=31),\"平成\"&30&\"年\"&7,IF(AND(HQ$36=5,HO$36=\"元\"),\"平成\"&30&\"年\"&7,IF(AND(HQ$36>=6,HO$36=\"元\"),\"令和元年\"&7,IF(AND(HQ$36>=1,HQ$36<=5,HO$36=2),\"令和元年\"&7,(IF((AND(HQ$36>=1,HQ$36<=5)),\"令和\"&HO$36-1&\"年\"&7,\"令和\"&HO$36&\"年\"&7)))))))","v":"令和年7"},{"$f":"IF(OR(HP85=\"\",HR$41=4),\"\",IF(AND(HQ$36>=1,HQ$36<=4,HO$36=31),\"平成\"&30&\"年\"&7,IF(AND(HQ$36=5,HO$36=\"元\"),\"平成\"&30&\"年\"&7,IF(AND(HQ$36>=6,HO$36=\"元\"),\"令和元年\"&7,IF(AND(HQ$36>=1,HQ$36<=5,HO$36=2),\"令和元年\"&7,(IF((AND(HQ$36>=1,HQ$36<=5)),\"令和\"&HO$36-1&\"年\"&7,\"令和\"&HO$36&\"年\"&7)))))))","v":"令和年7"},null,null,null,{"$f":"IF(OR(HU85=\"\",HU$41=8),\"\",7)","v":7},{"$f":"IF(OR(HV85=\"\",HX$41=4),\"\",IF(AND(HW$36>=1,HW$36<=4,HU$36=31),\"平成\"&30&\"年\"&7,IF(AND(HW$36=5,HU$36=\"元\"),\"平成\"&30&\"年\"&7,IF(AND(HW$36>=6,HU$36=\"元\"),\"令和元年\"&7,IF(AND(HW$36>=1,HW$36<=5,HU$36=2),\"令和元年\"&7,(IF((AND(HW$36>=1,HW$36<=5)),\"令和\"&HU$36-1&\"年\"&7,\"令和\"&HU$36&\"年\"&7)))))))","v":"令和年7"},{"$f":"IF(OR(HV85=\"\",HX$41=4),\"\",IF(AND(HW$36>=1,HW$36<=4,HU$36=31),\"平成\"&30&\"年\"&7,IF(AND(HW$36=5,HU$36=\"元\"),\"平成\"&30&\"年\"&7,IF(AND(HW$36>=6,HU$36=\"元\"),\"令和元年\"&7,IF(AND(HW$36>=1,HW$36<=5,HU$36=2),\"令和元年\"&7,(IF((AND(HW$36>=1,HW$36<=5)),\"令和\"&HU$36-1&\"年\"&7,\"令和\"&HU$36&\"年\"&7)))))))","v":"令和年7"},null,null,null,{"$f":"IF(OR(IA85=\"\",IA$41=8),\"\",7)","v":7},{"$f":"IF(OR(IB85=\"\",ID$41=4),\"\",IF(AND(IC$36>=1,IC$36<=4,IA$36=31),\"平成\"&30&\"年\"&7,IF(AND(IC$36=5,IA$36=\"元\"),\"平成\"&30&\"年\"&7,IF(AND(IC$36>=6,IA$36=\"元\"),\"令和元年\"&7,IF(AND(IC$36>=1,IC$36<=5,IA$36=2),\"令和元年\"&7,(IF((AND(IC$36>=1,IC$36<=5)),\"令和\"&IA$36-1&\"年\"&7,\"令和\"&IA$36&\"年\"&7)))))))","v":"令和年7"},{"$f":"IF(OR(IB85=\"\",ID$41=4),\"\",IF(AND(IC$36>=1,IC$36<=4,IA$36=31),\"平成\"&30&\"年\"&7,IF(AND(IC$36=5,IA$36=\"元\"),\"平成\"&30&\"年\"&7,IF(AND(IC$36>=6,IA$36=\"元\"),\"令和元年\"&7,IF(AND(IC$36>=1,IC$36<=5,IA$36=2),\"令和元年\"&7,(IF((AND(IC$36>=1,IC$36<=5)),\"令和\"&IA$36-1&\"年\"&7,\"令和\"&IA$36&\"年\"&7)))))))","v":"令和年7"},null,null,null,{"$f":"IF(OR(IG85=\"\",IG$41=8),\"\",7)","v":7},{"$f":"IF(OR(IH85=\"\",IJ$41=4),\"\",IF(AND(II$36>=1,II$36<=4,IG$36=31),\"平成\"&30&\"年\"&7,IF(AND(II$36=5,IG$36=\"元\"),\"平成\"&30&\"年\"&7,IF(AND(II$36>=6,IG$36=\"元\"),\"令和元年\"&7,IF(AND(II$36>=1,II$36<=5,IG$36=2),\"令和元年\"&7,(IF((AND(II$36>=1,II$36<=5)),\"令和\"&IG$36-1&\"年\"&7,\"令和\"&IG$36&\"年\"&7)))))))","v":"令和年7"},{"$f":"IF(OR(IH85=\"\",IJ$41=4),\"\",IF(AND(II$36>=1,II$36<=4,IG$36=31),\"平成\"&30&\"年\"&7,IF(AND(II$36=5,IG$36=\"元\"),\"平成\"&30&\"年\"&7,IF(AND(II$36>=6,IG$36=\"元\"),\"令和元年\"&7,IF(AND(II$36>=1,II$36<=5,IG$36=2),\"令和元年\"&7,(IF((AND(II$36>=1,II$36<=5)),\"令和\"&IG$36-1&\"年\"&7,\"令和\"&IG$36&\"年\"&7)))))))","v":"令和年7"}]
[null,{"$f":"IF(AND(CA21<>\"\",CA25<>\"\",CC25<>\"\",CE25<>\"\"),CA17,\"\")","v":""},"平",9,"平9",null,{"$f":"IF(OR(G86=\"\",G$41=9),\"\",8)","v":8},{"$f":"IF(OR(H86=\"\",J$41=4),\"\",IF(AND(I$36>=1,I$36<=4,G$36=31),\"平成\"&30&\"年\"&8,IF(AND(I$36=5,G$36=\"元\"),\"平成\"&30&\"年\"&8,IF(AND(I$36>=6,G$36=\"元\"),\"令和元年\"&8,IF(AND(I$36>=1,I$36<=5,G$36=2),\"令和元年\"&8,(IF((AND(I$36>=1,I$36<=5)),\"令和\"&G$36-1&\"年\"&8,\"令和\"&G$36&\"年\"&8)))))))","v":"令和年8"},{"$f":"IF(OR(H86=\"\",J$41=4),\"\",IF(AND(I$36>=1,I$36<=4,G$36=31),\"平成\"&30&\"年\"&8,IF(AND(I$36=5,G$36=\"元\"),\"平成\"&30&\"年\"&8,IF(AND(I$36>=6,G$36=\"元\"),\"令和元年\"&8,IF(AND(I$36>=1,I$36<=5,G$36=2),\"令和元年\"&8,(IF((AND(I$36>=1,I$36<=5)),\"令和\"&G$36-1&\"年\"&8,\"令和\"&G$36&\"年\"&8)))))))","v":"令和年8"},null,null,null,{"$f":"IF(OR(M86=\"\",M$41=9),\"\",8)","v":8},{"$f":"IF(OR(N86=\"\",P$41=4),\"\",IF(AND(O$36>=1,O$36<=4,M$36=31),\"平成\"&30&\"年\"&8,IF(AND(O$36=5,M$36=\"元\"),\"平成\"&30&\"年\"&8,IF(AND(O$36>=6,M$36=\"元\"),\"令和元年\"&8,IF(AND(O$36>=1,O$36<=5,M$36=2),\"令和元年\"&8,(IF((AND(O$36>=1,O$36<=5)),\"令和\"&M$36-1&\"年\"&8,\"令和\"&M$36&\"年\"&8)))))))","v":"令和年8"},{"$f":"IF(OR(N86=\"\",P$41=4),\"\",IF(AND(O$36>=1,O$36<=4,M$36=31),\"平成\"&30&\"年\"&8,IF(AND(O$36=5,M$36=\"元\"),\"平成\"&30&\"年\"&8,IF(AND(O$36>=6,M$36=\"元\"),\"令和元年\"&8,IF(AND(O$36>=1,O$36<=5,M$36=2),\"令和元年\"&8,(IF((AND(O$36>=1,O$36<=5)),\"令和\"&M$36-1&\"年\"&8,\"令和\"&M$36&\"年\"&8)))))))","v":"令和年8"},null,null,null,{"$f":"IF(OR(S86=\"\",S$41=9),\"\",8)","v":8},{"$f":"IF(OR(T86=\"\",V$41=4),\"\",IF(AND(U$36>=1,U$36<=4,S$36=31),\"平成\"&30&\"年\"&8,IF(AND(U$36=5,S$36=\"元\"),\"平成\"&30&\"年\"&8,IF(AND(U$36>=6,S$36=\"元\"),\"令和元年\"&8,IF(AND(U$36>=1,U$36<=5,S$36=2),\"令和元年\"&8,(IF((AND(U$36>=1,U$36<=5)),\"令和\"&S$36-1&\"年\"&8,\"令和\"&S$36&\"年\"&8)))))))","v":"令和年8"},{"$f":"IF(OR(T86=\"\",V$41=4),\"\",IF(AND(U$36>=1,U$36<=4,S$36=31),\"平成\"&30&\"年\"&8,IF(AND(U$36=5,S$36=\"元\"),\"平成\"&30&\"年\"&8,IF(AND(U$36>=6,S$36=\"元\"),\"令和元年\"&8,IF(AND(U$36>=1,U$36<=5,S$36=2),\"令和元年\"&8,(IF((AND(U$36>=1,U$36<=5)),\"令和\"&S$36-1&\"年\"&8,\"令和\"&S$36&\"年\"&8)))))))","v":"令和年8"},null,null,null,{"$f":"IF(OR(Y86=\"\",Y$41=9),\"\",8)","v":8},{"$f":"IF(OR(Z86=\"\",AB$41=4),\"\",IF(AND(AA$36>=1,AA$36<=4,Y$36=31),\"平成\"&30&\"年\"&8,IF(AND(AA$36=5,Y$36=\"元\"),\"平成\"&30&\"年\"&8,IF(AND(AA$36>=6,Y$36=\"元\"),\"令和元年\"&8,IF(AND(AA$36>=1,AA$36<=5,Y$36=2),\"令和元年\"&8,(IF((AND(AA$36>=1,AA$36<=5)),\"令和\"&Y$36-1&\"年\"&8,\"令和\"&Y$36&\"年\"&8)))))))","v":"令和年8"},{"$f":"IF(OR(Z86=\"\",AB$41=4),\"\",IF(AND(AA$36>=1,AA$36<=4,Y$36=31),\"平成\"&30&\"年\"&8,IF(AND(AA$36=5,Y$36=\"元\"),\"平成\"&30&\"年\"&8,IF(AND(AA$36>=6,Y$36=\"元\"),\"令和元年\"&8,IF(AND(AA$36>=1,AA$36<=5,Y$36=2),\"令和元年\"&8,(IF((AND(AA$36>=1,AA$36<=5)),\"令和\"&Y$36-1&\"年\"&8,\"令和\"&Y$36&\"年\"&8)))))))","v":"令和年8"},null,null,null,{"$f":"IF(OR(AE86=\"\",AE$41=9),\"\",8)","v":8},{"$f":"IF(OR(AF86=\"\",AH$41=4),\"\",IF(AND(AG$36>=1,AG$36<=4,AE$36=31),\"平成\"&30&\"年\"&8,IF(AND(AG$36=5,AE$36=\"元\"),\"平成\"&30&\"年\"&8,IF(AND(AG$36>=6,AE$36=\"元\"),\"令和元年\"&8,IF(AND(AG$36>=1,AG$36<=5,AE$36=2),\"令和元年\"&8,(IF((AND(AG$36>=1,AG$36<=5)),\"令和\"&AE$36-1&\"年\"&8,\"令和\"&AE$36&\"年\"&8)))))))","v":"令和年8"},{"$f":"IF(OR(AF86=\"\",AH$41=4),\"\",IF(AND(AG$36>=1,AG$36<=4,AE$36=31),\"平成\"&30&\"年\"&8,IF(AND(AG$36=5,AE$36=\"元\"),\"平成\"&30&\"年\"&8,IF(AND(AG$36>=6,AE$36=\"元\"),\"令和元年\"&8,IF(AND(AG$36>=1,AG$36<=5,AE$36=2),\"令和元年\"&8,(IF((AND(AG$36>=1,AG$36<=5)),\"令和\"&AE$36-1&\"年\"&8,\"令和\"&AE$36&\"年\"&8)))))))","v":"令和年8"},null,null,null,{"$f":"IF(OR(AK86=\"\",AK$41=9),\"\",8)","v":8},{"$f":"IF(OR(AL86=\"\",AN$41=4),\"\",IF(AND(AM$36>=1,AM$36<=4,AK$36=31),\"平成\"&30&\"年\"&8,IF(AND(AM$36=5,AK$36=\"元\"),\"平成\"&30&\"年\"&8,IF(AND(AM$36>=6,AK$36=\"元\"),\"令和元年\"&8,IF(AND(AM$36>=1,AM$36<=5,AK$36=2),\"令和元年\"&8,(IF((AND(AM$36>=1,AM$36<=5)),\"令和\"&AK$36-1&\"年\"&8,\"令和\"&AK$36&\"年\"&8)))))))","v":"令和年8"},{"$f":"IF(OR(AL86=\"\",AN$41=4),\"\",IF(AND(AM$36>=1,AM$36<=4,AK$36=31),\"平成\"&30&\"年\"&8,IF(AND(AM$36=5,AK$36=\"元\"),\"平成\"&30&\"年\"&8,IF(AND(AM$36>=6,AK$36=\"元\"),\"令和元年\"&8,IF(AND(AM$36>=1,AM$36<=5,AK$36=2),\"令和元年\"&8,(IF((AND(AM$36>=1,AM$36<=5)),\"令和\"&AK$36-1&\"年\"&8,\"令和\"&AK$36&\"年\"&8)))))))","v":"令和年8"},null,null,null,{"$f":"IF(OR(AQ86=\"\",AQ$41=9),\"\",8)","v":8},{"$f":"IF(OR(AR86=\"\",AT$41=4),\"\",IF(AND(AS$36>=1,AS$36<=4,AQ$36=31),\"平成\"&30&\"年\"&8,IF(AND(AS$36=5,AQ$36=\"元\"),\"平成\"&30&\"年\"&8,IF(AND(AS$36>=6,AQ$36=\"元\"),\"令和元年\"&8,IF(AND(AS$36>=1,AS$36<=5,AQ$36=2),\"令和元年\"&8,(IF((AND(AS$36>=1,AS$36<=5)),\"令和\"&AQ$36-1&\"年\"&8,\"令和\"&AQ$36&\"年\"&8)))))))","v":"令和年8"},{"$f":"IF(OR(AR86=\"\",AT$41=4),\"\",IF(AND(AS$36>=1,AS$36<=4,AQ$36=31),\"平成\"&30&\"年\"&8,IF(AND(AS$36=5,AQ$36=\"元\"),\"平成\"&30&\"年\"&8,IF(AND(AS$36>=6,AQ$36=\"元\"),\"令和元年\"&8,IF(AND(AS$36>=1,AS$36<=5,AQ$36=2),\"令和元年\"&8,(IF((AND(AS$36>=1,AS$36<=5)),\"令和\"&AQ$36-1&\"年\"&8,\"令和\"&AQ$36&\"年\"&8)))))))","v":"令和年8"},null,null,null,{"$f":"IF(OR(AW86=\"\",AW$41=9),\"\",8)","v":8},{"$f":"IF(OR(AX86=\"\",AZ$41=4),\"\",IF(AND(AY$36>=1,AY$36<=4,AW$36=31),\"平成\"&30&\"年\"&8,IF(AND(AY$36=5,AW$36=\"元\"),\"平成\"&30&\"年\"&8,IF(AND(AY$36>=6,AW$36=\"元\"),\"令和元年\"&8,IF(AND(AY$36>=1,AY$36<=5,AW$36=2),\"令和元年\"&8,(IF((AND(AY$36>=1,AY$36<=5)),\"令和\"&AW$36-1&\"年\"&8,\"令和\"&AW$36&\"年\"&8)))))))","v":"令和年8"},{"$f":"IF(OR(AX86=\"\",AZ$41=4),\"\",IF(AND(AY$36>=1,AY$36<=4,AW$36=31),\"平成\"&30&\"年\"&8,IF(AND(AY$36=5,AW$36=\"元\"),\"平成\"&30&\"年\"&8,IF(AND(AY$36>=6,AW$36=\"元\"),\"令和元年\"&8,IF(AND(AY$36>=1,AY$36<=5,AW$36=2),\"令和元年\"&8,(IF((AND(AY$36>=1,AY$36<=5)),\"令和\"&AW$36-1&\"年\"&8,\"令和\"&AW$36&\"年\"&8)))))))","v":"令和年8"},null,null,null,{"$f":"IF(OR(BC86=\"\",BC$41=9),\"\",8)","v":8},{"$f":"IF(OR(BD86=\"\",BF$41=4),\"\",IF(AND(BE$36>=1,BE$36<=4,BC$36=31),\"平成\"&30&\"年\"&8,IF(AND(BE$36=5,BC$36=\"元\"),\"平成\"&30&\"年\"&8,IF(AND(BE$36>=6,BC$36=\"元\"),\"令和元年\"&8,IF(AND(BE$36>=1,BE$36<=5,BC$36=2),\"令和元年\"&8,(IF((AND(BE$36>=1,BE$36<=5)),\"令和\"&BC$36-1&\"年\"&8,\"令和\"&BC$36&\"年\"&8)))))))","v":"令和年8"},{"$f":"IF(OR(BD86=\"\",BF$41=4),\"\",IF(AND(BE$36>=1,BE$36<=4,BC$36=31),\"平成\"&30&\"年\"&8,IF(AND(BE$36=5,BC$36=\"元\"),\"平成\"&30&\"年\"&8,IF(AND(BE$36>=6,BC$36=\"元\"),\"令和元年\"&8,IF(AND(BE$36>=1,BE$36<=5,BC$36=2),\"令和元年\"&8,(IF((AND(BE$36>=1,BE$36<=5)),\"令和\"&BC$36-1&\"年\"&8,\"令和\"&BC$36&\"年\"&8)))))))","v":"令和年8"},null,null,null,{"$f":"IF(OR(BI86=\"\",BI$41=9),\"\",8)","v":8},{"$f":"IF(OR(BJ86=\"\",BL$41=4),\"\",IF(AND(BK$36>=1,BK$36<=4,BI$36=31),\"平成\"&30&\"年\"&8,IF(AND(BK$36=5,BI$36=\"元\"),\"平成\"&30&\"年\"&8,IF(AND(BK$36>=6,BI$36=\"元\"),\"令和元年\"&8,IF(AND(BK$36>=1,BK$36<=5,BI$36=2),\"令和元年\"&8,(IF((AND(BK$36>=1,BK$36<=5)),\"令和\"&BI$36-1&\"年\"&8,\"令和\"&BI$36&\"年\"&8)))))))","v":"令和年8"},{"$f":"IF(OR(BJ86=\"\",BL$41=4),\"\",IF(AND(BK$36>=1,BK$36<=4,BI$36=31),\"平成\"&30&\"年\"&8,IF(AND(BK$36=5,BI$36=\"元\"),\"平成\"&30&\"年\"&8,IF(AND(BK$36>=6,BI$36=\"元\"),\"令和元年\"&8,IF(AND(BK$36>=1,BK$36<=5,BI$36=2),\"令和元年\"&8,(IF((AND(BK$36>=1,BK$36<=5)),\"令和\"&BI$36-1&\"年\"&8,\"令和\"&BI$36&\"年\"&8)))))))","v":"令和年8"},null,null,null,{"$f":"IF(OR(BO86=\"\",BO$41=9),\"\",8)","v":8},{"$f":"IF(OR(BP86=\"\",BR$41=4),\"\",IF(AND(BQ$36>=1,BQ$36<=4,BO$36=31),\"平成\"&30&\"年\"&8,IF(AND(BQ$36=5,BO$36=\"元\"),\"平成\"&30&\"年\"&8,IF(AND(BQ$36>=6,BO$36=\"元\"),\"令和元年\"&8,IF(AND(BQ$36>=1,BQ$36<=5,BO$36=2),\"令和元年\"&8,(IF((AND(BQ$36>=1,BQ$36<=5)),\"令和\"&BO$36-1&\"年\"&8,\"令和\"&BO$36&\"年\"&8)))))))","v":"令和年8"},{"$f":"IF(OR(BP86=\"\",BR$41=4),\"\",IF(AND(BQ$36>=1,BQ$36<=4,BO$36=31),\"平成\"&30&\"年\"&8,IF(AND(BQ$36=5,BO$36=\"元\"),\"平成\"&30&\"年\"&8,IF(AND(BQ$36>=6,BO$36=\"元\"),\"令和元年\"&8,IF(AND(BQ$36>=1,BQ$36<=5,BO$36=2),\"令和元年\"&8,(IF((AND(BQ$36>=1,BQ$36<=5)),\"令和\"&BO$36-1&\"年\"&8,\"令和\"&BO$36&\"年\"&8)))))))","v":"令和年8"},null,null,null,{"$f":"IF(OR(BU86=\"\",BU$41=9),\"\",8)","v":8},{"$f":"IF(OR(BV86=\"\",BX$41=4),\"\",IF(AND(BW$36>=1,BW$36<=4,BU$36=31),\"平成\"&30&\"年\"&8,IF(AND(BW$36=5,BU$36=\"元\"),\"平成\"&30&\"年\"&8,IF(AND(BW$36>=6,BU$36=\"元\"),\"令和元年\"&8,IF(AND(BW$36>=1,BW$36<=5,BU$36=2),\"令和元年\"&8,(IF((AND(BW$36>=1,BW$36<=5)),\"令和\"&BU$36-1&\"年\"&8,\"令和\"&BU$36&\"年\"&8)))))))","v":"令和年8"},{"$f":"IF(OR(BV86=\"\",BX$41=4),\"\",IF(AND(BW$36>=1,BW$36<=4,BU$36=31),\"平成\"&30&\"年\"&8,IF(AND(BW$36=5,BU$36=\"元\"),\"平成\"&30&\"年\"&8,IF(AND(BW$36>=6,BU$36=\"元\"),\"令和元年\"&8,IF(AND(BW$36>=1,BW$36<=5,BU$36=2),\"令和元年\"&8,(IF((AND(BW$36>=1,BW$36<=5)),\"令和\"&BU$36-1&\"年\"&8,\"令和\"&BU$36&\"年\"&8)))))))","v":"令和年8"},null,null,null,{"$f":"IF(OR(CA86=\"\",CA$41=9),\"\",8)","v":8},{"$f":"IF(OR(CB86=\"\",CD$41=4),\"\",IF(AND(CC$36>=1,CC$36<=4,CA$36=31),\"平成\"&30&\"年\"&8,IF(AND(CC$36=5,CA$36=\"元\"),\"平成\"&30&\"年\"&8,IF(AND(CC$36>=6,CA$36=\"元\"),\"令和元年\"&8,IF(AND(CC$36>=1,CC$36<=5,CA$36=2),\"令和元年\"&8,(IF((AND(CC$36>=1,CC$36<=5)),\"令和\"&CA$36-1&\"年\"&8,\"令和\"&CA$36&\"年\"&8)))))))","v":"令和年8"},{"$f":"IF(OR(CB86=\"\",CD$41=4),\"\",IF(AND(CC$36>=1,CC$36<=4,CA$36=31),\"平成\"&30&\"年\"&8,IF(AND(CC$36=5,CA$36=\"元\"),\"平成\"&30&\"年\"&8,IF(AND(CC$36>=6,CA$36=\"元\"),\"令和元年\"&8,IF(AND(CC$36>=1,CC$36<=5,CA$36=2),\"令和元年\"&8,(IF((AND(CC$36>=1,CC$36<=5)),\"令和\"&CA$36-1&\"年\"&8,\"令和\"&CA$36&\"年\"&8)))))))","v":"令和年8"},null,null,null,{"$f":"IF(OR(CG86=\"\",CG$41=9),\"\",8)","v":8},{"$f":"IF(OR(CH86=\"\",CJ$41=4),\"\",IF(AND(CI$36>=1,CI$36<=4,CG$36=31),\"平成\"&30&\"年\"&8,IF(AND(CI$36=5,CG$36=\"元\"),\"平成\"&30&\"年\"&8,IF(AND(CI$36>=6,CG$36=\"元\"),\"令和元年\"&8,IF(AND(CI$36>=1,CI$36<=5,CG$36=2),\"令和元年\"&8,(IF((AND(CI$36>=1,CI$36<=5)),\"令和\"&CG$36-1&\"年\"&8,\"令和\"&CG$36&\"年\"&8)))))))","v":"令和年8"},{"$f":"IF(OR(CH86=\"\",CJ$41=4),\"\",IF(AND(CI$36>=1,CI$36<=4,CG$36=31),\"平成\"&30&\"年\"&8,IF(AND(CI$36=5,CG$36=\"元\"),\"平成\"&30&\"年\"&8,IF(AND(CI$36>=6,CG$36=\"元\"),\"令和元年\"&8,IF(AND(CI$36>=1,CI$36<=5,CG$36=2),\"令和元年\"&8,(IF((AND(CI$36>=1,CI$36<=5)),\"令和\"&CG$36-1&\"年\"&8,\"令和\"&CG$36&\"年\"&8)))))))","v":"令和年8"},null,null,null,{"$f":"IF(OR(CM86=\"\",CM$41=9),\"\",8)","v":8},{"$f":"IF(OR(CN86=\"\",CP$41=4),\"\",IF(AND(CO$36>=1,CO$36<=4,CM$36=31),\"平成\"&30&\"年\"&8,IF(AND(CO$36=5,CM$36=\"元\"),\"平成\"&30&\"年\"&8,IF(AND(CO$36>=6,CM$36=\"元\"),\"令和元年\"&8,IF(AND(CO$36>=1,CO$36<=5,CM$36=2),\"令和元年\"&8,(IF((AND(CO$36>=1,CO$36<=5)),\"令和\"&CM$36-1&\"年\"&8,\"令和\"&CM$36&\"年\"&8)))))))","v":"令和年8"},{"$f":"IF(OR(CN86=\"\",CP$41=4),\"\",IF(AND(CO$36>=1,CO$36<=4,CM$36=31),\"平成\"&30&\"年\"&8,IF(AND(CO$36=5,CM$36=\"元\"),\"平成\"&30&\"年\"&8,IF(AND(CO$36>=6,CM$36=\"元\"),\"令和元年\"&8,IF(AND(CO$36>=1,CO$36<=5,CM$36=2),\"令和元年\"&8,(IF((AND(CO$36>=1,CO$36<=5)),\"令和\"&CM$36-1&\"年\"&8,\"令和\"&CM$36&\"年\"&8)))))))","v":"令和年8"},null,null,null,{"$f":"IF(OR(CS86=\"\",CS$41=9),\"\",8)","v":8},{"$f":"IF(OR(CT86=\"\",CV$41=4),\"\",IF(AND(CU$36>=1,CU$36<=4,CS$36=31),\"平成\"&30&\"年\"&8,IF(AND(CU$36=5,CS$36=\"元\"),\"平成\"&30&\"年\"&8,IF(AND(CU$36>=6,CS$36=\"元\"),\"令和元年\"&8,IF(AND(CU$36>=1,CU$36<=5,CS$36=2),\"令和元年\"&8,(IF((AND(CU$36>=1,CU$36<=5)),\"令和\"&CS$36-1&\"年\"&8,\"令和\"&CS$36&\"年\"&8)))))))","v":"令和年8"},{"$f":"IF(OR(CT86=\"\",CV$41=4),\"\",IF(AND(CU$36>=1,CU$36<=4,CS$36=31),\"平成\"&30&\"年\"&8,IF(AND(CU$36=5,CS$36=\"元\"),\"平成\"&30&\"年\"&8,IF(AND(CU$36>=6,CS$36=\"元\"),\"令和元年\"&8,IF(AND(CU$36>=1,CU$36<=5,CS$36=2),\"令和元年\"&8,(IF((AND(CU$36>=1,CU$36<=5)),\"令和\"&CS$36-1&\"年\"&8,\"令和\"&CS$36&\"年\"&8)))))))","v":"令和年8"},null,null,null,{"$f":"IF(OR(CY86=\"\",CY$41=9),\"\",8)","v":8},{"$f":"IF(OR(CZ86=\"\",DB$41=4),\"\",IF(AND(DA$36>=1,DA$36<=4,CY$36=31),\"平成\"&30&\"年\"&8,IF(AND(DA$36=5,CY$36=\"元\"),\"平成\"&30&\"年\"&8,IF(AND(DA$36>=6,CY$36=\"元\"),\"令和元年\"&8,IF(AND(DA$36>=1,DA$36<=5,CY$36=2),\"令和元年\"&8,(IF((AND(DA$36>=1,DA$36<=5)),\"令和\"&CY$36-1&\"年\"&8,\"令和\"&CY$36&\"年\"&8)))))))","v":"令和年8"},{"$f":"IF(OR(CZ86=\"\",DB$41=4),\"\",IF(AND(DA$36>=1,DA$36<=4,CY$36=31),\"平成\"&30&\"年\"&8,IF(AND(DA$36=5,CY$36=\"元\"),\"平成\"&30&\"年\"&8,IF(AND(DA$36>=6,CY$36=\"元\"),\"令和元年\"&8,IF(AND(DA$36>=1,DA$36<=5,CY$36=2),\"令和元年\"&8,(IF((AND(DA$36>=1,DA$36<=5)),\"令和\"&CY$36-1&\"年\"&8,\"令和\"&CY$36&\"年\"&8)))))))","v":"令和年8"},null,null,null,{"$f":"IF(OR(DE86=\"\",DE$41=9),\"\",8)","v":8},{"$f":"IF(OR(DF86=\"\",DH$41=4),\"\",IF(AND(DG$36>=1,DG$36<=4,DE$36=31),\"平成\"&30&\"年\"&8,IF(AND(DG$36=5,DE$36=\"元\"),\"平成\"&30&\"年\"&8,IF(AND(DG$36>=6,DE$36=\"元\"),\"令和元年\"&8,IF(AND(DG$36>=1,DG$36<=5,DE$36=2),\"令和元年\"&8,(IF((AND(DG$36>=1,DG$36<=5)),\"令和\"&DE$36-1&\"年\"&8,\"令和\"&DE$36&\"年\"&8)))))))","v":"令和年8"},{"$f":"IF(OR(DF86=\"\",DH$41=4),\"\",IF(AND(DG$36>=1,DG$36<=4,DE$36=31),\"平成\"&30&\"年\"&8,IF(AND(DG$36=5,DE$36=\"元\"),\"平成\"&30&\"年\"&8,IF(AND(DG$36>=6,DE$36=\"元\"),\"令和元年\"&8,IF(AND(DG$36>=1,DG$36<=5,DE$36=2),\"令和元年\"&8,(IF((AND(DG$36>=1,DG$36<=5)),\"令和\"&DE$36-1&\"年\"&8,\"令和\"&DE$36&\"年\"&8)))))))","v":"令和年8"},null,null,null,{"$f":"IF(OR(DK86=\"\",DK$41=9),\"\",8)","v":8},{"$f":"IF(OR(DL86=\"\",DN$41=4),\"\",IF(AND(DM$36>=1,DM$36<=4,DK$36=31),\"平成\"&30&\"年\"&8,IF(AND(DM$36=5,DK$36=\"元\"),\"平成\"&30&\"年\"&8,IF(AND(DM$36>=6,DK$36=\"元\"),\"令和元年\"&8,IF(AND(DM$36>=1,DM$36<=5,DK$36=2),\"令和元年\"&8,(IF((AND(DM$36>=1,DM$36<=5)),\"令和\"&DK$36-1&\"年\"&8,\"令和\"&DK$36&\"年\"&8)))))))","v":"令和年8"},{"$f":"IF(OR(DL86=\"\",DN$41=4),\"\",IF(AND(DM$36>=1,DM$36<=4,DK$36=31),\"平成\"&30&\"年\"&8,IF(AND(DM$36=5,DK$36=\"元\"),\"平成\"&30&\"年\"&8,IF(AND(DM$36>=6,DK$36=\"元\"),\"令和元年\"&8,IF(AND(DM$36>=1,DM$36<=5,DK$36=2),\"令和元年\"&8,(IF((AND(DM$36>=1,DM$36<=5)),\"令和\"&DK$36-1&\"年\"&8,\"令和\"&DK$36&\"年\"&8)))))))","v":"令和年8"},null,null,null,{"$f":"IF(OR(DQ86=\"\",DQ$41=9),\"\",8)","v":8},{"$f":"IF(OR(DR86=\"\",DT$41=4),\"\",IF(AND(DS$36>=1,DS$36<=4,DQ$36=31),\"平成\"&30&\"年\"&8,IF(AND(DS$36=5,DQ$36=\"元\"),\"平成\"&30&\"年\"&8,IF(AND(DS$36>=6,DQ$36=\"元\"),\"令和元年\"&8,IF(AND(DS$36>=1,DS$36<=5,DQ$36=2),\"令和元年\"&8,(IF((AND(DS$36>=1,DS$36<=5)),\"令和\"&DQ$36-1&\"年\"&8,\"令和\"&DQ$36&\"年\"&8)))))))","v":"令和年8"},{"$f":"IF(OR(DR86=\"\",DT$41=4),\"\",IF(AND(DS$36>=1,DS$36<=4,DQ$36=31),\"平成\"&30&\"年\"&8,IF(AND(DS$36=5,DQ$36=\"元\"),\"平成\"&30&\"年\"&8,IF(AND(DS$36>=6,DQ$36=\"元\"),\"令和元年\"&8,IF(AND(DS$36>=1,DS$36<=5,DQ$36=2),\"令和元年\"&8,(IF((AND(DS$36>=1,DS$36<=5)),\"令和\"&DQ$36-1&\"年\"&8,\"令和\"&DQ$36&\"年\"&8)))))))","v":"令和年8"},null,null,null,{"$f":"IF(OR(DW86=\"\",DW$41=9),\"\",8)","v":8},{"$f":"IF(OR(DX86=\"\",DZ$41=4),\"\",IF(AND(DY$36>=1,DY$36<=4,DW$36=31),\"平成\"&30&\"年\"&8,IF(AND(DY$36=5,DW$36=\"元\"),\"平成\"&30&\"年\"&8,IF(AND(DY$36>=6,DW$36=\"元\"),\"令和元年\"&8,IF(AND(DY$36>=1,DY$36<=5,DW$36=2),\"令和元年\"&8,(IF((AND(DY$36>=1,DY$36<=5)),\"令和\"&DW$36-1&\"年\"&8,\"令和\"&DW$36&\"年\"&8)))))))","v":"令和年8"},{"$f":"IF(OR(DX86=\"\",DZ$41=4),\"\",IF(AND(DY$36>=1,DY$36<=4,DW$36=31),\"平成\"&30&\"年\"&8,IF(AND(DY$36=5,DW$36=\"元\"),\"平成\"&30&\"年\"&8,IF(AND(DY$36>=6,DW$36=\"元\"),\"令和元年\"&8,IF(AND(DY$36>=1,DY$36<=5,DW$36=2),\"令和元年\"&8,(IF((AND(DY$36>=1,DY$36<=5)),\"令和\"&DW$36-1&\"年\"&8,\"令和\"&DW$36&\"年\"&8)))))))","v":"令和年8"},null,null,null,{"$f":"IF(OR(EC86=\"\",EC$41=9),\"\",8)","v":8},{"$f":"IF(OR(ED86=\"\",EF$41=4),\"\",IF(AND(EE$36>=1,EE$36<=4,EC$36=31),\"平成\"&30&\"年\"&8,IF(AND(EE$36=5,EC$36=\"元\"),\"平成\"&30&\"年\"&8,IF(AND(EE$36>=6,EC$36=\"元\"),\"令和元年\"&8,IF(AND(EE$36>=1,EE$36<=5,EC$36=2),\"令和元年\"&8,(IF((AND(EE$36>=1,EE$36<=5)),\"令和\"&EC$36-1&\"年\"&8,\"令和\"&EC$36&\"年\"&8)))))))","v":"令和年8"},{"$f":"IF(OR(ED86=\"\",EF$41=4),\"\",IF(AND(EE$36>=1,EE$36<=4,EC$36=31),\"平成\"&30&\"年\"&8,IF(AND(EE$36=5,EC$36=\"元\"),\"平成\"&30&\"年\"&8,IF(AND(EE$36>=6,EC$36=\"元\"),\"令和元年\"&8,IF(AND(EE$36>=1,EE$36<=5,EC$36=2),\"令和元年\"&8,(IF((AND(EE$36>=1,EE$36<=5)),\"令和\"&EC$36-1&\"年\"&8,\"令和\"&EC$36&\"年\"&8)))))))","v":"令和年8"},null,null,null,{"$f":"IF(OR(EI86=\"\",EI$41=9),\"\",8)","v":8},{"$f":"IF(OR(EJ86=\"\",EL$41=4),\"\",IF(AND(EK$36>=1,EK$36<=4,EI$36=31),\"平成\"&30&\"年\"&8,IF(AND(EK$36=5,EI$36=\"元\"),\"平成\"&30&\"年\"&8,IF(AND(EK$36>=6,EI$36=\"元\"),\"令和元年\"&8,IF(AND(EK$36>=1,EK$36<=5,EI$36=2),\"令和元年\"&8,(IF((AND(EK$36>=1,EK$36<=5)),\"令和\"&EI$36-1&\"年\"&8,\"令和\"&EI$36&\"年\"&8)))))))","v":"令和年8"},{"$f":"IF(OR(EJ86=\"\",EL$41=4),\"\",IF(AND(EK$36>=1,EK$36<=4,EI$36=31),\"平成\"&30&\"年\"&8,IF(AND(EK$36=5,EI$36=\"元\"),\"平成\"&30&\"年\"&8,IF(AND(EK$36>=6,EI$36=\"元\"),\"令和元年\"&8,IF(AND(EK$36>=1,EK$36<=5,EI$36=2),\"令和元年\"&8,(IF((AND(EK$36>=1,EK$36<=5)),\"令和\"&EI$36-1&\"年\"&8,\"令和\"&EI$36&\"年\"&8)))))))","v":"令和年8"},null,null,null,{"$f":"IF(OR(EO86=\"\",EO$41=9),\"\",8)","v":8},{"$f":"IF(OR(EP86=\"\",ER$41=4),\"\",IF(AND(EQ$36>=1,EQ$36<=4,EO$36=31),\"平成\"&30&\"年\"&8,IF(AND(EQ$36=5,EO$36=\"元\"),\"平成\"&30&\"年\"&8,IF(AND(EQ$36>=6,EO$36=\"元\"),\"令和元年\"&8,IF(AND(EQ$36>=1,EQ$36<=5,EO$36=2),\"令和元年\"&8,(IF((AND(EQ$36>=1,EQ$36<=5)),\"令和\"&EO$36-1&\"年\"&8,\"令和\"&EO$36&\"年\"&8)))))))","v":"令和年8"},{"$f":"IF(OR(EP86=\"\",ER$41=4),\"\",IF(AND(EQ$36>=1,EQ$36<=4,EO$36=31),\"平成\"&30&\"年\"&8,IF(AND(EQ$36=5,EO$36=\"元\"),\"平成\"&30&\"年\"&8,IF(AND(EQ$36>=6,EO$36=\"元\"),\"令和元年\"&8,IF(AND(EQ$36>=1,EQ$36<=5,EO$36=2),\"令和元年\"&8,(IF((AND(EQ$36>=1,EQ$36<=5)),\"令和\"&EO$36-1&\"年\"&8,\"令和\"&EO$36&\"年\"&8)))))))","v":"令和年8"},null,null,null,{"$f":"IF(OR(EU86=\"\",EU$41=9),\"\",8)","v":8},{"$f":"IF(OR(EV86=\"\",EX$41=4),\"\",IF(AND(EW$36>=1,EW$36<=4,EU$36=31),\"平成\"&30&\"年\"&8,IF(AND(EW$36=5,EU$36=\"元\"),\"平成\"&30&\"年\"&8,IF(AND(EW$36>=6,EU$36=\"元\"),\"令和元年\"&8,IF(AND(EW$36>=1,EW$36<=5,EU$36=2),\"令和元年\"&8,(IF((AND(EW$36>=1,EW$36<=5)),\"令和\"&EU$36-1&\"年\"&8,\"令和\"&EU$36&\"年\"&8)))))))","v":"令和年8"},{"$f":"IF(OR(EV86=\"\",EX$41=4),\"\",IF(AND(EW$36>=1,EW$36<=4,EU$36=31),\"平成\"&30&\"年\"&8,IF(AND(EW$36=5,EU$36=\"元\"),\"平成\"&30&\"年\"&8,IF(AND(EW$36>=6,EU$36=\"元\"),\"令和元年\"&8,IF(AND(EW$36>=1,EW$36<=5,EU$36=2),\"令和元年\"&8,(IF((AND(EW$36>=1,EW$36<=5)),\"令和\"&EU$36-1&\"年\"&8,\"令和\"&EU$36&\"年\"&8)))))))","v":"令和年8"},null,null,null,{"$f":"IF(OR(FA86=\"\",FA$41=9),\"\",8)","v":8},{"$f":"IF(OR(FB86=\"\",FD$41=4),\"\",IF(AND(FC$36>=1,FC$36<=4,FA$36=31),\"平成\"&30&\"年\"&8,IF(AND(FC$36=5,FA$36=\"元\"),\"平成\"&30&\"年\"&8,IF(AND(FC$36>=6,FA$36=\"元\"),\"令和元年\"&8,IF(AND(FC$36>=1,FC$36<=5,FA$36=2),\"令和元年\"&8,(IF((AND(FC$36>=1,FC$36<=5)),\"令和\"&FA$36-1&\"年\"&8,\"令和\"&FA$36&\"年\"&8)))))))","v":"令和年8"},{"$f":"IF(OR(FB86=\"\",FD$41=4),\"\",IF(AND(FC$36>=1,FC$36<=4,FA$36=31),\"平成\"&30&\"年\"&8,IF(AND(FC$36=5,FA$36=\"元\"),\"平成\"&30&\"年\"&8,IF(AND(FC$36>=6,FA$36=\"元\"),\"令和元年\"&8,IF(AND(FC$36>=1,FC$36<=5,FA$36=2),\"令和元年\"&8,(IF((AND(FC$36>=1,FC$36<=5)),\"令和\"&FA$36-1&\"年\"&8,\"令和\"&FA$36&\"年\"&8)))))))","v":"令和年8"},null,null,null,{"$f":"IF(OR(FG86=\"\",FG$41=9),\"\",8)","v":8},{"$f":"IF(OR(FH86=\"\",FJ$41=4),\"\",IF(AND(FI$36>=1,FI$36<=4,FG$36=31),\"平成\"&30&\"年\"&8,IF(AND(FI$36=5,FG$36=\"元\"),\"平成\"&30&\"年\"&8,IF(AND(FI$36>=6,FG$36=\"元\"),\"令和元年\"&8,IF(AND(FI$36>=1,FI$36<=5,FG$36=2),\"令和元年\"&8,(IF((AND(FI$36>=1,FI$36<=5)),\"令和\"&FG$36-1&\"年\"&8,\"令和\"&FG$36&\"年\"&8)))))))","v":"令和年8"},{"$f":"IF(OR(FH86=\"\",FJ$41=4),\"\",IF(AND(FI$36>=1,FI$36<=4,FG$36=31),\"平成\"&30&\"年\"&8,IF(AND(FI$36=5,FG$36=\"元\"),\"平成\"&30&\"年\"&8,IF(AND(FI$36>=6,FG$36=\"元\"),\"令和元年\"&8,IF(AND(FI$36>=1,FI$36<=5,FG$36=2),\"令和元年\"&8,(IF((AND(FI$36>=1,FI$36<=5)),\"令和\"&FG$36-1&\"年\"&8,\"令和\"&FG$36&\"年\"&8)))))))","v":"令和年8"},null,null,null,{"$f":"IF(OR(FM86=\"\",FM$41=9),\"\",8)","v":8},{"$f":"IF(OR(FN86=\"\",FP$41=4),\"\",IF(AND(FO$36>=1,FO$36<=4,FM$36=31),\"平成\"&30&\"年\"&8,IF(AND(FO$36=5,FM$36=\"元\"),\"平成\"&30&\"年\"&8,IF(AND(FO$36>=6,FM$36=\"元\"),\"令和元年\"&8,IF(AND(FO$36>=1,FO$36<=5,FM$36=2),\"令和元年\"&8,(IF((AND(FO$36>=1,FO$36<=5)),\"令和\"&FM$36-1&\"年\"&8,\"令和\"&FM$36&\"年\"&8)))))))","v":"令和年8"},{"$f":"IF(OR(FN86=\"\",FP$41=4),\"\",IF(AND(FO$36>=1,FO$36<=4,FM$36=31),\"平成\"&30&\"年\"&8,IF(AND(FO$36=5,FM$36=\"元\"),\"平成\"&30&\"年\"&8,IF(AND(FO$36>=6,FM$36=\"元\"),\"令和元年\"&8,IF(AND(FO$36>=1,FO$36<=5,FM$36=2),\"令和元年\"&8,(IF((AND(FO$36>=1,FO$36<=5)),\"令和\"&FM$36-1&\"年\"&8,\"令和\"&FM$36&\"年\"&8)))))))","v":"令和年8"},null,null,null,{"$f":"IF(OR(FS86=\"\",FS$41=9),\"\",8)","v":8},{"$f":"IF(OR(FT86=\"\",FV$41=4),\"\",IF(AND(FU$36>=1,FU$36<=4,FS$36=31),\"平成\"&30&\"年\"&8,IF(AND(FU$36=5,FS$36=\"元\"),\"平成\"&30&\"年\"&8,IF(AND(FU$36>=6,FS$36=\"元\"),\"令和元年\"&8,IF(AND(FU$36>=1,FU$36<=5,FS$36=2),\"令和元年\"&8,(IF((AND(FU$36>=1,FU$36<=5)),\"令和\"&FS$36-1&\"年\"&8,\"令和\"&FS$36&\"年\"&8)))))))","v":"令和年8"},{"$f":"IF(OR(FT86=\"\",FV$41=4),\"\",IF(AND(FU$36>=1,FU$36<=4,FS$36=31),\"平成\"&30&\"年\"&8,IF(AND(FU$36=5,FS$36=\"元\"),\"平成\"&30&\"年\"&8,IF(AND(FU$36>=6,FS$36=\"元\"),\"令和元年\"&8,IF(AND(FU$36>=1,FU$36<=5,FS$36=2),\"令和元年\"&8,(IF((AND(FU$36>=1,FU$36<=5)),\"令和\"&FS$36-1&\"年\"&8,\"令和\"&FS$36&\"年\"&8)))))))","v":"令和年8"},null,null,null,{"$f":"IF(OR(FY86=\"\",FY$41=9),\"\",8)","v":8},{"$f":"IF(OR(FZ86=\"\",GB$41=4),\"\",IF(AND(GA$36>=1,GA$36<=4,FY$36=31),\"平成\"&30&\"年\"&8,IF(AND(GA$36=5,FY$36=\"元\"),\"平成\"&30&\"年\"&8,IF(AND(GA$36>=6,FY$36=\"元\"),\"令和元年\"&8,IF(AND(GA$36>=1,GA$36<=5,FY$36=2),\"令和元年\"&8,(IF((AND(GA$36>=1,GA$36<=5)),\"令和\"&FY$36-1&\"年\"&8,\"令和\"&FY$36&\"年\"&8)))))))","v":"令和年8"},{"$f":"IF(OR(FZ86=\"\",GB$41=4),\"\",IF(AND(GA$36>=1,GA$36<=4,FY$36=31),\"平成\"&30&\"年\"&8,IF(AND(GA$36=5,FY$36=\"元\"),\"平成\"&30&\"年\"&8,IF(AND(GA$36>=6,FY$36=\"元\"),\"令和元年\"&8,IF(AND(GA$36>=1,GA$36<=5,FY$36=2),\"令和元年\"&8,(IF((AND(GA$36>=1,GA$36<=5)),\"令和\"&FY$36-1&\"年\"&8,\"令和\"&FY$36&\"年\"&8)))))))","v":"令和年8"},null,null,null,{"$f":"IF(OR(GE86=\"\",GE$41=9),\"\",8)","v":8},{"$f":"IF(OR(GF86=\"\",GH$41=4),\"\",IF(AND(GG$36>=1,GG$36<=4,GE$36=31),\"平成\"&30&\"年\"&8,IF(AND(GG$36=5,GE$36=\"元\"),\"平成\"&30&\"年\"&8,IF(AND(GG$36>=6,GE$36=\"元\"),\"令和元年\"&8,IF(AND(GG$36>=1,GG$36<=5,GE$36=2),\"令和元年\"&8,(IF((AND(GG$36>=1,GG$36<=5)),\"令和\"&GE$36-1&\"年\"&8,\"令和\"&GE$36&\"年\"&8)))))))","v":"令和年8"},{"$f":"IF(OR(GF86=\"\",GH$41=4),\"\",IF(AND(GG$36>=1,GG$36<=4,GE$36=31),\"平成\"&30&\"年\"&8,IF(AND(GG$36=5,GE$36=\"元\"),\"平成\"&30&\"年\"&8,IF(AND(GG$36>=6,GE$36=\"元\"),\"令和元年\"&8,IF(AND(GG$36>=1,GG$36<=5,GE$36=2),\"令和元年\"&8,(IF((AND(GG$36>=1,GG$36<=5)),\"令和\"&GE$36-1&\"年\"&8,\"令和\"&GE$36&\"年\"&8)))))))","v":"令和年8"},null,null,null,{"$f":"IF(OR(GK86=\"\",GK$41=9),\"\",8)","v":8},{"$f":"IF(OR(GL86=\"\",GN$41=4),\"\",IF(AND(GM$36>=1,GM$36<=4,GK$36=31),\"平成\"&30&\"年\"&8,IF(AND(GM$36=5,GK$36=\"元\"),\"平成\"&30&\"年\"&8,IF(AND(GM$36>=6,GK$36=\"元\"),\"令和元年\"&8,IF(AND(GM$36>=1,GM$36<=5,GK$36=2),\"令和元年\"&8,(IF((AND(GM$36>=1,GM$36<=5)),\"令和\"&GK$36-1&\"年\"&8,\"令和\"&GK$36&\"年\"&8)))))))","v":"令和年8"},{"$f":"IF(OR(GL86=\"\",GN$41=4),\"\",IF(AND(GM$36>=1,GM$36<=4,GK$36=31),\"平成\"&30&\"年\"&8,IF(AND(GM$36=5,GK$36=\"元\"),\"平成\"&30&\"年\"&8,IF(AND(GM$36>=6,GK$36=\"元\"),\"令和元年\"&8,IF(AND(GM$36>=1,GM$36<=5,GK$36=2),\"令和元年\"&8,(IF((AND(GM$36>=1,GM$36<=5)),\"令和\"&GK$36-1&\"年\"&8,\"令和\"&GK$36&\"年\"&8)))))))","v":"令和年8"},null,null,null,{"$f":"IF(OR(GQ86=\"\",GQ$41=9),\"\",8)","v":8},{"$f":"IF(OR(GR86=\"\",GT$41=4),\"\",IF(AND(GS$36>=1,GS$36<=4,GQ$36=31),\"平成\"&30&\"年\"&8,IF(AND(GS$36=5,GQ$36=\"元\"),\"平成\"&30&\"年\"&8,IF(AND(GS$36>=6,GQ$36=\"元\"),\"令和元年\"&8,IF(AND(GS$36>=1,GS$36<=5,GQ$36=2),\"令和元年\"&8,(IF((AND(GS$36>=1,GS$36<=5)),\"令和\"&GQ$36-1&\"年\"&8,\"令和\"&GQ$36&\"年\"&8)))))))","v":"令和年8"},{"$f":"IF(OR(GR86=\"\",GT$41=4),\"\",IF(AND(GS$36>=1,GS$36<=4,GQ$36=31),\"平成\"&30&\"年\"&8,IF(AND(GS$36=5,GQ$36=\"元\"),\"平成\"&30&\"年\"&8,IF(AND(GS$36>=6,GQ$36=\"元\"),\"令和元年\"&8,IF(AND(GS$36>=1,GS$36<=5,GQ$36=2),\"令和元年\"&8,(IF((AND(GS$36>=1,GS$36<=5)),\"令和\"&GQ$36-1&\"年\"&8,\"令和\"&GQ$36&\"年\"&8)))))))","v":"令和年8"},null,null,null,{"$f":"IF(OR(GW86=\"\",GW$41=9),\"\",8)","v":8},{"$f":"IF(OR(GX86=\"\",GZ$41=4),\"\",IF(AND(GY$36>=1,GY$36<=4,GW$36=31),\"平成\"&30&\"年\"&8,IF(AND(GY$36=5,GW$36=\"元\"),\"平成\"&30&\"年\"&8,IF(AND(GY$36>=6,GW$36=\"元\"),\"令和元年\"&8,IF(AND(GY$36>=1,GY$36<=5,GW$36=2),\"令和元年\"&8,(IF((AND(GY$36>=1,GY$36<=5)),\"令和\"&GW$36-1&\"年\"&8,\"令和\"&GW$36&\"年\"&8)))))))","v":"令和年8"},{"$f":"IF(OR(GX86=\"\",GZ$41=4),\"\",IF(AND(GY$36>=1,GY$36<=4,GW$36=31),\"平成\"&30&\"年\"&8,IF(AND(GY$36=5,GW$36=\"元\"),\"平成\"&30&\"年\"&8,IF(AND(GY$36>=6,GW$36=\"元\"),\"令和元年\"&8,IF(AND(GY$36>=1,GY$36<=5,GW$36=2),\"令和元年\"&8,(IF((AND(GY$36>=1,GY$36<=5)),\"令和\"&GW$36-1&\"年\"&8,\"令和\"&GW$36&\"年\"&8)))))))","v":"令和年8"},null,null,null,{"$f":"IF(OR(HC86=\"\",HC$41=9),\"\",8)","v":8},{"$f":"IF(OR(HD86=\"\",HF$41=4),\"\",IF(AND(HE$36>=1,HE$36<=4,HC$36=31),\"平成\"&30&\"年\"&8,IF(AND(HE$36=5,HC$36=\"元\"),\"平成\"&30&\"年\"&8,IF(AND(HE$36>=6,HC$36=\"元\"),\"令和元年\"&8,IF(AND(HE$36>=1,HE$36<=5,HC$36=2),\"令和元年\"&8,(IF((AND(HE$36>=1,HE$36<=5)),\"令和\"&HC$36-1&\"年\"&8,\"令和\"&HC$36&\"年\"&8)))))))","v":"令和年8"},{"$f":"IF(OR(HD86=\"\",HF$41=4),\"\",IF(AND(HE$36>=1,HE$36<=4,HC$36=31),\"平成\"&30&\"年\"&8,IF(AND(HE$36=5,HC$36=\"元\"),\"平成\"&30&\"年\"&8,IF(AND(HE$36>=6,HC$36=\"元\"),\"令和元年\"&8,IF(AND(HE$36>=1,HE$36<=5,HC$36=2),\"令和元年\"&8,(IF((AND(HE$36>=1,HE$36<=5)),\"令和\"&HC$36-1&\"年\"&8,\"令和\"&HC$36&\"年\"&8)))))))","v":"令和年8"},null,null,null,{"$f":"IF(OR(HI86=\"\",HI$41=9),\"\",8)","v":8},{"$f":"IF(OR(HJ86=\"\",HL$41=4),\"\",IF(AND(HK$36>=1,HK$36<=4,HI$36=31),\"平成\"&30&\"年\"&8,IF(AND(HK$36=5,HI$36=\"元\"),\"平成\"&30&\"年\"&8,IF(AND(HK$36>=6,HI$36=\"元\"),\"令和元年\"&8,IF(AND(HK$36>=1,HK$36<=5,HI$36=2),\"令和元年\"&8,(IF((AND(HK$36>=1,HK$36<=5)),\"令和\"&HI$36-1&\"年\"&8,\"令和\"&HI$36&\"年\"&8)))))))","v":"令和年8"},{"$f":"IF(OR(HJ86=\"\",HL$41=4),\"\",IF(AND(HK$36>=1,HK$36<=4,HI$36=31),\"平成\"&30&\"年\"&8,IF(AND(HK$36=5,HI$36=\"元\"),\"平成\"&30&\"年\"&8,IF(AND(HK$36>=6,HI$36=\"元\"),\"令和元年\"&8,IF(AND(HK$36>=1,HK$36<=5,HI$36=2),\"令和元年\"&8,(IF((AND(HK$36>=1,HK$36<=5)),\"令和\"&HI$36-1&\"年\"&8,\"令和\"&HI$36&\"年\"&8)))))))","v":"令和年8"},null,null,null,{"$f":"IF(OR(HO86=\"\",HO$41=9),\"\",8)","v":8},{"$f":"IF(OR(HP86=\"\",HR$41=4),\"\",IF(AND(HQ$36>=1,HQ$36<=4,HO$36=31),\"平成\"&30&\"年\"&8,IF(AND(HQ$36=5,HO$36=\"元\"),\"平成\"&30&\"年\"&8,IF(AND(HQ$36>=6,HO$36=\"元\"),\"令和元年\"&8,IF(AND(HQ$36>=1,HQ$36<=5,HO$36=2),\"令和元年\"&8,(IF((AND(HQ$36>=1,HQ$36<=5)),\"令和\"&HO$36-1&\"年\"&8,\"令和\"&HO$36&\"年\"&8)))))))","v":"令和年8"},{"$f":"IF(OR(HP86=\"\",HR$41=4),\"\",IF(AND(HQ$36>=1,HQ$36<=4,HO$36=31),\"平成\"&30&\"年\"&8,IF(AND(HQ$36=5,HO$36=\"元\"),\"平成\"&30&\"年\"&8,IF(AND(HQ$36>=6,HO$36=\"元\"),\"令和元年\"&8,IF(AND(HQ$36>=1,HQ$36<=5,HO$36=2),\"令和元年\"&8,(IF((AND(HQ$36>=1,HQ$36<=5)),\"令和\"&HO$36-1&\"年\"&8,\"令和\"&HO$36&\"年\"&8)))))))","v":"令和年8"},null,null,null,{"$f":"IF(OR(HU86=\"\",HU$41=9),\"\",8)","v":8},{"$f":"IF(OR(HV86=\"\",HX$41=4),\"\",IF(AND(HW$36>=1,HW$36<=4,HU$36=31),\"平成\"&30&\"年\"&8,IF(AND(HW$36=5,HU$36=\"元\"),\"平成\"&30&\"年\"&8,IF(AND(HW$36>=6,HU$36=\"元\"),\"令和元年\"&8,IF(AND(HW$36>=1,HW$36<=5,HU$36=2),\"令和元年\"&8,(IF((AND(HW$36>=1,HW$36<=5)),\"令和\"&HU$36-1&\"年\"&8,\"令和\"&HU$36&\"年\"&8)))))))","v":"令和年8"},{"$f":"IF(OR(HV86=\"\",HX$41=4),\"\",IF(AND(HW$36>=1,HW$36<=4,HU$36=31),\"平成\"&30&\"年\"&8,IF(AND(HW$36=5,HU$36=\"元\"),\"平成\"&30&\"年\"&8,IF(AND(HW$36>=6,HU$36=\"元\"),\"令和元年\"&8,IF(AND(HW$36>=1,HW$36<=5,HU$36=2),\"令和元年\"&8,(IF((AND(HW$36>=1,HW$36<=5)),\"令和\"&HU$36-1&\"年\"&8,\"令和\"&HU$36&\"年\"&8)))))))","v":"令和年8"},null,null,null,{"$f":"IF(OR(IA86=\"\",IA$41=9),\"\",8)","v":8},{"$f":"IF(OR(IB86=\"\",ID$41=4),\"\",IF(AND(IC$36>=1,IC$36<=4,IA$36=31),\"平成\"&30&\"年\"&8,IF(AND(IC$36=5,IA$36=\"元\"),\"平成\"&30&\"年\"&8,IF(AND(IC$36>=6,IA$36=\"元\"),\"令和元年\"&8,IF(AND(IC$36>=1,IC$36<=5,IA$36=2),\"令和元年\"&8,(IF((AND(IC$36>=1,IC$36<=5)),\"令和\"&IA$36-1&\"年\"&8,\"令和\"&IA$36&\"年\"&8)))))))","v":"令和年8"},{"$f":"IF(OR(IB86=\"\",ID$41=4),\"\",IF(AND(IC$36>=1,IC$36<=4,IA$36=31),\"平成\"&30&\"年\"&8,IF(AND(IC$36=5,IA$36=\"元\"),\"平成\"&30&\"年\"&8,IF(AND(IC$36>=6,IA$36=\"元\"),\"令和元年\"&8,IF(AND(IC$36>=1,IC$36<=5,IA$36=2),\"令和元年\"&8,(IF((AND(IC$36>=1,IC$36<=5)),\"令和\"&IA$36-1&\"年\"&8,\"令和\"&IA$36&\"年\"&8)))))))","v":"令和年8"},null,null,null,{"$f":"IF(OR(IG86=\"\",IG$41=9),\"\",8)","v":8},{"$f":"IF(OR(IH86=\"\",IJ$41=4),\"\",IF(AND(II$36>=1,II$36<=4,IG$36=31),\"平成\"&30&\"年\"&8,IF(AND(II$36=5,IG$36=\"元\"),\"平成\"&30&\"年\"&8,IF(AND(II$36>=6,IG$36=\"元\"),\"令和元年\"&8,IF(AND(II$36>=1,II$36<=5,IG$36=2),\"令和元年\"&8,(IF((AND(II$36>=1,II$36<=5)),\"令和\"&IG$36-1&\"年\"&8,\"令和\"&IG$36&\"年\"&8)))))))","v":"令和年8"},{"$f":"IF(OR(IH86=\"\",IJ$41=4),\"\",IF(AND(II$36>=1,II$36<=4,IG$36=31),\"平成\"&30&\"年\"&8,IF(AND(II$36=5,IG$36=\"元\"),\"平成\"&30&\"年\"&8,IF(AND(II$36>=6,IG$36=\"元\"),\"令和元年\"&8,IF(AND(II$36>=1,II$36<=5,IG$36=2),\"令和元年\"&8,(IF((AND(II$36>=1,II$36<=5)),\"令和\"&IG$36-1&\"年\"&8,\"令和\"&IG$36&\"年\"&8)))))))","v":"令和年8"}]
[null,{"$f":"IF(AND(CG21<>\"\",CG25<>\"\",CI25<>\"\",CK25<>\"\"),CG17,\"\")","v":""},"平",8,"平8",null,{"$f":"IF(OR(G87=\"\",G$41=10),\"\",9)","v":9},{"$f":"IF(OR(H87=\"\",J$41=4),\"\",IF(AND(I$36>=1,I$36<=4,G$36=31),\"平成\"&30&\"年\"&9,IF(AND(I$36=5,G$36=\"元\"),\"平成\"&30&\"年\"&9,IF(AND(I$36>=6,G$36=\"元\"),\"令和元年\"&9,IF(AND(I$36>=1,I$36<=5,G$36=2),\"令和元年\"&9,(IF((AND(I$36>=1,I$36<=5)),\"令和\"&G$36-1&\"年\"&9,\"令和\"&G$36&\"年\"&9)))))))","v":"令和年9"},{"$f":"IF(OR(H87=\"\",J$41=4),\"\",IF(AND(I$36>=1,I$36<=4,G$36=31),\"平成\"&30&\"年\"&9,IF(AND(I$36=5,G$36=\"元\"),\"平成\"&30&\"年\"&9,IF(AND(I$36>=6,G$36=\"元\"),\"令和元年\"&9,IF(AND(I$36>=1,I$36<=5,G$36=2),\"令和元年\"&9,(IF((AND(I$36>=1,I$36<=5)),\"令和\"&G$36-1&\"年\"&9,\"令和\"&G$36&\"年\"&9)))))))","v":"令和年9"},null,null,null,{"$f":"IF(OR(M87=\"\",M$41=10),\"\",9)","v":9},{"$f":"IF(OR(N87=\"\",P$41=4),\"\",IF(AND(O$36>=1,O$36<=4,M$36=31),\"平成\"&30&\"年\"&9,IF(AND(O$36=5,M$36=\"元\"),\"平成\"&30&\"年\"&9,IF(AND(O$36>=6,M$36=\"元\"),\"令和元年\"&9,IF(AND(O$36>=1,O$36<=5,M$36=2),\"令和元年\"&9,(IF((AND(O$36>=1,O$36<=5)),\"令和\"&M$36-1&\"年\"&9,\"令和\"&M$36&\"年\"&9)))))))","v":"令和年9"},{"$f":"IF(OR(N87=\"\",P$41=4),\"\",IF(AND(O$36>=1,O$36<=4,M$36=31),\"平成\"&30&\"年\"&9,IF(AND(O$36=5,M$36=\"元\"),\"平成\"&30&\"年\"&9,IF(AND(O$36>=6,M$36=\"元\"),\"令和元年\"&9,IF(AND(O$36>=1,O$36<=5,M$36=2),\"令和元年\"&9,(IF((AND(O$36>=1,O$36<=5)),\"令和\"&M$36-1&\"年\"&9,\"令和\"&M$36&\"年\"&9)))))))","v":"令和年9"},null,null,null,{"$f":"IF(OR(S87=\"\",S$41=10),\"\",9)","v":9},{"$f":"IF(OR(T87=\"\",V$41=4),\"\",IF(AND(U$36>=1,U$36<=4,S$36=31),\"平成\"&30&\"年\"&9,IF(AND(U$36=5,S$36=\"元\"),\"平成\"&30&\"年\"&9,IF(AND(U$36>=6,S$36=\"元\"),\"令和元年\"&9,IF(AND(U$36>=1,U$36<=5,S$36=2),\"令和元年\"&9,(IF((AND(U$36>=1,U$36<=5)),\"令和\"&S$36-1&\"年\"&9,\"令和\"&S$36&\"年\"&9)))))))","v":"令和年9"},{"$f":"IF(OR(T87=\"\",V$41=4),\"\",IF(AND(U$36>=1,U$36<=4,S$36=31),\"平成\"&30&\"年\"&9,IF(AND(U$36=5,S$36=\"元\"),\"平成\"&30&\"年\"&9,IF(AND(U$36>=6,S$36=\"元\"),\"令和元年\"&9,IF(AND(U$36>=1,U$36<=5,S$36=2),\"令和元年\"&9,(IF((AND(U$36>=1,U$36<=5)),\"令和\"&S$36-1&\"年\"&9,\"令和\"&S$36&\"年\"&9)))))))","v":"令和年9"},null,null,null,{"$f":"IF(OR(Y87=\"\",Y$41=10),\"\",9)","v":9},{"$f":"IF(OR(Z87=\"\",AB$41=4),\"\",IF(AND(AA$36>=1,AA$36<=4,Y$36=31),\"平成\"&30&\"年\"&9,IF(AND(AA$36=5,Y$36=\"元\"),\"平成\"&30&\"年\"&9,IF(AND(AA$36>=6,Y$36=\"元\"),\"令和元年\"&9,IF(AND(AA$36>=1,AA$36<=5,Y$36=2),\"令和元年\"&9,(IF((AND(AA$36>=1,AA$36<=5)),\"令和\"&Y$36-1&\"年\"&9,\"令和\"&Y$36&\"年\"&9)))))))","v":"令和年9"},{"$f":"IF(OR(Z87=\"\",AB$41=4),\"\",IF(AND(AA$36>=1,AA$36<=4,Y$36=31),\"平成\"&30&\"年\"&9,IF(AND(AA$36=5,Y$36=\"元\"),\"平成\"&30&\"年\"&9,IF(AND(AA$36>=6,Y$36=\"元\"),\"令和元年\"&9,IF(AND(AA$36>=1,AA$36<=5,Y$36=2),\"令和元年\"&9,(IF((AND(AA$36>=1,AA$36<=5)),\"令和\"&Y$36-1&\"年\"&9,\"令和\"&Y$36&\"年\"&9)))))))","v":"令和年9"},null,null,null,{"$f":"IF(OR(AE87=\"\",AE$41=10),\"\",9)","v":9},{"$f":"IF(OR(AF87=\"\",AH$41=4),\"\",IF(AND(AG$36>=1,AG$36<=4,AE$36=31),\"平成\"&30&\"年\"&9,IF(AND(AG$36=5,AE$36=\"元\"),\"平成\"&30&\"年\"&9,IF(AND(AG$36>=6,AE$36=\"元\"),\"令和元年\"&9,IF(AND(AG$36>=1,AG$36<=5,AE$36=2),\"令和元年\"&9,(IF((AND(AG$36>=1,AG$36<=5)),\"令和\"&AE$36-1&\"年\"&9,\"令和\"&AE$36&\"年\"&9)))))))","v":"令和年9"},{"$f":"IF(OR(AF87=\"\",AH$41=4),\"\",IF(AND(AG$36>=1,AG$36<=4,AE$36=31),\"平成\"&30&\"年\"&9,IF(AND(AG$36=5,AE$36=\"元\"),\"平成\"&30&\"年\"&9,IF(AND(AG$36>=6,AE$36=\"元\"),\"令和元年\"&9,IF(AND(AG$36>=1,AG$36<=5,AE$36=2),\"令和元年\"&9,(IF((AND(AG$36>=1,AG$36<=5)),\"令和\"&AE$36-1&\"年\"&9,\"令和\"&AE$36&\"年\"&9)))))))","v":"令和年9"},null,null,null,{"$f":"IF(OR(AK87=\"\",AK$41=10),\"\",9)","v":9},{"$f":"IF(OR(AL87=\"\",AN$41=4),\"\",IF(AND(AM$36>=1,AM$36<=4,AK$36=31),\"平成\"&30&\"年\"&9,IF(AND(AM$36=5,AK$36=\"元\"),\"平成\"&30&\"年\"&9,IF(AND(AM$36>=6,AK$36=\"元\"),\"令和元年\"&9,IF(AND(AM$36>=1,AM$36<=5,AK$36=2),\"令和元年\"&9,(IF((AND(AM$36>=1,AM$36<=5)),\"令和\"&AK$36-1&\"年\"&9,\"令和\"&AK$36&\"年\"&9)))))))","v":"令和年9"},{"$f":"IF(OR(AL87=\"\",AN$41=4),\"\",IF(AND(AM$36>=1,AM$36<=4,AK$36=31),\"平成\"&30&\"年\"&9,IF(AND(AM$36=5,AK$36=\"元\"),\"平成\"&30&\"年\"&9,IF(AND(AM$36>=6,AK$36=\"元\"),\"令和元年\"&9,IF(AND(AM$36>=1,AM$36<=5,AK$36=2),\"令和元年\"&9,(IF((AND(AM$36>=1,AM$36<=5)),\"令和\"&AK$36-1&\"年\"&9,\"令和\"&AK$36&\"年\"&9)))))))","v":"令和年9"},null,null,null,{"$f":"IF(OR(AQ87=\"\",AQ$41=10),\"\",9)","v":9},{"$f":"IF(OR(AR87=\"\",AT$41=4),\"\",IF(AND(AS$36>=1,AS$36<=4,AQ$36=31),\"平成\"&30&\"年\"&9,IF(AND(AS$36=5,AQ$36=\"元\"),\"平成\"&30&\"年\"&9,IF(AND(AS$36>=6,AQ$36=\"元\"),\"令和元年\"&9,IF(AND(AS$36>=1,AS$36<=5,AQ$36=2),\"令和元年\"&9,(IF((AND(AS$36>=1,AS$36<=5)),\"令和\"&AQ$36-1&\"年\"&9,\"令和\"&AQ$36&\"年\"&9)))))))","v":"令和年9"},{"$f":"IF(OR(AR87=\"\",AT$41=4),\"\",IF(AND(AS$36>=1,AS$36<=4,AQ$36=31),\"平成\"&30&\"年\"&9,IF(AND(AS$36=5,AQ$36=\"元\"),\"平成\"&30&\"年\"&9,IF(AND(AS$36>=6,AQ$36=\"元\"),\"令和元年\"&9,IF(AND(AS$36>=1,AS$36<=5,AQ$36=2),\"令和元年\"&9,(IF((AND(AS$36>=1,AS$36<=5)),\"令和\"&AQ$36-1&\"年\"&9,\"令和\"&AQ$36&\"年\"&9)))))))","v":"令和年9"},null,null,null,{"$f":"IF(OR(AW87=\"\",AW$41=10),\"\",9)","v":9},{"$f":"IF(OR(AX87=\"\",AZ$41=4),\"\",IF(AND(AY$36>=1,AY$36<=4,AW$36=31),\"平成\"&30&\"年\"&9,IF(AND(AY$36=5,AW$36=\"元\"),\"平成\"&30&\"年\"&9,IF(AND(AY$36>=6,AW$36=\"元\"),\"令和元年\"&9,IF(AND(AY$36>=1,AY$36<=5,AW$36=2),\"令和元年\"&9,(IF((AND(AY$36>=1,AY$36<=5)),\"令和\"&AW$36-1&\"年\"&9,\"令和\"&AW$36&\"年\"&9)))))))","v":"令和年9"},{"$f":"IF(OR(AX87=\"\",AZ$41=4),\"\",IF(AND(AY$36>=1,AY$36<=4,AW$36=31),\"平成\"&30&\"年\"&9,IF(AND(AY$36=5,AW$36=\"元\"),\"平成\"&30&\"年\"&9,IF(AND(AY$36>=6,AW$36=\"元\"),\"令和元年\"&9,IF(AND(AY$36>=1,AY$36<=5,AW$36=2),\"令和元年\"&9,(IF((AND(AY$36>=1,AY$36<=5)),\"令和\"&AW$36-1&\"年\"&9,\"令和\"&AW$36&\"年\"&9)))))))","v":"令和年9"},null,null,null,{"$f":"IF(OR(BC87=\"\",BC$41=10),\"\",9)","v":9},{"$f":"IF(OR(BD87=\"\",BF$41=4),\"\",IF(AND(BE$36>=1,BE$36<=4,BC$36=31),\"平成\"&30&\"年\"&9,IF(AND(BE$36=5,BC$36=\"元\"),\"平成\"&30&\"年\"&9,IF(AND(BE$36>=6,BC$36=\"元\"),\"令和元年\"&9,IF(AND(BE$36>=1,BE$36<=5,BC$36=2),\"令和元年\"&9,(IF((AND(BE$36>=1,BE$36<=5)),\"令和\"&BC$36-1&\"年\"&9,\"令和\"&BC$36&\"年\"&9)))))))","v":"令和年9"},{"$f":"IF(OR(BD87=\"\",BF$41=4),\"\",IF(AND(BE$36>=1,BE$36<=4,BC$36=31),\"平成\"&30&\"年\"&9,IF(AND(BE$36=5,BC$36=\"元\"),\"平成\"&30&\"年\"&9,IF(AND(BE$36>=6,BC$36=\"元\"),\"令和元年\"&9,IF(AND(BE$36>=1,BE$36<=5,BC$36=2),\"令和元年\"&9,(IF((AND(BE$36>=1,BE$36<=5)),\"令和\"&BC$36-1&\"年\"&9,\"令和\"&BC$36&\"年\"&9)))))))","v":"令和年9"},null,null,null,{"$f":"IF(OR(BI87=\"\",BI$41=10),\"\",9)","v":9},{"$f":"IF(OR(BJ87=\"\",BL$41=4),\"\",IF(AND(BK$36>=1,BK$36<=4,BI$36=31),\"平成\"&30&\"年\"&9,IF(AND(BK$36=5,BI$36=\"元\"),\"平成\"&30&\"年\"&9,IF(AND(BK$36>=6,BI$36=\"元\"),\"令和元年\"&9,IF(AND(BK$36>=1,BK$36<=5,BI$36=2),\"令和元年\"&9,(IF((AND(BK$36>=1,BK$36<=5)),\"令和\"&BI$36-1&\"年\"&9,\"令和\"&BI$36&\"年\"&9)))))))","v":"令和年9"},{"$f":"IF(OR(BJ87=\"\",BL$41=4),\"\",IF(AND(BK$36>=1,BK$36<=4,BI$36=31),\"平成\"&30&\"年\"&9,IF(AND(BK$36=5,BI$36=\"元\"),\"平成\"&30&\"年\"&9,IF(AND(BK$36>=6,BI$36=\"元\"),\"令和元年\"&9,IF(AND(BK$36>=1,BK$36<=5,BI$36=2),\"令和元年\"&9,(IF((AND(BK$36>=1,BK$36<=5)),\"令和\"&BI$36-1&\"年\"&9,\"令和\"&BI$36&\"年\"&9)))))))","v":"令和年9"},null,null,null,{"$f":"IF(OR(BO87=\"\",BO$41=10),\"\",9)","v":9},{"$f":"IF(OR(BP87=\"\",BR$41=4),\"\",IF(AND(BQ$36>=1,BQ$36<=4,BO$36=31),\"平成\"&30&\"年\"&9,IF(AND(BQ$36=5,BO$36=\"元\"),\"平成\"&30&\"年\"&9,IF(AND(BQ$36>=6,BO$36=\"元\"),\"令和元年\"&9,IF(AND(BQ$36>=1,BQ$36<=5,BO$36=2),\"令和元年\"&9,(IF((AND(BQ$36>=1,BQ$36<=5)),\"令和\"&BO$36-1&\"年\"&9,\"令和\"&BO$36&\"年\"&9)))))))","v":"令和年9"},{"$f":"IF(OR(BP87=\"\",BR$41=4),\"\",IF(AND(BQ$36>=1,BQ$36<=4,BO$36=31),\"平成\"&30&\"年\"&9,IF(AND(BQ$36=5,BO$36=\"元\"),\"平成\"&30&\"年\"&9,IF(AND(BQ$36>=6,BO$36=\"元\"),\"令和元年\"&9,IF(AND(BQ$36>=1,BQ$36<=5,BO$36=2),\"令和元年\"&9,(IF((AND(BQ$36>=1,BQ$36<=5)),\"令和\"&BO$36-1&\"年\"&9,\"令和\"&BO$36&\"年\"&9)))))))","v":"令和年9"},null,null,null,{"$f":"IF(OR(BU87=\"\",BU$41=10),\"\",9)","v":9},{"$f":"IF(OR(BV87=\"\",BX$41=4),\"\",IF(AND(BW$36>=1,BW$36<=4,BU$36=31),\"平成\"&30&\"年\"&9,IF(AND(BW$36=5,BU$36=\"元\"),\"平成\"&30&\"年\"&9,IF(AND(BW$36>=6,BU$36=\"元\"),\"令和元年\"&9,IF(AND(BW$36>=1,BW$36<=5,BU$36=2),\"令和元年\"&9,(IF((AND(BW$36>=1,BW$36<=5)),\"令和\"&BU$36-1&\"年\"&9,\"令和\"&BU$36&\"年\"&9)))))))","v":"令和年9"},{"$f":"IF(OR(BV87=\"\",BX$41=4),\"\",IF(AND(BW$36>=1,BW$36<=4,BU$36=31),\"平成\"&30&\"年\"&9,IF(AND(BW$36=5,BU$36=\"元\"),\"平成\"&30&\"年\"&9,IF(AND(BW$36>=6,BU$36=\"元\"),\"令和元年\"&9,IF(AND(BW$36>=1,BW$36<=5,BU$36=2),\"令和元年\"&9,(IF((AND(BW$36>=1,BW$36<=5)),\"令和\"&BU$36-1&\"年\"&9,\"令和\"&BU$36&\"年\"&9)))))))","v":"令和年9"},null,null,null,{"$f":"IF(OR(CA87=\"\",CA$41=10),\"\",9)","v":9},{"$f":"IF(OR(CB87=\"\",CD$41=4),\"\",IF(AND(CC$36>=1,CC$36<=4,CA$36=31),\"平成\"&30&\"年\"&9,IF(AND(CC$36=5,CA$36=\"元\"),\"平成\"&30&\"年\"&9,IF(AND(CC$36>=6,CA$36=\"元\"),\"令和元年\"&9,IF(AND(CC$36>=1,CC$36<=5,CA$36=2),\"令和元年\"&9,(IF((AND(CC$36>=1,CC$36<=5)),\"令和\"&CA$36-1&\"年\"&9,\"令和\"&CA$36&\"年\"&9)))))))","v":"令和年9"},{"$f":"IF(OR(CB87=\"\",CD$41=4),\"\",IF(AND(CC$36>=1,CC$36<=4,CA$36=31),\"平成\"&30&\"年\"&9,IF(AND(CC$36=5,CA$36=\"元\"),\"平成\"&30&\"年\"&9,IF(AND(CC$36>=6,CA$36=\"元\"),\"令和元年\"&9,IF(AND(CC$36>=1,CC$36<=5,CA$36=2),\"令和元年\"&9,(IF((AND(CC$36>=1,CC$36<=5)),\"令和\"&CA$36-1&\"年\"&9,\"令和\"&CA$36&\"年\"&9)))))))","v":"令和年9"},null,null,null,{"$f":"IF(OR(CG87=\"\",CG$41=10),\"\",9)","v":9},{"$f":"IF(OR(CH87=\"\",CJ$41=4),\"\",IF(AND(CI$36>=1,CI$36<=4,CG$36=31),\"平成\"&30&\"年\"&9,IF(AND(CI$36=5,CG$36=\"元\"),\"平成\"&30&\"年\"&9,IF(AND(CI$36>=6,CG$36=\"元\"),\"令和元年\"&9,IF(AND(CI$36>=1,CI$36<=5,CG$36=2),\"令和元年\"&9,(IF((AND(CI$36>=1,CI$36<=5)),\"令和\"&CG$36-1&\"年\"&9,\"令和\"&CG$36&\"年\"&9)))))))","v":"令和年9"},{"$f":"IF(OR(CH87=\"\",CJ$41=4),\"\",IF(AND(CI$36>=1,CI$36<=4,CG$36=31),\"平成\"&30&\"年\"&9,IF(AND(CI$36=5,CG$36=\"元\"),\"平成\"&30&\"年\"&9,IF(AND(CI$36>=6,CG$36=\"元\"),\"令和元年\"&9,IF(AND(CI$36>=1,CI$36<=5,CG$36=2),\"令和元年\"&9,(IF((AND(CI$36>=1,CI$36<=5)),\"令和\"&CG$36-1&\"年\"&9,\"令和\"&CG$36&\"年\"&9)))))))","v":"令和年9"},null,null,null,{"$f":"IF(OR(CM87=\"\",CM$41=10),\"\",9)","v":9},{"$f":"IF(OR(CN87=\"\",CP$41=4),\"\",IF(AND(CO$36>=1,CO$36<=4,CM$36=31),\"平成\"&30&\"年\"&9,IF(AND(CO$36=5,CM$36=\"元\"),\"平成\"&30&\"年\"&9,IF(AND(CO$36>=6,CM$36=\"元\"),\"令和元年\"&9,IF(AND(CO$36>=1,CO$36<=5,CM$36=2),\"令和元年\"&9,(IF((AND(CO$36>=1,CO$36<=5)),\"令和\"&CM$36-1&\"年\"&9,\"令和\"&CM$36&\"年\"&9)))))))","v":"令和年9"},{"$f":"IF(OR(CN87=\"\",CP$41=4),\"\",IF(AND(CO$36>=1,CO$36<=4,CM$36=31),\"平成\"&30&\"年\"&9,IF(AND(CO$36=5,CM$36=\"元\"),\"平成\"&30&\"年\"&9,IF(AND(CO$36>=6,CM$36=\"元\"),\"令和元年\"&9,IF(AND(CO$36>=1,CO$36<=5,CM$36=2),\"令和元年\"&9,(IF((AND(CO$36>=1,CO$36<=5)),\"令和\"&CM$36-1&\"年\"&9,\"令和\"&CM$36&\"年\"&9)))))))","v":"令和年9"},null,null,null,{"$f":"IF(OR(CS87=\"\",CS$41=10),\"\",9)","v":9},{"$f":"IF(OR(CT87=\"\",CV$41=4),\"\",IF(AND(CU$36>=1,CU$36<=4,CS$36=31),\"平成\"&30&\"年\"&9,IF(AND(CU$36=5,CS$36=\"元\"),\"平成\"&30&\"年\"&9,IF(AND(CU$36>=6,CS$36=\"元\"),\"令和元年\"&9,IF(AND(CU$36>=1,CU$36<=5,CS$36=2),\"令和元年\"&9,(IF((AND(CU$36>=1,CU$36<=5)),\"令和\"&CS$36-1&\"年\"&9,\"令和\"&CS$36&\"年\"&9)))))))","v":"令和年9"},{"$f":"IF(OR(CT87=\"\",CV$41=4),\"\",IF(AND(CU$36>=1,CU$36<=4,CS$36=31),\"平成\"&30&\"年\"&9,IF(AND(CU$36=5,CS$36=\"元\"),\"平成\"&30&\"年\"&9,IF(AND(CU$36>=6,CS$36=\"元\"),\"令和元年\"&9,IF(AND(CU$36>=1,CU$36<=5,CS$36=2),\"令和元年\"&9,(IF((AND(CU$36>=1,CU$36<=5)),\"令和\"&CS$36-1&\"年\"&9,\"令和\"&CS$36&\"年\"&9)))))))","v":"令和年9"},null,null,null,{"$f":"IF(OR(CY87=\"\",CY$41=10),\"\",9)","v":9},{"$f":"IF(OR(CZ87=\"\",DB$41=4),\"\",IF(AND(DA$36>=1,DA$36<=4,CY$36=31),\"平成\"&30&\"年\"&9,IF(AND(DA$36=5,CY$36=\"元\"),\"平成\"&30&\"年\"&9,IF(AND(DA$36>=6,CY$36=\"元\"),\"令和元年\"&9,IF(AND(DA$36>=1,DA$36<=5,CY$36=2),\"令和元年\"&9,(IF((AND(DA$36>=1,DA$36<=5)),\"令和\"&CY$36-1&\"年\"&9,\"令和\"&CY$36&\"年\"&9)))))))","v":"令和年9"},{"$f":"IF(OR(CZ87=\"\",DB$41=4),\"\",IF(AND(DA$36>=1,DA$36<=4,CY$36=31),\"平成\"&30&\"年\"&9,IF(AND(DA$36=5,CY$36=\"元\"),\"平成\"&30&\"年\"&9,IF(AND(DA$36>=6,CY$36=\"元\"),\"令和元年\"&9,IF(AND(DA$36>=1,DA$36<=5,CY$36=2),\"令和元年\"&9,(IF((AND(DA$36>=1,DA$36<=5)),\"令和\"&CY$36-1&\"年\"&9,\"令和\"&CY$36&\"年\"&9)))))))","v":"令和年9"},null,null,null,{"$f":"IF(OR(DE87=\"\",DE$41=10),\"\",9)","v":9},{"$f":"IF(OR(DF87=\"\",DH$41=4),\"\",IF(AND(DG$36>=1,DG$36<=4,DE$36=31),\"平成\"&30&\"年\"&9,IF(AND(DG$36=5,DE$36=\"元\"),\"平成\"&30&\"年\"&9,IF(AND(DG$36>=6,DE$36=\"元\"),\"令和元年\"&9,IF(AND(DG$36>=1,DG$36<=5,DE$36=2),\"令和元年\"&9,(IF((AND(DG$36>=1,DG$36<=5)),\"令和\"&DE$36-1&\"年\"&9,\"令和\"&DE$36&\"年\"&9)))))))","v":"令和年9"},{"$f":"IF(OR(DF87=\"\",DH$41=4),\"\",IF(AND(DG$36>=1,DG$36<=4,DE$36=31),\"平成\"&30&\"年\"&9,IF(AND(DG$36=5,DE$36=\"元\"),\"平成\"&30&\"年\"&9,IF(AND(DG$36>=6,DE$36=\"元\"),\"令和元年\"&9,IF(AND(DG$36>=1,DG$36<=5,DE$36=2),\"令和元年\"&9,(IF((AND(DG$36>=1,DG$36<=5)),\"令和\"&DE$36-1&\"年\"&9,\"令和\"&DE$36&\"年\"&9)))))))","v":"令和年9"},null,null,null,{"$f":"IF(OR(DK87=\"\",DK$41=10),\"\",9)","v":9},{"$f":"IF(OR(DL87=\"\",DN$41=4),\"\",IF(AND(DM$36>=1,DM$36<=4,DK$36=31),\"平成\"&30&\"年\"&9,IF(AND(DM$36=5,DK$36=\"元\"),\"平成\"&30&\"年\"&9,IF(AND(DM$36>=6,DK$36=\"元\"),\"令和元年\"&9,IF(AND(DM$36>=1,DM$36<=5,DK$36=2),\"令和元年\"&9,(IF((AND(DM$36>=1,DM$36<=5)),\"令和\"&DK$36-1&\"年\"&9,\"令和\"&DK$36&\"年\"&9)))))))","v":"令和年9"},{"$f":"IF(OR(DL87=\"\",DN$41=4),\"\",IF(AND(DM$36>=1,DM$36<=4,DK$36=31),\"平成\"&30&\"年\"&9,IF(AND(DM$36=5,DK$36=\"元\"),\"平成\"&30&\"年\"&9,IF(AND(DM$36>=6,DK$36=\"元\"),\"令和元年\"&9,IF(AND(DM$36>=1,DM$36<=5,DK$36=2),\"令和元年\"&9,(IF((AND(DM$36>=1,DM$36<=5)),\"令和\"&DK$36-1&\"年\"&9,\"令和\"&DK$36&\"年\"&9)))))))","v":"令和年9"},null,null,null,{"$f":"IF(OR(DQ87=\"\",DQ$41=10),\"\",9)","v":9},{"$f":"IF(OR(DR87=\"\",DT$41=4),\"\",IF(AND(DS$36>=1,DS$36<=4,DQ$36=31),\"平成\"&30&\"年\"&9,IF(AND(DS$36=5,DQ$36=\"元\"),\"平成\"&30&\"年\"&9,IF(AND(DS$36>=6,DQ$36=\"元\"),\"令和元年\"&9,IF(AND(DS$36>=1,DS$36<=5,DQ$36=2),\"令和元年\"&9,(IF((AND(DS$36>=1,DS$36<=5)),\"令和\"&DQ$36-1&\"年\"&9,\"令和\"&DQ$36&\"年\"&9)))))))","v":"令和年9"},{"$f":"IF(OR(DR87=\"\",DT$41=4),\"\",IF(AND(DS$36>=1,DS$36<=4,DQ$36=31),\"平成\"&30&\"年\"&9,IF(AND(DS$36=5,DQ$36=\"元\"),\"平成\"&30&\"年\"&9,IF(AND(DS$36>=6,DQ$36=\"元\"),\"令和元年\"&9,IF(AND(DS$36>=1,DS$36<=5,DQ$36=2),\"令和元年\"&9,(IF((AND(DS$36>=1,DS$36<=5)),\"令和\"&DQ$36-1&\"年\"&9,\"令和\"&DQ$36&\"年\"&9)))))))","v":"令和年9"},null,null,null,{"$f":"IF(OR(DW87=\"\",DW$41=10),\"\",9)","v":9},{"$f":"IF(OR(DX87=\"\",DZ$41=4),\"\",IF(AND(DY$36>=1,DY$36<=4,DW$36=31),\"平成\"&30&\"年\"&9,IF(AND(DY$36=5,DW$36=\"元\"),\"平成\"&30&\"年\"&9,IF(AND(DY$36>=6,DW$36=\"元\"),\"令和元年\"&9,IF(AND(DY$36>=1,DY$36<=5,DW$36=2),\"令和元年\"&9,(IF((AND(DY$36>=1,DY$36<=5)),\"令和\"&DW$36-1&\"年\"&9,\"令和\"&DW$36&\"年\"&9)))))))","v":"令和年9"},{"$f":"IF(OR(DX87=\"\",DZ$41=4),\"\",IF(AND(DY$36>=1,DY$36<=4,DW$36=31),\"平成\"&30&\"年\"&9,IF(AND(DY$36=5,DW$36=\"元\"),\"平成\"&30&\"年\"&9,IF(AND(DY$36>=6,DW$36=\"元\"),\"令和元年\"&9,IF(AND(DY$36>=1,DY$36<=5,DW$36=2),\"令和元年\"&9,(IF((AND(DY$36>=1,DY$36<=5)),\"令和\"&DW$36-1&\"年\"&9,\"令和\"&DW$36&\"年\"&9)))))))","v":"令和年9"},null,null,null,{"$f":"IF(OR(EC87=\"\",EC$41=10),\"\",9)","v":9},{"$f":"IF(OR(ED87=\"\",EF$41=4),\"\",IF(AND(EE$36>=1,EE$36<=4,EC$36=31),\"平成\"&30&\"年\"&9,IF(AND(EE$36=5,EC$36=\"元\"),\"平成\"&30&\"年\"&9,IF(AND(EE$36>=6,EC$36=\"元\"),\"令和元年\"&9,IF(AND(EE$36>=1,EE$36<=5,EC$36=2),\"令和元年\"&9,(IF((AND(EE$36>=1,EE$36<=5)),\"令和\"&EC$36-1&\"年\"&9,\"令和\"&EC$36&\"年\"&9)))))))","v":"令和年9"},{"$f":"IF(OR(ED87=\"\",EF$41=4),\"\",IF(AND(EE$36>=1,EE$36<=4,EC$36=31),\"平成\"&30&\"年\"&9,IF(AND(EE$36=5,EC$36=\"元\"),\"平成\"&30&\"年\"&9,IF(AND(EE$36>=6,EC$36=\"元\"),\"令和元年\"&9,IF(AND(EE$36>=1,EE$36<=5,EC$36=2),\"令和元年\"&9,(IF((AND(EE$36>=1,EE$36<=5)),\"令和\"&EC$36-1&\"年\"&9,\"令和\"&EC$36&\"年\"&9)))))))","v":"令和年9"},null,null,null,{"$f":"IF(OR(EI87=\"\",EI$41=10),\"\",9)","v":9},{"$f":"IF(OR(EJ87=\"\",EL$41=4),\"\",IF(AND(EK$36>=1,EK$36<=4,EI$36=31),\"平成\"&30&\"年\"&9,IF(AND(EK$36=5,EI$36=\"元\"),\"平成\"&30&\"年\"&9,IF(AND(EK$36>=6,EI$36=\"元\"),\"令和元年\"&9,IF(AND(EK$36>=1,EK$36<=5,EI$36=2),\"令和元年\"&9,(IF((AND(EK$36>=1,EK$36<=5)),\"令和\"&EI$36-1&\"年\"&9,\"令和\"&EI$36&\"年\"&9)))))))","v":"令和年9"},{"$f":"IF(OR(EJ87=\"\",EL$41=4),\"\",IF(AND(EK$36>=1,EK$36<=4,EI$36=31),\"平成\"&30&\"年\"&9,IF(AND(EK$36=5,EI$36=\"元\"),\"平成\"&30&\"年\"&9,IF(AND(EK$36>=6,EI$36=\"元\"),\"令和元年\"&9,IF(AND(EK$36>=1,EK$36<=5,EI$36=2),\"令和元年\"&9,(IF((AND(EK$36>=1,EK$36<=5)),\"令和\"&EI$36-1&\"年\"&9,\"令和\"&EI$36&\"年\"&9)))))))","v":"令和年9"},null,null,null,{"$f":"IF(OR(EO87=\"\",EO$41=10),\"\",9)","v":9},{"$f":"IF(OR(EP87=\"\",ER$41=4),\"\",IF(AND(EQ$36>=1,EQ$36<=4,EO$36=31),\"平成\"&30&\"年\"&9,IF(AND(EQ$36=5,EO$36=\"元\"),\"平成\"&30&\"年\"&9,IF(AND(EQ$36>=6,EO$36=\"元\"),\"令和元年\"&9,IF(AND(EQ$36>=1,EQ$36<=5,EO$36=2),\"令和元年\"&9,(IF((AND(EQ$36>=1,EQ$36<=5)),\"令和\"&EO$36-1&\"年\"&9,\"令和\"&EO$36&\"年\"&9)))))))","v":"令和年9"},{"$f":"IF(OR(EP87=\"\",ER$41=4),\"\",IF(AND(EQ$36>=1,EQ$36<=4,EO$36=31),\"平成\"&30&\"年\"&9,IF(AND(EQ$36=5,EO$36=\"元\"),\"平成\"&30&\"年\"&9,IF(AND(EQ$36>=6,EO$36=\"元\"),\"令和元年\"&9,IF(AND(EQ$36>=1,EQ$36<=5,EO$36=2),\"令和元年\"&9,(IF((AND(EQ$36>=1,EQ$36<=5)),\"令和\"&EO$36-1&\"年\"&9,\"令和\"&EO$36&\"年\"&9)))))))","v":"令和年9"},null,null,null,{"$f":"IF(OR(EU87=\"\",EU$41=10),\"\",9)","v":9},{"$f":"IF(OR(EV87=\"\",EX$41=4),\"\",IF(AND(EW$36>=1,EW$36<=4,EU$36=31),\"平成\"&30&\"年\"&9,IF(AND(EW$36=5,EU$36=\"元\"),\"平成\"&30&\"年\"&9,IF(AND(EW$36>=6,EU$36=\"元\"),\"令和元年\"&9,IF(AND(EW$36>=1,EW$36<=5,EU$36=2),\"令和元年\"&9,(IF((AND(EW$36>=1,EW$36<=5)),\"令和\"&EU$36-1&\"年\"&9,\"令和\"&EU$36&\"年\"&9)))))))","v":"令和年9"},{"$f":"IF(OR(EV87=\"\",EX$41=4),\"\",IF(AND(EW$36>=1,EW$36<=4,EU$36=31),\"平成\"&30&\"年\"&9,IF(AND(EW$36=5,EU$36=\"元\"),\"平成\"&30&\"年\"&9,IF(AND(EW$36>=6,EU$36=\"元\"),\"令和元年\"&9,IF(AND(EW$36>=1,EW$36<=5,EU$36=2),\"令和元年\"&9,(IF((AND(EW$36>=1,EW$36<=5)),\"令和\"&EU$36-1&\"年\"&9,\"令和\"&EU$36&\"年\"&9)))))))","v":"令和年9"},null,null,null,{"$f":"IF(OR(FA87=\"\",FA$41=10),\"\",9)","v":9},{"$f":"IF(OR(FB87=\"\",FD$41=4),\"\",IF(AND(FC$36>=1,FC$36<=4,FA$36=31),\"平成\"&30&\"年\"&9,IF(AND(FC$36=5,FA$36=\"元\"),\"平成\"&30&\"年\"&9,IF(AND(FC$36>=6,FA$36=\"元\"),\"令和元年\"&9,IF(AND(FC$36>=1,FC$36<=5,FA$36=2),\"令和元年\"&9,(IF((AND(FC$36>=1,FC$36<=5)),\"令和\"&FA$36-1&\"年\"&9,\"令和\"&FA$36&\"年\"&9)))))))","v":"令和年9"},{"$f":"IF(OR(FB87=\"\",FD$41=4),\"\",IF(AND(FC$36>=1,FC$36<=4,FA$36=31),\"平成\"&30&\"年\"&9,IF(AND(FC$36=5,FA$36=\"元\"),\"平成\"&30&\"年\"&9,IF(AND(FC$36>=6,FA$36=\"元\"),\"令和元年\"&9,IF(AND(FC$36>=1,FC$36<=5,FA$36=2),\"令和元年\"&9,(IF((AND(FC$36>=1,FC$36<=5)),\"令和\"&FA$36-1&\"年\"&9,\"令和\"&FA$36&\"年\"&9)))))))","v":"令和年9"},null,null,null,{"$f":"IF(OR(FG87=\"\",FG$41=10),\"\",9)","v":9},{"$f":"IF(OR(FH87=\"\",FJ$41=4),\"\",IF(AND(FI$36>=1,FI$36<=4,FG$36=31),\"平成\"&30&\"年\"&9,IF(AND(FI$36=5,FG$36=\"元\"),\"平成\"&30&\"年\"&9,IF(AND(FI$36>=6,FG$36=\"元\"),\"令和元年\"&9,IF(AND(FI$36>=1,FI$36<=5,FG$36=2),\"令和元年\"&9,(IF((AND(FI$36>=1,FI$36<=5)),\"令和\"&FG$36-1&\"年\"&9,\"令和\"&FG$36&\"年\"&9)))))))","v":"令和年9"},{"$f":"IF(OR(FH87=\"\",FJ$41=4),\"\",IF(AND(FI$36>=1,FI$36<=4,FG$36=31),\"平成\"&30&\"年\"&9,IF(AND(FI$36=5,FG$36=\"元\"),\"平成\"&30&\"年\"&9,IF(AND(FI$36>=6,FG$36=\"元\"),\"令和元年\"&9,IF(AND(FI$36>=1,FI$36<=5,FG$36=2),\"令和元年\"&9,(IF((AND(FI$36>=1,FI$36<=5)),\"令和\"&FG$36-1&\"年\"&9,\"令和\"&FG$36&\"年\"&9)))))))","v":"令和年9"},null,null,null,{"$f":"IF(OR(FM87=\"\",FM$41=10),\"\",9)","v":9},{"$f":"IF(OR(FN87=\"\",FP$41=4),\"\",IF(AND(FO$36>=1,FO$36<=4,FM$36=31),\"平成\"&30&\"年\"&9,IF(AND(FO$36=5,FM$36=\"元\"),\"平成\"&30&\"年\"&9,IF(AND(FO$36>=6,FM$36=\"元\"),\"令和元年\"&9,IF(AND(FO$36>=1,FO$36<=5,FM$36=2),\"令和元年\"&9,(IF((AND(FO$36>=1,FO$36<=5)),\"令和\"&FM$36-1&\"年\"&9,\"令和\"&FM$36&\"年\"&9)))))))","v":"令和年9"},{"$f":"IF(OR(FN87=\"\",FP$41=4),\"\",IF(AND(FO$36>=1,FO$36<=4,FM$36=31),\"平成\"&30&\"年\"&9,IF(AND(FO$36=5,FM$36=\"元\"),\"平成\"&30&\"年\"&9,IF(AND(FO$36>=6,FM$36=\"元\"),\"令和元年\"&9,IF(AND(FO$36>=1,FO$36<=5,FM$36=2),\"令和元年\"&9,(IF((AND(FO$36>=1,FO$36<=5)),\"令和\"&FM$36-1&\"年\"&9,\"令和\"&FM$36&\"年\"&9)))))))","v":"令和年9"},null,null,null,{"$f":"IF(OR(FS87=\"\",FS$41=10),\"\",9)","v":9},{"$f":"IF(OR(FT87=\"\",FV$41=4),\"\",IF(AND(FU$36>=1,FU$36<=4,FS$36=31),\"平成\"&30&\"年\"&9,IF(AND(FU$36=5,FS$36=\"元\"),\"平成\"&30&\"年\"&9,IF(AND(FU$36>=6,FS$36=\"元\"),\"令和元年\"&9,IF(AND(FU$36>=1,FU$36<=5,FS$36=2),\"令和元年\"&9,(IF((AND(FU$36>=1,FU$36<=5)),\"令和\"&FS$36-1&\"年\"&9,\"令和\"&FS$36&\"年\"&9)))))))","v":"令和年9"},{"$f":"IF(OR(FT87=\"\",FV$41=4),\"\",IF(AND(FU$36>=1,FU$36<=4,FS$36=31),\"平成\"&30&\"年\"&9,IF(AND(FU$36=5,FS$36=\"元\"),\"平成\"&30&\"年\"&9,IF(AND(FU$36>=6,FS$36=\"元\"),\"令和元年\"&9,IF(AND(FU$36>=1,FU$36<=5,FS$36=2),\"令和元年\"&9,(IF((AND(FU$36>=1,FU$36<=5)),\"令和\"&FS$36-1&\"年\"&9,\"令和\"&FS$36&\"年\"&9)))))))","v":"令和年9"},null,null,null,{"$f":"IF(OR(FY87=\"\",FY$41=10),\"\",9)","v":9},{"$f":"IF(OR(FZ87=\"\",GB$41=4),\"\",IF(AND(GA$36>=1,GA$36<=4,FY$36=31),\"平成\"&30&\"年\"&9,IF(AND(GA$36=5,FY$36=\"元\"),\"平成\"&30&\"年\"&9,IF(AND(GA$36>=6,FY$36=\"元\"),\"令和元年\"&9,IF(AND(GA$36>=1,GA$36<=5,FY$36=2),\"令和元年\"&9,(IF((AND(GA$36>=1,GA$36<=5)),\"令和\"&FY$36-1&\"年\"&9,\"令和\"&FY$36&\"年\"&9)))))))","v":"令和年9"},{"$f":"IF(OR(FZ87=\"\",GB$41=4),\"\",IF(AND(GA$36>=1,GA$36<=4,FY$36=31),\"平成\"&30&\"年\"&9,IF(AND(GA$36=5,FY$36=\"元\"),\"平成\"&30&\"年\"&9,IF(AND(GA$36>=6,FY$36=\"元\"),\"令和元年\"&9,IF(AND(GA$36>=1,GA$36<=5,FY$36=2),\"令和元年\"&9,(IF((AND(GA$36>=1,GA$36<=5)),\"令和\"&FY$36-1&\"年\"&9,\"令和\"&FY$36&\"年\"&9)))))))","v":"令和年9"},null,null,null,{"$f":"IF(OR(GE87=\"\",GE$41=10),\"\",9)","v":9},{"$f":"IF(OR(GF87=\"\",GH$41=4),\"\",IF(AND(GG$36>=1,GG$36<=4,GE$36=31),\"平成\"&30&\"年\"&9,IF(AND(GG$36=5,GE$36=\"元\"),\"平成\"&30&\"年\"&9,IF(AND(GG$36>=6,GE$36=\"元\"),\"令和元年\"&9,IF(AND(GG$36>=1,GG$36<=5,GE$36=2),\"令和元年\"&9,(IF((AND(GG$36>=1,GG$36<=5)),\"令和\"&GE$36-1&\"年\"&9,\"令和\"&GE$36&\"年\"&9)))))))","v":"令和年9"},{"$f":"IF(OR(GF87=\"\",GH$41=4),\"\",IF(AND(GG$36>=1,GG$36<=4,GE$36=31),\"平成\"&30&\"年\"&9,IF(AND(GG$36=5,GE$36=\"元\"),\"平成\"&30&\"年\"&9,IF(AND(GG$36>=6,GE$36=\"元\"),\"令和元年\"&9,IF(AND(GG$36>=1,GG$36<=5,GE$36=2),\"令和元年\"&9,(IF((AND(GG$36>=1,GG$36<=5)),\"令和\"&GE$36-1&\"年\"&9,\"令和\"&GE$36&\"年\"&9)))))))","v":"令和年9"},null,null,null,{"$f":"IF(OR(GK87=\"\",GK$41=10),\"\",9)","v":9},{"$f":"IF(OR(GL87=\"\",GN$41=4),\"\",IF(AND(GM$36>=1,GM$36<=4,GK$36=31),\"平成\"&30&\"年\"&9,IF(AND(GM$36=5,GK$36=\"元\"),\"平成\"&30&\"年\"&9,IF(AND(GM$36>=6,GK$36=\"元\"),\"令和元年\"&9,IF(AND(GM$36>=1,GM$36<=5,GK$36=2),\"令和元年\"&9,(IF((AND(GM$36>=1,GM$36<=5)),\"令和\"&GK$36-1&\"年\"&9,\"令和\"&GK$36&\"年\"&9)))))))","v":"令和年9"},{"$f":"IF(OR(GL87=\"\",GN$41=4),\"\",IF(AND(GM$36>=1,GM$36<=4,GK$36=31),\"平成\"&30&\"年\"&9,IF(AND(GM$36=5,GK$36=\"元\"),\"平成\"&30&\"年\"&9,IF(AND(GM$36>=6,GK$36=\"元\"),\"令和元年\"&9,IF(AND(GM$36>=1,GM$36<=5,GK$36=2),\"令和元年\"&9,(IF((AND(GM$36>=1,GM$36<=5)),\"令和\"&GK$36-1&\"年\"&9,\"令和\"&GK$36&\"年\"&9)))))))","v":"令和年9"},null,null,null,{"$f":"IF(OR(GQ87=\"\",GQ$41=10),\"\",9)","v":9},{"$f":"IF(OR(GR87=\"\",GT$41=4),\"\",IF(AND(GS$36>=1,GS$36<=4,GQ$36=31),\"平成\"&30&\"年\"&9,IF(AND(GS$36=5,GQ$36=\"元\"),\"平成\"&30&\"年\"&9,IF(AND(GS$36>=6,GQ$36=\"元\"),\"令和元年\"&9,IF(AND(GS$36>=1,GS$36<=5,GQ$36=2),\"令和元年\"&9,(IF((AND(GS$36>=1,GS$36<=5)),\"令和\"&GQ$36-1&\"年\"&9,\"令和\"&GQ$36&\"年\"&9)))))))","v":"令和年9"},{"$f":"IF(OR(GR87=\"\",GT$41=4),\"\",IF(AND(GS$36>=1,GS$36<=4,GQ$36=31),\"平成\"&30&\"年\"&9,IF(AND(GS$36=5,GQ$36=\"元\"),\"平成\"&30&\"年\"&9,IF(AND(GS$36>=6,GQ$36=\"元\"),\"令和元年\"&9,IF(AND(GS$36>=1,GS$36<=5,GQ$36=2),\"令和元年\"&9,(IF((AND(GS$36>=1,GS$36<=5)),\"令和\"&GQ$36-1&\"年\"&9,\"令和\"&GQ$36&\"年\"&9)))))))","v":"令和年9"},null,null,null,{"$f":"IF(OR(GW87=\"\",GW$41=10),\"\",9)","v":9},{"$f":"IF(OR(GX87=\"\",GZ$41=4),\"\",IF(AND(GY$36>=1,GY$36<=4,GW$36=31),\"平成\"&30&\"年\"&9,IF(AND(GY$36=5,GW$36=\"元\"),\"平成\"&30&\"年\"&9,IF(AND(GY$36>=6,GW$36=\"元\"),\"令和元年\"&9,IF(AND(GY$36>=1,GY$36<=5,GW$36=2),\"令和元年\"&9,(IF((AND(GY$36>=1,GY$36<=5)),\"令和\"&GW$36-1&\"年\"&9,\"令和\"&GW$36&\"年\"&9)))))))","v":"令和年9"},{"$f":"IF(OR(GX87=\"\",GZ$41=4),\"\",IF(AND(GY$36>=1,GY$36<=4,GW$36=31),\"平成\"&30&\"年\"&9,IF(AND(GY$36=5,GW$36=\"元\"),\"平成\"&30&\"年\"&9,IF(AND(GY$36>=6,GW$36=\"元\"),\"令和元年\"&9,IF(AND(GY$36>=1,GY$36<=5,GW$36=2),\"令和元年\"&9,(IF((AND(GY$36>=1,GY$36<=5)),\"令和\"&GW$36-1&\"年\"&9,\"令和\"&GW$36&\"年\"&9)))))))","v":"令和年9"},null,null,null,{"$f":"IF(OR(HC87=\"\",HC$41=10),\"\",9)","v":9},{"$f":"IF(OR(HD87=\"\",HF$41=4),\"\",IF(AND(HE$36>=1,HE$36<=4,HC$36=31),\"平成\"&30&\"年\"&9,IF(AND(HE$36=5,HC$36=\"元\"),\"平成\"&30&\"年\"&9,IF(AND(HE$36>=6,HC$36=\"元\"),\"令和元年\"&9,IF(AND(HE$36>=1,HE$36<=5,HC$36=2),\"令和元年\"&9,(IF((AND(HE$36>=1,HE$36<=5)),\"令和\"&HC$36-1&\"年\"&9,\"令和\"&HC$36&\"年\"&9)))))))","v":"令和年9"},{"$f":"IF(OR(HD87=\"\",HF$41=4),\"\",IF(AND(HE$36>=1,HE$36<=4,HC$36=31),\"平成\"&30&\"年\"&9,IF(AND(HE$36=5,HC$36=\"元\"),\"平成\"&30&\"年\"&9,IF(AND(HE$36>=6,HC$36=\"元\"),\"令和元年\"&9,IF(AND(HE$36>=1,HE$36<=5,HC$36=2),\"令和元年\"&9,(IF((AND(HE$36>=1,HE$36<=5)),\"令和\"&HC$36-1&\"年\"&9,\"令和\"&HC$36&\"年\"&9)))))))","v":"令和年9"},null,null,null,{"$f":"IF(OR(HI87=\"\",HI$41=10),\"\",9)","v":9},{"$f":"IF(OR(HJ87=\"\",HL$41=4),\"\",IF(AND(HK$36>=1,HK$36<=4,HI$36=31),\"平成\"&30&\"年\"&9,IF(AND(HK$36=5,HI$36=\"元\"),\"平成\"&30&\"年\"&9,IF(AND(HK$36>=6,HI$36=\"元\"),\"令和元年\"&9,IF(AND(HK$36>=1,HK$36<=5,HI$36=2),\"令和元年\"&9,(IF((AND(HK$36>=1,HK$36<=5)),\"令和\"&HI$36-1&\"年\"&9,\"令和\"&HI$36&\"年\"&9)))))))","v":"令和年9"},{"$f":"IF(OR(HJ87=\"\",HL$41=4),\"\",IF(AND(HK$36>=1,HK$36<=4,HI$36=31),\"平成\"&30&\"年\"&9,IF(AND(HK$36=5,HI$36=\"元\"),\"平成\"&30&\"年\"&9,IF(AND(HK$36>=6,HI$36=\"元\"),\"令和元年\"&9,IF(AND(HK$36>=1,HK$36<=5,HI$36=2),\"令和元年\"&9,(IF((AND(HK$36>=1,HK$36<=5)),\"令和\"&HI$36-1&\"年\"&9,\"令和\"&HI$36&\"年\"&9)))))))","v":"令和年9"},null,null,null,{"$f":"IF(OR(HO87=\"\",HO$41=10),\"\",9)","v":9},{"$f":"IF(OR(HP87=\"\",HR$41=4),\"\",IF(AND(HQ$36>=1,HQ$36<=4,HO$36=31),\"平成\"&30&\"年\"&9,IF(AND(HQ$36=5,HO$36=\"元\"),\"平成\"&30&\"年\"&9,IF(AND(HQ$36>=6,HO$36=\"元\"),\"令和元年\"&9,IF(AND(HQ$36>=1,HQ$36<=5,HO$36=2),\"令和元年\"&9,(IF((AND(HQ$36>=1,HQ$36<=5)),\"令和\"&HO$36-1&\"年\"&9,\"令和\"&HO$36&\"年\"&9)))))))","v":"令和年9"},{"$f":"IF(OR(HP87=\"\",HR$41=4),\"\",IF(AND(HQ$36>=1,HQ$36<=4,HO$36=31),\"平成\"&30&\"年\"&9,IF(AND(HQ$36=5,HO$36=\"元\"),\"平成\"&30&\"年\"&9,IF(AND(HQ$36>=6,HO$36=\"元\"),\"令和元年\"&9,IF(AND(HQ$36>=1,HQ$36<=5,HO$36=2),\"令和元年\"&9,(IF((AND(HQ$36>=1,HQ$36<=5)),\"令和\"&HO$36-1&\"年\"&9,\"令和\"&HO$36&\"年\"&9)))))))","v":"令和年9"},null,null,null,{"$f":"IF(OR(HU87=\"\",HU$41=10),\"\",9)","v":9},{"$f":"IF(OR(HV87=\"\",HX$41=4),\"\",IF(AND(HW$36>=1,HW$36<=4,HU$36=31),\"平成\"&30&\"年\"&9,IF(AND(HW$36=5,HU$36=\"元\"),\"平成\"&30&\"年\"&9,IF(AND(HW$36>=6,HU$36=\"元\"),\"令和元年\"&9,IF(AND(HW$36>=1,HW$36<=5,HU$36=2),\"令和元年\"&9,(IF((AND(HW$36>=1,HW$36<=5)),\"令和\"&HU$36-1&\"年\"&9,\"令和\"&HU$36&\"年\"&9)))))))","v":"令和年9"},{"$f":"IF(OR(HV87=\"\",HX$41=4),\"\",IF(AND(HW$36>=1,HW$36<=4,HU$36=31),\"平成\"&30&\"年\"&9,IF(AND(HW$36=5,HU$36=\"元\"),\"平成\"&30&\"年\"&9,IF(AND(HW$36>=6,HU$36=\"元\"),\"令和元年\"&9,IF(AND(HW$36>=1,HW$36<=5,HU$36=2),\"令和元年\"&9,(IF((AND(HW$36>=1,HW$36<=5)),\"令和\"&HU$36-1&\"年\"&9,\"令和\"&HU$36&\"年\"&9)))))))","v":"令和年9"},null,null,null,{"$f":"IF(OR(IA87=\"\",IA$41=10),\"\",9)","v":9},{"$f":"IF(OR(IB87=\"\",ID$41=4),\"\",IF(AND(IC$36>=1,IC$36<=4,IA$36=31),\"平成\"&30&\"年\"&9,IF(AND(IC$36=5,IA$36=\"元\"),\"平成\"&30&\"年\"&9,IF(AND(IC$36>=6,IA$36=\"元\"),\"令和元年\"&9,IF(AND(IC$36>=1,IC$36<=5,IA$36=2),\"令和元年\"&9,(IF((AND(IC$36>=1,IC$36<=5)),\"令和\"&IA$36-1&\"年\"&9,\"令和\"&IA$36&\"年\"&9)))))))","v":"令和年9"},{"$f":"IF(OR(IB87=\"\",ID$41=4),\"\",IF(AND(IC$36>=1,IC$36<=4,IA$36=31),\"平成\"&30&\"年\"&9,IF(AND(IC$36=5,IA$36=\"元\"),\"平成\"&30&\"年\"&9,IF(AND(IC$36>=6,IA$36=\"元\"),\"令和元年\"&9,IF(AND(IC$36>=1,IC$36<=5,IA$36=2),\"令和元年\"&9,(IF((AND(IC$36>=1,IC$36<=5)),\"令和\"&IA$36-1&\"年\"&9,\"令和\"&IA$36&\"年\"&9)))))))","v":"令和年9"},null,null,null,{"$f":"IF(OR(IG87=\"\",IG$41=10),\"\",9)","v":9},{"$f":"IF(OR(IH87=\"\",IJ$41=4),\"\",IF(AND(II$36>=1,II$36<=4,IG$36=31),\"平成\"&30&\"年\"&9,IF(AND(II$36=5,IG$36=\"元\"),\"平成\"&30&\"年\"&9,IF(AND(II$36>=6,IG$36=\"元\"),\"令和元年\"&9,IF(AND(II$36>=1,II$36<=5,IG$36=2),\"令和元年\"&9,(IF((AND(II$36>=1,II$36<=5)),\"令和\"&IG$36-1&\"年\"&9,\"令和\"&IG$36&\"年\"&9)))))))","v":"令和年9"},{"$f":"IF(OR(IH87=\"\",IJ$41=4),\"\",IF(AND(II$36>=1,II$36<=4,IG$36=31),\"平成\"&30&\"年\"&9,IF(AND(II$36=5,IG$36=\"元\"),\"平成\"&30&\"年\"&9,IF(AND(II$36>=6,IG$36=\"元\"),\"令和元年\"&9,IF(AND(II$36>=1,II$36<=5,IG$36=2),\"令和元年\"&9,(IF((AND(II$36>=1,II$36<=5)),\"令和\"&IG$36-1&\"年\"&9,\"令和\"&IG$36&\"年\"&9)))))))","v":"令和年9"}]
[null,{"$f":"IF(AND(CM21<>\"\",CM25<>\"\",CO25<>\"\",CQ25<>\"\"),CM17,\"\")","v":""},"平",7,"平7",null,{"$f":"IF(OR(G88=\"\",G$41=11),\"\",10)","v":10},{"$f":"IF(OR(H88=\"\",J$41=4),\"\",IF(AND(I$36>=1,I$36<=4,G$36=31),\"平成\"&30&\"年\"&10,IF(AND(I$36=5,G$36=\"元\"),\"平成\"&30&\"年\"&10,IF(AND(I$36>=6,G$36=\"元\"),\"令和元年\"&10,IF(AND(I$36>=1,I$36<=5,G$36=2),\"令和元年\"&10,(IF((AND(I$36>=1,I$36<=5)),\"令和\"&G$36-1&\"年\"&10,\"令和\"&G$36&\"年\"&10)))))))","v":"令和年10"},{"$f":"IF(OR(H88=\"\",J$41=4),\"\",IF(AND(I$36>=1,I$36<=4,G$36=31),\"平成\"&30&\"年\"&10,IF(AND(I$36=5,G$36=\"元\"),\"平成\"&30&\"年\"&10,IF(AND(I$36>=6,G$36=\"元\"),\"令和元年\"&10,IF(AND(I$36>=1,I$36<=5,G$36=2),\"令和元年\"&10,(IF((AND(I$36>=1,I$36<=5)),\"令和\"&G$36-1&\"年\"&10,\"令和\"&G$36&\"年\"&10)))))))","v":"令和年10"},null,null,null,{"$f":"IF(OR(M88=\"\",M$41=11),\"\",10)","v":10},{"$f":"IF(OR(N88=\"\",P$41=4),\"\",IF(AND(O$36>=1,O$36<=4,M$36=31),\"平成\"&30&\"年\"&10,IF(AND(O$36=5,M$36=\"元\"),\"平成\"&30&\"年\"&10,IF(AND(O$36>=6,M$36=\"元\"),\"令和元年\"&10,IF(AND(O$36>=1,O$36<=5,M$36=2),\"令和元年\"&10,(IF((AND(O$36>=1,O$36<=5)),\"令和\"&M$36-1&\"年\"&10,\"令和\"&M$36&\"年\"&10)))))))","v":"令和年10"},{"$f":"IF(OR(N88=\"\",P$41=4),\"\",IF(AND(O$36>=1,O$36<=4,M$36=31),\"平成\"&30&\"年\"&10,IF(AND(O$36=5,M$36=\"元\"),\"平成\"&30&\"年\"&10,IF(AND(O$36>=6,M$36=\"元\"),\"令和元年\"&10,IF(AND(O$36>=1,O$36<=5,M$36=2),\"令和元年\"&10,(IF((AND(O$36>=1,O$36<=5)),\"令和\"&M$36-1&\"年\"&10,\"令和\"&M$36&\"年\"&10)))))))","v":"令和年10"},null,null,null,{"$f":"IF(OR(S88=\"\",S$41=11),\"\",10)","v":10},{"$f":"IF(OR(T88=\"\",V$41=4),\"\",IF(AND(U$36>=1,U$36<=4,S$36=31),\"平成\"&30&\"年\"&10,IF(AND(U$36=5,S$36=\"元\"),\"平成\"&30&\"年\"&10,IF(AND(U$36>=6,S$36=\"元\"),\"令和元年\"&10,IF(AND(U$36>=1,U$36<=5,S$36=2),\"令和元年\"&10,(IF((AND(U$36>=1,U$36<=5)),\"令和\"&S$36-1&\"年\"&10,\"令和\"&S$36&\"年\"&10)))))))","v":"令和年10"},{"$f":"IF(OR(T88=\"\",V$41=4),\"\",IF(AND(U$36>=1,U$36<=4,S$36=31),\"平成\"&30&\"年\"&10,IF(AND(U$36=5,S$36=\"元\"),\"平成\"&30&\"年\"&10,IF(AND(U$36>=6,S$36=\"元\"),\"令和元年\"&10,IF(AND(U$36>=1,U$36<=5,S$36=2),\"令和元年\"&10,(IF((AND(U$36>=1,U$36<=5)),\"令和\"&S$36-1&\"年\"&10,\"令和\"&S$36&\"年\"&10)))))))","v":"令和年10"},null,null,null,{"$f":"IF(OR(Y88=\"\",Y$41=11),\"\",10)","v":10},{"$f":"IF(OR(Z88=\"\",AB$41=4),\"\",IF(AND(AA$36>=1,AA$36<=4,Y$36=31),\"平成\"&30&\"年\"&10,IF(AND(AA$36=5,Y$36=\"元\"),\"平成\"&30&\"年\"&10,IF(AND(AA$36>=6,Y$36=\"元\"),\"令和元年\"&10,IF(AND(AA$36>=1,AA$36<=5,Y$36=2),\"令和元年\"&10,(IF((AND(AA$36>=1,AA$36<=5)),\"令和\"&Y$36-1&\"年\"&10,\"令和\"&Y$36&\"年\"&10)))))))","v":"令和年10"},{"$f":"IF(OR(Z88=\"\",AB$41=4),\"\",IF(AND(AA$36>=1,AA$36<=4,Y$36=31),\"平成\"&30&\"年\"&10,IF(AND(AA$36=5,Y$36=\"元\"),\"平成\"&30&\"年\"&10,IF(AND(AA$36>=6,Y$36=\"元\"),\"令和元年\"&10,IF(AND(AA$36>=1,AA$36<=5,Y$36=2),\"令和元年\"&10,(IF((AND(AA$36>=1,AA$36<=5)),\"令和\"&Y$36-1&\"年\"&10,\"令和\"&Y$36&\"年\"&10)))))))","v":"令和年10"},null,null,null,{"$f":"IF(OR(AE88=\"\",AE$41=11),\"\",10)","v":10},{"$f":"IF(OR(AF88=\"\",AH$41=4),\"\",IF(AND(AG$36>=1,AG$36<=4,AE$36=31),\"平成\"&30&\"年\"&10,IF(AND(AG$36=5,AE$36=\"元\"),\"平成\"&30&\"年\"&10,IF(AND(AG$36>=6,AE$36=\"元\"),\"令和元年\"&10,IF(AND(AG$36>=1,AG$36<=5,AE$36=2),\"令和元年\"&10,(IF((AND(AG$36>=1,AG$36<=5)),\"令和\"&AE$36-1&\"年\"&10,\"令和\"&AE$36&\"年\"&10)))))))","v":"令和年10"},{"$f":"IF(OR(AF88=\"\",AH$41=4),\"\",IF(AND(AG$36>=1,AG$36<=4,AE$36=31),\"平成\"&30&\"年\"&10,IF(AND(AG$36=5,AE$36=\"元\"),\"平成\"&30&\"年\"&10,IF(AND(AG$36>=6,AE$36=\"元\"),\"令和元年\"&10,IF(AND(AG$36>=1,AG$36<=5,AE$36=2),\"令和元年\"&10,(IF((AND(AG$36>=1,AG$36<=5)),\"令和\"&AE$36-1&\"年\"&10,\"令和\"&AE$36&\"年\"&10)))))))","v":"令和年10"},null,null,null,{"$f":"IF(OR(AK88=\"\",AK$41=11),\"\",10)","v":10},{"$f":"IF(OR(AL88=\"\",AN$41=4),\"\",IF(AND(AM$36>=1,AM$36<=4,AK$36=31),\"平成\"&30&\"年\"&10,IF(AND(AM$36=5,AK$36=\"元\"),\"平成\"&30&\"年\"&10,IF(AND(AM$36>=6,AK$36=\"元\"),\"令和元年\"&10,IF(AND(AM$36>=1,AM$36<=5,AK$36=2),\"令和元年\"&10,(IF((AND(AM$36>=1,AM$36<=5)),\"令和\"&AK$36-1&\"年\"&10,\"令和\"&AK$36&\"年\"&10)))))))","v":"令和年10"},{"$f":"IF(OR(AL88=\"\",AN$41=4),\"\",IF(AND(AM$36>=1,AM$36<=4,AK$36=31),\"平成\"&30&\"年\"&10,IF(AND(AM$36=5,AK$36=\"元\"),\"平成\"&30&\"年\"&10,IF(AND(AM$36>=6,AK$36=\"元\"),\"令和元年\"&10,IF(AND(AM$36>=1,AM$36<=5,AK$36=2),\"令和元年\"&10,(IF((AND(AM$36>=1,AM$36<=5)),\"令和\"&AK$36-1&\"年\"&10,\"令和\"&AK$36&\"年\"&10)))))))","v":"令和年10"},null,null,null,{"$f":"IF(OR(AQ88=\"\",AQ$41=11),\"\",10)","v":10},{"$f":"IF(OR(AR88=\"\",AT$41=4),\"\",IF(AND(AS$36>=1,AS$36<=4,AQ$36=31),\"平成\"&30&\"年\"&10,IF(AND(AS$36=5,AQ$36=\"元\"),\"平成\"&30&\"年\"&10,IF(AND(AS$36>=6,AQ$36=\"元\"),\"令和元年\"&10,IF(AND(AS$36>=1,AS$36<=5,AQ$36=2),\"令和元年\"&10,(IF((AND(AS$36>=1,AS$36<=5)),\"令和\"&AQ$36-1&\"年\"&10,\"令和\"&AQ$36&\"年\"&10)))))))","v":"令和年10"},{"$f":"IF(OR(AR88=\"\",AT$41=4),\"\",IF(AND(AS$36>=1,AS$36<=4,AQ$36=31),\"平成\"&30&\"年\"&10,IF(AND(AS$36=5,AQ$36=\"元\"),\"平成\"&30&\"年\"&10,IF(AND(AS$36>=6,AQ$36=\"元\"),\"令和元年\"&10,IF(AND(AS$36>=1,AS$36<=5,AQ$36=2),\"令和元年\"&10,(IF((AND(AS$36>=1,AS$36<=5)),\"令和\"&AQ$36-1&\"年\"&10,\"令和\"&AQ$36&\"年\"&10)))))))","v":"令和年10"},null,null,null,{"$f":"IF(OR(AW88=\"\",AW$41=11),\"\",10)","v":10},{"$f":"IF(OR(AX88=\"\",AZ$41=4),\"\",IF(AND(AY$36>=1,AY$36<=4,AW$36=31),\"平成\"&30&\"年\"&10,IF(AND(AY$36=5,AW$36=\"元\"),\"平成\"&30&\"年\"&10,IF(AND(AY$36>=6,AW$36=\"元\"),\"令和元年\"&10,IF(AND(AY$36>=1,AY$36<=5,AW$36=2),\"令和元年\"&10,(IF((AND(AY$36>=1,AY$36<=5)),\"令和\"&AW$36-1&\"年\"&10,\"令和\"&AW$36&\"年\"&10)))))))","v":"令和年10"},{"$f":"IF(OR(AX88=\"\",AZ$41=4),\"\",IF(AND(AY$36>=1,AY$36<=4,AW$36=31),\"平成\"&30&\"年\"&10,IF(AND(AY$36=5,AW$36=\"元\"),\"平成\"&30&\"年\"&10,IF(AND(AY$36>=6,AW$36=\"元\"),\"令和元年\"&10,IF(AND(AY$36>=1,AY$36<=5,AW$36=2),\"令和元年\"&10,(IF((AND(AY$36>=1,AY$36<=5)),\"令和\"&AW$36-1&\"年\"&10,\"令和\"&AW$36&\"年\"&10)))))))","v":"令和年10"},null,null,null,{"$f":"IF(OR(BC88=\"\",BC$41=11),\"\",10)","v":10},{"$f":"IF(OR(BD88=\"\",BF$41=4),\"\",IF(AND(BE$36>=1,BE$36<=4,BC$36=31),\"平成\"&30&\"年\"&10,IF(AND(BE$36=5,BC$36=\"元\"),\"平成\"&30&\"年\"&10,IF(AND(BE$36>=6,BC$36=\"元\"),\"令和元年\"&10,IF(AND(BE$36>=1,BE$36<=5,BC$36=2),\"令和元年\"&10,(IF((AND(BE$36>=1,BE$36<=5)),\"令和\"&BC$36-1&\"年\"&10,\"令和\"&BC$36&\"年\"&10)))))))","v":"令和年10"},{"$f":"IF(OR(BD88=\"\",BF$41=4),\"\",IF(AND(BE$36>=1,BE$36<=4,BC$36=31),\"平成\"&30&\"年\"&10,IF(AND(BE$36=5,BC$36=\"元\"),\"平成\"&30&\"年\"&10,IF(AND(BE$36>=6,BC$36=\"元\"),\"令和元年\"&10,IF(AND(BE$36>=1,BE$36<=5,BC$36=2),\"令和元年\"&10,(IF((AND(BE$36>=1,BE$36<=5)),\"令和\"&BC$36-1&\"年\"&10,\"令和\"&BC$36&\"年\"&10)))))))","v":"令和年10"},null,null,null,{"$f":"IF(OR(BI88=\"\",BI$41=11),\"\",10)","v":10},{"$f":"IF(OR(BJ88=\"\",BL$41=4),\"\",IF(AND(BK$36>=1,BK$36<=4,BI$36=31),\"平成\"&30&\"年\"&10,IF(AND(BK$36=5,BI$36=\"元\"),\"平成\"&30&\"年\"&10,IF(AND(BK$36>=6,BI$36=\"元\"),\"令和元年\"&10,IF(AND(BK$36>=1,BK$36<=5,BI$36=2),\"令和元年\"&10,(IF((AND(BK$36>=1,BK$36<=5)),\"令和\"&BI$36-1&\"年\"&10,\"令和\"&BI$36&\"年\"&10)))))))","v":"令和年10"},{"$f":"IF(OR(BJ88=\"\",BL$41=4),\"\",IF(AND(BK$36>=1,BK$36<=4,BI$36=31),\"平成\"&30&\"年\"&10,IF(AND(BK$36=5,BI$36=\"元\"),\"平成\"&30&\"年\"&10,IF(AND(BK$36>=6,BI$36=\"元\"),\"令和元年\"&10,IF(AND(BK$36>=1,BK$36<=5,BI$36=2),\"令和元年\"&10,(IF((AND(BK$36>=1,BK$36<=5)),\"令和\"&BI$36-1&\"年\"&10,\"令和\"&BI$36&\"年\"&10)))))))","v":"令和年10"},null,null,null,{"$f":"IF(OR(BO88=\"\",BO$41=11),\"\",10)","v":10},{"$f":"IF(OR(BP88=\"\",BR$41=4),\"\",IF(AND(BQ$36>=1,BQ$36<=4,BO$36=31),\"平成\"&30&\"年\"&10,IF(AND(BQ$36=5,BO$36=\"元\"),\"平成\"&30&\"年\"&10,IF(AND(BQ$36>=6,BO$36=\"元\"),\"令和元年\"&10,IF(AND(BQ$36>=1,BQ$36<=5,BO$36=2),\"令和元年\"&10,(IF((AND(BQ$36>=1,BQ$36<=5)),\"令和\"&BO$36-1&\"年\"&10,\"令和\"&BO$36&\"年\"&10)))))))","v":"令和年10"},{"$f":"IF(OR(BP88=\"\",BR$41=4),\"\",IF(AND(BQ$36>=1,BQ$36<=4,BO$36=31),\"平成\"&30&\"年\"&10,IF(AND(BQ$36=5,BO$36=\"元\"),\"平成\"&30&\"年\"&10,IF(AND(BQ$36>=6,BO$36=\"元\"),\"令和元年\"&10,IF(AND(BQ$36>=1,BQ$36<=5,BO$36=2),\"令和元年\"&10,(IF((AND(BQ$36>=1,BQ$36<=5)),\"令和\"&BO$36-1&\"年\"&10,\"令和\"&BO$36&\"年\"&10)))))))","v":"令和年10"},null,null,null,{"$f":"IF(OR(BU88=\"\",BU$41=11),\"\",10)","v":10},{"$f":"IF(OR(BV88=\"\",BX$41=4),\"\",IF(AND(BW$36>=1,BW$36<=4,BU$36=31),\"平成\"&30&\"年\"&10,IF(AND(BW$36=5,BU$36=\"元\"),\"平成\"&30&\"年\"&10,IF(AND(BW$36>=6,BU$36=\"元\"),\"令和元年\"&10,IF(AND(BW$36>=1,BW$36<=5,BU$36=2),\"令和元年\"&10,(IF((AND(BW$36>=1,BW$36<=5)),\"令和\"&BU$36-1&\"年\"&10,\"令和\"&BU$36&\"年\"&10)))))))","v":"令和年10"},{"$f":"IF(OR(BV88=\"\",BX$41=4),\"\",IF(AND(BW$36>=1,BW$36<=4,BU$36=31),\"平成\"&30&\"年\"&10,IF(AND(BW$36=5,BU$36=\"元\"),\"平成\"&30&\"年\"&10,IF(AND(BW$36>=6,BU$36=\"元\"),\"令和元年\"&10,IF(AND(BW$36>=1,BW$36<=5,BU$36=2),\"令和元年\"&10,(IF((AND(BW$36>=1,BW$36<=5)),\"令和\"&BU$36-1&\"年\"&10,\"令和\"&BU$36&\"年\"&10)))))))","v":"令和年10"},null,null,null,{"$f":"IF(OR(CA88=\"\",CA$41=11),\"\",10)","v":10},{"$f":"IF(OR(CB88=\"\",CD$41=4),\"\",IF(AND(CC$36>=1,CC$36<=4,CA$36=31),\"平成\"&30&\"年\"&10,IF(AND(CC$36=5,CA$36=\"元\"),\"平成\"&30&\"年\"&10,IF(AND(CC$36>=6,CA$36=\"元\"),\"令和元年\"&10,IF(AND(CC$36>=1,CC$36<=5,CA$36=2),\"令和元年\"&10,(IF((AND(CC$36>=1,CC$36<=5)),\"令和\"&CA$36-1&\"年\"&10,\"令和\"&CA$36&\"年\"&10)))))))","v":"令和年10"},{"$f":"IF(OR(CB88=\"\",CD$41=4),\"\",IF(AND(CC$36>=1,CC$36<=4,CA$36=31),\"平成\"&30&\"年\"&10,IF(AND(CC$36=5,CA$36=\"元\"),\"平成\"&30&\"年\"&10,IF(AND(CC$36>=6,CA$36=\"元\"),\"令和元年\"&10,IF(AND(CC$36>=1,CC$36<=5,CA$36=2),\"令和元年\"&10,(IF((AND(CC$36>=1,CC$36<=5)),\"令和\"&CA$36-1&\"年\"&10,\"令和\"&CA$36&\"年\"&10)))))))","v":"令和年10"},null,null,null,{"$f":"IF(OR(CG88=\"\",CG$41=11),\"\",10)","v":10},{"$f":"IF(OR(CH88=\"\",CJ$41=4),\"\",IF(AND(CI$36>=1,CI$36<=4,CG$36=31),\"平成\"&30&\"年\"&10,IF(AND(CI$36=5,CG$36=\"元\"),\"平成\"&30&\"年\"&10,IF(AND(CI$36>=6,CG$36=\"元\"),\"令和元年\"&10,IF(AND(CI$36>=1,CI$36<=5,CG$36=2),\"令和元年\"&10,(IF((AND(CI$36>=1,CI$36<=5)),\"令和\"&CG$36-1&\"年\"&10,\"令和\"&CG$36&\"年\"&10)))))))","v":"令和年10"},{"$f":"IF(OR(CH88=\"\",CJ$41=4),\"\",IF(AND(CI$36>=1,CI$36<=4,CG$36=31),\"平成\"&30&\"年\"&10,IF(AND(CI$36=5,CG$36=\"元\"),\"平成\"&30&\"年\"&10,IF(AND(CI$36>=6,CG$36=\"元\"),\"令和元年\"&10,IF(AND(CI$36>=1,CI$36<=5,CG$36=2),\"令和元年\"&10,(IF((AND(CI$36>=1,CI$36<=5)),\"令和\"&CG$36-1&\"年\"&10,\"令和\"&CG$36&\"年\"&10)))))))","v":"令和年10"},null,null,null,{"$f":"IF(OR(CM88=\"\",CM$41=11),\"\",10)","v":10},{"$f":"IF(OR(CN88=\"\",CP$41=4),\"\",IF(AND(CO$36>=1,CO$36<=4,CM$36=31),\"平成\"&30&\"年\"&10,IF(AND(CO$36=5,CM$36=\"元\"),\"平成\"&30&\"年\"&10,IF(AND(CO$36>=6,CM$36=\"元\"),\"令和元年\"&10,IF(AND(CO$36>=1,CO$36<=5,CM$36=2),\"令和元年\"&10,(IF((AND(CO$36>=1,CO$36<=5)),\"令和\"&CM$36-1&\"年\"&10,\"令和\"&CM$36&\"年\"&10)))))))","v":"令和年10"},{"$f":"IF(OR(CN88=\"\",CP$41=4),\"\",IF(AND(CO$36>=1,CO$36<=4,CM$36=31),\"平成\"&30&\"年\"&10,IF(AND(CO$36=5,CM$36=\"元\"),\"平成\"&30&\"年\"&10,IF(AND(CO$36>=6,CM$36=\"元\"),\"令和元年\"&10,IF(AND(CO$36>=1,CO$36<=5,CM$36=2),\"令和元年\"&10,(IF((AND(CO$36>=1,CO$36<=5)),\"令和\"&CM$36-1&\"年\"&10,\"令和\"&CM$36&\"年\"&10)))))))","v":"令和年10"},null,null,null,{"$f":"IF(OR(CS88=\"\",CS$41=11),\"\",10)","v":10},{"$f":"IF(OR(CT88=\"\",CV$41=4),\"\",IF(AND(CU$36>=1,CU$36<=4,CS$36=31),\"平成\"&30&\"年\"&10,IF(AND(CU$36=5,CS$36=\"元\"),\"平成\"&30&\"年\"&10,IF(AND(CU$36>=6,CS$36=\"元\"),\"令和元年\"&10,IF(AND(CU$36>=1,CU$36<=5,CS$36=2),\"令和元年\"&10,(IF((AND(CU$36>=1,CU$36<=5)),\"令和\"&CS$36-1&\"年\"&10,\"令和\"&CS$36&\"年\"&10)))))))","v":"令和年10"},{"$f":"IF(OR(CT88=\"\",CV$41=4),\"\",IF(AND(CU$36>=1,CU$36<=4,CS$36=31),\"平成\"&30&\"年\"&10,IF(AND(CU$36=5,CS$36=\"元\"),\"平成\"&30&\"年\"&10,IF(AND(CU$36>=6,CS$36=\"元\"),\"令和元年\"&10,IF(AND(CU$36>=1,CU$36<=5,CS$36=2),\"令和元年\"&10,(IF((AND(CU$36>=1,CU$36<=5)),\"令和\"&CS$36-1&\"年\"&10,\"令和\"&CS$36&\"年\"&10)))))))","v":"令和年10"},null,null,null,{"$f":"IF(OR(CY88=\"\",CY$41=11),\"\",10)","v":10},{"$f":"IF(OR(CZ88=\"\",DB$41=4),\"\",IF(AND(DA$36>=1,DA$36<=4,CY$36=31),\"平成\"&30&\"年\"&10,IF(AND(DA$36=5,CY$36=\"元\"),\"平成\"&30&\"年\"&10,IF(AND(DA$36>=6,CY$36=\"元\"),\"令和元年\"&10,IF(AND(DA$36>=1,DA$36<=5,CY$36=2),\"令和元年\"&10,(IF((AND(DA$36>=1,DA$36<=5)),\"令和\"&CY$36-1&\"年\"&10,\"令和\"&CY$36&\"年\"&10)))))))","v":"令和年10"},{"$f":"IF(OR(CZ88=\"\",DB$41=4),\"\",IF(AND(DA$36>=1,DA$36<=4,CY$36=31),\"平成\"&30&\"年\"&10,IF(AND(DA$36=5,CY$36=\"元\"),\"平成\"&30&\"年\"&10,IF(AND(DA$36>=6,CY$36=\"元\"),\"令和元年\"&10,IF(AND(DA$36>=1,DA$36<=5,CY$36=2),\"令和元年\"&10,(IF((AND(DA$36>=1,DA$36<=5)),\"令和\"&CY$36-1&\"年\"&10,\"令和\"&CY$36&\"年\"&10)))))))","v":"令和年10"},null,null,null,{"$f":"IF(OR(DE88=\"\",DE$41=11),\"\",10)","v":10},{"$f":"IF(OR(DF88=\"\",DH$41=4),\"\",IF(AND(DG$36>=1,DG$36<=4,DE$36=31),\"平成\"&30&\"年\"&10,IF(AND(DG$36=5,DE$36=\"元\"),\"平成\"&30&\"年\"&10,IF(AND(DG$36>=6,DE$36=\"元\"),\"令和元年\"&10,IF(AND(DG$36>=1,DG$36<=5,DE$36=2),\"令和元年\"&10,(IF((AND(DG$36>=1,DG$36<=5)),\"令和\"&DE$36-1&\"年\"&10,\"令和\"&DE$36&\"年\"&10)))))))","v":"令和年10"},{"$f":"IF(OR(DF88=\"\",DH$41=4),\"\",IF(AND(DG$36>=1,DG$36<=4,DE$36=31),\"平成\"&30&\"年\"&10,IF(AND(DG$36=5,DE$36=\"元\"),\"平成\"&30&\"年\"&10,IF(AND(DG$36>=6,DE$36=\"元\"),\"令和元年\"&10,IF(AND(DG$36>=1,DG$36<=5,DE$36=2),\"令和元年\"&10,(IF((AND(DG$36>=1,DG$36<=5)),\"令和\"&DE$36-1&\"年\"&10,\"令和\"&DE$36&\"年\"&10)))))))","v":"令和年10"},null,null,null,{"$f":"IF(OR(DK88=\"\",DK$41=11),\"\",10)","v":10},{"$f":"IF(OR(DL88=\"\",DN$41=4),\"\",IF(AND(DM$36>=1,DM$36<=4,DK$36=31),\"平成\"&30&\"年\"&10,IF(AND(DM$36=5,DK$36=\"元\"),\"平成\"&30&\"年\"&10,IF(AND(DM$36>=6,DK$36=\"元\"),\"令和元年\"&10,IF(AND(DM$36>=1,DM$36<=5,DK$36=2),\"令和元年\"&10,(IF((AND(DM$36>=1,DM$36<=5)),\"令和\"&DK$36-1&\"年\"&10,\"令和\"&DK$36&\"年\"&10)))))))","v":"令和年10"},{"$f":"IF(OR(DL88=\"\",DN$41=4),\"\",IF(AND(DM$36>=1,DM$36<=4,DK$36=31),\"平成\"&30&\"年\"&10,IF(AND(DM$36=5,DK$36=\"元\"),\"平成\"&30&\"年\"&10,IF(AND(DM$36>=6,DK$36=\"元\"),\"令和元年\"&10,IF(AND(DM$36>=1,DM$36<=5,DK$36=2),\"令和元年\"&10,(IF((AND(DM$36>=1,DM$36<=5)),\"令和\"&DK$36-1&\"年\"&10,\"令和\"&DK$36&\"年\"&10)))))))","v":"令和年10"},null,null,null,{"$f":"IF(OR(DQ88=\"\",DQ$41=11),\"\",10)","v":10},{"$f":"IF(OR(DR88=\"\",DT$41=4),\"\",IF(AND(DS$36>=1,DS$36<=4,DQ$36=31),\"平成\"&30&\"年\"&10,IF(AND(DS$36=5,DQ$36=\"元\"),\"平成\"&30&\"年\"&10,IF(AND(DS$36>=6,DQ$36=\"元\"),\"令和元年\"&10,IF(AND(DS$36>=1,DS$36<=5,DQ$36=2),\"令和元年\"&10,(IF((AND(DS$36>=1,DS$36<=5)),\"令和\"&DQ$36-1&\"年\"&10,\"令和\"&DQ$36&\"年\"&10)))))))","v":"令和年10"},{"$f":"IF(OR(DR88=\"\",DT$41=4),\"\",IF(AND(DS$36>=1,DS$36<=4,DQ$36=31),\"平成\"&30&\"年\"&10,IF(AND(DS$36=5,DQ$36=\"元\"),\"平成\"&30&\"年\"&10,IF(AND(DS$36>=6,DQ$36=\"元\"),\"令和元年\"&10,IF(AND(DS$36>=1,DS$36<=5,DQ$36=2),\"令和元年\"&10,(IF((AND(DS$36>=1,DS$36<=5)),\"令和\"&DQ$36-1&\"年\"&10,\"令和\"&DQ$36&\"年\"&10)))))))","v":"令和年10"},null,null,null,{"$f":"IF(OR(DW88=\"\",DW$41=11),\"\",10)","v":10},{"$f":"IF(OR(DX88=\"\",DZ$41=4),\"\",IF(AND(DY$36>=1,DY$36<=4,DW$36=31),\"平成\"&30&\"年\"&10,IF(AND(DY$36=5,DW$36=\"元\"),\"平成\"&30&\"年\"&10,IF(AND(DY$36>=6,DW$36=\"元\"),\"令和元年\"&10,IF(AND(DY$36>=1,DY$36<=5,DW$36=2),\"令和元年\"&10,(IF((AND(DY$36>=1,DY$36<=5)),\"令和\"&DW$36-1&\"年\"&10,\"令和\"&DW$36&\"年\"&10)))))))","v":"令和年10"},{"$f":"IF(OR(DX88=\"\",DZ$41=4),\"\",IF(AND(DY$36>=1,DY$36<=4,DW$36=31),\"平成\"&30&\"年\"&10,IF(AND(DY$36=5,DW$36=\"元\"),\"平成\"&30&\"年\"&10,IF(AND(DY$36>=6,DW$36=\"元\"),\"令和元年\"&10,IF(AND(DY$36>=1,DY$36<=5,DW$36=2),\"令和元年\"&10,(IF((AND(DY$36>=1,DY$36<=5)),\"令和\"&DW$36-1&\"年\"&10,\"令和\"&DW$36&\"年\"&10)))))))","v":"令和年10"},null,null,null,{"$f":"IF(OR(EC88=\"\",EC$41=11),\"\",10)","v":10},{"$f":"IF(OR(ED88=\"\",EF$41=4),\"\",IF(AND(EE$36>=1,EE$36<=4,EC$36=31),\"平成\"&30&\"年\"&10,IF(AND(EE$36=5,EC$36=\"元\"),\"平成\"&30&\"年\"&10,IF(AND(EE$36>=6,EC$36=\"元\"),\"令和元年\"&10,IF(AND(EE$36>=1,EE$36<=5,EC$36=2),\"令和元年\"&10,(IF((AND(EE$36>=1,EE$36<=5)),\"令和\"&EC$36-1&\"年\"&10,\"令和\"&EC$36&\"年\"&10)))))))","v":"令和年10"},{"$f":"IF(OR(ED88=\"\",EF$41=4),\"\",IF(AND(EE$36>=1,EE$36<=4,EC$36=31),\"平成\"&30&\"年\"&10,IF(AND(EE$36=5,EC$36=\"元\"),\"平成\"&30&\"年\"&10,IF(AND(EE$36>=6,EC$36=\"元\"),\"令和元年\"&10,IF(AND(EE$36>=1,EE$36<=5,EC$36=2),\"令和元年\"&10,(IF((AND(EE$36>=1,EE$36<=5)),\"令和\"&EC$36-1&\"年\"&10,\"令和\"&EC$36&\"年\"&10)))))))","v":"令和年10"},null,null,null,{"$f":"IF(OR(EI88=\"\",EI$41=11),\"\",10)","v":10},{"$f":"IF(OR(EJ88=\"\",EL$41=4),\"\",IF(AND(EK$36>=1,EK$36<=4,EI$36=31),\"平成\"&30&\"年\"&10,IF(AND(EK$36=5,EI$36=\"元\"),\"平成\"&30&\"年\"&10,IF(AND(EK$36>=6,EI$36=\"元\"),\"令和元年\"&10,IF(AND(EK$36>=1,EK$36<=5,EI$36=2),\"令和元年\"&10,(IF((AND(EK$36>=1,EK$36<=5)),\"令和\"&EI$36-1&\"年\"&10,\"令和\"&EI$36&\"年\"&10)))))))","v":"令和年10"},{"$f":"IF(OR(EJ88=\"\",EL$41=4),\"\",IF(AND(EK$36>=1,EK$36<=4,EI$36=31),\"平成\"&30&\"年\"&10,IF(AND(EK$36=5,EI$36=\"元\"),\"平成\"&30&\"年\"&10,IF(AND(EK$36>=6,EI$36=\"元\"),\"令和元年\"&10,IF(AND(EK$36>=1,EK$36<=5,EI$36=2),\"令和元年\"&10,(IF((AND(EK$36>=1,EK$36<=5)),\"令和\"&EI$36-1&\"年\"&10,\"令和\"&EI$36&\"年\"&10)))))))","v":"令和年10"},null,null,null,{"$f":"IF(OR(EO88=\"\",EO$41=11),\"\",10)","v":10},{"$f":"IF(OR(EP88=\"\",ER$41=4),\"\",IF(AND(EQ$36>=1,EQ$36<=4,EO$36=31),\"平成\"&30&\"年\"&10,IF(AND(EQ$36=5,EO$36=\"元\"),\"平成\"&30&\"年\"&10,IF(AND(EQ$36>=6,EO$36=\"元\"),\"令和元年\"&10,IF(AND(EQ$36>=1,EQ$36<=5,EO$36=2),\"令和元年\"&10,(IF((AND(EQ$36>=1,EQ$36<=5)),\"令和\"&EO$36-1&\"年\"&10,\"令和\"&EO$36&\"年\"&10)))))))","v":"令和年10"},{"$f":"IF(OR(EP88=\"\",ER$41=4),\"\",IF(AND(EQ$36>=1,EQ$36<=4,EO$36=31),\"平成\"&30&\"年\"&10,IF(AND(EQ$36=5,EO$36=\"元\"),\"平成\"&30&\"年\"&10,IF(AND(EQ$36>=6,EO$36=\"元\"),\"令和元年\"&10,IF(AND(EQ$36>=1,EQ$36<=5,EO$36=2),\"令和元年\"&10,(IF((AND(EQ$36>=1,EQ$36<=5)),\"令和\"&EO$36-1&\"年\"&10,\"令和\"&EO$36&\"年\"&10)))))))","v":"令和年10"},null,null,null,{"$f":"IF(OR(EU88=\"\",EU$41=11),\"\",10)","v":10},{"$f":"IF(OR(EV88=\"\",EX$41=4),\"\",IF(AND(EW$36>=1,EW$36<=4,EU$36=31),\"平成\"&30&\"年\"&10,IF(AND(EW$36=5,EU$36=\"元\"),\"平成\"&30&\"年\"&10,IF(AND(EW$36>=6,EU$36=\"元\"),\"令和元年\"&10,IF(AND(EW$36>=1,EW$36<=5,EU$36=2),\"令和元年\"&10,(IF((AND(EW$36>=1,EW$36<=5)),\"令和\"&EU$36-1&\"年\"&10,\"令和\"&EU$36&\"年\"&10)))))))","v":"令和年10"},{"$f":"IF(OR(EV88=\"\",EX$41=4),\"\",IF(AND(EW$36>=1,EW$36<=4,EU$36=31),\"平成\"&30&\"年\"&10,IF(AND(EW$36=5,EU$36=\"元\"),\"平成\"&30&\"年\"&10,IF(AND(EW$36>=6,EU$36=\"元\"),\"令和元年\"&10,IF(AND(EW$36>=1,EW$36<=5,EU$36=2),\"令和元年\"&10,(IF((AND(EW$36>=1,EW$36<=5)),\"令和\"&EU$36-1&\"年\"&10,\"令和\"&EU$36&\"年\"&10)))))))","v":"令和年10"},null,null,null,{"$f":"IF(OR(FA88=\"\",FA$41=11),\"\",10)","v":10},{"$f":"IF(OR(FB88=\"\",FD$41=4),\"\",IF(AND(FC$36>=1,FC$36<=4,FA$36=31),\"平成\"&30&\"年\"&10,IF(AND(FC$36=5,FA$36=\"元\"),\"平成\"&30&\"年\"&10,IF(AND(FC$36>=6,FA$36=\"元\"),\"令和元年\"&10,IF(AND(FC$36>=1,FC$36<=5,FA$36=2),\"令和元年\"&10,(IF((AND(FC$36>=1,FC$36<=5)),\"令和\"&FA$36-1&\"年\"&10,\"令和\"&FA$36&\"年\"&10)))))))","v":"令和年10"},{"$f":"IF(OR(FB88=\"\",FD$41=4),\"\",IF(AND(FC$36>=1,FC$36<=4,FA$36=31),\"平成\"&30&\"年\"&10,IF(AND(FC$36=5,FA$36=\"元\"),\"平成\"&30&\"年\"&10,IF(AND(FC$36>=6,FA$36=\"元\"),\"令和元年\"&10,IF(AND(FC$36>=1,FC$36<=5,FA$36=2),\"令和元年\"&10,(IF((AND(FC$36>=1,FC$36<=5)),\"令和\"&FA$36-1&\"年\"&10,\"令和\"&FA$36&\"年\"&10)))))))","v":"令和年10"},null,null,null,{"$f":"IF(OR(FG88=\"\",FG$41=11),\"\",10)","v":10},{"$f":"IF(OR(FH88=\"\",FJ$41=4),\"\",IF(AND(FI$36>=1,FI$36<=4,FG$36=31),\"平成\"&30&\"年\"&10,IF(AND(FI$36=5,FG$36=\"元\"),\"平成\"&30&\"年\"&10,IF(AND(FI$36>=6,FG$36=\"元\"),\"令和元年\"&10,IF(AND(FI$36>=1,FI$36<=5,FG$36=2),\"令和元年\"&10,(IF((AND(FI$36>=1,FI$36<=5)),\"令和\"&FG$36-1&\"年\"&10,\"令和\"&FG$36&\"年\"&10)))))))","v":"令和年10"},{"$f":"IF(OR(FH88=\"\",FJ$41=4),\"\",IF(AND(FI$36>=1,FI$36<=4,FG$36=31),\"平成\"&30&\"年\"&10,IF(AND(FI$36=5,FG$36=\"元\"),\"平成\"&30&\"年\"&10,IF(AND(FI$36>=6,FG$36=\"元\"),\"令和元年\"&10,IF(AND(FI$36>=1,FI$36<=5,FG$36=2),\"令和元年\"&10,(IF((AND(FI$36>=1,FI$36<=5)),\"令和\"&FG$36-1&\"年\"&10,\"令和\"&FG$36&\"年\"&10)))))))","v":"令和年10"},null,null,null,{"$f":"IF(OR(FM88=\"\",FM$41=11),\"\",10)","v":10},{"$f":"IF(OR(FN88=\"\",FP$41=4),\"\",IF(AND(FO$36>=1,FO$36<=4,FM$36=31),\"平成\"&30&\"年\"&10,IF(AND(FO$36=5,FM$36=\"元\"),\"平成\"&30&\"年\"&10,IF(AND(FO$36>=6,FM$36=\"元\"),\"令和元年\"&10,IF(AND(FO$36>=1,FO$36<=5,FM$36=2),\"令和元年\"&10,(IF((AND(FO$36>=1,FO$36<=5)),\"令和\"&FM$36-1&\"年\"&10,\"令和\"&FM$36&\"年\"&10)))))))","v":"令和年10"},{"$f":"IF(OR(FN88=\"\",FP$41=4),\"\",IF(AND(FO$36>=1,FO$36<=4,FM$36=31),\"平成\"&30&\"年\"&10,IF(AND(FO$36=5,FM$36=\"元\"),\"平成\"&30&\"年\"&10,IF(AND(FO$36>=6,FM$36=\"元\"),\"令和元年\"&10,IF(AND(FO$36>=1,FO$36<=5,FM$36=2),\"令和元年\"&10,(IF((AND(FO$36>=1,FO$36<=5)),\"令和\"&FM$36-1&\"年\"&10,\"令和\"&FM$36&\"年\"&10)))))))","v":"令和年10"},null,null,null,{"$f":"IF(OR(FS88=\"\",FS$41=11),\"\",10)","v":10},{"$f":"IF(OR(FT88=\"\",FV$41=4),\"\",IF(AND(FU$36>=1,FU$36<=4,FS$36=31),\"平成\"&30&\"年\"&10,IF(AND(FU$36=5,FS$36=\"元\"),\"平成\"&30&\"年\"&10,IF(AND(FU$36>=6,FS$36=\"元\"),\"令和元年\"&10,IF(AND(FU$36>=1,FU$36<=5,FS$36=2),\"令和元年\"&10,(IF((AND(FU$36>=1,FU$36<=5)),\"令和\"&FS$36-1&\"年\"&10,\"令和\"&FS$36&\"年\"&10)))))))","v":"令和年10"},{"$f":"IF(OR(FT88=\"\",FV$41=4),\"\",IF(AND(FU$36>=1,FU$36<=4,FS$36=31),\"平成\"&30&\"年\"&10,IF(AND(FU$36=5,FS$36=\"元\"),\"平成\"&30&\"年\"&10,IF(AND(FU$36>=6,FS$36=\"元\"),\"令和元年\"&10,IF(AND(FU$36>=1,FU$36<=5,FS$36=2),\"令和元年\"&10,(IF((AND(FU$36>=1,FU$36<=5)),\"令和\"&FS$36-1&\"年\"&10,\"令和\"&FS$36&\"年\"&10)))))))","v":"令和年10"},null,null,null,{"$f":"IF(OR(FY88=\"\",FY$41=11),\"\",10)","v":10},{"$f":"IF(OR(FZ88=\"\",GB$41=4),\"\",IF(AND(GA$36>=1,GA$36<=4,FY$36=31),\"平成\"&30&\"年\"&10,IF(AND(GA$36=5,FY$36=\"元\"),\"平成\"&30&\"年\"&10,IF(AND(GA$36>=6,FY$36=\"元\"),\"令和元年\"&10,IF(AND(GA$36>=1,GA$36<=5,FY$36=2),\"令和元年\"&10,(IF((AND(GA$36>=1,GA$36<=5)),\"令和\"&FY$36-1&\"年\"&10,\"令和\"&FY$36&\"年\"&10)))))))","v":"令和年10"},{"$f":"IF(OR(FZ88=\"\",GB$41=4),\"\",IF(AND(GA$36>=1,GA$36<=4,FY$36=31),\"平成\"&30&\"年\"&10,IF(AND(GA$36=5,FY$36=\"元\"),\"平成\"&30&\"年\"&10,IF(AND(GA$36>=6,FY$36=\"元\"),\"令和元年\"&10,IF(AND(GA$36>=1,GA$36<=5,FY$36=2),\"令和元年\"&10,(IF((AND(GA$36>=1,GA$36<=5)),\"令和\"&FY$36-1&\"年\"&10,\"令和\"&FY$36&\"年\"&10)))))))","v":"令和年10"},null,null,null,{"$f":"IF(OR(GE88=\"\",GE$41=11),\"\",10)","v":10},{"$f":"IF(OR(GF88=\"\",GH$41=4),\"\",IF(AND(GG$36>=1,GG$36<=4,GE$36=31),\"平成\"&30&\"年\"&10,IF(AND(GG$36=5,GE$36=\"元\"),\"平成\"&30&\"年\"&10,IF(AND(GG$36>=6,GE$36=\"元\"),\"令和元年\"&10,IF(AND(GG$36>=1,GG$36<=5,GE$36=2),\"令和元年\"&10,(IF((AND(GG$36>=1,GG$36<=5)),\"令和\"&GE$36-1&\"年\"&10,\"令和\"&GE$36&\"年\"&10)))))))","v":"令和年10"},{"$f":"IF(OR(GF88=\"\",GH$41=4),\"\",IF(AND(GG$36>=1,GG$36<=4,GE$36=31),\"平成\"&30&\"年\"&10,IF(AND(GG$36=5,GE$36=\"元\"),\"平成\"&30&\"年\"&10,IF(AND(GG$36>=6,GE$36=\"元\"),\"令和元年\"&10,IF(AND(GG$36>=1,GG$36<=5,GE$36=2),\"令和元年\"&10,(IF((AND(GG$36>=1,GG$36<=5)),\"令和\"&GE$36-1&\"年\"&10,\"令和\"&GE$36&\"年\"&10)))))))","v":"令和年10"},null,null,null,{"$f":"IF(OR(GK88=\"\",GK$41=11),\"\",10)","v":10},{"$f":"IF(OR(GL88=\"\",GN$41=4),\"\",IF(AND(GM$36>=1,GM$36<=4,GK$36=31),\"平成\"&30&\"年\"&10,IF(AND(GM$36=5,GK$36=\"元\"),\"平成\"&30&\"年\"&10,IF(AND(GM$36>=6,GK$36=\"元\"),\"令和元年\"&10,IF(AND(GM$36>=1,GM$36<=5,GK$36=2),\"令和元年\"&10,(IF((AND(GM$36>=1,GM$36<=5)),\"令和\"&GK$36-1&\"年\"&10,\"令和\"&GK$36&\"年\"&10)))))))","v":"令和年10"},{"$f":"IF(OR(GL88=\"\",GN$41=4),\"\",IF(AND(GM$36>=1,GM$36<=4,GK$36=31),\"平成\"&30&\"年\"&10,IF(AND(GM$36=5,GK$36=\"元\"),\"平成\"&30&\"年\"&10,IF(AND(GM$36>=6,GK$36=\"元\"),\"令和元年\"&10,IF(AND(GM$36>=1,GM$36<=5,GK$36=2),\"令和元年\"&10,(IF((AND(GM$36>=1,GM$36<=5)),\"令和\"&GK$36-1&\"年\"&10,\"令和\"&GK$36&\"年\"&10)))))))","v":"令和年10"},null,null,null,{"$f":"IF(OR(GQ88=\"\",GQ$41=11),\"\",10)","v":10},{"$f":"IF(OR(GR88=\"\",GT$41=4),\"\",IF(AND(GS$36>=1,GS$36<=4,GQ$36=31),\"平成\"&30&\"年\"&10,IF(AND(GS$36=5,GQ$36=\"元\"),\"平成\"&30&\"年\"&10,IF(AND(GS$36>=6,GQ$36=\"元\"),\"令和元年\"&10,IF(AND(GS$36>=1,GS$36<=5,GQ$36=2),\"令和元年\"&10,(IF((AND(GS$36>=1,GS$36<=5)),\"令和\"&GQ$36-1&\"年\"&10,\"令和\"&GQ$36&\"年\"&10)))))))","v":"令和年10"},{"$f":"IF(OR(GR88=\"\",GT$41=4),\"\",IF(AND(GS$36>=1,GS$36<=4,GQ$36=31),\"平成\"&30&\"年\"&10,IF(AND(GS$36=5,GQ$36=\"元\"),\"平成\"&30&\"年\"&10,IF(AND(GS$36>=6,GQ$36=\"元\"),\"令和元年\"&10,IF(AND(GS$36>=1,GS$36<=5,GQ$36=2),\"令和元年\"&10,(IF((AND(GS$36>=1,GS$36<=5)),\"令和\"&GQ$36-1&\"年\"&10,\"令和\"&GQ$36&\"年\"&10)))))))","v":"令和年10"},null,null,null,{"$f":"IF(OR(GW88=\"\",GW$41=11),\"\",10)","v":10},{"$f":"IF(OR(GX88=\"\",GZ$41=4),\"\",IF(AND(GY$36>=1,GY$36<=4,GW$36=31),\"平成\"&30&\"年\"&10,IF(AND(GY$36=5,GW$36=\"元\"),\"平成\"&30&\"年\"&10,IF(AND(GY$36>=6,GW$36=\"元\"),\"令和元年\"&10,IF(AND(GY$36>=1,GY$36<=5,GW$36=2),\"令和元年\"&10,(IF((AND(GY$36>=1,GY$36<=5)),\"令和\"&GW$36-1&\"年\"&10,\"令和\"&GW$36&\"年\"&10)))))))","v":"令和年10"},{"$f":"IF(OR(GX88=\"\",GZ$41=4),\"\",IF(AND(GY$36>=1,GY$36<=4,GW$36=31),\"平成\"&30&\"年\"&10,IF(AND(GY$36=5,GW$36=\"元\"),\"平成\"&30&\"年\"&10,IF(AND(GY$36>=6,GW$36=\"元\"),\"令和元年\"&10,IF(AND(GY$36>=1,GY$36<=5,GW$36=2),\"令和元年\"&10,(IF((AND(GY$36>=1,GY$36<=5)),\"令和\"&GW$36-1&\"年\"&10,\"令和\"&GW$36&\"年\"&10)))))))","v":"令和年10"},null,null,null,{"$f":"IF(OR(HC88=\"\",HC$41=11),\"\",10)","v":10},{"$f":"IF(OR(HD88=\"\",HF$41=4),\"\",IF(AND(HE$36>=1,HE$36<=4,HC$36=31),\"平成\"&30&\"年\"&10,IF(AND(HE$36=5,HC$36=\"元\"),\"平成\"&30&\"年\"&10,IF(AND(HE$36>=6,HC$36=\"元\"),\"令和元年\"&10,IF(AND(HE$36>=1,HE$36<=5,HC$36=2),\"令和元年\"&10,(IF((AND(HE$36>=1,HE$36<=5)),\"令和\"&HC$36-1&\"年\"&10,\"令和\"&HC$36&\"年\"&10)))))))","v":"令和年10"},{"$f":"IF(OR(HD88=\"\",HF$41=4),\"\",IF(AND(HE$36>=1,HE$36<=4,HC$36=31),\"平成\"&30&\"年\"&10,IF(AND(HE$36=5,HC$36=\"元\"),\"平成\"&30&\"年\"&10,IF(AND(HE$36>=6,HC$36=\"元\"),\"令和元年\"&10,IF(AND(HE$36>=1,HE$36<=5,HC$36=2),\"令和元年\"&10,(IF((AND(HE$36>=1,HE$36<=5)),\"令和\"&HC$36-1&\"年\"&10,\"令和\"&HC$36&\"年\"&10)))))))","v":"令和年10"},null,null,null,{"$f":"IF(OR(HI88=\"\",HI$41=11),\"\",10)","v":10},{"$f":"IF(OR(HJ88=\"\",HL$41=4),\"\",IF(AND(HK$36>=1,HK$36<=4,HI$36=31),\"平成\"&30&\"年\"&10,IF(AND(HK$36=5,HI$36=\"元\"),\"平成\"&30&\"年\"&10,IF(AND(HK$36>=6,HI$36=\"元\"),\"令和元年\"&10,IF(AND(HK$36>=1,HK$36<=5,HI$36=2),\"令和元年\"&10,(IF((AND(HK$36>=1,HK$36<=5)),\"令和\"&HI$36-1&\"年\"&10,\"令和\"&HI$36&\"年\"&10)))))))","v":"令和年10"},{"$f":"IF(OR(HJ88=\"\",HL$41=4),\"\",IF(AND(HK$36>=1,HK$36<=4,HI$36=31),\"平成\"&30&\"年\"&10,IF(AND(HK$36=5,HI$36=\"元\"),\"平成\"&30&\"年\"&10,IF(AND(HK$36>=6,HI$36=\"元\"),\"令和元年\"&10,IF(AND(HK$36>=1,HK$36<=5,HI$36=2),\"令和元年\"&10,(IF((AND(HK$36>=1,HK$36<=5)),\"令和\"&HI$36-1&\"年\"&10,\"令和\"&HI$36&\"年\"&10)))))))","v":"令和年10"},null,null,null,{"$f":"IF(OR(HO88=\"\",HO$41=11),\"\",10)","v":10},{"$f":"IF(OR(HP88=\"\",HR$41=4),\"\",IF(AND(HQ$36>=1,HQ$36<=4,HO$36=31),\"平成\"&30&\"年\"&10,IF(AND(HQ$36=5,HO$36=\"元\"),\"平成\"&30&\"年\"&10,IF(AND(HQ$36>=6,HO$36=\"元\"),\"令和元年\"&10,IF(AND(HQ$36>=1,HQ$36<=5,HO$36=2),\"令和元年\"&10,(IF((AND(HQ$36>=1,HQ$36<=5)),\"令和\"&HO$36-1&\"年\"&10,\"令和\"&HO$36&\"年\"&10)))))))","v":"令和年10"},{"$f":"IF(OR(HP88=\"\",HR$41=4),\"\",IF(AND(HQ$36>=1,HQ$36<=4,HO$36=31),\"平成\"&30&\"年\"&10,IF(AND(HQ$36=5,HO$36=\"元\"),\"平成\"&30&\"年\"&10,IF(AND(HQ$36>=6,HO$36=\"元\"),\"令和元年\"&10,IF(AND(HQ$36>=1,HQ$36<=5,HO$36=2),\"令和元年\"&10,(IF((AND(HQ$36>=1,HQ$36<=5)),\"令和\"&HO$36-1&\"年\"&10,\"令和\"&HO$36&\"年\"&10)))))))","v":"令和年10"},null,null,null,{"$f":"IF(OR(HU88=\"\",HU$41=11),\"\",10)","v":10},{"$f":"IF(OR(HV88=\"\",HX$41=4),\"\",IF(AND(HW$36>=1,HW$36<=4,HU$36=31),\"平成\"&30&\"年\"&10,IF(AND(HW$36=5,HU$36=\"元\"),\"平成\"&30&\"年\"&10,IF(AND(HW$36>=6,HU$36=\"元\"),\"令和元年\"&10,IF(AND(HW$36>=1,HW$36<=5,HU$36=2),\"令和元年\"&10,(IF((AND(HW$36>=1,HW$36<=5)),\"令和\"&HU$36-1&\"年\"&10,\"令和\"&HU$36&\"年\"&10)))))))","v":"令和年10"},{"$f":"IF(OR(HV88=\"\",HX$41=4),\"\",IF(AND(HW$36>=1,HW$36<=4,HU$36=31),\"平成\"&30&\"年\"&10,IF(AND(HW$36=5,HU$36=\"元\"),\"平成\"&30&\"年\"&10,IF(AND(HW$36>=6,HU$36=\"元\"),\"令和元年\"&10,IF(AND(HW$36>=1,HW$36<=5,HU$36=2),\"令和元年\"&10,(IF((AND(HW$36>=1,HW$36<=5)),\"令和\"&HU$36-1&\"年\"&10,\"令和\"&HU$36&\"年\"&10)))))))","v":"令和年10"},null,null,null,{"$f":"IF(OR(IA88=\"\",IA$41=11),\"\",10)","v":10},{"$f":"IF(OR(IB88=\"\",ID$41=4),\"\",IF(AND(IC$36>=1,IC$36<=4,IA$36=31),\"平成\"&30&\"年\"&10,IF(AND(IC$36=5,IA$36=\"元\"),\"平成\"&30&\"年\"&10,IF(AND(IC$36>=6,IA$36=\"元\"),\"令和元年\"&10,IF(AND(IC$36>=1,IC$36<=5,IA$36=2),\"令和元年\"&10,(IF((AND(IC$36>=1,IC$36<=5)),\"令和\"&IA$36-1&\"年\"&10,\"令和\"&IA$36&\"年\"&10)))))))","v":"令和年10"},{"$f":"IF(OR(IB88=\"\",ID$41=4),\"\",IF(AND(IC$36>=1,IC$36<=4,IA$36=31),\"平成\"&30&\"年\"&10,IF(AND(IC$36=5,IA$36=\"元\"),\"平成\"&30&\"年\"&10,IF(AND(IC$36>=6,IA$36=\"元\"),\"令和元年\"&10,IF(AND(IC$36>=1,IC$36<=5,IA$36=2),\"令和元年\"&10,(IF((AND(IC$36>=1,IC$36<=5)),\"令和\"&IA$36-1&\"年\"&10,\"令和\"&IA$36&\"年\"&10)))))))","v":"令和年10"},null,null,null,{"$f":"IF(OR(IG88=\"\",IG$41=11),\"\",10)","v":10},{"$f":"IF(OR(IH88=\"\",IJ$41=4),\"\",IF(AND(II$36>=1,II$36<=4,IG$36=31),\"平成\"&30&\"年\"&10,IF(AND(II$36=5,IG$36=\"元\"),\"平成\"&30&\"年\"&10,IF(AND(II$36>=6,IG$36=\"元\"),\"令和元年\"&10,IF(AND(II$36>=1,II$36<=5,IG$36=2),\"令和元年\"&10,(IF((AND(II$36>=1,II$36<=5)),\"令和\"&IG$36-1&\"年\"&10,\"令和\"&IG$36&\"年\"&10)))))))","v":"令和年10"},{"$f":"IF(OR(IH88=\"\",IJ$41=4),\"\",IF(AND(II$36>=1,II$36<=4,IG$36=31),\"平成\"&30&\"年\"&10,IF(AND(II$36=5,IG$36=\"元\"),\"平成\"&30&\"年\"&10,IF(AND(II$36>=6,IG$36=\"元\"),\"令和元年\"&10,IF(AND(II$36>=1,II$36<=5,IG$36=2),\"令和元年\"&10,(IF((AND(II$36>=1,II$36<=5)),\"令和\"&IG$36-1&\"年\"&10,\"令和\"&IG$36&\"年\"&10)))))))","v":"令和年10"}]
[null,{"$f":"IF(AND(CS21<>\"\",CS25<>\"\",CU25<>\"\",CW25<>\"\"),CS17,\"\")","v":""},"平",6,"平6",null,{"$f":"IF(OR(G89=\"\",G$41=12),\"\",11)","v":11},{"$f":"IF(OR(H89=\"\",J$41=4),\"\",IF(AND(I$36>=1,I$36<=4,G$36=31),\"平成\"&30&\"年\"&11,IF(AND(I$36=5,G$36=\"元\"),\"平成\"&30&\"年\"&11,IF(AND(I$36>=6,G$36=\"元\"),\"令和元年\"&11,IF(AND(I$36>=1,I$36<=5,G$36=2),\"令和元年\"&11,(IF((AND(I$36>=1,I$36<=5)),\"令和\"&G$36-1&\"年\"&11,\"令和\"&G$36&\"年\"&11)))))))","v":"令和年11"},{"$f":"IF(OR(H89=\"\",J$41=4),\"\",IF(AND(I$36>=1,I$36<=4,G$36=31),\"平成\"&30&\"年\"&11,IF(AND(I$36=5,G$36=\"元\"),\"平成\"&30&\"年\"&11,IF(AND(I$36>=6,G$36=\"元\"),\"令和元年\"&11,IF(AND(I$36>=1,I$36<=5,G$36=2),\"令和元年\"&11,(IF((AND(I$36>=1,I$36<=5)),\"令和\"&G$36-1&\"年\"&11,\"令和\"&G$36&\"年\"&11)))))))","v":"令和年11"},null,null,null,{"$f":"IF(OR(M89=\"\",M$41=12),\"\",11)","v":11},{"$f":"IF(OR(N89=\"\",P$41=4),\"\",IF(AND(O$36>=1,O$36<=4,M$36=31),\"平成\"&30&\"年\"&11,IF(AND(O$36=5,M$36=\"元\"),\"平成\"&30&\"年\"&11,IF(AND(O$36>=6,M$36=\"元\"),\"令和元年\"&11,IF(AND(O$36>=1,O$36<=5,M$36=2),\"令和元年\"&11,(IF((AND(O$36>=1,O$36<=5)),\"令和\"&M$36-1&\"年\"&11,\"令和\"&M$36&\"年\"&11)))))))","v":"令和年11"},{"$f":"IF(OR(N89=\"\",P$41=4),\"\",IF(AND(O$36>=1,O$36<=4,M$36=31),\"平成\"&30&\"年\"&11,IF(AND(O$36=5,M$36=\"元\"),\"平成\"&30&\"年\"&11,IF(AND(O$36>=6,M$36=\"元\"),\"令和元年\"&11,IF(AND(O$36>=1,O$36<=5,M$36=2),\"令和元年\"&11,(IF((AND(O$36>=1,O$36<=5)),\"令和\"&M$36-1&\"年\"&11,\"令和\"&M$36&\"年\"&11)))))))","v":"令和年11"},null,null,null,{"$f":"IF(OR(S89=\"\",S$41=12),\"\",11)","v":11},{"$f":"IF(OR(T89=\"\",V$41=4),\"\",IF(AND(U$36>=1,U$36<=4,S$36=31),\"平成\"&30&\"年\"&11,IF(AND(U$36=5,S$36=\"元\"),\"平成\"&30&\"年\"&11,IF(AND(U$36>=6,S$36=\"元\"),\"令和元年\"&11,IF(AND(U$36>=1,U$36<=5,S$36=2),\"令和元年\"&11,(IF((AND(U$36>=1,U$36<=5)),\"令和\"&S$36-1&\"年\"&11,\"令和\"&S$36&\"年\"&11)))))))","v":"令和年11"},{"$f":"IF(OR(T89=\"\",V$41=4),\"\",IF(AND(U$36>=1,U$36<=4,S$36=31),\"平成\"&30&\"年\"&11,IF(AND(U$36=5,S$36=\"元\"),\"平成\"&30&\"年\"&11,IF(AND(U$36>=6,S$36=\"元\"),\"令和元年\"&11,IF(AND(U$36>=1,U$36<=5,S$36=2),\"令和元年\"&11,(IF((AND(U$36>=1,U$36<=5)),\"令和\"&S$36-1&\"年\"&11,\"令和\"&S$36&\"年\"&11)))))))","v":"令和年11"},null,null,null,{"$f":"IF(OR(Y89=\"\",Y$41=12),\"\",11)","v":11},{"$f":"IF(OR(Z89=\"\",AB$41=4),\"\",IF(AND(AA$36>=1,AA$36<=4,Y$36=31),\"平成\"&30&\"年\"&11,IF(AND(AA$36=5,Y$36=\"元\"),\"平成\"&30&\"年\"&11,IF(AND(AA$36>=6,Y$36=\"元\"),\"令和元年\"&11,IF(AND(AA$36>=1,AA$36<=5,Y$36=2),\"令和元年\"&11,(IF((AND(AA$36>=1,AA$36<=5)),\"令和\"&Y$36-1&\"年\"&11,\"令和\"&Y$36&\"年\"&11)))))))","v":"令和年11"},{"$f":"IF(OR(Z89=\"\",AB$41=4),\"\",IF(AND(AA$36>=1,AA$36<=4,Y$36=31),\"平成\"&30&\"年\"&11,IF(AND(AA$36=5,Y$36=\"元\"),\"平成\"&30&\"年\"&11,IF(AND(AA$36>=6,Y$36=\"元\"),\"令和元年\"&11,IF(AND(AA$36>=1,AA$36<=5,Y$36=2),\"令和元年\"&11,(IF((AND(AA$36>=1,AA$36<=5)),\"令和\"&Y$36-1&\"年\"&11,\"令和\"&Y$36&\"年\"&11)))))))","v":"令和年11"},null,null,null,{"$f":"IF(OR(AE89=\"\",AE$41=12),\"\",11)","v":11},{"$f":"IF(OR(AF89=\"\",AH$41=4),\"\",IF(AND(AG$36>=1,AG$36<=4,AE$36=31),\"平成\"&30&\"年\"&11,IF(AND(AG$36=5,AE$36=\"元\"),\"平成\"&30&\"年\"&11,IF(AND(AG$36>=6,AE$36=\"元\"),\"令和元年\"&11,IF(AND(AG$36>=1,AG$36<=5,AE$36=2),\"令和元年\"&11,(IF((AND(AG$36>=1,AG$36<=5)),\"令和\"&AE$36-1&\"年\"&11,\"令和\"&AE$36&\"年\"&11)))))))","v":"令和年11"},{"$f":"IF(OR(AF89=\"\",AH$41=4),\"\",IF(AND(AG$36>=1,AG$36<=4,AE$36=31),\"平成\"&30&\"年\"&11,IF(AND(AG$36=5,AE$36=\"元\"),\"平成\"&30&\"年\"&11,IF(AND(AG$36>=6,AE$36=\"元\"),\"令和元年\"&11,IF(AND(AG$36>=1,AG$36<=5,AE$36=2),\"令和元年\"&11,(IF((AND(AG$36>=1,AG$36<=5)),\"令和\"&AE$36-1&\"年\"&11,\"令和\"&AE$36&\"年\"&11)))))))","v":"令和年11"},null,null,null,{"$f":"IF(OR(AK89=\"\",AK$41=12),\"\",11)","v":11},{"$f":"IF(OR(AL89=\"\",AN$41=4),\"\",IF(AND(AM$36>=1,AM$36<=4,AK$36=31),\"平成\"&30&\"年\"&11,IF(AND(AM$36=5,AK$36=\"元\"),\"平成\"&30&\"年\"&11,IF(AND(AM$36>=6,AK$36=\"元\"),\"令和元年\"&11,IF(AND(AM$36>=1,AM$36<=5,AK$36=2),\"令和元年\"&11,(IF((AND(AM$36>=1,AM$36<=5)),\"令和\"&AK$36-1&\"年\"&11,\"令和\"&AK$36&\"年\"&11)))))))","v":"令和年11"},{"$f":"IF(OR(AL89=\"\",AN$41=4),\"\",IF(AND(AM$36>=1,AM$36<=4,AK$36=31),\"平成\"&30&\"年\"&11,IF(AND(AM$36=5,AK$36=\"元\"),\"平成\"&30&\"年\"&11,IF(AND(AM$36>=6,AK$36=\"元\"),\"令和元年\"&11,IF(AND(AM$36>=1,AM$36<=5,AK$36=2),\"令和元年\"&11,(IF((AND(AM$36>=1,AM$36<=5)),\"令和\"&AK$36-1&\"年\"&11,\"令和\"&AK$36&\"年\"&11)))))))","v":"令和年11"},null,null,null,{"$f":"IF(OR(AQ89=\"\",AQ$41=12),\"\",11)","v":11},{"$f":"IF(OR(AR89=\"\",AT$41=4),\"\",IF(AND(AS$36>=1,AS$36<=4,AQ$36=31),\"平成\"&30&\"年\"&11,IF(AND(AS$36=5,AQ$36=\"元\"),\"平成\"&30&\"年\"&11,IF(AND(AS$36>=6,AQ$36=\"元\"),\"令和元年\"&11,IF(AND(AS$36>=1,AS$36<=5,AQ$36=2),\"令和元年\"&11,(IF((AND(AS$36>=1,AS$36<=5)),\"令和\"&AQ$36-1&\"年\"&11,\"令和\"&AQ$36&\"年\"&11)))))))","v":"令和年11"},{"$f":"IF(OR(AR89=\"\",AT$41=4),\"\",IF(AND(AS$36>=1,AS$36<=4,AQ$36=31),\"平成\"&30&\"年\"&11,IF(AND(AS$36=5,AQ$36=\"元\"),\"平成\"&30&\"年\"&11,IF(AND(AS$36>=6,AQ$36=\"元\"),\"令和元年\"&11,IF(AND(AS$36>=1,AS$36<=5,AQ$36=2),\"令和元年\"&11,(IF((AND(AS$36>=1,AS$36<=5)),\"令和\"&AQ$36-1&\"年\"&11,\"令和\"&AQ$36&\"年\"&11)))))))","v":"令和年11"},null,null,null,{"$f":"IF(OR(AW89=\"\",AW$41=12),\"\",11)","v":11},{"$f":"IF(OR(AX89=\"\",AZ$41=4),\"\",IF(AND(AY$36>=1,AY$36<=4,AW$36=31),\"平成\"&30&\"年\"&11,IF(AND(AY$36=5,AW$36=\"元\"),\"平成\"&30&\"年\"&11,IF(AND(AY$36>=6,AW$36=\"元\"),\"令和元年\"&11,IF(AND(AY$36>=1,AY$36<=5,AW$36=2),\"令和元年\"&11,(IF((AND(AY$36>=1,AY$36<=5)),\"令和\"&AW$36-1&\"年\"&11,\"令和\"&AW$36&\"年\"&11)))))))","v":"令和年11"},{"$f":"IF(OR(AX89=\"\",AZ$41=4),\"\",IF(AND(AY$36>=1,AY$36<=4,AW$36=31),\"平成\"&30&\"年\"&11,IF(AND(AY$36=5,AW$36=\"元\"),\"平成\"&30&\"年\"&11,IF(AND(AY$36>=6,AW$36=\"元\"),\"令和元年\"&11,IF(AND(AY$36>=1,AY$36<=5,AW$36=2),\"令和元年\"&11,(IF((AND(AY$36>=1,AY$36<=5)),\"令和\"&AW$36-1&\"年\"&11,\"令和\"&AW$36&\"年\"&11)))))))","v":"令和年11"},null,null,null,{"$f":"IF(OR(BC89=\"\",BC$41=12),\"\",11)","v":11},{"$f":"IF(OR(BD89=\"\",BF$41=4),\"\",IF(AND(BE$36>=1,BE$36<=4,BC$36=31),\"平成\"&30&\"年\"&11,IF(AND(BE$36=5,BC$36=\"元\"),\"平成\"&30&\"年\"&11,IF(AND(BE$36>=6,BC$36=\"元\"),\"令和元年\"&11,IF(AND(BE$36>=1,BE$36<=5,BC$36=2),\"令和元年\"&11,(IF((AND(BE$36>=1,BE$36<=5)),\"令和\"&BC$36-1&\"年\"&11,\"令和\"&BC$36&\"年\"&11)))))))","v":"令和年11"},{"$f":"IF(OR(BD89=\"\",BF$41=4),\"\",IF(AND(BE$36>=1,BE$36<=4,BC$36=31),\"平成\"&30&\"年\"&11,IF(AND(BE$36=5,BC$36=\"元\"),\"平成\"&30&\"年\"&11,IF(AND(BE$36>=6,BC$36=\"元\"),\"令和元年\"&11,IF(AND(BE$36>=1,BE$36<=5,BC$36=2),\"令和元年\"&11,(IF((AND(BE$36>=1,BE$36<=5)),\"令和\"&BC$36-1&\"年\"&11,\"令和\"&BC$36&\"年\"&11)))))))","v":"令和年11"},null,null,null,{"$f":"IF(OR(BI89=\"\",BI$41=12),\"\",11)","v":11},{"$f":"IF(OR(BJ89=\"\",BL$41=4),\"\",IF(AND(BK$36>=1,BK$36<=4,BI$36=31),\"平成\"&30&\"年\"&11,IF(AND(BK$36=5,BI$36=\"元\"),\"平成\"&30&\"年\"&11,IF(AND(BK$36>=6,BI$36=\"元\"),\"令和元年\"&11,IF(AND(BK$36>=1,BK$36<=5,BI$36=2),\"令和元年\"&11,(IF((AND(BK$36>=1,BK$36<=5)),\"令和\"&BI$36-1&\"年\"&11,\"令和\"&BI$36&\"年\"&11)))))))","v":"令和年11"},{"$f":"IF(OR(BJ89=\"\",BL$41=4),\"\",IF(AND(BK$36>=1,BK$36<=4,BI$36=31),\"平成\"&30&\"年\"&11,IF(AND(BK$36=5,BI$36=\"元\"),\"平成\"&30&\"年\"&11,IF(AND(BK$36>=6,BI$36=\"元\"),\"令和元年\"&11,IF(AND(BK$36>=1,BK$36<=5,BI$36=2),\"令和元年\"&11,(IF((AND(BK$36>=1,BK$36<=5)),\"令和\"&BI$36-1&\"年\"&11,\"令和\"&BI$36&\"年\"&11)))))))","v":"令和年11"},null,null,null,{"$f":"IF(OR(BO89=\"\",BO$41=12),\"\",11)","v":11},{"$f":"IF(OR(BP89=\"\",BR$41=4),\"\",IF(AND(BQ$36>=1,BQ$36<=4,BO$36=31),\"平成\"&30&\"年\"&11,IF(AND(BQ$36=5,BO$36=\"元\"),\"平成\"&30&\"年\"&11,IF(AND(BQ$36>=6,BO$36=\"元\"),\"令和元年\"&11,IF(AND(BQ$36>=1,BQ$36<=5,BO$36=2),\"令和元年\"&11,(IF((AND(BQ$36>=1,BQ$36<=5)),\"令和\"&BO$36-1&\"年\"&11,\"令和\"&BO$36&\"年\"&11)))))))","v":"令和年11"},{"$f":"IF(OR(BP89=\"\",BR$41=4),\"\",IF(AND(BQ$36>=1,BQ$36<=4,BO$36=31),\"平成\"&30&\"年\"&11,IF(AND(BQ$36=5,BO$36=\"元\"),\"平成\"&30&\"年\"&11,IF(AND(BQ$36>=6,BO$36=\"元\"),\"令和元年\"&11,IF(AND(BQ$36>=1,BQ$36<=5,BO$36=2),\"令和元年\"&11,(IF((AND(BQ$36>=1,BQ$36<=5)),\"令和\"&BO$36-1&\"年\"&11,\"令和\"&BO$36&\"年\"&11)))))))","v":"令和年11"},null,null,null,{"$f":"IF(OR(BU89=\"\",BU$41=12),\"\",11)","v":11},{"$f":"IF(OR(BV89=\"\",BX$41=4),\"\",IF(AND(BW$36>=1,BW$36<=4,BU$36=31),\"平成\"&30&\"年\"&11,IF(AND(BW$36=5,BU$36=\"元\"),\"平成\"&30&\"年\"&11,IF(AND(BW$36>=6,BU$36=\"元\"),\"令和元年\"&11,IF(AND(BW$36>=1,BW$36<=5,BU$36=2),\"令和元年\"&11,(IF((AND(BW$36>=1,BW$36<=5)),\"令和\"&BU$36-1&\"年\"&11,\"令和\"&BU$36&\"年\"&11)))))))","v":"令和年11"},{"$f":"IF(OR(BV89=\"\",BX$41=4),\"\",IF(AND(BW$36>=1,BW$36<=4,BU$36=31),\"平成\"&30&\"年\"&11,IF(AND(BW$36=5,BU$36=\"元\"),\"平成\"&30&\"年\"&11,IF(AND(BW$36>=6,BU$36=\"元\"),\"令和元年\"&11,IF(AND(BW$36>=1,BW$36<=5,BU$36=2),\"令和元年\"&11,(IF((AND(BW$36>=1,BW$36<=5)),\"令和\"&BU$36-1&\"年\"&11,\"令和\"&BU$36&\"年\"&11)))))))","v":"令和年11"},null,null,null,{"$f":"IF(OR(CA89=\"\",CA$41=12),\"\",11)","v":11},{"$f":"IF(OR(CB89=\"\",CD$41=4),\"\",IF(AND(CC$36>=1,CC$36<=4,CA$36=31),\"平成\"&30&\"年\"&11,IF(AND(CC$36=5,CA$36=\"元\"),\"平成\"&30&\"年\"&11,IF(AND(CC$36>=6,CA$36=\"元\"),\"令和元年\"&11,IF(AND(CC$36>=1,CC$36<=5,CA$36=2),\"令和元年\"&11,(IF((AND(CC$36>=1,CC$36<=5)),\"令和\"&CA$36-1&\"年\"&11,\"令和\"&CA$36&\"年\"&11)))))))","v":"令和年11"},{"$f":"IF(OR(CB89=\"\",CD$41=4),\"\",IF(AND(CC$36>=1,CC$36<=4,CA$36=31),\"平成\"&30&\"年\"&11,IF(AND(CC$36=5,CA$36=\"元\"),\"平成\"&30&\"年\"&11,IF(AND(CC$36>=6,CA$36=\"元\"),\"令和元年\"&11,IF(AND(CC$36>=1,CC$36<=5,CA$36=2),\"令和元年\"&11,(IF((AND(CC$36>=1,CC$36<=5)),\"令和\"&CA$36-1&\"年\"&11,\"令和\"&CA$36&\"年\"&11)))))))","v":"令和年11"},null,null,null,{"$f":"IF(OR(CG89=\"\",CG$41=12),\"\",11)","v":11},{"$f":"IF(OR(CH89=\"\",CJ$41=4),\"\",IF(AND(CI$36>=1,CI$36<=4,CG$36=31),\"平成\"&30&\"年\"&11,IF(AND(CI$36=5,CG$36=\"元\"),\"平成\"&30&\"年\"&11,IF(AND(CI$36>=6,CG$36=\"元\"),\"令和元年\"&11,IF(AND(CI$36>=1,CI$36<=5,CG$36=2),\"令和元年\"&11,(IF((AND(CI$36>=1,CI$36<=5)),\"令和\"&CG$36-1&\"年\"&11,\"令和\"&CG$36&\"年\"&11)))))))","v":"令和年11"},{"$f":"IF(OR(CH89=\"\",CJ$41=4),\"\",IF(AND(CI$36>=1,CI$36<=4,CG$36=31),\"平成\"&30&\"年\"&11,IF(AND(CI$36=5,CG$36=\"元\"),\"平成\"&30&\"年\"&11,IF(AND(CI$36>=6,CG$36=\"元\"),\"令和元年\"&11,IF(AND(CI$36>=1,CI$36<=5,CG$36=2),\"令和元年\"&11,(IF((AND(CI$36>=1,CI$36<=5)),\"令和\"&CG$36-1&\"年\"&11,\"令和\"&CG$36&\"年\"&11)))))))","v":"令和年11"},null,null,null,{"$f":"IF(OR(CM89=\"\",CM$41=12),\"\",11)","v":11},{"$f":"IF(OR(CN89=\"\",CP$41=4),\"\",IF(AND(CO$36>=1,CO$36<=4,CM$36=31),\"平成\"&30&\"年\"&11,IF(AND(CO$36=5,CM$36=\"元\"),\"平成\"&30&\"年\"&11,IF(AND(CO$36>=6,CM$36=\"元\"),\"令和元年\"&11,IF(AND(CO$36>=1,CO$36<=5,CM$36=2),\"令和元年\"&11,(IF((AND(CO$36>=1,CO$36<=5)),\"令和\"&CM$36-1&\"年\"&11,\"令和\"&CM$36&\"年\"&11)))))))","v":"令和年11"},{"$f":"IF(OR(CN89=\"\",CP$41=4),\"\",IF(AND(CO$36>=1,CO$36<=4,CM$36=31),\"平成\"&30&\"年\"&11,IF(AND(CO$36=5,CM$36=\"元\"),\"平成\"&30&\"年\"&11,IF(AND(CO$36>=6,CM$36=\"元\"),\"令和元年\"&11,IF(AND(CO$36>=1,CO$36<=5,CM$36=2),\"令和元年\"&11,(IF((AND(CO$36>=1,CO$36<=5)),\"令和\"&CM$36-1&\"年\"&11,\"令和\"&CM$36&\"年\"&11)))))))","v":"令和年11"},null,null,null,{"$f":"IF(OR(CS89=\"\",CS$41=12),\"\",11)","v":11},{"$f":"IF(OR(CT89=\"\",CV$41=4),\"\",IF(AND(CU$36>=1,CU$36<=4,CS$36=31),\"平成\"&30&\"年\"&11,IF(AND(CU$36=5,CS$36=\"元\"),\"平成\"&30&\"年\"&11,IF(AND(CU$36>=6,CS$36=\"元\"),\"令和元年\"&11,IF(AND(CU$36>=1,CU$36<=5,CS$36=2),\"令和元年\"&11,(IF((AND(CU$36>=1,CU$36<=5)),\"令和\"&CS$36-1&\"年\"&11,\"令和\"&CS$36&\"年\"&11)))))))","v":"令和年11"},{"$f":"IF(OR(CT89=\"\",CV$41=4),\"\",IF(AND(CU$36>=1,CU$36<=4,CS$36=31),\"平成\"&30&\"年\"&11,IF(AND(CU$36=5,CS$36=\"元\"),\"平成\"&30&\"年\"&11,IF(AND(CU$36>=6,CS$36=\"元\"),\"令和元年\"&11,IF(AND(CU$36>=1,CU$36<=5,CS$36=2),\"令和元年\"&11,(IF((AND(CU$36>=1,CU$36<=5)),\"令和\"&CS$36-1&\"年\"&11,\"令和\"&CS$36&\"年\"&11)))))))","v":"令和年11"},null,null,null,{"$f":"IF(OR(CY89=\"\",CY$41=12),\"\",11)","v":11},{"$f":"IF(OR(CZ89=\"\",DB$41=4),\"\",IF(AND(DA$36>=1,DA$36<=4,CY$36=31),\"平成\"&30&\"年\"&11,IF(AND(DA$36=5,CY$36=\"元\"),\"平成\"&30&\"年\"&11,IF(AND(DA$36>=6,CY$36=\"元\"),\"令和元年\"&11,IF(AND(DA$36>=1,DA$36<=5,CY$36=2),\"令和元年\"&11,(IF((AND(DA$36>=1,DA$36<=5)),\"令和\"&CY$36-1&\"年\"&11,\"令和\"&CY$36&\"年\"&11)))))))","v":"令和年11"},{"$f":"IF(OR(CZ89=\"\",DB$41=4),\"\",IF(AND(DA$36>=1,DA$36<=4,CY$36=31),\"平成\"&30&\"年\"&11,IF(AND(DA$36=5,CY$36=\"元\"),\"平成\"&30&\"年\"&11,IF(AND(DA$36>=6,CY$36=\"元\"),\"令和元年\"&11,IF(AND(DA$36>=1,DA$36<=5,CY$36=2),\"令和元年\"&11,(IF((AND(DA$36>=1,DA$36<=5)),\"令和\"&CY$36-1&\"年\"&11,\"令和\"&CY$36&\"年\"&11)))))))","v":"令和年11"},null,null,null,{"$f":"IF(OR(DE89=\"\",DE$41=12),\"\",11)","v":11},{"$f":"IF(OR(DF89=\"\",DH$41=4),\"\",IF(AND(DG$36>=1,DG$36<=4,DE$36=31),\"平成\"&30&\"年\"&11,IF(AND(DG$36=5,DE$36=\"元\"),\"平成\"&30&\"年\"&11,IF(AND(DG$36>=6,DE$36=\"元\"),\"令和元年\"&11,IF(AND(DG$36>=1,DG$36<=5,DE$36=2),\"令和元年\"&11,(IF((AND(DG$36>=1,DG$36<=5)),\"令和\"&DE$36-1&\"年\"&11,\"令和\"&DE$36&\"年\"&11)))))))","v":"令和年11"},{"$f":"IF(OR(DF89=\"\",DH$41=4),\"\",IF(AND(DG$36>=1,DG$36<=4,DE$36=31),\"平成\"&30&\"年\"&11,IF(AND(DG$36=5,DE$36=\"元\"),\"平成\"&30&\"年\"&11,IF(AND(DG$36>=6,DE$36=\"元\"),\"令和元年\"&11,IF(AND(DG$36>=1,DG$36<=5,DE$36=2),\"令和元年\"&11,(IF((AND(DG$36>=1,DG$36<=5)),\"令和\"&DE$36-1&\"年\"&11,\"令和\"&DE$36&\"年\"&11)))))))","v":"令和年11"},null,null,null,{"$f":"IF(OR(DK89=\"\",DK$41=12),\"\",11)","v":11},{"$f":"IF(OR(DL89=\"\",DN$41=4),\"\",IF(AND(DM$36>=1,DM$36<=4,DK$36=31),\"平成\"&30&\"年\"&11,IF(AND(DM$36=5,DK$36=\"元\"),\"平成\"&30&\"年\"&11,IF(AND(DM$36>=6,DK$36=\"元\"),\"令和元年\"&11,IF(AND(DM$36>=1,DM$36<=5,DK$36=2),\"令和元年\"&11,(IF((AND(DM$36>=1,DM$36<=5)),\"令和\"&DK$36-1&\"年\"&11,\"令和\"&DK$36&\"年\"&11)))))))","v":"令和年11"},{"$f":"IF(OR(DL89=\"\",DN$41=4),\"\",IF(AND(DM$36>=1,DM$36<=4,DK$36=31),\"平成\"&30&\"年\"&11,IF(AND(DM$36=5,DK$36=\"元\"),\"平成\"&30&\"年\"&11,IF(AND(DM$36>=6,DK$36=\"元\"),\"令和元年\"&11,IF(AND(DM$36>=1,DM$36<=5,DK$36=2),\"令和元年\"&11,(IF((AND(DM$36>=1,DM$36<=5)),\"令和\"&DK$36-1&\"年\"&11,\"令和\"&DK$36&\"年\"&11)))))))","v":"令和年11"},null,null,null,{"$f":"IF(OR(DQ89=\"\",DQ$41=12),\"\",11)","v":11},{"$f":"IF(OR(DR89=\"\",DT$41=4),\"\",IF(AND(DS$36>=1,DS$36<=4,DQ$36=31),\"平成\"&30&\"年\"&11,IF(AND(DS$36=5,DQ$36=\"元\"),\"平成\"&30&\"年\"&11,IF(AND(DS$36>=6,DQ$36=\"元\"),\"令和元年\"&11,IF(AND(DS$36>=1,DS$36<=5,DQ$36=2),\"令和元年\"&11,(IF((AND(DS$36>=1,DS$36<=5)),\"令和\"&DQ$36-1&\"年\"&11,\"令和\"&DQ$36&\"年\"&11)))))))","v":"令和年11"},{"$f":"IF(OR(DR89=\"\",DT$41=4),\"\",IF(AND(DS$36>=1,DS$36<=4,DQ$36=31),\"平成\"&30&\"年\"&11,IF(AND(DS$36=5,DQ$36=\"元\"),\"平成\"&30&\"年\"&11,IF(AND(DS$36>=6,DQ$36=\"元\"),\"令和元年\"&11,IF(AND(DS$36>=1,DS$36<=5,DQ$36=2),\"令和元年\"&11,(IF((AND(DS$36>=1,DS$36<=5)),\"令和\"&DQ$36-1&\"年\"&11,\"令和\"&DQ$36&\"年\"&11)))))))","v":"令和年11"},null,null,null,{"$f":"IF(OR(DW89=\"\",DW$41=12),\"\",11)","v":11},{"$f":"IF(OR(DX89=\"\",DZ$41=4),\"\",IF(AND(DY$36>=1,DY$36<=4,DW$36=31),\"平成\"&30&\"年\"&11,IF(AND(DY$36=5,DW$36=\"元\"),\"平成\"&30&\"年\"&11,IF(AND(DY$36>=6,DW$36=\"元\"),\"令和元年\"&11,IF(AND(DY$36>=1,DY$36<=5,DW$36=2),\"令和元年\"&11,(IF((AND(DY$36>=1,DY$36<=5)),\"令和\"&DW$36-1&\"年\"&11,\"令和\"&DW$36&\"年\"&11)))))))","v":"令和年11"},{"$f":"IF(OR(DX89=\"\",DZ$41=4),\"\",IF(AND(DY$36>=1,DY$36<=4,DW$36=31),\"平成\"&30&\"年\"&11,IF(AND(DY$36=5,DW$36=\"元\"),\"平成\"&30&\"年\"&11,IF(AND(DY$36>=6,DW$36=\"元\"),\"令和元年\"&11,IF(AND(DY$36>=1,DY$36<=5,DW$36=2),\"令和元年\"&11,(IF((AND(DY$36>=1,DY$36<=5)),\"令和\"&DW$36-1&\"年\"&11,\"令和\"&DW$36&\"年\"&11)))))))","v":"令和年11"},null,null,null,{"$f":"IF(OR(EC89=\"\",EC$41=12),\"\",11)","v":11},{"$f":"IF(OR(ED89=\"\",EF$41=4),\"\",IF(AND(EE$36>=1,EE$36<=4,EC$36=31),\"平成\"&30&\"年\"&11,IF(AND(EE$36=5,EC$36=\"元\"),\"平成\"&30&\"年\"&11,IF(AND(EE$36>=6,EC$36=\"元\"),\"令和元年\"&11,IF(AND(EE$36>=1,EE$36<=5,EC$36=2),\"令和元年\"&11,(IF((AND(EE$36>=1,EE$36<=5)),\"令和\"&EC$36-1&\"年\"&11,\"令和\"&EC$36&\"年\"&11)))))))","v":"令和年11"},{"$f":"IF(OR(ED89=\"\",EF$41=4),\"\",IF(AND(EE$36>=1,EE$36<=4,EC$36=31),\"平成\"&30&\"年\"&11,IF(AND(EE$36=5,EC$36=\"元\"),\"平成\"&30&\"年\"&11,IF(AND(EE$36>=6,EC$36=\"元\"),\"令和元年\"&11,IF(AND(EE$36>=1,EE$36<=5,EC$36=2),\"令和元年\"&11,(IF((AND(EE$36>=1,EE$36<=5)),\"令和\"&EC$36-1&\"年\"&11,\"令和\"&EC$36&\"年\"&11)))))))","v":"令和年11"},null,null,null,{"$f":"IF(OR(EI89=\"\",EI$41=12),\"\",11)","v":11},{"$f":"IF(OR(EJ89=\"\",EL$41=4),\"\",IF(AND(EK$36>=1,EK$36<=4,EI$36=31),\"平成\"&30&\"年\"&11,IF(AND(EK$36=5,EI$36=\"元\"),\"平成\"&30&\"年\"&11,IF(AND(EK$36>=6,EI$36=\"元\"),\"令和元年\"&11,IF(AND(EK$36>=1,EK$36<=5,EI$36=2),\"令和元年\"&11,(IF((AND(EK$36>=1,EK$36<=5)),\"令和\"&EI$36-1&\"年\"&11,\"令和\"&EI$36&\"年\"&11)))))))","v":"令和年11"},{"$f":"IF(OR(EJ89=\"\",EL$41=4),\"\",IF(AND(EK$36>=1,EK$36<=4,EI$36=31),\"平成\"&30&\"年\"&11,IF(AND(EK$36=5,EI$36=\"元\"),\"平成\"&30&\"年\"&11,IF(AND(EK$36>=6,EI$36=\"元\"),\"令和元年\"&11,IF(AND(EK$36>=1,EK$36<=5,EI$36=2),\"令和元年\"&11,(IF((AND(EK$36>=1,EK$36<=5)),\"令和\"&EI$36-1&\"年\"&11,\"令和\"&EI$36&\"年\"&11)))))))","v":"令和年11"},null,null,null,{"$f":"IF(OR(EO89=\"\",EO$41=12),\"\",11)","v":11},{"$f":"IF(OR(EP89=\"\",ER$41=4),\"\",IF(AND(EQ$36>=1,EQ$36<=4,EO$36=31),\"平成\"&30&\"年\"&11,IF(AND(EQ$36=5,EO$36=\"元\"),\"平成\"&30&\"年\"&11,IF(AND(EQ$36>=6,EO$36=\"元\"),\"令和元年\"&11,IF(AND(EQ$36>=1,EQ$36<=5,EO$36=2),\"令和元年\"&11,(IF((AND(EQ$36>=1,EQ$36<=5)),\"令和\"&EO$36-1&\"年\"&11,\"令和\"&EO$36&\"年\"&11)))))))","v":"令和年11"},{"$f":"IF(OR(EP89=\"\",ER$41=4),\"\",IF(AND(EQ$36>=1,EQ$36<=4,EO$36=31),\"平成\"&30&\"年\"&11,IF(AND(EQ$36=5,EO$36=\"元\"),\"平成\"&30&\"年\"&11,IF(AND(EQ$36>=6,EO$36=\"元\"),\"令和元年\"&11,IF(AND(EQ$36>=1,EQ$36<=5,EO$36=2),\"令和元年\"&11,(IF((AND(EQ$36>=1,EQ$36<=5)),\"令和\"&EO$36-1&\"年\"&11,\"令和\"&EO$36&\"年\"&11)))))))","v":"令和年11"},null,null,null,{"$f":"IF(OR(EU89=\"\",EU$41=12),\"\",11)","v":11},{"$f":"IF(OR(EV89=\"\",EX$41=4),\"\",IF(AND(EW$36>=1,EW$36<=4,EU$36=31),\"平成\"&30&\"年\"&11,IF(AND(EW$36=5,EU$36=\"元\"),\"平成\"&30&\"年\"&11,IF(AND(EW$36>=6,EU$36=\"元\"),\"令和元年\"&11,IF(AND(EW$36>=1,EW$36<=5,EU$36=2),\"令和元年\"&11,(IF((AND(EW$36>=1,EW$36<=5)),\"令和\"&EU$36-1&\"年\"&11,\"令和\"&EU$36&\"年\"&11)))))))","v":"令和年11"},{"$f":"IF(OR(EV89=\"\",EX$41=4),\"\",IF(AND(EW$36>=1,EW$36<=4,EU$36=31),\"平成\"&30&\"年\"&11,IF(AND(EW$36=5,EU$36=\"元\"),\"平成\"&30&\"年\"&11,IF(AND(EW$36>=6,EU$36=\"元\"),\"令和元年\"&11,IF(AND(EW$36>=1,EW$36<=5,EU$36=2),\"令和元年\"&11,(IF((AND(EW$36>=1,EW$36<=5)),\"令和\"&EU$36-1&\"年\"&11,\"令和\"&EU$36&\"年\"&11)))))))","v":"令和年11"},null,null,null,{"$f":"IF(OR(FA89=\"\",FA$41=12),\"\",11)","v":11},{"$f":"IF(OR(FB89=\"\",FD$41=4),\"\",IF(AND(FC$36>=1,FC$36<=4,FA$36=31),\"平成\"&30&\"年\"&11,IF(AND(FC$36=5,FA$36=\"元\"),\"平成\"&30&\"年\"&11,IF(AND(FC$36>=6,FA$36=\"元\"),\"令和元年\"&11,IF(AND(FC$36>=1,FC$36<=5,FA$36=2),\"令和元年\"&11,(IF((AND(FC$36>=1,FC$36<=5)),\"令和\"&FA$36-1&\"年\"&11,\"令和\"&FA$36&\"年\"&11)))))))","v":"令和年11"},{"$f":"IF(OR(FB89=\"\",FD$41=4),\"\",IF(AND(FC$36>=1,FC$36<=4,FA$36=31),\"平成\"&30&\"年\"&11,IF(AND(FC$36=5,FA$36=\"元\"),\"平成\"&30&\"年\"&11,IF(AND(FC$36>=6,FA$36=\"元\"),\"令和元年\"&11,IF(AND(FC$36>=1,FC$36<=5,FA$36=2),\"令和元年\"&11,(IF((AND(FC$36>=1,FC$36<=5)),\"令和\"&FA$36-1&\"年\"&11,\"令和\"&FA$36&\"年\"&11)))))))","v":"令和年11"},null,null,null,{"$f":"IF(OR(FG89=\"\",FG$41=12),\"\",11)","v":11},{"$f":"IF(OR(FH89=\"\",FJ$41=4),\"\",IF(AND(FI$36>=1,FI$36<=4,FG$36=31),\"平成\"&30&\"年\"&11,IF(AND(FI$36=5,FG$36=\"元\"),\"平成\"&30&\"年\"&11,IF(AND(FI$36>=6,FG$36=\"元\"),\"令和元年\"&11,IF(AND(FI$36>=1,FI$36<=5,FG$36=2),\"令和元年\"&11,(IF((AND(FI$36>=1,FI$36<=5)),\"令和\"&FG$36-1&\"年\"&11,\"令和\"&FG$36&\"年\"&11)))))))","v":"令和年11"},{"$f":"IF(OR(FH89=\"\",FJ$41=4),\"\",IF(AND(FI$36>=1,FI$36<=4,FG$36=31),\"平成\"&30&\"年\"&11,IF(AND(FI$36=5,FG$36=\"元\"),\"平成\"&30&\"年\"&11,IF(AND(FI$36>=6,FG$36=\"元\"),\"令和元年\"&11,IF(AND(FI$36>=1,FI$36<=5,FG$36=2),\"令和元年\"&11,(IF((AND(FI$36>=1,FI$36<=5)),\"令和\"&FG$36-1&\"年\"&11,\"令和\"&FG$36&\"年\"&11)))))))","v":"令和年11"},null,null,null,{"$f":"IF(OR(FM89=\"\",FM$41=12),\"\",11)","v":11},{"$f":"IF(OR(FN89=\"\",FP$41=4),\"\",IF(AND(FO$36>=1,FO$36<=4,FM$36=31),\"平成\"&30&\"年\"&11,IF(AND(FO$36=5,FM$36=\"元\"),\"平成\"&30&\"年\"&11,IF(AND(FO$36>=6,FM$36=\"元\"),\"令和元年\"&11,IF(AND(FO$36>=1,FO$36<=5,FM$36=2),\"令和元年\"&11,(IF((AND(FO$36>=1,FO$36<=5)),\"令和\"&FM$36-1&\"年\"&11,\"令和\"&FM$36&\"年\"&11)))))))","v":"令和年11"},{"$f":"IF(OR(FN89=\"\",FP$41=4),\"\",IF(AND(FO$36>=1,FO$36<=4,FM$36=31),\"平成\"&30&\"年\"&11,IF(AND(FO$36=5,FM$36=\"元\"),\"平成\"&30&\"年\"&11,IF(AND(FO$36>=6,FM$36=\"元\"),\"令和元年\"&11,IF(AND(FO$36>=1,FO$36<=5,FM$36=2),\"令和元年\"&11,(IF((AND(FO$36>=1,FO$36<=5)),\"令和\"&FM$36-1&\"年\"&11,\"令和\"&FM$36&\"年\"&11)))))))","v":"令和年11"},null,null,null,{"$f":"IF(OR(FS89=\"\",FS$41=12),\"\",11)","v":11},{"$f":"IF(OR(FT89=\"\",FV$41=4),\"\",IF(AND(FU$36>=1,FU$36<=4,FS$36=31),\"平成\"&30&\"年\"&11,IF(AND(FU$36=5,FS$36=\"元\"),\"平成\"&30&\"年\"&11,IF(AND(FU$36>=6,FS$36=\"元\"),\"令和元年\"&11,IF(AND(FU$36>=1,FU$36<=5,FS$36=2),\"令和元年\"&11,(IF((AND(FU$36>=1,FU$36<=5)),\"令和\"&FS$36-1&\"年\"&11,\"令和\"&FS$36&\"年\"&11)))))))","v":"令和年11"},{"$f":"IF(OR(FT89=\"\",FV$41=4),\"\",IF(AND(FU$36>=1,FU$36<=4,FS$36=31),\"平成\"&30&\"年\"&11,IF(AND(FU$36=5,FS$36=\"元\"),\"平成\"&30&\"年\"&11,IF(AND(FU$36>=6,FS$36=\"元\"),\"令和元年\"&11,IF(AND(FU$36>=1,FU$36<=5,FS$36=2),\"令和元年\"&11,(IF((AND(FU$36>=1,FU$36<=5)),\"令和\"&FS$36-1&\"年\"&11,\"令和\"&FS$36&\"年\"&11)))))))","v":"令和年11"},null,null,null,{"$f":"IF(OR(FY89=\"\",FY$41=12),\"\",11)","v":11},{"$f":"IF(OR(FZ89=\"\",GB$41=4),\"\",IF(AND(GA$36>=1,GA$36<=4,FY$36=31),\"平成\"&30&\"年\"&11,IF(AND(GA$36=5,FY$36=\"元\"),\"平成\"&30&\"年\"&11,IF(AND(GA$36>=6,FY$36=\"元\"),\"令和元年\"&11,IF(AND(GA$36>=1,GA$36<=5,FY$36=2),\"令和元年\"&11,(IF((AND(GA$36>=1,GA$36<=5)),\"令和\"&FY$36-1&\"年\"&11,\"令和\"&FY$36&\"年\"&11)))))))","v":"令和年11"},{"$f":"IF(OR(FZ89=\"\",GB$41=4),\"\",IF(AND(GA$36>=1,GA$36<=4,FY$36=31),\"平成\"&30&\"年\"&11,IF(AND(GA$36=5,FY$36=\"元\"),\"平成\"&30&\"年\"&11,IF(AND(GA$36>=6,FY$36=\"元\"),\"令和元年\"&11,IF(AND(GA$36>=1,GA$36<=5,FY$36=2),\"令和元年\"&11,(IF((AND(GA$36>=1,GA$36<=5)),\"令和\"&FY$36-1&\"年\"&11,\"令和\"&FY$36&\"年\"&11)))))))","v":"令和年11"},null,null,null,{"$f":"IF(OR(GE89=\"\",GE$41=12),\"\",11)","v":11},{"$f":"IF(OR(GF89=\"\",GH$41=4),\"\",IF(AND(GG$36>=1,GG$36<=4,GE$36=31),\"平成\"&30&\"年\"&11,IF(AND(GG$36=5,GE$36=\"元\"),\"平成\"&30&\"年\"&11,IF(AND(GG$36>=6,GE$36=\"元\"),\"令和元年\"&11,IF(AND(GG$36>=1,GG$36<=5,GE$36=2),\"令和元年\"&11,(IF((AND(GG$36>=1,GG$36<=5)),\"令和\"&GE$36-1&\"年\"&11,\"令和\"&GE$36&\"年\"&11)))))))","v":"令和年11"},{"$f":"IF(OR(GF89=\"\",GH$41=4),\"\",IF(AND(GG$36>=1,GG$36<=4,GE$36=31),\"平成\"&30&\"年\"&11,IF(AND(GG$36=5,GE$36=\"元\"),\"平成\"&30&\"年\"&11,IF(AND(GG$36>=6,GE$36=\"元\"),\"令和元年\"&11,IF(AND(GG$36>=1,GG$36<=5,GE$36=2),\"令和元年\"&11,(IF((AND(GG$36>=1,GG$36<=5)),\"令和\"&GE$36-1&\"年\"&11,\"令和\"&GE$36&\"年\"&11)))))))","v":"令和年11"},null,null,null,{"$f":"IF(OR(GK89=\"\",GK$41=12),\"\",11)","v":11},{"$f":"IF(OR(GL89=\"\",GN$41=4),\"\",IF(AND(GM$36>=1,GM$36<=4,GK$36=31),\"平成\"&30&\"年\"&11,IF(AND(GM$36=5,GK$36=\"元\"),\"平成\"&30&\"年\"&11,IF(AND(GM$36>=6,GK$36=\"元\"),\"令和元年\"&11,IF(AND(GM$36>=1,GM$36<=5,GK$36=2),\"令和元年\"&11,(IF((AND(GM$36>=1,GM$36<=5)),\"令和\"&GK$36-1&\"年\"&11,\"令和\"&GK$36&\"年\"&11)))))))","v":"令和年11"},{"$f":"IF(OR(GL89=\"\",GN$41=4),\"\",IF(AND(GM$36>=1,GM$36<=4,GK$36=31),\"平成\"&30&\"年\"&11,IF(AND(GM$36=5,GK$36=\"元\"),\"平成\"&30&\"年\"&11,IF(AND(GM$36>=6,GK$36=\"元\"),\"令和元年\"&11,IF(AND(GM$36>=1,GM$36<=5,GK$36=2),\"令和元年\"&11,(IF((AND(GM$36>=1,GM$36<=5)),\"令和\"&GK$36-1&\"年\"&11,\"令和\"&GK$36&\"年\"&11)))))))","v":"令和年11"},null,null,null,{"$f":"IF(OR(GQ89=\"\",GQ$41=12),\"\",11)","v":11},{"$f":"IF(OR(GR89=\"\",GT$41=4),\"\",IF(AND(GS$36>=1,GS$36<=4,GQ$36=31),\"平成\"&30&\"年\"&11,IF(AND(GS$36=5,GQ$36=\"元\"),\"平成\"&30&\"年\"&11,IF(AND(GS$36>=6,GQ$36=\"元\"),\"令和元年\"&11,IF(AND(GS$36>=1,GS$36<=5,GQ$36=2),\"令和元年\"&11,(IF((AND(GS$36>=1,GS$36<=5)),\"令和\"&GQ$36-1&\"年\"&11,\"令和\"&GQ$36&\"年\"&11)))))))","v":"令和年11"},{"$f":"IF(OR(GR89=\"\",GT$41=4),\"\",IF(AND(GS$36>=1,GS$36<=4,GQ$36=31),\"平成\"&30&\"年\"&11,IF(AND(GS$36=5,GQ$36=\"元\"),\"平成\"&30&\"年\"&11,IF(AND(GS$36>=6,GQ$36=\"元\"),\"令和元年\"&11,IF(AND(GS$36>=1,GS$36<=5,GQ$36=2),\"令和元年\"&11,(IF((AND(GS$36>=1,GS$36<=5)),\"令和\"&GQ$36-1&\"年\"&11,\"令和\"&GQ$36&\"年\"&11)))))))","v":"令和年11"},null,null,null,{"$f":"IF(OR(GW89=\"\",GW$41=12),\"\",11)","v":11},{"$f":"IF(OR(GX89=\"\",GZ$41=4),\"\",IF(AND(GY$36>=1,GY$36<=4,GW$36=31),\"平成\"&30&\"年\"&11,IF(AND(GY$36=5,GW$36=\"元\"),\"平成\"&30&\"年\"&11,IF(AND(GY$36>=6,GW$36=\"元\"),\"令和元年\"&11,IF(AND(GY$36>=1,GY$36<=5,GW$36=2),\"令和元年\"&11,(IF((AND(GY$36>=1,GY$36<=5)),\"令和\"&GW$36-1&\"年\"&11,\"令和\"&GW$36&\"年\"&11)))))))","v":"令和年11"},{"$f":"IF(OR(GX89=\"\",GZ$41=4),\"\",IF(AND(GY$36>=1,GY$36<=4,GW$36=31),\"平成\"&30&\"年\"&11,IF(AND(GY$36=5,GW$36=\"元\"),\"平成\"&30&\"年\"&11,IF(AND(GY$36>=6,GW$36=\"元\"),\"令和元年\"&11,IF(AND(GY$36>=1,GY$36<=5,GW$36=2),\"令和元年\"&11,(IF((AND(GY$36>=1,GY$36<=5)),\"令和\"&GW$36-1&\"年\"&11,\"令和\"&GW$36&\"年\"&11)))))))","v":"令和年11"},null,null,null,{"$f":"IF(OR(HC89=\"\",HC$41=12),\"\",11)","v":11},{"$f":"IF(OR(HD89=\"\",HF$41=4),\"\",IF(AND(HE$36>=1,HE$36<=4,HC$36=31),\"平成\"&30&\"年\"&11,IF(AND(HE$36=5,HC$36=\"元\"),\"平成\"&30&\"年\"&11,IF(AND(HE$36>=6,HC$36=\"元\"),\"令和元年\"&11,IF(AND(HE$36>=1,HE$36<=5,HC$36=2),\"令和元年\"&11,(IF((AND(HE$36>=1,HE$36<=5)),\"令和\"&HC$36-1&\"年\"&11,\"令和\"&HC$36&\"年\"&11)))))))","v":"令和年11"},{"$f":"IF(OR(HD89=\"\",HF$41=4),\"\",IF(AND(HE$36>=1,HE$36<=4,HC$36=31),\"平成\"&30&\"年\"&11,IF(AND(HE$36=5,HC$36=\"元\"),\"平成\"&30&\"年\"&11,IF(AND(HE$36>=6,HC$36=\"元\"),\"令和元年\"&11,IF(AND(HE$36>=1,HE$36<=5,HC$36=2),\"令和元年\"&11,(IF((AND(HE$36>=1,HE$36<=5)),\"令和\"&HC$36-1&\"年\"&11,\"令和\"&HC$36&\"年\"&11)))))))","v":"令和年11"},null,null,null,{"$f":"IF(OR(HI89=\"\",HI$41=12),\"\",11)","v":11},{"$f":"IF(OR(HJ89=\"\",HL$41=4),\"\",IF(AND(HK$36>=1,HK$36<=4,HI$36=31),\"平成\"&30&\"年\"&11,IF(AND(HK$36=5,HI$36=\"元\"),\"平成\"&30&\"年\"&11,IF(AND(HK$36>=6,HI$36=\"元\"),\"令和元年\"&11,IF(AND(HK$36>=1,HK$36<=5,HI$36=2),\"令和元年\"&11,(IF((AND(HK$36>=1,HK$36<=5)),\"令和\"&HI$36-1&\"年\"&11,\"令和\"&HI$36&\"年\"&11)))))))","v":"令和年11"},{"$f":"IF(OR(HJ89=\"\",HL$41=4),\"\",IF(AND(HK$36>=1,HK$36<=4,HI$36=31),\"平成\"&30&\"年\"&11,IF(AND(HK$36=5,HI$36=\"元\"),\"平成\"&30&\"年\"&11,IF(AND(HK$36>=6,HI$36=\"元\"),\"令和元年\"&11,IF(AND(HK$36>=1,HK$36<=5,HI$36=2),\"令和元年\"&11,(IF((AND(HK$36>=1,HK$36<=5)),\"令和\"&HI$36-1&\"年\"&11,\"令和\"&HI$36&\"年\"&11)))))))","v":"令和年11"},null,null,null,{"$f":"IF(OR(HO89=\"\",HO$41=12),\"\",11)","v":11},{"$f":"IF(OR(HP89=\"\",HR$41=4),\"\",IF(AND(HQ$36>=1,HQ$36<=4,HO$36=31),\"平成\"&30&\"年\"&11,IF(AND(HQ$36=5,HO$36=\"元\"),\"平成\"&30&\"年\"&11,IF(AND(HQ$36>=6,HO$36=\"元\"),\"令和元年\"&11,IF(AND(HQ$36>=1,HQ$36<=5,HO$36=2),\"令和元年\"&11,(IF((AND(HQ$36>=1,HQ$36<=5)),\"令和\"&HO$36-1&\"年\"&11,\"令和\"&HO$36&\"年\"&11)))))))","v":"令和年11"},{"$f":"IF(OR(HP89=\"\",HR$41=4),\"\",IF(AND(HQ$36>=1,HQ$36<=4,HO$36=31),\"平成\"&30&\"年\"&11,IF(AND(HQ$36=5,HO$36=\"元\"),\"平成\"&30&\"年\"&11,IF(AND(HQ$36>=6,HO$36=\"元\"),\"令和元年\"&11,IF(AND(HQ$36>=1,HQ$36<=5,HO$36=2),\"令和元年\"&11,(IF((AND(HQ$36>=1,HQ$36<=5)),\"令和\"&HO$36-1&\"年\"&11,\"令和\"&HO$36&\"年\"&11)))))))","v":"令和年11"},null,null,null,{"$f":"IF(OR(HU89=\"\",HU$41=12),\"\",11)","v":11},{"$f":"IF(OR(HV89=\"\",HX$41=4),\"\",IF(AND(HW$36>=1,HW$36<=4,HU$36=31),\"平成\"&30&\"年\"&11,IF(AND(HW$36=5,HU$36=\"元\"),\"平成\"&30&\"年\"&11,IF(AND(HW$36>=6,HU$36=\"元\"),\"令和元年\"&11,IF(AND(HW$36>=1,HW$36<=5,HU$36=2),\"令和元年\"&11,(IF((AND(HW$36>=1,HW$36<=5)),\"令和\"&HU$36-1&\"年\"&11,\"令和\"&HU$36&\"年\"&11)))))))","v":"令和年11"},{"$f":"IF(OR(HV89=\"\",HX$41=4),\"\",IF(AND(HW$36>=1,HW$36<=4,HU$36=31),\"平成\"&30&\"年\"&11,IF(AND(HW$36=5,HU$36=\"元\"),\"平成\"&30&\"年\"&11,IF(AND(HW$36>=6,HU$36=\"元\"),\"令和元年\"&11,IF(AND(HW$36>=1,HW$36<=5,HU$36=2),\"令和元年\"&11,(IF((AND(HW$36>=1,HW$36<=5)),\"令和\"&HU$36-1&\"年\"&11,\"令和\"&HU$36&\"年\"&11)))))))","v":"令和年11"},null,null,null,{"$f":"IF(OR(IA89=\"\",IA$41=12),\"\",11)","v":11},{"$f":"IF(OR(IB89=\"\",ID$41=4),\"\",IF(AND(IC$36>=1,IC$36<=4,IA$36=31),\"平成\"&30&\"年\"&11,IF(AND(IC$36=5,IA$36=\"元\"),\"平成\"&30&\"年\"&11,IF(AND(IC$36>=6,IA$36=\"元\"),\"令和元年\"&11,IF(AND(IC$36>=1,IC$36<=5,IA$36=2),\"令和元年\"&11,(IF((AND(IC$36>=1,IC$36<=5)),\"令和\"&IA$36-1&\"年\"&11,\"令和\"&IA$36&\"年\"&11)))))))","v":"令和年11"},{"$f":"IF(OR(IB89=\"\",ID$41=4),\"\",IF(AND(IC$36>=1,IC$36<=4,IA$36=31),\"平成\"&30&\"年\"&11,IF(AND(IC$36=5,IA$36=\"元\"),\"平成\"&30&\"年\"&11,IF(AND(IC$36>=6,IA$36=\"元\"),\"令和元年\"&11,IF(AND(IC$36>=1,IC$36<=5,IA$36=2),\"令和元年\"&11,(IF((AND(IC$36>=1,IC$36<=5)),\"令和\"&IA$36-1&\"年\"&11,\"令和\"&IA$36&\"年\"&11)))))))","v":"令和年11"},null,null,null,{"$f":"IF(OR(IG89=\"\",IG$41=12),\"\",11)","v":11},{"$f":"IF(OR(IH89=\"\",IJ$41=4),\"\",IF(AND(II$36>=1,II$36<=4,IG$36=31),\"平成\"&30&\"年\"&11,IF(AND(II$36=5,IG$36=\"元\"),\"平成\"&30&\"年\"&11,IF(AND(II$36>=6,IG$36=\"元\"),\"令和元年\"&11,IF(AND(II$36>=1,II$36<=5,IG$36=2),\"令和元年\"&11,(IF((AND(II$36>=1,II$36<=5)),\"令和\"&IG$36-1&\"年\"&11,\"令和\"&IG$36&\"年\"&11)))))))","v":"令和年11"},{"$f":"IF(OR(IH89=\"\",IJ$41=4),\"\",IF(AND(II$36>=1,II$36<=4,IG$36=31),\"平成\"&30&\"年\"&11,IF(AND(II$36=5,IG$36=\"元\"),\"平成\"&30&\"年\"&11,IF(AND(II$36>=6,IG$36=\"元\"),\"令和元年\"&11,IF(AND(II$36>=1,II$36<=5,IG$36=2),\"令和元年\"&11,(IF((AND(II$36>=1,II$36<=5)),\"令和\"&IG$36-1&\"年\"&11,\"令和\"&IG$36&\"年\"&11)))))))","v":"令和年11"}]
[null,{"$f":"IF(AND(CY21<>\"\",CY25<>\"\",DA25<>\"\",DC25<>\"\"),CY17,\"\")","v":""},"平",5,"平5",null,{"$f":"IF(OR(G90=\"\",G$41=1),\"\",12)","v":12},{"$f":"IF(OR(H90=\"\",J$41=4),\"\",IF(AND(I$36>=1,I$36<=4,G$36=31),\"平成\"&30&\"年\"&12,IF(AND(I$36=5,G$36=\"元\"),\"平成\"&30&\"年\"&12,IF(AND(I$36>=6,G$36=\"元\"),\"令和元年\"&12,IF(AND(I$36>=1,I$36<=5,G$36=2),\"令和元年\"&12,(IF((AND(I$36>=1,I$36<=5)),\"令和\"&G$36-1&\"年\"&12,\"令和\"&G$36&\"年\"&12)))))))","v":"令和年12"},{"$f":"IF(OR(H90=\"\",J$41=4),\"\",IF(AND(I$36>=1,I$36<=4,G$36=31),\"平成\"&30&\"年\"&12,IF(AND(I$36=5,G$36=\"元\"),\"平成\"&30&\"年\"&12,IF(AND(I$36>=6,G$36=\"元\"),\"令和元年\"&12,IF(AND(I$36>=1,I$36<=5,G$36=2),\"令和元年\"&12,(IF((AND(I$36>=1,I$36<=5)),\"令和\"&G$36-1&\"年\"&12,\"令和\"&G$36&\"年\"&12)))))))","v":"令和年12"},null,null,null,{"$f":"IF(OR(M90=\"\",M$41=1),\"\",12)","v":12},{"$f":"IF(OR(N90=\"\",P$41=4),\"\",IF(AND(O$36>=1,O$36<=4,M$36=31),\"平成\"&30&\"年\"&12,IF(AND(O$36=5,M$36=\"元\"),\"平成\"&30&\"年\"&12,IF(AND(O$36>=6,M$36=\"元\"),\"令和元年\"&12,IF(AND(O$36>=1,O$36<=5,M$36=2),\"令和元年\"&12,(IF((AND(O$36>=1,O$36<=5)),\"令和\"&M$36-1&\"年\"&12,\"令和\"&M$36&\"年\"&12)))))))","v":"令和年12"},{"$f":"IF(OR(N90=\"\",P$41=4),\"\",IF(AND(O$36>=1,O$36<=4,M$36=31),\"平成\"&30&\"年\"&12,IF(AND(O$36=5,M$36=\"元\"),\"平成\"&30&\"年\"&12,IF(AND(O$36>=6,M$36=\"元\"),\"令和元年\"&12,IF(AND(O$36>=1,O$36<=5,M$36=2),\"令和元年\"&12,(IF((AND(O$36>=1,O$36<=5)),\"令和\"&M$36-1&\"年\"&12,\"令和\"&M$36&\"年\"&12)))))))","v":"令和年12"},null,null,null,{"$f":"IF(OR(S90=\"\",S$41=1),\"\",12)","v":12},{"$f":"IF(OR(T90=\"\",V$41=4),\"\",IF(AND(U$36>=1,U$36<=4,S$36=31),\"平成\"&30&\"年\"&12,IF(AND(U$36=5,S$36=\"元\"),\"平成\"&30&\"年\"&12,IF(AND(U$36>=6,S$36=\"元\"),\"令和元年\"&12,IF(AND(U$36>=1,U$36<=5,S$36=2),\"令和元年\"&12,(IF((AND(U$36>=1,U$36<=5)),\"令和\"&S$36-1&\"年\"&12,\"令和\"&S$36&\"年\"&12)))))))","v":"令和年12"},{"$f":"IF(OR(T90=\"\",V$41=4),\"\",IF(AND(U$36>=1,U$36<=4,S$36=31),\"平成\"&30&\"年\"&12,IF(AND(U$36=5,S$36=\"元\"),\"平成\"&30&\"年\"&12,IF(AND(U$36>=6,S$36=\"元\"),\"令和元年\"&12,IF(AND(U$36>=1,U$36<=5,S$36=2),\"令和元年\"&12,(IF((AND(U$36>=1,U$36<=5)),\"令和\"&S$36-1&\"年\"&12,\"令和\"&S$36&\"年\"&12)))))))","v":"令和年12"},null,null,null,{"$f":"IF(OR(Y90=\"\",Y$41=1),\"\",12)","v":12},{"$f":"IF(OR(Z90=\"\",AB$41=4),\"\",IF(AND(AA$36>=1,AA$36<=4,Y$36=31),\"平成\"&30&\"年\"&12,IF(AND(AA$36=5,Y$36=\"元\"),\"平成\"&30&\"年\"&12,IF(AND(AA$36>=6,Y$36=\"元\"),\"令和元年\"&12,IF(AND(AA$36>=1,AA$36<=5,Y$36=2),\"令和元年\"&12,(IF((AND(AA$36>=1,AA$36<=5)),\"令和\"&Y$36-1&\"年\"&12,\"令和\"&Y$36&\"年\"&12)))))))","v":"令和年12"},{"$f":"IF(OR(Z90=\"\",AB$41=4),\"\",IF(AND(AA$36>=1,AA$36<=4,Y$36=31),\"平成\"&30&\"年\"&12,IF(AND(AA$36=5,Y$36=\"元\"),\"平成\"&30&\"年\"&12,IF(AND(AA$36>=6,Y$36=\"元\"),\"令和元年\"&12,IF(AND(AA$36>=1,AA$36<=5,Y$36=2),\"令和元年\"&12,(IF((AND(AA$36>=1,AA$36<=5)),\"令和\"&Y$36-1&\"年\"&12,\"令和\"&Y$36&\"年\"&12)))))))","v":"令和年12"},null,null,null,{"$f":"IF(OR(AE90=\"\",AE$41=1),\"\",12)","v":12},{"$f":"IF(OR(AF90=\"\",AH$41=4),\"\",IF(AND(AG$36>=1,AG$36<=4,AE$36=31),\"平成\"&30&\"年\"&12,IF(AND(AG$36=5,AE$36=\"元\"),\"平成\"&30&\"年\"&12,IF(AND(AG$36>=6,AE$36=\"元\"),\"令和元年\"&12,IF(AND(AG$36>=1,AG$36<=5,AE$36=2),\"令和元年\"&12,(IF((AND(AG$36>=1,AG$36<=5)),\"令和\"&AE$36-1&\"年\"&12,\"令和\"&AE$36&\"年\"&12)))))))","v":"令和年12"},{"$f":"IF(OR(AF90=\"\",AH$41=4),\"\",IF(AND(AG$36>=1,AG$36<=4,AE$36=31),\"平成\"&30&\"年\"&12,IF(AND(AG$36=5,AE$36=\"元\"),\"平成\"&30&\"年\"&12,IF(AND(AG$36>=6,AE$36=\"元\"),\"令和元年\"&12,IF(AND(AG$36>=1,AG$36<=5,AE$36=2),\"令和元年\"&12,(IF((AND(AG$36>=1,AG$36<=5)),\"令和\"&AE$36-1&\"年\"&12,\"令和\"&AE$36&\"年\"&12)))))))","v":"令和年12"},null,null,null,{"$f":"IF(OR(AK90=\"\",AK$41=1),\"\",12)","v":12},{"$f":"IF(OR(AL90=\"\",AN$41=4),\"\",IF(AND(AM$36>=1,AM$36<=4,AK$36=31),\"平成\"&30&\"年\"&12,IF(AND(AM$36=5,AK$36=\"元\"),\"平成\"&30&\"年\"&12,IF(AND(AM$36>=6,AK$36=\"元\"),\"令和元年\"&12,IF(AND(AM$36>=1,AM$36<=5,AK$36=2),\"令和元年\"&12,(IF((AND(AM$36>=1,AM$36<=5)),\"令和\"&AK$36-1&\"年\"&12,\"令和\"&AK$36&\"年\"&12)))))))","v":"令和年12"},{"$f":"IF(OR(AL90=\"\",AN$41=4),\"\",IF(AND(AM$36>=1,AM$36<=4,AK$36=31),\"平成\"&30&\"年\"&12,IF(AND(AM$36=5,AK$36=\"元\"),\"平成\"&30&\"年\"&12,IF(AND(AM$36>=6,AK$36=\"元\"),\"令和元年\"&12,IF(AND(AM$36>=1,AM$36<=5,AK$36=2),\"令和元年\"&12,(IF((AND(AM$36>=1,AM$36<=5)),\"令和\"&AK$36-1&\"年\"&12,\"令和\"&AK$36&\"年\"&12)))))))","v":"令和年12"},null,null,null,{"$f":"IF(OR(AQ90=\"\",AQ$41=1),\"\",12)","v":12},{"$f":"IF(OR(AR90=\"\",AT$41=4),\"\",IF(AND(AS$36>=1,AS$36<=4,AQ$36=31),\"平成\"&30&\"年\"&12,IF(AND(AS$36=5,AQ$36=\"元\"),\"平成\"&30&\"年\"&12,IF(AND(AS$36>=6,AQ$36=\"元\"),\"令和元年\"&12,IF(AND(AS$36>=1,AS$36<=5,AQ$36=2),\"令和元年\"&12,(IF((AND(AS$36>=1,AS$36<=5)),\"令和\"&AQ$36-1&\"年\"&12,\"令和\"&AQ$36&\"年\"&12)))))))","v":"令和年12"},{"$f":"IF(OR(AR90=\"\",AT$41=4),\"\",IF(AND(AS$36>=1,AS$36<=4,AQ$36=31),\"平成\"&30&\"年\"&12,IF(AND(AS$36=5,AQ$36=\"元\"),\"平成\"&30&\"年\"&12,IF(AND(AS$36>=6,AQ$36=\"元\"),\"令和元年\"&12,IF(AND(AS$36>=1,AS$36<=5,AQ$36=2),\"令和元年\"&12,(IF((AND(AS$36>=1,AS$36<=5)),\"令和\"&AQ$36-1&\"年\"&12,\"令和\"&AQ$36&\"年\"&12)))))))","v":"令和年12"},null,null,null,{"$f":"IF(OR(AW90=\"\",AW$41=1),\"\",12)","v":12},{"$f":"IF(OR(AX90=\"\",AZ$41=4),\"\",IF(AND(AY$36>=1,AY$36<=4,AW$36=31),\"平成\"&30&\"年\"&12,IF(AND(AY$36=5,AW$36=\"元\"),\"平成\"&30&\"年\"&12,IF(AND(AY$36>=6,AW$36=\"元\"),\"令和元年\"&12,IF(AND(AY$36>=1,AY$36<=5,AW$36=2),\"令和元年\"&12,(IF((AND(AY$36>=1,AY$36<=5)),\"令和\"&AW$36-1&\"年\"&12,\"令和\"&AW$36&\"年\"&12)))))))","v":"令和年12"},{"$f":"IF(OR(AX90=\"\",AZ$41=4),\"\",IF(AND(AY$36>=1,AY$36<=4,AW$36=31),\"平成\"&30&\"年\"&12,IF(AND(AY$36=5,AW$36=\"元\"),\"平成\"&30&\"年\"&12,IF(AND(AY$36>=6,AW$36=\"元\"),\"令和元年\"&12,IF(AND(AY$36>=1,AY$36<=5,AW$36=2),\"令和元年\"&12,(IF((AND(AY$36>=1,AY$36<=5)),\"令和\"&AW$36-1&\"年\"&12,\"令和\"&AW$36&\"年\"&12)))))))","v":"令和年12"},null,null,null,{"$f":"IF(OR(BC90=\"\",BC$41=1),\"\",12)","v":12},{"$f":"IF(OR(BD90=\"\",BF$41=4),\"\",IF(AND(BE$36>=1,BE$36<=4,BC$36=31),\"平成\"&30&\"年\"&12,IF(AND(BE$36=5,BC$36=\"元\"),\"平成\"&30&\"年\"&12,IF(AND(BE$36>=6,BC$36=\"元\"),\"令和元年\"&12,IF(AND(BE$36>=1,BE$36<=5,BC$36=2),\"令和元年\"&12,(IF((AND(BE$36>=1,BE$36<=5)),\"令和\"&BC$36-1&\"年\"&12,\"令和\"&BC$36&\"年\"&12)))))))","v":"令和年12"},{"$f":"IF(OR(BD90=\"\",BF$41=4),\"\",IF(AND(BE$36>=1,BE$36<=4,BC$36=31),\"平成\"&30&\"年\"&12,IF(AND(BE$36=5,BC$36=\"元\"),\"平成\"&30&\"年\"&12,IF(AND(BE$36>=6,BC$36=\"元\"),\"令和元年\"&12,IF(AND(BE$36>=1,BE$36<=5,BC$36=2),\"令和元年\"&12,(IF((AND(BE$36>=1,BE$36<=5)),\"令和\"&BC$36-1&\"年\"&12,\"令和\"&BC$36&\"年\"&12)))))))","v":"令和年12"},null,null,null,{"$f":"IF(OR(BI90=\"\",BI$41=1),\"\",12)","v":12},{"$f":"IF(OR(BJ90=\"\",BL$41=4),\"\",IF(AND(BK$36>=1,BK$36<=4,BI$36=31),\"平成\"&30&\"年\"&12,IF(AND(BK$36=5,BI$36=\"元\"),\"平成\"&30&\"年\"&12,IF(AND(BK$36>=6,BI$36=\"元\"),\"令和元年\"&12,IF(AND(BK$36>=1,BK$36<=5,BI$36=2),\"令和元年\"&12,(IF((AND(BK$36>=1,BK$36<=5)),\"令和\"&BI$36-1&\"年\"&12,\"令和\"&BI$36&\"年\"&12)))))))","v":"令和年12"},{"$f":"IF(OR(BJ90=\"\",BL$41=4),\"\",IF(AND(BK$36>=1,BK$36<=4,BI$36=31),\"平成\"&30&\"年\"&12,IF(AND(BK$36=5,BI$36=\"元\"),\"平成\"&30&\"年\"&12,IF(AND(BK$36>=6,BI$36=\"元\"),\"令和元年\"&12,IF(AND(BK$36>=1,BK$36<=5,BI$36=2),\"令和元年\"&12,(IF((AND(BK$36>=1,BK$36<=5)),\"令和\"&BI$36-1&\"年\"&12,\"令和\"&BI$36&\"年\"&12)))))))","v":"令和年12"},null,null,null,{"$f":"IF(OR(BO90=\"\",BO$41=1),\"\",12)","v":12},{"$f":"IF(OR(BP90=\"\",BR$41=4),\"\",IF(AND(BQ$36>=1,BQ$36<=4,BO$36=31),\"平成\"&30&\"年\"&12,IF(AND(BQ$36=5,BO$36=\"元\"),\"平成\"&30&\"年\"&12,IF(AND(BQ$36>=6,BO$36=\"元\"),\"令和元年\"&12,IF(AND(BQ$36>=1,BQ$36<=5,BO$36=2),\"令和元年\"&12,(IF((AND(BQ$36>=1,BQ$36<=5)),\"令和\"&BO$36-1&\"年\"&12,\"令和\"&BO$36&\"年\"&12)))))))","v":"令和年12"},{"$f":"IF(OR(BP90=\"\",BR$41=4),\"\",IF(AND(BQ$36>=1,BQ$36<=4,BO$36=31),\"平成\"&30&\"年\"&12,IF(AND(BQ$36=5,BO$36=\"元\"),\"平成\"&30&\"年\"&12,IF(AND(BQ$36>=6,BO$36=\"元\"),\"令和元年\"&12,IF(AND(BQ$36>=1,BQ$36<=5,BO$36=2),\"令和元年\"&12,(IF((AND(BQ$36>=1,BQ$36<=5)),\"令和\"&BO$36-1&\"年\"&12,\"令和\"&BO$36&\"年\"&12)))))))","v":"令和年12"},null,null,null,{"$f":"IF(OR(BU90=\"\",BU$41=1),\"\",12)","v":12},{"$f":"IF(OR(BV90=\"\",BX$41=4),\"\",IF(AND(BW$36>=1,BW$36<=4,BU$36=31),\"平成\"&30&\"年\"&12,IF(AND(BW$36=5,BU$36=\"元\"),\"平成\"&30&\"年\"&12,IF(AND(BW$36>=6,BU$36=\"元\"),\"令和元年\"&12,IF(AND(BW$36>=1,BW$36<=5,BU$36=2),\"令和元年\"&12,(IF((AND(BW$36>=1,BW$36<=5)),\"令和\"&BU$36-1&\"年\"&12,\"令和\"&BU$36&\"年\"&12)))))))","v":"令和年12"},{"$f":"IF(OR(BV90=\"\",BX$41=4),\"\",IF(AND(BW$36>=1,BW$36<=4,BU$36=31),\"平成\"&30&\"年\"&12,IF(AND(BW$36=5,BU$36=\"元\"),\"平成\"&30&\"年\"&12,IF(AND(BW$36>=6,BU$36=\"元\"),\"令和元年\"&12,IF(AND(BW$36>=1,BW$36<=5,BU$36=2),\"令和元年\"&12,(IF((AND(BW$36>=1,BW$36<=5)),\"令和\"&BU$36-1&\"年\"&12,\"令和\"&BU$36&\"年\"&12)))))))","v":"令和年12"},null,null,null,{"$f":"IF(OR(CA90=\"\",CA$41=1),\"\",12)","v":12},{"$f":"IF(OR(CB90=\"\",CD$41=4),\"\",IF(AND(CC$36>=1,CC$36<=4,CA$36=31),\"平成\"&30&\"年\"&12,IF(AND(CC$36=5,CA$36=\"元\"),\"平成\"&30&\"年\"&12,IF(AND(CC$36>=6,CA$36=\"元\"),\"令和元年\"&12,IF(AND(CC$36>=1,CC$36<=5,CA$36=2),\"令和元年\"&12,(IF((AND(CC$36>=1,CC$36<=5)),\"令和\"&CA$36-1&\"年\"&12,\"令和\"&CA$36&\"年\"&12)))))))","v":"令和年12"},{"$f":"IF(OR(CB90=\"\",CD$41=4),\"\",IF(AND(CC$36>=1,CC$36<=4,CA$36=31),\"平成\"&30&\"年\"&12,IF(AND(CC$36=5,CA$36=\"元\"),\"平成\"&30&\"年\"&12,IF(AND(CC$36>=6,CA$36=\"元\"),\"令和元年\"&12,IF(AND(CC$36>=1,CC$36<=5,CA$36=2),\"令和元年\"&12,(IF((AND(CC$36>=1,CC$36<=5)),\"令和\"&CA$36-1&\"年\"&12,\"令和\"&CA$36&\"年\"&12)))))))","v":"令和年12"},null,null,null,{"$f":"IF(OR(CG90=\"\",CG$41=1),\"\",12)","v":12},{"$f":"IF(OR(CH90=\"\",CJ$41=4),\"\",IF(AND(CI$36>=1,CI$36<=4,CG$36=31),\"平成\"&30&\"年\"&12,IF(AND(CI$36=5,CG$36=\"元\"),\"平成\"&30&\"年\"&12,IF(AND(CI$36>=6,CG$36=\"元\"),\"令和元年\"&12,IF(AND(CI$36>=1,CI$36<=5,CG$36=2),\"令和元年\"&12,(IF((AND(CI$36>=1,CI$36<=5)),\"令和\"&CG$36-1&\"年\"&12,\"令和\"&CG$36&\"年\"&12)))))))","v":"令和年12"},{"$f":"IF(OR(CH90=\"\",CJ$41=4),\"\",IF(AND(CI$36>=1,CI$36<=4,CG$36=31),\"平成\"&30&\"年\"&12,IF(AND(CI$36=5,CG$36=\"元\"),\"平成\"&30&\"年\"&12,IF(AND(CI$36>=6,CG$36=\"元\"),\"令和元年\"&12,IF(AND(CI$36>=1,CI$36<=5,CG$36=2),\"令和元年\"&12,(IF((AND(CI$36>=1,CI$36<=5)),\"令和\"&CG$36-1&\"年\"&12,\"令和\"&CG$36&\"年\"&12)))))))","v":"令和年12"},null,null,null,{"$f":"IF(OR(CM90=\"\",CM$41=1),\"\",12)","v":12},{"$f":"IF(OR(CN90=\"\",CP$41=4),\"\",IF(AND(CO$36>=1,CO$36<=4,CM$36=31),\"平成\"&30&\"年\"&12,IF(AND(CO$36=5,CM$36=\"元\"),\"平成\"&30&\"年\"&12,IF(AND(CO$36>=6,CM$36=\"元\"),\"令和元年\"&12,IF(AND(CO$36>=1,CO$36<=5,CM$36=2),\"令和元年\"&12,(IF((AND(CO$36>=1,CO$36<=5)),\"令和\"&CM$36-1&\"年\"&12,\"令和\"&CM$36&\"年\"&12)))))))","v":"令和年12"},{"$f":"IF(OR(CN90=\"\",CP$41=4),\"\",IF(AND(CO$36>=1,CO$36<=4,CM$36=31),\"平成\"&30&\"年\"&12,IF(AND(CO$36=5,CM$36=\"元\"),\"平成\"&30&\"年\"&12,IF(AND(CO$36>=6,CM$36=\"元\"),\"令和元年\"&12,IF(AND(CO$36>=1,CO$36<=5,CM$36=2),\"令和元年\"&12,(IF((AND(CO$36>=1,CO$36<=5)),\"令和\"&CM$36-1&\"年\"&12,\"令和\"&CM$36&\"年\"&12)))))))","v":"令和年12"},null,null,null,{"$f":"IF(OR(CS90=\"\",CS$41=1),\"\",12)","v":12},{"$f":"IF(OR(CT90=\"\",CV$41=4),\"\",IF(AND(CU$36>=1,CU$36<=4,CS$36=31),\"平成\"&30&\"年\"&12,IF(AND(CU$36=5,CS$36=\"元\"),\"平成\"&30&\"年\"&12,IF(AND(CU$36>=6,CS$36=\"元\"),\"令和元年\"&12,IF(AND(CU$36>=1,CU$36<=5,CS$36=2),\"令和元年\"&12,(IF((AND(CU$36>=1,CU$36<=5)),\"令和\"&CS$36-1&\"年\"&12,\"令和\"&CS$36&\"年\"&12)))))))","v":"令和年12"},{"$f":"IF(OR(CT90=\"\",CV$41=4),\"\",IF(AND(CU$36>=1,CU$36<=4,CS$36=31),\"平成\"&30&\"年\"&12,IF(AND(CU$36=5,CS$36=\"元\"),\"平成\"&30&\"年\"&12,IF(AND(CU$36>=6,CS$36=\"元\"),\"令和元年\"&12,IF(AND(CU$36>=1,CU$36<=5,CS$36=2),\"令和元年\"&12,(IF((AND(CU$36>=1,CU$36<=5)),\"令和\"&CS$36-1&\"年\"&12,\"令和\"&CS$36&\"年\"&12)))))))","v":"令和年12"},null,null,null,{"$f":"IF(OR(CY90=\"\",CY$41=1),\"\",12)","v":12},{"$f":"IF(OR(CZ90=\"\",DB$41=4),\"\",IF(AND(DA$36>=1,DA$36<=4,CY$36=31),\"平成\"&30&\"年\"&12,IF(AND(DA$36=5,CY$36=\"元\"),\"平成\"&30&\"年\"&12,IF(AND(DA$36>=6,CY$36=\"元\"),\"令和元年\"&12,IF(AND(DA$36>=1,DA$36<=5,CY$36=2),\"令和元年\"&12,(IF((AND(DA$36>=1,DA$36<=5)),\"令和\"&CY$36-1&\"年\"&12,\"令和\"&CY$36&\"年\"&12)))))))","v":"令和年12"},{"$f":"IF(OR(CZ90=\"\",DB$41=4),\"\",IF(AND(DA$36>=1,DA$36<=4,CY$36=31),\"平成\"&30&\"年\"&12,IF(AND(DA$36=5,CY$36=\"元\"),\"平成\"&30&\"年\"&12,IF(AND(DA$36>=6,CY$36=\"元\"),\"令和元年\"&12,IF(AND(DA$36>=1,DA$36<=5,CY$36=2),\"令和元年\"&12,(IF((AND(DA$36>=1,DA$36<=5)),\"令和\"&CY$36-1&\"年\"&12,\"令和\"&CY$36&\"年\"&12)))))))","v":"令和年12"},null,null,null,{"$f":"IF(OR(DE90=\"\",DE$41=1),\"\",12)","v":12},{"$f":"IF(OR(DF90=\"\",DH$41=4),\"\",IF(AND(DG$36>=1,DG$36<=4,DE$36=31),\"平成\"&30&\"年\"&12,IF(AND(DG$36=5,DE$36=\"元\"),\"平成\"&30&\"年\"&12,IF(AND(DG$36>=6,DE$36=\"元\"),\"令和元年\"&12,IF(AND(DG$36>=1,DG$36<=5,DE$36=2),\"令和元年\"&12,(IF((AND(DG$36>=1,DG$36<=5)),\"令和\"&DE$36-1&\"年\"&12,\"令和\"&DE$36&\"年\"&12)))))))","v":"令和年12"},{"$f":"IF(OR(DF90=\"\",DH$41=4),\"\",IF(AND(DG$36>=1,DG$36<=4,DE$36=31),\"平成\"&30&\"年\"&12,IF(AND(DG$36=5,DE$36=\"元\"),\"平成\"&30&\"年\"&12,IF(AND(DG$36>=6,DE$36=\"元\"),\"令和元年\"&12,IF(AND(DG$36>=1,DG$36<=5,DE$36=2),\"令和元年\"&12,(IF((AND(DG$36>=1,DG$36<=5)),\"令和\"&DE$36-1&\"年\"&12,\"令和\"&DE$36&\"年\"&12)))))))","v":"令和年12"},null,null,null,{"$f":"IF(OR(DK90=\"\",DK$41=1),\"\",12)","v":12},{"$f":"IF(OR(DL90=\"\",DN$41=4),\"\",IF(AND(DM$36>=1,DM$36<=4,DK$36=31),\"平成\"&30&\"年\"&12,IF(AND(DM$36=5,DK$36=\"元\"),\"平成\"&30&\"年\"&12,IF(AND(DM$36>=6,DK$36=\"元\"),\"令和元年\"&12,IF(AND(DM$36>=1,DM$36<=5,DK$36=2),\"令和元年\"&12,(IF((AND(DM$36>=1,DM$36<=5)),\"令和\"&DK$36-1&\"年\"&12,\"令和\"&DK$36&\"年\"&12)))))))","v":"令和年12"},{"$f":"IF(OR(DL90=\"\",DN$41=4),\"\",IF(AND(DM$36>=1,DM$36<=4,DK$36=31),\"平成\"&30&\"年\"&12,IF(AND(DM$36=5,DK$36=\"元\"),\"平成\"&30&\"年\"&12,IF(AND(DM$36>=6,DK$36=\"元\"),\"令和元年\"&12,IF(AND(DM$36>=1,DM$36<=5,DK$36=2),\"令和元年\"&12,(IF((AND(DM$36>=1,DM$36<=5)),\"令和\"&DK$36-1&\"年\"&12,\"令和\"&DK$36&\"年\"&12)))))))","v":"令和年12"},null,null,null,{"$f":"IF(OR(DQ90=\"\",DQ$41=1),\"\",12)","v":12},{"$f":"IF(OR(DR90=\"\",DT$41=4),\"\",IF(AND(DS$36>=1,DS$36<=4,DQ$36=31),\"平成\"&30&\"年\"&12,IF(AND(DS$36=5,DQ$36=\"元\"),\"平成\"&30&\"年\"&12,IF(AND(DS$36>=6,DQ$36=\"元\"),\"令和元年\"&12,IF(AND(DS$36>=1,DS$36<=5,DQ$36=2),\"令和元年\"&12,(IF((AND(DS$36>=1,DS$36<=5)),\"令和\"&DQ$36-1&\"年\"&12,\"令和\"&DQ$36&\"年\"&12)))))))","v":"令和年12"},{"$f":"IF(OR(DR90=\"\",DT$41=4),\"\",IF(AND(DS$36>=1,DS$36<=4,DQ$36=31),\"平成\"&30&\"年\"&12,IF(AND(DS$36=5,DQ$36=\"元\"),\"平成\"&30&\"年\"&12,IF(AND(DS$36>=6,DQ$36=\"元\"),\"令和元年\"&12,IF(AND(DS$36>=1,DS$36<=5,DQ$36=2),\"令和元年\"&12,(IF((AND(DS$36>=1,DS$36<=5)),\"令和\"&DQ$36-1&\"年\"&12,\"令和\"&DQ$36&\"年\"&12)))))))","v":"令和年12"},null,null,null,{"$f":"IF(OR(DW90=\"\",DW$41=1),\"\",12)","v":12},{"$f":"IF(OR(DX90=\"\",DZ$41=4),\"\",IF(AND(DY$36>=1,DY$36<=4,DW$36=31),\"平成\"&30&\"年\"&12,IF(AND(DY$36=5,DW$36=\"元\"),\"平成\"&30&\"年\"&12,IF(AND(DY$36>=6,DW$36=\"元\"),\"令和元年\"&12,IF(AND(DY$36>=1,DY$36<=5,DW$36=2),\"令和元年\"&12,(IF((AND(DY$36>=1,DY$36<=5)),\"令和\"&DW$36-1&\"年\"&12,\"令和\"&DW$36&\"年\"&12)))))))","v":"令和年12"},{"$f":"IF(OR(DX90=\"\",DZ$41=4),\"\",IF(AND(DY$36>=1,DY$36<=4,DW$36=31),\"平成\"&30&\"年\"&12,IF(AND(DY$36=5,DW$36=\"元\"),\"平成\"&30&\"年\"&12,IF(AND(DY$36>=6,DW$36=\"元\"),\"令和元年\"&12,IF(AND(DY$36>=1,DY$36<=5,DW$36=2),\"令和元年\"&12,(IF((AND(DY$36>=1,DY$36<=5)),\"令和\"&DW$36-1&\"年\"&12,\"令和\"&DW$36&\"年\"&12)))))))","v":"令和年12"},null,null,null,{"$f":"IF(OR(EC90=\"\",EC$41=1),\"\",12)","v":12},{"$f":"IF(OR(ED90=\"\",EF$41=4),\"\",IF(AND(EE$36>=1,EE$36<=4,EC$36=31),\"平成\"&30&\"年\"&12,IF(AND(EE$36=5,EC$36=\"元\"),\"平成\"&30&\"年\"&12,IF(AND(EE$36>=6,EC$36=\"元\"),\"令和元年\"&12,IF(AND(EE$36>=1,EE$36<=5,EC$36=2),\"令和元年\"&12,(IF((AND(EE$36>=1,EE$36<=5)),\"令和\"&EC$36-1&\"年\"&12,\"令和\"&EC$36&\"年\"&12)))))))","v":"令和年12"},{"$f":"IF(OR(ED90=\"\",EF$41=4),\"\",IF(AND(EE$36>=1,EE$36<=4,EC$36=31),\"平成\"&30&\"年\"&12,IF(AND(EE$36=5,EC$36=\"元\"),\"平成\"&30&\"年\"&12,IF(AND(EE$36>=6,EC$36=\"元\"),\"令和元年\"&12,IF(AND(EE$36>=1,EE$36<=5,EC$36=2),\"令和元年\"&12,(IF((AND(EE$36>=1,EE$36<=5)),\"令和\"&EC$36-1&\"年\"&12,\"令和\"&EC$36&\"年\"&12)))))))","v":"令和年12"},null,null,null,{"$f":"IF(OR(EI90=\"\",EI$41=1),\"\",12)","v":12},{"$f":"IF(OR(EJ90=\"\",EL$41=4),\"\",IF(AND(EK$36>=1,EK$36<=4,EI$36=31),\"平成\"&30&\"年\"&12,IF(AND(EK$36=5,EI$36=\"元\"),\"平成\"&30&\"年\"&12,IF(AND(EK$36>=6,EI$36=\"元\"),\"令和元年\"&12,IF(AND(EK$36>=1,EK$36<=5,EI$36=2),\"令和元年\"&12,(IF((AND(EK$36>=1,EK$36<=5)),\"令和\"&EI$36-1&\"年\"&12,\"令和\"&EI$36&\"年\"&12)))))))","v":"令和年12"},{"$f":"IF(OR(EJ90=\"\",EL$41=4),\"\",IF(AND(EK$36>=1,EK$36<=4,EI$36=31),\"平成\"&30&\"年\"&12,IF(AND(EK$36=5,EI$36=\"元\"),\"平成\"&30&\"年\"&12,IF(AND(EK$36>=6,EI$36=\"元\"),\"令和元年\"&12,IF(AND(EK$36>=1,EK$36<=5,EI$36=2),\"令和元年\"&12,(IF((AND(EK$36>=1,EK$36<=5)),\"令和\"&EI$36-1&\"年\"&12,\"令和\"&EI$36&\"年\"&12)))))))","v":"令和年12"},null,null,null,{"$f":"IF(OR(EO90=\"\",EO$41=1),\"\",12)","v":12},{"$f":"IF(OR(EP90=\"\",ER$41=4),\"\",IF(AND(EQ$36>=1,EQ$36<=4,EO$36=31),\"平成\"&30&\"年\"&12,IF(AND(EQ$36=5,EO$36=\"元\"),\"平成\"&30&\"年\"&12,IF(AND(EQ$36>=6,EO$36=\"元\"),\"令和元年\"&12,IF(AND(EQ$36>=1,EQ$36<=5,EO$36=2),\"令和元年\"&12,(IF((AND(EQ$36>=1,EQ$36<=5)),\"令和\"&EO$36-1&\"年\"&12,\"令和\"&EO$36&\"年\"&12)))))))","v":"令和年12"},{"$f":"IF(OR(EP90=\"\",ER$41=4),\"\",IF(AND(EQ$36>=1,EQ$36<=4,EO$36=31),\"平成\"&30&\"年\"&12,IF(AND(EQ$36=5,EO$36=\"元\"),\"平成\"&30&\"年\"&12,IF(AND(EQ$36>=6,EO$36=\"元\"),\"令和元年\"&12,IF(AND(EQ$36>=1,EQ$36<=5,EO$36=2),\"令和元年\"&12,(IF((AND(EQ$36>=1,EQ$36<=5)),\"令和\"&EO$36-1&\"年\"&12,\"令和\"&EO$36&\"年\"&12)))))))","v":"令和年12"},null,null,null,{"$f":"IF(OR(EU90=\"\",EU$41=1),\"\",12)","v":12},{"$f":"IF(OR(EV90=\"\",EX$41=4),\"\",IF(AND(EW$36>=1,EW$36<=4,EU$36=31),\"平成\"&30&\"年\"&12,IF(AND(EW$36=5,EU$36=\"元\"),\"平成\"&30&\"年\"&12,IF(AND(EW$36>=6,EU$36=\"元\"),\"令和元年\"&12,IF(AND(EW$36>=1,EW$36<=5,EU$36=2),\"令和元年\"&12,(IF((AND(EW$36>=1,EW$36<=5)),\"令和\"&EU$36-1&\"年\"&12,\"令和\"&EU$36&\"年\"&12)))))))","v":"令和年12"},{"$f":"IF(OR(EV90=\"\",EX$41=4),\"\",IF(AND(EW$36>=1,EW$36<=4,EU$36=31),\"平成\"&30&\"年\"&12,IF(AND(EW$36=5,EU$36=\"元\"),\"平成\"&30&\"年\"&12,IF(AND(EW$36>=6,EU$36=\"元\"),\"令和元年\"&12,IF(AND(EW$36>=1,EW$36<=5,EU$36=2),\"令和元年\"&12,(IF((AND(EW$36>=1,EW$36<=5)),\"令和\"&EU$36-1&\"年\"&12,\"令和\"&EU$36&\"年\"&12)))))))","v":"令和年12"},null,null,null,{"$f":"IF(OR(FA90=\"\",FA$41=1),\"\",12)","v":12},{"$f":"IF(OR(FB90=\"\",FD$41=4),\"\",IF(AND(FC$36>=1,FC$36<=4,FA$36=31),\"平成\"&30&\"年\"&12,IF(AND(FC$36=5,FA$36=\"元\"),\"平成\"&30&\"年\"&12,IF(AND(FC$36>=6,FA$36=\"元\"),\"令和元年\"&12,IF(AND(FC$36>=1,FC$36<=5,FA$36=2),\"令和元年\"&12,(IF((AND(FC$36>=1,FC$36<=5)),\"令和\"&FA$36-1&\"年\"&12,\"令和\"&FA$36&\"年\"&12)))))))","v":"令和年12"},{"$f":"IF(OR(FB90=\"\",FD$41=4),\"\",IF(AND(FC$36>=1,FC$36<=4,FA$36=31),\"平成\"&30&\"年\"&12,IF(AND(FC$36=5,FA$36=\"元\"),\"平成\"&30&\"年\"&12,IF(AND(FC$36>=6,FA$36=\"元\"),\"令和元年\"&12,IF(AND(FC$36>=1,FC$36<=5,FA$36=2),\"令和元年\"&12,(IF((AND(FC$36>=1,FC$36<=5)),\"令和\"&FA$36-1&\"年\"&12,\"令和\"&FA$36&\"年\"&12)))))))","v":"令和年12"},null,null,null,{"$f":"IF(OR(FG90=\"\",FG$41=1),\"\",12)","v":12},{"$f":"IF(OR(FH90=\"\",FJ$41=4),\"\",IF(AND(FI$36>=1,FI$36<=4,FG$36=31),\"平成\"&30&\"年\"&12,IF(AND(FI$36=5,FG$36=\"元\"),\"平成\"&30&\"年\"&12,IF(AND(FI$36>=6,FG$36=\"元\"),\"令和元年\"&12,IF(AND(FI$36>=1,FI$36<=5,FG$36=2),\"令和元年\"&12,(IF((AND(FI$36>=1,FI$36<=5)),\"令和\"&FG$36-1&\"年\"&12,\"令和\"&FG$36&\"年\"&12)))))))","v":"令和年12"},{"$f":"IF(OR(FH90=\"\",FJ$41=4),\"\",IF(AND(FI$36>=1,FI$36<=4,FG$36=31),\"平成\"&30&\"年\"&12,IF(AND(FI$36=5,FG$36=\"元\"),\"平成\"&30&\"年\"&12,IF(AND(FI$36>=6,FG$36=\"元\"),\"令和元年\"&12,IF(AND(FI$36>=1,FI$36<=5,FG$36=2),\"令和元年\"&12,(IF((AND(FI$36>=1,FI$36<=5)),\"令和\"&FG$36-1&\"年\"&12,\"令和\"&FG$36&\"年\"&12)))))))","v":"令和年12"},null,null,null,{"$f":"IF(OR(FM90=\"\",FM$41=1),\"\",12)","v":12},{"$f":"IF(OR(FN90=\"\",FP$41=4),\"\",IF(AND(FO$36>=1,FO$36<=4,FM$36=31),\"平成\"&30&\"年\"&12,IF(AND(FO$36=5,FM$36=\"元\"),\"平成\"&30&\"年\"&12,IF(AND(FO$36>=6,FM$36=\"元\"),\"令和元年\"&12,IF(AND(FO$36>=1,FO$36<=5,FM$36=2),\"令和元年\"&12,(IF((AND(FO$36>=1,FO$36<=5)),\"令和\"&FM$36-1&\"年\"&12,\"令和\"&FM$36&\"年\"&12)))))))","v":"令和年12"},{"$f":"IF(OR(FN90=\"\",FP$41=4),\"\",IF(AND(FO$36>=1,FO$36<=4,FM$36=31),\"平成\"&30&\"年\"&12,IF(AND(FO$36=5,FM$36=\"元\"),\"平成\"&30&\"年\"&12,IF(AND(FO$36>=6,FM$36=\"元\"),\"令和元年\"&12,IF(AND(FO$36>=1,FO$36<=5,FM$36=2),\"令和元年\"&12,(IF((AND(FO$36>=1,FO$36<=5)),\"令和\"&FM$36-1&\"年\"&12,\"令和\"&FM$36&\"年\"&12)))))))","v":"令和年12"},null,null,null,{"$f":"IF(OR(FS90=\"\",FS$41=1),\"\",12)","v":12},{"$f":"IF(OR(FT90=\"\",FV$41=4),\"\",IF(AND(FU$36>=1,FU$36<=4,FS$36=31),\"平成\"&30&\"年\"&12,IF(AND(FU$36=5,FS$36=\"元\"),\"平成\"&30&\"年\"&12,IF(AND(FU$36>=6,FS$36=\"元\"),\"令和元年\"&12,IF(AND(FU$36>=1,FU$36<=5,FS$36=2),\"令和元年\"&12,(IF((AND(FU$36>=1,FU$36<=5)),\"令和\"&FS$36-1&\"年\"&12,\"令和\"&FS$36&\"年\"&12)))))))","v":"令和年12"},{"$f":"IF(OR(FT90=\"\",FV$41=4),\"\",IF(AND(FU$36>=1,FU$36<=4,FS$36=31),\"平成\"&30&\"年\"&12,IF(AND(FU$36=5,FS$36=\"元\"),\"平成\"&30&\"年\"&12,IF(AND(FU$36>=6,FS$36=\"元\"),\"令和元年\"&12,IF(AND(FU$36>=1,FU$36<=5,FS$36=2),\"令和元年\"&12,(IF((AND(FU$36>=1,FU$36<=5)),\"令和\"&FS$36-1&\"年\"&12,\"令和\"&FS$36&\"年\"&12)))))))","v":"令和年12"},null,null,null,{"$f":"IF(OR(FY90=\"\",FY$41=1),\"\",12)","v":12},{"$f":"IF(OR(FZ90=\"\",GB$41=4),\"\",IF(AND(GA$36>=1,GA$36<=4,FY$36=31),\"平成\"&30&\"年\"&12,IF(AND(GA$36=5,FY$36=\"元\"),\"平成\"&30&\"年\"&12,IF(AND(GA$36>=6,FY$36=\"元\"),\"令和元年\"&12,IF(AND(GA$36>=1,GA$36<=5,FY$36=2),\"令和元年\"&12,(IF((AND(GA$36>=1,GA$36<=5)),\"令和\"&FY$36-1&\"年\"&12,\"令和\"&FY$36&\"年\"&12)))))))","v":"令和年12"},{"$f":"IF(OR(FZ90=\"\",GB$41=4),\"\",IF(AND(GA$36>=1,GA$36<=4,FY$36=31),\"平成\"&30&\"年\"&12,IF(AND(GA$36=5,FY$36=\"元\"),\"平成\"&30&\"年\"&12,IF(AND(GA$36>=6,FY$36=\"元\"),\"令和元年\"&12,IF(AND(GA$36>=1,GA$36<=5,FY$36=2),\"令和元年\"&12,(IF((AND(GA$36>=1,GA$36<=5)),\"令和\"&FY$36-1&\"年\"&12,\"令和\"&FY$36&\"年\"&12)))))))","v":"令和年12"},null,null,null,{"$f":"IF(OR(GE90=\"\",GE$41=1),\"\",12)","v":12},{"$f":"IF(OR(GF90=\"\",GH$41=4),\"\",IF(AND(GG$36>=1,GG$36<=4,GE$36=31),\"平成\"&30&\"年\"&12,IF(AND(GG$36=5,GE$36=\"元\"),\"平成\"&30&\"年\"&12,IF(AND(GG$36>=6,GE$36=\"元\"),\"令和元年\"&12,IF(AND(GG$36>=1,GG$36<=5,GE$36=2),\"令和元年\"&12,(IF((AND(GG$36>=1,GG$36<=5)),\"令和\"&GE$36-1&\"年\"&12,\"令和\"&GE$36&\"年\"&12)))))))","v":"令和年12"},{"$f":"IF(OR(GF90=\"\",GH$41=4),\"\",IF(AND(GG$36>=1,GG$36<=4,GE$36=31),\"平成\"&30&\"年\"&12,IF(AND(GG$36=5,GE$36=\"元\"),\"平成\"&30&\"年\"&12,IF(AND(GG$36>=6,GE$36=\"元\"),\"令和元年\"&12,IF(AND(GG$36>=1,GG$36<=5,GE$36=2),\"令和元年\"&12,(IF((AND(GG$36>=1,GG$36<=5)),\"令和\"&GE$36-1&\"年\"&12,\"令和\"&GE$36&\"年\"&12)))))))","v":"令和年12"},null,null,null,{"$f":"IF(OR(GK90=\"\",GK$41=1),\"\",12)","v":12},{"$f":"IF(OR(GL90=\"\",GN$41=4),\"\",IF(AND(GM$36>=1,GM$36<=4,GK$36=31),\"平成\"&30&\"年\"&12,IF(AND(GM$36=5,GK$36=\"元\"),\"平成\"&30&\"年\"&12,IF(AND(GM$36>=6,GK$36=\"元\"),\"令和元年\"&12,IF(AND(GM$36>=1,GM$36<=5,GK$36=2),\"令和元年\"&12,(IF((AND(GM$36>=1,GM$36<=5)),\"令和\"&GK$36-1&\"年\"&12,\"令和\"&GK$36&\"年\"&12)))))))","v":"令和年12"},{"$f":"IF(OR(GL90=\"\",GN$41=4),\"\",IF(AND(GM$36>=1,GM$36<=4,GK$36=31),\"平成\"&30&\"年\"&12,IF(AND(GM$36=5,GK$36=\"元\"),\"平成\"&30&\"年\"&12,IF(AND(GM$36>=6,GK$36=\"元\"),\"令和元年\"&12,IF(AND(GM$36>=1,GM$36<=5,GK$36=2),\"令和元年\"&12,(IF((AND(GM$36>=1,GM$36<=5)),\"令和\"&GK$36-1&\"年\"&12,\"令和\"&GK$36&\"年\"&12)))))))","v":"令和年12"},null,null,null,{"$f":"IF(OR(GQ90=\"\",GQ$41=1),\"\",12)","v":12},{"$f":"IF(OR(GR90=\"\",GT$41=4),\"\",IF(AND(GS$36>=1,GS$36<=4,GQ$36=31),\"平成\"&30&\"年\"&12,IF(AND(GS$36=5,GQ$36=\"元\"),\"平成\"&30&\"年\"&12,IF(AND(GS$36>=6,GQ$36=\"元\"),\"令和元年\"&12,IF(AND(GS$36>=1,GS$36<=5,GQ$36=2),\"令和元年\"&12,(IF((AND(GS$36>=1,GS$36<=5)),\"令和\"&GQ$36-1&\"年\"&12,\"令和\"&GQ$36&\"年\"&12)))))))","v":"令和年12"},{"$f":"IF(OR(GR90=\"\",GT$41=4),\"\",IF(AND(GS$36>=1,GS$36<=4,GQ$36=31),\"平成\"&30&\"年\"&12,IF(AND(GS$36=5,GQ$36=\"元\"),\"平成\"&30&\"年\"&12,IF(AND(GS$36>=6,GQ$36=\"元\"),\"令和元年\"&12,IF(AND(GS$36>=1,GS$36<=5,GQ$36=2),\"令和元年\"&12,(IF((AND(GS$36>=1,GS$36<=5)),\"令和\"&GQ$36-1&\"年\"&12,\"令和\"&GQ$36&\"年\"&12)))))))","v":"令和年12"},null,null,null,{"$f":"IF(OR(GW90=\"\",GW$41=1),\"\",12)","v":12},{"$f":"IF(OR(GX90=\"\",GZ$41=4),\"\",IF(AND(GY$36>=1,GY$36<=4,GW$36=31),\"平成\"&30&\"年\"&12,IF(AND(GY$36=5,GW$36=\"元\"),\"平成\"&30&\"年\"&12,IF(AND(GY$36>=6,GW$36=\"元\"),\"令和元年\"&12,IF(AND(GY$36>=1,GY$36<=5,GW$36=2),\"令和元年\"&12,(IF((AND(GY$36>=1,GY$36<=5)),\"令和\"&GW$36-1&\"年\"&12,\"令和\"&GW$36&\"年\"&12)))))))","v":"令和年12"},{"$f":"IF(OR(GX90=\"\",GZ$41=4),\"\",IF(AND(GY$36>=1,GY$36<=4,GW$36=31),\"平成\"&30&\"年\"&12,IF(AND(GY$36=5,GW$36=\"元\"),\"平成\"&30&\"年\"&12,IF(AND(GY$36>=6,GW$36=\"元\"),\"令和元年\"&12,IF(AND(GY$36>=1,GY$36<=5,GW$36=2),\"令和元年\"&12,(IF((AND(GY$36>=1,GY$36<=5)),\"令和\"&GW$36-1&\"年\"&12,\"令和\"&GW$36&\"年\"&12)))))))","v":"令和年12"},null,null,null,{"$f":"IF(OR(HC90=\"\",HC$41=1),\"\",12)","v":12},{"$f":"IF(OR(HD90=\"\",HF$41=4),\"\",IF(AND(HE$36>=1,HE$36<=4,HC$36=31),\"平成\"&30&\"年\"&12,IF(AND(HE$36=5,HC$36=\"元\"),\"平成\"&30&\"年\"&12,IF(AND(HE$36>=6,HC$36=\"元\"),\"令和元年\"&12,IF(AND(HE$36>=1,HE$36<=5,HC$36=2),\"令和元年\"&12,(IF((AND(HE$36>=1,HE$36<=5)),\"令和\"&HC$36-1&\"年\"&12,\"令和\"&HC$36&\"年\"&12)))))))","v":"令和年12"},{"$f":"IF(OR(HD90=\"\",HF$41=4),\"\",IF(AND(HE$36>=1,HE$36<=4,HC$36=31),\"平成\"&30&\"年\"&12,IF(AND(HE$36=5,HC$36=\"元\"),\"平成\"&30&\"年\"&12,IF(AND(HE$36>=6,HC$36=\"元\"),\"令和元年\"&12,IF(AND(HE$36>=1,HE$36<=5,HC$36=2),\"令和元年\"&12,(IF((AND(HE$36>=1,HE$36<=5)),\"令和\"&HC$36-1&\"年\"&12,\"令和\"&HC$36&\"年\"&12)))))))","v":"令和年12"},null,null,null,{"$f":"IF(OR(HI90=\"\",HI$41=1),\"\",12)","v":12},{"$f":"IF(OR(HJ90=\"\",HL$41=4),\"\",IF(AND(HK$36>=1,HK$36<=4,HI$36=31),\"平成\"&30&\"年\"&12,IF(AND(HK$36=5,HI$36=\"元\"),\"平成\"&30&\"年\"&12,IF(AND(HK$36>=6,HI$36=\"元\"),\"令和元年\"&12,IF(AND(HK$36>=1,HK$36<=5,HI$36=2),\"令和元年\"&12,(IF((AND(HK$36>=1,HK$36<=5)),\"令和\"&HI$36-1&\"年\"&12,\"令和\"&HI$36&\"年\"&12)))))))","v":"令和年12"},{"$f":"IF(OR(HJ90=\"\",HL$41=4),\"\",IF(AND(HK$36>=1,HK$36<=4,HI$36=31),\"平成\"&30&\"年\"&12,IF(AND(HK$36=5,HI$36=\"元\"),\"平成\"&30&\"年\"&12,IF(AND(HK$36>=6,HI$36=\"元\"),\"令和元年\"&12,IF(AND(HK$36>=1,HK$36<=5,HI$36=2),\"令和元年\"&12,(IF((AND(HK$36>=1,HK$36<=5)),\"令和\"&HI$36-1&\"年\"&12,\"令和\"&HI$36&\"年\"&12)))))))","v":"令和年12"},null,null,null,{"$f":"IF(OR(HO90=\"\",HO$41=1),\"\",12)","v":12},{"$f":"IF(OR(HP90=\"\",HR$41=4),\"\",IF(AND(HQ$36>=1,HQ$36<=4,HO$36=31),\"平成\"&30&\"年\"&12,IF(AND(HQ$36=5,HO$36=\"元\"),\"平成\"&30&\"年\"&12,IF(AND(HQ$36>=6,HO$36=\"元\"),\"令和元年\"&12,IF(AND(HQ$36>=1,HQ$36<=5,HO$36=2),\"令和元年\"&12,(IF((AND(HQ$36>=1,HQ$36<=5)),\"令和\"&HO$36-1&\"年\"&12,\"令和\"&HO$36&\"年\"&12)))))))","v":"令和年12"},{"$f":"IF(OR(HP90=\"\",HR$41=4),\"\",IF(AND(HQ$36>=1,HQ$36<=4,HO$36=31),\"平成\"&30&\"年\"&12,IF(AND(HQ$36=5,HO$36=\"元\"),\"平成\"&30&\"年\"&12,IF(AND(HQ$36>=6,HO$36=\"元\"),\"令和元年\"&12,IF(AND(HQ$36>=1,HQ$36<=5,HO$36=2),\"令和元年\"&12,(IF((AND(HQ$36>=1,HQ$36<=5)),\"令和\"&HO$36-1&\"年\"&12,\"令和\"&HO$36&\"年\"&12)))))))","v":"令和年12"},null,null,null,{"$f":"IF(OR(HU90=\"\",HU$41=1),\"\",12)","v":12},{"$f":"IF(OR(HV90=\"\",HX$41=4),\"\",IF(AND(HW$36>=1,HW$36<=4,HU$36=31),\"平成\"&30&\"年\"&12,IF(AND(HW$36=5,HU$36=\"元\"),\"平成\"&30&\"年\"&12,IF(AND(HW$36>=6,HU$36=\"元\"),\"令和元年\"&12,IF(AND(HW$36>=1,HW$36<=5,HU$36=2),\"令和元年\"&12,(IF((AND(HW$36>=1,HW$36<=5)),\"令和\"&HU$36-1&\"年\"&12,\"令和\"&HU$36&\"年\"&12)))))))","v":"令和年12"},{"$f":"IF(OR(HV90=\"\",HX$41=4),\"\",IF(AND(HW$36>=1,HW$36<=4,HU$36=31),\"平成\"&30&\"年\"&12,IF(AND(HW$36=5,HU$36=\"元\"),\"平成\"&30&\"年\"&12,IF(AND(HW$36>=6,HU$36=\"元\"),\"令和元年\"&12,IF(AND(HW$36>=1,HW$36<=5,HU$36=2),\"令和元年\"&12,(IF((AND(HW$36>=1,HW$36<=5)),\"令和\"&HU$36-1&\"年\"&12,\"令和\"&HU$36&\"年\"&12)))))))","v":"令和年12"},null,null,null,{"$f":"IF(OR(IA90=\"\",IA$41=1),\"\",12)","v":12},{"$f":"IF(OR(IB90=\"\",ID$41=4),\"\",IF(AND(IC$36>=1,IC$36<=4,IA$36=31),\"平成\"&30&\"年\"&12,IF(AND(IC$36=5,IA$36=\"元\"),\"平成\"&30&\"年\"&12,IF(AND(IC$36>=6,IA$36=\"元\"),\"令和元年\"&12,IF(AND(IC$36>=1,IC$36<=5,IA$36=2),\"令和元年\"&12,(IF((AND(IC$36>=1,IC$36<=5)),\"令和\"&IA$36-1&\"年\"&12,\"令和\"&IA$36&\"年\"&12)))))))","v":"令和年12"},{"$f":"IF(OR(IB90=\"\",ID$41=4),\"\",IF(AND(IC$36>=1,IC$36<=4,IA$36=31),\"平成\"&30&\"年\"&12,IF(AND(IC$36=5,IA$36=\"元\"),\"平成\"&30&\"年\"&12,IF(AND(IC$36>=6,IA$36=\"元\"),\"令和元年\"&12,IF(AND(IC$36>=1,IC$36<=5,IA$36=2),\"令和元年\"&12,(IF((AND(IC$36>=1,IC$36<=5)),\"令和\"&IA$36-1&\"年\"&12,\"令和\"&IA$36&\"年\"&12)))))))","v":"令和年12"},null,null,null,{"$f":"IF(OR(IG90=\"\",IG$41=1),\"\",12)","v":12},{"$f":"IF(OR(IH90=\"\",IJ$41=4),\"\",IF(AND(II$36>=1,II$36<=4,IG$36=31),\"平成\"&30&\"年\"&12,IF(AND(II$36=5,IG$36=\"元\"),\"平成\"&30&\"年\"&12,IF(AND(II$36>=6,IG$36=\"元\"),\"令和元年\"&12,IF(AND(II$36>=1,II$36<=5,IG$36=2),\"令和元年\"&12,(IF((AND(II$36>=1,II$36<=5)),\"令和\"&IG$36-1&\"年\"&12,\"令和\"&IG$36&\"年\"&12)))))))","v":"令和年12"},{"$f":"IF(OR(IH90=\"\",IJ$41=4),\"\",IF(AND(II$36>=1,II$36<=4,IG$36=31),\"平成\"&30&\"年\"&12,IF(AND(II$36=5,IG$36=\"元\"),\"平成\"&30&\"年\"&12,IF(AND(II$36>=6,IG$36=\"元\"),\"令和元年\"&12,IF(AND(II$36>=1,II$36<=5,IG$36=2),\"令和元年\"&12,(IF((AND(II$36>=1,II$36<=5)),\"令和\"&IG$36-1&\"年\"&12,\"令和\"&IG$36&\"年\"&12)))))))","v":"令和年12"}]
[null,{"$f":"IF(AND(DE21<>\"\",DE25<>\"\",DG25<>\"\",DI25<>\"\"),DE17,\"\")","v":""},"平",4,"平4",null,{"$f":"IF(OR(G91=\"\",G$41=2),\"\",1)","v":1},{"$f":"IF(OR(H91=\"\",J$41=4),\"\",IF(AND(I$36>=1,I$36<=4,G$36=31),\"平成\"&31&\"年\"&1,IF(AND(I$36=5,G$36=\"元\"),\"平成\"&31&\"年\"&1,IF(AND(I$36>=6,G$36=\"元\"),\"令和\"&2&\"年\"&1,IF((AND(I$36>=1,I$36<=5)),\"令和\"&G$36&\"年\"&1,\"令和\"&G$36+1&\"年\"&1)))))","v":"令和1年1"},{"$f":"IF(OR(H91=\"\",J$41=4),\"\",IF(AND(I$36>=1,I$36<=4,G$36=31),\"平成\"&31&\"年\"&1,IF(AND(I$36=5,G$36=\"元\"),\"平成\"&31&\"年\"&1,IF(AND(I$36>=6,G$36=\"元\"),\"令和\"&2&\"年\"&1,IF((AND(I$36>=1,I$36<=5)),\"令和\"&G$36&\"年\"&1,\"令和\"&G$36+1&\"年\"&1)))))","v":"令和1年1"},null,null,null,{"$f":"IF(OR(M91=\"\",M$41=2),\"\",1)","v":1},{"$f":"IF(OR(N91=\"\",P$41=4),\"\",IF(AND(O$36>=1,O$36<=4,M$36=31),\"平成\"&31&\"年\"&1,IF(AND(O$36=5,M$36=\"元\"),\"平成\"&31&\"年\"&1,IF(AND(O$36>=6,M$36=\"元\"),\"令和\"&2&\"年\"&1,IF((AND(O$36>=1,O$36<=5)),\"令和\"&M$36&\"年\"&1,\"令和\"&M$36+1&\"年\"&1)))))","v":"令和1年1"},{"$f":"IF(OR(N91=\"\",P$41=4),\"\",IF(AND(O$36>=1,O$36<=4,M$36=31),\"平成\"&31&\"年\"&1,IF(AND(O$36=5,M$36=\"元\"),\"平成\"&31&\"年\"&1,IF(AND(O$36>=6,M$36=\"元\"),\"令和\"&2&\"年\"&1,IF((AND(O$36>=1,O$36<=5)),\"令和\"&M$36&\"年\"&1,\"令和\"&M$36+1&\"年\"&1)))))","v":"令和1年1"},null,null,null,{"$f":"IF(OR(S91=\"\",S$41=2),\"\",1)","v":1},{"$f":"IF(OR(T91=\"\",V$41=4),\"\",IF(AND(U$36>=1,U$36<=4,S$36=31),\"平成\"&31&\"年\"&1,IF(AND(U$36=5,S$36=\"元\"),\"平成\"&31&\"年\"&1,IF(AND(U$36>=6,S$36=\"元\"),\"令和\"&2&\"年\"&1,IF((AND(U$36>=1,U$36<=5)),\"令和\"&S$36&\"年\"&1,\"令和\"&S$36+1&\"年\"&1)))))","v":"令和1年1"},{"$f":"IF(OR(T91=\"\",V$41=4),\"\",IF(AND(U$36>=1,U$36<=4,S$36=31),\"平成\"&31&\"年\"&1,IF(AND(U$36=5,S$36=\"元\"),\"平成\"&31&\"年\"&1,IF(AND(U$36>=6,S$36=\"元\"),\"令和\"&2&\"年\"&1,IF((AND(U$36>=1,U$36<=5)),\"令和\"&S$36&\"年\"&1,\"令和\"&S$36+1&\"年\"&1)))))","v":"令和1年1"},null,null,null,{"$f":"IF(OR(Y91=\"\",Y$41=2),\"\",1)","v":1},{"$f":"IF(OR(Z91=\"\",AB$41=4),\"\",IF(AND(AA$36>=1,AA$36<=4,Y$36=31),\"平成\"&31&\"年\"&1,IF(AND(AA$36=5,Y$36=\"元\"),\"平成\"&31&\"年\"&1,IF(AND(AA$36>=6,Y$36=\"元\"),\"令和\"&2&\"年\"&1,IF((AND(AA$36>=1,AA$36<=5)),\"令和\"&Y$36&\"年\"&1,\"令和\"&Y$36+1&\"年\"&1)))))","v":"令和1年1"},{"$f":"IF(OR(Z91=\"\",AB$41=4),\"\",IF(AND(AA$36>=1,AA$36<=4,Y$36=31),\"平成\"&31&\"年\"&1,IF(AND(AA$36=5,Y$36=\"元\"),\"平成\"&31&\"年\"&1,IF(AND(AA$36>=6,Y$36=\"元\"),\"令和\"&2&\"年\"&1,IF((AND(AA$36>=1,AA$36<=5)),\"令和\"&Y$36&\"年\"&1,\"令和\"&Y$36+1&\"年\"&1)))))","v":"令和1年1"},null,null,null,{"$f":"IF(OR(AE91=\"\",AE$41=2),\"\",1)","v":1},{"$f":"IF(OR(AF91=\"\",AH$41=4),\"\",IF(AND(AG$36>=1,AG$36<=4,AE$36=31),\"平成\"&31&\"年\"&1,IF(AND(AG$36=5,AE$36=\"元\"),\"平成\"&31&\"年\"&1,IF(AND(AG$36>=6,AE$36=\"元\"),\"令和\"&2&\"年\"&1,IF((AND(AG$36>=1,AG$36<=5)),\"令和\"&AE$36&\"年\"&1,\"令和\"&AE$36+1&\"年\"&1)))))","v":"令和1年1"},{"$f":"IF(OR(AF91=\"\",AH$41=4),\"\",IF(AND(AG$36>=1,AG$36<=4,AE$36=31),\"平成\"&31&\"年\"&1,IF(AND(AG$36=5,AE$36=\"元\"),\"平成\"&31&\"年\"&1,IF(AND(AG$36>=6,AE$36=\"元\"),\"令和\"&2&\"年\"&1,IF((AND(AG$36>=1,AG$36<=5)),\"令和\"&AE$36&\"年\"&1,\"令和\"&AE$36+1&\"年\"&1)))))","v":"令和1年1"},null,null,null,{"$f":"IF(OR(AK91=\"\",AK$41=2),\"\",1)","v":1},{"$f":"IF(OR(AL91=\"\",AN$41=4),\"\",IF(AND(AM$36>=1,AM$36<=4,AK$36=31),\"平成\"&31&\"年\"&1,IF(AND(AM$36=5,AK$36=\"元\"),\"平成\"&31&\"年\"&1,IF(AND(AM$36>=6,AK$36=\"元\"),\"令和\"&2&\"年\"&1,IF((AND(AM$36>=1,AM$36<=5)),\"令和\"&AK$36&\"年\"&1,\"令和\"&AK$36+1&\"年\"&1)))))","v":"令和1年1"},{"$f":"IF(OR(AL91=\"\",AN$41=4),\"\",IF(AND(AM$36>=1,AM$36<=4,AK$36=31),\"平成\"&31&\"年\"&1,IF(AND(AM$36=5,AK$36=\"元\"),\"平成\"&31&\"年\"&1,IF(AND(AM$36>=6,AK$36=\"元\"),\"令和\"&2&\"年\"&1,IF((AND(AM$36>=1,AM$36<=5)),\"令和\"&AK$36&\"年\"&1,\"令和\"&AK$36+1&\"年\"&1)))))","v":"令和1年1"},null,null,null,{"$f":"IF(OR(AQ91=\"\",AQ$41=2),\"\",1)","v":1},{"$f":"IF(OR(AR91=\"\",AT$41=4),\"\",IF(AND(AS$36>=1,AS$36<=4,AQ$36=31),\"平成\"&31&\"年\"&1,IF(AND(AS$36=5,AQ$36=\"元\"),\"平成\"&31&\"年\"&1,IF(AND(AS$36>=6,AQ$36=\"元\"),\"令和\"&2&\"年\"&1,IF((AND(AS$36>=1,AS$36<=5)),\"令和\"&AQ$36&\"年\"&1,\"令和\"&AQ$36+1&\"年\"&1)))))","v":"令和1年1"},{"$f":"IF(OR(AR91=\"\",AT$41=4),\"\",IF(AND(AS$36>=1,AS$36<=4,AQ$36=31),\"平成\"&31&\"年\"&1,IF(AND(AS$36=5,AQ$36=\"元\"),\"平成\"&31&\"年\"&1,IF(AND(AS$36>=6,AQ$36=\"元\"),\"令和\"&2&\"年\"&1,IF((AND(AS$36>=1,AS$36<=5)),\"令和\"&AQ$36&\"年\"&1,\"令和\"&AQ$36+1&\"年\"&1)))))","v":"令和1年1"},null,null,null,{"$f":"IF(OR(AW91=\"\",AW$41=2),\"\",1)","v":1},{"$f":"IF(OR(AX91=\"\",AZ$41=4),\"\",IF(AND(AY$36>=1,AY$36<=4,AW$36=31),\"平成\"&31&\"年\"&1,IF(AND(AY$36=5,AW$36=\"元\"),\"平成\"&31&\"年\"&1,IF(AND(AY$36>=6,AW$36=\"元\"),\"令和\"&2&\"年\"&1,IF((AND(AY$36>=1,AY$36<=5)),\"令和\"&AW$36&\"年\"&1,\"令和\"&AW$36+1&\"年\"&1)))))","v":"令和1年1"},{"$f":"IF(OR(AX91=\"\",AZ$41=4),\"\",IF(AND(AY$36>=1,AY$36<=4,AW$36=31),\"平成\"&31&\"年\"&1,IF(AND(AY$36=5,AW$36=\"元\"),\"平成\"&31&\"年\"&1,IF(AND(AY$36>=6,AW$36=\"元\"),\"令和\"&2&\"年\"&1,IF((AND(AY$36>=1,AY$36<=5)),\"令和\"&AW$36&\"年\"&1,\"令和\"&AW$36+1&\"年\"&1)))))","v":"令和1年1"},null,null,null,{"$f":"IF(OR(BC91=\"\",BC$41=2),\"\",1)","v":1},{"$f":"IF(OR(BD91=\"\",BF$41=4),\"\",IF(AND(BE$36>=1,BE$36<=4,BC$36=31),\"平成\"&31&\"年\"&1,IF(AND(BE$36=5,BC$36=\"元\"),\"平成\"&31&\"年\"&1,IF(AND(BE$36>=6,BC$36=\"元\"),\"令和\"&2&\"年\"&1,IF((AND(BE$36>=1,BE$36<=5)),\"令和\"&BC$36&\"年\"&1,\"令和\"&BC$36+1&\"年\"&1)))))","v":"令和1年1"},{"$f":"IF(OR(BD91=\"\",BF$41=4),\"\",IF(AND(BE$36>=1,BE$36<=4,BC$36=31),\"平成\"&31&\"年\"&1,IF(AND(BE$36=5,BC$36=\"元\"),\"平成\"&31&\"年\"&1,IF(AND(BE$36>=6,BC$36=\"元\"),\"令和\"&2&\"年\"&1,IF((AND(BE$36>=1,BE$36<=5)),\"令和\"&BC$36&\"年\"&1,\"令和\"&BC$36+1&\"年\"&1)))))","v":"令和1年1"},null,null,null,{"$f":"IF(OR(BI91=\"\",BI$41=2),\"\",1)","v":1},{"$f":"IF(OR(BJ91=\"\",BL$41=4),\"\",IF(AND(BK$36>=1,BK$36<=4,BI$36=31),\"平成\"&31&\"年\"&1,IF(AND(BK$36=5,BI$36=\"元\"),\"平成\"&31&\"年\"&1,IF(AND(BK$36>=6,BI$36=\"元\"),\"令和\"&2&\"年\"&1,IF((AND(BK$36>=1,BK$36<=5)),\"令和\"&BI$36&\"年\"&1,\"令和\"&BI$36+1&\"年\"&1)))))","v":"令和1年1"},{"$f":"IF(OR(BJ91=\"\",BL$41=4),\"\",IF(AND(BK$36>=1,BK$36<=4,BI$36=31),\"平成\"&31&\"年\"&1,IF(AND(BK$36=5,BI$36=\"元\"),\"平成\"&31&\"年\"&1,IF(AND(BK$36>=6,BI$36=\"元\"),\"令和\"&2&\"年\"&1,IF((AND(BK$36>=1,BK$36<=5)),\"令和\"&BI$36&\"年\"&1,\"令和\"&BI$36+1&\"年\"&1)))))","v":"令和1年1"},null,null,null,{"$f":"IF(OR(BO91=\"\",BO$41=2),\"\",1)","v":1},{"$f":"IF(OR(BP91=\"\",BR$41=4),\"\",IF(AND(BQ$36>=1,BQ$36<=4,BO$36=31),\"平成\"&31&\"年\"&1,IF(AND(BQ$36=5,BO$36=\"元\"),\"平成\"&31&\"年\"&1,IF(AND(BQ$36>=6,BO$36=\"元\"),\"令和\"&2&\"年\"&1,IF((AND(BQ$36>=1,BQ$36<=5)),\"令和\"&BO$36&\"年\"&1,\"令和\"&BO$36+1&\"年\"&1)))))","v":"令和1年1"},{"$f":"IF(OR(BP91=\"\",BR$41=4),\"\",IF(AND(BQ$36>=1,BQ$36<=4,BO$36=31),\"平成\"&31&\"年\"&1,IF(AND(BQ$36=5,BO$36=\"元\"),\"平成\"&31&\"年\"&1,IF(AND(BQ$36>=6,BO$36=\"元\"),\"令和\"&2&\"年\"&1,IF((AND(BQ$36>=1,BQ$36<=5)),\"令和\"&BO$36&\"年\"&1,\"令和\"&BO$36+1&\"年\"&1)))))","v":"令和1年1"},null,null,null,{"$f":"IF(OR(BU91=\"\",BU$41=2),\"\",1)","v":1},{"$f":"IF(OR(BV91=\"\",BX$41=4),\"\",IF(AND(BW$36>=1,BW$36<=4,BU$36=31),\"平成\"&31&\"年\"&1,IF(AND(BW$36=5,BU$36=\"元\"),\"平成\"&31&\"年\"&1,IF(AND(BW$36>=6,BU$36=\"元\"),\"令和\"&2&\"年\"&1,IF((AND(BW$36>=1,BW$36<=5)),\"令和\"&BU$36&\"年\"&1,\"令和\"&BU$36+1&\"年\"&1)))))","v":"令和1年1"},{"$f":"IF(OR(BV91=\"\",BX$41=4),\"\",IF(AND(BW$36>=1,BW$36<=4,BU$36=31),\"平成\"&31&\"年\"&1,IF(AND(BW$36=5,BU$36=\"元\"),\"平成\"&31&\"年\"&1,IF(AND(BW$36>=6,BU$36=\"元\"),\"令和\"&2&\"年\"&1,IF((AND(BW$36>=1,BW$36<=5)),\"令和\"&BU$36&\"年\"&1,\"令和\"&BU$36+1&\"年\"&1)))))","v":"令和1年1"},null,null,null,{"$f":"IF(OR(CA91=\"\",CA$41=2),\"\",1)","v":1},{"$f":"IF(OR(CB91=\"\",CD$41=4),\"\",IF(AND(CC$36>=1,CC$36<=4,CA$36=31),\"平成\"&31&\"年\"&1,IF(AND(CC$36=5,CA$36=\"元\"),\"平成\"&31&\"年\"&1,IF(AND(CC$36>=6,CA$36=\"元\"),\"令和\"&2&\"年\"&1,IF((AND(CC$36>=1,CC$36<=5)),\"令和\"&CA$36&\"年\"&1,\"令和\"&CA$36+1&\"年\"&1)))))","v":"令和1年1"},{"$f":"IF(OR(CB91=\"\",CD$41=4),\"\",IF(AND(CC$36>=1,CC$36<=4,CA$36=31),\"平成\"&31&\"年\"&1,IF(AND(CC$36=5,CA$36=\"元\"),\"平成\"&31&\"年\"&1,IF(AND(CC$36>=6,CA$36=\"元\"),\"令和\"&2&\"年\"&1,IF((AND(CC$36>=1,CC$36<=5)),\"令和\"&CA$36&\"年\"&1,\"令和\"&CA$36+1&\"年\"&1)))))","v":"令和1年1"},null,null,null,{"$f":"IF(OR(CG91=\"\",CG$41=2),\"\",1)","v":1},{"$f":"IF(OR(CH91=\"\",CJ$41=4),\"\",IF(AND(CI$36>=1,CI$36<=4,CG$36=31),\"平成\"&31&\"年\"&1,IF(AND(CI$36=5,CG$36=\"元\"),\"平成\"&31&\"年\"&1,IF(AND(CI$36>=6,CG$36=\"元\"),\"令和\"&2&\"年\"&1,IF((AND(CI$36>=1,CI$36<=5)),\"令和\"&CG$36&\"年\"&1,\"令和\"&CG$36+1&\"年\"&1)))))","v":"令和1年1"},{"$f":"IF(OR(CH91=\"\",CJ$41=4),\"\",IF(AND(CI$36>=1,CI$36<=4,CG$36=31),\"平成\"&31&\"年\"&1,IF(AND(CI$36=5,CG$36=\"元\"),\"平成\"&31&\"年\"&1,IF(AND(CI$36>=6,CG$36=\"元\"),\"令和\"&2&\"年\"&1,IF((AND(CI$36>=1,CI$36<=5)),\"令和\"&CG$36&\"年\"&1,\"令和\"&CG$36+1&\"年\"&1)))))","v":"令和1年1"},null,null,null,{"$f":"IF(OR(CM91=\"\",CM$41=2),\"\",1)","v":1},{"$f":"IF(OR(CN91=\"\",CP$41=4),\"\",IF(AND(CO$36>=1,CO$36<=4,CM$36=31),\"平成\"&31&\"年\"&1,IF(AND(CO$36=5,CM$36=\"元\"),\"平成\"&31&\"年\"&1,IF(AND(CO$36>=6,CM$36=\"元\"),\"令和\"&2&\"年\"&1,IF((AND(CO$36>=1,CO$36<=5)),\"令和\"&CM$36&\"年\"&1,\"令和\"&CM$36+1&\"年\"&1)))))","v":"令和1年1"},{"$f":"IF(OR(CN91=\"\",CP$41=4),\"\",IF(AND(CO$36>=1,CO$36<=4,CM$36=31),\"平成\"&31&\"年\"&1,IF(AND(CO$36=5,CM$36=\"元\"),\"平成\"&31&\"年\"&1,IF(AND(CO$36>=6,CM$36=\"元\"),\"令和\"&2&\"年\"&1,IF((AND(CO$36>=1,CO$36<=5)),\"令和\"&CM$36&\"年\"&1,\"令和\"&CM$36+1&\"年\"&1)))))","v":"令和1年1"},null,null,null,{"$f":"IF(OR(CS91=\"\",CS$41=2),\"\",1)","v":1},{"$f":"IF(OR(CT91=\"\",CV$41=4),\"\",IF(AND(CU$36>=1,CU$36<=4,CS$36=31),\"平成\"&31&\"年\"&1,IF(AND(CU$36=5,CS$36=\"元\"),\"平成\"&31&\"年\"&1,IF(AND(CU$36>=6,CS$36=\"元\"),\"令和\"&2&\"年\"&1,IF((AND(CU$36>=1,CU$36<=5)),\"令和\"&CS$36&\"年\"&1,\"令和\"&CS$36+1&\"年\"&1)))))","v":"令和1年1"},{"$f":"IF(OR(CT91=\"\",CV$41=4),\"\",IF(AND(CU$36>=1,CU$36<=4,CS$36=31),\"平成\"&31&\"年\"&1,IF(AND(CU$36=5,CS$36=\"元\"),\"平成\"&31&\"年\"&1,IF(AND(CU$36>=6,CS$36=\"元\"),\"令和\"&2&\"年\"&1,IF((AND(CU$36>=1,CU$36<=5)),\"令和\"&CS$36&\"年\"&1,\"令和\"&CS$36+1&\"年\"&1)))))","v":"令和1年1"},null,null,null,{"$f":"IF(OR(CY91=\"\",CY$41=2),\"\",1)","v":1},{"$f":"IF(OR(CZ91=\"\",DB$41=4),\"\",IF(AND(DA$36>=1,DA$36<=4,CY$36=31),\"平成\"&31&\"年\"&1,IF(AND(DA$36=5,CY$36=\"元\"),\"平成\"&31&\"年\"&1,IF(AND(DA$36>=6,CY$36=\"元\"),\"令和\"&2&\"年\"&1,IF((AND(DA$36>=1,DA$36<=5)),\"令和\"&CY$36&\"年\"&1,\"令和\"&CY$36+1&\"年\"&1)))))","v":"令和1年1"},{"$f":"IF(OR(CZ91=\"\",DB$41=4),\"\",IF(AND(DA$36>=1,DA$36<=4,CY$36=31),\"平成\"&31&\"年\"&1,IF(AND(DA$36=5,CY$36=\"元\"),\"平成\"&31&\"年\"&1,IF(AND(DA$36>=6,CY$36=\"元\"),\"令和\"&2&\"年\"&1,IF((AND(DA$36>=1,DA$36<=5)),\"令和\"&CY$36&\"年\"&1,\"令和\"&CY$36+1&\"年\"&1)))))","v":"令和1年1"},null,null,null,{"$f":"IF(OR(DE91=\"\",DE$41=2),\"\",1)","v":1},{"$f":"IF(OR(DF91=\"\",DH$41=4),\"\",IF(AND(DG$36>=1,DG$36<=4,DE$36=31),\"平成\"&31&\"年\"&1,IF(AND(DG$36=5,DE$36=\"元\"),\"平成\"&31&\"年\"&1,IF(AND(DG$36>=6,DE$36=\"元\"),\"令和\"&2&\"年\"&1,IF((AND(DG$36>=1,DG$36<=5)),\"令和\"&DE$36&\"年\"&1,\"令和\"&DE$36+1&\"年\"&1)))))","v":"令和1年1"},{"$f":"IF(OR(DF91=\"\",DH$41=4),\"\",IF(AND(DG$36>=1,DG$36<=4,DE$36=31),\"平成\"&31&\"年\"&1,IF(AND(DG$36=5,DE$36=\"元\"),\"平成\"&31&\"年\"&1,IF(AND(DG$36>=6,DE$36=\"元\"),\"令和\"&2&\"年\"&1,IF((AND(DG$36>=1,DG$36<=5)),\"令和\"&DE$36&\"年\"&1,\"令和\"&DE$36+1&\"年\"&1)))))","v":"令和1年1"},null,null,null,{"$f":"IF(OR(DK91=\"\",DK$41=2),\"\",1)","v":1},{"$f":"IF(OR(DL91=\"\",DN$41=4),\"\",IF(AND(DM$36>=1,DM$36<=4,DK$36=31),\"平成\"&31&\"年\"&1,IF(AND(DM$36=5,DK$36=\"元\"),\"平成\"&31&\"年\"&1,IF(AND(DM$36>=6,DK$36=\"元\"),\"令和\"&2&\"年\"&1,IF((AND(DM$36>=1,DM$36<=5)),\"令和\"&DK$36&\"年\"&1,\"令和\"&DK$36+1&\"年\"&1)))))","v":"令和1年1"},{"$f":"IF(OR(DL91=\"\",DN$41=4),\"\",IF(AND(DM$36>=1,DM$36<=4,DK$36=31),\"平成\"&31&\"年\"&1,IF(AND(DM$36=5,DK$36=\"元\"),\"平成\"&31&\"年\"&1,IF(AND(DM$36>=6,DK$36=\"元\"),\"令和\"&2&\"年\"&1,IF((AND(DM$36>=1,DM$36<=5)),\"令和\"&DK$36&\"年\"&1,\"令和\"&DK$36+1&\"年\"&1)))))","v":"令和1年1"},null,null,null,{"$f":"IF(OR(DQ91=\"\",DQ$41=2),\"\",1)","v":1},{"$f":"IF(OR(DR91=\"\",DT$41=4),\"\",IF(AND(DS$36>=1,DS$36<=4,DQ$36=31),\"平成\"&31&\"年\"&1,IF(AND(DS$36=5,DQ$36=\"元\"),\"平成\"&31&\"年\"&1,IF(AND(DS$36>=6,DQ$36=\"元\"),\"令和\"&2&\"年\"&1,IF((AND(DS$36>=1,DS$36<=5)),\"令和\"&DQ$36&\"年\"&1,\"令和\"&DQ$36+1&\"年\"&1)))))","v":"令和1年1"},{"$f":"IF(OR(DR91=\"\",DT$41=4),\"\",IF(AND(DS$36>=1,DS$36<=4,DQ$36=31),\"平成\"&31&\"年\"&1,IF(AND(DS$36=5,DQ$36=\"元\"),\"平成\"&31&\"年\"&1,IF(AND(DS$36>=6,DQ$36=\"元\"),\"令和\"&2&\"年\"&1,IF((AND(DS$36>=1,DS$36<=5)),\"令和\"&DQ$36&\"年\"&1,\"令和\"&DQ$36+1&\"年\"&1)))))","v":"令和1年1"},null,null,null,{"$f":"IF(OR(DW91=\"\",DW$41=2),\"\",1)","v":1},{"$f":"IF(OR(DX91=\"\",DZ$41=4),\"\",IF(AND(DY$36>=1,DY$36<=4,DW$36=31),\"平成\"&31&\"年\"&1,IF(AND(DY$36=5,DW$36=\"元\"),\"平成\"&31&\"年\"&1,IF(AND(DY$36>=6,DW$36=\"元\"),\"令和\"&2&\"年\"&1,IF((AND(DY$36>=1,DY$36<=5)),\"令和\"&DW$36&\"年\"&1,\"令和\"&DW$36+1&\"年\"&1)))))","v":"令和1年1"},{"$f":"IF(OR(DX91=\"\",DZ$41=4),\"\",IF(AND(DY$36>=1,DY$36<=4,DW$36=31),\"平成\"&31&\"年\"&1,IF(AND(DY$36=5,DW$36=\"元\"),\"平成\"&31&\"年\"&1,IF(AND(DY$36>=6,DW$36=\"元\"),\"令和\"&2&\"年\"&1,IF((AND(DY$36>=1,DY$36<=5)),\"令和\"&DW$36&\"年\"&1,\"令和\"&DW$36+1&\"年\"&1)))))","v":"令和1年1"},null,null,null,{"$f":"IF(OR(EC91=\"\",EC$41=2),\"\",1)","v":1},{"$f":"IF(OR(ED91=\"\",EF$41=4),\"\",IF(AND(EE$36>=1,EE$36<=4,EC$36=31),\"平成\"&31&\"年\"&1,IF(AND(EE$36=5,EC$36=\"元\"),\"平成\"&31&\"年\"&1,IF(AND(EE$36>=6,EC$36=\"元\"),\"令和\"&2&\"年\"&1,IF((AND(EE$36>=1,EE$36<=5)),\"令和\"&EC$36&\"年\"&1,\"令和\"&EC$36+1&\"年\"&1)))))","v":"令和1年1"},{"$f":"IF(OR(ED91=\"\",EF$41=4),\"\",IF(AND(EE$36>=1,EE$36<=4,EC$36=31),\"平成\"&31&\"年\"&1,IF(AND(EE$36=5,EC$36=\"元\"),\"平成\"&31&\"年\"&1,IF(AND(EE$36>=6,EC$36=\"元\"),\"令和\"&2&\"年\"&1,IF((AND(EE$36>=1,EE$36<=5)),\"令和\"&EC$36&\"年\"&1,\"令和\"&EC$36+1&\"年\"&1)))))","v":"令和1年1"},null,null,null,{"$f":"IF(OR(EI91=\"\",EI$41=2),\"\",1)","v":1},{"$f":"IF(OR(EJ91=\"\",EL$41=4),\"\",IF(AND(EK$36>=1,EK$36<=4,EI$36=31),\"平成\"&31&\"年\"&1,IF(AND(EK$36=5,EI$36=\"元\"),\"平成\"&31&\"年\"&1,IF(AND(EK$36>=6,EI$36=\"元\"),\"令和\"&2&\"年\"&1,IF((AND(EK$36>=1,EK$36<=5)),\"令和\"&EI$36&\"年\"&1,\"令和\"&EI$36+1&\"年\"&1)))))","v":"令和1年1"},{"$f":"IF(OR(EJ91=\"\",EL$41=4),\"\",IF(AND(EK$36>=1,EK$36<=4,EI$36=31),\"平成\"&31&\"年\"&1,IF(AND(EK$36=5,EI$36=\"元\"),\"平成\"&31&\"年\"&1,IF(AND(EK$36>=6,EI$36=\"元\"),\"令和\"&2&\"年\"&1,IF((AND(EK$36>=1,EK$36<=5)),\"令和\"&EI$36&\"年\"&1,\"令和\"&EI$36+1&\"年\"&1)))))","v":"令和1年1"},null,null,null,{"$f":"IF(OR(EO91=\"\",EO$41=2),\"\",1)","v":1},{"$f":"IF(OR(EP91=\"\",ER$41=4),\"\",IF(AND(EQ$36>=1,EQ$36<=4,EO$36=31),\"平成\"&31&\"年\"&1,IF(AND(EQ$36=5,EO$36=\"元\"),\"平成\"&31&\"年\"&1,IF(AND(EQ$36>=6,EO$36=\"元\"),\"令和\"&2&\"年\"&1,IF((AND(EQ$36>=1,EQ$36<=5)),\"令和\"&EO$36&\"年\"&1,\"令和\"&EO$36+1&\"年\"&1)))))","v":"令和1年1"},{"$f":"IF(OR(EP91=\"\",ER$41=4),\"\",IF(AND(EQ$36>=1,EQ$36<=4,EO$36=31),\"平成\"&31&\"年\"&1,IF(AND(EQ$36=5,EO$36=\"元\"),\"平成\"&31&\"年\"&1,IF(AND(EQ$36>=6,EO$36=\"元\"),\"令和\"&2&\"年\"&1,IF((AND(EQ$36>=1,EQ$36<=5)),\"令和\"&EO$36&\"年\"&1,\"令和\"&EO$36+1&\"年\"&1)))))","v":"令和1年1"},null,null,null,{"$f":"IF(OR(EU91=\"\",EU$41=2),\"\",1)","v":1},{"$f":"IF(OR(EV91=\"\",EX$41=4),\"\",IF(AND(EW$36>=1,EW$36<=4,EU$36=31),\"平成\"&31&\"年\"&1,IF(AND(EW$36=5,EU$36=\"元\"),\"平成\"&31&\"年\"&1,IF(AND(EW$36>=6,EU$36=\"元\"),\"令和\"&2&\"年\"&1,IF((AND(EW$36>=1,EW$36<=5)),\"令和\"&EU$36&\"年\"&1,\"令和\"&EU$36+1&\"年\"&1)))))","v":"令和1年1"},{"$f":"IF(OR(EV91=\"\",EX$41=4),\"\",IF(AND(EW$36>=1,EW$36<=4,EU$36=31),\"平成\"&31&\"年\"&1,IF(AND(EW$36=5,EU$36=\"元\"),\"平成\"&31&\"年\"&1,IF(AND(EW$36>=6,EU$36=\"元\"),\"令和\"&2&\"年\"&1,IF((AND(EW$36>=1,EW$36<=5)),\"令和\"&EU$36&\"年\"&1,\"令和\"&EU$36+1&\"年\"&1)))))","v":"令和1年1"},null,null,null,{"$f":"IF(OR(FA91=\"\",FA$41=2),\"\",1)","v":1},{"$f":"IF(OR(FB91=\"\",FD$41=4),\"\",IF(AND(FC$36>=1,FC$36<=4,FA$36=31),\"平成\"&31&\"年\"&1,IF(AND(FC$36=5,FA$36=\"元\"),\"平成\"&31&\"年\"&1,IF(AND(FC$36>=6,FA$36=\"元\"),\"令和\"&2&\"年\"&1,IF((AND(FC$36>=1,FC$36<=5)),\"令和\"&FA$36&\"年\"&1,\"令和\"&FA$36+1&\"年\"&1)))))","v":"令和1年1"},{"$f":"IF(OR(FB91=\"\",FD$41=4),\"\",IF(AND(FC$36>=1,FC$36<=4,FA$36=31),\"平成\"&31&\"年\"&1,IF(AND(FC$36=5,FA$36=\"元\"),\"平成\"&31&\"年\"&1,IF(AND(FC$36>=6,FA$36=\"元\"),\"令和\"&2&\"年\"&1,IF((AND(FC$36>=1,FC$36<=5)),\"令和\"&FA$36&\"年\"&1,\"令和\"&FA$36+1&\"年\"&1)))))","v":"令和1年1"},null,null,null,{"$f":"IF(OR(FG91=\"\",FG$41=2),\"\",1)","v":1},{"$f":"IF(OR(FH91=\"\",FJ$41=4),\"\",IF(AND(FI$36>=1,FI$36<=4,FG$36=31),\"平成\"&31&\"年\"&1,IF(AND(FI$36=5,FG$36=\"元\"),\"平成\"&31&\"年\"&1,IF(AND(FI$36>=6,FG$36=\"元\"),\"令和\"&2&\"年\"&1,IF((AND(FI$36>=1,FI$36<=5)),\"令和\"&FG$36&\"年\"&1,\"令和\"&FG$36+1&\"年\"&1)))))","v":"令和1年1"},{"$f":"IF(OR(FH91=\"\",FJ$41=4),\"\",IF(AND(FI$36>=1,FI$36<=4,FG$36=31),\"平成\"&31&\"年\"&1,IF(AND(FI$36=5,FG$36=\"元\"),\"平成\"&31&\"年\"&1,IF(AND(FI$36>=6,FG$36=\"元\"),\"令和\"&2&\"年\"&1,IF((AND(FI$36>=1,FI$36<=5)),\"令和\"&FG$36&\"年\"&1,\"令和\"&FG$36+1&\"年\"&1)))))","v":"令和1年1"},null,null,null,{"$f":"IF(OR(FM91=\"\",FM$41=2),\"\",1)","v":1},{"$f":"IF(OR(FN91=\"\",FP$41=4),\"\",IF(AND(FO$36>=1,FO$36<=4,FM$36=31),\"平成\"&31&\"年\"&1,IF(AND(FO$36=5,FM$36=\"元\"),\"平成\"&31&\"年\"&1,IF(AND(FO$36>=6,FM$36=\"元\"),\"令和\"&2&\"年\"&1,IF((AND(FO$36>=1,FO$36<=5)),\"令和\"&FM$36&\"年\"&1,\"令和\"&FM$36+1&\"年\"&1)))))","v":"令和1年1"},{"$f":"IF(OR(FN91=\"\",FP$41=4),\"\",IF(AND(FO$36>=1,FO$36<=4,FM$36=31),\"平成\"&31&\"年\"&1,IF(AND(FO$36=5,FM$36=\"元\"),\"平成\"&31&\"年\"&1,IF(AND(FO$36>=6,FM$36=\"元\"),\"令和\"&2&\"年\"&1,IF((AND(FO$36>=1,FO$36<=5)),\"令和\"&FM$36&\"年\"&1,\"令和\"&FM$36+1&\"年\"&1)))))","v":"令和1年1"},null,null,null,{"$f":"IF(OR(FS91=\"\",FS$41=2),\"\",1)","v":1},{"$f":"IF(OR(FT91=\"\",FV$41=4),\"\",IF(AND(FU$36>=1,FU$36<=4,FS$36=31),\"平成\"&31&\"年\"&1,IF(AND(FU$36=5,FS$36=\"元\"),\"平成\"&31&\"年\"&1,IF(AND(FU$36>=6,FS$36=\"元\"),\"令和\"&2&\"年\"&1,IF((AND(FU$36>=1,FU$36<=5)),\"令和\"&FS$36&\"年\"&1,\"令和\"&FS$36+1&\"年\"&1)))))","v":"令和1年1"},{"$f":"IF(OR(FT91=\"\",FV$41=4),\"\",IF(AND(FU$36>=1,FU$36<=4,FS$36=31),\"平成\"&31&\"年\"&1,IF(AND(FU$36=5,FS$36=\"元\"),\"平成\"&31&\"年\"&1,IF(AND(FU$36>=6,FS$36=\"元\"),\"令和\"&2&\"年\"&1,IF((AND(FU$36>=1,FU$36<=5)),\"令和\"&FS$36&\"年\"&1,\"令和\"&FS$36+1&\"年\"&1)))))","v":"令和1年1"},null,null,null,{"$f":"IF(OR(FY91=\"\",FY$41=2),\"\",1)","v":1},{"$f":"IF(OR(FZ91=\"\",GB$41=4),\"\",IF(AND(GA$36>=1,GA$36<=4,FY$36=31),\"平成\"&31&\"年\"&1,IF(AND(GA$36=5,FY$36=\"元\"),\"平成\"&31&\"年\"&1,IF(AND(GA$36>=6,FY$36=\"元\"),\"令和\"&2&\"年\"&1,IF((AND(GA$36>=1,GA$36<=5)),\"令和\"&FY$36&\"年\"&1,\"令和\"&FY$36+1&\"年\"&1)))))","v":"令和1年1"},{"$f":"IF(OR(FZ91=\"\",GB$41=4),\"\",IF(AND(GA$36>=1,GA$36<=4,FY$36=31),\"平成\"&31&\"年\"&1,IF(AND(GA$36=5,FY$36=\"元\"),\"平成\"&31&\"年\"&1,IF(AND(GA$36>=6,FY$36=\"元\"),\"令和\"&2&\"年\"&1,IF((AND(GA$36>=1,GA$36<=5)),\"令和\"&FY$36&\"年\"&1,\"令和\"&FY$36+1&\"年\"&1)))))","v":"令和1年1"},null,null,null,{"$f":"IF(OR(GE91=\"\",GE$41=2),\"\",1)","v":1},{"$f":"IF(OR(GF91=\"\",GH$41=4),\"\",IF(AND(GG$36>=1,GG$36<=4,GE$36=31),\"平成\"&31&\"年\"&1,IF(AND(GG$36=5,GE$36=\"元\"),\"平成\"&31&\"年\"&1,IF(AND(GG$36>=6,GE$36=\"元\"),\"令和\"&2&\"年\"&1,IF((AND(GG$36>=1,GG$36<=5)),\"令和\"&GE$36&\"年\"&1,\"令和\"&GE$36+1&\"年\"&1)))))","v":"令和1年1"},{"$f":"IF(OR(GF91=\"\",GH$41=4),\"\",IF(AND(GG$36>=1,GG$36<=4,GE$36=31),\"平成\"&31&\"年\"&1,IF(AND(GG$36=5,GE$36=\"元\"),\"平成\"&31&\"年\"&1,IF(AND(GG$36>=6,GE$36=\"元\"),\"令和\"&2&\"年\"&1,IF((AND(GG$36>=1,GG$36<=5)),\"令和\"&GE$36&\"年\"&1,\"令和\"&GE$36+1&\"年\"&1)))))","v":"令和1年1"},null,null,null,{"$f":"IF(OR(GK91=\"\",GK$41=2),\"\",1)","v":1},{"$f":"IF(OR(GL91=\"\",GN$41=4),\"\",IF(AND(GM$36>=1,GM$36<=4,GK$36=31),\"平成\"&31&\"年\"&1,IF(AND(GM$36=5,GK$36=\"元\"),\"平成\"&31&\"年\"&1,IF(AND(GM$36>=6,GK$36=\"元\"),\"令和\"&2&\"年\"&1,IF((AND(GM$36>=1,GM$36<=5)),\"令和\"&GK$36&\"年\"&1,\"令和\"&GK$36+1&\"年\"&1)))))","v":"令和1年1"},{"$f":"IF(OR(GL91=\"\",GN$41=4),\"\",IF(AND(GM$36>=1,GM$36<=4,GK$36=31),\"平成\"&31&\"年\"&1,IF(AND(GM$36=5,GK$36=\"元\"),\"平成\"&31&\"年\"&1,IF(AND(GM$36>=6,GK$36=\"元\"),\"令和\"&2&\"年\"&1,IF((AND(GM$36>=1,GM$36<=5)),\"令和\"&GK$36&\"年\"&1,\"令和\"&GK$36+1&\"年\"&1)))))","v":"令和1年1"},null,null,null,{"$f":"IF(OR(GQ91=\"\",GQ$41=2),\"\",1)","v":1},{"$f":"IF(OR(GR91=\"\",GT$41=4),\"\",IF(AND(GS$36>=1,GS$36<=4,GQ$36=31),\"平成\"&31&\"年\"&1,IF(AND(GS$36=5,GQ$36=\"元\"),\"平成\"&31&\"年\"&1,IF(AND(GS$36>=6,GQ$36=\"元\"),\"令和\"&2&\"年\"&1,IF((AND(GS$36>=1,GS$36<=5)),\"令和\"&GQ$36&\"年\"&1,\"令和\"&GQ$36+1&\"年\"&1)))))","v":"令和1年1"},{"$f":"IF(OR(GR91=\"\",GT$41=4),\"\",IF(AND(GS$36>=1,GS$36<=4,GQ$36=31),\"平成\"&31&\"年\"&1,IF(AND(GS$36=5,GQ$36=\"元\"),\"平成\"&31&\"年\"&1,IF(AND(GS$36>=6,GQ$36=\"元\"),\"令和\"&2&\"年\"&1,IF((AND(GS$36>=1,GS$36<=5)),\"令和\"&GQ$36&\"年\"&1,\"令和\"&GQ$36+1&\"年\"&1)))))","v":"令和1年1"},null,null,null,{"$f":"IF(OR(GW91=\"\",GW$41=2),\"\",1)","v":1},{"$f":"IF(OR(GX91=\"\",GZ$41=4),\"\",IF(AND(GY$36>=1,GY$36<=4,GW$36=31),\"平成\"&31&\"年\"&1,IF(AND(GY$36=5,GW$36=\"元\"),\"平成\"&31&\"年\"&1,IF(AND(GY$36>=6,GW$36=\"元\"),\"令和\"&2&\"年\"&1,IF((AND(GY$36>=1,GY$36<=5)),\"令和\"&GW$36&\"年\"&1,\"令和\"&GW$36+1&\"年\"&1)))))","v":"令和1年1"},{"$f":"IF(OR(GX91=\"\",GZ$41=4),\"\",IF(AND(GY$36>=1,GY$36<=4,GW$36=31),\"平成\"&31&\"年\"&1,IF(AND(GY$36=5,GW$36=\"元\"),\"平成\"&31&\"年\"&1,IF(AND(GY$36>=6,GW$36=\"元\"),\"令和\"&2&\"年\"&1,IF((AND(GY$36>=1,GY$36<=5)),\"令和\"&GW$36&\"年\"&1,\"令和\"&GW$36+1&\"年\"&1)))))","v":"令和1年1"},null,null,null,{"$f":"IF(OR(HC91=\"\",HC$41=2),\"\",1)","v":1},{"$f":"IF(OR(HD91=\"\",HF$41=4),\"\",IF(AND(HE$36>=1,HE$36<=4,HC$36=31),\"平成\"&31&\"年\"&1,IF(AND(HE$36=5,HC$36=\"元\"),\"平成\"&31&\"年\"&1,IF(AND(HE$36>=6,HC$36=\"元\"),\"令和\"&2&\"年\"&1,IF((AND(HE$36>=1,HE$36<=5)),\"令和\"&HC$36&\"年\"&1,\"令和\"&HC$36+1&\"年\"&1)))))","v":"令和1年1"},{"$f":"IF(OR(HD91=\"\",HF$41=4),\"\",IF(AND(HE$36>=1,HE$36<=4,HC$36=31),\"平成\"&31&\"年\"&1,IF(AND(HE$36=5,HC$36=\"元\"),\"平成\"&31&\"年\"&1,IF(AND(HE$36>=6,HC$36=\"元\"),\"令和\"&2&\"年\"&1,IF((AND(HE$36>=1,HE$36<=5)),\"令和\"&HC$36&\"年\"&1,\"令和\"&HC$36+1&\"年\"&1)))))","v":"令和1年1"},null,null,null,{"$f":"IF(OR(HI91=\"\",HI$41=2),\"\",1)","v":1},{"$f":"IF(OR(HJ91=\"\",HL$41=4),\"\",IF(AND(HK$36>=1,HK$36<=4,HI$36=31),\"平成\"&31&\"年\"&1,IF(AND(HK$36=5,HI$36=\"元\"),\"平成\"&31&\"年\"&1,IF(AND(HK$36>=6,HI$36=\"元\"),\"令和\"&2&\"年\"&1,IF((AND(HK$36>=1,HK$36<=5)),\"令和\"&HI$36&\"年\"&1,\"令和\"&HI$36+1&\"年\"&1)))))","v":"令和1年1"},{"$f":"IF(OR(HJ91=\"\",HL$41=4),\"\",IF(AND(HK$36>=1,HK$36<=4,HI$36=31),\"平成\"&31&\"年\"&1,IF(AND(HK$36=5,HI$36=\"元\"),\"平成\"&31&\"年\"&1,IF(AND(HK$36>=6,HI$36=\"元\"),\"令和\"&2&\"年\"&1,IF((AND(HK$36>=1,HK$36<=5)),\"令和\"&HI$36&\"年\"&1,\"令和\"&HI$36+1&\"年\"&1)))))","v":"令和1年1"},null,null,null,{"$f":"IF(OR(HO91=\"\",HO$41=2),\"\",1)","v":1},{"$f":"IF(OR(HP91=\"\",HR$41=4),\"\",IF(AND(HQ$36>=1,HQ$36<=4,HO$36=31),\"平成\"&31&\"年\"&1,IF(AND(HQ$36=5,HO$36=\"元\"),\"平成\"&31&\"年\"&1,IF(AND(HQ$36>=6,HO$36=\"元\"),\"令和\"&2&\"年\"&1,IF((AND(HQ$36>=1,HQ$36<=5)),\"令和\"&HO$36&\"年\"&1,\"令和\"&HO$36+1&\"年\"&1)))))","v":"令和1年1"},{"$f":"IF(OR(HP91=\"\",HR$41=4),\"\",IF(AND(HQ$36>=1,HQ$36<=4,HO$36=31),\"平成\"&31&\"年\"&1,IF(AND(HQ$36=5,HO$36=\"元\"),\"平成\"&31&\"年\"&1,IF(AND(HQ$36>=6,HO$36=\"元\"),\"令和\"&2&\"年\"&1,IF((AND(HQ$36>=1,HQ$36<=5)),\"令和\"&HO$36&\"年\"&1,\"令和\"&HO$36+1&\"年\"&1)))))","v":"令和1年1"},null,null,null,{"$f":"IF(OR(HU91=\"\",HU$41=2),\"\",1)","v":1},{"$f":"IF(OR(HV91=\"\",HX$41=4),\"\",IF(AND(HW$36>=1,HW$36<=4,HU$36=31),\"平成\"&31&\"年\"&1,IF(AND(HW$36=5,HU$36=\"元\"),\"平成\"&31&\"年\"&1,IF(AND(HW$36>=6,HU$36=\"元\"),\"令和\"&2&\"年\"&1,IF((AND(HW$36>=1,HW$36<=5)),\"令和\"&HU$36&\"年\"&1,\"令和\"&HU$36+1&\"年\"&1)))))","v":"令和1年1"},{"$f":"IF(OR(HV91=\"\",HX$41=4),\"\",IF(AND(HW$36>=1,HW$36<=4,HU$36=31),\"平成\"&31&\"年\"&1,IF(AND(HW$36=5,HU$36=\"元\"),\"平成\"&31&\"年\"&1,IF(AND(HW$36>=6,HU$36=\"元\"),\"令和\"&2&\"年\"&1,IF((AND(HW$36>=1,HW$36<=5)),\"令和\"&HU$36&\"年\"&1,\"令和\"&HU$36+1&\"年\"&1)))))","v":"令和1年1"},null,null,null,{"$f":"IF(OR(IA91=\"\",IA$41=2),\"\",1)","v":1},{"$f":"IF(OR(IB91=\"\",ID$41=4),\"\",IF(AND(IC$36>=1,IC$36<=4,IA$36=31),\"平成\"&31&\"年\"&1,IF(AND(IC$36=5,IA$36=\"元\"),\"平成\"&31&\"年\"&1,IF(AND(IC$36>=6,IA$36=\"元\"),\"令和\"&2&\"年\"&1,IF((AND(IC$36>=1,IC$36<=5)),\"令和\"&IA$36&\"年\"&1,\"令和\"&IA$36+1&\"年\"&1)))))","v":"令和1年1"},{"$f":"IF(OR(IB91=\"\",ID$41=4),\"\",IF(AND(IC$36>=1,IC$36<=4,IA$36=31),\"平成\"&31&\"年\"&1,IF(AND(IC$36=5,IA$36=\"元\"),\"平成\"&31&\"年\"&1,IF(AND(IC$36>=6,IA$36=\"元\"),\"令和\"&2&\"年\"&1,IF((AND(IC$36>=1,IC$36<=5)),\"令和\"&IA$36&\"年\"&1,\"令和\"&IA$36+1&\"年\"&1)))))","v":"令和1年1"},null,null,null,{"$f":"IF(OR(IG91=\"\",IG$41=2),\"\",1)","v":1},{"$f":"IF(OR(IH91=\"\",IJ$41=4),\"\",IF(AND(II$36>=1,II$36<=4,IG$36=31),\"平成\"&31&\"年\"&1,IF(AND(II$36=5,IG$36=\"元\"),\"平成\"&31&\"年\"&1,IF(AND(II$36>=6,IG$36=\"元\"),\"令和\"&2&\"年\"&1,IF((AND(II$36>=1,II$36<=5)),\"令和\"&IG$36&\"年\"&1,\"令和\"&IG$36+1&\"年\"&1)))))","v":"令和1年1"},{"$f":"IF(OR(IH91=\"\",IJ$41=4),\"\",IF(AND(II$36>=1,II$36<=4,IG$36=31),\"平成\"&31&\"年\"&1,IF(AND(II$36=5,IG$36=\"元\"),\"平成\"&31&\"年\"&1,IF(AND(II$36>=6,IG$36=\"元\"),\"令和\"&2&\"年\"&1,IF((AND(II$36>=1,II$36<=5)),\"令和\"&IG$36&\"年\"&1,\"令和\"&IG$36+1&\"年\"&1)))))","v":"令和1年1"}]
[null,{"$f":"IF(AND(DK21<>\"\",DK25<>\"\",DM25<>\"\",DO25<>\"\"),DK17,\"\")","v":""},"平",3,"平3",null,{"$f":"IF(OR(G92=\"\",G$41=3),\"\",2)","v":2},{"$f":"IF(OR(H92=\"\",J$41=4),\"\",IF(AND(I$36>=1,I$36<=4,G$36=31),\"平成\"&31&\"年\"&2,IF(AND(I$36=5,G$36=\"元\"),\"平成\"&31&\"年\"&2,IF(AND(I$36>=6,G$36=\"元\"),\"令和\"&2&\"年\"&2,IF((AND(I$36>=1,I$36<=5)),\"令和\"&G$36&\"年\"&2,\"令和\"&G$36+1&\"年\"&2)))))","v":"令和1年2"},{"$f":"IF(OR(H92=\"\",J$41=4),\"\",IF(AND(I$36>=1,I$36<=4,G$36=31),\"平成\"&31&\"年\"&2,IF(AND(I$36=5,G$36=\"元\"),\"平成\"&31&\"年\"&2,IF(AND(I$36>=6,G$36=\"元\"),\"令和\"&2&\"年\"&2,IF((AND(I$36>=1,I$36<=5)),\"令和\"&G$36&\"年\"&2,\"令和\"&G$36+1&\"年\"&2)))))","v":"令和1年2"},null,null,null,{"$f":"IF(OR(M92=\"\",M$41=3),\"\",2)","v":2},{"$f":"IF(OR(N92=\"\",P$41=4),\"\",IF(AND(O$36>=1,O$36<=4,M$36=31),\"平成\"&31&\"年\"&2,IF(AND(O$36=5,M$36=\"元\"),\"平成\"&31&\"年\"&2,IF(AND(O$36>=6,M$36=\"元\"),\"令和\"&2&\"年\"&2,IF((AND(O$36>=1,O$36<=5)),\"令和\"&M$36&\"年\"&2,\"令和\"&M$36+1&\"年\"&2)))))","v":"令和1年2"},{"$f":"IF(OR(N92=\"\",P$41=4),\"\",IF(AND(O$36>=1,O$36<=4,M$36=31),\"平成\"&31&\"年\"&2,IF(AND(O$36=5,M$36=\"元\"),\"平成\"&31&\"年\"&2,IF(AND(O$36>=6,M$36=\"元\"),\"令和\"&2&\"年\"&2,IF((AND(O$36>=1,O$36<=5)),\"令和\"&M$36&\"年\"&2,\"令和\"&M$36+1&\"年\"&2)))))","v":"令和1年2"},null,null,null,{"$f":"IF(OR(S92=\"\",S$41=3),\"\",2)","v":2},{"$f":"IF(OR(T92=\"\",V$41=4),\"\",IF(AND(U$36>=1,U$36<=4,S$36=31),\"平成\"&31&\"年\"&2,IF(AND(U$36=5,S$36=\"元\"),\"平成\"&31&\"年\"&2,IF(AND(U$36>=6,S$36=\"元\"),\"令和\"&2&\"年\"&2,IF((AND(U$36>=1,U$36<=5)),\"令和\"&S$36&\"年\"&2,\"令和\"&S$36+1&\"年\"&2)))))","v":"令和1年2"},{"$f":"IF(OR(T92=\"\",V$41=4),\"\",IF(AND(U$36>=1,U$36<=4,S$36=31),\"平成\"&31&\"年\"&2,IF(AND(U$36=5,S$36=\"元\"),\"平成\"&31&\"年\"&2,IF(AND(U$36>=6,S$36=\"元\"),\"令和\"&2&\"年\"&2,IF((AND(U$36>=1,U$36<=5)),\"令和\"&S$36&\"年\"&2,\"令和\"&S$36+1&\"年\"&2)))))","v":"令和1年2"},null,null,null,{"$f":"IF(OR(Y92=\"\",Y$41=3),\"\",2)","v":2},{"$f":"IF(OR(Z92=\"\",AB$41=4),\"\",IF(AND(AA$36>=1,AA$36<=4,Y$36=31),\"平成\"&31&\"年\"&2,IF(AND(AA$36=5,Y$36=\"元\"),\"平成\"&31&\"年\"&2,IF(AND(AA$36>=6,Y$36=\"元\"),\"令和\"&2&\"年\"&2,IF((AND(AA$36>=1,AA$36<=5)),\"令和\"&Y$36&\"年\"&2,\"令和\"&Y$36+1&\"年\"&2)))))","v":"令和1年2"},{"$f":"IF(OR(Z92=\"\",AB$41=4),\"\",IF(AND(AA$36>=1,AA$36<=4,Y$36=31),\"平成\"&31&\"年\"&2,IF(AND(AA$36=5,Y$36=\"元\"),\"平成\"&31&\"年\"&2,IF(AND(AA$36>=6,Y$36=\"元\"),\"令和\"&2&\"年\"&2,IF((AND(AA$36>=1,AA$36<=5)),\"令和\"&Y$36&\"年\"&2,\"令和\"&Y$36+1&\"年\"&2)))))","v":"令和1年2"},null,null,null,{"$f":"IF(OR(AE92=\"\",AE$41=3),\"\",2)","v":2},{"$f":"IF(OR(AF92=\"\",AH$41=4),\"\",IF(AND(AG$36>=1,AG$36<=4,AE$36=31),\"平成\"&31&\"年\"&2,IF(AND(AG$36=5,AE$36=\"元\"),\"平成\"&31&\"年\"&2,IF(AND(AG$36>=6,AE$36=\"元\"),\"令和\"&2&\"年\"&2,IF((AND(AG$36>=1,AG$36<=5)),\"令和\"&AE$36&\"年\"&2,\"令和\"&AE$36+1&\"年\"&2)))))","v":"令和1年2"},{"$f":"IF(OR(AF92=\"\",AH$41=4),\"\",IF(AND(AG$36>=1,AG$36<=4,AE$36=31),\"平成\"&31&\"年\"&2,IF(AND(AG$36=5,AE$36=\"元\"),\"平成\"&31&\"年\"&2,IF(AND(AG$36>=6,AE$36=\"元\"),\"令和\"&2&\"年\"&2,IF((AND(AG$36>=1,AG$36<=5)),\"令和\"&AE$36&\"年\"&2,\"令和\"&AE$36+1&\"年\"&2)))))","v":"令和1年2"},null,null,null,{"$f":"IF(OR(AK92=\"\",AK$41=3),\"\",2)","v":2},{"$f":"IF(OR(AL92=\"\",AN$41=4),\"\",IF(AND(AM$36>=1,AM$36<=4,AK$36=31),\"平成\"&31&\"年\"&2,IF(AND(AM$36=5,AK$36=\"元\"),\"平成\"&31&\"年\"&2,IF(AND(AM$36>=6,AK$36=\"元\"),\"令和\"&2&\"年\"&2,IF((AND(AM$36>=1,AM$36<=5)),\"令和\"&AK$36&\"年\"&2,\"令和\"&AK$36+1&\"年\"&2)))))","v":"令和1年2"},{"$f":"IF(OR(AL92=\"\",AN$41=4),\"\",IF(AND(AM$36>=1,AM$36<=4,AK$36=31),\"平成\"&31&\"年\"&2,IF(AND(AM$36=5,AK$36=\"元\"),\"平成\"&31&\"年\"&2,IF(AND(AM$36>=6,AK$36=\"元\"),\"令和\"&2&\"年\"&2,IF((AND(AM$36>=1,AM$36<=5)),\"令和\"&AK$36&\"年\"&2,\"令和\"&AK$36+1&\"年\"&2)))))","v":"令和1年2"},null,null,null,{"$f":"IF(OR(AQ92=\"\",AQ$41=3),\"\",2)","v":2},{"$f":"IF(OR(AR92=\"\",AT$41=4),\"\",IF(AND(AS$36>=1,AS$36<=4,AQ$36=31),\"平成\"&31&\"年\"&2,IF(AND(AS$36=5,AQ$36=\"元\"),\"平成\"&31&\"年\"&2,IF(AND(AS$36>=6,AQ$36=\"元\"),\"令和\"&2&\"年\"&2,IF((AND(AS$36>=1,AS$36<=5)),\"令和\"&AQ$36&\"年\"&2,\"令和\"&AQ$36+1&\"年\"&2)))))","v":"令和1年2"},{"$f":"IF(OR(AR92=\"\",AT$41=4),\"\",IF(AND(AS$36>=1,AS$36<=4,AQ$36=31),\"平成\"&31&\"年\"&2,IF(AND(AS$36=5,AQ$36=\"元\"),\"平成\"&31&\"年\"&2,IF(AND(AS$36>=6,AQ$36=\"元\"),\"令和\"&2&\"年\"&2,IF((AND(AS$36>=1,AS$36<=5)),\"令和\"&AQ$36&\"年\"&2,\"令和\"&AQ$36+1&\"年\"&2)))))","v":"令和1年2"},null,null,null,{"$f":"IF(OR(AW92=\"\",AW$41=3),\"\",2)","v":2},{"$f":"IF(OR(AX92=\"\",AZ$41=4),\"\",IF(AND(AY$36>=1,AY$36<=4,AW$36=31),\"平成\"&31&\"年\"&2,IF(AND(AY$36=5,AW$36=\"元\"),\"平成\"&31&\"年\"&2,IF(AND(AY$36>=6,AW$36=\"元\"),\"令和\"&2&\"年\"&2,IF((AND(AY$36>=1,AY$36<=5)),\"令和\"&AW$36&\"年\"&2,\"令和\"&AW$36+1&\"年\"&2)))))","v":"令和1年2"},{"$f":"IF(OR(AX92=\"\",AZ$41=4),\"\",IF(AND(AY$36>=1,AY$36<=4,AW$36=31),\"平成\"&31&\"年\"&2,IF(AND(AY$36=5,AW$36=\"元\"),\"平成\"&31&\"年\"&2,IF(AND(AY$36>=6,AW$36=\"元\"),\"令和\"&2&\"年\"&2,IF((AND(AY$36>=1,AY$36<=5)),\"令和\"&AW$36&\"年\"&2,\"令和\"&AW$36+1&\"年\"&2)))))","v":"令和1年2"},null,null,null,{"$f":"IF(OR(BC92=\"\",BC$41=3),\"\",2)","v":2},{"$f":"IF(OR(BD92=\"\",BF$41=4),\"\",IF(AND(BE$36>=1,BE$36<=4,BC$36=31),\"平成\"&31&\"年\"&2,IF(AND(BE$36=5,BC$36=\"元\"),\"平成\"&31&\"年\"&2,IF(AND(BE$36>=6,BC$36=\"元\"),\"令和\"&2&\"年\"&2,IF((AND(BE$36>=1,BE$36<=5)),\"令和\"&BC$36&\"年\"&2,\"令和\"&BC$36+1&\"年\"&2)))))","v":"令和1年2"},{"$f":"IF(OR(BD92=\"\",BF$41=4),\"\",IF(AND(BE$36>=1,BE$36<=4,BC$36=31),\"平成\"&31&\"年\"&2,IF(AND(BE$36=5,BC$36=\"元\"),\"平成\"&31&\"年\"&2,IF(AND(BE$36>=6,BC$36=\"元\"),\"令和\"&2&\"年\"&2,IF((AND(BE$36>=1,BE$36<=5)),\"令和\"&BC$36&\"年\"&2,\"令和\"&BC$36+1&\"年\"&2)))))","v":"令和1年2"},null,null,null,{"$f":"IF(OR(BI92=\"\",BI$41=3),\"\",2)","v":2},{"$f":"IF(OR(BJ92=\"\",BL$41=4),\"\",IF(AND(BK$36>=1,BK$36<=4,BI$36=31),\"平成\"&31&\"年\"&2,IF(AND(BK$36=5,BI$36=\"元\"),\"平成\"&31&\"年\"&2,IF(AND(BK$36>=6,BI$36=\"元\"),\"令和\"&2&\"年\"&2,IF((AND(BK$36>=1,BK$36<=5)),\"令和\"&BI$36&\"年\"&2,\"令和\"&BI$36+1&\"年\"&2)))))","v":"令和1年2"},{"$f":"IF(OR(BJ92=\"\",BL$41=4),\"\",IF(AND(BK$36>=1,BK$36<=4,BI$36=31),\"平成\"&31&\"年\"&2,IF(AND(BK$36=5,BI$36=\"元\"),\"平成\"&31&\"年\"&2,IF(AND(BK$36>=6,BI$36=\"元\"),\"令和\"&2&\"年\"&2,IF((AND(BK$36>=1,BK$36<=5)),\"令和\"&BI$36&\"年\"&2,\"令和\"&BI$36+1&\"年\"&2)))))","v":"令和1年2"},null,null,null,{"$f":"IF(OR(BO92=\"\",BO$41=3),\"\",2)","v":2},{"$f":"IF(OR(BP92=\"\",BR$41=4),\"\",IF(AND(BQ$36>=1,BQ$36<=4,BO$36=31),\"平成\"&31&\"年\"&2,IF(AND(BQ$36=5,BO$36=\"元\"),\"平成\"&31&\"年\"&2,IF(AND(BQ$36>=6,BO$36=\"元\"),\"令和\"&2&\"年\"&2,IF((AND(BQ$36>=1,BQ$36<=5)),\"令和\"&BO$36&\"年\"&2,\"令和\"&BO$36+1&\"年\"&2)))))","v":"令和1年2"},{"$f":"IF(OR(BP92=\"\",BR$41=4),\"\",IF(AND(BQ$36>=1,BQ$36<=4,BO$36=31),\"平成\"&31&\"年\"&2,IF(AND(BQ$36=5,BO$36=\"元\"),\"平成\"&31&\"年\"&2,IF(AND(BQ$36>=6,BO$36=\"元\"),\"令和\"&2&\"年\"&2,IF((AND(BQ$36>=1,BQ$36<=5)),\"令和\"&BO$36&\"年\"&2,\"令和\"&BO$36+1&\"年\"&2)))))","v":"令和1年2"},null,null,null,{"$f":"IF(OR(BU92=\"\",BU$41=3),\"\",2)","v":2},{"$f":"IF(OR(BV92=\"\",BX$41=4),\"\",IF(AND(BW$36>=1,BW$36<=4,BU$36=31),\"平成\"&31&\"年\"&2,IF(AND(BW$36=5,BU$36=\"元\"),\"平成\"&31&\"年\"&2,IF(AND(BW$36>=6,BU$36=\"元\"),\"令和\"&2&\"年\"&2,IF((AND(BW$36>=1,BW$36<=5)),\"令和\"&BU$36&\"年\"&2,\"令和\"&BU$36+1&\"年\"&2)))))","v":"令和1年2"},{"$f":"IF(OR(BV92=\"\",BX$41=4),\"\",IF(AND(BW$36>=1,BW$36<=4,BU$36=31),\"平成\"&31&\"年\"&2,IF(AND(BW$36=5,BU$36=\"元\"),\"平成\"&31&\"年\"&2,IF(AND(BW$36>=6,BU$36=\"元\"),\"令和\"&2&\"年\"&2,IF((AND(BW$36>=1,BW$36<=5)),\"令和\"&BU$36&\"年\"&2,\"令和\"&BU$36+1&\"年\"&2)))))","v":"令和1年2"},null,null,null,{"$f":"IF(OR(CA92=\"\",CA$41=3),\"\",2)","v":2},{"$f":"IF(OR(CB92=\"\",CD$41=4),\"\",IF(AND(CC$36>=1,CC$36<=4,CA$36=31),\"平成\"&31&\"年\"&2,IF(AND(CC$36=5,CA$36=\"元\"),\"平成\"&31&\"年\"&2,IF(AND(CC$36>=6,CA$36=\"元\"),\"令和\"&2&\"年\"&2,IF((AND(CC$36>=1,CC$36<=5)),\"令和\"&CA$36&\"年\"&2,\"令和\"&CA$36+1&\"年\"&2)))))","v":"令和1年2"},{"$f":"IF(OR(CB92=\"\",CD$41=4),\"\",IF(AND(CC$36>=1,CC$36<=4,CA$36=31),\"平成\"&31&\"年\"&2,IF(AND(CC$36=5,CA$36=\"元\"),\"平成\"&31&\"年\"&2,IF(AND(CC$36>=6,CA$36=\"元\"),\"令和\"&2&\"年\"&2,IF((AND(CC$36>=1,CC$36<=5)),\"令和\"&CA$36&\"年\"&2,\"令和\"&CA$36+1&\"年\"&2)))))","v":"令和1年2"},null,null,null,{"$f":"IF(OR(CG92=\"\",CG$41=3),\"\",2)","v":2},{"$f":"IF(OR(CH92=\"\",CJ$41=4),\"\",IF(AND(CI$36>=1,CI$36<=4,CG$36=31),\"平成\"&31&\"年\"&2,IF(AND(CI$36=5,CG$36=\"元\"),\"平成\"&31&\"年\"&2,IF(AND(CI$36>=6,CG$36=\"元\"),\"令和\"&2&\"年\"&2,IF((AND(CI$36>=1,CI$36<=5)),\"令和\"&CG$36&\"年\"&2,\"令和\"&CG$36+1&\"年\"&2)))))","v":"令和1年2"},{"$f":"IF(OR(CH92=\"\",CJ$41=4),\"\",IF(AND(CI$36>=1,CI$36<=4,CG$36=31),\"平成\"&31&\"年\"&2,IF(AND(CI$36=5,CG$36=\"元\"),\"平成\"&31&\"年\"&2,IF(AND(CI$36>=6,CG$36=\"元\"),\"令和\"&2&\"年\"&2,IF((AND(CI$36>=1,CI$36<=5)),\"令和\"&CG$36&\"年\"&2,\"令和\"&CG$36+1&\"年\"&2)))))","v":"令和1年2"},null,null,null,{"$f":"IF(OR(CM92=\"\",CM$41=3),\"\",2)","v":2},{"$f":"IF(OR(CN92=\"\",CP$41=4),\"\",IF(AND(CO$36>=1,CO$36<=4,CM$36=31),\"平成\"&31&\"年\"&2,IF(AND(CO$36=5,CM$36=\"元\"),\"平成\"&31&\"年\"&2,IF(AND(CO$36>=6,CM$36=\"元\"),\"令和\"&2&\"年\"&2,IF((AND(CO$36>=1,CO$36<=5)),\"令和\"&CM$36&\"年\"&2,\"令和\"&CM$36+1&\"年\"&2)))))","v":"令和1年2"},{"$f":"IF(OR(CN92=\"\",CP$41=4),\"\",IF(AND(CO$36>=1,CO$36<=4,CM$36=31),\"平成\"&31&\"年\"&2,IF(AND(CO$36=5,CM$36=\"元\"),\"平成\"&31&\"年\"&2,IF(AND(CO$36>=6,CM$36=\"元\"),\"令和\"&2&\"年\"&2,IF((AND(CO$36>=1,CO$36<=5)),\"令和\"&CM$36&\"年\"&2,\"令和\"&CM$36+1&\"年\"&2)))))","v":"令和1年2"},null,null,null,{"$f":"IF(OR(CS92=\"\",CS$41=3),\"\",2)","v":2},{"$f":"IF(OR(CT92=\"\",CV$41=4),\"\",IF(AND(CU$36>=1,CU$36<=4,CS$36=31),\"平成\"&31&\"年\"&2,IF(AND(CU$36=5,CS$36=\"元\"),\"平成\"&31&\"年\"&2,IF(AND(CU$36>=6,CS$36=\"元\"),\"令和\"&2&\"年\"&2,IF((AND(CU$36>=1,CU$36<=5)),\"令和\"&CS$36&\"年\"&2,\"令和\"&CS$36+1&\"年\"&2)))))","v":"令和1年2"},{"$f":"IF(OR(CT92=\"\",CV$41=4),\"\",IF(AND(CU$36>=1,CU$36<=4,CS$36=31),\"平成\"&31&\"年\"&2,IF(AND(CU$36=5,CS$36=\"元\"),\"平成\"&31&\"年\"&2,IF(AND(CU$36>=6,CS$36=\"元\"),\"令和\"&2&\"年\"&2,IF((AND(CU$36>=1,CU$36<=5)),\"令和\"&CS$36&\"年\"&2,\"令和\"&CS$36+1&\"年\"&2)))))","v":"令和1年2"},null,null,null,{"$f":"IF(OR(CY92=\"\",CY$41=3),\"\",2)","v":2},{"$f":"IF(OR(CZ92=\"\",DB$41=4),\"\",IF(AND(DA$36>=1,DA$36<=4,CY$36=31),\"平成\"&31&\"年\"&2,IF(AND(DA$36=5,CY$36=\"元\"),\"平成\"&31&\"年\"&2,IF(AND(DA$36>=6,CY$36=\"元\"),\"令和\"&2&\"年\"&2,IF((AND(DA$36>=1,DA$36<=5)),\"令和\"&CY$36&\"年\"&2,\"令和\"&CY$36+1&\"年\"&2)))))","v":"令和1年2"},{"$f":"IF(OR(CZ92=\"\",DB$41=4),\"\",IF(AND(DA$36>=1,DA$36<=4,CY$36=31),\"平成\"&31&\"年\"&2,IF(AND(DA$36=5,CY$36=\"元\"),\"平成\"&31&\"年\"&2,IF(AND(DA$36>=6,CY$36=\"元\"),\"令和\"&2&\"年\"&2,IF((AND(DA$36>=1,DA$36<=5)),\"令和\"&CY$36&\"年\"&2,\"令和\"&CY$36+1&\"年\"&2)))))","v":"令和1年2"},null,null,null,{"$f":"IF(OR(DE92=\"\",DE$41=3),\"\",2)","v":2},{"$f":"IF(OR(DF92=\"\",DH$41=4),\"\",IF(AND(DG$36>=1,DG$36<=4,DE$36=31),\"平成\"&31&\"年\"&2,IF(AND(DG$36=5,DE$36=\"元\"),\"平成\"&31&\"年\"&2,IF(AND(DG$36>=6,DE$36=\"元\"),\"令和\"&2&\"年\"&2,IF((AND(DG$36>=1,DG$36<=5)),\"令和\"&DE$36&\"年\"&2,\"令和\"&DE$36+1&\"年\"&2)))))","v":"令和1年2"},{"$f":"IF(OR(DF92=\"\",DH$41=4),\"\",IF(AND(DG$36>=1,DG$36<=4,DE$36=31),\"平成\"&31&\"年\"&2,IF(AND(DG$36=5,DE$36=\"元\"),\"平成\"&31&\"年\"&2,IF(AND(DG$36>=6,DE$36=\"元\"),\"令和\"&2&\"年\"&2,IF((AND(DG$36>=1,DG$36<=5)),\"令和\"&DE$36&\"年\"&2,\"令和\"&DE$36+1&\"年\"&2)))))","v":"令和1年2"},null,null,null,{"$f":"IF(OR(DK92=\"\",DK$41=3),\"\",2)","v":2},{"$f":"IF(OR(DL92=\"\",DN$41=4),\"\",IF(AND(DM$36>=1,DM$36<=4,DK$36=31),\"平成\"&31&\"年\"&2,IF(AND(DM$36=5,DK$36=\"元\"),\"平成\"&31&\"年\"&2,IF(AND(DM$36>=6,DK$36=\"元\"),\"令和\"&2&\"年\"&2,IF((AND(DM$36>=1,DM$36<=5)),\"令和\"&DK$36&\"年\"&2,\"令和\"&DK$36+1&\"年\"&2)))))","v":"令和1年2"},{"$f":"IF(OR(DL92=\"\",DN$41=4),\"\",IF(AND(DM$36>=1,DM$36<=4,DK$36=31),\"平成\"&31&\"年\"&2,IF(AND(DM$36=5,DK$36=\"元\"),\"平成\"&31&\"年\"&2,IF(AND(DM$36>=6,DK$36=\"元\"),\"令和\"&2&\"年\"&2,IF((AND(DM$36>=1,DM$36<=5)),\"令和\"&DK$36&\"年\"&2,\"令和\"&DK$36+1&\"年\"&2)))))","v":"令和1年2"},null,null,null,{"$f":"IF(OR(DQ92=\"\",DQ$41=3),\"\",2)","v":2},{"$f":"IF(OR(DR92=\"\",DT$41=4),\"\",IF(AND(DS$36>=1,DS$36<=4,DQ$36=31),\"平成\"&31&\"年\"&2,IF(AND(DS$36=5,DQ$36=\"元\"),\"平成\"&31&\"年\"&2,IF(AND(DS$36>=6,DQ$36=\"元\"),\"令和\"&2&\"年\"&2,IF((AND(DS$36>=1,DS$36<=5)),\"令和\"&DQ$36&\"年\"&2,\"令和\"&DQ$36+1&\"年\"&2)))))","v":"令和1年2"},{"$f":"IF(OR(DR92=\"\",DT$41=4),\"\",IF(AND(DS$36>=1,DS$36<=4,DQ$36=31),\"平成\"&31&\"年\"&2,IF(AND(DS$36=5,DQ$36=\"元\"),\"平成\"&31&\"年\"&2,IF(AND(DS$36>=6,DQ$36=\"元\"),\"令和\"&2&\"年\"&2,IF((AND(DS$36>=1,DS$36<=5)),\"令和\"&DQ$36&\"年\"&2,\"令和\"&DQ$36+1&\"年\"&2)))))","v":"令和1年2"},null,null,null,{"$f":"IF(OR(DW92=\"\",DW$41=3),\"\",2)","v":2},{"$f":"IF(OR(DX92=\"\",DZ$41=4),\"\",IF(AND(DY$36>=1,DY$36<=4,DW$36=31),\"平成\"&31&\"年\"&2,IF(AND(DY$36=5,DW$36=\"元\"),\"平成\"&31&\"年\"&2,IF(AND(DY$36>=6,DW$36=\"元\"),\"令和\"&2&\"年\"&2,IF((AND(DY$36>=1,DY$36<=5)),\"令和\"&DW$36&\"年\"&2,\"令和\"&DW$36+1&\"年\"&2)))))","v":"令和1年2"},{"$f":"IF(OR(DX92=\"\",DZ$41=4),\"\",IF(AND(DY$36>=1,DY$36<=4,DW$36=31),\"平成\"&31&\"年\"&2,IF(AND(DY$36=5,DW$36=\"元\"),\"平成\"&31&\"年\"&2,IF(AND(DY$36>=6,DW$36=\"元\"),\"令和\"&2&\"年\"&2,IF((AND(DY$36>=1,DY$36<=5)),\"令和\"&DW$36&\"年\"&2,\"令和\"&DW$36+1&\"年\"&2)))))","v":"令和1年2"},null,null,null,{"$f":"IF(OR(EC92=\"\",EC$41=3),\"\",2)","v":2},{"$f":"IF(OR(ED92=\"\",EF$41=4),\"\",IF(AND(EE$36>=1,EE$36<=4,EC$36=31),\"平成\"&31&\"年\"&2,IF(AND(EE$36=5,EC$36=\"元\"),\"平成\"&31&\"年\"&2,IF(AND(EE$36>=6,EC$36=\"元\"),\"令和\"&2&\"年\"&2,IF((AND(EE$36>=1,EE$36<=5)),\"令和\"&EC$36&\"年\"&2,\"令和\"&EC$36+1&\"年\"&2)))))","v":"令和1年2"},{"$f":"IF(OR(ED92=\"\",EF$41=4),\"\",IF(AND(EE$36>=1,EE$36<=4,EC$36=31),\"平成\"&31&\"年\"&2,IF(AND(EE$36=5,EC$36=\"元\"),\"平成\"&31&\"年\"&2,IF(AND(EE$36>=6,EC$36=\"元\"),\"令和\"&2&\"年\"&2,IF((AND(EE$36>=1,EE$36<=5)),\"令和\"&EC$36&\"年\"&2,\"令和\"&EC$36+1&\"年\"&2)))))","v":"令和1年2"},null,null,null,{"$f":"IF(OR(EI92=\"\",EI$41=3),\"\",2)","v":2},{"$f":"IF(OR(EJ92=\"\",EL$41=4),\"\",IF(AND(EK$36>=1,EK$36<=4,EI$36=31),\"平成\"&31&\"年\"&2,IF(AND(EK$36=5,EI$36=\"元\"),\"平成\"&31&\"年\"&2,IF(AND(EK$36>=6,EI$36=\"元\"),\"令和\"&2&\"年\"&2,IF((AND(EK$36>=1,EK$36<=5)),\"令和\"&EI$36&\"年\"&2,\"令和\"&EI$36+1&\"年\"&2)))))","v":"令和1年2"},{"$f":"IF(OR(EJ92=\"\",EL$41=4),\"\",IF(AND(EK$36>=1,EK$36<=4,EI$36=31),\"平成\"&31&\"年\"&2,IF(AND(EK$36=5,EI$36=\"元\"),\"平成\"&31&\"年\"&2,IF(AND(EK$36>=6,EI$36=\"元\"),\"令和\"&2&\"年\"&2,IF((AND(EK$36>=1,EK$36<=5)),\"令和\"&EI$36&\"年\"&2,\"令和\"&EI$36+1&\"年\"&2)))))","v":"令和1年2"},null,null,null,{"$f":"IF(OR(EO92=\"\",EO$41=3),\"\",2)","v":2},{"$f":"IF(OR(EP92=\"\",ER$41=4),\"\",IF(AND(EQ$36>=1,EQ$36<=4,EO$36=31),\"平成\"&31&\"年\"&2,IF(AND(EQ$36=5,EO$36=\"元\"),\"平成\"&31&\"年\"&2,IF(AND(EQ$36>=6,EO$36=\"元\"),\"令和\"&2&\"年\"&2,IF((AND(EQ$36>=1,EQ$36<=5)),\"令和\"&EO$36&\"年\"&2,\"令和\"&EO$36+1&\"年\"&2)))))","v":"令和1年2"},{"$f":"IF(OR(EP92=\"\",ER$41=4),\"\",IF(AND(EQ$36>=1,EQ$36<=4,EO$36=31),\"平成\"&31&\"年\"&2,IF(AND(EQ$36=5,EO$36=\"元\"),\"平成\"&31&\"年\"&2,IF(AND(EQ$36>=6,EO$36=\"元\"),\"令和\"&2&\"年\"&2,IF((AND(EQ$36>=1,EQ$36<=5)),\"令和\"&EO$36&\"年\"&2,\"令和\"&EO$36+1&\"年\"&2)))))","v":"令和1年2"},null,null,null,{"$f":"IF(OR(EU92=\"\",EU$41=3),\"\",2)","v":2},{"$f":"IF(OR(EV92=\"\",EX$41=4),\"\",IF(AND(EW$36>=1,EW$36<=4,EU$36=31),\"平成\"&31&\"年\"&2,IF(AND(EW$36=5,EU$36=\"元\"),\"平成\"&31&\"年\"&2,IF(AND(EW$36>=6,EU$36=\"元\"),\"令和\"&2&\"年\"&2,IF((AND(EW$36>=1,EW$36<=5)),\"令和\"&EU$36&\"年\"&2,\"令和\"&EU$36+1&\"年\"&2)))))","v":"令和1年2"},{"$f":"IF(OR(EV92=\"\",EX$41=4),\"\",IF(AND(EW$36>=1,EW$36<=4,EU$36=31),\"平成\"&31&\"年\"&2,IF(AND(EW$36=5,EU$36=\"元\"),\"平成\"&31&\"年\"&2,IF(AND(EW$36>=6,EU$36=\"元\"),\"令和\"&2&\"年\"&2,IF((AND(EW$36>=1,EW$36<=5)),\"令和\"&EU$36&\"年\"&2,\"令和\"&EU$36+1&\"年\"&2)))))","v":"令和1年2"},null,null,null,{"$f":"IF(OR(FA92=\"\",FA$41=3),\"\",2)","v":2},{"$f":"IF(OR(FB92=\"\",FD$41=4),\"\",IF(AND(FC$36>=1,FC$36<=4,FA$36=31),\"平成\"&31&\"年\"&2,IF(AND(FC$36=5,FA$36=\"元\"),\"平成\"&31&\"年\"&2,IF(AND(FC$36>=6,FA$36=\"元\"),\"令和\"&2&\"年\"&2,IF((AND(FC$36>=1,FC$36<=5)),\"令和\"&FA$36&\"年\"&2,\"令和\"&FA$36+1&\"年\"&2)))))","v":"令和1年2"},{"$f":"IF(OR(FB92=\"\",FD$41=4),\"\",IF(AND(FC$36>=1,FC$36<=4,FA$36=31),\"平成\"&31&\"年\"&2,IF(AND(FC$36=5,FA$36=\"元\"),\"平成\"&31&\"年\"&2,IF(AND(FC$36>=6,FA$36=\"元\"),\"令和\"&2&\"年\"&2,IF((AND(FC$36>=1,FC$36<=5)),\"令和\"&FA$36&\"年\"&2,\"令和\"&FA$36+1&\"年\"&2)))))","v":"令和1年2"},null,null,null,{"$f":"IF(OR(FG92=\"\",FG$41=3),\"\",2)","v":2},{"$f":"IF(OR(FH92=\"\",FJ$41=4),\"\",IF(AND(FI$36>=1,FI$36<=4,FG$36=31),\"平成\"&31&\"年\"&2,IF(AND(FI$36=5,FG$36=\"元\"),\"平成\"&31&\"年\"&2,IF(AND(FI$36>=6,FG$36=\"元\"),\"令和\"&2&\"年\"&2,IF((AND(FI$36>=1,FI$36<=5)),\"令和\"&FG$36&\"年\"&2,\"令和\"&FG$36+1&\"年\"&2)))))","v":"令和1年2"},{"$f":"IF(OR(FH92=\"\",FJ$41=4),\"\",IF(AND(FI$36>=1,FI$36<=4,FG$36=31),\"平成\"&31&\"年\"&2,IF(AND(FI$36=5,FG$36=\"元\"),\"平成\"&31&\"年\"&2,IF(AND(FI$36>=6,FG$36=\"元\"),\"令和\"&2&\"年\"&2,IF((AND(FI$36>=1,FI$36<=5)),\"令和\"&FG$36&\"年\"&2,\"令和\"&FG$36+1&\"年\"&2)))))","v":"令和1年2"},null,null,null,{"$f":"IF(OR(FM92=\"\",FM$41=3),\"\",2)","v":2},{"$f":"IF(OR(FN92=\"\",FP$41=4),\"\",IF(AND(FO$36>=1,FO$36<=4,FM$36=31),\"平成\"&31&\"年\"&2,IF(AND(FO$36=5,FM$36=\"元\"),\"平成\"&31&\"年\"&2,IF(AND(FO$36>=6,FM$36=\"元\"),\"令和\"&2&\"年\"&2,IF((AND(FO$36>=1,FO$36<=5)),\"令和\"&FM$36&\"年\"&2,\"令和\"&FM$36+1&\"年\"&2)))))","v":"令和1年2"},{"$f":"IF(OR(FN92=\"\",FP$41=4),\"\",IF(AND(FO$36>=1,FO$36<=4,FM$36=31),\"平成\"&31&\"年\"&2,IF(AND(FO$36=5,FM$36=\"元\"),\"平成\"&31&\"年\"&2,IF(AND(FO$36>=6,FM$36=\"元\"),\"令和\"&2&\"年\"&2,IF((AND(FO$36>=1,FO$36<=5)),\"令和\"&FM$36&\"年\"&2,\"令和\"&FM$36+1&\"年\"&2)))))","v":"令和1年2"},null,null,null,{"$f":"IF(OR(FS92=\"\",FS$41=3),\"\",2)","v":2},{"$f":"IF(OR(FT92=\"\",FV$41=4),\"\",IF(AND(FU$36>=1,FU$36<=4,FS$36=31),\"平成\"&31&\"年\"&2,IF(AND(FU$36=5,FS$36=\"元\"),\"平成\"&31&\"年\"&2,IF(AND(FU$36>=6,FS$36=\"元\"),\"令和\"&2&\"年\"&2,IF((AND(FU$36>=1,FU$36<=5)),\"令和\"&FS$36&\"年\"&2,\"令和\"&FS$36+1&\"年\"&2)))))","v":"令和1年2"},{"$f":"IF(OR(FT92=\"\",FV$41=4),\"\",IF(AND(FU$36>=1,FU$36<=4,FS$36=31),\"平成\"&31&\"年\"&2,IF(AND(FU$36=5,FS$36=\"元\"),\"平成\"&31&\"年\"&2,IF(AND(FU$36>=6,FS$36=\"元\"),\"令和\"&2&\"年\"&2,IF((AND(FU$36>=1,FU$36<=5)),\"令和\"&FS$36&\"年\"&2,\"令和\"&FS$36+1&\"年\"&2)))))","v":"令和1年2"},null,null,null,{"$f":"IF(OR(FY92=\"\",FY$41=3),\"\",2)","v":2},{"$f":"IF(OR(FZ92=\"\",GB$41=4),\"\",IF(AND(GA$36>=1,GA$36<=4,FY$36=31),\"平成\"&31&\"年\"&2,IF(AND(GA$36=5,FY$36=\"元\"),\"平成\"&31&\"年\"&2,IF(AND(GA$36>=6,FY$36=\"元\"),\"令和\"&2&\"年\"&2,IF((AND(GA$36>=1,GA$36<=5)),\"令和\"&FY$36&\"年\"&2,\"令和\"&FY$36+1&\"年\"&2)))))","v":"令和1年2"},{"$f":"IF(OR(FZ92=\"\",GB$41=4),\"\",IF(AND(GA$36>=1,GA$36<=4,FY$36=31),\"平成\"&31&\"年\"&2,IF(AND(GA$36=5,FY$36=\"元\"),\"平成\"&31&\"年\"&2,IF(AND(GA$36>=6,FY$36=\"元\"),\"令和\"&2&\"年\"&2,IF((AND(GA$36>=1,GA$36<=5)),\"令和\"&FY$36&\"年\"&2,\"令和\"&FY$36+1&\"年\"&2)))))","v":"令和1年2"},null,null,null,{"$f":"IF(OR(GE92=\"\",GE$41=3),\"\",2)","v":2},{"$f":"IF(OR(GF92=\"\",GH$41=4),\"\",IF(AND(GG$36>=1,GG$36<=4,GE$36=31),\"平成\"&31&\"年\"&2,IF(AND(GG$36=5,GE$36=\"元\"),\"平成\"&31&\"年\"&2,IF(AND(GG$36>=6,GE$36=\"元\"),\"令和\"&2&\"年\"&2,IF((AND(GG$36>=1,GG$36<=5)),\"令和\"&GE$36&\"年\"&2,\"令和\"&GE$36+1&\"年\"&2)))))","v":"令和1年2"},{"$f":"IF(OR(GF92=\"\",GH$41=4),\"\",IF(AND(GG$36>=1,GG$36<=4,GE$36=31),\"平成\"&31&\"年\"&2,IF(AND(GG$36=5,GE$36=\"元\"),\"平成\"&31&\"年\"&2,IF(AND(GG$36>=6,GE$36=\"元\"),\"令和\"&2&\"年\"&2,IF((AND(GG$36>=1,GG$36<=5)),\"令和\"&GE$36&\"年\"&2,\"令和\"&GE$36+1&\"年\"&2)))))","v":"令和1年2"},null,null,null,{"$f":"IF(OR(GK92=\"\",GK$41=3),\"\",2)","v":2},{"$f":"IF(OR(GL92=\"\",GN$41=4),\"\",IF(AND(GM$36>=1,GM$36<=4,GK$36=31),\"平成\"&31&\"年\"&2,IF(AND(GM$36=5,GK$36=\"元\"),\"平成\"&31&\"年\"&2,IF(AND(GM$36>=6,GK$36=\"元\"),\"令和\"&2&\"年\"&2,IF((AND(GM$36>=1,GM$36<=5)),\"令和\"&GK$36&\"年\"&2,\"令和\"&GK$36+1&\"年\"&2)))))","v":"令和1年2"},{"$f":"IF(OR(GL92=\"\",GN$41=4),\"\",IF(AND(GM$36>=1,GM$36<=4,GK$36=31),\"平成\"&31&\"年\"&2,IF(AND(GM$36=5,GK$36=\"元\"),\"平成\"&31&\"年\"&2,IF(AND(GM$36>=6,GK$36=\"元\"),\"令和\"&2&\"年\"&2,IF((AND(GM$36>=1,GM$36<=5)),\"令和\"&GK$36&\"年\"&2,\"令和\"&GK$36+1&\"年\"&2)))))","v":"令和1年2"},null,null,null,{"$f":"IF(OR(GQ92=\"\",GQ$41=3),\"\",2)","v":2},{"$f":"IF(OR(GR92=\"\",GT$41=4),\"\",IF(AND(GS$36>=1,GS$36<=4,GQ$36=31),\"平成\"&31&\"年\"&2,IF(AND(GS$36=5,GQ$36=\"元\"),\"平成\"&31&\"年\"&2,IF(AND(GS$36>=6,GQ$36=\"元\"),\"令和\"&2&\"年\"&2,IF((AND(GS$36>=1,GS$36<=5)),\"令和\"&GQ$36&\"年\"&2,\"令和\"&GQ$36+1&\"年\"&2)))))","v":"令和1年2"},{"$f":"IF(OR(GR92=\"\",GT$41=4),\"\",IF(AND(GS$36>=1,GS$36<=4,GQ$36=31),\"平成\"&31&\"年\"&2,IF(AND(GS$36=5,GQ$36=\"元\"),\"平成\"&31&\"年\"&2,IF(AND(GS$36>=6,GQ$36=\"元\"),\"令和\"&2&\"年\"&2,IF((AND(GS$36>=1,GS$36<=5)),\"令和\"&GQ$36&\"年\"&2,\"令和\"&GQ$36+1&\"年\"&2)))))","v":"令和1年2"},null,null,null,{"$f":"IF(OR(GW92=\"\",GW$41=3),\"\",2)","v":2},{"$f":"IF(OR(GX92=\"\",GZ$41=4),\"\",IF(AND(GY$36>=1,GY$36<=4,GW$36=31),\"平成\"&31&\"年\"&2,IF(AND(GY$36=5,GW$36=\"元\"),\"平成\"&31&\"年\"&2,IF(AND(GY$36>=6,GW$36=\"元\"),\"令和\"&2&\"年\"&2,IF((AND(GY$36>=1,GY$36<=5)),\"令和\"&GW$36&\"年\"&2,\"令和\"&GW$36+1&\"年\"&2)))))","v":"令和1年2"},{"$f":"IF(OR(GX92=\"\",GZ$41=4),\"\",IF(AND(GY$36>=1,GY$36<=4,GW$36=31),\"平成\"&31&\"年\"&2,IF(AND(GY$36=5,GW$36=\"元\"),\"平成\"&31&\"年\"&2,IF(AND(GY$36>=6,GW$36=\"元\"),\"令和\"&2&\"年\"&2,IF((AND(GY$36>=1,GY$36<=5)),\"令和\"&GW$36&\"年\"&2,\"令和\"&GW$36+1&\"年\"&2)))))","v":"令和1年2"},null,null,null,{"$f":"IF(OR(HC92=\"\",HC$41=3),\"\",2)","v":2},{"$f":"IF(OR(HD92=\"\",HF$41=4),\"\",IF(AND(HE$36>=1,HE$36<=4,HC$36=31),\"平成\"&31&\"年\"&2,IF(AND(HE$36=5,HC$36=\"元\"),\"平成\"&31&\"年\"&2,IF(AND(HE$36>=6,HC$36=\"元\"),\"令和\"&2&\"年\"&2,IF((AND(HE$36>=1,HE$36<=5)),\"令和\"&HC$36&\"年\"&2,\"令和\"&HC$36+1&\"年\"&2)))))","v":"令和1年2"},{"$f":"IF(OR(HD92=\"\",HF$41=4),\"\",IF(AND(HE$36>=1,HE$36<=4,HC$36=31),\"平成\"&31&\"年\"&2,IF(AND(HE$36=5,HC$36=\"元\"),\"平成\"&31&\"年\"&2,IF(AND(HE$36>=6,HC$36=\"元\"),\"令和\"&2&\"年\"&2,IF((AND(HE$36>=1,HE$36<=5)),\"令和\"&HC$36&\"年\"&2,\"令和\"&HC$36+1&\"年\"&2)))))","v":"令和1年2"},null,null,null,{"$f":"IF(OR(HI92=\"\",HI$41=3),\"\",2)","v":2},{"$f":"IF(OR(HJ92=\"\",HL$41=4),\"\",IF(AND(HK$36>=1,HK$36<=4,HI$36=31),\"平成\"&31&\"年\"&2,IF(AND(HK$36=5,HI$36=\"元\"),\"平成\"&31&\"年\"&2,IF(AND(HK$36>=6,HI$36=\"元\"),\"令和\"&2&\"年\"&2,IF((AND(HK$36>=1,HK$36<=5)),\"令和\"&HI$36&\"年\"&2,\"令和\"&HI$36+1&\"年\"&2)))))","v":"令和1年2"},{"$f":"IF(OR(HJ92=\"\",HL$41=4),\"\",IF(AND(HK$36>=1,HK$36<=4,HI$36=31),\"平成\"&31&\"年\"&2,IF(AND(HK$36=5,HI$36=\"元\"),\"平成\"&31&\"年\"&2,IF(AND(HK$36>=6,HI$36=\"元\"),\"令和\"&2&\"年\"&2,IF((AND(HK$36>=1,HK$36<=5)),\"令和\"&HI$36&\"年\"&2,\"令和\"&HI$36+1&\"年\"&2)))))","v":"令和1年2"},null,null,null,{"$f":"IF(OR(HO92=\"\",HO$41=3),\"\",2)","v":2},{"$f":"IF(OR(HP92=\"\",HR$41=4),\"\",IF(AND(HQ$36>=1,HQ$36<=4,HO$36=31),\"平成\"&31&\"年\"&2,IF(AND(HQ$36=5,HO$36=\"元\"),\"平成\"&31&\"年\"&2,IF(AND(HQ$36>=6,HO$36=\"元\"),\"令和\"&2&\"年\"&2,IF((AND(HQ$36>=1,HQ$36<=5)),\"令和\"&HO$36&\"年\"&2,\"令和\"&HO$36+1&\"年\"&2)))))","v":"令和1年2"},{"$f":"IF(OR(HP92=\"\",HR$41=4),\"\",IF(AND(HQ$36>=1,HQ$36<=4,HO$36=31),\"平成\"&31&\"年\"&2,IF(AND(HQ$36=5,HO$36=\"元\"),\"平成\"&31&\"年\"&2,IF(AND(HQ$36>=6,HO$36=\"元\"),\"令和\"&2&\"年\"&2,IF((AND(HQ$36>=1,HQ$36<=5)),\"令和\"&HO$36&\"年\"&2,\"令和\"&HO$36+1&\"年\"&2)))))","v":"令和1年2"},null,null,null,{"$f":"IF(OR(HU92=\"\",HU$41=3),\"\",2)","v":2},{"$f":"IF(OR(HV92=\"\",HX$41=4),\"\",IF(AND(HW$36>=1,HW$36<=4,HU$36=31),\"平成\"&31&\"年\"&2,IF(AND(HW$36=5,HU$36=\"元\"),\"平成\"&31&\"年\"&2,IF(AND(HW$36>=6,HU$36=\"元\"),\"令和\"&2&\"年\"&2,IF((AND(HW$36>=1,HW$36<=5)),\"令和\"&HU$36&\"年\"&2,\"令和\"&HU$36+1&\"年\"&2)))))","v":"令和1年2"},{"$f":"IF(OR(HV92=\"\",HX$41=4),\"\",IF(AND(HW$36>=1,HW$36<=4,HU$36=31),\"平成\"&31&\"年\"&2,IF(AND(HW$36=5,HU$36=\"元\"),\"平成\"&31&\"年\"&2,IF(AND(HW$36>=6,HU$36=\"元\"),\"令和\"&2&\"年\"&2,IF((AND(HW$36>=1,HW$36<=5)),\"令和\"&HU$36&\"年\"&2,\"令和\"&HU$36+1&\"年\"&2)))))","v":"令和1年2"},null,null,null,{"$f":"IF(OR(IA92=\"\",IA$41=3),\"\",2)","v":2},{"$f":"IF(OR(IB92=\"\",ID$41=4),\"\",IF(AND(IC$36>=1,IC$36<=4,IA$36=31),\"平成\"&31&\"年\"&2,IF(AND(IC$36=5,IA$36=\"元\"),\"平成\"&31&\"年\"&2,IF(AND(IC$36>=6,IA$36=\"元\"),\"令和\"&2&\"年\"&2,IF((AND(IC$36>=1,IC$36<=5)),\"令和\"&IA$36&\"年\"&2,\"令和\"&IA$36+1&\"年\"&2)))))","v":"令和1年2"},{"$f":"IF(OR(IB92=\"\",ID$41=4),\"\",IF(AND(IC$36>=1,IC$36<=4,IA$36=31),\"平成\"&31&\"年\"&2,IF(AND(IC$36=5,IA$36=\"元\"),\"平成\"&31&\"年\"&2,IF(AND(IC$36>=6,IA$36=\"元\"),\"令和\"&2&\"年\"&2,IF((AND(IC$36>=1,IC$36<=5)),\"令和\"&IA$36&\"年\"&2,\"令和\"&IA$36+1&\"年\"&2)))))","v":"令和1年2"},null,null,null,{"$f":"IF(OR(IG92=\"\",IG$41=3),\"\",2)","v":2},{"$f":"IF(OR(IH92=\"\",IJ$41=4),\"\",IF(AND(II$36>=1,II$36<=4,IG$36=31),\"平成\"&31&\"年\"&2,IF(AND(II$36=5,IG$36=\"元\"),\"平成\"&31&\"年\"&2,IF(AND(II$36>=6,IG$36=\"元\"),\"令和\"&2&\"年\"&2,IF((AND(II$36>=1,II$36<=5)),\"令和\"&IG$36&\"年\"&2,\"令和\"&IG$36+1&\"年\"&2)))))","v":"令和1年2"},{"$f":"IF(OR(IH92=\"\",IJ$41=4),\"\",IF(AND(II$36>=1,II$36<=4,IG$36=31),\"平成\"&31&\"年\"&2,IF(AND(II$36=5,IG$36=\"元\"),\"平成\"&31&\"年\"&2,IF(AND(II$36>=6,IG$36=\"元\"),\"令和\"&2&\"年\"&2,IF((AND(II$36>=1,II$36<=5)),\"令和\"&IG$36&\"年\"&2,\"令和\"&IG$36+1&\"年\"&2)))))","v":"令和1年2"}]
[null,{"$f":"IF(AND(DQ21<>\"\",DQ25<>\"\",DS25<>\"\",DU25<>\"\"),DQ17,\"\")","v":""},"平",2,"平2",null,{"$f":"IF(OR(G93=\"\",G$41=4),\"\",3)","v":3},{"$f":"IF(OR(H93=\"\",J$41=4),\"\",IF(AND(I$36>=1,I$36<=4,G$36=31),\"平成\"&31&\"年\"&3,IF(AND(I$36=5,G$36=\"元\"),\"平成\"&31&\"年\"&3,IF(AND(I$36>=6,G$36=\"元\"),\"令和\"&2&\"年\"&3,IF((AND(I$36>=1,I$36<=5)),\"令和\"&G$36&\"年\"&3,\"令和\"&G$36+1&\"年\"&3)))))","v":"令和1年3"},{"$f":"IF(OR(H93=\"\",J$41=4),\"\",IF(AND(I$36>=1,I$36<=4,G$36=31),\"平成\"&31&\"年\"&3,IF(AND(I$36=5,G$36=\"元\"),\"平成\"&31&\"年\"&3,IF(AND(I$36>=6,G$36=\"元\"),\"令和\"&2&\"年\"&3,IF((AND(I$36>=1,I$36<=5)),\"令和\"&G$36&\"年\"&3,\"令和\"&G$36+1&\"年\"&3)))))","v":"令和1年3"},null,null,null,{"$f":"IF(OR(M93=\"\",M$41=4),\"\",3)","v":3},{"$f":"IF(OR(N93=\"\",P$41=4),\"\",IF(AND(O$36>=1,O$36<=4,M$36=31),\"平成\"&31&\"年\"&3,IF(AND(O$36=5,M$36=\"元\"),\"平成\"&31&\"年\"&3,IF(AND(O$36>=6,M$36=\"元\"),\"令和\"&2&\"年\"&3,IF((AND(O$36>=1,O$36<=5)),\"令和\"&M$36&\"年\"&3,\"令和\"&M$36+1&\"年\"&3)))))","v":"令和1年3"},{"$f":"IF(OR(N93=\"\",P$41=4),\"\",IF(AND(O$36>=1,O$36<=4,M$36=31),\"平成\"&31&\"年\"&3,IF(AND(O$36=5,M$36=\"元\"),\"平成\"&31&\"年\"&3,IF(AND(O$36>=6,M$36=\"元\"),\"令和\"&2&\"年\"&3,IF((AND(O$36>=1,O$36<=5)),\"令和\"&M$36&\"年\"&3,\"令和\"&M$36+1&\"年\"&3)))))","v":"令和1年3"},null,null,null,{"$f":"IF(OR(S93=\"\",S$41=4),\"\",3)","v":3},{"$f":"IF(OR(T93=\"\",V$41=4),\"\",IF(AND(U$36>=1,U$36<=4,S$36=31),\"平成\"&31&\"年\"&3,IF(AND(U$36=5,S$36=\"元\"),\"平成\"&31&\"年\"&3,IF(AND(U$36>=6,S$36=\"元\"),\"令和\"&2&\"年\"&3,IF((AND(U$36>=1,U$36<=5)),\"令和\"&S$36&\"年\"&3,\"令和\"&S$36+1&\"年\"&3)))))","v":"令和1年3"},{"$f":"IF(OR(T93=\"\",V$41=4),\"\",IF(AND(U$36>=1,U$36<=4,S$36=31),\"平成\"&31&\"年\"&3,IF(AND(U$36=5,S$36=\"元\"),\"平成\"&31&\"年\"&3,IF(AND(U$36>=6,S$36=\"元\"),\"令和\"&2&\"年\"&3,IF((AND(U$36>=1,U$36<=5)),\"令和\"&S$36&\"年\"&3,\"令和\"&S$36+1&\"年\"&3)))))","v":"令和1年3"},null,null,null,{"$f":"IF(OR(Y93=\"\",Y$41=4),\"\",3)","v":3},{"$f":"IF(OR(Z93=\"\",AB$41=4),\"\",IF(AND(AA$36>=1,AA$36<=4,Y$36=31),\"平成\"&31&\"年\"&3,IF(AND(AA$36=5,Y$36=\"元\"),\"平成\"&31&\"年\"&3,IF(AND(AA$36>=6,Y$36=\"元\"),\"令和\"&2&\"年\"&3,IF((AND(AA$36>=1,AA$36<=5)),\"令和\"&Y$36&\"年\"&3,\"令和\"&Y$36+1&\"年\"&3)))))","v":"令和1年3"},{"$f":"IF(OR(Z93=\"\",AB$41=4),\"\",IF(AND(AA$36>=1,AA$36<=4,Y$36=31),\"平成\"&31&\"年\"&3,IF(AND(AA$36=5,Y$36=\"元\"),\"平成\"&31&\"年\"&3,IF(AND(AA$36>=6,Y$36=\"元\"),\"令和\"&2&\"年\"&3,IF((AND(AA$36>=1,AA$36<=5)),\"令和\"&Y$36&\"年\"&3,\"令和\"&Y$36+1&\"年\"&3)))))","v":"令和1年3"},null,null,null,{"$f":"IF(OR(AE93=\"\",AE$41=4),\"\",3)","v":3},{"$f":"IF(OR(AF93=\"\",AH$41=4),\"\",IF(AND(AG$36>=1,AG$36<=4,AE$36=31),\"平成\"&31&\"年\"&3,IF(AND(AG$36=5,AE$36=\"元\"),\"平成\"&31&\"年\"&3,IF(AND(AG$36>=6,AE$36=\"元\"),\"令和\"&2&\"年\"&3,IF((AND(AG$36>=1,AG$36<=5)),\"令和\"&AE$36&\"年\"&3,\"令和\"&AE$36+1&\"年\"&3)))))","v":"令和1年3"},{"$f":"IF(OR(AF93=\"\",AH$41=4),\"\",IF(AND(AG$36>=1,AG$36<=4,AE$36=31),\"平成\"&31&\"年\"&3,IF(AND(AG$36=5,AE$36=\"元\"),\"平成\"&31&\"年\"&3,IF(AND(AG$36>=6,AE$36=\"元\"),\"令和\"&2&\"年\"&3,IF((AND(AG$36>=1,AG$36<=5)),\"令和\"&AE$36&\"年\"&3,\"令和\"&AE$36+1&\"年\"&3)))))","v":"令和1年3"},null,null,null,{"$f":"IF(OR(AK93=\"\",AK$41=4),\"\",3)","v":3},{"$f":"IF(OR(AL93=\"\",AN$41=4),\"\",IF(AND(AM$36>=1,AM$36<=4,AK$36=31),\"平成\"&31&\"年\"&3,IF(AND(AM$36=5,AK$36=\"元\"),\"平成\"&31&\"年\"&3,IF(AND(AM$36>=6,AK$36=\"元\"),\"令和\"&2&\"年\"&3,IF((AND(AM$36>=1,AM$36<=5)),\"令和\"&AK$36&\"年\"&3,\"令和\"&AK$36+1&\"年\"&3)))))","v":"令和1年3"},{"$f":"IF(OR(AL93=\"\",AN$41=4),\"\",IF(AND(AM$36>=1,AM$36<=4,AK$36=31),\"平成\"&31&\"年\"&3,IF(AND(AM$36=5,AK$36=\"元\"),\"平成\"&31&\"年\"&3,IF(AND(AM$36>=6,AK$36=\"元\"),\"令和\"&2&\"年\"&3,IF((AND(AM$36>=1,AM$36<=5)),\"令和\"&AK$36&\"年\"&3,\"令和\"&AK$36+1&\"年\"&3)))))","v":"令和1年3"},null,null,null,{"$f":"IF(OR(AQ93=\"\",AQ$41=4),\"\",3)","v":3},{"$f":"IF(OR(AR93=\"\",AT$41=4),\"\",IF(AND(AS$36>=1,AS$36<=4,AQ$36=31),\"平成\"&31&\"年\"&3,IF(AND(AS$36=5,AQ$36=\"元\"),\"平成\"&31&\"年\"&3,IF(AND(AS$36>=6,AQ$36=\"元\"),\"令和\"&2&\"年\"&3,IF((AND(AS$36>=1,AS$36<=5)),\"令和\"&AQ$36&\"年\"&3,\"令和\"&AQ$36+1&\"年\"&3)))))","v":"令和1年3"},{"$f":"IF(OR(AR93=\"\",AT$41=4),\"\",IF(AND(AS$36>=1,AS$36<=4,AQ$36=31),\"平成\"&31&\"年\"&3,IF(AND(AS$36=5,AQ$36=\"元\"),\"平成\"&31&\"年\"&3,IF(AND(AS$36>=6,AQ$36=\"元\"),\"令和\"&2&\"年\"&3,IF((AND(AS$36>=1,AS$36<=5)),\"令和\"&AQ$36&\"年\"&3,\"令和\"&AQ$36+1&\"年\"&3)))))","v":"令和1年3"},null,null,null,{"$f":"IF(OR(AW93=\"\",AW$41=4),\"\",3)","v":3},{"$f":"IF(OR(AX93=\"\",AZ$41=4),\"\",IF(AND(AY$36>=1,AY$36<=4,AW$36=31),\"平成\"&31&\"年\"&3,IF(AND(AY$36=5,AW$36=\"元\"),\"平成\"&31&\"年\"&3,IF(AND(AY$36>=6,AW$36=\"元\"),\"令和\"&2&\"年\"&3,IF((AND(AY$36>=1,AY$36<=5)),\"令和\"&AW$36&\"年\"&3,\"令和\"&AW$36+1&\"年\"&3)))))","v":"令和1年3"},{"$f":"IF(OR(AX93=\"\",AZ$41=4),\"\",IF(AND(AY$36>=1,AY$36<=4,AW$36=31),\"平成\"&31&\"年\"&3,IF(AND(AY$36=5,AW$36=\"元\"),\"平成\"&31&\"年\"&3,IF(AND(AY$36>=6,AW$36=\"元\"),\"令和\"&2&\"年\"&3,IF((AND(AY$36>=1,AY$36<=5)),\"令和\"&AW$36&\"年\"&3,\"令和\"&AW$36+1&\"年\"&3)))))","v":"令和1年3"},null,null,null,{"$f":"IF(OR(BC93=\"\",BC$41=4),\"\",3)","v":3},{"$f":"IF(OR(BD93=\"\",BF$41=4),\"\",IF(AND(BE$36>=1,BE$36<=4,BC$36=31),\"平成\"&31&\"年\"&3,IF(AND(BE$36=5,BC$36=\"元\"),\"平成\"&31&\"年\"&3,IF(AND(BE$36>=6,BC$36=\"元\"),\"令和\"&2&\"年\"&3,IF((AND(BE$36>=1,BE$36<=5)),\"令和\"&BC$36&\"年\"&3,\"令和\"&BC$36+1&\"年\"&3)))))","v":"令和1年3"},{"$f":"IF(OR(BD93=\"\",BF$41=4),\"\",IF(AND(BE$36>=1,BE$36<=4,BC$36=31),\"平成\"&31&\"年\"&3,IF(AND(BE$36=5,BC$36=\"元\"),\"平成\"&31&\"年\"&3,IF(AND(BE$36>=6,BC$36=\"元\"),\"令和\"&2&\"年\"&3,IF((AND(BE$36>=1,BE$36<=5)),\"令和\"&BC$36&\"年\"&3,\"令和\"&BC$36+1&\"年\"&3)))))","v":"令和1年3"},null,null,null,{"$f":"IF(OR(BI93=\"\",BI$41=4),\"\",3)","v":3},{"$f":"IF(OR(BJ93=\"\",BL$41=4),\"\",IF(AND(BK$36>=1,BK$36<=4,BI$36=31),\"平成\"&31&\"年\"&3,IF(AND(BK$36=5,BI$36=\"元\"),\"平成\"&31&\"年\"&3,IF(AND(BK$36>=6,BI$36=\"元\"),\"令和\"&2&\"年\"&3,IF((AND(BK$36>=1,BK$36<=5)),\"令和\"&BI$36&\"年\"&3,\"令和\"&BI$36+1&\"年\"&3)))))","v":"令和1年3"},{"$f":"IF(OR(BJ93=\"\",BL$41=4),\"\",IF(AND(BK$36>=1,BK$36<=4,BI$36=31),\"平成\"&31&\"年\"&3,IF(AND(BK$36=5,BI$36=\"元\"),\"平成\"&31&\"年\"&3,IF(AND(BK$36>=6,BI$36=\"元\"),\"令和\"&2&\"年\"&3,IF((AND(BK$36>=1,BK$36<=5)),\"令和\"&BI$36&\"年\"&3,\"令和\"&BI$36+1&\"年\"&3)))))","v":"令和1年3"},null,null,null,{"$f":"IF(OR(BO93=\"\",BO$41=4),\"\",3)","v":3},{"$f":"IF(OR(BP93=\"\",BR$41=4),\"\",IF(AND(BQ$36>=1,BQ$36<=4,BO$36=31),\"平成\"&31&\"年\"&3,IF(AND(BQ$36=5,BO$36=\"元\"),\"平成\"&31&\"年\"&3,IF(AND(BQ$36>=6,BO$36=\"元\"),\"令和\"&2&\"年\"&3,IF((AND(BQ$36>=1,BQ$36<=5)),\"令和\"&BO$36&\"年\"&3,\"令和\"&BO$36+1&\"年\"&3)))))","v":"令和1年3"},{"$f":"IF(OR(BP93=\"\",BR$41=4),\"\",IF(AND(BQ$36>=1,BQ$36<=4,BO$36=31),\"平成\"&31&\"年\"&3,IF(AND(BQ$36=5,BO$36=\"元\"),\"平成\"&31&\"年\"&3,IF(AND(BQ$36>=6,BO$36=\"元\"),\"令和\"&2&\"年\"&3,IF((AND(BQ$36>=1,BQ$36<=5)),\"令和\"&BO$36&\"年\"&3,\"令和\"&BO$36+1&\"年\"&3)))))","v":"令和1年3"},null,null,null,{"$f":"IF(OR(BU93=\"\",BU$41=4),\"\",3)","v":3},{"$f":"IF(OR(BV93=\"\",BX$41=4),\"\",IF(AND(BW$36>=1,BW$36<=4,BU$36=31),\"平成\"&31&\"年\"&3,IF(AND(BW$36=5,BU$36=\"元\"),\"平成\"&31&\"年\"&3,IF(AND(BW$36>=6,BU$36=\"元\"),\"令和\"&2&\"年\"&3,IF((AND(BW$36>=1,BW$36<=5)),\"令和\"&BU$36&\"年\"&3,\"令和\"&BU$36+1&\"年\"&3)))))","v":"令和1年3"},{"$f":"IF(OR(BV93=\"\",BX$41=4),\"\",IF(AND(BW$36>=1,BW$36<=4,BU$36=31),\"平成\"&31&\"年\"&3,IF(AND(BW$36=5,BU$36=\"元\"),\"平成\"&31&\"年\"&3,IF(AND(BW$36>=6,BU$36=\"元\"),\"令和\"&2&\"年\"&3,IF((AND(BW$36>=1,BW$36<=5)),\"令和\"&BU$36&\"年\"&3,\"令和\"&BU$36+1&\"年\"&3)))))","v":"令和1年3"},null,null,null,{"$f":"IF(OR(CA93=\"\",CA$41=4),\"\",3)","v":3},{"$f":"IF(OR(CB93=\"\",CD$41=4),\"\",IF(AND(CC$36>=1,CC$36<=4,CA$36=31),\"平成\"&31&\"年\"&3,IF(AND(CC$36=5,CA$36=\"元\"),\"平成\"&31&\"年\"&3,IF(AND(CC$36>=6,CA$36=\"元\"),\"令和\"&2&\"年\"&3,IF((AND(CC$36>=1,CC$36<=5)),\"令和\"&CA$36&\"年\"&3,\"令和\"&CA$36+1&\"年\"&3)))))","v":"令和1年3"},{"$f":"IF(OR(CB93=\"\",CD$41=4),\"\",IF(AND(CC$36>=1,CC$36<=4,CA$36=31),\"平成\"&31&\"年\"&3,IF(AND(CC$36=5,CA$36=\"元\"),\"平成\"&31&\"年\"&3,IF(AND(CC$36>=6,CA$36=\"元\"),\"令和\"&2&\"年\"&3,IF((AND(CC$36>=1,CC$36<=5)),\"令和\"&CA$36&\"年\"&3,\"令和\"&CA$36+1&\"年\"&3)))))","v":"令和1年3"},null,null,null,{"$f":"IF(OR(CG93=\"\",CG$41=4),\"\",3)","v":3},{"$f":"IF(OR(CH93=\"\",CJ$41=4),\"\",IF(AND(CI$36>=1,CI$36<=4,CG$36=31),\"平成\"&31&\"年\"&3,IF(AND(CI$36=5,CG$36=\"元\"),\"平成\"&31&\"年\"&3,IF(AND(CI$36>=6,CG$36=\"元\"),\"令和\"&2&\"年\"&3,IF((AND(CI$36>=1,CI$36<=5)),\"令和\"&CG$36&\"年\"&3,\"令和\"&CG$36+1&\"年\"&3)))))","v":"令和1年3"},{"$f":"IF(OR(CH93=\"\",CJ$41=4),\"\",IF(AND(CI$36>=1,CI$36<=4,CG$36=31),\"平成\"&31&\"年\"&3,IF(AND(CI$36=5,CG$36=\"元\"),\"平成\"&31&\"年\"&3,IF(AND(CI$36>=6,CG$36=\"元\"),\"令和\"&2&\"年\"&3,IF((AND(CI$36>=1,CI$36<=5)),\"令和\"&CG$36&\"年\"&3,\"令和\"&CG$36+1&\"年\"&3)))))","v":"令和1年3"},null,null,null,{"$f":"IF(OR(CM93=\"\",CM$41=4),\"\",3)","v":3},{"$f":"IF(OR(CN93=\"\",CP$41=4),\"\",IF(AND(CO$36>=1,CO$36<=4,CM$36=31),\"平成\"&31&\"年\"&3,IF(AND(CO$36=5,CM$36=\"元\"),\"平成\"&31&\"年\"&3,IF(AND(CO$36>=6,CM$36=\"元\"),\"令和\"&2&\"年\"&3,IF((AND(CO$36>=1,CO$36<=5)),\"令和\"&CM$36&\"年\"&3,\"令和\"&CM$36+1&\"年\"&3)))))","v":"令和1年3"},{"$f":"IF(OR(CN93=\"\",CP$41=4),\"\",IF(AND(CO$36>=1,CO$36<=4,CM$36=31),\"平成\"&31&\"年\"&3,IF(AND(CO$36=5,CM$36=\"元\"),\"平成\"&31&\"年\"&3,IF(AND(CO$36>=6,CM$36=\"元\"),\"令和\"&2&\"年\"&3,IF((AND(CO$36>=1,CO$36<=5)),\"令和\"&CM$36&\"年\"&3,\"令和\"&CM$36+1&\"年\"&3)))))","v":"令和1年3"},null,null,null,{"$f":"IF(OR(CS93=\"\",CS$41=4),\"\",3)","v":3},{"$f":"IF(OR(CT93=\"\",CV$41=4),\"\",IF(AND(CU$36>=1,CU$36<=4,CS$36=31),\"平成\"&31&\"年\"&3,IF(AND(CU$36=5,CS$36=\"元\"),\"平成\"&31&\"年\"&3,IF(AND(CU$36>=6,CS$36=\"元\"),\"令和\"&2&\"年\"&3,IF((AND(CU$36>=1,CU$36<=5)),\"令和\"&CS$36&\"年\"&3,\"令和\"&CS$36+1&\"年\"&3)))))","v":"令和1年3"},{"$f":"IF(OR(CT93=\"\",CV$41=4),\"\",IF(AND(CU$36>=1,CU$36<=4,CS$36=31),\"平成\"&31&\"年\"&3,IF(AND(CU$36=5,CS$36=\"元\"),\"平成\"&31&\"年\"&3,IF(AND(CU$36>=6,CS$36=\"元\"),\"令和\"&2&\"年\"&3,IF((AND(CU$36>=1,CU$36<=5)),\"令和\"&CS$36&\"年\"&3,\"令和\"&CS$36+1&\"年\"&3)))))","v":"令和1年3"},null,null,null,{"$f":"IF(OR(CY93=\"\",CY$41=4),\"\",3)","v":3},{"$f":"IF(OR(CZ93=\"\",DB$41=4),\"\",IF(AND(DA$36>=1,DA$36<=4,CY$36=31),\"平成\"&31&\"年\"&3,IF(AND(DA$36=5,CY$36=\"元\"),\"平成\"&31&\"年\"&3,IF(AND(DA$36>=6,CY$36=\"元\"),\"令和\"&2&\"年\"&3,IF((AND(DA$36>=1,DA$36<=5)),\"令和\"&CY$36&\"年\"&3,\"令和\"&CY$36+1&\"年\"&3)))))","v":"令和1年3"},{"$f":"IF(OR(CZ93=\"\",DB$41=4),\"\",IF(AND(DA$36>=1,DA$36<=4,CY$36=31),\"平成\"&31&\"年\"&3,IF(AND(DA$36=5,CY$36=\"元\"),\"平成\"&31&\"年\"&3,IF(AND(DA$36>=6,CY$36=\"元\"),\"令和\"&2&\"年\"&3,IF((AND(DA$36>=1,DA$36<=5)),\"令和\"&CY$36&\"年\"&3,\"令和\"&CY$36+1&\"年\"&3)))))","v":"令和1年3"},null,null,null,{"$f":"IF(OR(DE93=\"\",DE$41=4),\"\",3)","v":3},{"$f":"IF(OR(DF93=\"\",DH$41=4),\"\",IF(AND(DG$36>=1,DG$36<=4,DE$36=31),\"平成\"&31&\"年\"&3,IF(AND(DG$36=5,DE$36=\"元\"),\"平成\"&31&\"年\"&3,IF(AND(DG$36>=6,DE$36=\"元\"),\"令和\"&2&\"年\"&3,IF((AND(DG$36>=1,DG$36<=5)),\"令和\"&DE$36&\"年\"&3,\"令和\"&DE$36+1&\"年\"&3)))))","v":"令和1年3"},{"$f":"IF(OR(DF93=\"\",DH$41=4),\"\",IF(AND(DG$36>=1,DG$36<=4,DE$36=31),\"平成\"&31&\"年\"&3,IF(AND(DG$36=5,DE$36=\"元\"),\"平成\"&31&\"年\"&3,IF(AND(DG$36>=6,DE$36=\"元\"),\"令和\"&2&\"年\"&3,IF((AND(DG$36>=1,DG$36<=5)),\"令和\"&DE$36&\"年\"&3,\"令和\"&DE$36+1&\"年\"&3)))))","v":"令和1年3"},null,null,null,{"$f":"IF(OR(DK93=\"\",DK$41=4),\"\",3)","v":3},{"$f":"IF(OR(DL93=\"\",DN$41=4),\"\",IF(AND(DM$36>=1,DM$36<=4,DK$36=31),\"平成\"&31&\"年\"&3,IF(AND(DM$36=5,DK$36=\"元\"),\"平成\"&31&\"年\"&3,IF(AND(DM$36>=6,DK$36=\"元\"),\"令和\"&2&\"年\"&3,IF((AND(DM$36>=1,DM$36<=5)),\"令和\"&DK$36&\"年\"&3,\"令和\"&DK$36+1&\"年\"&3)))))","v":"令和1年3"},{"$f":"IF(OR(DL93=\"\",DN$41=4),\"\",IF(AND(DM$36>=1,DM$36<=4,DK$36=31),\"平成\"&31&\"年\"&3,IF(AND(DM$36=5,DK$36=\"元\"),\"平成\"&31&\"年\"&3,IF(AND(DM$36>=6,DK$36=\"元\"),\"令和\"&2&\"年\"&3,IF((AND(DM$36>=1,DM$36<=5)),\"令和\"&DK$36&\"年\"&3,\"令和\"&DK$36+1&\"年\"&3)))))","v":"令和1年3"},null,null,null,{"$f":"IF(OR(DQ93=\"\",DQ$41=4),\"\",3)","v":3},{"$f":"IF(OR(DR93=\"\",DT$41=4),\"\",IF(AND(DS$36>=1,DS$36<=4,DQ$36=31),\"平成\"&31&\"年\"&3,IF(AND(DS$36=5,DQ$36=\"元\"),\"平成\"&31&\"年\"&3,IF(AND(DS$36>=6,DQ$36=\"元\"),\"令和\"&2&\"年\"&3,IF((AND(DS$36>=1,DS$36<=5)),\"令和\"&DQ$36&\"年\"&3,\"令和\"&DQ$36+1&\"年\"&3)))))","v":"令和1年3"},{"$f":"IF(OR(DR93=\"\",DT$41=4),\"\",IF(AND(DS$36>=1,DS$36<=4,DQ$36=31),\"平成\"&31&\"年\"&3,IF(AND(DS$36=5,DQ$36=\"元\"),\"平成\"&31&\"年\"&3,IF(AND(DS$36>=6,DQ$36=\"元\"),\"令和\"&2&\"年\"&3,IF((AND(DS$36>=1,DS$36<=5)),\"令和\"&DQ$36&\"年\"&3,\"令和\"&DQ$36+1&\"年\"&3)))))","v":"令和1年3"},null,null,null,{"$f":"IF(OR(DW93=\"\",DW$41=4),\"\",3)","v":3},{"$f":"IF(OR(DX93=\"\",DZ$41=4),\"\",IF(AND(DY$36>=1,DY$36<=4,DW$36=31),\"平成\"&31&\"年\"&3,IF(AND(DY$36=5,DW$36=\"元\"),\"平成\"&31&\"年\"&3,IF(AND(DY$36>=6,DW$36=\"元\"),\"令和\"&2&\"年\"&3,IF((AND(DY$36>=1,DY$36<=5)),\"令和\"&DW$36&\"年\"&3,\"令和\"&DW$36+1&\"年\"&3)))))","v":"令和1年3"},{"$f":"IF(OR(DX93=\"\",DZ$41=4),\"\",IF(AND(DY$36>=1,DY$36<=4,DW$36=31),\"平成\"&31&\"年\"&3,IF(AND(DY$36=5,DW$36=\"元\"),\"平成\"&31&\"年\"&3,IF(AND(DY$36>=6,DW$36=\"元\"),\"令和\"&2&\"年\"&3,IF((AND(DY$36>=1,DY$36<=5)),\"令和\"&DW$36&\"年\"&3,\"令和\"&DW$36+1&\"年\"&3)))))","v":"令和1年3"},null,null,null,{"$f":"IF(OR(EC93=\"\",EC$41=4),\"\",3)","v":3},{"$f":"IF(OR(ED93=\"\",EF$41=4),\"\",IF(AND(EE$36>=1,EE$36<=4,EC$36=31),\"平成\"&31&\"年\"&3,IF(AND(EE$36=5,EC$36=\"元\"),\"平成\"&31&\"年\"&3,IF(AND(EE$36>=6,EC$36=\"元\"),\"令和\"&2&\"年\"&3,IF((AND(EE$36>=1,EE$36<=5)),\"令和\"&EC$36&\"年\"&3,\"令和\"&EC$36+1&\"年\"&3)))))","v":"令和1年3"},{"$f":"IF(OR(ED93=\"\",EF$41=4),\"\",IF(AND(EE$36>=1,EE$36<=4,EC$36=31),\"平成\"&31&\"年\"&3,IF(AND(EE$36=5,EC$36=\"元\"),\"平成\"&31&\"年\"&3,IF(AND(EE$36>=6,EC$36=\"元\"),\"令和\"&2&\"年\"&3,IF((AND(EE$36>=1,EE$36<=5)),\"令和\"&EC$36&\"年\"&3,\"令和\"&EC$36+1&\"年\"&3)))))","v":"令和1年3"},null,null,null,{"$f":"IF(OR(EI93=\"\",EI$41=4),\"\",3)","v":3},{"$f":"IF(OR(EJ93=\"\",EL$41=4),\"\",IF(AND(EK$36>=1,EK$36<=4,EI$36=31),\"平成\"&31&\"年\"&3,IF(AND(EK$36=5,EI$36=\"元\"),\"平成\"&31&\"年\"&3,IF(AND(EK$36>=6,EI$36=\"元\"),\"令和\"&2&\"年\"&3,IF((AND(EK$36>=1,EK$36<=5)),\"令和\"&EI$36&\"年\"&3,\"令和\"&EI$36+1&\"年\"&3)))))","v":"令和1年3"},{"$f":"IF(OR(EJ93=\"\",EL$41=4),\"\",IF(AND(EK$36>=1,EK$36<=4,EI$36=31),\"平成\"&31&\"年\"&3,IF(AND(EK$36=5,EI$36=\"元\"),\"平成\"&31&\"年\"&3,IF(AND(EK$36>=6,EI$36=\"元\"),\"令和\"&2&\"年\"&3,IF((AND(EK$36>=1,EK$36<=5)),\"令和\"&EI$36&\"年\"&3,\"令和\"&EI$36+1&\"年\"&3)))))","v":"令和1年3"},null,null,null,{"$f":"IF(OR(EO93=\"\",EO$41=4),\"\",3)","v":3},{"$f":"IF(OR(EP93=\"\",ER$41=4),\"\",IF(AND(EQ$36>=1,EQ$36<=4,EO$36=31),\"平成\"&31&\"年\"&3,IF(AND(EQ$36=5,EO$36=\"元\"),\"平成\"&31&\"年\"&3,IF(AND(EQ$36>=6,EO$36=\"元\"),\"令和\"&2&\"年\"&3,IF((AND(EQ$36>=1,EQ$36<=5)),\"令和\"&EO$36&\"年\"&3,\"令和\"&EO$36+1&\"年\"&3)))))","v":"令和1年3"},{"$f":"IF(OR(EP93=\"\",ER$41=4),\"\",IF(AND(EQ$36>=1,EQ$36<=4,EO$36=31),\"平成\"&31&\"年\"&3,IF(AND(EQ$36=5,EO$36=\"元\"),\"平成\"&31&\"年\"&3,IF(AND(EQ$36>=6,EO$36=\"元\"),\"令和\"&2&\"年\"&3,IF((AND(EQ$36>=1,EQ$36<=5)),\"令和\"&EO$36&\"年\"&3,\"令和\"&EO$36+1&\"年\"&3)))))","v":"令和1年3"},null,null,null,{"$f":"IF(OR(EU93=\"\",EU$41=4),\"\",3)","v":3},{"$f":"IF(OR(EV93=\"\",EX$41=4),\"\",IF(AND(EW$36>=1,EW$36<=4,EU$36=31),\"平成\"&31&\"年\"&3,IF(AND(EW$36=5,EU$36=\"元\"),\"平成\"&31&\"年\"&3,IF(AND(EW$36>=6,EU$36=\"元\"),\"令和\"&2&\"年\"&3,IF((AND(EW$36>=1,EW$36<=5)),\"令和\"&EU$36&\"年\"&3,\"令和\"&EU$36+1&\"年\"&3)))))","v":"令和1年3"},{"$f":"IF(OR(EV93=\"\",EX$41=4),\"\",IF(AND(EW$36>=1,EW$36<=4,EU$36=31),\"平成\"&31&\"年\"&3,IF(AND(EW$36=5,EU$36=\"元\"),\"平成\"&31&\"年\"&3,IF(AND(EW$36>=6,EU$36=\"元\"),\"令和\"&2&\"年\"&3,IF((AND(EW$36>=1,EW$36<=5)),\"令和\"&EU$36&\"年\"&3,\"令和\"&EU$36+1&\"年\"&3)))))","v":"令和1年3"},null,null,null,{"$f":"IF(OR(FA93=\"\",FA$41=4),\"\",3)","v":3},{"$f":"IF(OR(FB93=\"\",FD$41=4),\"\",IF(AND(FC$36>=1,FC$36<=4,FA$36=31),\"平成\"&31&\"年\"&3,IF(AND(FC$36=5,FA$36=\"元\"),\"平成\"&31&\"年\"&3,IF(AND(FC$36>=6,FA$36=\"元\"),\"令和\"&2&\"年\"&3,IF((AND(FC$36>=1,FC$36<=5)),\"令和\"&FA$36&\"年\"&3,\"令和\"&FA$36+1&\"年\"&3)))))","v":"令和1年3"},{"$f":"IF(OR(FB93=\"\",FD$41=4),\"\",IF(AND(FC$36>=1,FC$36<=4,FA$36=31),\"平成\"&31&\"年\"&3,IF(AND(FC$36=5,FA$36=\"元\"),\"平成\"&31&\"年\"&3,IF(AND(FC$36>=6,FA$36=\"元\"),\"令和\"&2&\"年\"&3,IF((AND(FC$36>=1,FC$36<=5)),\"令和\"&FA$36&\"年\"&3,\"令和\"&FA$36+1&\"年\"&3)))))","v":"令和1年3"},null,null,null,{"$f":"IF(OR(FG93=\"\",FG$41=4),\"\",3)","v":3},{"$f":"IF(OR(FH93=\"\",FJ$41=4),\"\",IF(AND(FI$36>=1,FI$36<=4,FG$36=31),\"平成\"&31&\"年\"&3,IF(AND(FI$36=5,FG$36=\"元\"),\"平成\"&31&\"年\"&3,IF(AND(FI$36>=6,FG$36=\"元\"),\"令和\"&2&\"年\"&3,IF((AND(FI$36>=1,FI$36<=5)),\"令和\"&FG$36&\"年\"&3,\"令和\"&FG$36+1&\"年\"&3)))))","v":"令和1年3"},{"$f":"IF(OR(FH93=\"\",FJ$41=4),\"\",IF(AND(FI$36>=1,FI$36<=4,FG$36=31),\"平成\"&31&\"年\"&3,IF(AND(FI$36=5,FG$36=\"元\"),\"平成\"&31&\"年\"&3,IF(AND(FI$36>=6,FG$36=\"元\"),\"令和\"&2&\"年\"&3,IF((AND(FI$36>=1,FI$36<=5)),\"令和\"&FG$36&\"年\"&3,\"令和\"&FG$36+1&\"年\"&3)))))","v":"令和1年3"},null,null,null,{"$f":"IF(OR(FM93=\"\",FM$41=4),\"\",3)","v":3},{"$f":"IF(OR(FN93=\"\",FP$41=4),\"\",IF(AND(FO$36>=1,FO$36<=4,FM$36=31),\"平成\"&31&\"年\"&3,IF(AND(FO$36=5,FM$36=\"元\"),\"平成\"&31&\"年\"&3,IF(AND(FO$36>=6,FM$36=\"元\"),\"令和\"&2&\"年\"&3,IF((AND(FO$36>=1,FO$36<=5)),\"令和\"&FM$36&\"年\"&3,\"令和\"&FM$36+1&\"年\"&3)))))","v":"令和1年3"},{"$f":"IF(OR(FN93=\"\",FP$41=4),\"\",IF(AND(FO$36>=1,FO$36<=4,FM$36=31),\"平成\"&31&\"年\"&3,IF(AND(FO$36=5,FM$36=\"元\"),\"平成\"&31&\"年\"&3,IF(AND(FO$36>=6,FM$36=\"元\"),\"令和\"&2&\"年\"&3,IF((AND(FO$36>=1,FO$36<=5)),\"令和\"&FM$36&\"年\"&3,\"令和\"&FM$36+1&\"年\"&3)))))","v":"令和1年3"},null,null,null,{"$f":"IF(OR(FS93=\"\",FS$41=4),\"\",3)","v":3},{"$f":"IF(OR(FT93=\"\",FV$41=4),\"\",IF(AND(FU$36>=1,FU$36<=4,FS$36=31),\"平成\"&31&\"年\"&3,IF(AND(FU$36=5,FS$36=\"元\"),\"平成\"&31&\"年\"&3,IF(AND(FU$36>=6,FS$36=\"元\"),\"令和\"&2&\"年\"&3,IF((AND(FU$36>=1,FU$36<=5)),\"令和\"&FS$36&\"年\"&3,\"令和\"&FS$36+1&\"年\"&3)))))","v":"令和1年3"},{"$f":"IF(OR(FT93=\"\",FV$41=4),\"\",IF(AND(FU$36>=1,FU$36<=4,FS$36=31),\"平成\"&31&\"年\"&3,IF(AND(FU$36=5,FS$36=\"元\"),\"平成\"&31&\"年\"&3,IF(AND(FU$36>=6,FS$36=\"元\"),\"令和\"&2&\"年\"&3,IF((AND(FU$36>=1,FU$36<=5)),\"令和\"&FS$36&\"年\"&3,\"令和\"&FS$36+1&\"年\"&3)))))","v":"令和1年3"},null,null,null,{"$f":"IF(OR(FY93=\"\",FY$41=4),\"\",3)","v":3},{"$f":"IF(OR(FZ93=\"\",GB$41=4),\"\",IF(AND(GA$36>=1,GA$36<=4,FY$36=31),\"平成\"&31&\"年\"&3,IF(AND(GA$36=5,FY$36=\"元\"),\"平成\"&31&\"年\"&3,IF(AND(GA$36>=6,FY$36=\"元\"),\"令和\"&2&\"年\"&3,IF((AND(GA$36>=1,GA$36<=5)),\"令和\"&FY$36&\"年\"&3,\"令和\"&FY$36+1&\"年\"&3)))))","v":"令和1年3"},{"$f":"IF(OR(FZ93=\"\",GB$41=4),\"\",IF(AND(GA$36>=1,GA$36<=4,FY$36=31),\"平成\"&31&\"年\"&3,IF(AND(GA$36=5,FY$36=\"元\"),\"平成\"&31&\"年\"&3,IF(AND(GA$36>=6,FY$36=\"元\"),\"令和\"&2&\"年\"&3,IF((AND(GA$36>=1,GA$36<=5)),\"令和\"&FY$36&\"年\"&3,\"令和\"&FY$36+1&\"年\"&3)))))","v":"令和1年3"},null,null,null,{"$f":"IF(OR(GE93=\"\",GE$41=4),\"\",3)","v":3},{"$f":"IF(OR(GF93=\"\",GH$41=4),\"\",IF(AND(GG$36>=1,GG$36<=4,GE$36=31),\"平成\"&31&\"年\"&3,IF(AND(GG$36=5,GE$36=\"元\"),\"平成\"&31&\"年\"&3,IF(AND(GG$36>=6,GE$36=\"元\"),\"令和\"&2&\"年\"&3,IF((AND(GG$36>=1,GG$36<=5)),\"令和\"&GE$36&\"年\"&3,\"令和\"&GE$36+1&\"年\"&3)))))","v":"令和1年3"},{"$f":"IF(OR(GF93=\"\",GH$41=4),\"\",IF(AND(GG$36>=1,GG$36<=4,GE$36=31),\"平成\"&31&\"年\"&3,IF(AND(GG$36=5,GE$36=\"元\"),\"平成\"&31&\"年\"&3,IF(AND(GG$36>=6,GE$36=\"元\"),\"令和\"&2&\"年\"&3,IF((AND(GG$36>=1,GG$36<=5)),\"令和\"&GE$36&\"年\"&3,\"令和\"&GE$36+1&\"年\"&3)))))","v":"令和1年3"},null,null,null,{"$f":"IF(OR(GK93=\"\",GK$41=4),\"\",3)","v":3},{"$f":"IF(OR(GL93=\"\",GN$41=4),\"\",IF(AND(GM$36>=1,GM$36<=4,GK$36=31),\"平成\"&31&\"年\"&3,IF(AND(GM$36=5,GK$36=\"元\"),\"平成\"&31&\"年\"&3,IF(AND(GM$36>=6,GK$36=\"元\"),\"令和\"&2&\"年\"&3,IF((AND(GM$36>=1,GM$36<=5)),\"令和\"&GK$36&\"年\"&3,\"令和\"&GK$36+1&\"年\"&3)))))","v":"令和1年3"},{"$f":"IF(OR(GL93=\"\",GN$41=4),\"\",IF(AND(GM$36>=1,GM$36<=4,GK$36=31),\"平成\"&31&\"年\"&3,IF(AND(GM$36=5,GK$36=\"元\"),\"平成\"&31&\"年\"&3,IF(AND(GM$36>=6,GK$36=\"元\"),\"令和\"&2&\"年\"&3,IF((AND(GM$36>=1,GM$36<=5)),\"令和\"&GK$36&\"年\"&3,\"令和\"&GK$36+1&\"年\"&3)))))","v":"令和1年3"},null,null,null,{"$f":"IF(OR(GQ93=\"\",GQ$41=4),\"\",3)","v":3},{"$f":"IF(OR(GR93=\"\",GT$41=4),\"\",IF(AND(GS$36>=1,GS$36<=4,GQ$36=31),\"平成\"&31&\"年\"&3,IF(AND(GS$36=5,GQ$36=\"元\"),\"平成\"&31&\"年\"&3,IF(AND(GS$36>=6,GQ$36=\"元\"),\"令和\"&2&\"年\"&3,IF((AND(GS$36>=1,GS$36<=5)),\"令和\"&GQ$36&\"年\"&3,\"令和\"&GQ$36+1&\"年\"&3)))))","v":"令和1年3"},{"$f":"IF(OR(GR93=\"\",GT$41=4),\"\",IF(AND(GS$36>=1,GS$36<=4,GQ$36=31),\"平成\"&31&\"年\"&3,IF(AND(GS$36=5,GQ$36=\"元\"),\"平成\"&31&\"年\"&3,IF(AND(GS$36>=6,GQ$36=\"元\"),\"令和\"&2&\"年\"&3,IF((AND(GS$36>=1,GS$36<=5)),\"令和\"&GQ$36&\"年\"&3,\"令和\"&GQ$36+1&\"年\"&3)))))","v":"令和1年3"},null,null,null,{"$f":"IF(OR(GW93=\"\",GW$41=4),\"\",3)","v":3},{"$f":"IF(OR(GX93=\"\",GZ$41=4),\"\",IF(AND(GY$36>=1,GY$36<=4,GW$36=31),\"平成\"&31&\"年\"&3,IF(AND(GY$36=5,GW$36=\"元\"),\"平成\"&31&\"年\"&3,IF(AND(GY$36>=6,GW$36=\"元\"),\"令和\"&2&\"年\"&3,IF((AND(GY$36>=1,GY$36<=5)),\"令和\"&GW$36&\"年\"&3,\"令和\"&GW$36+1&\"年\"&3)))))","v":"令和1年3"},{"$f":"IF(OR(GX93=\"\",GZ$41=4),\"\",IF(AND(GY$36>=1,GY$36<=4,GW$36=31),\"平成\"&31&\"年\"&3,IF(AND(GY$36=5,GW$36=\"元\"),\"平成\"&31&\"年\"&3,IF(AND(GY$36>=6,GW$36=\"元\"),\"令和\"&2&\"年\"&3,IF((AND(GY$36>=1,GY$36<=5)),\"令和\"&GW$36&\"年\"&3,\"令和\"&GW$36+1&\"年\"&3)))))","v":"令和1年3"},null,null,null,{"$f":"IF(OR(HC93=\"\",HC$41=4),\"\",3)","v":3},{"$f":"IF(OR(HD93=\"\",HF$41=4),\"\",IF(AND(HE$36>=1,HE$36<=4,HC$36=31),\"平成\"&31&\"年\"&3,IF(AND(HE$36=5,HC$36=\"元\"),\"平成\"&31&\"年\"&3,IF(AND(HE$36>=6,HC$36=\"元\"),\"令和\"&2&\"年\"&3,IF((AND(HE$36>=1,HE$36<=5)),\"令和\"&HC$36&\"年\"&3,\"令和\"&HC$36+1&\"年\"&3)))))","v":"令和1年3"},{"$f":"IF(OR(HD93=\"\",HF$41=4),\"\",IF(AND(HE$36>=1,HE$36<=4,HC$36=31),\"平成\"&31&\"年\"&3,IF(AND(HE$36=5,HC$36=\"元\"),\"平成\"&31&\"年\"&3,IF(AND(HE$36>=6,HC$36=\"元\"),\"令和\"&2&\"年\"&3,IF((AND(HE$36>=1,HE$36<=5)),\"令和\"&HC$36&\"年\"&3,\"令和\"&HC$36+1&\"年\"&3)))))","v":"令和1年3"},null,null,null,{"$f":"IF(OR(HI93=\"\",HI$41=4),\"\",3)","v":3},{"$f":"IF(OR(HJ93=\"\",HL$41=4),\"\",IF(AND(HK$36>=1,HK$36<=4,HI$36=31),\"平成\"&31&\"年\"&3,IF(AND(HK$36=5,HI$36=\"元\"),\"平成\"&31&\"年\"&3,IF(AND(HK$36>=6,HI$36=\"元\"),\"令和\"&2&\"年\"&3,IF((AND(HK$36>=1,HK$36<=5)),\"令和\"&HI$36&\"年\"&3,\"令和\"&HI$36+1&\"年\"&3)))))","v":"令和1年3"},{"$f":"IF(OR(HJ93=\"\",HL$41=4),\"\",IF(AND(HK$36>=1,HK$36<=4,HI$36=31),\"平成\"&31&\"年\"&3,IF(AND(HK$36=5,HI$36=\"元\"),\"平成\"&31&\"年\"&3,IF(AND(HK$36>=6,HI$36=\"元\"),\"令和\"&2&\"年\"&3,IF((AND(HK$36>=1,HK$36<=5)),\"令和\"&HI$36&\"年\"&3,\"令和\"&HI$36+1&\"年\"&3)))))","v":"令和1年3"},null,null,null,{"$f":"IF(OR(HO93=\"\",HO$41=4),\"\",3)","v":3},{"$f":"IF(OR(HP93=\"\",HR$41=4),\"\",IF(AND(HQ$36>=1,HQ$36<=4,HO$36=31),\"平成\"&31&\"年\"&3,IF(AND(HQ$36=5,HO$36=\"元\"),\"平成\"&31&\"年\"&3,IF(AND(HQ$36>=6,HO$36=\"元\"),\"令和\"&2&\"年\"&3,IF((AND(HQ$36>=1,HQ$36<=5)),\"令和\"&HO$36&\"年\"&3,\"令和\"&HO$36+1&\"年\"&3)))))","v":"令和1年3"},{"$f":"IF(OR(HP93=\"\",HR$41=4),\"\",IF(AND(HQ$36>=1,HQ$36<=4,HO$36=31),\"平成\"&31&\"年\"&3,IF(AND(HQ$36=5,HO$36=\"元\"),\"平成\"&31&\"年\"&3,IF(AND(HQ$36>=6,HO$36=\"元\"),\"令和\"&2&\"年\"&3,IF((AND(HQ$36>=1,HQ$36<=5)),\"令和\"&HO$36&\"年\"&3,\"令和\"&HO$36+1&\"年\"&3)))))","v":"令和1年3"},null,null,null,{"$f":"IF(OR(HU93=\"\",HU$41=4),\"\",3)","v":3},{"$f":"IF(OR(HV93=\"\",HX$41=4),\"\",IF(AND(HW$36>=1,HW$36<=4,HU$36=31),\"平成\"&31&\"年\"&3,IF(AND(HW$36=5,HU$36=\"元\"),\"平成\"&31&\"年\"&3,IF(AND(HW$36>=6,HU$36=\"元\"),\"令和\"&2&\"年\"&3,IF((AND(HW$36>=1,HW$36<=5)),\"令和\"&HU$36&\"年\"&3,\"令和\"&HU$36+1&\"年\"&3)))))","v":"令和1年3"},{"$f":"IF(OR(HV93=\"\",HX$41=4),\"\",IF(AND(HW$36>=1,HW$36<=4,HU$36=31),\"平成\"&31&\"年\"&3,IF(AND(HW$36=5,HU$36=\"元\"),\"平成\"&31&\"年\"&3,IF(AND(HW$36>=6,HU$36=\"元\"),\"令和\"&2&\"年\"&3,IF((AND(HW$36>=1,HW$36<=5)),\"令和\"&HU$36&\"年\"&3,\"令和\"&HU$36+1&\"年\"&3)))))","v":"令和1年3"},null,null,null,{"$f":"IF(OR(IA93=\"\",IA$41=4),\"\",3)","v":3},{"$f":"IF(OR(IB93=\"\",ID$41=4),\"\",IF(AND(IC$36>=1,IC$36<=4,IA$36=31),\"平成\"&31&\"年\"&3,IF(AND(IC$36=5,IA$36=\"元\"),\"平成\"&31&\"年\"&3,IF(AND(IC$36>=6,IA$36=\"元\"),\"令和\"&2&\"年\"&3,IF((AND(IC$36>=1,IC$36<=5)),\"令和\"&IA$36&\"年\"&3,\"令和\"&IA$36+1&\"年\"&3)))))","v":"令和1年3"},{"$f":"IF(OR(IB93=\"\",ID$41=4),\"\",IF(AND(IC$36>=1,IC$36<=4,IA$36=31),\"平成\"&31&\"年\"&3,IF(AND(IC$36=5,IA$36=\"元\"),\"平成\"&31&\"年\"&3,IF(AND(IC$36>=6,IA$36=\"元\"),\"令和\"&2&\"年\"&3,IF((AND(IC$36>=1,IC$36<=5)),\"令和\"&IA$36&\"年\"&3,\"令和\"&IA$36+1&\"年\"&3)))))","v":"令和1年3"},null,null,null,{"$f":"IF(OR(IG93=\"\",IG$41=4),\"\",3)","v":3},{"$f":"IF(OR(IH93=\"\",IJ$41=4),\"\",IF(AND(II$36>=1,II$36<=4,IG$36=31),\"平成\"&31&\"年\"&3,IF(AND(II$36=5,IG$36=\"元\"),\"平成\"&31&\"年\"&3,IF(AND(II$36>=6,IG$36=\"元\"),\"令和\"&2&\"年\"&3,IF((AND(II$36>=1,II$36<=5)),\"令和\"&IG$36&\"年\"&3,\"令和\"&IG$36+1&\"年\"&3)))))","v":"令和1年3"},{"$f":"IF(OR(IH93=\"\",IJ$41=4),\"\",IF(AND(II$36>=1,II$36<=4,IG$36=31),\"平成\"&31&\"年\"&3,IF(AND(II$36=5,IG$36=\"元\"),\"平成\"&31&\"年\"&3,IF(AND(II$36>=6,IG$36=\"元\"),\"令和\"&2&\"年\"&3,IF((AND(II$36>=1,II$36<=5)),\"令和\"&IG$36&\"年\"&3,\"令和\"&IG$36+1&\"年\"&3)))))","v":"令和1年3"}]
[null,{"$f":"IF(AND(DW21<>\"\",DW25<>\"\",DY25<>\"\",EA25<>\"\"),DW17,\"\")","v":""},"平",1,"平1",null,{"$f":"IF(OR(G94=\"\",G$41=5),\"\",4)","v":4},{"$f":"IF(OR(H94=\"\",J$41=4),\"\",IF(AND(I$36>=1,I$36<=4,G$36=31),\"平成\"&31&\"年\"&4,IF(AND(I$36=5,G$36=\"元\"),\"平成\"&31&\"年\"&4,IF(AND(I$36>=6,G$36=\"元\"),\"令和\"&2&\"年\"&4,IF((AND(I$36>=1,I$36<=5)),\"令和\"&G$36&\"年\"&4,\"令和\"&G$36+1&\"年\"&4)))))","v":"令和1年4"},{"$f":"IF(OR(H94=\"\",J$41=4),\"\",IF(AND(I$36>=1,I$36<=4,G$36=31),\"平成\"&31&\"年\"&4,IF(AND(I$36=5,G$36=\"元\"),\"平成\"&31&\"年\"&4,IF(AND(I$36>=6,G$36=\"元\"),\"令和\"&2&\"年\"&4,IF((AND(I$36>=1,I$36<=5)),\"令和\"&G$36&\"年\"&4,\"令和\"&G$36+1&\"年\"&4)))))","v":"令和1年4"},null,null,null,{"$f":"IF(OR(M94=\"\",M$41=5),\"\",4)","v":4},{"$f":"IF(OR(N94=\"\",P$41=4),\"\",IF(AND(O$36>=1,O$36<=4,M$36=31),\"平成\"&31&\"年\"&4,IF(AND(O$36=5,M$36=\"元\"),\"平成\"&31&\"年\"&4,IF(AND(O$36>=6,M$36=\"元\"),\"令和\"&2&\"年\"&4,IF((AND(O$36>=1,O$36<=5)),\"令和\"&M$36&\"年\"&4,\"令和\"&M$36+1&\"年\"&4)))))","v":"令和1年4"},{"$f":"IF(OR(N94=\"\",P$41=4),\"\",IF(AND(O$36>=1,O$36<=4,M$36=31),\"平成\"&31&\"年\"&4,IF(AND(O$36=5,M$36=\"元\"),\"平成\"&31&\"年\"&4,IF(AND(O$36>=6,M$36=\"元\"),\"令和\"&2&\"年\"&4,IF((AND(O$36>=1,O$36<=5)),\"令和\"&M$36&\"年\"&4,\"令和\"&M$36+1&\"年\"&4)))))","v":"令和1年4"},null,null,null,{"$f":"IF(OR(S94=\"\",S$41=5),\"\",4)","v":4},{"$f":"IF(OR(T94=\"\",V$41=4),\"\",IF(AND(U$36>=1,U$36<=4,S$36=31),\"平成\"&31&\"年\"&4,IF(AND(U$36=5,S$36=\"元\"),\"平成\"&31&\"年\"&4,IF(AND(U$36>=6,S$36=\"元\"),\"令和\"&2&\"年\"&4,IF((AND(U$36>=1,U$36<=5)),\"令和\"&S$36&\"年\"&4,\"令和\"&S$36+1&\"年\"&4)))))","v":"令和1年4"},{"$f":"IF(OR(T94=\"\",V$41=4),\"\",IF(AND(U$36>=1,U$36<=4,S$36=31),\"平成\"&31&\"年\"&4,IF(AND(U$36=5,S$36=\"元\"),\"平成\"&31&\"年\"&4,IF(AND(U$36>=6,S$36=\"元\"),\"令和\"&2&\"年\"&4,IF((AND(U$36>=1,U$36<=5)),\"令和\"&S$36&\"年\"&4,\"令和\"&S$36+1&\"年\"&4)))))","v":"令和1年4"},null,null,null,{"$f":"IF(OR(Y94=\"\",Y$41=5),\"\",4)","v":4},{"$f":"IF(OR(Z94=\"\",AB$41=4),\"\",IF(AND(AA$36>=1,AA$36<=4,Y$36=31),\"平成\"&31&\"年\"&4,IF(AND(AA$36=5,Y$36=\"元\"),\"平成\"&31&\"年\"&4,IF(AND(AA$36>=6,Y$36=\"元\"),\"令和\"&2&\"年\"&4,IF((AND(AA$36>=1,AA$36<=5)),\"令和\"&Y$36&\"年\"&4,\"令和\"&Y$36+1&\"年\"&4)))))","v":"令和1年4"},{"$f":"IF(OR(Z94=\"\",AB$41=4),\"\",IF(AND(AA$36>=1,AA$36<=4,Y$36=31),\"平成\"&31&\"年\"&4,IF(AND(AA$36=5,Y$36=\"元\"),\"平成\"&31&\"年\"&4,IF(AND(AA$36>=6,Y$36=\"元\"),\"令和\"&2&\"年\"&4,IF((AND(AA$36>=1,AA$36<=5)),\"令和\"&Y$36&\"年\"&4,\"令和\"&Y$36+1&\"年\"&4)))))","v":"令和1年4"},null,null,null,{"$f":"IF(OR(AE94=\"\",AE$41=5),\"\",4)","v":4},{"$f":"IF(OR(AF94=\"\",AH$41=4),\"\",IF(AND(AG$36>=1,AG$36<=4,AE$36=31),\"平成\"&31&\"年\"&4,IF(AND(AG$36=5,AE$36=\"元\"),\"平成\"&31&\"年\"&4,IF(AND(AG$36>=6,AE$36=\"元\"),\"令和\"&2&\"年\"&4,IF((AND(AG$36>=1,AG$36<=5)),\"令和\"&AE$36&\"年\"&4,\"令和\"&AE$36+1&\"年\"&4)))))","v":"令和1年4"},{"$f":"IF(OR(AF94=\"\",AH$41=4),\"\",IF(AND(AG$36>=1,AG$36<=4,AE$36=31),\"平成\"&31&\"年\"&4,IF(AND(AG$36=5,AE$36=\"元\"),\"平成\"&31&\"年\"&4,IF(AND(AG$36>=6,AE$36=\"元\"),\"令和\"&2&\"年\"&4,IF((AND(AG$36>=1,AG$36<=5)),\"令和\"&AE$36&\"年\"&4,\"令和\"&AE$36+1&\"年\"&4)))))","v":"令和1年4"},null,null,null,{"$f":"IF(OR(AK94=\"\",AK$41=5),\"\",4)","v":4},{"$f":"IF(OR(AL94=\"\",AN$41=4),\"\",IF(AND(AM$36>=1,AM$36<=4,AK$36=31),\"平成\"&31&\"年\"&4,IF(AND(AM$36=5,AK$36=\"元\"),\"平成\"&31&\"年\"&4,IF(AND(AM$36>=6,AK$36=\"元\"),\"令和\"&2&\"年\"&4,IF((AND(AM$36>=1,AM$36<=5)),\"令和\"&AK$36&\"年\"&4,\"令和\"&AK$36+1&\"年\"&4)))))","v":"令和1年4"},{"$f":"IF(OR(AL94=\"\",AN$41=4),\"\",IF(AND(AM$36>=1,AM$36<=4,AK$36=31),\"平成\"&31&\"年\"&4,IF(AND(AM$36=5,AK$36=\"元\"),\"平成\"&31&\"年\"&4,IF(AND(AM$36>=6,AK$36=\"元\"),\"令和\"&2&\"年\"&4,IF((AND(AM$36>=1,AM$36<=5)),\"令和\"&AK$36&\"年\"&4,\"令和\"&AK$36+1&\"年\"&4)))))","v":"令和1年4"},null,null,null,{"$f":"IF(OR(AQ94=\"\",AQ$41=5),\"\",4)","v":4},{"$f":"IF(OR(AR94=\"\",AT$41=4),\"\",IF(AND(AS$36>=1,AS$36<=4,AQ$36=31),\"平成\"&31&\"年\"&4,IF(AND(AS$36=5,AQ$36=\"元\"),\"平成\"&31&\"年\"&4,IF(AND(AS$36>=6,AQ$36=\"元\"),\"令和\"&2&\"年\"&4,IF((AND(AS$36>=1,AS$36<=5)),\"令和\"&AQ$36&\"年\"&4,\"令和\"&AQ$36+1&\"年\"&4)))))","v":"令和1年4"},{"$f":"IF(OR(AR94=\"\",AT$41=4),\"\",IF(AND(AS$36>=1,AS$36<=4,AQ$36=31),\"平成\"&31&\"年\"&4,IF(AND(AS$36=5,AQ$36=\"元\"),\"平成\"&31&\"年\"&4,IF(AND(AS$36>=6,AQ$36=\"元\"),\"令和\"&2&\"年\"&4,IF((AND(AS$36>=1,AS$36<=5)),\"令和\"&AQ$36&\"年\"&4,\"令和\"&AQ$36+1&\"年\"&4)))))","v":"令和1年4"},null,null,null,{"$f":"IF(OR(AW94=\"\",AW$41=5),\"\",4)","v":4},{"$f":"IF(OR(AX94=\"\",AZ$41=4),\"\",IF(AND(AY$36>=1,AY$36<=4,AW$36=31),\"平成\"&31&\"年\"&4,IF(AND(AY$36=5,AW$36=\"元\"),\"平成\"&31&\"年\"&4,IF(AND(AY$36>=6,AW$36=\"元\"),\"令和\"&2&\"年\"&4,IF((AND(AY$36>=1,AY$36<=5)),\"令和\"&AW$36&\"年\"&4,\"令和\"&AW$36+1&\"年\"&4)))))","v":"令和1年4"},{"$f":"IF(OR(AX94=\"\",AZ$41=4),\"\",IF(AND(AY$36>=1,AY$36<=4,AW$36=31),\"平成\"&31&\"年\"&4,IF(AND(AY$36=5,AW$36=\"元\"),\"平成\"&31&\"年\"&4,IF(AND(AY$36>=6,AW$36=\"元\"),\"令和\"&2&\"年\"&4,IF((AND(AY$36>=1,AY$36<=5)),\"令和\"&AW$36&\"年\"&4,\"令和\"&AW$36+1&\"年\"&4)))))","v":"令和1年4"},null,null,null,{"$f":"IF(OR(BC94=\"\",BC$41=5),\"\",4)","v":4},{"$f":"IF(OR(BD94=\"\",BF$41=4),\"\",IF(AND(BE$36>=1,BE$36<=4,BC$36=31),\"平成\"&31&\"年\"&4,IF(AND(BE$36=5,BC$36=\"元\"),\"平成\"&31&\"年\"&4,IF(AND(BE$36>=6,BC$36=\"元\"),\"令和\"&2&\"年\"&4,IF((AND(BE$36>=1,BE$36<=5)),\"令和\"&BC$36&\"年\"&4,\"令和\"&BC$36+1&\"年\"&4)))))","v":"令和1年4"},{"$f":"IF(OR(BD94=\"\",BF$41=4),\"\",IF(AND(BE$36>=1,BE$36<=4,BC$36=31),\"平成\"&31&\"年\"&4,IF(AND(BE$36=5,BC$36=\"元\"),\"平成\"&31&\"年\"&4,IF(AND(BE$36>=6,BC$36=\"元\"),\"令和\"&2&\"年\"&4,IF((AND(BE$36>=1,BE$36<=5)),\"令和\"&BC$36&\"年\"&4,\"令和\"&BC$36+1&\"年\"&4)))))","v":"令和1年4"},null,null,null,{"$f":"IF(OR(BI94=\"\",BI$41=5),\"\",4)","v":4},{"$f":"IF(OR(BJ94=\"\",BL$41=4),\"\",IF(AND(BK$36>=1,BK$36<=4,BI$36=31),\"平成\"&31&\"年\"&4,IF(AND(BK$36=5,BI$36=\"元\"),\"平成\"&31&\"年\"&4,IF(AND(BK$36>=6,BI$36=\"元\"),\"令和\"&2&\"年\"&4,IF((AND(BK$36>=1,BK$36<=5)),\"令和\"&BI$36&\"年\"&4,\"令和\"&BI$36+1&\"年\"&4)))))","v":"令和1年4"},{"$f":"IF(OR(BJ94=\"\",BL$41=4),\"\",IF(AND(BK$36>=1,BK$36<=4,BI$36=31),\"平成\"&31&\"年\"&4,IF(AND(BK$36=5,BI$36=\"元\"),\"平成\"&31&\"年\"&4,IF(AND(BK$36>=6,BI$36=\"元\"),\"令和\"&2&\"年\"&4,IF((AND(BK$36>=1,BK$36<=5)),\"令和\"&BI$36&\"年\"&4,\"令和\"&BI$36+1&\"年\"&4)))))","v":"令和1年4"},null,null,null,{"$f":"IF(OR(BO94=\"\",BO$41=5),\"\",4)","v":4},{"$f":"IF(OR(BP94=\"\",BR$41=4),\"\",IF(AND(BQ$36>=1,BQ$36<=4,BO$36=31),\"平成\"&31&\"年\"&4,IF(AND(BQ$36=5,BO$36=\"元\"),\"平成\"&31&\"年\"&4,IF(AND(BQ$36>=6,BO$36=\"元\"),\"令和\"&2&\"年\"&4,IF((AND(BQ$36>=1,BQ$36<=5)),\"令和\"&BO$36&\"年\"&4,\"令和\"&BO$36+1&\"年\"&4)))))","v":"令和1年4"},{"$f":"IF(OR(BP94=\"\",BR$41=4),\"\",IF(AND(BQ$36>=1,BQ$36<=4,BO$36=31),\"平成\"&31&\"年\"&4,IF(AND(BQ$36=5,BO$36=\"元\"),\"平成\"&31&\"年\"&4,IF(AND(BQ$36>=6,BO$36=\"元\"),\"令和\"&2&\"年\"&4,IF((AND(BQ$36>=1,BQ$36<=5)),\"令和\"&BO$36&\"年\"&4,\"令和\"&BO$36+1&\"年\"&4)))))","v":"令和1年4"},null,null,null,{"$f":"IF(OR(BU94=\"\",BU$41=5),\"\",4)","v":4},{"$f":"IF(OR(BV94=\"\",BX$41=4),\"\",IF(AND(BW$36>=1,BW$36<=4,BU$36=31),\"平成\"&31&\"年\"&4,IF(AND(BW$36=5,BU$36=\"元\"),\"平成\"&31&\"年\"&4,IF(AND(BW$36>=6,BU$36=\"元\"),\"令和\"&2&\"年\"&4,IF((AND(BW$36>=1,BW$36<=5)),\"令和\"&BU$36&\"年\"&4,\"令和\"&BU$36+1&\"年\"&4)))))","v":"令和1年4"},{"$f":"IF(OR(BV94=\"\",BX$41=4),\"\",IF(AND(BW$36>=1,BW$36<=4,BU$36=31),\"平成\"&31&\"年\"&4,IF(AND(BW$36=5,BU$36=\"元\"),\"平成\"&31&\"年\"&4,IF(AND(BW$36>=6,BU$36=\"元\"),\"令和\"&2&\"年\"&4,IF((AND(BW$36>=1,BW$36<=5)),\"令和\"&BU$36&\"年\"&4,\"令和\"&BU$36+1&\"年\"&4)))))","v":"令和1年4"},null,null,null,{"$f":"IF(OR(CA94=\"\",CA$41=5),\"\",4)","v":4},{"$f":"IF(OR(CB94=\"\",CD$41=4),\"\",IF(AND(CC$36>=1,CC$36<=4,CA$36=31),\"平成\"&31&\"年\"&4,IF(AND(CC$36=5,CA$36=\"元\"),\"平成\"&31&\"年\"&4,IF(AND(CC$36>=6,CA$36=\"元\"),\"令和\"&2&\"年\"&4,IF((AND(CC$36>=1,CC$36<=5)),\"令和\"&CA$36&\"年\"&4,\"令和\"&CA$36+1&\"年\"&4)))))","v":"令和1年4"},{"$f":"IF(OR(CB94=\"\",CD$41=4),\"\",IF(AND(CC$36>=1,CC$36<=4,CA$36=31),\"平成\"&31&\"年\"&4,IF(AND(CC$36=5,CA$36=\"元\"),\"平成\"&31&\"年\"&4,IF(AND(CC$36>=6,CA$36=\"元\"),\"令和\"&2&\"年\"&4,IF((AND(CC$36>=1,CC$36<=5)),\"令和\"&CA$36&\"年\"&4,\"令和\"&CA$36+1&\"年\"&4)))))","v":"令和1年4"},null,null,null,{"$f":"IF(OR(CG94=\"\",CG$41=5),\"\",4)","v":4},{"$f":"IF(OR(CH94=\"\",CJ$41=4),\"\",IF(AND(CI$36>=1,CI$36<=4,CG$36=31),\"平成\"&31&\"年\"&4,IF(AND(CI$36=5,CG$36=\"元\"),\"平成\"&31&\"年\"&4,IF(AND(CI$36>=6,CG$36=\"元\"),\"令和\"&2&\"年\"&4,IF((AND(CI$36>=1,CI$36<=5)),\"令和\"&CG$36&\"年\"&4,\"令和\"&CG$36+1&\"年\"&4)))))","v":"令和1年4"},{"$f":"IF(OR(CH94=\"\",CJ$41=4),\"\",IF(AND(CI$36>=1,CI$36<=4,CG$36=31),\"平成\"&31&\"年\"&4,IF(AND(CI$36=5,CG$36=\"元\"),\"平成\"&31&\"年\"&4,IF(AND(CI$36>=6,CG$36=\"元\"),\"令和\"&2&\"年\"&4,IF((AND(CI$36>=1,CI$36<=5)),\"令和\"&CG$36&\"年\"&4,\"令和\"&CG$36+1&\"年\"&4)))))","v":"令和1年4"},null,null,null,{"$f":"IF(OR(CM94=\"\",CM$41=5),\"\",4)","v":4},{"$f":"IF(OR(CN94=\"\",CP$41=4),\"\",IF(AND(CO$36>=1,CO$36<=4,CM$36=31),\"平成\"&31&\"年\"&4,IF(AND(CO$36=5,CM$36=\"元\"),\"平成\"&31&\"年\"&4,IF(AND(CO$36>=6,CM$36=\"元\"),\"令和\"&2&\"年\"&4,IF((AND(CO$36>=1,CO$36<=5)),\"令和\"&CM$36&\"年\"&4,\"令和\"&CM$36+1&\"年\"&4)))))","v":"令和1年4"},{"$f":"IF(OR(CN94=\"\",CP$41=4),\"\",IF(AND(CO$36>=1,CO$36<=4,CM$36=31),\"平成\"&31&\"年\"&4,IF(AND(CO$36=5,CM$36=\"元\"),\"平成\"&31&\"年\"&4,IF(AND(CO$36>=6,CM$36=\"元\"),\"令和\"&2&\"年\"&4,IF((AND(CO$36>=1,CO$36<=5)),\"令和\"&CM$36&\"年\"&4,\"令和\"&CM$36+1&\"年\"&4)))))","v":"令和1年4"},null,null,null,{"$f":"IF(OR(CS94=\"\",CS$41=5),\"\",4)","v":4},{"$f":"IF(OR(CT94=\"\",CV$41=4),\"\",IF(AND(CU$36>=1,CU$36<=4,CS$36=31),\"平成\"&31&\"年\"&4,IF(AND(CU$36=5,CS$36=\"元\"),\"平成\"&31&\"年\"&4,IF(AND(CU$36>=6,CS$36=\"元\"),\"令和\"&2&\"年\"&4,IF((AND(CU$36>=1,CU$36<=5)),\"令和\"&CS$36&\"年\"&4,\"令和\"&CS$36+1&\"年\"&4)))))","v":"令和1年4"},{"$f":"IF(OR(CT94=\"\",CV$41=4),\"\",IF(AND(CU$36>=1,CU$36<=4,CS$36=31),\"平成\"&31&\"年\"&4,IF(AND(CU$36=5,CS$36=\"元\"),\"平成\"&31&\"年\"&4,IF(AND(CU$36>=6,CS$36=\"元\"),\"令和\"&2&\"年\"&4,IF((AND(CU$36>=1,CU$36<=5)),\"令和\"&CS$36&\"年\"&4,\"令和\"&CS$36+1&\"年\"&4)))))","v":"令和1年4"},null,null,null,{"$f":"IF(OR(CY94=\"\",CY$41=5),\"\",4)","v":4},{"$f":"IF(OR(CZ94=\"\",DB$41=4),\"\",IF(AND(DA$36>=1,DA$36<=4,CY$36=31),\"平成\"&31&\"年\"&4,IF(AND(DA$36=5,CY$36=\"元\"),\"平成\"&31&\"年\"&4,IF(AND(DA$36>=6,CY$36=\"元\"),\"令和\"&2&\"年\"&4,IF((AND(DA$36>=1,DA$36<=5)),\"令和\"&CY$36&\"年\"&4,\"令和\"&CY$36+1&\"年\"&4)))))","v":"令和1年4"},{"$f":"IF(OR(CZ94=\"\",DB$41=4),\"\",IF(AND(DA$36>=1,DA$36<=4,CY$36=31),\"平成\"&31&\"年\"&4,IF(AND(DA$36=5,CY$36=\"元\"),\"平成\"&31&\"年\"&4,IF(AND(DA$36>=6,CY$36=\"元\"),\"令和\"&2&\"年\"&4,IF((AND(DA$36>=1,DA$36<=5)),\"令和\"&CY$36&\"年\"&4,\"令和\"&CY$36+1&\"年\"&4)))))","v":"令和1年4"},null,null,null,{"$f":"IF(OR(DE94=\"\",DE$41=5),\"\",4)","v":4},{"$f":"IF(OR(DF94=\"\",DH$41=4),\"\",IF(AND(DG$36>=1,DG$36<=4,DE$36=31),\"平成\"&31&\"年\"&4,IF(AND(DG$36=5,DE$36=\"元\"),\"平成\"&31&\"年\"&4,IF(AND(DG$36>=6,DE$36=\"元\"),\"令和\"&2&\"年\"&4,IF((AND(DG$36>=1,DG$36<=5)),\"令和\"&DE$36&\"年\"&4,\"令和\"&DE$36+1&\"年\"&4)))))","v":"令和1年4"},{"$f":"IF(OR(DF94=\"\",DH$41=4),\"\",IF(AND(DG$36>=1,DG$36<=4,DE$36=31),\"平成\"&31&\"年\"&4,IF(AND(DG$36=5,DE$36=\"元\"),\"平成\"&31&\"年\"&4,IF(AND(DG$36>=6,DE$36=\"元\"),\"令和\"&2&\"年\"&4,IF((AND(DG$36>=1,DG$36<=5)),\"令和\"&DE$36&\"年\"&4,\"令和\"&DE$36+1&\"年\"&4)))))","v":"令和1年4"},null,null,null,{"$f":"IF(OR(DK94=\"\",DK$41=5),\"\",4)","v":4},{"$f":"IF(OR(DL94=\"\",DN$41=4),\"\",IF(AND(DM$36>=1,DM$36<=4,DK$36=31),\"平成\"&31&\"年\"&4,IF(AND(DM$36=5,DK$36=\"元\"),\"平成\"&31&\"年\"&4,IF(AND(DM$36>=6,DK$36=\"元\"),\"令和\"&2&\"年\"&4,IF((AND(DM$36>=1,DM$36<=5)),\"令和\"&DK$36&\"年\"&4,\"令和\"&DK$36+1&\"年\"&4)))))","v":"令和1年4"},{"$f":"IF(OR(DL94=\"\",DN$41=4),\"\",IF(AND(DM$36>=1,DM$36<=4,DK$36=31),\"平成\"&31&\"年\"&4,IF(AND(DM$36=5,DK$36=\"元\"),\"平成\"&31&\"年\"&4,IF(AND(DM$36>=6,DK$36=\"元\"),\"令和\"&2&\"年\"&4,IF((AND(DM$36>=1,DM$36<=5)),\"令和\"&DK$36&\"年\"&4,\"令和\"&DK$36+1&\"年\"&4)))))","v":"令和1年4"},null,null,null,{"$f":"IF(OR(DQ94=\"\",DQ$41=5),\"\",4)","v":4},{"$f":"IF(OR(DR94=\"\",DT$41=4),\"\",IF(AND(DS$36>=1,DS$36<=4,DQ$36=31),\"平成\"&31&\"年\"&4,IF(AND(DS$36=5,DQ$36=\"元\"),\"平成\"&31&\"年\"&4,IF(AND(DS$36>=6,DQ$36=\"元\"),\"令和\"&2&\"年\"&4,IF((AND(DS$36>=1,DS$36<=5)),\"令和\"&DQ$36&\"年\"&4,\"令和\"&DQ$36+1&\"年\"&4)))))","v":"令和1年4"},{"$f":"IF(OR(DR94=\"\",DT$41=4),\"\",IF(AND(DS$36>=1,DS$36<=4,DQ$36=31),\"平成\"&31&\"年\"&4,IF(AND(DS$36=5,DQ$36=\"元\"),\"平成\"&31&\"年\"&4,IF(AND(DS$36>=6,DQ$36=\"元\"),\"令和\"&2&\"年\"&4,IF((AND(DS$36>=1,DS$36<=5)),\"令和\"&DQ$36&\"年\"&4,\"令和\"&DQ$36+1&\"年\"&4)))))","v":"令和1年4"},null,null,null,{"$f":"IF(OR(DW94=\"\",DW$41=5),\"\",4)","v":4},{"$f":"IF(OR(DX94=\"\",DZ$41=4),\"\",IF(AND(DY$36>=1,DY$36<=4,DW$36=31),\"平成\"&31&\"年\"&4,IF(AND(DY$36=5,DW$36=\"元\"),\"平成\"&31&\"年\"&4,IF(AND(DY$36>=6,DW$36=\"元\"),\"令和\"&2&\"年\"&4,IF((AND(DY$36>=1,DY$36<=5)),\"令和\"&DW$36&\"年\"&4,\"令和\"&DW$36+1&\"年\"&4)))))","v":"令和1年4"},{"$f":"IF(OR(DX94=\"\",DZ$41=4),\"\",IF(AND(DY$36>=1,DY$36<=4,DW$36=31),\"平成\"&31&\"年\"&4,IF(AND(DY$36=5,DW$36=\"元\"),\"平成\"&31&\"年\"&4,IF(AND(DY$36>=6,DW$36=\"元\"),\"令和\"&2&\"年\"&4,IF((AND(DY$36>=1,DY$36<=5)),\"令和\"&DW$36&\"年\"&4,\"令和\"&DW$36+1&\"年\"&4)))))","v":"令和1年4"},null,null,null,{"$f":"IF(OR(EC94=\"\",EC$41=5),\"\",4)","v":4},{"$f":"IF(OR(ED94=\"\",EF$41=4),\"\",IF(AND(EE$36>=1,EE$36<=4,EC$36=31),\"平成\"&31&\"年\"&4,IF(AND(EE$36=5,EC$36=\"元\"),\"平成\"&31&\"年\"&4,IF(AND(EE$36>=6,EC$36=\"元\"),\"令和\"&2&\"年\"&4,IF((AND(EE$36>=1,EE$36<=5)),\"令和\"&EC$36&\"年\"&4,\"令和\"&EC$36+1&\"年\"&4)))))","v":"令和1年4"},{"$f":"IF(OR(ED94=\"\",EF$41=4),\"\",IF(AND(EE$36>=1,EE$36<=4,EC$36=31),\"平成\"&31&\"年\"&4,IF(AND(EE$36=5,EC$36=\"元\"),\"平成\"&31&\"年\"&4,IF(AND(EE$36>=6,EC$36=\"元\"),\"令和\"&2&\"年\"&4,IF((AND(EE$36>=1,EE$36<=5)),\"令和\"&EC$36&\"年\"&4,\"令和\"&EC$36+1&\"年\"&4)))))","v":"令和1年4"},null,null,null,{"$f":"IF(OR(EI94=\"\",EI$41=5),\"\",4)","v":4},{"$f":"IF(OR(EJ94=\"\",EL$41=4),\"\",IF(AND(EK$36>=1,EK$36<=4,EI$36=31),\"平成\"&31&\"年\"&4,IF(AND(EK$36=5,EI$36=\"元\"),\"平成\"&31&\"年\"&4,IF(AND(EK$36>=6,EI$36=\"元\"),\"令和\"&2&\"年\"&4,IF((AND(EK$36>=1,EK$36<=5)),\"令和\"&EI$36&\"年\"&4,\"令和\"&EI$36+1&\"年\"&4)))))","v":"令和1年4"},{"$f":"IF(OR(EJ94=\"\",EL$41=4),\"\",IF(AND(EK$36>=1,EK$36<=4,EI$36=31),\"平成\"&31&\"年\"&4,IF(AND(EK$36=5,EI$36=\"元\"),\"平成\"&31&\"年\"&4,IF(AND(EK$36>=6,EI$36=\"元\"),\"令和\"&2&\"年\"&4,IF((AND(EK$36>=1,EK$36<=5)),\"令和\"&EI$36&\"年\"&4,\"令和\"&EI$36+1&\"年\"&4)))))","v":"令和1年4"},null,null,null,{"$f":"IF(OR(EO94=\"\",EO$41=5),\"\",4)","v":4},{"$f":"IF(OR(EP94=\"\",ER$41=4),\"\",IF(AND(EQ$36>=1,EQ$36<=4,EO$36=31),\"平成\"&31&\"年\"&4,IF(AND(EQ$36=5,EO$36=\"元\"),\"平成\"&31&\"年\"&4,IF(AND(EQ$36>=6,EO$36=\"元\"),\"令和\"&2&\"年\"&4,IF((AND(EQ$36>=1,EQ$36<=5)),\"令和\"&EO$36&\"年\"&4,\"令和\"&EO$36+1&\"年\"&4)))))","v":"令和1年4"},{"$f":"IF(OR(EP94=\"\",ER$41=4),\"\",IF(AND(EQ$36>=1,EQ$36<=4,EO$36=31),\"平成\"&31&\"年\"&4,IF(AND(EQ$36=5,EO$36=\"元\"),\"平成\"&31&\"年\"&4,IF(AND(EQ$36>=6,EO$36=\"元\"),\"令和\"&2&\"年\"&4,IF((AND(EQ$36>=1,EQ$36<=5)),\"令和\"&EO$36&\"年\"&4,\"令和\"&EO$36+1&\"年\"&4)))))","v":"令和1年4"},null,null,null,{"$f":"IF(OR(EU94=\"\",EU$41=5),\"\",4)","v":4},{"$f":"IF(OR(EV94=\"\",EX$41=4),\"\",IF(AND(EW$36>=1,EW$36<=4,EU$36=31),\"平成\"&31&\"年\"&4,IF(AND(EW$36=5,EU$36=\"元\"),\"平成\"&31&\"年\"&4,IF(AND(EW$36>=6,EU$36=\"元\"),\"令和\"&2&\"年\"&4,IF((AND(EW$36>=1,EW$36<=5)),\"令和\"&EU$36&\"年\"&4,\"令和\"&EU$36+1&\"年\"&4)))))","v":"令和1年4"},{"$f":"IF(OR(EV94=\"\",EX$41=4),\"\",IF(AND(EW$36>=1,EW$36<=4,EU$36=31),\"平成\"&31&\"年\"&4,IF(AND(EW$36=5,EU$36=\"元\"),\"平成\"&31&\"年\"&4,IF(AND(EW$36>=6,EU$36=\"元\"),\"令和\"&2&\"年\"&4,IF((AND(EW$36>=1,EW$36<=5)),\"令和\"&EU$36&\"年\"&4,\"令和\"&EU$36+1&\"年\"&4)))))","v":"令和1年4"},null,null,null,{"$f":"IF(OR(FA94=\"\",FA$41=5),\"\",4)","v":4},{"$f":"IF(OR(FB94=\"\",FD$41=4),\"\",IF(AND(FC$36>=1,FC$36<=4,FA$36=31),\"平成\"&31&\"年\"&4,IF(AND(FC$36=5,FA$36=\"元\"),\"平成\"&31&\"年\"&4,IF(AND(FC$36>=6,FA$36=\"元\"),\"令和\"&2&\"年\"&4,IF((AND(FC$36>=1,FC$36<=5)),\"令和\"&FA$36&\"年\"&4,\"令和\"&FA$36+1&\"年\"&4)))))","v":"令和1年4"},{"$f":"IF(OR(FB94=\"\",FD$41=4),\"\",IF(AND(FC$36>=1,FC$36<=4,FA$36=31),\"平成\"&31&\"年\"&4,IF(AND(FC$36=5,FA$36=\"元\"),\"平成\"&31&\"年\"&4,IF(AND(FC$36>=6,FA$36=\"元\"),\"令和\"&2&\"年\"&4,IF((AND(FC$36>=1,FC$36<=5)),\"令和\"&FA$36&\"年\"&4,\"令和\"&FA$36+1&\"年\"&4)))))","v":"令和1年4"},null,null,null,{"$f":"IF(OR(FG94=\"\",FG$41=5),\"\",4)","v":4},{"$f":"IF(OR(FH94=\"\",FJ$41=4),\"\",IF(AND(FI$36>=1,FI$36<=4,FG$36=31),\"平成\"&31&\"年\"&4,IF(AND(FI$36=5,FG$36=\"元\"),\"平成\"&31&\"年\"&4,IF(AND(FI$36>=6,FG$36=\"元\"),\"令和\"&2&\"年\"&4,IF((AND(FI$36>=1,FI$36<=5)),\"令和\"&FG$36&\"年\"&4,\"令和\"&FG$36+1&\"年\"&4)))))","v":"令和1年4"},{"$f":"IF(OR(FH94=\"\",FJ$41=4),\"\",IF(AND(FI$36>=1,FI$36<=4,FG$36=31),\"平成\"&31&\"年\"&4,IF(AND(FI$36=5,FG$36=\"元\"),\"平成\"&31&\"年\"&4,IF(AND(FI$36>=6,FG$36=\"元\"),\"令和\"&2&\"年\"&4,IF((AND(FI$36>=1,FI$36<=5)),\"令和\"&FG$36&\"年\"&4,\"令和\"&FG$36+1&\"年\"&4)))))","v":"令和1年4"},null,null,null,{"$f":"IF(OR(FM94=\"\",FM$41=5),\"\",4)","v":4},{"$f":"IF(OR(FN94=\"\",FP$41=4),\"\",IF(AND(FO$36>=1,FO$36<=4,FM$36=31),\"平成\"&31&\"年\"&4,IF(AND(FO$36=5,FM$36=\"元\"),\"平成\"&31&\"年\"&4,IF(AND(FO$36>=6,FM$36=\"元\"),\"令和\"&2&\"年\"&4,IF((AND(FO$36>=1,FO$36<=5)),\"令和\"&FM$36&\"年\"&4,\"令和\"&FM$36+1&\"年\"&4)))))","v":"令和1年4"},{"$f":"IF(OR(FN94=\"\",FP$41=4),\"\",IF(AND(FO$36>=1,FO$36<=4,FM$36=31),\"平成\"&31&\"年\"&4,IF(AND(FO$36=5,FM$36=\"元\"),\"平成\"&31&\"年\"&4,IF(AND(FO$36>=6,FM$36=\"元\"),\"令和\"&2&\"年\"&4,IF((AND(FO$36>=1,FO$36<=5)),\"令和\"&FM$36&\"年\"&4,\"令和\"&FM$36+1&\"年\"&4)))))","v":"令和1年4"},null,null,null,{"$f":"IF(OR(FS94=\"\",FS$41=5),\"\",4)","v":4},{"$f":"IF(OR(FT94=\"\",FV$41=4),\"\",IF(AND(FU$36>=1,FU$36<=4,FS$36=31),\"平成\"&31&\"年\"&4,IF(AND(FU$36=5,FS$36=\"元\"),\"平成\"&31&\"年\"&4,IF(AND(FU$36>=6,FS$36=\"元\"),\"令和\"&2&\"年\"&4,IF((AND(FU$36>=1,FU$36<=5)),\"令和\"&FS$36&\"年\"&4,\"令和\"&FS$36+1&\"年\"&4)))))","v":"令和1年4"},{"$f":"IF(OR(FT94=\"\",FV$41=4),\"\",IF(AND(FU$36>=1,FU$36<=4,FS$36=31),\"平成\"&31&\"年\"&4,IF(AND(FU$36=5,FS$36=\"元\"),\"平成\"&31&\"年\"&4,IF(AND(FU$36>=6,FS$36=\"元\"),\"令和\"&2&\"年\"&4,IF((AND(FU$36>=1,FU$36<=5)),\"令和\"&FS$36&\"年\"&4,\"令和\"&FS$36+1&\"年\"&4)))))","v":"令和1年4"},null,null,null,{"$f":"IF(OR(FY94=\"\",FY$41=5),\"\",4)","v":4},{"$f":"IF(OR(FZ94=\"\",GB$41=4),\"\",IF(AND(GA$36>=1,GA$36<=4,FY$36=31),\"平成\"&31&\"年\"&4,IF(AND(GA$36=5,FY$36=\"元\"),\"平成\"&31&\"年\"&4,IF(AND(GA$36>=6,FY$36=\"元\"),\"令和\"&2&\"年\"&4,IF((AND(GA$36>=1,GA$36<=5)),\"令和\"&FY$36&\"年\"&4,\"令和\"&FY$36+1&\"年\"&4)))))","v":"令和1年4"},{"$f":"IF(OR(FZ94=\"\",GB$41=4),\"\",IF(AND(GA$36>=1,GA$36<=4,FY$36=31),\"平成\"&31&\"年\"&4,IF(AND(GA$36=5,FY$36=\"元\"),\"平成\"&31&\"年\"&4,IF(AND(GA$36>=6,FY$36=\"元\"),\"令和\"&2&\"年\"&4,IF((AND(GA$36>=1,GA$36<=5)),\"令和\"&FY$36&\"年\"&4,\"令和\"&FY$36+1&\"年\"&4)))))","v":"令和1年4"},null,null,null,{"$f":"IF(OR(GE94=\"\",GE$41=5),\"\",4)","v":4},{"$f":"IF(OR(GF94=\"\",GH$41=4),\"\",IF(AND(GG$36>=1,GG$36<=4,GE$36=31),\"平成\"&31&\"年\"&4,IF(AND(GG$36=5,GE$36=\"元\"),\"平成\"&31&\"年\"&4,IF(AND(GG$36>=6,GE$36=\"元\"),\"令和\"&2&\"年\"&4,IF((AND(GG$36>=1,GG$36<=5)),\"令和\"&GE$36&\"年\"&4,\"令和\"&GE$36+1&\"年\"&4)))))","v":"令和1年4"},{"$f":"IF(OR(GF94=\"\",GH$41=4),\"\",IF(AND(GG$36>=1,GG$36<=4,GE$36=31),\"平成\"&31&\"年\"&4,IF(AND(GG$36=5,GE$36=\"元\"),\"平成\"&31&\"年\"&4,IF(AND(GG$36>=6,GE$36=\"元\"),\"令和\"&2&\"年\"&4,IF((AND(GG$36>=1,GG$36<=5)),\"令和\"&GE$36&\"年\"&4,\"令和\"&GE$36+1&\"年\"&4)))))","v":"令和1年4"},null,null,null,{"$f":"IF(OR(GK94=\"\",GK$41=5),\"\",4)","v":4},{"$f":"IF(OR(GL94=\"\",GN$41=4),\"\",IF(AND(GM$36>=1,GM$36<=4,GK$36=31),\"平成\"&31&\"年\"&4,IF(AND(GM$36=5,GK$36=\"元\"),\"平成\"&31&\"年\"&4,IF(AND(GM$36>=6,GK$36=\"元\"),\"令和\"&2&\"年\"&4,IF((AND(GM$36>=1,GM$36<=5)),\"令和\"&GK$36&\"年\"&4,\"令和\"&GK$36+1&\"年\"&4)))))","v":"令和1年4"},{"$f":"IF(OR(GL94=\"\",GN$41=4),\"\",IF(AND(GM$36>=1,GM$36<=4,GK$36=31),\"平成\"&31&\"年\"&4,IF(AND(GM$36=5,GK$36=\"元\"),\"平成\"&31&\"年\"&4,IF(AND(GM$36>=6,GK$36=\"元\"),\"令和\"&2&\"年\"&4,IF((AND(GM$36>=1,GM$36<=5)),\"令和\"&GK$36&\"年\"&4,\"令和\"&GK$36+1&\"年\"&4)))))","v":"令和1年4"},null,null,null,{"$f":"IF(OR(GQ94=\"\",GQ$41=5),\"\",4)","v":4},{"$f":"IF(OR(GR94=\"\",GT$41=4),\"\",IF(AND(GS$36>=1,GS$36<=4,GQ$36=31),\"平成\"&31&\"年\"&4,IF(AND(GS$36=5,GQ$36=\"元\"),\"平成\"&31&\"年\"&4,IF(AND(GS$36>=6,GQ$36=\"元\"),\"令和\"&2&\"年\"&4,IF((AND(GS$36>=1,GS$36<=5)),\"令和\"&GQ$36&\"年\"&4,\"令和\"&GQ$36+1&\"年\"&4)))))","v":"令和1年4"},{"$f":"IF(OR(GR94=\"\",GT$41=4),\"\",IF(AND(GS$36>=1,GS$36<=4,GQ$36=31),\"平成\"&31&\"年\"&4,IF(AND(GS$36=5,GQ$36=\"元\"),\"平成\"&31&\"年\"&4,IF(AND(GS$36>=6,GQ$36=\"元\"),\"令和\"&2&\"年\"&4,IF((AND(GS$36>=1,GS$36<=5)),\"令和\"&GQ$36&\"年\"&4,\"令和\"&GQ$36+1&\"年\"&4)))))","v":"令和1年4"},null,null,null,{"$f":"IF(OR(GW94=\"\",GW$41=5),\"\",4)","v":4},{"$f":"IF(OR(GX94=\"\",GZ$41=4),\"\",IF(AND(GY$36>=1,GY$36<=4,GW$36=31),\"平成\"&31&\"年\"&4,IF(AND(GY$36=5,GW$36=\"元\"),\"平成\"&31&\"年\"&4,IF(AND(GY$36>=6,GW$36=\"元\"),\"令和\"&2&\"年\"&4,IF((AND(GY$36>=1,GY$36<=5)),\"令和\"&GW$36&\"年\"&4,\"令和\"&GW$36+1&\"年\"&4)))))","v":"令和1年4"},{"$f":"IF(OR(GX94=\"\",GZ$41=4),\"\",IF(AND(GY$36>=1,GY$36<=4,GW$36=31),\"平成\"&31&\"年\"&4,IF(AND(GY$36=5,GW$36=\"元\"),\"平成\"&31&\"年\"&4,IF(AND(GY$36>=6,GW$36=\"元\"),\"令和\"&2&\"年\"&4,IF((AND(GY$36>=1,GY$36<=5)),\"令和\"&GW$36&\"年\"&4,\"令和\"&GW$36+1&\"年\"&4)))))","v":"令和1年4"},null,null,null,{"$f":"IF(OR(HC94=\"\",HC$41=5),\"\",4)","v":4},{"$f":"IF(OR(HD94=\"\",HF$41=4),\"\",IF(AND(HE$36>=1,HE$36<=4,HC$36=31),\"平成\"&31&\"年\"&4,IF(AND(HE$36=5,HC$36=\"元\"),\"平成\"&31&\"年\"&4,IF(AND(HE$36>=6,HC$36=\"元\"),\"令和\"&2&\"年\"&4,IF((AND(HE$36>=1,HE$36<=5)),\"令和\"&HC$36&\"年\"&4,\"令和\"&HC$36+1&\"年\"&4)))))","v":"令和1年4"},{"$f":"IF(OR(HD94=\"\",HF$41=4),\"\",IF(AND(HE$36>=1,HE$36<=4,HC$36=31),\"平成\"&31&\"年\"&4,IF(AND(HE$36=5,HC$36=\"元\"),\"平成\"&31&\"年\"&4,IF(AND(HE$36>=6,HC$36=\"元\"),\"令和\"&2&\"年\"&4,IF((AND(HE$36>=1,HE$36<=5)),\"令和\"&HC$36&\"年\"&4,\"令和\"&HC$36+1&\"年\"&4)))))","v":"令和1年4"},null,null,null,{"$f":"IF(OR(HI94=\"\",HI$41=5),\"\",4)","v":4},{"$f":"IF(OR(HJ94=\"\",HL$41=4),\"\",IF(AND(HK$36>=1,HK$36<=4,HI$36=31),\"平成\"&31&\"年\"&4,IF(AND(HK$36=5,HI$36=\"元\"),\"平成\"&31&\"年\"&4,IF(AND(HK$36>=6,HI$36=\"元\"),\"令和\"&2&\"年\"&4,IF((AND(HK$36>=1,HK$36<=5)),\"令和\"&HI$36&\"年\"&4,\"令和\"&HI$36+1&\"年\"&4)))))","v":"令和1年4"},{"$f":"IF(OR(HJ94=\"\",HL$41=4),\"\",IF(AND(HK$36>=1,HK$36<=4,HI$36=31),\"平成\"&31&\"年\"&4,IF(AND(HK$36=5,HI$36=\"元\"),\"平成\"&31&\"年\"&4,IF(AND(HK$36>=6,HI$36=\"元\"),\"令和\"&2&\"年\"&4,IF((AND(HK$36>=1,HK$36<=5)),\"令和\"&HI$36&\"年\"&4,\"令和\"&HI$36+1&\"年\"&4)))))","v":"令和1年4"},null,null,null,{"$f":"IF(OR(HO94=\"\",HO$41=5),\"\",4)","v":4},{"$f":"IF(OR(HP94=\"\",HR$41=4),\"\",IF(AND(HQ$36>=1,HQ$36<=4,HO$36=31),\"平成\"&31&\"年\"&4,IF(AND(HQ$36=5,HO$36=\"元\"),\"平成\"&31&\"年\"&4,IF(AND(HQ$36>=6,HO$36=\"元\"),\"令和\"&2&\"年\"&4,IF((AND(HQ$36>=1,HQ$36<=5)),\"令和\"&HO$36&\"年\"&4,\"令和\"&HO$36+1&\"年\"&4)))))","v":"令和1年4"},{"$f":"IF(OR(HP94=\"\",HR$41=4),\"\",IF(AND(HQ$36>=1,HQ$36<=4,HO$36=31),\"平成\"&31&\"年\"&4,IF(AND(HQ$36=5,HO$36=\"元\"),\"平成\"&31&\"年\"&4,IF(AND(HQ$36>=6,HO$36=\"元\"),\"令和\"&2&\"年\"&4,IF((AND(HQ$36>=1,HQ$36<=5)),\"令和\"&HO$36&\"年\"&4,\"令和\"&HO$36+1&\"年\"&4)))))","v":"令和1年4"},null,null,null,{"$f":"IF(OR(HU94=\"\",HU$41=5),\"\",4)","v":4},{"$f":"IF(OR(HV94=\"\",HX$41=4),\"\",IF(AND(HW$36>=1,HW$36<=4,HU$36=31),\"平成\"&31&\"年\"&4,IF(AND(HW$36=5,HU$36=\"元\"),\"平成\"&31&\"年\"&4,IF(AND(HW$36>=6,HU$36=\"元\"),\"令和\"&2&\"年\"&4,IF((AND(HW$36>=1,HW$36<=5)),\"令和\"&HU$36&\"年\"&4,\"令和\"&HU$36+1&\"年\"&4)))))","v":"令和1年4"},{"$f":"IF(OR(HV94=\"\",HX$41=4),\"\",IF(AND(HW$36>=1,HW$36<=4,HU$36=31),\"平成\"&31&\"年\"&4,IF(AND(HW$36=5,HU$36=\"元\"),\"平成\"&31&\"年\"&4,IF(AND(HW$36>=6,HU$36=\"元\"),\"令和\"&2&\"年\"&4,IF((AND(HW$36>=1,HW$36<=5)),\"令和\"&HU$36&\"年\"&4,\"令和\"&HU$36+1&\"年\"&4)))))","v":"令和1年4"},null,null,null,{"$f":"IF(OR(IA94=\"\",IA$41=5),\"\",4)","v":4},{"$f":"IF(OR(IB94=\"\",ID$41=4),\"\",IF(AND(IC$36>=1,IC$36<=4,IA$36=31),\"平成\"&31&\"年\"&4,IF(AND(IC$36=5,IA$36=\"元\"),\"平成\"&31&\"年\"&4,IF(AND(IC$36>=6,IA$36=\"元\"),\"令和\"&2&\"年\"&4,IF((AND(IC$36>=1,IC$36<=5)),\"令和\"&IA$36&\"年\"&4,\"令和\"&IA$36+1&\"年\"&4)))))","v":"令和1年4"},{"$f":"IF(OR(IB94=\"\",ID$41=4),\"\",IF(AND(IC$36>=1,IC$36<=4,IA$36=31),\"平成\"&31&\"年\"&4,IF(AND(IC$36=5,IA$36=\"元\"),\"平成\"&31&\"年\"&4,IF(AND(IC$36>=6,IA$36=\"元\"),\"令和\"&2&\"年\"&4,IF((AND(IC$36>=1,IC$36<=5)),\"令和\"&IA$36&\"年\"&4,\"令和\"&IA$36+1&\"年\"&4)))))","v":"令和1年4"},null,null,null,{"$f":"IF(OR(IG94=\"\",IG$41=5),\"\",4)","v":4},{"$f":"IF(OR(IH94=\"\",IJ$41=4),\"\",IF(AND(II$36>=1,II$36<=4,IG$36=31),\"平成\"&31&\"年\"&4,IF(AND(II$36=5,IG$36=\"元\"),\"平成\"&31&\"年\"&4,IF(AND(II$36>=6,IG$36=\"元\"),\"令和\"&2&\"年\"&4,IF((AND(II$36>=1,II$36<=5)),\"令和\"&IG$36&\"年\"&4,\"令和\"&IG$36+1&\"年\"&4)))))","v":"令和1年4"},{"$f":"IF(OR(IH94=\"\",IJ$41=4),\"\",IF(AND(II$36>=1,II$36<=4,IG$36=31),\"平成\"&31&\"年\"&4,IF(AND(II$36=5,IG$36=\"元\"),\"平成\"&31&\"年\"&4,IF(AND(II$36>=6,IG$36=\"元\"),\"令和\"&2&\"年\"&4,IF((AND(II$36>=1,II$36<=5)),\"令和\"&IG$36&\"年\"&4,\"令和\"&IG$36+1&\"年\"&4)))))","v":"令和1年4"}]
[null,{"$f":"IF(AND(EC21<>\"\",EC25<>\"\",EE25<>\"\",EG25<>\"\"),EC17,\"\")","v":""},"昭",64,"昭64",null,5,{"$f":"IF(AND(I$36>=1,I$36<=5,G$36=31),\"令和\"&\"元\"&\"年\"&5,IF(AND(I$36=5,G$36=\"元\"),\"令和元年 \"&5,IF(AND(I$36>=6,G$36=\"元\"),\"令和\"&2&\"年\"&5,(IF((AND(I$36>=1,I$36<=5)),\"令和\"&G$36&\"年\"&5,\"令和\"&G$36+1&\"年\"&5)))))","v":"令和1年5"},{"$f":"IF(AND(I$36>=1,I$36<=5,G$36=31),\"令和\"&\"元\"&\"年\"&5,IF(AND(I$36=5,G$36=\"元\"),\"令和元年 \"&5,IF(AND(I$36>=6,G$36=\"元\"),\"令和\"&2&\"年\"&5,(IF((AND(I$36>=1,I$36<=5)),\"令和\"&G$36&\"年\"&5,\"令和\"&G$36+1&\"年\"&5)))))","v":"令和1年5"},null,null,null,5,{"$f":"IF(AND(O$36>=1,O$36<=5,M$36=31),\"令和\"&\"元\"&\"年\"&5,IF(AND(O$36=5,M$36=\"元\"),\"令和元年 \"&5,IF(AND(O$36>=6,M$36=\"元\"),\"令和\"&2&\"年\"&5,(IF((AND(O$36>=1,O$36<=5)),\"令和\"&M$36&\"年\"&5,\"令和\"&M$36+1&\"年\"&5)))))","v":"令和1年5"},{"$f":"IF(AND(O$36>=1,O$36<=5,M$36=31),\"令和\"&\"元\"&\"年\"&5,IF(AND(O$36=5,M$36=\"元\"),\"令和元年 \"&5,IF(AND(O$36>=6,M$36=\"元\"),\"令和\"&2&\"年\"&5,(IF((AND(O$36>=1,O$36<=5)),\"令和\"&M$36&\"年\"&5,\"令和\"&M$36+1&\"年\"&5)))))","v":"令和1年5"},null,null,null,5,{"$f":"IF(AND(U$36>=1,U$36<=5,S$36=31),\"令和\"&\"元\"&\"年\"&5,IF(AND(U$36=5,S$36=\"元\"),\"令和元年 \"&5,IF(AND(U$36>=6,S$36=\"元\"),\"令和\"&2&\"年\"&5,(IF((AND(U$36>=1,U$36<=5)),\"令和\"&S$36&\"年\"&5,\"令和\"&S$36+1&\"年\"&5)))))","v":"令和1年5"},{"$f":"IF(AND(U$36>=1,U$36<=5,S$36=31),\"令和\"&\"元\"&\"年\"&5,IF(AND(U$36=5,S$36=\"元\"),\"令和元年 \"&5,IF(AND(U$36>=6,S$36=\"元\"),\"令和\"&2&\"年\"&5,(IF((AND(U$36>=1,U$36<=5)),\"令和\"&S$36&\"年\"&5,\"令和\"&S$36+1&\"年\"&5)))))","v":"令和1年5"},null,null,null,5,{"$f":"IF(AND(AA$36>=1,AA$36<=5,Y$36=31),\"令和\"&\"元\"&\"年\"&5,IF(AND(AA$36=5,Y$36=\"元\"),\"令和元年 \"&5,IF(AND(AA$36>=6,Y$36=\"元\"),\"令和\"&2&\"年\"&5,(IF((AND(AA$36>=1,AA$36<=5)),\"令和\"&Y$36&\"年\"&5,\"令和\"&Y$36+1&\"年\"&5)))))","v":"令和1年5"},{"$f":"IF(AND(AA$36>=1,AA$36<=5,Y$36=31),\"令和\"&\"元\"&\"年\"&5,IF(AND(AA$36=5,Y$36=\"元\"),\"令和元年 \"&5,IF(AND(AA$36>=6,Y$36=\"元\"),\"令和\"&2&\"年\"&5,(IF((AND(AA$36>=1,AA$36<=5)),\"令和\"&Y$36&\"年\"&5,\"令和\"&Y$36+1&\"年\"&5)))))","v":"令和1年5"},null,null,null,5,{"$f":"IF(AND(AG$36>=1,AG$36<=5,AE$36=31),\"令和\"&\"元\"&\"年\"&5,IF(AND(AG$36=5,AE$36=\"元\"),\"令和元年 \"&5,IF(AND(AG$36>=6,AE$36=\"元\"),\"令和\"&2&\"年\"&5,(IF((AND(AG$36>=1,AG$36<=5)),\"令和\"&AE$36&\"年\"&5,\"令和\"&AE$36+1&\"年\"&5)))))","v":"令和1年5"},{"$f":"IF(AND(AG$36>=1,AG$36<=5,AE$36=31),\"令和\"&\"元\"&\"年\"&5,IF(AND(AG$36=5,AE$36=\"元\"),\"令和元年 \"&5,IF(AND(AG$36>=6,AE$36=\"元\"),\"令和\"&2&\"年\"&5,(IF((AND(AG$36>=1,AG$36<=5)),\"令和\"&AE$36&\"年\"&5,\"令和\"&AE$36+1&\"年\"&5)))))","v":"令和1年5"},null,null,null,5,{"$f":"IF(AND(AM$36>=1,AM$36<=5,AK$36=31),\"令和\"&\"元\"&\"年\"&5,IF(AND(AM$36=5,AK$36=\"元\"),\"令和元年 \"&5,IF(AND(AM$36>=6,AK$36=\"元\"),\"令和\"&2&\"年\"&5,(IF((AND(AM$36>=1,AM$36<=5)),\"令和\"&AK$36&\"年\"&5,\"令和\"&AK$36+1&\"年\"&5)))))","v":"令和1年5"},{"$f":"IF(AND(AM$36>=1,AM$36<=5,AK$36=31),\"令和\"&\"元\"&\"年\"&5,IF(AND(AM$36=5,AK$36=\"元\"),\"令和元年 \"&5,IF(AND(AM$36>=6,AK$36=\"元\"),\"令和\"&2&\"年\"&5,(IF((AND(AM$36>=1,AM$36<=5)),\"令和\"&AK$36&\"年\"&5,\"令和\"&AK$36+1&\"年\"&5)))))","v":"令和1年5"},null,null,null,5,{"$f":"IF(AND(AS$36>=1,AS$36<=5,AQ$36=31),\"令和\"&\"元\"&\"年\"&5,IF(AND(AS$36=5,AQ$36=\"元\"),\"令和元年 \"&5,IF(AND(AS$36>=6,AQ$36=\"元\"),\"令和\"&2&\"年\"&5,(IF((AND(AS$36>=1,AS$36<=5)),\"令和\"&AQ$36&\"年\"&5,\"令和\"&AQ$36+1&\"年\"&5)))))","v":"令和1年5"},{"$f":"IF(AND(AS$36>=1,AS$36<=5,AQ$36=31),\"令和\"&\"元\"&\"年\"&5,IF(AND(AS$36=5,AQ$36=\"元\"),\"令和元年 \"&5,IF(AND(AS$36>=6,AQ$36=\"元\"),\"令和\"&2&\"年\"&5,(IF((AND(AS$36>=1,AS$36<=5)),\"令和\"&AQ$36&\"年\"&5,\"令和\"&AQ$36+1&\"年\"&5)))))","v":"令和1年5"},null,null,null,5,{"$f":"IF(AND(AY$36>=1,AY$36<=5,AW$36=31),\"令和\"&\"元\"&\"年\"&5,IF(AND(AY$36=5,AW$36=\"元\"),\"令和元年 \"&5,IF(AND(AY$36>=6,AW$36=\"元\"),\"令和\"&2&\"年\"&5,(IF((AND(AY$36>=1,AY$36<=5)),\"令和\"&AW$36&\"年\"&5,\"令和\"&AW$36+1&\"年\"&5)))))","v":"令和1年5"},{"$f":"IF(AND(AY$36>=1,AY$36<=5,AW$36=31),\"令和\"&\"元\"&\"年\"&5,IF(AND(AY$36=5,AW$36=\"元\"),\"令和元年 \"&5,IF(AND(AY$36>=6,AW$36=\"元\"),\"令和\"&2&\"年\"&5,(IF((AND(AY$36>=1,AY$36<=5)),\"令和\"&AW$36&\"年\"&5,\"令和\"&AW$36+1&\"年\"&5)))))","v":"令和1年5"},null,null,null,5,{"$f":"IF(AND(BE$36>=1,BE$36<=5,BC$36=31),\"令和\"&\"元\"&\"年\"&5,IF(AND(BE$36=5,BC$36=\"元\"),\"令和元年 \"&5,IF(AND(BE$36>=6,BC$36=\"元\"),\"令和\"&2&\"年\"&5,(IF((AND(BE$36>=1,BE$36<=5)),\"令和\"&BC$36&\"年\"&5,\"令和\"&BC$36+1&\"年\"&5)))))","v":"令和1年5"},{"$f":"IF(AND(BE$36>=1,BE$36<=5,BC$36=31),\"令和\"&\"元\"&\"年\"&5,IF(AND(BE$36=5,BC$36=\"元\"),\"令和元年 \"&5,IF(AND(BE$36>=6,BC$36=\"元\"),\"令和\"&2&\"年\"&5,(IF((AND(BE$36>=1,BE$36<=5)),\"令和\"&BC$36&\"年\"&5,\"令和\"&BC$36+1&\"年\"&5)))))","v":"令和1年5"},null,null,null,5,{"$f":"IF(AND(BK$36>=1,BK$36<=5,BI$36=31),\"令和\"&\"元\"&\"年\"&5,IF(AND(BK$36=5,BI$36=\"元\"),\"令和元年 \"&5,IF(AND(BK$36>=6,BI$36=\"元\"),\"令和\"&2&\"年\"&5,(IF((AND(BK$36>=1,BK$36<=5)),\"令和\"&BI$36&\"年\"&5,\"令和\"&BI$36+1&\"年\"&5)))))","v":"令和1年5"},{"$f":"IF(AND(BK$36>=1,BK$36<=5,BI$36=31),\"令和\"&\"元\"&\"年\"&5,IF(AND(BK$36=5,BI$36=\"元\"),\"令和元年 \"&5,IF(AND(BK$36>=6,BI$36=\"元\"),\"令和\"&2&\"年\"&5,(IF((AND(BK$36>=1,BK$36<=5)),\"令和\"&BI$36&\"年\"&5,\"令和\"&BI$36+1&\"年\"&5)))))","v":"令和1年5"},null,null,null,5,{"$f":"IF(AND(BQ$36>=1,BQ$36<=5,BO$36=31),\"令和\"&\"元\"&\"年\"&5,IF(AND(BQ$36=5,BO$36=\"元\"),\"令和元年 \"&5,IF(AND(BQ$36>=6,BO$36=\"元\"),\"令和\"&2&\"年\"&5,(IF((AND(BQ$36>=1,BQ$36<=5)),\"令和\"&BO$36&\"年\"&5,\"令和\"&BO$36+1&\"年\"&5)))))","v":"令和1年5"},{"$f":"IF(AND(BQ$36>=1,BQ$36<=5,BO$36=31),\"令和\"&\"元\"&\"年\"&5,IF(AND(BQ$36=5,BO$36=\"元\"),\"令和元年 \"&5,IF(AND(BQ$36>=6,BO$36=\"元\"),\"令和\"&2&\"年\"&5,(IF((AND(BQ$36>=1,BQ$36<=5)),\"令和\"&BO$36&\"年\"&5,\"令和\"&BO$36+1&\"年\"&5)))))","v":"令和1年5"},null,null,null,5,{"$f":"IF(AND(BW$36>=1,BW$36<=5,BU$36=31),\"令和\"&\"元\"&\"年\"&5,IF(AND(BW$36=5,BU$36=\"元\"),\"令和元年 \"&5,IF(AND(BW$36>=6,BU$36=\"元\"),\"令和\"&2&\"年\"&5,(IF((AND(BW$36>=1,BW$36<=5)),\"令和\"&BU$36&\"年\"&5,\"令和\"&BU$36+1&\"年\"&5)))))","v":"令和1年5"},{"$f":"IF(AND(BW$36>=1,BW$36<=5,BU$36=31),\"令和\"&\"元\"&\"年\"&5,IF(AND(BW$36=5,BU$36=\"元\"),\"令和元年 \"&5,IF(AND(BW$36>=6,BU$36=\"元\"),\"令和\"&2&\"年\"&5,(IF((AND(BW$36>=1,BW$36<=5)),\"令和\"&BU$36&\"年\"&5,\"令和\"&BU$36+1&\"年\"&5)))))","v":"令和1年5"},null,null,null,5,{"$f":"IF(AND(CC$36>=1,CC$36<=5,CA$36=31),\"令和\"&\"元\"&\"年\"&5,IF(AND(CC$36=5,CA$36=\"元\"),\"令和元年 \"&5,IF(AND(CC$36>=6,CA$36=\"元\"),\"令和\"&2&\"年\"&5,(IF((AND(CC$36>=1,CC$36<=5)),\"令和\"&CA$36&\"年\"&5,\"令和\"&CA$36+1&\"年\"&5)))))","v":"令和1年5"},{"$f":"IF(AND(CC$36>=1,CC$36<=5,CA$36=31),\"令和\"&\"元\"&\"年\"&5,IF(AND(CC$36=5,CA$36=\"元\"),\"令和元年 \"&5,IF(AND(CC$36>=6,CA$36=\"元\"),\"令和\"&2&\"年\"&5,(IF((AND(CC$36>=1,CC$36<=5)),\"令和\"&CA$36&\"年\"&5,\"令和\"&CA$36+1&\"年\"&5)))))","v":"令和1年5"},null,null,null,5,{"$f":"IF(AND(CI$36>=1,CI$36<=5,CG$36=31),\"令和\"&\"元\"&\"年\"&5,IF(AND(CI$36=5,CG$36=\"元\"),\"令和元年 \"&5,IF(AND(CI$36>=6,CG$36=\"元\"),\"令和\"&2&\"年\"&5,(IF((AND(CI$36>=1,CI$36<=5)),\"令和\"&CG$36&\"年\"&5,\"令和\"&CG$36+1&\"年\"&5)))))","v":"令和1年5"},{"$f":"IF(AND(CI$36>=1,CI$36<=5,CG$36=31),\"令和\"&\"元\"&\"年\"&5,IF(AND(CI$36=5,CG$36=\"元\"),\"令和元年 \"&5,IF(AND(CI$36>=6,CG$36=\"元\"),\"令和\"&2&\"年\"&5,(IF((AND(CI$36>=1,CI$36<=5)),\"令和\"&CG$36&\"年\"&5,\"令和\"&CG$36+1&\"年\"&5)))))","v":"令和1年5"},null,null,null,5,{"$f":"IF(AND(CO$36>=1,CO$36<=5,CM$36=31),\"令和\"&\"元\"&\"年\"&5,IF(AND(CO$36=5,CM$36=\"元\"),\"令和元年 \"&5,IF(AND(CO$36>=6,CM$36=\"元\"),\"令和\"&2&\"年\"&5,(IF((AND(CO$36>=1,CO$36<=5)),\"令和\"&CM$36&\"年\"&5,\"令和\"&CM$36+1&\"年\"&5)))))","v":"令和1年5"},{"$f":"IF(AND(CO$36>=1,CO$36<=5,CM$36=31),\"令和\"&\"元\"&\"年\"&5,IF(AND(CO$36=5,CM$36=\"元\"),\"令和元年 \"&5,IF(AND(CO$36>=6,CM$36=\"元\"),\"令和\"&2&\"年\"&5,(IF((AND(CO$36>=1,CO$36<=5)),\"令和\"&CM$36&\"年\"&5,\"令和\"&CM$36+1&\"年\"&5)))))","v":"令和1年5"},null,null,null,5,{"$f":"IF(AND(CU$36>=1,CU$36<=5,CS$36=31),\"令和\"&\"元\"&\"年\"&5,IF(AND(CU$36=5,CS$36=\"元\"),\"令和元年 \"&5,IF(AND(CU$36>=6,CS$36=\"元\"),\"令和\"&2&\"年\"&5,(IF((AND(CU$36>=1,CU$36<=5)),\"令和\"&CS$36&\"年\"&5,\"令和\"&CS$36+1&\"年\"&5)))))","v":"令和1年5"},{"$f":"IF(AND(CU$36>=1,CU$36<=5,CS$36=31),\"令和\"&\"元\"&\"年\"&5,IF(AND(CU$36=5,CS$36=\"元\"),\"令和元年 \"&5,IF(AND(CU$36>=6,CS$36=\"元\"),\"令和\"&2&\"年\"&5,(IF((AND(CU$36>=1,CU$36<=5)),\"令和\"&CS$36&\"年\"&5,\"令和\"&CS$36+1&\"年\"&5)))))","v":"令和1年5"},null,null,null,5,{"$f":"IF(AND(DA$36>=1,DA$36<=5,CY$36=31),\"令和\"&\"元\"&\"年\"&5,IF(AND(DA$36=5,CY$36=\"元\"),\"令和元年 \"&5,IF(AND(DA$36>=6,CY$36=\"元\"),\"令和\"&2&\"年\"&5,(IF((AND(DA$36>=1,DA$36<=5)),\"令和\"&CY$36&\"年\"&5,\"令和\"&CY$36+1&\"年\"&5)))))","v":"令和1年5"},{"$f":"IF(AND(DA$36>=1,DA$36<=5,CY$36=31),\"令和\"&\"元\"&\"年\"&5,IF(AND(DA$36=5,CY$36=\"元\"),\"令和元年 \"&5,IF(AND(DA$36>=6,CY$36=\"元\"),\"令和\"&2&\"年\"&5,(IF((AND(DA$36>=1,DA$36<=5)),\"令和\"&CY$36&\"年\"&5,\"令和\"&CY$36+1&\"年\"&5)))))","v":"令和1年5"},null,null,null,5,{"$f":"IF(AND(DG$36>=1,DG$36<=5,DE$36=31),\"令和\"&\"元\"&\"年\"&5,IF(AND(DG$36=5,DE$36=\"元\"),\"令和元年 \"&5,IF(AND(DG$36>=6,DE$36=\"元\"),\"令和\"&2&\"年\"&5,(IF((AND(DG$36>=1,DG$36<=5)),\"令和\"&DE$36&\"年\"&5,\"令和\"&DE$36+1&\"年\"&5)))))","v":"令和1年5"},{"$f":"IF(AND(DG$36>=1,DG$36<=5,DE$36=31),\"令和\"&\"元\"&\"年\"&5,IF(AND(DG$36=5,DE$36=\"元\"),\"令和元年 \"&5,IF(AND(DG$36>=6,DE$36=\"元\"),\"令和\"&2&\"年\"&5,(IF((AND(DG$36>=1,DG$36<=5)),\"令和\"&DE$36&\"年\"&5,\"令和\"&DE$36+1&\"年\"&5)))))","v":"令和1年5"},null,null,null,5,{"$f":"IF(AND(DM$36>=1,DM$36<=5,DK$36=31),\"令和\"&\"元\"&\"年\"&5,IF(AND(DM$36=5,DK$36=\"元\"),\"令和元年 \"&5,IF(AND(DM$36>=6,DK$36=\"元\"),\"令和\"&2&\"年\"&5,(IF((AND(DM$36>=1,DM$36<=5)),\"令和\"&DK$36&\"年\"&5,\"令和\"&DK$36+1&\"年\"&5)))))","v":"令和1年5"},{"$f":"IF(AND(DM$36>=1,DM$36<=5,DK$36=31),\"令和\"&\"元\"&\"年\"&5,IF(AND(DM$36=5,DK$36=\"元\"),\"令和元年 \"&5,IF(AND(DM$36>=6,DK$36=\"元\"),\"令和\"&2&\"年\"&5,(IF((AND(DM$36>=1,DM$36<=5)),\"令和\"&DK$36&\"年\"&5,\"令和\"&DK$36+1&\"年\"&5)))))","v":"令和1年5"},null,null,null,5,{"$f":"IF(AND(DS$36>=1,DS$36<=5,DQ$36=31),\"令和\"&\"元\"&\"年\"&5,IF(AND(DS$36=5,DQ$36=\"元\"),\"令和元年 \"&5,IF(AND(DS$36>=6,DQ$36=\"元\"),\"令和\"&2&\"年\"&5,(IF((AND(DS$36>=1,DS$36<=5)),\"令和\"&DQ$36&\"年\"&5,\"令和\"&DQ$36+1&\"年\"&5)))))","v":"令和1年5"},{"$f":"IF(AND(DS$36>=1,DS$36<=5,DQ$36=31),\"令和\"&\"元\"&\"年\"&5,IF(AND(DS$36=5,DQ$36=\"元\"),\"令和元年 \"&5,IF(AND(DS$36>=6,DQ$36=\"元\"),\"令和\"&2&\"年\"&5,(IF((AND(DS$36>=1,DS$36<=5)),\"令和\"&DQ$36&\"年\"&5,\"令和\"&DQ$36+1&\"年\"&5)))))","v":"令和1年5"},null,null,null,5,{"$f":"IF(AND(DY$36>=1,DY$36<=5,DW$36=31),\"令和\"&\"元\"&\"年\"&5,IF(AND(DY$36=5,DW$36=\"元\"),\"令和元年 \"&5,IF(AND(DY$36>=6,DW$36=\"元\"),\"令和\"&2&\"年\"&5,(IF((AND(DY$36>=1,DY$36<=5)),\"令和\"&DW$36&\"年\"&5,\"令和\"&DW$36+1&\"年\"&5)))))","v":"令和1年5"},{"$f":"IF(AND(DY$36>=1,DY$36<=5,DW$36=31),\"令和\"&\"元\"&\"年\"&5,IF(AND(DY$36=5,DW$36=\"元\"),\"令和元年 \"&5,IF(AND(DY$36>=6,DW$36=\"元\"),\"令和\"&2&\"年\"&5,(IF((AND(DY$36>=1,DY$36<=5)),\"令和\"&DW$36&\"年\"&5,\"令和\"&DW$36+1&\"年\"&5)))))","v":"令和1年5"},null,null,null,5,{"$f":"IF(AND(EE$36>=1,EE$36<=5,EC$36=31),\"令和\"&\"元\"&\"年\"&5,IF(AND(EE$36=5,EC$36=\"元\"),\"令和元年 \"&5,IF(AND(EE$36>=6,EC$36=\"元\"),\"令和\"&2&\"年\"&5,(IF((AND(EE$36>=1,EE$36<=5)),\"令和\"&EC$36&\"年\"&5,\"令和\"&EC$36+1&\"年\"&5)))))","v":"令和1年5"},{"$f":"IF(AND(EE$36>=1,EE$36<=5,EC$36=31),\"令和\"&\"元\"&\"年\"&5,IF(AND(EE$36=5,EC$36=\"元\"),\"令和元年 \"&5,IF(AND(EE$36>=6,EC$36=\"元\"),\"令和\"&2&\"年\"&5,(IF((AND(EE$36>=1,EE$36<=5)),\"令和\"&EC$36&\"年\"&5,\"令和\"&EC$36+1&\"年\"&5)))))","v":"令和1年5"},null,null,null,5,{"$f":"IF(AND(EK$36>=1,EK$36<=5,EI$36=31),\"令和\"&\"元\"&\"年\"&5,IF(AND(EK$36=5,EI$36=\"元\"),\"令和元年 \"&5,IF(AND(EK$36>=6,EI$36=\"元\"),\"令和\"&2&\"年\"&5,(IF((AND(EK$36>=1,EK$36<=5)),\"令和\"&EI$36&\"年\"&5,\"令和\"&EI$36+1&\"年\"&5)))))","v":"令和1年5"},{"$f":"IF(AND(EK$36>=1,EK$36<=5,EI$36=31),\"令和\"&\"元\"&\"年\"&5,IF(AND(EK$36=5,EI$36=\"元\"),\"令和元年 \"&5,IF(AND(EK$36>=6,EI$36=\"元\"),\"令和\"&2&\"年\"&5,(IF((AND(EK$36>=1,EK$36<=5)),\"令和\"&EI$36&\"年\"&5,\"令和\"&EI$36+1&\"年\"&5)))))","v":"令和1年5"},null,null,null,5,{"$f":"IF(AND(EQ$36>=1,EQ$36<=5,EO$36=31),\"令和\"&\"元\"&\"年\"&5,IF(AND(EQ$36=5,EO$36=\"元\"),\"令和元年 \"&5,IF(AND(EQ$36>=6,EO$36=\"元\"),\"令和\"&2&\"年\"&5,(IF((AND(EQ$36>=1,EQ$36<=5)),\"令和\"&EO$36&\"年\"&5,\"令和\"&EO$36+1&\"年\"&5)))))","v":"令和1年5"},{"$f":"IF(AND(EQ$36>=1,EQ$36<=5,EO$36=31),\"令和\"&\"元\"&\"年\"&5,IF(AND(EQ$36=5,EO$36=\"元\"),\"令和元年 \"&5,IF(AND(EQ$36>=6,EO$36=\"元\"),\"令和\"&2&\"年\"&5,(IF((AND(EQ$36>=1,EQ$36<=5)),\"令和\"&EO$36&\"年\"&5,\"令和\"&EO$36+1&\"年\"&5)))))","v":"令和1年5"},null,null,null,5,{"$f":"IF(AND(EW$36>=1,EW$36<=5,EU$36=31),\"令和\"&\"元\"&\"年\"&5,IF(AND(EW$36=5,EU$36=\"元\"),\"令和元年 \"&5,IF(AND(EW$36>=6,EU$36=\"元\"),\"令和\"&2&\"年\"&5,(IF((AND(EW$36>=1,EW$36<=5)),\"令和\"&EU$36&\"年\"&5,\"令和\"&EU$36+1&\"年\"&5)))))","v":"令和1年5"},{"$f":"IF(AND(EW$36>=1,EW$36<=5,EU$36=31),\"令和\"&\"元\"&\"年\"&5,IF(AND(EW$36=5,EU$36=\"元\"),\"令和元年 \"&5,IF(AND(EW$36>=6,EU$36=\"元\"),\"令和\"&2&\"年\"&5,(IF((AND(EW$36>=1,EW$36<=5)),\"令和\"&EU$36&\"年\"&5,\"令和\"&EU$36+1&\"年\"&5)))))","v":"令和1年5"},null,null,null,5,{"$f":"IF(AND(FC$36>=1,FC$36<=5,FA$36=31),\"令和\"&\"元\"&\"年\"&5,IF(AND(FC$36=5,FA$36=\"元\"),\"令和元年 \"&5,IF(AND(FC$36>=6,FA$36=\"元\"),\"令和\"&2&\"年\"&5,(IF((AND(FC$36>=1,FC$36<=5)),\"令和\"&FA$36&\"年\"&5,\"令和\"&FA$36+1&\"年\"&5)))))","v":"令和1年5"},{"$f":"IF(AND(FC$36>=1,FC$36<=5,FA$36=31),\"令和\"&\"元\"&\"年\"&5,IF(AND(FC$36=5,FA$36=\"元\"),\"令和元年 \"&5,IF(AND(FC$36>=6,FA$36=\"元\"),\"令和\"&2&\"年\"&5,(IF((AND(FC$36>=1,FC$36<=5)),\"令和\"&FA$36&\"年\"&5,\"令和\"&FA$36+1&\"年\"&5)))))","v":"令和1年5"},null,null,null,5,{"$f":"IF(AND(FI$36>=1,FI$36<=5,FG$36=31),\"令和\"&\"元\"&\"年\"&5,IF(AND(FI$36=5,FG$36=\"元\"),\"令和元年 \"&5,IF(AND(FI$36>=6,FG$36=\"元\"),\"令和\"&2&\"年\"&5,(IF((AND(FI$36>=1,FI$36<=5)),\"令和\"&FG$36&\"年\"&5,\"令和\"&FG$36+1&\"年\"&5)))))","v":"令和1年5"},{"$f":"IF(AND(FI$36>=1,FI$36<=5,FG$36=31),\"令和\"&\"元\"&\"年\"&5,IF(AND(FI$36=5,FG$36=\"元\"),\"令和元年 \"&5,IF(AND(FI$36>=6,FG$36=\"元\"),\"令和\"&2&\"年\"&5,(IF((AND(FI$36>=1,FI$36<=5)),\"令和\"&FG$36&\"年\"&5,\"令和\"&FG$36+1&\"年\"&5)))))","v":"令和1年5"},null,null,null,5,{"$f":"IF(AND(FO$36>=1,FO$36<=5,FM$36=31),\"令和\"&\"元\"&\"年\"&5,IF(AND(FO$36=5,FM$36=\"元\"),\"令和元年 \"&5,IF(AND(FO$36>=6,FM$36=\"元\"),\"令和\"&2&\"年\"&5,(IF((AND(FO$36>=1,FO$36<=5)),\"令和\"&FM$36&\"年\"&5,\"令和\"&FM$36+1&\"年\"&5)))))","v":"令和1年5"},{"$f":"IF(AND(FO$36>=1,FO$36<=5,FM$36=31),\"令和\"&\"元\"&\"年\"&5,IF(AND(FO$36=5,FM$36=\"元\"),\"令和元年 \"&5,IF(AND(FO$36>=6,FM$36=\"元\"),\"令和\"&2&\"年\"&5,(IF((AND(FO$36>=1,FO$36<=5)),\"令和\"&FM$36&\"年\"&5,\"令和\"&FM$36+1&\"年\"&5)))))","v":"令和1年5"},null,null,null,5,{"$f":"IF(AND(FU$36>=1,FU$36<=5,FS$36=31),\"令和\"&\"元\"&\"年\"&5,IF(AND(FU$36=5,FS$36=\"元\"),\"令和元年 \"&5,IF(AND(FU$36>=6,FS$36=\"元\"),\"令和\"&2&\"年\"&5,(IF((AND(FU$36>=1,FU$36<=5)),\"令和\"&FS$36&\"年\"&5,\"令和\"&FS$36+1&\"年\"&5)))))","v":"令和1年5"},{"$f":"IF(AND(FU$36>=1,FU$36<=5,FS$36=31),\"令和\"&\"元\"&\"年\"&5,IF(AND(FU$36=5,FS$36=\"元\"),\"令和元年 \"&5,IF(AND(FU$36>=6,FS$36=\"元\"),\"令和\"&2&\"年\"&5,(IF((AND(FU$36>=1,FU$36<=5)),\"令和\"&FS$36&\"年\"&5,\"令和\"&FS$36+1&\"年\"&5)))))","v":"令和1年5"},null,null,null,5,{"$f":"IF(AND(GA$36>=1,GA$36<=5,FY$36=31),\"令和\"&\"元\"&\"年\"&5,IF(AND(GA$36=5,FY$36=\"元\"),\"令和元年 \"&5,IF(AND(GA$36>=6,FY$36=\"元\"),\"令和\"&2&\"年\"&5,(IF((AND(GA$36>=1,GA$36<=5)),\"令和\"&FY$36&\"年\"&5,\"令和\"&FY$36+1&\"年\"&5)))))","v":"令和1年5"},{"$f":"IF(AND(GA$36>=1,GA$36<=5,FY$36=31),\"令和\"&\"元\"&\"年\"&5,IF(AND(GA$36=5,FY$36=\"元\"),\"令和元年 \"&5,IF(AND(GA$36>=6,FY$36=\"元\"),\"令和\"&2&\"年\"&5,(IF((AND(GA$36>=1,GA$36<=5)),\"令和\"&FY$36&\"年\"&5,\"令和\"&FY$36+1&\"年\"&5)))))","v":"令和1年5"},null,null,null,5,{"$f":"IF(AND(GG$36>=1,GG$36<=5,GE$36=31),\"令和\"&\"元\"&\"年\"&5,IF(AND(GG$36=5,GE$36=\"元\"),\"令和元年 \"&5,IF(AND(GG$36>=6,GE$36=\"元\"),\"令和\"&2&\"年\"&5,(IF((AND(GG$36>=1,GG$36<=5)),\"令和\"&GE$36&\"年\"&5,\"令和\"&GE$36+1&\"年\"&5)))))","v":"令和1年5"},{"$f":"IF(AND(GG$36>=1,GG$36<=5,GE$36=31),\"令和\"&\"元\"&\"年\"&5,IF(AND(GG$36=5,GE$36=\"元\"),\"令和元年 \"&5,IF(AND(GG$36>=6,GE$36=\"元\"),\"令和\"&2&\"年\"&5,(IF((AND(GG$36>=1,GG$36<=5)),\"令和\"&GE$36&\"年\"&5,\"令和\"&GE$36+1&\"年\"&5)))))","v":"令和1年5"},null,null,null,5,{"$f":"IF(AND(GM$36>=1,GM$36<=5,GK$36=31),\"令和\"&\"元\"&\"年\"&5,IF(AND(GM$36=5,GK$36=\"元\"),\"令和元年 \"&5,IF(AND(GM$36>=6,GK$36=\"元\"),\"令和\"&2&\"年\"&5,(IF((AND(GM$36>=1,GM$36<=5)),\"令和\"&GK$36&\"年\"&5,\"令和\"&GK$36+1&\"年\"&5)))))","v":"令和1年5"},{"$f":"IF(AND(GM$36>=1,GM$36<=5,GK$36=31),\"令和\"&\"元\"&\"年\"&5,IF(AND(GM$36=5,GK$36=\"元\"),\"令和元年 \"&5,IF(AND(GM$36>=6,GK$36=\"元\"),\"令和\"&2&\"年\"&5,(IF((AND(GM$36>=1,GM$36<=5)),\"令和\"&GK$36&\"年\"&5,\"令和\"&GK$36+1&\"年\"&5)))))","v":"令和1年5"},null,null,null,5,{"$f":"IF(AND(GS$36>=1,GS$36<=5,GQ$36=31),\"令和\"&\"元\"&\"年\"&5,IF(AND(GS$36=5,GQ$36=\"元\"),\"令和元年 \"&5,IF(AND(GS$36>=6,GQ$36=\"元\"),\"令和\"&2&\"年\"&5,(IF((AND(GS$36>=1,GS$36<=5)),\"令和\"&GQ$36&\"年\"&5,\"令和\"&GQ$36+1&\"年\"&5)))))","v":"令和1年5"},{"$f":"IF(AND(GS$36>=1,GS$36<=5,GQ$36=31),\"令和\"&\"元\"&\"年\"&5,IF(AND(GS$36=5,GQ$36=\"元\"),\"令和元年 \"&5,IF(AND(GS$36>=6,GQ$36=\"元\"),\"令和\"&2&\"年\"&5,(IF((AND(GS$36>=1,GS$36<=5)),\"令和\"&GQ$36&\"年\"&5,\"令和\"&GQ$36+1&\"年\"&5)))))","v":"令和1年5"},null,null,null,5,{"$f":"IF(AND(GY$36>=1,GY$36<=5,GW$36=31),\"令和\"&\"元\"&\"年\"&5,IF(AND(GY$36=5,GW$36=\"元\"),\"令和元年 \"&5,IF(AND(GY$36>=6,GW$36=\"元\"),\"令和\"&2&\"年\"&5,(IF((AND(GY$36>=1,GY$36<=5)),\"令和\"&GW$36&\"年\"&5,\"令和\"&GW$36+1&\"年\"&5)))))","v":"令和1年5"},{"$f":"IF(AND(GY$36>=1,GY$36<=5,GW$36=31),\"令和\"&\"元\"&\"年\"&5,IF(AND(GY$36=5,GW$36=\"元\"),\"令和元年 \"&5,IF(AND(GY$36>=6,GW$36=\"元\"),\"令和\"&2&\"年\"&5,(IF((AND(GY$36>=1,GY$36<=5)),\"令和\"&GW$36&\"年\"&5,\"令和\"&GW$36+1&\"年\"&5)))))","v":"令和1年5"},null,null,null,5,{"$f":"IF(AND(HE$36>=1,HE$36<=5,HC$36=31),\"令和\"&\"元\"&\"年\"&5,IF(AND(HE$36=5,HC$36=\"元\"),\"令和元年 \"&5,IF(AND(HE$36>=6,HC$36=\"元\"),\"令和\"&2&\"年\"&5,(IF((AND(HE$36>=1,HE$36<=5)),\"令和\"&HC$36&\"年\"&5,\"令和\"&HC$36+1&\"年\"&5)))))","v":"令和1年5"},{"$f":"IF(AND(HE$36>=1,HE$36<=5,HC$36=31),\"令和\"&\"元\"&\"年\"&5,IF(AND(HE$36=5,HC$36=\"元\"),\"令和元年 \"&5,IF(AND(HE$36>=6,HC$36=\"元\"),\"令和\"&2&\"年\"&5,(IF((AND(HE$36>=1,HE$36<=5)),\"令和\"&HC$36&\"年\"&5,\"令和\"&HC$36+1&\"年\"&5)))))","v":"令和1年5"},null,null,null,5,{"$f":"IF(AND(HK$36>=1,HK$36<=5,HI$36=31),\"令和\"&\"元\"&\"年\"&5,IF(AND(HK$36=5,HI$36=\"元\"),\"令和元年 \"&5,IF(AND(HK$36>=6,HI$36=\"元\"),\"令和\"&2&\"年\"&5,(IF((AND(HK$36>=1,HK$36<=5)),\"令和\"&HI$36&\"年\"&5,\"令和\"&HI$36+1&\"年\"&5)))))","v":"令和1年5"},{"$f":"IF(AND(HK$36>=1,HK$36<=5,HI$36=31),\"令和\"&\"元\"&\"年\"&5,IF(AND(HK$36=5,HI$36=\"元\"),\"令和元年 \"&5,IF(AND(HK$36>=6,HI$36=\"元\"),\"令和\"&2&\"年\"&5,(IF((AND(HK$36>=1,HK$36<=5)),\"令和\"&HI$36&\"年\"&5,\"令和\"&HI$36+1&\"年\"&5)))))","v":"令和1年5"},null,null,null,5,{"$f":"IF(AND(HQ$36>=1,HQ$36<=5,HO$36=31),\"令和\"&\"元\"&\"年\"&5,IF(AND(HQ$36=5,HO$36=\"元\"),\"令和元年 \"&5,IF(AND(HQ$36>=6,HO$36=\"元\"),\"令和\"&2&\"年\"&5,(IF((AND(HQ$36>=1,HQ$36<=5)),\"令和\"&HO$36&\"年\"&5,\"令和\"&HO$36+1&\"年\"&5)))))","v":"令和1年5"},{"$f":"IF(AND(HQ$36>=1,HQ$36<=5,HO$36=31),\"令和\"&\"元\"&\"年\"&5,IF(AND(HQ$36=5,HO$36=\"元\"),\"令和元年 \"&5,IF(AND(HQ$36>=6,HO$36=\"元\"),\"令和\"&2&\"年\"&5,(IF((AND(HQ$36>=1,HQ$36<=5)),\"令和\"&HO$36&\"年\"&5,\"令和\"&HO$36+1&\"年\"&5)))))","v":"令和1年5"},null,null,null,5,{"$f":"IF(AND(HW$36>=1,HW$36<=5,HU$36=31),\"令和\"&\"元\"&\"年\"&5,IF(AND(HW$36=5,HU$36=\"元\"),\"令和元年 \"&5,IF(AND(HW$36>=6,HU$36=\"元\"),\"令和\"&2&\"年\"&5,(IF((AND(HW$36>=1,HW$36<=5)),\"令和\"&HU$36&\"年\"&5,\"令和\"&HU$36+1&\"年\"&5)))))","v":"令和1年5"},{"$f":"IF(AND(HW$36>=1,HW$36<=5,HU$36=31),\"令和\"&\"元\"&\"年\"&5,IF(AND(HW$36=5,HU$36=\"元\"),\"令和元年 \"&5,IF(AND(HW$36>=6,HU$36=\"元\"),\"令和\"&2&\"年\"&5,(IF((AND(HW$36>=1,HW$36<=5)),\"令和\"&HU$36&\"年\"&5,\"令和\"&HU$36+1&\"年\"&5)))))","v":"令和1年5"},null,null,null,5,{"$f":"IF(AND(IC$36>=1,IC$36<=5,IA$36=31),\"令和\"&\"元\"&\"年\"&5,IF(AND(IC$36=5,IA$36=\"元\"),\"令和元年 \"&5,IF(AND(IC$36>=6,IA$36=\"元\"),\"令和\"&2&\"年\"&5,(IF((AND(IC$36>=1,IC$36<=5)),\"令和\"&IA$36&\"年\"&5,\"令和\"&IA$36+1&\"年\"&5)))))","v":"令和1年5"},{"$f":"IF(AND(IC$36>=1,IC$36<=5,IA$36=31),\"令和\"&\"元\"&\"年\"&5,IF(AND(IC$36=5,IA$36=\"元\"),\"令和元年 \"&5,IF(AND(IC$36>=6,IA$36=\"元\"),\"令和\"&2&\"年\"&5,(IF((AND(IC$36>=1,IC$36<=5)),\"令和\"&IA$36&\"年\"&5,\"令和\"&IA$36+1&\"年\"&5)))))","v":"令和1年5"},null,null,null,5,{"$f":"IF(AND(II$36>=1,II$36<=5,IG$36=31),\"令和\"&\"元\"&\"年\"&5,IF(AND(II$36=5,IG$36=\"元\"),\"令和元年 \"&5,IF(AND(II$36>=6,IG$36=\"元\"),\"令和\"&2&\"年\"&5,(IF((AND(II$36>=1,II$36<=5)),\"令和\"&IG$36&\"年\"&5,\"令和\"&IG$36+1&\"年\"&5)))))","v":"令和1年5"},{"$f":"IF(AND(II$36>=1,II$36<=5,IG$36=31),\"令和\"&\"元\"&\"年\"&5,IF(AND(II$36=5,IG$36=\"元\"),\"令和元年 \"&5,IF(AND(II$36>=6,IG$36=\"元\"),\"令和\"&2&\"年\"&5,(IF((AND(II$36>=1,II$36<=5)),\"令和\"&IG$36&\"年\"&5,\"令和\"&IG$36+1&\"年\"&5)))))","v":"令和1年5"}]
[null,{"$f":"IF(AND(EI21<>\"\",EI25<>\"\",EK25<>\"\",EM25<>\"\"),EI17,\"\")","v":""},"昭",63,"昭63",null,null,{"$f":"IF(AND(I$36>=1,I$36<=5,G41=\"\",J41=\"\",G$36=31),\"令和\"&\"元\"&\"年\"&6,IF(AND(I$36>=1,I$36<=5,G41=\"\",J41=\"\"),\"令和\"&G$36&\"年\"&6,\"\"))","v":""},{"$f":"IF(AND(I$36>=1,I$36<=5,G41=\"\",J41=\"\",G$36=31),\"令和\"&\"元\"&\"年\"&6,IF(AND(I$36>=1,I$36<=5,G41=\"\",J41=\"\"),\"令和\"&G$36&\"年\"&6,\"\"))","v":""},null,null,null,null,{"$f":"IF(AND(O$36>=1,O$36<=5,M41=\"\",P41=\"\",M$36=31),\"令和\"&\"元\"&\"年\"&6,IF(AND(O$36>=1,O$36<=5,M41=\"\",P41=\"\"),\"令和\"&M$36&\"年\"&6,\"\"))","v":""},{"$f":"IF(AND(O$36>=1,O$36<=5,M41=\"\",P41=\"\",M$36=31),\"令和\"&\"元\"&\"年\"&6,IF(AND(O$36>=1,O$36<=5,M41=\"\",P41=\"\"),\"令和\"&M$36&\"年\"&6,\"\"))","v":""},null,null,null,null,{"$f":"IF(AND(U$36>=1,U$36<=5,S41=\"\",V41=\"\",S$36=31),\"令和\"&\"元\"&\"年\"&6,IF(AND(U$36>=1,U$36<=5,S41=\"\",V41=\"\"),\"令和\"&S$36&\"年\"&6,\"\"))","v":""},{"$f":"IF(AND(U$36>=1,U$36<=5,S41=\"\",V41=\"\",S$36=31),\"令和\"&\"元\"&\"年\"&6,IF(AND(U$36>=1,U$36<=5,S41=\"\",V41=\"\"),\"令和\"&S$36&\"年\"&6,\"\"))","v":""},null,null,null,null,{"$f":"IF(AND(AA$36>=1,AA$36<=5,Y41=\"\",AB41=\"\",Y$36=31),\"令和\"&\"元\"&\"年\"&6,IF(AND(AA$36>=1,AA$36<=5,Y41=\"\",AB41=\"\"),\"令和\"&Y$36&\"年\"&6,\"\"))","v":""},{"$f":"IF(AND(AA$36>=1,AA$36<=5,Y41=\"\",AB41=\"\",Y$36=31),\"令和\"&\"元\"&\"年\"&6,IF(AND(AA$36>=1,AA$36<=5,Y41=\"\",AB41=\"\"),\"令和\"&Y$36&\"年\"&6,\"\"))","v":""},null,null,null,null,{"$f":"IF(AND(AG$36>=1,AG$36<=5,AE41=\"\",AH41=\"\",AE$36=31),\"令和\"&\"元\"&\"年\"&6,IF(AND(AG$36>=1,AG$36<=5,AE41=\"\",AH41=\"\"),\"令和\"&AE$36&\"年\"&6,\"\"))","v":""},{"$f":"IF(AND(AG$36>=1,AG$36<=5,AE41=\"\",AH41=\"\",AE$36=31),\"令和\"&\"元\"&\"年\"&6,IF(AND(AG$36>=1,AG$36<=5,AE41=\"\",AH41=\"\"),\"令和\"&AE$36&\"年\"&6,\"\"))","v":""},null,null,null,null,{"$f":"IF(AND(AM$36>=1,AM$36<=5,AK41=\"\",AN41=\"\",AK$36=31),\"令和\"&\"元\"&\"年\"&6,IF(AND(AM$36>=1,AM$36<=5,AK41=\"\",AN41=\"\"),\"令和\"&AK$36&\"年\"&6,\"\"))","v":""},{"$f":"IF(AND(AM$36>=1,AM$36<=5,AK41=\"\",AN41=\"\",AK$36=31),\"令和\"&\"元\"&\"年\"&6,IF(AND(AM$36>=1,AM$36<=5,AK41=\"\",AN41=\"\"),\"令和\"&AK$36&\"年\"&6,\"\"))","v":""},null,null,null,null,{"$f":"IF(AND(AS$36>=1,AS$36<=5,AQ41=\"\",AT41=\"\",AQ$36=31),\"令和\"&\"元\"&\"年\"&6,IF(AND(AS$36>=1,AS$36<=5,AQ41=\"\",AT41=\"\"),\"令和\"&AQ$36&\"年\"&6,\"\"))","v":""},{"$f":"IF(AND(AS$36>=1,AS$36<=5,AQ41=\"\",AT41=\"\",AQ$36=31),\"令和\"&\"元\"&\"年\"&6,IF(AND(AS$36>=1,AS$36<=5,AQ41=\"\",AT41=\"\"),\"令和\"&AQ$36&\"年\"&6,\"\"))","v":""},null,null,null,null,{"$f":"IF(AND(AY$36>=1,AY$36<=5,AW41=\"\",AZ41=\"\",AW$36=31),\"令和\"&\"元\"&\"年\"&6,IF(AND(AY$36>=1,AY$36<=5,AW41=\"\",AZ41=\"\"),\"令和\"&AW$36&\"年\"&6,\"\"))","v":""},{"$f":"IF(AND(AY$36>=1,AY$36<=5,AW41=\"\",AZ41=\"\",AW$36=31),\"令和\"&\"元\"&\"年\"&6,IF(AND(AY$36>=1,AY$36<=5,AW41=\"\",AZ41=\"\"),\"令和\"&AW$36&\"年\"&6,\"\"))","v":""},null,null,null,null,{"$f":"IF(AND(BE$36>=1,BE$36<=5,BC41=\"\",BF41=\"\",BC$36=31),\"令和\"&\"元\"&\"年\"&6,IF(AND(BE$36>=1,BE$36<=5,BC41=\"\",BF41=\"\"),\"令和\"&BC$36&\"年\"&6,\"\"))","v":""},{"$f":"IF(AND(BE$36>=1,BE$36<=5,BC41=\"\",BF41=\"\",BC$36=31),\"令和\"&\"元\"&\"年\"&6,IF(AND(BE$36>=1,BE$36<=5,BC41=\"\",BF41=\"\"),\"令和\"&BC$36&\"年\"&6,\"\"))","v":""},null,null,null,null,{"$f":"IF(AND(BK$36>=1,BK$36<=5,BI41=\"\",BL41=\"\",BI$36=31),\"令和\"&\"元\"&\"年\"&6,IF(AND(BK$36>=1,BK$36<=5,BI41=\"\",BL41=\"\"),\"令和\"&BI$36&\"年\"&6,\"\"))","v":""},{"$f":"IF(AND(BK$36>=1,BK$36<=5,BI41=\"\",BL41=\"\",BI$36=31),\"令和\"&\"元\"&\"年\"&6,IF(AND(BK$36>=1,BK$36<=5,BI41=\"\",BL41=\"\"),\"令和\"&BI$36&\"年\"&6,\"\"))","v":""},null,null,null,null,{"$f":"IF(AND(BQ$36>=1,BQ$36<=5,BO41=\"\",BR41=\"\",BO$36=31),\"令和\"&\"元\"&\"年\"&6,IF(AND(BQ$36>=1,BQ$36<=5,BO41=\"\",BR41=\"\"),\"令和\"&BO$36&\"年\"&6,\"\"))","v":""},{"$f":"IF(AND(BQ$36>=1,BQ$36<=5,BO41=\"\",BR41=\"\",BO$36=31),\"令和\"&\"元\"&\"年\"&6,IF(AND(BQ$36>=1,BQ$36<=5,BO41=\"\",BR41=\"\"),\"令和\"&BO$36&\"年\"&6,\"\"))","v":""},null,null,null,null,{"$f":"IF(AND(BW$36>=1,BW$36<=5,BU41=\"\",BX41=\"\",BU$36=31),\"令和\"&\"元\"&\"年\"&6,IF(AND(BW$36>=1,BW$36<=5,BU41=\"\",BX41=\"\"),\"令和\"&BU$36&\"年\"&6,\"\"))","v":""},{"$f":"IF(AND(BW$36>=1,BW$36<=5,BU41=\"\",BX41=\"\",BU$36=31),\"令和\"&\"元\"&\"年\"&6,IF(AND(BW$36>=1,BW$36<=5,BU41=\"\",BX41=\"\"),\"令和\"&BU$36&\"年\"&6,\"\"))","v":""},null,null,null,null,{"$f":"IF(AND(CC$36>=1,CC$36<=5,CA41=\"\",CD41=\"\",CA$36=31),\"令和\"&\"元\"&\"年\"&6,IF(AND(CC$36>=1,CC$36<=5,CA41=\"\",CD41=\"\"),\"令和\"&CA$36&\"年\"&6,\"\"))","v":""},{"$f":"IF(AND(CC$36>=1,CC$36<=5,CA41=\"\",CD41=\"\",CA$36=31),\"令和\"&\"元\"&\"年\"&6,IF(AND(CC$36>=1,CC$36<=5,CA41=\"\",CD41=\"\"),\"令和\"&CA$36&\"年\"&6,\"\"))","v":""},null,null,null,null,{"$f":"IF(AND(CI$36>=1,CI$36<=5,CG41=\"\",CJ41=\"\",CG$36=31),\"令和\"&\"元\"&\"年\"&6,IF(AND(CI$36>=1,CI$36<=5,CG41=\"\",CJ41=\"\"),\"令和\"&CG$36&\"年\"&6,\"\"))","v":""},{"$f":"IF(AND(CI$36>=1,CI$36<=5,CG41=\"\",CJ41=\"\",CG$36=31),\"令和\"&\"元\"&\"年\"&6,IF(AND(CI$36>=1,CI$36<=5,CG41=\"\",CJ41=\"\"),\"令和\"&CG$36&\"年\"&6,\"\"))","v":""},null,null,null,null,{"$f":"IF(AND(CO$36>=1,CO$36<=5,CM41=\"\",CP41=\"\",CM$36=31),\"令和\"&\"元\"&\"年\"&6,IF(AND(CO$36>=1,CO$36<=5,CM41=\"\",CP41=\"\"),\"令和\"&CM$36&\"年\"&6,\"\"))","v":""},{"$f":"IF(AND(CO$36>=1,CO$36<=5,CM41=\"\",CP41=\"\",CM$36=31),\"令和\"&\"元\"&\"年\"&6,IF(AND(CO$36>=1,CO$36<=5,CM41=\"\",CP41=\"\"),\"令和\"&CM$36&\"年\"&6,\"\"))","v":""},null,null,null,null,{"$f":"IF(AND(CU$36>=1,CU$36<=5,CS41=\"\",CV41=\"\",CS$36=31),\"令和\"&\"元\"&\"年\"&6,IF(AND(CU$36>=1,CU$36<=5,CS41=\"\",CV41=\"\"),\"令和\"&CS$36&\"年\"&6,\"\"))","v":""},{"$f":"IF(AND(CU$36>=1,CU$36<=5,CS41=\"\",CV41=\"\",CS$36=31),\"令和\"&\"元\"&\"年\"&6,IF(AND(CU$36>=1,CU$36<=5,CS41=\"\",CV41=\"\"),\"令和\"&CS$36&\"年\"&6,\"\"))","v":""},null,null,null,null,{"$f":"IF(AND(DA$36>=1,DA$36<=5,CY41=\"\",DB41=\"\",CY$36=31),\"令和\"&\"元\"&\"年\"&6,IF(AND(DA$36>=1,DA$36<=5,CY41=\"\",DB41=\"\"),\"令和\"&CY$36&\"年\"&6,\"\"))","v":""},{"$f":"IF(AND(DA$36>=1,DA$36<=5,CY41=\"\",DB41=\"\",CY$36=31),\"令和\"&\"元\"&\"年\"&6,IF(AND(DA$36>=1,DA$36<=5,CY41=\"\",DB41=\"\"),\"令和\"&CY$36&\"年\"&6,\"\"))","v":""},null,null,null,null,{"$f":"IF(AND(DG$36>=1,DG$36<=5,DE41=\"\",DH41=\"\",DE$36=31),\"令和\"&\"元\"&\"年\"&6,IF(AND(DG$36>=1,DG$36<=5,DE41=\"\",DH41=\"\"),\"令和\"&DE$36&\"年\"&6,\"\"))","v":""},{"$f":"IF(AND(DG$36>=1,DG$36<=5,DE41=\"\",DH41=\"\",DE$36=31),\"令和\"&\"元\"&\"年\"&6,IF(AND(DG$36>=1,DG$36<=5,DE41=\"\",DH41=\"\"),\"令和\"&DE$36&\"年\"&6,\"\"))","v":""},null,null,null,null,{"$f":"IF(AND(DM$36>=1,DM$36<=5,DK41=\"\",DN41=\"\",DK$36=31),\"令和\"&\"元\"&\"年\"&6,IF(AND(DM$36>=1,DM$36<=5,DK41=\"\",DN41=\"\"),\"令和\"&DK$36&\"年\"&6,\"\"))","v":""},{"$f":"IF(AND(DM$36>=1,DM$36<=5,DK41=\"\",DN41=\"\",DK$36=31),\"令和\"&\"元\"&\"年\"&6,IF(AND(DM$36>=1,DM$36<=5,DK41=\"\",DN41=\"\"),\"令和\"&DK$36&\"年\"&6,\"\"))","v":""},null,null,null,null,{"$f":"IF(AND(DS$36>=1,DS$36<=5,DQ41=\"\",DT41=\"\",DQ$36=31),\"令和\"&\"元\"&\"年\"&6,IF(AND(DS$36>=1,DS$36<=5,DQ41=\"\",DT41=\"\"),\"令和\"&DQ$36&\"年\"&6,\"\"))","v":""},{"$f":"IF(AND(DS$36>=1,DS$36<=5,DQ41=\"\",DT41=\"\",DQ$36=31),\"令和\"&\"元\"&\"年\"&6,IF(AND(DS$36>=1,DS$36<=5,DQ41=\"\",DT41=\"\"),\"令和\"&DQ$36&\"年\"&6,\"\"))","v":""},null,null,null,null,{"$f":"IF(AND(DY$36>=1,DY$36<=5,DW41=\"\",DZ41=\"\",DW$36=31),\"令和\"&\"元\"&\"年\"&6,IF(AND(DY$36>=1,DY$36<=5,DW41=\"\",DZ41=\"\"),\"令和\"&DW$36&\"年\"&6,\"\"))","v":""},{"$f":"IF(AND(DY$36>=1,DY$36<=5,DW41=\"\",DZ41=\"\",DW$36=31),\"令和\"&\"元\"&\"年\"&6,IF(AND(DY$36>=1,DY$36<=5,DW41=\"\",DZ41=\"\"),\"令和\"&DW$36&\"年\"&6,\"\"))","v":""},null,null,null,null,{"$f":"IF(AND(EE$36>=1,EE$36<=5,EC41=\"\",EF41=\"\",EC$36=31),\"令和\"&\"元\"&\"年\"&6,IF(AND(EE$36>=1,EE$36<=5,EC41=\"\",EF41=\"\"),\"令和\"&EC$36&\"年\"&6,\"\"))","v":""},{"$f":"IF(AND(EE$36>=1,EE$36<=5,EC41=\"\",EF41=\"\",EC$36=31),\"令和\"&\"元\"&\"年\"&6,IF(AND(EE$36>=1,EE$36<=5,EC41=\"\",EF41=\"\"),\"令和\"&EC$36&\"年\"&6,\"\"))","v":""},null,null,null,null,{"$f":"IF(AND(EK$36>=1,EK$36<=5,EI41=\"\",EL41=\"\",EI$36=31),\"令和\"&\"元\"&\"年\"&6,IF(AND(EK$36>=1,EK$36<=5,EI41=\"\",EL41=\"\"),\"令和\"&EI$36&\"年\"&6,\"\"))","v":""},{"$f":"IF(AND(EK$36>=1,EK$36<=5,EI41=\"\",EL41=\"\",EI$36=31),\"令和\"&\"元\"&\"年\"&6,IF(AND(EK$36>=1,EK$36<=5,EI41=\"\",EL41=\"\"),\"令和\"&EI$36&\"年\"&6,\"\"))","v":""},null,null,null,null,{"$f":"IF(AND(EQ$36>=1,EQ$36<=5,EO41=\"\",ER41=\"\",EO$36=31),\"令和\"&\"元\"&\"年\"&6,IF(AND(EQ$36>=1,EQ$36<=5,EO41=\"\",ER41=\"\"),\"令和\"&EO$36&\"年\"&6,\"\"))","v":""},{"$f":"IF(AND(EQ$36>=1,EQ$36<=5,EO41=\"\",ER41=\"\",EO$36=31),\"令和\"&\"元\"&\"年\"&6,IF(AND(EQ$36>=1,EQ$36<=5,EO41=\"\",ER41=\"\"),\"令和\"&EO$36&\"年\"&6,\"\"))","v":""},null,null,null,null,{"$f":"IF(AND(EW$36>=1,EW$36<=5,EU41=\"\",EX41=\"\",EU$36=31),\"令和\"&\"元\"&\"年\"&6,IF(AND(EW$36>=1,EW$36<=5,EU41=\"\",EX41=\"\"),\"令和\"&EU$36&\"年\"&6,\"\"))","v":""},{"$f":"IF(AND(EW$36>=1,EW$36<=5,EU41=\"\",EX41=\"\",EU$36=31),\"令和\"&\"元\"&\"年\"&6,IF(AND(EW$36>=1,EW$36<=5,EU41=\"\",EX41=\"\"),\"令和\"&EU$36&\"年\"&6,\"\"))","v":""},null,null,null,null,{"$f":"IF(AND(FC$36>=1,FC$36<=5,FA41=\"\",FD41=\"\",FA$36=31),\"令和\"&\"元\"&\"年\"&6,IF(AND(FC$36>=1,FC$36<=5,FA41=\"\",FD41=\"\"),\"令和\"&FA$36&\"年\"&6,\"\"))","v":""},{"$f":"IF(AND(FC$36>=1,FC$36<=5,FA41=\"\",FD41=\"\",FA$36=31),\"令和\"&\"元\"&\"年\"&6,IF(AND(FC$36>=1,FC$36<=5,FA41=\"\",FD41=\"\"),\"令和\"&FA$36&\"年\"&6,\"\"))","v":""},null,null,null,null,{"$f":"IF(AND(FI$36>=1,FI$36<=5,FG41=\"\",FJ41=\"\",FG$36=31),\"令和\"&\"元\"&\"年\"&6,IF(AND(FI$36>=1,FI$36<=5,FG41=\"\",FJ41=\"\"),\"令和\"&FG$36&\"年\"&6,\"\"))","v":""},{"$f":"IF(AND(FI$36>=1,FI$36<=5,FG41=\"\",FJ41=\"\",FG$36=31),\"令和\"&\"元\"&\"年\"&6,IF(AND(FI$36>=1,FI$36<=5,FG41=\"\",FJ41=\"\"),\"令和\"&FG$36&\"年\"&6,\"\"))","v":""},null,null,null,null,{"$f":"IF(AND(FO$36>=1,FO$36<=5,FM41=\"\",FP41=\"\",FM$36=31),\"令和\"&\"元\"&\"年\"&6,IF(AND(FO$36>=1,FO$36<=5,FM41=\"\",FP41=\"\"),\"令和\"&FM$36&\"年\"&6,\"\"))","v":""},{"$f":"IF(AND(FO$36>=1,FO$36<=5,FM41=\"\",FP41=\"\",FM$36=31),\"令和\"&\"元\"&\"年\"&6,IF(AND(FO$36>=1,FO$36<=5,FM41=\"\",FP41=\"\"),\"令和\"&FM$36&\"年\"&6,\"\"))","v":""},null,null,null,null,{"$f":"IF(AND(FU$36>=1,FU$36<=5,FS41=\"\",FV41=\"\",FS$36=31),\"令和\"&\"元\"&\"年\"&6,IF(AND(FU$36>=1,FU$36<=5,FS41=\"\",FV41=\"\"),\"令和\"&FS$36&\"年\"&6,\"\"))","v":""},{"$f":"IF(AND(FU$36>=1,FU$36<=5,FS41=\"\",FV41=\"\",FS$36=31),\"令和\"&\"元\"&\"年\"&6,IF(AND(FU$36>=1,FU$36<=5,FS41=\"\",FV41=\"\"),\"令和\"&FS$36&\"年\"&6,\"\"))","v":""},null,null,null,null,{"$f":"IF(AND(GA$36>=1,GA$36<=5,FY41=\"\",GB41=\"\",FY$36=31),\"令和\"&\"元\"&\"年\"&6,IF(AND(GA$36>=1,GA$36<=5,FY41=\"\",GB41=\"\"),\"令和\"&FY$36&\"年\"&6,\"\"))","v":""},{"$f":"IF(AND(GA$36>=1,GA$36<=5,FY41=\"\",GB41=\"\",FY$36=31),\"令和\"&\"元\"&\"年\"&6,IF(AND(GA$36>=1,GA$36<=5,FY41=\"\",GB41=\"\"),\"令和\"&FY$36&\"年\"&6,\"\"))","v":""},null,null,null,null,{"$f":"IF(AND(GG$36>=1,GG$36<=5,GE41=\"\",GH41=\"\",GE$36=31),\"令和\"&\"元\"&\"年\"&6,IF(AND(GG$36>=1,GG$36<=5,GE41=\"\",GH41=\"\"),\"令和\"&GE$36&\"年\"&6,\"\"))","v":""},{"$f":"IF(AND(GG$36>=1,GG$36<=5,GE41=\"\",GH41=\"\",GE$36=31),\"令和\"&\"元\"&\"年\"&6,IF(AND(GG$36>=1,GG$36<=5,GE41=\"\",GH41=\"\"),\"令和\"&GE$36&\"年\"&6,\"\"))","v":""},null,null,null,null,{"$f":"IF(AND(GM$36>=1,GM$36<=5,GK41=\"\",GN41=\"\",GK$36=31),\"令和\"&\"元\"&\"年\"&6,IF(AND(GM$36>=1,GM$36<=5,GK41=\"\",GN41=\"\"),\"令和\"&GK$36&\"年\"&6,\"\"))","v":""},{"$f":"IF(AND(GM$36>=1,GM$36<=5,GK41=\"\",GN41=\"\",GK$36=31),\"令和\"&\"元\"&\"年\"&6,IF(AND(GM$36>=1,GM$36<=5,GK41=\"\",GN41=\"\"),\"令和\"&GK$36&\"年\"&6,\"\"))","v":""},null,null,null,null,{"$f":"IF(AND(GS$36>=1,GS$36<=5,GQ41=\"\",GT41=\"\",GQ$36=31),\"令和\"&\"元\"&\"年\"&6,IF(AND(GS$36>=1,GS$36<=5,GQ41=\"\",GT41=\"\"),\"令和\"&GQ$36&\"年\"&6,\"\"))","v":""},{"$f":"IF(AND(GS$36>=1,GS$36<=5,GQ41=\"\",GT41=\"\",GQ$36=31),\"令和\"&\"元\"&\"年\"&6,IF(AND(GS$36>=1,GS$36<=5,GQ41=\"\",GT41=\"\"),\"令和\"&GQ$36&\"年\"&6,\"\"))","v":""},null,null,null,null,{"$f":"IF(AND(GY$36>=1,GY$36<=5,GW41=\"\",GZ41=\"\",GW$36=31),\"令和\"&\"元\"&\"年\"&6,IF(AND(GY$36>=1,GY$36<=5,GW41=\"\",GZ41=\"\"),\"令和\"&GW$36&\"年\"&6,\"\"))","v":""},{"$f":"IF(AND(GY$36>=1,GY$36<=5,GW41=\"\",GZ41=\"\",GW$36=31),\"令和\"&\"元\"&\"年\"&6,IF(AND(GY$36>=1,GY$36<=5,GW41=\"\",GZ41=\"\"),\"令和\"&GW$36&\"年\"&6,\"\"))","v":""},null,null,null,null,{"$f":"IF(AND(HE$36>=1,HE$36<=5,HC41=\"\",HF41=\"\",HC$36=31),\"令和\"&\"元\"&\"年\"&6,IF(AND(HE$36>=1,HE$36<=5,HC41=\"\",HF41=\"\"),\"令和\"&HC$36&\"年\"&6,\"\"))","v":""},{"$f":"IF(AND(HE$36>=1,HE$36<=5,HC41=\"\",HF41=\"\",HC$36=31),\"令和\"&\"元\"&\"年\"&6,IF(AND(HE$36>=1,HE$36<=5,HC41=\"\",HF41=\"\"),\"令和\"&HC$36&\"年\"&6,\"\"))","v":""},null,null,null,null,{"$f":"IF(AND(HK$36>=1,HK$36<=5,HI41=\"\",HL41=\"\",HI$36=31),\"令和\"&\"元\"&\"年\"&6,IF(AND(HK$36>=1,HK$36<=5,HI41=\"\",HL41=\"\"),\"令和\"&HI$36&\"年\"&6,\"\"))","v":""},{"$f":"IF(AND(HK$36>=1,HK$36<=5,HI41=\"\",HL41=\"\",HI$36=31),\"令和\"&\"元\"&\"年\"&6,IF(AND(HK$36>=1,HK$36<=5,HI41=\"\",HL41=\"\"),\"令和\"&HI$36&\"年\"&6,\"\"))","v":""},null,null,null,null,{"$f":"IF(AND(HQ$36>=1,HQ$36<=5,HO41=\"\",HR41=\"\",HO$36=31),\"令和\"&\"元\"&\"年\"&6,IF(AND(HQ$36>=1,HQ$36<=5,HO41=\"\",HR41=\"\"),\"令和\"&HO$36&\"年\"&6,\"\"))","v":""},{"$f":"IF(AND(HQ$36>=1,HQ$36<=5,HO41=\"\",HR41=\"\",HO$36=31),\"令和\"&\"元\"&\"年\"&6,IF(AND(HQ$36>=1,HQ$36<=5,HO41=\"\",HR41=\"\"),\"令和\"&HO$36&\"年\"&6,\"\"))","v":""},null,null,null,null,{"$f":"IF(AND(HW$36>=1,HW$36<=5,HU41=\"\",HX41=\"\",HU$36=31),\"令和\"&\"元\"&\"年\"&6,IF(AND(HW$36>=1,HW$36<=5,HU41=\"\",HX41=\"\"),\"令和\"&HU$36&\"年\"&6,\"\"))","v":""},{"$f":"IF(AND(HW$36>=1,HW$36<=5,HU41=\"\",HX41=\"\",HU$36=31),\"令和\"&\"元\"&\"年\"&6,IF(AND(HW$36>=1,HW$36<=5,HU41=\"\",HX41=\"\"),\"令和\"&HU$36&\"年\"&6,\"\"))","v":""},null,null,null,null,{"$f":"IF(AND(IC$36>=1,IC$36<=5,IA41=\"\",ID41=\"\",IA$36=31),\"令和\"&\"元\"&\"年\"&6,IF(AND(IC$36>=1,IC$36<=5,IA41=\"\",ID41=\"\"),\"令和\"&IA$36&\"年\"&6,\"\"))","v":""},{"$f":"IF(AND(IC$36>=1,IC$36<=5,IA41=\"\",ID41=\"\",IA$36=31),\"令和\"&\"元\"&\"年\"&6,IF(AND(IC$36>=1,IC$36<=5,IA41=\"\",ID41=\"\"),\"令和\"&IA$36&\"年\"&6,\"\"))","v":""},null,null,null,null,{"$f":"IF(AND(II$36>=1,II$36<=5,IG41=\"\",IJ41=\"\",IG$36=31),\"令和\"&\"元\"&\"年\"&6,IF(AND(II$36>=1,II$36<=5,IG41=\"\",IJ41=\"\"),\"令和\"&IG$36&\"年\"&6,\"\"))","v":""},{"$f":"IF(AND(II$36>=1,II$36<=5,IG41=\"\",IJ41=\"\",IG$36=31),\"令和\"&\"元\"&\"年\"&6,IF(AND(II$36>=1,II$36<=5,IG41=\"\",IJ41=\"\"),\"令和\"&IG$36&\"年\"&6,\"\"))","v":""}]
[null,{"$f":"IF(AND(EO21<>\"\",EO25<>\"\",EQ25<>\"\",ES25<>\"\"),EO17,\"\")","v":""},"昭",62,"昭62"]
[null,{"$f":"IF(AND(EU21<>\"\",EU25<>\"\",EW25<>\"\",EY25<>\"\"),EU17,\"\")","v":""},"昭",61,"昭61",null,"異動年月日テーブル"]
[null,{"$f":"IF(AND(FA21<>\"\",FA25<>\"\",FC25<>\"\",FE25<>\"\"),FA17,\"\")","v":""},"昭",60,"昭60",null,"令和",null,4]
[null,{"$f":"IF(AND(FG21<>\"\",FG25<>\"\",FI25<>\"\",FK25<>\"\"),FG17,\"\")","v":""},"昭",59,"昭59",null,"令和",null,5]
[null,{"$f":"IF(AND(FM21<>\"\",FM25<>\"\",FO25<>\"\",FQ25<>\"\"),FM17,\"\")","v":""},"昭",58,"昭58",null,"令和"]
[null,{"$f":"IF(AND(FS21<>\"\",FS25<>\"\",FU25<>\"\",FW25<>\"\"),FS17,\"\")","v":""},"昭",57,"昭57"]
[null,{"$f":"IF(AND(FY21<>\"\",FY25<>\"\",GA25<>\"\",GC25<>\"\"),FY17,\"\")","v":""},"昭",56,"昭56"]
[null,{"$f":"IF(AND(GE21<>\"\",GE25<>\"\",GG25<>\"\",GI25<>\"\"),GE17,\"\")","v":""},"昭",55,"昭55"]
[null,{"$f":"IF(AND(GK21<>\"\",GK25<>\"\",GM25<>\"\",GO25<>\"\"),GK17,\"\")","v":""},"昭",54,"昭54"]
[null,{"$f":"IF(AND(GQ21<>\"\",GQ25<>\"\",GS25<>\"\",GU25<>\"\"),GQ17,\"\")","v":""},"昭",53,"昭53"]
[null,{"$f":"IF(AND(GW21<>\"\",GW25<>\"\",GY25<>\"\",HA25<>\"\"),GW17,\"\")","v":""},"昭",52,"昭52"]
[null,{"$f":"IF(AND(HC21<>\"\",HC25<>\"\",HE25<>\"\",HG25<>\"\"),HC17,\"\")","v":""},"昭",51,"昭51"]
[null,{"$f":"IF(AND(HI21<>\"\",HI25<>\"\",HK25<>\"\",HM25<>\"\"),HI17,\"\")","v":""},"昭",50,"昭50"]
[null,{"$f":"IF(AND(HO21<>\"\",HO25<>\"\",HQ25<>\"\",HS25<>\"\"),HO17,\"\")","v":""},"昭",49,"昭49"]
[null,{"$f":"IF(AND(HU21<>\"\",HU25<>\"\",HW25<>\"\",HY25<>\"\"),HU17,\"\")","v":""},"昭",48,"昭48"]
[null,{"$f":"IF(AND(IA21<>\"\",IA25<>\"\",IC25<>\"\",IE25<>\"\"),IA17,\"\")","v":""},"昭",47,"昭47"]
[null,{"$f":"IF(AND(IG21<>\"\",IG25<>\"\",II25<>\"\",IK25<>\"\"),IG17,\"\")","v":""},"昭",46,"昭46"]
[null,null,"昭",45,"昭45"]
[null,null,"昭",44,"昭44"]
[null,null,"昭",43,"昭43"]
[null,null,"昭",42,"昭42"]
[null,null,"昭",41,"昭41"]
[null,null,"昭",40,"昭40"]
[null,null,"昭",39,"昭39"]
[null,null,"昭",38,"昭38"]
[null,null,"昭",37,"昭37"]
[null,null,"昭",36,"昭36"]
[null,null,"昭",35,"昭35"]
[null,null,"昭",34,"昭34"]
[null,null,"昭",33,"昭33"]
[null,null,"昭",32,"昭32"]
[null,null,"昭",31,"昭31"]
[null,null,"昭",30,"昭30"]
[null,null,"昭",29,"昭29"]
[null,null,"昭",28,"昭28"]
[null,null,"昭",27,"昭27"]
[null,null,"昭",26,"昭26"]
[null,null,"昭",25,"昭25"]
[null,null,"昭",24,"昭24"]
[null,null,"昭",23,"昭23"]
[null,null,"昭",22,"昭22"]
[null,null,"昭",21,"昭21"]
[null,null,"昭",20,"昭20"]
[null,null,"昭",19,"昭19"]
[]
[null,null,"提出年月日テーブル"]
[null,null,"令和",null,4]
[null,null,"令和",null,5]

{"sheet":"異動届出書（印刷用）","index":1,"n_rows":222,"n_cols":270,"rows_kept":222,"cut":false,"hidden":false,"merged":[[177,226,179,232],[177,243,179,253],[82,20,84,253],[85,33,92,110],[85,111,92,126],[85,127,86,158],[113,20,115,58],[113,59,115,97],[113,98,115,136],[113,137,115,175],[113,176,115,214],[113,215,115,253],[88,28,92,32],[85,20,87,32],[112,215,112,253],[109,20,111,58],[109,59,111,97],[88,23,91,27],[108,20,108,58],[108,59,108,97],[108,98,108,136],[112,20,112,58],[109,137,111,175],[112,59,112,97],[112,98,112,136],[154,221,157,231],[184,193,186,212],[184,213,186,253],[109,176,111,214],[109,215,111,253],[108,137,108,175],[108,176,108,214],[108,215,108,253],[176,193,179,203],[176,204,176,225],[177,204,179,225],[158,222,163,228],[164,171,168,175],[164,179,168,183],[165,176,168,177],[165,184,168,185],[166,186,169,194],[166,195,169,219],[147,186,149,220],[150,186,153,220],[154,186,157,196],[112,137,112,175],[112,176,112,214],[74,143,78,147],[74,148,78,152],[74,153,78,157],[74,158,78,162],[74,163,78,167],[74,168,78,172],[80,193,80,212],[78,213,80,220],[78,221,80,231],[75,193,77,212],[75,213,77,253],[78,232,80,253],[38,20,60,22],[38,222,44,253],[157,170,161,176],[157,177,161,182],[157,183,161,185],[158,187,163,194],[187,193,188,212],[187,213,189,220],[187,221,189,231],[187,232,189,253],[189,193,189,212],[177,233,179,242],[109,98,111,136],[68,233,70,242],[70,183,73,192],[70,181,73,182],[53,110,60,129],[51,130,52,149],[53,130,60,149],[51,150,52,169],[53,150,60,169],[77,32,80,122],[79,128,80,192],[45,23,48,31],[49,38,52,43],[49,44,52,49],[49,50,52,55],[49,56,52,61],[49,62,52,67],[48,177,52,182],[48,183,52,185],[67,193,70,203],[70,169,73,170],[57,32,60,109],[67,204,67,225],[68,204,70,225],[45,221,48,231],[49,187,54,194],[57,186,60,194],[57,195,60,219],[56,176,59,177],[70,171,73,180],[55,171,59,175],[38,84,44,87],[45,35,48,44],[103,245,106,253],[105,20,107,47],[87,127,92,158],[62,20,64,253],[74,40,76,122],[74,32,76,39],[78,193,79,212],[53,23,60,25],[55,179,59,183],[56,184,59,185],[53,26,56,31],[53,32,56,109],[57,26,60,31],[87,190,90,200],[65,20,80,28],[70,160,73,168],[95,245,96,253],[96,172,99,175],[96,188,99,191],[97,20,98,32],[97,34,98,139],[97,227,100,244],[18,216,21,219],[22,216,27,219],[28,216,31,219],[38,150,39,169],[38,170,44,185],[40,150,42,169],[48,150,50,159],[48,160,50,169],[34,88,37,92],[34,93,37,97],[40,130,42,149],[48,130,50,139],[48,140,50,149],[45,130,47,139],[28,183,32,215],[38,88,40,109],[38,186,40,220],[45,186,48,196],[45,160,47,169],[34,220,37,225],[49,222,54,228],[34,226,37,253],[32,216,37,219],[34,108,37,112],[6,13,6,16],[6,17,6,25],[65,157,69,159],[66,35,67,45],[66,46,67,47],[66,48,67,65],[68,32,73,122],[45,140,47,149],[45,150,47,159],[49,80,52,85],[49,86,52,91],[49,92,52,97],[49,98,52,103],[38,130,39,149],[45,65,48,76],[45,77,48,79],[45,80,48,91],[45,92,48,94],[45,95,48,106],[45,107,48,109],[40,110,50,129],[19,70,20,80],[19,81,20,82],[19,83,20,100],[2,0,2,18],[6,26,6,66],[71,193,72,253],[73,193,74,253],[65,193,66,253],[74,173,78,177],[74,178,78,182],[74,183,78,187],[74,188,78,192],[74,29,80,31],[74,123,80,127],[74,128,78,132],[74,133,78,137],[74,138,78,142],[65,160,69,192],[68,123,73,153],[70,157,73,159],[65,29,73,31],[65,32,67,34],[65,66,67,122],[65,123,67,153],[65,154,73,156],[51,110,52,129],[38,110,39,129],[34,143,37,147],[34,148,37,152],[34,153,37,175],[38,32,40,83],[45,45,48,48],[41,23,44,31],[97,245,100,253],[99,23,102,27],[99,28,102,32],[99,34,103,139],[94,20,96,139],[95,153,106,157],[95,158,100,170],[95,177,100,186],[95,193,100,226],[95,227,96,244],[101,158,106,170],[101,177,106,186],[101,193,106,226],[101,227,102,244],[101,245,102,253],[102,172,105,175],[102,188,105,191],[103,227,106,244],[14,255,115,257],[18,57,37,60],[18,61,37,63],[18,64,26,66],[18,67,20,69],[18,226,23,253],[21,67,26,175],[22,180,27,182],[22,183,27,215],[24,220,27,225],[24,226,27,253],[18,101,20,175],[18,176,37,179],[18,180,21,182],[18,183,21,215],[18,220,23,225],[28,220,33,225],[34,98,37,102],[27,64,33,66],[27,67,33,175],[28,180,32,182],[48,170,52,176],[45,49,46,64],[41,32,44,83],[33,183,37,215],[34,64,37,87],[14,7,117,8],[14,10,117,11],[14,12,117,13],[14,15,117,16],[34,113,37,117],[34,118,37,122],[34,123,37,127],[34,128,37,132],[43,130,44,169],[41,186,44,220],[27,28,29,37],[27,38,29,40],[41,88,44,109],[47,49,48,64],[49,23,52,37],[49,104,52,109],[49,68,52,73],[49,74,52,79],[38,23,40,31],[45,32,48,34],[35,49,37,55],[34,138,37,142],[11,0,11,18],[11,45,13,62],[11,64,13,92],[11,95,16,164],[11,248,13,253],[13,0,13,1],[13,7,13,8],[13,12,13,13],[13,17,13,18],[14,17,117,18],[14,45,16,62],[14,64,16,92],[14,189,17,212],[14,213,17,253],[23,21,25,40],[27,21,29,27],[32,28,34,37],[32,38,34,40],[32,42,34,51],[32,52,34,54],[34,103,37,107],[34,133,37,137],[28,226,33,253],[33,180,37,182],[120,0,120,18],[120,45,122,62],[120,64,122,92],[120,95,125,164],[120,248,122,253],[122,0,122,1],[122,7,122,8],[122,12,122,13],[122,17,122,18],[123,7,226,8],[123,10,226,11],[123,12,226,13],[123,15,226,16],[123,17,226,18],[123,45,125,62],[123,64,125,92],[123,189,126,212],[123,213,126,253],[132,21,134,40],[136,21,138,27],[136,28,138,37],[136,38,138,40],[137,183,141,215],[137,216,140,219],[123,255,224,257],[127,57,146,60],[127,61,146,63],[127,64,135,66],[127,67,129,69],[127,101,129,175],[127,176,146,179],[127,180,130,182],[127,183,130,215],[127,216,130,219],[127,220,132,225],[127,226,132,253],[128,70,129,80],[128,81,129,82],[128,83,129,100],[130,67,135,175],[131,180,136,182],[131,183,136,215],[131,216,136,219],[133,220,136,225],[133,226,136,253],[136,64,142,66],[136,67,142,175],[137,180,141,182],[137,220,142,225],[137,226,142,253],[141,28,143,37],[141,38,143,40],[141,42,143,51],[141,52,143,54],[141,216,146,219],[142,180,146,182],[142,183,146,215],[143,64,146,87],[143,88,146,92],[143,93,146,97],[143,98,146,102],[143,103,146,107],[143,108,146,112],[143,113,146,117],[143,118,146,122],[143,123,146,127],[143,128,146,132],[143,133,146,137],[143,138,146,142],[143,143,146,147],[143,148,146,152],[143,153,146,175],[143,220,146,225],[143,226,146,253],[144,49,146,55],[147,20,169,22],[147,23,149,31],[147,32,149,83],[147,84,153,87],[147,88,149,109],[147,110,148,129],[147,130,148,149],[147,150,148,169],[147,170,153,185],[147,222,153,253],[149,110,159,129],[149,130,151,149],[149,150,151,169],[150,23,153,31],[150,32,153,83],[150,88,153,109],[152,130,153,169],[154,23,157,31],[154,32,157,34],[154,35,157,44],[154,45,157,48],[162,150,169,169],[158,23,161,37],[158,38,161,43],[154,49,155,64],[154,65,157,76],[154,77,157,79],[154,80,157,91],[154,92,157,94],[154,95,157,106],[154,107,157,109],[154,130,156,139],[154,140,156,149],[162,23,169,25],[162,26,165,31],[158,44,161,49],[154,150,156,159],[154,160,156,169],[156,49,157,64],[157,130,159,139],[157,140,159,149],[157,150,159,159],[157,160,159,169],[158,86,161,91],[158,92,161,97],[158,98,161,103],[158,104,161,109],[160,110,161,129],[160,130,161,149],[160,150,161,169],[183,29,189,31],[183,123,189,127],[183,128,187,132],[183,133,187,137],[183,138,187,142],[158,50,161,55],[158,56,161,61],[158,62,161,67],[158,68,161,73],[158,74,161,79],[158,80,161,85],[166,26,169,31],[166,32,169,109],[162,32,165,109],[162,110,169,129],[162,130,169,149],[174,29,182,31],[174,32,176,34],[174,66,176,122],[174,123,176,153],[174,154,182,156],[174,157,178,159],[174,160,178,192],[174,193,175,253],[175,35,176,45],[175,46,176,47],[175,48,176,65],[177,32,182,122],[177,123,182,153],[179,157,182,159],[179,160,182,168],[179,169,182,170],[179,171,182,180],[179,181,182,182],[179,183,182,192],[180,193,181,253],[182,193,183,253],[183,143,187,147],[183,148,187,152],[183,32,185,39],[183,40,185,122],[183,153,187,157],[183,158,187,162],[195,159,201,189],[191,20,193,253],[194,33,201,110],[194,111,201,126],[194,127,195,158],[196,127,201,158],[194,20,196,32],[204,193,209,226],[204,227,205,244],[204,245,205,253],[205,172,208,175],[205,188,208,191],[206,20,207,32],[208,23,211,27],[208,28,211,32],[204,153,215,157],[196,190,199,200],[197,28,201,32],[197,23,200,27],[183,163,187,167],[183,168,187,172],[183,173,187,177],[218,137,220,175],[218,176,220,214],[218,215,220,253],[206,34,207,139],[206,227,209,244],[206,245,209,253],[208,34,212,139],[210,158,215,170],[210,177,215,186],[210,193,215,226],[210,227,211,244],[210,245,211,253],[211,172,214,175],[211,188,214,191],[212,227,215,244],[212,245,215,253],[214,20,216,47],[204,158,209,170],[204,177,209,186],[174,20,189,28],[203,20,205,139],[221,20,221,58],[221,59,221,97],[221,98,221,136],[221,137,221,175],[221,176,221,214],[221,215,221,253],[222,20,224,58],[222,59,224,97],[222,98,224,136],[222,137,224,175],[222,176,224,214],[222,215,224,253],[217,20,217,58],[217,59,217,97],[217,98,217,136],[217,137,217,175],[217,176,217,214],[217,215,217,253],[218,20,220,58],[218,59,220,97],[218,98,220,136],[6,0,6,12],[195,201,201,253],[154,199,165,213],[154,233,165,253],[159,196,162,198],[159,230,162,232],[166,234,167,253],[132,41,134,47],[23,41,25,47],[50,196,53,198],[45,199,56,213],[50,230,53,232],[57,234,58,253],[45,233,56,253],[68,226,70,232],[68,243,70,253],[86,159,92,189],[86,201,92,253],[183,178,187,182],[183,183,187,187],[183,188,187,192],[186,32,189,122],[188,128,189,192],[171,20,173,253]]}
["給与所得者異動届出書(印刷用)"]
[]
["印刷方法"]
["印刷する対象者について、、「異動届出書(印刷用)」シートの入力番号欄に「入力用」シートの「入力番号」を入力いただくと該当者が表示されます。"]
["記載内容に誤りがないかご確認のうえ、片面印刷で印刷（２枚印刷されます。）して、２枚とも提出してください。"]
[]
["入力番号",null,null,null,null,null,null,null,null,null,null,null,null,1,null,null,null,"氏名",null,null,null,null,null,null,null,null,{"$f":"IF(IF(N7<>\"\",HLOOKUP($N$7,入力用!$G$17:$IL$73,5,FALSE),\"\")=0,\"\",IF(N7<>\"\",HLOOKUP($N$7,入力用!$G$17:$IL$73,5,FALSE),\"\"))","v":""},null,null,null,null,null,null,null,null,null,null,null,null,null,null,null,null,null,null,null,null,null,null,null,null,null,null,null,null,null,null,null,null,null,null,null,null,null,null,null,null,"（入力番号の入力がなければ、入力「シート」の内容が反映されません。）"]
[null,null,null,null,null,null,null,null,null,null,null,null,null,1,2,3,4,5,6,7,8,9,10,11,12,13,14,15,16,17,18,19,20,21,22,23,24,25,26,27,28,29,30,31,32,33,34,35,36,37,38,39,40]
[null,null,null,null,null,null,null,null,null,null,null,null,null,{"$f":"IF(HLOOKUP(N8,入力用!$G$17:$IL$73,5,FALSE)=0,\"\",N8)","v":""},{"$f":"IF(HLOOKUP(O8,入力用!$G$17:$IL$73,5,FALSE)=0,\"\",O8)","v":""},{"$f":"IF(HLOOKUP(P8,入力用!$G$17:$IL$73,5,FALSE)=0,\"\",P8)","v":""},{"$f":"IF(HLOOKUP(Q8,入力用!$G$17:$IL$73,5,FALSE)=0,\"\",Q8)","v":""},{"$f":"IF(HLOOKUP(R8,入力用!$G$17:$IL$73,5,FALSE)=0,\"\",R8)","v":""},{"$f":"IF(HLOOKUP(S8,入力用!$G$17:$IL$73,5,FALSE)=0,\"\",S8)","v":""},{"$f":"IF(HLOOKUP(T8,入力用!$G$17:$IL$73,5,FALSE)=0,\"\",T8)","v":""},{"$f":"IF(HLOOKUP(U8,入力用!$G$17:$IL$73,5,FALSE)=0,\"\",U8)","v":""},{"$f":"IF(HLOOKUP(V8,入力用!$G$17:$IL$73,5,FALSE)=0,\"\",V8)","v":""},{"$f":"IF(HLOOKUP(W8,入力用!$G$17:$IL$73,5,FALSE)=0,\"\",W8)","v":""},{"$f":"IF(HLOOKUP(X8,入力用!$G$17:$IL$73,5,FALSE)=0,\"\",X8)","v":""},{"$f":"IF(HLOOKUP(Y8,入力用!$G$17:$IL$73,5,FALSE)=0,\"\",Y8)","v":""},{"$f":"IF(HLOOKUP(Z8,入力用!$G$17:$IL$73,5,FALSE)=0,\"\",Z8)","v":""},{"$f":"IF(HLOOKUP(AA8,入力用!$G$17:$IL$73,5,FALSE)=0,\"\",AA8)","v":""},{"$f":"IF(HLOOKUP(AB8,入力用!$G$17:$IL$73,5,FALSE)=0,\"\",AB8)","v":""},{"$f":"IF(HLOOKUP(AC8,入力用!$G$17:$IL$73,5,FALSE)=0,\"\",AC8)","v":""},{"$f":"IF(HLOOKUP(AD8,入力用!$G$17:$IL$73,5,FALSE)=0,\"\",AD8)","v":""},{"$f":"IF(HLOOKUP(AE8,入力用!$G$17:$IL$73,5,FALSE)=0,\"\",AE8)","v":""},{"$f":"IF(HLOOKUP(AF8,入力用!$G$17:$IL$73,5,FALSE)=0,\"\",AF8)","v":""},{"$f":"IF(HLOOKUP(AG8,入力用!$G$17:$IL$73,5,FALSE)=0,\"\",AG8)","v":""},{"$f":"IF(HLOOKUP(AH8,入力用!$G$17:$IL$73,5,FALSE)=0,\"\",AH8)","v":""},{"$f":"IF(HLOOKUP(AI8,入力用!$G$17:$IL$73,5,FALSE)=0,\"\",AI8)","v":""},{"$f":"IF(HLOOKUP(AJ8,入力用!$G$17:$IL$73,5,FALSE)=0,\"\",AJ8)","v":""},{"$f":"IF(HLOOKUP(AK8,入力用!$G$17:$IL$73,5,FALSE)=0,\"\",AK8)","v":""},{"$f":"IF(HLOOKUP(AL8,入力用!$G$17:$IL$73,5,FALSE)=0,\"\",AL8)","v":""},{"$f":"IF(HLOOKUP(AM8,入力用!$G$17:$IL$73,5,FALSE)=0,\"\",AM8)","v":""},{"$f":"IF(HLOOKUP(AN8,入力用!$G$17:$IL$73,5,FALSE)=0,\"\",AN8)","v":""},{"$f":"IF(HLOOKUP(AO8,入力用!$G$17:$IL$73,5,FALSE)=0,\"\",AO8)","v":""},{"$f":"IF(HLOOKUP(AP8,入力用!$G$17:$IL$73,5,FALSE)=0,\"\",AP8)","v":""},{"$f":"IF(HLOOKUP(AQ8,入力用!$G$17:$IL$73,5,FALSE)=0,\"\",AQ8)","v":""},{"$f":"IF(HLOOKUP(AR8,入力用!$G$17:$IL$73,5,FALSE)=0,\"\",AR8)","v":""},{"$f":"IF(HLOOKUP(AS8,入力用!$G$17:$IL$73,5,FALSE)=0,\"\",AS8)","v":""},{"$f":"IF(HLOOKUP(AT8,入力用!$G$17:$IL$73,5,FALSE)=0,\"\",AT8)","v":""},{"$f":"IF(HLOOKUP(AU8,入力用!$G$17:$IL$73,5,FALSE)=0,\"\",AU8)","v":""},{"$f":"IF(HLOOKUP(AV8,入力用!$G$17:$IL$73,5,FALSE)=0,\"\",AV8)","v":""},{"$f":"IF(HLOOKUP(AW8,入力用!$G$17:$IL$73,5,FALSE)=0,\"\",AW8)","v":""},{"$f":"IF(HLOOKUP(AX8,入力用!$G$17:$IL$73,5,FALSE)=0,\"\",AX8)","v":""},{"$f":"IF(HLOOKUP(AY8,入力用!$G$17:$IL$73,5,FALSE)=0,\"\",AY8)","v":""},{"$f":"IF(HLOOKUP(AZ8,入力用!$G$17:$IL$73,5,FALSE)=0,\"\",AZ8)","v":""},{"$f":"IF(HLOOKUP(BA8,入力用!$G$17:$IL$73,5,FALSE)=0,\"\",BA8)","v":""}]
[]
[]
["注意事項等",null,null,null,null,null,null,null,null,null,null,null,null,null,null,null,null,null,null,null,null,null,null,null,null,null,null,null,null,null,null,null,null,null,null,null,null,null,null,null,null,null,null,null,null,"市町村民税",null,null,null,null,null,null,null,null,null,null,null,null,null,null,null,null,null,null,"給与支払報告",null,null,null,null,null,null,null,null,null,null,null,null,null,null,null,null,null,null,null,null,null,null,null,null,null,null,null,null,null,null,"に係る給与所得者異動届出書",null,null,null,null,null,null,null,null,null,null,null,null,null,null,null,null,null,null,null,null,null,null,null,null,null,null,null,null,null,null,null,null,null,null,null,null,null,null,null,null,null,null,null,null,null,null,null,null,null,null,null,null,null,null,null,null,null,null,null,null,null,null,null,null,null,null,null,null,null,null,null,null,null,null,null,null,null,null,null,null,null,null,null,null,null,null,null,null,null,null,null,null,null,null,null,null,null,null,null,null,null,null,null,null,null,null,null,null,null,null,null,null,null,null,null,null,null,null,null,null,null,null,null,null,null,null,null,null,null,null,null,null,null,null,null,null,null,null,null,null,null,null,null,null,null,null,null,null,null,null,null,null,1]
[]
[null,null,null,null,null,null,null,3,null,null,null,null,2,null,null,null,null,1]
[null,null,null,null,null,null,null,"給与所得者本人が国外に出国されるなどの場合は、納税管理人の届出が必要となります。詳しくは、市町村へお問い合わせください。",null,null,"なお、本書はノーカーボン紙です。訂正する場合は二重線で抹消してください。",null,"機械読み取りを行う場合がありますので、太枠内へ記入してください。また、2枚複写のうち、2枚ともご提出ください。",null,null,"した場合にご提出いただく用紙です。提出期限は、該当の従業員等の異動があった月の翌月10日までです。従業員等の住所変更のみの場合は、提出不要です。",null,"本書は、特別徴収の(個人の市町村民税・道府県民税(住民税)を給与差引している又は特別徴収の給与支払報告書を提出した)従業員等が、異動（退職・転勤等）",null,null,null,null,null,null,null,null,null,null,null,null,null,null,null,null,null,null,null,null,null,null,null,null,null,null,null,"道府県民税",null,null,null,null,null,null,null,null,null,null,null,null,null,null,null,null,null,null,"特　別　徴　収",null,null,null,null,null,null,null,null,null,null,null,null,null,null,null,null,null,null,null,null,null,null,null,null,null,null,null,null,null,null,null,null,null,null,null,null,null,null,null,null,null,null,null,null,null,null,null,null,null,null,null,null,null,null,null,null,null,null,null,null,null,null,null,null,null,null,null,null,null,null,null,null,null,null,null,null,null,null,null,null,null,null,null,null,null,null,null,null,null,null,null,null,null,null,null,null,null,null,null,null,null,null,null,null,null,null,null,null,null,null,null,null,null,null,null,null,null,null,null,null,null,null,null,null,"整理番号",null,null,null,null,null,null,null,null,null,null,null,null,null,null,null,null,null,null,null,null,null,null,null,null,null,null,null,null,null,null,null,null,null,null,null,null,null,null,null,null,null,null,null,null,null,null,null,null,null,null,null,null,null,null,null,null,null,null,null,null,null,null,null,null,null,"\n　　　特別徴収指定番号及び宛名番号は、特別徴収税額決定・変更通知書（特別徴収義務者用）をご確認ください。"]
[]
[]
[]
[null,null,null,null,null,null,null,null,null,null,null,null,null,null,null,null,null,null,null,null,null,null,null,null,null,null,null,null,null,null,null,null,null,null,null,null,null,null,null,null,null,null,null,null,null,null,null,null,null,null,null,null,null,null,null,null,null,"給　与　支　払　者",null,null,null,"(特別徴収義務者)",null,null,"所　在　地",null,null,"〒",null,null,null,null,null,null,null,null,null,null,null,null,null,null,null,null,null,null,null,null,null,null,null,null,null,null,null,null,null,null,null,null,null,null,null,null,null,null,null,null,null,null,null,null,null,null,null,null,null,null,null,null,null,null,null,null,null,null,null,null,null,null,null,null,null,null,null,null,null,null,null,null,null,null,null,null,null,null,null,null,null,null,null,null,null,null,null,null,null,null,null,null,null,null,null,null,null,null,null,null,null,null,null,null,null,null,null,null,"担当者",null,null,null,"課係",null,null,{"$f":"IF(入力用!$G$15<>\"\",入力用!$G$15,\"\")","v":""},null,null,null,null,null,null,null,null,null,null,null,null,null,null,null,null,null,null,null,null,null,null,null,null,null,null,null,null,null,null,null,null,{"$f":"IF($HI$29<>\"\",$HI$29-1,\"\")","v":""},null,null,null,"特別徴収\n指定番号",null,null,null,null,null,{"$f":"HS29","v":""}]
[null,null,null,null,null,null,null,null,null,null,null,null,null,null,null,null,null,null,null,null,null,null,null,null,null,null,null,null,null,null,null,null,null,null,null,null,null,null,null,null,null,null,null,null,null,null,null,null,null,null,null,null,null,null,null,null,null,null,null,null,null,null,null,null,null,null,null,null,null,null,{"$f":"IF(入力用!$G$10<>\"\",入力用!$G$10&入力用!$H$10&入力用!$I$10,\"\")","v":""},null,null,null,null,null,null,null,null,null,null,"-",null,{"$f":"IF(入力用!$K$10<>\"\",入力用!$K$10&入力用!$L$10&入力用!$M$10&入力用!$N$10,\"\")","v":""}]
[]
[null,null,null,null,null,null,null,null,null,null,null,null,null,null,null,null,null,null,null,null,null,null,null,null,null,null,null,null,null,null,null,null,null,null,null,null,null,null,null,null,null,null,null,null,null,null,null,null,null,null,null,null,null,null,null,null,null,null,null,null,null,null,null,null,null,null,null,{"$f":"IF(入力用!$G$12<>\"\",入力用!$G$12,\"\")","v":""}]
[null,null,null,null,null,null,null,null,null,null,null,null,null,null,null,null,null,null,null,null,null,null,null,null,null,null,null,null,null,null,null,null,null,null,null,null,null,null,null,null,null,null,null,null,null,null,null,null,null,null,null,null,null,null,null,null,null,null,null,null,null,null,null,null,null,null,null,null,null,null,null,null,null,null,null,null,null,null,null,null,null,null,null,null,null,null,null,null,null,null,null,null,null,null,null,null,null,null,null,null,null,null,null,null,null,null,null,null,null,null,null,null,null,null,null,null,null,null,null,null,null,null,null,null,null,null,null,null,null,null,null,null,null,null,null,null,null,null,null,null,null,null,null,null,null,null,null,null,null,null,null,null,null,null,null,null,null,null,null,null,null,null,null,null,null,null,null,null,null,null,null,null,null,null,null,null,null,null,null,null,"氏　名",null,null,{"$f":"IF(入力用!$M$15<>\"\",入力用!$M$15,\"\")","v":""},null,null,null,null,null,null,null,null,null,null,null,null,null,null,null,null,null,null,null,null,null,null,null,null,null,null,null,null,null,null,null,null,"年度"]
[null,null,null,null,null,null,null,null,null,null,null,null,null,null,null,null,null,null,null,null,null,{"$f":"IF($N$7<>\"\",HLOOKUP(TEXT($N$7&1,\"#,##0\")*1,入力用!$B$18:$IL$73,10,FALSE),\"\")","v":"大阪市"},null,null,null,null,null,null,null,null,null,null,null,null,null,null,null,null,null,null,null,"長"]
[null,null,null,null,null,null,null,null,null,null,null,null,null,null,null,null,null,null,null,null,null,null,null,null,null,null,null,null,null,null,null,null,null,null,null,null,null,null,null,null,null,null,null,null,null,null,null,null,null,null,null,null,null,null,null,null,null,null,null,null,null,null,null,null,null,null,null,null,null,null,null,null,null,null,null,null,null,null,null,null,null,null,null,null,null,null,null,null,null,null,null,null,null,null,null,null,null,null,null,null,null,null,null,null,null,null,null,null,null,null,null,null,null,null,null,null,null,null,null,null,null,null,null,null,null,null,null,null,null,null,null,null,null,null,null,null,null,null,null,null,null,null,null,null,null,null,null,null,null,null,null,null,null,null,null,null,null,null,null,null,null,null,null,null,null,null,null,null,null,null,null,null,null,null,null,null,null,null,null,null,null,null,null,null,null,null,null,null,null,null,null,null,null,null,null,null,null,null,null,null,null,null,null,null,null,null,null,null,null,null,null,null,null,null,null,null,null,null,null,null,"宛名\n番号",null,null,null,null,null,{"$f":"HS35","v":""}]
[]
[]
[null,null,null,null,null,null,null,null,null,null,null,null,null,null,null,null,null,null,null,null,null,"令和",null,null,null,null,null,null,{"$f":"IF(入力用!$G$8<>\"\",入力用!$G$8,\"\")","v":""},null,null,null,null,null,null,null,null,null,"年",null,null,null,null,null,null,null,null,null,null,null,null,null,null,null,null,null,null,null,null,null,null,null,null,null,"名　称",null,null,{"$f":"IF(入力用!$G$11<>\"\",入力用!$G$11,\"\")","v":""}]
[null,null,null,null,null,null,null,null,null,null,null,null,null,null,null,null,null,null,null,null,null,null,null,null,null,null,null,null,null,null,null,null,null,null,null,null,null,null,null,null,null,null,null,null,null,null,null,null,null,null,null,null,null,null,null,null,null,null,null,null,null,null,null,null,null,null,null,null,null,null,null,null,null,null,null,null,null,null,null,null,null,null,null,null,null,null,null,null,null,null,null,null,null,null,null,null,null,null,null,null,null,null,null,null,null,null,null,null,null,null,null,null,null,null,null,null,null,null,null,null,null,null,null,null,null,null,null,null,null,null,null,null,null,null,null,null,null,null,null,null,null,null,null,null,null,null,null,null,null,null,null,null,null,null,null,null,null,null,null,null,null,null,null,null,null,null,null,null,null,null,null,null,null,null,null,null,null,null,null,null,"電話番号",null,null,{"$f":"IF(入力用!$S$15<>\"\",入力用!$S$15,\"\")&IF(入力用!$S$15<>\"\",\"-\",\"\")&IF(入力用!$V$15<>\"\",入力用!$V$15,\"\")&IF(入力用!$S$15<>\"\",\"-\",\"\")&IF(入力用!$Y$15<>\"\",入力用!$Y$15,\"\")","v":""},null,null,null,null,null,null,null,null,null,null,null,null,null,null,null,null,null,null,null,null,null,null,null,null,null,null,null,null,null,null,null,null,{"$f":"IF($FV$49<>\"\",$FV$49,\"\")","v":""},null,null,null,"特別徴収\n指定番号",null,null,null,null,null,{"$f":"IF(OR(入力用!$G$9<>\"\",入力用!$H$9<>\"\",入力用!$I$9<>\"\",入力用!$J$9<>\"\",入力用!$K$9<>\"\",入力用!$L$9<>\"\"),入力用!$G$9&入力用!$H$9&入力用!$I$9&入力用!$J$9&入力用!$K$9&入力用!$L$9,\"\")","v":""}]
[]
[]
[]
[null,null,null,null,null,null,null,null,null,null,null,null,null,null,null,null,null,null,null,null,null,null,null,null,null,null,null,null,{"$f":"IF(入力用!$I$8<>\"\",入力用!$I$8,\"\")","v":""},null,null,null,null,null,null,null,null,null,"月",null,null,null,{"$f":"IF(入力用!$K$8<>\"\",入力用!$K$8,\"\")","v":""},null,null,null,null,null,null,null,null,null,"日",null,null,null,null,null,null,null,null,null,null,null,null,null,null,null,null,null,null,null,null,null,null,null,null,null,null,null,null,null,null,null,null,null,null,null,null,null,null,null,null,null,null,null,null,null,null,null,null,null,null,null,null,null,null,null,null,null,null,null,null,null,null,null,null,null,null,null,null,null,null,null,null,null,null,null,null,null,null,null,null,null,null,null,null,null,null,null,null,null,null,null,null,null,null,null,null,null,null,null,null,null,null,null,null,null,null,null,null,null,null,null,null,null,null,null,null,null,null,null,null,null,null,null,null,null,null,null,null,null,null,null,null,null,null,null,null,null,null,null,null,null,null,null,null,null,null,null,null,null,null,null,null,null,null,null,null,null,null,null,null,null,null,null,"年度"]
[null,null,null,null,null,null,null,null,null,null,null,null,null,null,null,null,null,null,null,null,null,null,null,null,null,null,null,null,null,null,null,null,null,null,null,null,null,null,null,null,null,null,null,null,null,null,null,null,null,null,null,null,null,null,null,null,null,null,null,null,null,null,null,null,null,null,null,null,null,null,null,null,null,null,null,null,null,null,null,null,null,null,null,null,null,null,null,null,null,null,null,null,null,null,null,null,null,null,null,null,null,null,null,null,null,null,null,null,null,null,null,null,null,null,null,null,null,null,null,null,null,null,null,null,null,null,null,null,null,null,null,null,null,null,null,null,null,null,null,null,null,null,null,null,null,null,null,null,null,null,null,null,null,null,null,null,null,null,null,null,null,null,null,null,null,null,null,null,null,null,null,null,null,null,null,null,null,null,null,null,"内線",null,null,{"$f":"IF(入力用!$AA$15<>\"\",入力用!$AA$15,\"\")","v":""}]
[null,null,null,null,null,null,null,null,null,null,null,null,null,null,null,null,null,null,null,null,null,null,null,null,null,null,null,null,null,null,null,null,null,null,null,null,null,null,null,null,null,null,null,null,null,null,null,null,null,null,null,null,null,null,null,null,null,null,null,null,null,null,null,null,"個人番号又は法人番号\n（右詰めでご記入ください）",null,null,null,null,null,null,null,null,null,null,null,null,null,null,null,null,null,null,null,null,null,null,null,{"$f":"IF(入力用!$G$13<>\"\",入力用!$G$13,\"\")","v":""},null,null,null,null,{"$f":"IF(入力用!$H$13<>\"\",入力用!$H$13,\"\")","v":""},null,null,null,null,{"$f":"IF(入力用!$I$13<>\"\",入力用!$I$13,\"\")","v":""},null,null,null,null,{"$f":"IF(入力用!$J$13<>\"\",入力用!$J$13,\"\")","v":""},null,null,null,null,{"$f":"IF(入力用!$K$13<>\"\",入力用!$K$13,\"\")","v":""},null,null,null,null,{"$f":"IF(入力用!$L$13<>\"\",入力用!$L$13,\"\")","v":""},null,null,null,null,{"$f":"IF(入力用!$M$13<>\"\",入力用!$M$13,\"\")","v":""},null,null,null,null,{"$f":"IF(入力用!$N$13<>\"\",入力用!$N$13,\"\")","v":""},null,null,null,null,{"$f":"IF(入力用!$O$13<>\"\",入力用!$O$13,\"\")","v":""},null,null,null,null,{"$f":"IF(入力用!$P$13<>\"\",入力用!$P$13,\"\")","v":""},null,null,null,null,{"$f":"IF(入力用!$Q$13<>\"\",入力用!$Q$13,\"\")","v":""},null,null,null,null,{"$f":"IF(入力用!$R$13<>\"\",入力用!$R$13,\"\")","v":""},null,null,null,null,{"$f":"IF(入力用!$S$13<>\"\",入力用!$S$13,\"\")","v":""},null,null,null,null,null,null,null,null,null,null,null,null,null,null,null,null,null,null,null,null,null,null,null,null,null,null,null,null,null,null,null,null,null,null,null,null,null,null,null,null,null,null,null,null,null,null,null,null,null,null,null,null,null,null,null,null,null,null,null,null,null,null,null,null,null,null,null,null,null,null,null,"宛名\n番号",null,null,null,null,null,{"$f":"+IF($N$7<>\"\",IF(HLOOKUP($N$7,入力用!$B$17:$IL$73,3,FALSE)<>\"\",HLOOKUP($N$7,入力用!$B$17:$IL$73,3,FALSE),\"\"),\"\")","v":""}]
[null,null,null,null,null,null,null,null,null,null,null,null,null,null,null,null,null,null,null,null,null,null,null,null,null,null,null,null,null,null,null,null,null,null,null,null,null,null,null,null,null,null,null,null,null,null,null,null,null,"提出"]
[]
[]
[null,null,null,null,null,null,null,null,null,null,null,null,null,null,null,null,null,null,null,null,"給　与　所　得　者",null,null,"フリガナ",null,null,null,null,null,null,null,null,{"$f":"+IF($N$7<>\"\",IF(HLOOKUP($N$7,入力用!$B$17:$IL$73,4,FALSE)<>\"\",HLOOKUP($N$7,入力用!$B$17:$IL$73,4,FALSE),\"\"),\"\")","v":""},null,null,null,null,null,null,null,null,null,null,null,null,null,null,null,null,null,null,null,null,null,null,null,null,null,null,null,null,null,null,null,null,null,null,null,null,null,null,null,null,null,null,null,null,null,null,null,null,null,null,null,"新 姓",null,null,null,{"$f":"+IF($N$7<>\"\",IF(HLOOKUP($N$7,入力用!$B$17:$IL$73,6,FALSE)<>\"\",HLOOKUP($N$7,入力用!$B$17:$IL$73,6,FALSE),\"\"),\"\")","v":""},null,null,null,null,null,null,null,null,null,null,null,null,null,null,null,null,null,null,null,null,null,"（ア）",null,null,null,null,null,null,null,null,null,null,null,null,null,null,null,null,null,null,null,"（イ）",null,null,null,null,null,null,null,null,null,null,null,null,null,null,null,null,null,null,null,"（ウ）",null,null,null,null,null,null,null,null,null,null,null,null,null,null,null,null,null,null,null,"異動年月日",null,null,null,null,null,null,null,null,null,null,null,null,null,null,null,"異動の事由",null,null,null,null,null,null,null,null,null,null,null,null,null,null,null,null,null,null,null,null,null,null,null,null,null,null,null,null,null,null,null,null,null,null,null,"異動後の未徴収\n税額の徴収方法",null,null,null,null,null,null,null,null,null,null,null,null,null,null,null,null,null,null,null,null,null,null,null,null,null,null,null,null,null,null,null,null,null,null,null,null,null,null,null,null,null,null,null,"元号コード反映用"]
[null,null,null,null,null,null,null,null,null,null,null,null,null,null,null,null,null,null,null,null,null,null,null,null,null,null,null,null,null,null,null,null,null,null,null,null,null,null,null,null,null,null,null,null,null,null,null,null,null,null,null,null,null,null,null,null,null,null,null,null,null,null,null,null,null,null,null,null,null,null,null,null,null,null,null,null,null,null,null,null,null,null,null,null,null,null,null,null,null,null,null,null,null,null,null,null,null,null,null,null,null,null,null,null,null,null,null,null,null,null,null,null,null,null,null,null,null,null,null,null,null,null,null,null,null,null,null,null,null,null,null,null,null,null,null,null,null,null,null,null,null,null,null,null,null,null,null,null,null,null,null,null,null,null,null,null,null,null,null,null,null,null,null,null,null,null,null,null,null,null,null,null,null,null,null,null,null,null,null,null,null,null,null,null,null,null,null,null,null,null,null,null,null,null,null,null,null,null,null,null,null,null,null,null,null,null,null,null,null,null,null,null,null,null,null,null,null,null,null,null,null,null,null,null,null,null,null,null,null,null,null,null,null,null,null,null,null,null,null,null,null,null,null,null,null,null,null,null,null,null,null,null,null,null,null,null,null,null,null,null,null,null,null,null,null,null,{"$f":"+IF($N$7<>\"\",IF(HLOOKUP(TEXT($N$7&1,\"#,##0\")*1,入力用!$B$18:$IL$73,7,FALSE)<>\"\",HLOOKUP(TEXT($N$7&1,\"#,##0\")*1,入力用!$B$18:$IL$73,7,FALSE),\"\"),\"\")","v":""}]
[null,null,null,null,null,null,null,null,null,null,null,null,null,null,null,null,null,null,null,null,null,null,null,null,null,null,null,null,null,null,null,null,null,null,null,null,null,null,null,null,null,null,null,null,null,null,null,null,null,null,null,null,null,null,null,null,null,null,null,null,null,null,null,null,null,null,null,null,null,null,null,null,null,null,null,null,null,null,null,null,null,null,null,null,null,null,null,null,null,null,null,null,null,null,null,null,null,null,null,null,null,null,null,null,null,null,null,null,null,null,"特別徴収税額\n（年税額）\n",null,null,null,null,null,null,null,null,null,null,null,null,null,null,null,null,null,null,null,"徴収済税額",null,null,null,null,null,null,null,null,null,null,null,null,null,null,null,null,null,null,null,"未徴収税額\n（ア）－（イ）",null,null,null,null,null,null,null,null,null,null,null,null,null,null,null,null,null,null,null,null,null,null,null,null,null,null,null,null,null,null,null,null,null,null,null,null,null,null,null,null,null,null,null,null,null,null,null,null,null,null,null,null,null,null,null,null,null,null,null,null,null,null,null,null,null,null,null,null,null,null,null,null,null,null,null,null,null,null,null,null,null,null,null,null,null,null,null,null,null,null,null,null,null,null,null,null,null,null,null,null,null,null,null,null,null,null,null,null,null,null,null,null,null,null,null,"平成",4]
[null,null,null,null,null,null,null,null,null,null,null,null,null,null,null,null,null,null,null,null,null,null,null,"氏　名",null,null,null,null,null,null,null,null,{"$f":"+IF($N$7<>\"\",IF(HLOOKUP($N$7,入力用!$B$17:$IL$73,5,FALSE)<>\"\",HLOOKUP($N$7,入力用!$B$17:$IL$73,5,FALSE),\"\"),\"\")","v":""},null,null,null,null,null,null,null,null,null,null,null,null,null,null,null,null,null,null,null,null,null,null,null,null,null,null,null,null,null,null,null,null,null,null,null,null,null,null,null,null,null,null,null,null,null,null,null,null,null,null,null,null,null,null,null,{"$f":"+IF($N$7<>\"\",IF(HLOOKUP($N$7,入力用!$B$17:$IL$73,7,FALSE)<>\"\",HLOOKUP($N$7,入力用!$B$17:$IL$73,7,FALSE),\"\"),\"\")","v":""},null,null,null,null,null,null,null,null,null,null,null,null,null,null,null,null,null,null,null,null,null,null,null,null,null,null,null,null,null,null,null,null,null,null,null,null,null,null,null,null,null,null,null,null,null,null,null,null,null,null,null,null,null,null,null,null,null,null,null,null,null,null,null,null,null,null,null,null,null,null,null,null,null,null,null,null,null,null,null,null,null,null,null,null,null,null,null,null,null,null,null,null,null,null,null,null,null,"※事業主及び従業員の希望のみによる\n普通徴収への切替はできません。",null,null,null,null,null,null,null,null,null,null,null,null,null,null,null,null,null,null,null,null,null,null,null,null,null,null,null,null,null,null,null,null,null,null,null,null,null,null,null,null,null,null,null,null,null,null,null,null,null,null,null,null,null,null,null,null,null,null,null,null,null,null,null,null,null,null,null,null,null,null,null,null,null,null,null,null,null,null,null,"昭和",3]
[null,null,null,null,null,null,null,null,null,null,null,null,null,null,null,null,null,null,null,null,null,null,null,null,null,null,null,null,null,null,null,null,null,null,null,null,null,null,null,null,null,null,null,null,null,null,null,null,null,null,null,null,null,null,null,null,null,null,null,null,null,null,null,null,null,null,null,null,null,null,null,null,null,null,null,null,null,null,null,null,null,null,null,null,null,null,null,null,null,null,null,null,null,null,null,null,null,null,null,null,null,null,null,null,null,null,null,null,null,null,null,null,null,null,null,null,null,null,null,null,null,null,null,null,null,null,null,null,null,null,null,null,null,null,null,null,null,null,null,null,null,null,null,null,null,null,null,null,null,null,null,null,null,null,null,null,null,null,null,null,null,null,null,null,null,null,null,null,null,null,null,null,null,null,null,null,null,null,null,null,null,null,null,null,null,null,null,null,null,null,null,null,null,null,null,null,null,null,null,null,null,null,null,null,null,null,null,null,null,null,null,null,null,null,null,null,null,null,null,null,null,null,null,null,null,null,null,null,null,null,null,null,null,null,null,null,null,null,null,null,null,null,null,null,null,null,null,null,null,null,null,null,null,null,null,null,null,null,null,null,null,null,null,null,null,null,"大正",2]
[null,null,null,null,null,null,null,null,null,null,null,null,null,null,null,null,null,null,null,null,null,null,null,null,null,null,null,null,null,null,null,null,null,null,null,null,null,null,null,null,null,null,null,null,null,null,null,null,null,null,null,null,null,null,null,null,null,null,null,null,null,null,null,null,null,null,null,null,null,null,null,null,null,null,null,null,null,null,null,null,null,null,null,null,null,null,null,null,null,null,null,null,null,null,null,null,null,null,null,null,null,null,null,null,null,null,null,null,null,null,null,null,null,null,null,null,null,null,null,null,null,null,null,null,null,null,null,null,null,null,"例）11月10日納期限分の場合→10月分",null,null,null,null,null,null,null,null,null,null,null,null,null,null,null,null,null,null,null,null,null,null,null,null,null,null,null,null,null,null,null,null,null,null,null,null,null,null,null,null,null,null,null,null,null,null,null,null,null,null,null,null,null,null,null,null,null,null,null,null,null,null,null,null,null,null,null,null,null,null,null,null,null,null,null,null,null,null,null,null,null,null,null,null,null,null,null,null,null,null,null,null,null,null,null,null,null,null,null,null,null,null,null,null,null,null,null,null,null,null,null,null,null,null,null,null,null,null,null,null,null,null,null,null,null,null,null,null,null,null,null,null,null,null,null,"明治",1]
[]
[null,null,null,null,null,null,null,null,null,null,null,null,null,null,null,null,null,null,null,null,null,null,null,"生年月日",null,null,null,null,null,null,null,null,"元号",null,null,{"$f":"+IF($N$7<>\"\",IF($JG$40<>\"\",VLOOKUP($JG$40,$JG$41:$JH$44,2,FALSE),\"\"),\"\")","v":""},null,null,null,null,null,null,null,null,null,"←",null,null,null,"1.明治 2.大正",null,null,null,null,null,null,null,null,null,null,null,null,null,null,null,{"$f":"IF($N$7<>\"\",IF(HLOOKUP(TEXT($N$7&1,\"#,##0\")*1,入力用!$B$18:$IL$73,8,FALSE)<>\"\",HLOOKUP(TEXT($N$7&1,\"#,##0\")*1,入力用!$B$18:$IL$73,8,FALSE),\"\"),\"\")","v":""},null,null,null,null,null,null,null,null,null,null,null,"年",null,null,{"$f":"IF($N$7<>\"\",IF(HLOOKUP(TEXT($N$7&3,\"#,##0\")*1,入力用!$B$18:$IL$73,8,FALSE)<>\"\",HLOOKUP(TEXT($N$7&3,\"#,##0\")*1,入力用!$B$18:$IL$73,8,FALSE),\"\"),\"\")","v":""},null,null,null,null,null,null,null,null,null,null,null,"月",null,null,{"$f":"+IF($N$7<>\"\",IF(HLOOKUP(TEXT($N$7&5,\"#,##0\")*1,入力用!$B$18:$IL$73,8,FALSE)<>\"\",HLOOKUP(TEXT($N$7&5,\"#,##0\")*1,入力用!$B$18:$IL$73,8,FALSE),\"\"),\"\")","v":""},null,null,null,null,null,null,null,null,null,null,null,"日",null,null,null,null,null,null,null,null,null,null,null,null,null,null,null,null,null,null,null,null,null,null,{"$f":"+IF($N$7<>\"\",IF(HLOOKUP(TEXT($N$7&1,\"#,##0\")*1,入力用!$B$18:$IL$73,24,FALSE)<>\"\",HLOOKUP(TEXT($N$7&1,\"#,##0\")*1,入力用!$B$18:$IL$73,24,FALSE),\"\"),\"\")","v":""},null,null,null,null,null,null,null,null,null,"月分から",null,null,null,null,null,null,null,null,null,{"$f":"IF(AND(EA49<>\"\",EA49<>5),IF(EA49=12,1,EA49+1),\"\")","v":""},null,null,null,null,null,null,null,null,null,"月分から",null,null,null,null,null,null,null,null,null,null,null,null,null,null,null,null,null,null,null,null,null,null,null,null,null,"\n番号を記入",null,null,null,null,null,null,null,null,null,null,null,null,"1.転勤・転籍\n2.退職\n3.死亡\n4.休職\n5.長欠\n6.支払少額\n7.支払不定期\n8.その他",null,null,null,null,null,null,null,null,null,null,null,null,null,null,null,null,null,null,null,null,null,"\n番号を記入",null,null,null,null,null,null,null,null,null,null,null,"\n 1⃣　特別徴収継続\n\n 2⃣　一括徴収\n\n 3⃣　普通徴収"]
[]
[null,null,null,null,null,null,null,null,null,null,null,null,null,null,null,null,null,null,null,null,null,null,null,null,null,null,null,null,null,null,null,null,null,null,null,null,null,null,null,null,null,null,null,null,null,null,null,null,null,"3.昭和 4.平成 "]
[null,null,null,null,null,null,null,null,null,null,null,null,null,null,null,null,null,null,null,null,null,null,null,null,null,null,null,null,null,null,null,null,null,null,null,null,null,null,null,null,null,null,null,null,null,null,null,null,null,null,null,null,null,null,null,null,null,null,null,null,null,null,null,null,null,null,null,null,null,null,null,null,null,null,null,null,null,null,null,null,null,null,null,null,null,null,null,null,null,null,null,null,null,null,null,null,null,null,null,null,null,null,null,null,null,null,null,null,null,null,null,null,null,null,null,null,null,null,null,null,null,null,null,null,null,null,null,null,null,null,{"$f":"+IF($N$7<>\"\",IF(HLOOKUP(TEXT($N$7&4,\"#,##0\")*1,入力用!$B$18:$IL$73,24,FALSE)<>\"\",HLOOKUP(TEXT($N$7&4,\"#,##0\")*1,入力用!$B$18:$IL$73,24,FALSE),\"\"),\"\")","v":""},null,null,null,null,null,null,null,null,null,"月分まで",null,null,null,null,null,null,null,null,null,{"$f":"IF(EU46<>\"\",5,\"\")","v":""},null,null,null,null,null,null,null,null,null,"月分まで",null,null,null,null,null,null,null,null,null,"令和",null,null,null,null,null,null,{"$f":"+IF($N$7<>\"\",IF(HLOOKUP(TEXT($N$7&1,\"#,##0\")*1,入力用!$B$18:$IL$73,19,FALSE)<>\"\",HLOOKUP(TEXT($N$7&1,\"#,##0\")*1,入力用!$B$18:$IL$73,19,FALSE),\"\"),\"\")","v":""},null,null,null,null,null,"年"]
[null,null,null,null,null,null,null,null,null,null,null,null,null,null,null,null,null,null,null,null,null,null,null,"個人番号",null,null,null,null,null,null,null,null,null,null,null,null,null,null,{"$f":"+IF($N$7<>\"\",IF(HLOOKUP(TEXT($N$7&1,\"#,##0\")*1,入力用!$B$18:$IL$73,9,FALSE)<>\"\",MID(HLOOKUP(TEXT($N$7&1,\"#,##0\")*1,入力用!$B$18:$IL$73,9,FALSE),1,1),\"\"),\"\")","v":""},null,null,null,null,null,{"$f":"+IF($N$7<>\"\",IF(HLOOKUP(TEXT($N$7&1,\"#,##0\")*1,入力用!$B$18:$IL$73,9,FALSE)<>\"\",MID(HLOOKUP(TEXT($N$7&1,\"#,##0\")*1,入力用!$B$18:$IL$73,9,FALSE),2,1),\"\"),\"\")","v":""},null,null,null,null,null,{"$f":"+IF($N$7<>\"\",IF(HLOOKUP(TEXT($N$7&1,\"#,##0\")*1,入力用!$B$18:$IL$73,9,FALSE)<>\"\",MID(HLOOKUP(TEXT($N$7&1,\"#,##0\")*1,入力用!$B$18:$IL$73,9,FALSE),3,1),\"\"),\"\")","v":""},null,null,null,null,null,{"$f":"+IF($N$7<>\"\",IF(HLOOKUP(TEXT($N$7&1,\"#,##0\")*1,入力用!$B$18:$IL$73,9,FALSE)<>\"\",MID(HLOOKUP(TEXT($N$7&1,\"#,##0\")*1,入力用!$B$18:$IL$73,9,FALSE),4,1),\"\"),\"\")","v":""},null,null,null,null,null,{"$f":"+IF($N$7<>\"\",IF(HLOOKUP(TEXT($N$7&1,\"#,##0\")*1,入力用!$B$18:$IL$73,9,FALSE)<>\"\",MID(HLOOKUP(TEXT($N$7&1,\"#,##0\")*1,入力用!$B$18:$IL$73,9,FALSE),5,1),\"\"),\"\")","v":""},null,null,null,null,null,{"$f":"+IF($N$7<>\"\",IF(HLOOKUP(TEXT($N$7&1,\"#,##0\")*1,入力用!$B$18:$IL$73,9,FALSE)<>\"\",MID(HLOOKUP(TEXT($N$7&1,\"#,##0\")*1,入力用!$B$18:$IL$73,9,FALSE),6,1),\"\"),\"\")","v":""},null,null,null,null,null,{"$f":"+IF($N$7<>\"\",IF(HLOOKUP(TEXT($N$7&1,\"#,##0\")*1,入力用!$B$18:$IL$73,9,FALSE)<>\"\",MID(HLOOKUP(TEXT($N$7&1,\"#,##0\")*1,入力用!$B$18:$IL$73,9,FALSE),7,1),\"\"),\"\")","v":""},null,null,null,null,null,{"$f":"+IF($N$7<>\"\",IF(HLOOKUP(TEXT($N$7&1,\"#,##0\")*1,入力用!$B$18:$IL$73,9,FALSE)<>\"\",MID(HLOOKUP(TEXT($N$7&1,\"#,##0\")*1,入力用!$B$18:$IL$73,9,FALSE),8,1),\"\"),\"\")","v":""},null,null,null,null,null,{"$f":"+IF($N$7<>\"\",IF(HLOOKUP(TEXT($N$7&1,\"#,##0\")*1,入力用!$B$18:$IL$73,9,FALSE)<>\"\",MID(HLOOKUP(TEXT($N$7&1,\"#,##0\")*1,入力用!$B$18:$IL$73,9,FALSE),9,1),\"\"),\"\")","v":""},null,null,null,null,null,{"$f":"+IF($N$7<>\"\",IF(HLOOKUP(TEXT($N$7&1,\"#,##0\")*1,入力用!$B$18:$IL$73,9,FALSE)<>\"\",MID(HLOOKUP(TEXT($N$7&1,\"#,##0\")*1,入力用!$B$18:$IL$73,9,FALSE),10,1),\"\"),\"\")","v":""},null,null,null,null,null,{"$f":"+IF($N$7<>\"\",IF(HLOOKUP(TEXT($N$7&1,\"#,##0\")*1,入力用!$B$18:$IL$73,9,FALSE)<>\"\",MID(HLOOKUP(TEXT($N$7&1,\"#,##0\")*1,入力用!$B$18:$IL$73,9,FALSE),11,1),\"\"),\"\")","v":""},null,null,null,null,null,{"$f":"+IF($N$7<>\"\",IF(HLOOKUP(TEXT($N$7&1,\"#,##0\")*1,入力用!$B$18:$IL$73,9,FALSE)<>\"\",MID(HLOOKUP(TEXT($N$7&1,\"#,##0\")*1,入力用!$B$18:$IL$73,9,FALSE),12,1),\"\"),\"\")","v":""},null,null,null,null,null,null,null,null,null,null,null,null,null,null,null,null,null,null,null,null,null,null,null,null,null,null,null,null,null,null,null,null,null,null,null,null,null,null,null,null,null,null,null,null,null,null,null,null,null,null,null,null,null,null,null,null,null,null,null,null,null,null,null,null,null,null,null,null,null,null,null,null,null,null,null,null,null,null,null,null,null,null,{"$f":"+IF($N$7<>\"\",IF($JG$65<>\"\",VLOOKUP($JG$65,$JG$66:$JH$73,2,FALSE),\"\"),\"\")","v":""},null,null,null,null,null,null,null,null,null,null,null,null,null,null,null,null,null,null,null,null,null,null,null,null,null,null,null,null,null,null,null,null,null,null,{"$f":"+IF($N$7<>\"\",IF($JG$52<>\"\",VLOOKUP($JG$52,$JG$53:$JJ$56,2,FALSE),\"\"),\"\")","v":""}]
[null,null,null,null,null,null,null,null,null,null,null,null,null,null,null,null,null,null,null,null,null,null,null,null,null,null,null,null,null,null,null,null,null,null,null,null,null,null,null,null,null,null,null,null,null,null,null,null,null,null,null,null,null,null,null,null,null,null,null,null,null,null,null,null,null,null,null,null,null,null,null,null,null,null,null,null,null,null,null,null,null,null,null,null,null,null,null,null,null,null,null,null,null,null,null,null,null,null,null,null,null,null,null,null,null,null,null,null,null,null,null,null,null,null,null,null,null,null,null,null,null,null,null,null,null,null,null,null,null,null,null,null,null,null,null,null,null,null,null,null,null,null,null,null,null,null,null,null,null,null,null,null,null,null,null,null,null,null,null,null,null,null,null,null,null,null,null,null,null,null,null,null,null,null,null,null,null,null,null,null,null,null,null,null,null,null,null,null,null,null,null,null,null,null,null,null,"←",null,null,null,null,null,null,null,null,null,null,null,null,null,null,null,null,null,null,null,null,null,null,null,null,null,null,null,null,null,null,null,null,null,"←",null,null,null,null,null,null,null,null,null,null,null,null,null,null,null,null,null,null,null,null,null,null,null,null,null,null,null,null,null,null,null,null,null,null,null,"税額の徴収方法用"]
[null,null,null,null,null,null,null,null,null,null,null,null,null,null,null,null,null,null,null,null,null,null,null,null,null,null,null,null,null,null,null,null,null,null,null,null,null,null,null,null,null,null,null,null,null,null,null,null,null,null,null,null,null,null,null,null,null,null,null,null,null,null,null,null,null,null,null,null,null,null,null,null,null,null,null,null,null,null,null,null,null,null,null,null,null,null,null,null,null,null,null,null,null,null,null,null,null,null,null,null,null,null,null,null,null,null,null,null,null,null,"円",null,null,null,null,null,null,null,null,null,null,null,null,null,null,null,null,null,null,null,"円",null,null,null,null,null,null,null,null,null,null,null,null,null,null,null,null,null,null,null,"円",null,null,null,null,null,null,null,null,null,null,null,null,null,null,null,null,null,null,null,null,null,null,null,null,null,null,null,null,null,null,null,null,null,null,null,null,null,null,null,null,null,null,null,null,null,null,null,null,null,null,null,null,null,null,null,null,null,null,null,null,null,null,null,null,null,null,null,null,null,null,null,null,null,null,null,null,null,null,null,null,null,null,null,null,null,null,null,null,null,null,null,null,null,null,null,null,null,null,null,null,null,null,null,null,null,null,null,null,null,null,null,null,null,null,null,{"$f":"+IF($N$7<>\"\",IF(HLOOKUP(TEXT($N$7&1,\"#,##0\")*1,入力用!$B$18:$IL$73,28,FALSE)<>\"\",HLOOKUP(TEXT($N$7&1,\"#,##0\")*1,入力用!$B$18:$IL$73,28,FALSE),\"\"),\"\")","v":""}]
[null,null,null,null,null,null,null,null,null,null,null,null,null,null,null,null,null,null,null,null,null,null,null,null,null,null,null,null,null,null,null,null,null,null,null,null,null,null,null,null,null,null,null,null,null,null,null,null,null,null,null,null,null,null,null,null,null,null,null,null,null,null,null,null,null,null,null,null,null,null,null,null,null,null,null,null,null,null,null,null,null,null,null,null,null,null,null,null,null,null,null,null,null,null,null,null,null,null,null,null,null,null,null,null,null,null,null,null,null,null,null,null,null,null,null,null,null,null,null,null,null,null,null,null,null,null,null,null,null,null,null,null,null,null,null,null,null,null,null,null,null,null,null,null,null,null,null,null,null,null,null,null,null,null,null,null,null,null,null,null,null,null,null,null,null,null,null,null,null,null,null,null,null,null,null,null,null,null,null,null,null,null,null,null,null,null,null,null,null,null,null,null,null,null,null,null,null,null,null,null,null,null,null,null,null,null,null,null,null,null,null,null,null,null,null,null,null,null,null,null,null,null,null,null,null,null,null,null,null,null,null,null,null,null,null,null,null,null,null,null,null,null,null,null,null,null,null,null,null,null,null,null,null,null,null,null,null,null,null,null,null,null,null,null,null,null,"一括徴収",2,2,"2.異動年月日が1月1日以降でかつ特別徴収の継続の希望がないため。"]
[null,null,null,null,null,null,null,null,null,null,null,null,null,null,null,null,null,null,null,null,null,null,null,"住　　所",null,null,"1月1日\n現在",null,null,null,null,null,{"$f":"+IF($N$7<>\"\",HLOOKUP(TEXT($N$7&1,\"#,##0\")*1,入力用!$B$18:$IL$73,10,FALSE)&HLOOKUP(TEXT($N$7&4,\"#,##0\")*1,入力用!$B$18:$IL$73,10,FALSE)&HLOOKUP(TEXT($N$7&6,\"#,##0\")*1,入力用!$B$18:$IL$73,10,FALSE)&HLOOKUP(TEXT($N$7&1,\"#,##0\")*1,入力用!$B$18:$IL$73,11,FALSE)&HLOOKUP(TEXT($N$7&1,\"#,##0\")*1,入力用!$B$18:$IL$73,12,FALSE)&HLOOKUP(TEXT($N$7&1,\"#,##0\")*1,入力用!$B$18:$IL$73,13,FALSE),\"\")","v":"大阪市区"},null,null,null,null,null,null,null,null,null,null,null,null,null,null,null,null,null,null,null,null,null,null,null,null,null,null,null,null,null,null,null,null,null,null,null,null,null,null,null,null,null,null,null,null,null,null,null,null,null,null,null,null,null,null,null,null,null,null,null,null,null,null,null,null,null,null,null,null,null,null,null,null,null,null,null,null,null,{"$f":"+IF($N$7<>\"\",IF(HLOOKUP(TEXT($N$7&1,\"#,##0\")*1,入力用!$B$18:$IL$73,22,FALSE)<>\"\",HLOOKUP(TEXT($N$7&1,\"#,##0\")*1,入力用!$B$18:$IL$73,22,FALSE),\"\"),\"\")","v":""},null,null,null,null,null,null,null,null,null,null,null,null,null,null,null,null,null,null,null,{"$f":"+IF($N$7<>\"\",IF(HLOOKUP(TEXT($N$7&1,\"#,##0\")*1,入力用!$B$18:$IL$73,23,FALSE)<>\"\",HLOOKUP(TEXT($N$7&1,\"#,##0\")*1,入力用!$B$18:$IL$73,23,FALSE),\"\"),\"\")","v":""},null,null,null,null,null,null,null,null,null,null,null,null,null,null,null,null,null,null,null,{"$f":"+IF(AND($N$7<>\"\",DG54<>\"\"),DG54-EA54,\"\")","v":""},null,null,null,null,null,null,null,null,null,null,null,null,null,null,null,null,null,null,null,null,null,null,null,null,null,null,null,null,null,null,null,null,null,null,null,null,null,null,null,null,null,null,null,null,null,null,null,null,null,null,null,null,null,null,null,null,null,null,null,null,null,null,null,null,null,null,null,null,null,null,null,null,null,null,null,null,null,null,null,null,null,null,null,null,null,null,null,null,null,null,null,null,null,null,null,null,null,null,null,null,null,null,null,null,null,null,null,null,null,null,null,null,null,null,null,"一括徴収(本人希望)",2,1,"1.異動年月日が12月31日以前でかつ本人からの申出があったため。"]
[null,null,null,null,null,null,null,null,null,null,null,null,null,null,null,null,null,null,null,null,null,null,null,null,null,null,null,null,null,null,null,null,null,null,null,null,null,null,null,null,null,null,null,null,null,null,null,null,null,null,null,null,null,null,null,null,null,null,null,null,null,null,null,null,null,null,null,null,null,null,null,null,null,null,null,null,null,null,null,null,null,null,null,null,null,null,null,null,null,null,null,null,null,null,null,null,null,null,null,null,null,null,null,null,null,null,null,null,null,null,null,null,null,null,null,null,null,null,null,null,null,null,null,null,null,null,null,null,null,null,null,null,null,null,null,null,null,null,null,null,null,null,null,null,null,null,null,null,null,null,null,null,null,null,null,null,null,null,null,null,null,null,null,null,null,null,null,null,null,null,null,null,null,null,null,null,null,null,null,null,null,null,null,null,null,null,null,null,null,null,null,null,null,null,null,null,null,null,null,null,null,null,null,null,null,null,null,null,null,null,null,null,null,null,null,null,null,null,null,null,null,null,null,null,null,null,null,null,null,null,null,null,null,null,null,null,null,null,null,null,null,null,null,null,null,null,null,null,null,null,null,null,null,null,null,null,null,null,null,null,null,null,null,null,null,null,"特別徴収継続(転勤・転籍)",1,null,"　"]
[null,null,null,null,null,null,null,null,null,null,null,null,null,null,null,null,null,null,null,null,null,null,null,null,null,null,null,null,null,null,null,null,null,null,null,null,null,null,null,null,null,null,null,null,null,null,null,null,null,null,null,null,null,null,null,null,null,null,null,null,null,null,null,null,null,null,null,null,null,null,null,null,null,null,null,null,null,null,null,null,null,null,null,null,null,null,null,null,null,null,null,null,null,null,null,null,null,null,null,null,null,null,null,null,null,null,null,null,null,null,null,null,null,null,null,null,null,null,null,null,null,null,null,null,null,null,null,null,null,null,null,null,null,null,null,null,null,null,null,null,null,null,null,null,null,null,null,null,null,null,null,null,null,null,null,null,null,null,null,null,null,null,null,null,null,null,null,null,null,null,null,{"$f":"+IF($N$7<>\"\",IF(HLOOKUP(TEXT($N$7&3,\"#,##0\")*1,入力用!$B$18:$IL$73,19,FALSE)<>\"\",HLOOKUP(TEXT($N$7&3,\"#,##0\")*1,入力用!$B$18:$IL$73,19,FALSE),\"\"),\"\")","v":""},null,null,null,null,null,null,null,{"$f":"+IF($N$7<>\"\",IF(HLOOKUP(TEXT($N$7&5,\"#,##0\")*1,入力用!$B$18:$IL$73,19,FALSE)<>\"\",HLOOKUP(TEXT($N$7&5,\"#,##0\")*1,入力用!$B$18:$IL$73,19,FALSE),\"\"),\"\")","v":""},null,null,null,null,null,null,null,null,null,null,null,null,null,null,null,null,null,null,null,null,null,null,null,null,null,null,null,null,null,null,null,null,null,null,null,null,null,null,null,null,null,null,null,null,null,null,null,null,null,null,null,null,null,null,null,null,null,null,null,null,null,null,null,null,null,null,null,null,null,null,null,null,null,null,null,null,null,null,null,null,null,null,null,null,null,null,"普通徴収(本人が納付)",3,{"$f":"+IF($N$7<>\"\",IF($JG$58<>\"\",VLOOKUP($JG$58,$JG$59:$JI$61,2,FALSE),\"\"),\"\")","v":""},{"$f":"+IF($N$7<>\"\",IF($JG$58<>\"\",VLOOKUP($JG$58,$JG$59:$JI$61,3,FALSE),\"\"),\"\")","v":""}]
[null,null,null,null,null,null,null,null,null,null,null,null,null,null,null,null,null,null,null,null,null,null,null,null,null,null,null,null,null,null,null,null,null,null,null,null,null,null,null,null,null,null,null,null,null,null,null,null,null,null,null,null,null,null,null,null,null,null,null,null,null,null,null,null,null,null,null,null,null,null,null,null,null,null,null,null,null,null,null,null,null,null,null,null,null,null,null,null,null,null,null,null,null,null,null,null,null,null,null,null,null,null,null,null,null,null,null,null,null,null,null,null,null,null,null,null,null,null,null,null,null,null,null,null,null,null,null,null,null,null,null,null,null,null,null,null,null,null,null,null,null,null,null,null,null,null,null,null,null,null,null,null,null,null,null,null,null,null,null,null,null,null,null,null,null,null,null,null,null,null,null,null,null,null,null,null,"月",null,null,null,null,null,null,null,"日"]
[null,null,null,null,null,null,null,null,null,null,null,null,null,null,null,null,null,null,null,null,null,null,null,null,null,null,"異動後",null,null,null,null,null,{"$f":"+IF($N$7<>\"\",IF(HLOOKUP(TEXT($N$7&1,\"#,##0\")*1,入力用!$B$18:$IL$73,14,FALSE)&HLOOKUP(TEXT($N$7&1,\"#,##0\")*1,入力用!$B$18:$IL$73,16,FALSE)&HLOOKUP(TEXT($N$7&1,\"#,##0\")*1,入力用!$B$18:$IL$73,17,FALSE)&HLOOKUP(TEXT($N$7&1,\"#,##0\")*1,入力用!$B$18:$IL$73,18,FALSE)&HLOOKUP(TEXT($N$7&1,\"#,##0\")*1,入力用!$B$18:$IL$73,19,FALSE)<>\"\",HLOOKUP(TEXT($N$7&1,\"#,##0\")*1,入力用!$B$18:$IL$73,14,FALSE)&HLOOKUP(TEXT($N$7&1,\"#,##0\")*1,入力用!$B$18:$IL$73,15,FALSE)&HLOOKUP(TEXT($N$7&1,\"#,##0\")*1,入力用!$B$18:$IL$73,16,FALSE)&HLOOKUP(TEXT($N$7&1,\"#,##0\")*1,入力用!$B$18:$IL$73,17,FALSE)&HLOOKUP(TEXT($N$7&1,\"#,##0\")*1,入力用!$B$18:$IL$73,18,FALSE),\"\"),\"\")","v":""},null,null,null,null,null,null,null,null,null,null,null,null,null,null,null,null,null,null,null,null,null,null,null,null,null,null,null,null,null,null,null,null,null,null,null,null,null,null,null,null,null,null,null,null,null,null,null,null,null,null,null,null,null,null,null,null,null,null,null,null,null,null,null,null,null,null,null,null,null,null,null,null,null,null,null,null,null,null,null,null,null,null,null,null,null,null,null,null,null,null,null,null,null,null,null,null,null,null,null,null,null,null,null,null,null,null,null,null,null,null,null,null,null,null,null,null,null,null,null,null,null,null,null,null,null,null,null,null,null,null,null,null,null,null,null,null,null,null,null,null,null,null,null,null,null,null,null,null,null,null,null,null,null,"8.その他の\n理由を右欄\nへ記入",null,null,null,null,null,null,null,null,{"$f":"+IF($N$7<>\"\",IF(HLOOKUP(TEXT($N$7&1,\"#,##0\")*1,入力用!$B$18:$IL$73,21,FALSE)<>\"\",HLOOKUP(TEXT($N$7&1,\"#,##0\")*1,入力用!$B$18:$IL$73,21,FALSE),\"\"),\"\")","v":""},null,null,null,null,null,null,null,null,null,null,null,null,null,null,null,null,null,null,null,null,null,null,null,null,null,null,null,null,null,null,null,null,null,null,null,null,null,null,"  （本人が納付）",null,null,null,null,null,null,null,null,null,null,null,null,null,null,null,null,null,null,null,null,null,null,null,null,null,null,null,null,null,null,null,{"$f":"+IF($N$7<>\"\",IF(HLOOKUP(TEXT($N$7&1,\"#,##0\")*1,入力用!$B$18:$IL$73,29,FALSE)<>\"\",HLOOKUP(TEXT($N$7&1,\"#,##0\")*1,入力用!$B$18:$IL$73,29,FALSE),\"\"),\"\")","v":""}]
[null,null,null,null,null,null,null,null,null,null,null,null,null,null,null,null,null,null,null,null,null,null,null,null,null,null,null,null,null,null,null,null,null,null,null,null,null,null,null,null,null,null,null,null,null,null,null,null,null,null,null,null,null,null,null,null,null,null,null,null,null,null,null,null,null,null,null,null,null,null,null,null,null,null,null,null,null,null,null,null,null,null,null,null,null,null,null,null,null,null,null,null,null,null,null,null,null,null,null,null,null,null,null,null,null,null,null,null,null,null,null,null,null,null,null,null,null,null,null,null,null,null,null,null,null,null,null,null,null,null,null,null,null,null,null,null,null,null,null,null,null,null,null,null,null,null,null,null,null,null,null,null,null,null,null,null,null,null,null,null,null,null,null,null,null,null,null,null,null,null,null,null,null,null,null,null,null,null,null,null,null,null,null,null,null,null,null,null,null,null,null,null,null,null,null,null,null,null,null,null,null,null,null,null,null,null,null,null,null,null,null,null,null,null,null,null,null,null,null,null,null,null,null,null,null,null,null,null,null,null,null,null,null,null,null,null,null,null,null,null,null,null,null,null,null,null,null,null,null,null,null,null,null,null,null,null,null,null,null,null,null,null,null,null,null,null,"一括徴収の本人申出がないため",1,"1.異動年月日が6月1日から12月31日でかつ本人からの申出がないため。"]
[null,null,null,null,null,null,null,null,null,null,null,null,null,null,null,null,null,null,null,null,null,null,null,null,null,null,null,null,null,null,null,null,null,null,null,null,null,null,null,null,null,null,null,null,null,null,null,null,null,null,null,null,null,null,null,null,null,null,null,null,null,null,null,null,null,null,null,null,null,null,null,null,null,null,null,null,null,null,null,null,null,null,null,null,null,null,null,null,null,null,null,null,null,null,null,null,null,null,null,null,null,null,null,null,null,null,null,null,null,null,null,null,null,null,null,null,null,null,null,null,null,null,null,null,null,null,null,null,null,null,null,null,null,null,null,null,null,null,null,null,null,null,null,null,null,null,null,null,null,null,null,null,null,null,null,null,null,null,null,null,null,null,null,null,null,null,null,null,null,null,null,null,null,null,null,null,null,null,null,null,null,null,null,null,null,null,null,null,null,null,null,null,null,null,null,null,null,null,null,null,null,null,null,null,null,null,null,null,null,null,null,null,null,null,null,null,null,null,null,null,null,null,null,null,null,null,null,null,null,null,null,null,null,null,null,null,null,null,null,null,null,null,null,null,null,null,null,null,null,null,null,null,null,null,null,null,null,null,null,null,null,null,null,null,null,null,"給与及び退職手当等から未徴収税額を一括徴収できないため",2,"2.異動年月日が1月1日から4月30日でかつ給与及び退職手当等から未徴収税額(ウ)を一括徴収できないため。"]
[null,null,null,null,null,null,null,null,null,null,null,null,null,null,null,null,null,null,null,null,null,null,null,null,null,null,null,null,null,null,null,null,null,null,null,null,null,null,null,null,null,null,null,null,null,null,null,null,null,null,null,null,null,null,null,null,null,null,null,null,null,null,null,null,null,null,null,null,null,null,null,null,null,null,null,null,null,null,null,null,null,null,null,null,null,null,null,null,null,null,null,null,null,null,null,null,null,null,null,null,null,null,null,null,null,null,null,null,null,null,null,null,null,null,null,null,null,null,null,null,null,null,null,null,null,null,null,null,null,null,null,null,null,null,null,null,null,null,null,null,null,null,null,null,null,null,null,null,null,null,null,null,null,null,null,null,null,null,null,null,null,null,null,null,null,null,null,null,null,null,null,null,null,null,null,null,null,null,null,null,null,null,null,null,null,null,null,null,null,null,null,null,null,null,null,null,null,null,null,null,null,null,null,null,null,null,null,null,null,null,null,null,null,null,null,null,null,null,null,null,null,null,null,null,null,null,null,null,null,null,null,null,null,null,null,null,null,null,null,null,null,null,null,null,null,null,null,null,null,null,null,null,null,null,null,null,null,null,null,null,null,null,null,null,null,null,"死亡による退職のため",3,"3.死亡による退職のため。"]
[]
[null,null,null,null,null,null,null,null,null,null,null,null,null,null,null,null,null,null,null,null," 1⃣ 特別徴収継続の場合（給与所得者が、新しい勤務先で特別徴収を希望する場合に記入してください。）"]
[null,null,null,null,null,null,null,null,null,null,null,null,null,null,null,null,null,null,null,null,null,null,null,null,null,null,null,null,null,null,null,null,null,null,null,null,null,null,null,null,null,null,null,null,null,null,null,null,null,null,null,null,null,null,null,null,null,null,null,null,null,null,null,null,null,null,null,null,null,null,null,null,null,null,null,null,null,null,null,null,null,null,null,null,null,null,null,null,null,null,null,null,null,null,null,null,null,null,null,null,null,null,null,null,null,null,null,null,null,null,null,null,null,null,null,null,null,null,null,null,null,null,null,null,null,null,null,null,null,null,null,null,null,null,null,null,null,null,null,null,null,null,null,null,null,null,null,null,null,null,null,null,null,null,null,null,null,null,null,null,null,null,null,null,null,null,null,null,null,null,null,null,null,null,null,null,null,null,null,null,null,null,null,null,null,null,null,null,null,null,null,null,null,null,null,null,null,null,null,null,null,null,null,null,null,null,null,null,null,null,null,null,null,null,null,null,null,null,null,null,null,null,null,null,null,null,null,null,null,null,null,null,null,null,null,null,null,null,null,null,null,null,null,null,null,null,null,null,null,null,null,null,null,null,null,null,null,null,null,null,null,null,null,null,null,null,"退職理由番号反映用"]
[null,null,null,null,null,null,null,null,null,null,null,null,null,null,null,null,null,null,null,null,null,null,null,null,null,null,null,null,null,null,null,null,null,null,null,null,null,null,null,null,null,null,null,null,null,null,null,null,null,null,null,null,null,null,null,null,null,null,null,null,null,null,null,null,null,null,null,null,null,null,null,null,null,null,null,null,null,null,null,null,null,null,null,null,null,null,null,null,null,null,null,null,null,null,null,null,null,null,null,null,null,null,null,null,null,null,null,null,null,null,null,null,null,null,null,null,null,null,null,null,null,null,null,null,null,null,null,null,null,null,null,null,null,null,null,null,null,null,null,null,null,null,null,null,null,null,null,null,null,null,null,null,null,null,null,null,null,null,null,null,null,null,null,null,null,null,null,null,null,null,null,null,null,null,null,null,null,null,null,null,null,null,null,null,null,null,null,null,null,null,null,null,null,null,null,null,null,null,null,null,null,null,null,null,null,null,null,null,null,null,null,null,null,null,null,null,null,null,null,null,null,null,null,null,null,null,null,null,null,null,null,null,null,null,null,null,null,null,null,null,null,null,null,null,null,null,null,null,null,null,null,null,null,null,null,null,null,null,null,null,null,null,null,null,null,null,{"$f":"+IF($N$7<>\"\",IF(HLOOKUP(TEXT($N$7&1,\"#,##0\")*1,入力用!$B$18:$IL$73,20,FALSE)<>\"\",HLOOKUP(TEXT($N$7&1,\"#,##0\")*1,入力用!$B$18:$IL$73,20,FALSE),\"\"),\"\")","v":""}]
[null,null,null,null,null,null,null,null,null,null,null,null,null,null,null,null,null,null,null,null,"新しい\n勤務先\n(特別\n徴収義\n務者)",null,null,null,null,null,null,null,null,"所在地",null,null,"〒",null,null,null,null,null,null,null,null,null,null,null,null,null,null,null,null,null,null,null,null,null,null,null,null,null,null,null,null,null,null,null,null,null,null,null,null,null,null,null,null,null,null,null,null,null,null,null,null,null,null,null,null,null,null,null,null,null,null,null,null,null,null,null,null,null,null,null,null,null,null,null,null,null,null,null,null,null,null,null,null,null,null,null,null,null,null,null,null,null,null,"特別徴収指定番号",null,null,null,null,null,null,null,null,null,null,null,null,null,null,null,null,null,null,null,null,null,null,null,null,null,null,null,null,null,null,"担 当 者",null,null,"氏　名",null,null,{"$f":"+IF($N$7<>\"\",IF((HLOOKUP(TEXT($N$7&1,\"#,##0\")*1,入力用!$B$18:$IL$77,42,FALSE)&HLOOKUP(TEXT($N$7&1,\"#,##0\")*1,入力用!$B$18:$IL$77,42,FALSE))<>\"\",(HLOOKUP(TEXT($N$7&1,\"#,##0\")*1,入力用!$B$18:$IL$77,42,FALSE)&\"　\"&HLOOKUP(TEXT($N$7&1,\"#,##0\")*1,入力用!$B$18:$IL$77,43,FALSE)),\"\"),\"\")","v":""},null,null,null,null,null,null,null,null,null,null,null,null,null,null,null,null,null,null,null,null,null,null,null,null,null,null,null,null,null,null,null,null," 新しい勤務先へは、",null,null,null,null,null,null,null,null,null,null,null,null,null,null,null,null,null,null,null,null,null,null,null,null,null,null,null,null,null,null,null,null,null,null,null,null,null,null,null,null,null,null,null,null,null,null,null,null,null,null,null,null,null,null,null,null,null,null,null,null,null,null,null,null,null,null,null,null,null,null,null,null,"1　転勤・転籍",1]
[null,null,null,null,null,null,null,null,null,null,null,null,null,null,null,null,null,null,null,null,null,null,null,null,null,null,null,null,null,null,null,null,null,null,null,{"$f":"+IF($N$7<>\"\",IF(HLOOKUP(TEXT($N$7&1,\"#,##0\")*1,入力用!$B$18:$IL$73,36,FALSE)<>\"\",HLOOKUP(TEXT($N$7&1,\"#,##0\")*1,入力用!$B$18:$IL$73,36,FALSE),\"\"),\"\")","v":""},null,null,null,null,null,null,null,null,null,null,"-",null,{"$f":"+IF($N$7<>\"\",IF(HLOOKUP(TEXT($N$7&4,\"#,##0\")*1,入力用!$B$18:$IL$73,36,FALSE)<>\"\",HLOOKUP(TEXT($N$7&4,\"#,##0\")*1,入力用!$B$18:$IL$73,36,FALSE),\"\"),\"\")","v":""},null,null,null,null,null,null,null,null,null,null,null,null,null,null,null,null,null,null,null,null,null,null,null,null,null,null,null,null,null,null,null,null,null,null,null,null,null,null,null,null,null,null,null,null,null,null,null,null,null,null,null,null,null,null,null,null,null,null,null,null,null,null,null,null,null,null,null,null,null,null,null,null,null,null,null,null,null,null,null,null,null,null,null,null,null,null,null,null,null,null,null,null,null,null,null,null,null,null,null,null,null,null,null,null,null,null,null,null,null,null,null,null,null,null,null,null,null,null,null,null,null,null,null,null,null,null,null,null,null,null,null,null,null,null,null,null,null,null,null,null,null,null,null,null,null,null,null,null,null,null,null,null,null,null,null,null,null,null,null,null,null,null,null,null,null,null,null,null,null,null,null,null,null,null,null,null,null,null,null,null,null,null,null,null,null,null,null,null,null,null,null,null,null,null,null,null,null,null,null,null,null,null,null,null,null,null,null,null,null,null,null,null,null,null,null,null,null,"2　退職",2]
[null,null,null,null,null,null,null,null,null,null,null,null,null,null,null,null,null,null,null,null,null,null,null,null,null,null,null,null,null,null,null,null,null,null,null,null,null,null,null,null,null,null,null,null,null,null,null,null,null,null,null,null,null,null,null,null,null,null,null,null,null,null,null,null,null,null,null,null,null,null,null,null,null,null,null,null,null,null,null,null,null,null,null,null,null,null,null,null,null,null,null,null,null,null,null,null,null,null,null,null,null,null,null,null,null,null,null,null,null,null,null,null,null,null,null,null,null,null,null,null,null,null,null,null,null,null,null,null,null,null,null,null,null,null,null,null,null,null,null,null,null,null,null,null,null,null,null,null,null,null,null,null,null,null,null,null,null,null,null,null,null,null,null,null,null,null,null,null,null,null,null,null,null,null,null,null,null,null,null,null,null,null,null,null,null,null,null,null,null,null,null,null,null,"月割額",null,null,null,null,null,null,null,null,null,null,"円",null,null,null,null,null,null,null,null,null,null,null,null,null,null,null,null,null,null,null,null,null,null,null,null,null,null,null,null,null,null,null,null,null,null,null,null,null,null,null,null,null,null,null,null,null,null,null,null,null,null,null,null,null,null,null,null,null,null,null,null,null,"3　死亡",3]
[null,null,null,null,null,null,null,null,null,null,null,null,null,null,null,null,null,null,null,null,null,null,null,null,null,null,null,null,null,null,null,null,{"$f":"+IF($N$7<>\"\",IF(HLOOKUP(TEXT($N$7&1,\"#,##0\")*1,入力用!$B$18:$IL$73,37,FALSE)&HLOOKUP(TEXT($N$7&1,\"#,##0\")*1,入力用!$B$18:$IL$73,38,FALSE)&HLOOKUP(TEXT($N$7&1,\"#,##0\")*1,入力用!$B$18:$IL$73,39,FALSE)&HLOOKUP(TEXT($N$7&1,\"#,##0\")*1,入力用!$B$18:$IL$73,40,FALSE)&HLOOKUP(TEXT($N$7&1,\"#,##0\")*1,入力用!$B$18:$IL$73,41,FALSE)<>\"\",HLOOKUP(TEXT($N$7&1,\"#,##0\")*1,入力用!$B$18:$IL$73,37,FALSE)&HLOOKUP(TEXT($N$7&1,\"#,##0\")*1,入力用!$B$18:$IL$73,38,FALSE)&HLOOKUP(TEXT($N$7&1,\"#,##0\")*1,入力用!$B$18:$IL$73,39,FALSE)&HLOOKUP(TEXT($N$7&1,\"#,##0\")*1,入力用!$B$18:$IL$73,40,FALSE)&HLOOKUP(TEXT($N$7&1,\"#,##0\")*1,入力用!$B$18:$IL$73,41,FALSE),\"\"),\"\")","v":""},null,null,null,null,null,null,null,null,null,null,null,null,null,null,null,null,null,null,null,null,null,null,null,null,null,null,null,null,null,null,null,null,null,null,null,null,null,null,null,null,null,null,null,null,null,null,null,null,null,null,null,null,null,null,null,null,null,null,null,null,null,null,null,null,null,null,null,null,null,null,null,null,null,null,null,null,null,null,null,null,null,null,null,null,null,null,null,null,null,null,{"$f":"+IF($N$7<>\"\",IF((HLOOKUP(TEXT($N$7&1,\"#,##0\")*1,入力用!$B$18:$IL$73,32,FALSE)&HLOOKUP(TEXT($N$7&2,\"#,##0\")*1,入力用!$B$18:$IL$73,32,FALSE)&HLOOKUP(TEXT($N$7&3,\"#,##0\")*1,入力用!$B$18:$IL$73,32,FALSE)&HLOOKUP(TEXT($N$7&4,\"#,##0\")*1,入力用!$B$18:$IL$73,32,FALSE)&HLOOKUP(TEXT($N$7&5,\"#,##0\")*1,入力用!$B$18:$IL$73,32,FALSE)&HLOOKUP(TEXT($N$7&6,\"#,##0\")*1,入力用!$B$18:$IL$73,31,FALSE))<>\"\",(HLOOKUP(TEXT($N$7&1,\"#,##0\")*1,入力用!$B$18:$IL$73,32,FALSE)&HLOOKUP(TEXT($N$7&2,\"#,##0\")*1,入力用!$B$18:$IL$73,32,FALSE)&HLOOKUP(TEXT($N$7&3,\"#,##0\")*1,入力用!$B$18:$IL$73,32,FALSE)&HLOOKUP(TEXT($N$7&4,\"#,##0\")*1,入力用!$B$18:$IL$73,32,FALSE)&HLOOKUP(TEXT($N$7&5,\"#,##0\")*1,入力用!$B$18:$IL$73,32,FALSE)&HLOOKUP(TEXT($N$7&6,\"#,##0\")*1,入力用!$B$18:$IL$73,32,FALSE)),\"\"),\"\")","v":""},null,null,null,null,null,null,null,null,null,null,null,null,null,null,null,null,null,null,null,null,null,null,null,null,null,null,null,null,null,null,null,null,null,null,null,null,null,null,null,null,null,null,null,null,null,null,null,null,null,null,null,null,null,null,null,null,null,null,null,null,null,null,null,null,null,null,null,null,null,null,null,null,null,null,null,null,null,null,null,null,{"$f":"+IF($N$7<>\"\",IF(HLOOKUP(TEXT($N$7&1,\"#,##0\")*1,入力用!$B$18:$IL$73,46,FALSE)<>\"\",HLOOKUP(TEXT($N$7&1,\"#,##0\")*1,入力用!$B$18:$IL$73,46,FALSE),\"\"),\"\")","v":""},null,null,null,null,null,null,null,null,null,null,null,null,null,null,null,null,null,null,null,null,null,"を",null,null,null,null,null,null,{"$f":"+IF($N$7<>\"\",IF(HLOOKUP(TEXT($N$7&1,\"#,##0\")*1,入力用!$B$18:$IL$73,47,FALSE)<>\"\",HLOOKUP(TEXT($N$7&1,\"#,##0\")*1,入力用!$B$18:$IL$73,47,FALSE),\"\"),\"\")","v":""},null,null,null,null,null,null,null,null,null,"  月分",null,null,null,null,null,null,null,null,null,null,null,null,null,null,null,null,null,null,null,null,null,null,"4　休職",4]
[null,null,null,null,null,null,null,null,null,null,null,null,null,null,null,null,null,null,null,null,null,null,null,null,null,null,null,null,null,null,null,null,null,null,null,null,null,null,null,null,null,null,null,null,null,null,null,null,null,null,null,null,null,null,null,null,null,null,null,null,null,null,null,null,null,null,null,null,null,null,null,null,null,null,null,null,null,null,null,null,null,null,null,null,null,null,null,null,null,null,null,null,null,null,null,null,null,null,null,null,null,null,null,null,null,null,null,null,null,null,null,null,null,null,null,null,null,null,null,null,null,null,null,null,null,null,null,null,null,null,null,null,null,null,null,null,null,null,null,null,null,null,null,null,null,null,null,null,null,null,null,null,null,null,null,null,null,null,null,null,null,null,null,null,null,null,null,null,null,null,null,null,null,null,null,null,null,null,null,null,null,null,null,null,null,null,null,null,null,null,null,null,null,null,null,null,null,null,null,null,null,null,null,null,null,null,null,null,null,null,null,null,null,null,null,null,null,null,null,null,null,null,null,null,null,null,null,null,null,null,null,null,null,null,null,null,null,null,null,null,null,null,null,null,null,null,null,null,null,null,null,null,null,null,null,null,null,null,null,null,null,null,null,null,null,null,"5　長欠",5]
[null,null,null,null,null,null,null,null,null,null,null,null,null,null,null,null,null,null,null,null,null,null,null,null,null,null,null,null,null,null,null,null,null,null,null,null,null,null,null,null,null,null,null,null,null,null,null,null,null,null,null,null,null,null,null,null,null,null,null,null,null,null,null,null,null,null,null,null,null,null,null,null,null,null,null,null,null,null,null,null,null,null,null,null,null,null,null,null,null,null,null,null,null,null,null,null,null,null,null,null,null,null,null,null,null,null,null,null,null,null,null,null,null,null,null,null,null,null,null,null,null,null,null,null,null,null,null,null,null,null,null,null,null,null,null,null,null,null,null,null,null,null,null,null,null,null,null,null,null,null,null,null,null,null,null,null,null,"電話",null,null,{"$f":"+IF($N$7<>\"\",IF(HLOOKUP(TEXT($N$7&1,\"#,##0\")*1,入力用!$B$18:$IL$73,44,FALSE)<>\"\",HLOOKUP(TEXT($N$7&1,\"#,##0\")*1,入力用!$B$18:$IL$73,44,FALSE),\"\"),\"\")","v":""},null,null,null,null,null,null,null,null,"-",null,{"$f":"+IF($N$7<>\"\",IF(HLOOKUP(TEXT($N$7&3,\"#,##0\")*1,入力用!$B$18:$IL$73,44,FALSE)<>\"\",HLOOKUP(TEXT($N$7&3,\"#,##0\")*1,入力用!$B$18:$IL$73,44,FALSE),\"\"),\"\")","v":""},null,null,null,null,null,null,null,null,null,"-",null,{"$f":"+IF($N$7<>\"\",IF(HLOOKUP(TEXT($N$7&5,\"#,##0\")*1,入力用!$B$18:$IL$73,44,FALSE)<>\"\",HLOOKUP(TEXT($N$7&5,\"#,##0\")*1,入力用!$B$18:$IL$73,44,FALSE),\"\"),\"\")","v":""},null,null,null,null,null,null,null,null,null,null,null,null,null,null,null,null,null,null,null,null,null,null,null,null,null,null,null,null,null,null,null,null,null,null,null,null,null,null,null,null,null,null,null,null,null,null,null,null,null,null,null,null,null,null,null,null,null,null,null,null,null,null,null,null,null,null,null,null,null,null,null,null,null,null,null,null,null,null,null,null,null,null,"6　支払少額",6]
[null,null,null,null,null,null,null,null,null,null,null,null,null,null,null,null,null,null,null,null,null,null,null,null,null,null,null,null,null,null,null,null,null,null,null,null,null,null,null,null,null,null,null,null,null,null,null,null,null,null,null,null,null,null,null,null,null,null,null,null,null,null,null,null,null,null,null,null,null,null,null,null,null,null,null,null,null,null,null,null,null,null,null,null,null,null,null,null,null,null,null,null,null,null,null,null,null,null,null,null,null,null,null,null,null,null,null,null,null,null,null,null,null,null,null,null,null,null,null,null,null,null,null,null,null,null,null,null,null,null,null,null,null,null,null,null,null,null,null,null,null,null,null,null,null,null,null,null,null,null,null,null,null,null,null,null,null,null,null,null,null,null,null,null,null,null,null,null,null,null,null,null,null,null,null,null,null,null,null,null,null,null,null,null,null,null,null,null,null,null,null,null,null,"（翌月10日納期限）から徴収し、納入するよう連絡済みです。",null,null,null,null,null,null,null,null,null,null,null,null,null,null,null,null,null,null,null,null,null,null,null,null,null,null,null,null,null,null,null,null,null,null,null,null,null,null,null,null,null,null,null,null,null,null,null,null,null,null,null,null,null,null,null,null,null,null,null,null,null,null,null,null,null,null,null,null,null,null,null,null,"7　支払不定期",7]
[null,null,null,null,null,null,null,null,null,null,null,null,null,null,null,null,null,null,null,null,null,null,null,null,null,null,null,null,null,null,null,null,null,null,null,null,null,null,null,null,null,null,null,null,null,null,null,null,null,null,null,null,null,null,null,null,null,null,null,null,null,null,null,null,null,null,null,null,null,null,null,null,null,null,null,null,null,null,null,null,null,null,null,null,null,null,null,null,null,null,null,null,null,null,null,null,null,null,null,null,null,null,null,null,null,null,null,null,null,null,null,null,null,null,null,null,null,null,null,null,null,null,null,null,null,null,null,null,null,null,null,null,null,null,null,null,null,null,null,null,null,null,null,null,null,null,null,null,null,null,null,null,null,null,null,null,null,null,null,null,null,null,null,null,null,null,null,null,null,null,null,null,null,null,null,null,null,null,null,null,null,null,null,null,null,null,null,null,null,null,null,null,null,null,null,null,null,null,null,null,null,null,null,null,null,null,null,null,null,null,null,null,null,null,null,null,null,null,null,null,null,null,null,null,null,null,null,null,null,null,null,null,null,null,null,null,null,null,null,null,null,null,null,null,null,null,null,null,null,null,null,null,null,null,null,null,null,null,null,null,null,null,null,null,null,null,"8　その他",8]
[null,null,null,null,null,null,null,null,null,null,null,null,null,null,null,null,null,null,null,null,null,null,null,null,null,null,null,null,null,null,null,null,null,null,null,null,null,null,null,null,null,null,null,null,null,null,null,null,null,null,null,null,null,null,null,null,null,null,null,null,null,null,null,null,null,null,null,null,null,null,null,null,null,null,null,null,null,null,null,null,null,null,null,null,null,null,null,null,null,null,null,null,null,null,null,null,null,null,null,null,null,null,null,null,null,null,null,null,null,null,null,null,null,null,null,null,null,null,null,null,null,null,null,null,null,null,null,null,null,null,null,null,null,null,null,null,null,null,null,null,null,null,null,null,null,null,null,null,null,null,null,null,null,null,null,null,null,null,null,null,null,null,null,null,null,null,null,null,null,null,null,null,null,null,null,null,null,null,null,null,null,null,null,null,null,null,null,null,null,null,null,null,null,"※新しい勤務先へ月割額をお伝えください。"]
[null,null,null,null,null,null,null,null,null,null,null,null,null,null,null,null,null,null,null,null,null,null,null,null,null,null,null,null,null,"名称",null,null,"フリ\nガナ",null,null,null,null,null,null,null,{"$f":"+IF($N$7<>\"\",IF(HLOOKUP(TEXT($N$7&1,\"#,##0\")*1,入力用!$B$18:$IL$73,33,FALSE)<>\"\",HLOOKUP(TEXT($N$7&1,\"#,##0\")*1,入力用!$B$18:$IL$73,33,FALSE),\"\"),\"\")","v":""},null,null,null,null,null,null,null,null,null,null,null,null,null,null,null,null,null,null,null,null,null,null,null,null,null,null,null,null,null,null,null,null,null,null,null,null,null,null,null,null,null,null,null,null,null,null,null,null,null,null,null,null,null,null,null,null,null,null,null,null,null,null,null,null,null,null,null,null,null,null,null,null,null,null,null,null,null,null,null,null,null,null,"法人\n番号",null,null,null,null,{"$f":"+IF($N$7<>\"\",IF(HLOOKUP(TEXT($N$7&1,\"#,##0\")*1,入力用!$B$18:$IL$73,35,FALSE)<>\"\",MID(HLOOKUP(TEXT($N$7&1,\"#,##0\")*1,入力用!$B$18:$IL$73,35,FALSE),1,1),\"\"),\"\")","v":""},null,null,null,null,{"$f":"+IF($N$7<>\"\",IF(HLOOKUP(TEXT($N$7&1,\"#,##0\")*1,入力用!$B$18:$IL$73,35,FALSE)<>\"\",MID(HLOOKUP(TEXT($N$7&1,\"#,##0\")*1,入力用!$B$18:$IL$73,35,FALSE),2,1),\"\"),\"\")","v":""},null,null,null,null,{"$f":"+IF($N$7<>\"\",IF(HLOOKUP(TEXT($N$7&1,\"#,##0\")*1,入力用!$B$18:$IL$73,35,FALSE)<>\"\",MID(HLOOKUP(TEXT($N$7&1,\"#,##0\")*1,入力用!$B$18:$IL$73,35,FALSE),3,1),\"\"),\"\")","v":""},null,null,null,null,{"$f":"+IF($N$7<>\"\",IF(HLOOKUP(TEXT($N$7&1,\"#,##0\")*1,入力用!$B$18:$IL$73,35,FALSE)<>\"\",MID(HLOOKUP(TEXT($N$7&1,\"#,##0\")*1,入力用!$B$18:$IL$73,35,FALSE),4,1),\"\"),\"\")","v":""},null,null,null,null,{"$f":"+IF($N$7<>\"\",IF(HLOOKUP(TEXT($N$7&1,\"#,##0\")*1,入力用!$B$18:$IL$73,35,FALSE)<>\"\",MID(HLOOKUP(TEXT($N$7&1,\"#,##0\")*1,入力用!$B$18:$IL$73,35,FALSE),5,1),\"\"),\"\")","v":""},null,null,null,null,{"$f":"+IF($N$7<>\"\",IF(HLOOKUP(TEXT($N$7&1,\"#,##0\")*1,入力用!$B$18:$IL$73,35,FALSE)<>\"\",MID(HLOOKUP(TEXT($N$7&1,\"#,##0\")*1,入力用!$B$18:$IL$73,35,FALSE),6,1),\"\"),\"\")","v":""},null,null,null,null,{"$f":"+IF($N$7<>\"\",IF(HLOOKUP(TEXT($N$7&1,\"#,##0\")*1,入力用!$B$18:$IL$73,35,FALSE)<>\"\",MID(HLOOKUP(TEXT($N$7&1,\"#,##0\")*1,入力用!$B$18:$IL$73,35,FALSE),7,1),\"\"),\"\")","v":""},null,null,null,null,{"$f":"+IF($N$7<>\"\",IF(HLOOKUP(TEXT($N$7&1,\"#,##0\")*1,入力用!$B$18:$IL$73,35,FALSE)<>\"\",MID(HLOOKUP(TEXT($N$7&1,\"#,##0\")*1,入力用!$B$18:$IL$73,35,FALSE),8,1),\"\"),\"\")","v":""},null,null,null,null,{"$f":"+IF($N$7<>\"\",IF(HLOOKUP(TEXT($N$7&1,\"#,##0\")*1,入力用!$B$18:$IL$73,35,FALSE)<>\"\",MID(HLOOKUP(TEXT($N$7&1,\"#,##0\")*1,入力用!$B$18:$IL$73,35,FALSE),9,1),\"\"),\"\")","v":""},null,null,null,null,{"$f":"+IF($N$7<>\"\",IF(HLOOKUP(TEXT($N$7&1,\"#,##0\")*1,入力用!$B$18:$IL$73,35,FALSE)<>\"\",MID(HLOOKUP(TEXT($N$7&1,\"#,##0\")*1,入力用!$B$18:$IL$73,35,FALSE),10,1),\"\"),\"\")","v":""},null,null,null,null,{"$f":"+IF($N$7<>\"\",IF(HLOOKUP(TEXT($N$7&1,\"#,##0\")*1,入力用!$B$18:$IL$73,35,FALSE)<>\"\",MID(HLOOKUP(TEXT($N$7&1,\"#,##0\")*1,入力用!$B$18:$IL$73,35,FALSE),11,1),\"\"),\"\")","v":""},null,null,null,null,{"$f":"+IF($N$7<>\"\",IF(HLOOKUP(TEXT($N$7&1,\"#,##0\")*1,入力用!$B$18:$IL$73,35,FALSE)<>\"\",MID(HLOOKUP(TEXT($N$7&1,\"#,##0\")*1,入力用!$B$18:$IL$73,35,FALSE),12,1),\"\"),\"\")","v":""},null,null,null,null,{"$f":"+IF($N$7<>\"\",IF(HLOOKUP(TEXT($N$7&1,\"#,##0\")*1,入力用!$B$18:$IL$73,35,FALSE)<>\"\",MID(HLOOKUP(TEXT($N$7&1,\"#,##0\")*1,入力用!$B$18:$IL$73,35,FALSE),13,1),\"\"),\"\")","v":""},null,null,null,null,null,null,null,null,null,null,null,null,null,null,null,null,null,null,null,null,null,null,null,null,null,null,null,null,null,null,null,null,null,null,null,null,null,null,null,null,null,null,null,null,null,null,null,null,null,null,null,null,null,null,null,null,null,null,null,null,null,null,null,null,null,null,null,null,null,null,null,null,null,null,null,null,null,"納入書の要否反映用"]
[null,null,null,null,null,null,null,null,null,null,null,null,null,null,null,null,null,null,null,null,null,null,null,null,null,null,null,null,null,null,null,null,null,null,null,null,null,null,null,null,null,null,null,null,null,null,null,null,null,null,null,null,null,null,null,null,null,null,null,null,null,null,null,null,null,null,null,null,null,null,null,null,null,null,null,null,null,null,null,null,null,null,null,null,null,null,null,null,null,null,null,null,null,null,null,null,null,null,null,null,null,null,null,null,null,null,null,null,null,null,null,null,null,null,null,null,null,null,null,null,null,null,null,null,null,null,null,null,null,null,null,null,null,null,null,null,null,null,null,null,null,null,null,null,null,null,null,null,null,null,null,null,null,null,null,null,null,null,null,null,null,null,null,null,null,null,null,null,null,null,null,null,null,null,null,null,null,null,null,null,null,null,null,null,null,null,null,null,null,null,null,null,null,"受給者番号",null,null,null,null,null,null,null,null,null,null,null,null,null,null,null,null,null,null,null,{"$f":"+IF($N$7<>\"\",IF(HLOOKUP(TEXT($N$7&1,\"#,##0\")*1,入力用!$B$18:$IL$73,48,FALSE)<>\"\",HLOOKUP(TEXT($N$7&1,\"#,##0\")*1,入力用!$B$18:$IL$73,48,FALSE),\"\"),\"\")","v":""},null,null,null,null,null,null,null,null,null,null,null,null,null,null,null,null,null,null,null,null,null,null,null,null,null,null,null,null,null,null,null,null,null,null,null,null,null,null,null,null,null,null,null,null,null,null,null,null,null,null,null,null,{"$f":"+IF($N$7<>\"\",IF(HLOOKUP(TEXT($N$7&1,\"#,##0\")*1,入力用!$B$18:$IL$73,20,FALSE)<>\"\",HLOOKUP(TEXT($N$7&1,\"#,##0\")*1,入力用!$B$18:$IL$73,49,FALSE),\"\"),\"\")","v":""}]
[null,null,null,null,null,null,null,null,null,null,null,null,null,null,null,null,null,null,null,null,null,null,null,null,null,null,null,null,null,null,null,null,null,null,null,null,null,null,null,null,null,null,null,null,null,null,null,null,null,null,null,null,null,null,null,null,null,null,null,null,null,null,null,null,null,null,null,null,null,null,null,null,null,null,null,null,null,null,null,null,null,null,null,null,null,null,null,null,null,null,null,null,null,null,null,null,null,null,null,null,null,null,null,null,null,null,null,null,null,null,null,null,null,null,null,null,null,null,null,null,null,null,null,null,null,null,null,null,null,null,null,null,null,null,null,null,null,null,null,null,null,null,null,null,null,null,null,null,null,null,null,null,null,null,null,null,null,null,null,null,null,null,null,null,null,null,null,null,null,null,null,null,null,null,null,null,null,null,null,null,null,null,null,null,null,null,null,null,null,null,null,null,null,null,null,null,null,null,null,null,null,null,null,null,null,null,null,null,null,null,null,null,null,null,null,null,null,null,null,null,null,null,null,null,null,null,null,null,null,null,null,null,null,null,null,null,null,null,null,null,null,null,null,null,null,null,null,null,null,null,null,null,null,null,null,null,null,null,null,null,null,null,null,null,null,null,"1　必要",1,null,"１　必要"]
[null,null,null,null,null,null,null,null,null,null,null,null,null,null,null,null,null,null,null,null,null,null,null,null,null,null,null,null,null,null,null,null,{"$f":"+IF($N$7<>\"\",IF(HLOOKUP(TEXT($N$7&1,\"#,##0\")*1,入力用!$B$18:$IL$73,34,FALSE)<>\"\",HLOOKUP(TEXT($N$7&1,\"#,##0\")*1,入力用!$B$18:$IL$73,34,FALSE),\"\"),\"\")","v":""},null,null,null,null,null,null,null,null,null,null,null,null,null,null,null,null,null,null,null,null,null,null,null,null,null,null,null,null,null,null,null,null,null,null,null,null,null,null,null,null,null,null,null,null,null,null,null,null,null,null,null,null,null,null,null,null,null,null,null,null,null,null,null,null,null,null,null,null,null,null,null,null,null,null,null,null,null,null,null,null,null,null,null,null,null,null,null,null,null,null,null,null,null,null,null,null,null,null,null,null,null,null,null,null,null,null,null,null,null,null,null,null,null,null,null,null,null,null,null,null,null,null,null,null,null,null,null,null,null,null,null,null,null,null,null,null,null,null,null,null,null,null,null,null,null,null,null,null,null,null,null,null,null,null,null,null,null,null,null,null,null,null,null,null,null,null,null,null,null,null,null,null,null,null,null,null,null,null,null,null,null,null,null,null,null,null,null,null,null,null,null,null,null,null,null,null,null,null,null,null,null,null,null,null,null,null,null,null,null,null,null,null,null,null,null,null,null,null,null,null,null,null,null,null,null,null,null,null,null,null,null,null,null,"2　不要",2,null,"２　不要"]
[null,null,null,null,null,null,null,null,null,null,null,null,null,null,null,null,null,null,null,null,null,null,null,null,null,null,null,null,null,null,null,null,null,null,null,null,null,null,null,null,null,null,null,null,null,null,null,null,null,null,null,null,null,null,null,null,null,null,null,null,null,null,null,null,null,null,null,null,null,null,null,null,null,null,null,null,null,null,null,null,null,null,null,null,null,null,null,null,null,null,null,null,null,null,null,null,null,null,null,null,null,null,null,null,null,null,null,null,null,null,null,null,null,null,null,null,null,null,null,null,null,null,null,null,null,null,null,null,null,null,null,null,null,null,null,null,null,null,null,null,null,null,null,null,null,null,null,null,null,null,null,null,null,null,null,null,null,null,null,null,null,null,null,null,null,null,null,null,null,null,null,null,null,null,null,null,null,null,null,null,null,null,null,null,null,null,null,null,null,null,null,null,null,"納入書の要否",null,null,null,null,null,null,null,null,null,null,null,null,null,null,null,null,null,null,null,{"$f":"+IF($N$7<>\"\",LEFT(IF(HLOOKUP(TEXT($N$7&1,\"#,##0\")*1,入力用!$B$18:$IL$73,49,FALSE)<>\"\",HLOOKUP(TEXT($N$7&1,\"#,##0\")*1,入力用!$B$18:$IL$73,49,FALSE),\"\"),1),\"\")","v":""},null,null,null,null,null,null,null,"番号を記入\n←",null,null,null,null,null,null,null,null,null,null," 1⃣　必要　2⃣　不要"]
[null,null,null,null,null,null,null,null,null,null,null,null,null,null,null,null,null,null,null,null,null,null,null,null,null,null,null,null,null,null,null,null,null,null,null,null,null,null,null,null,null,null,null,null,null,null,null,null,null,null,null,null,null,null,null,null,null,null,null,null,null,null,null,null,null,null,null,null,null,null,null,null,null,null,null,null,null,null,null,null,null,null,null,null,null,null,null,null,null,null,null,null,null,null,null,null,null,null,null,null,null,null,null,null,null,null,null,null,null,null,null,null,null,null,null,null,null,null,null,null,null,null,null,null,null,null,null,null,"※新しい勤務先が法人の場合は、ご確認の上記入してください。",null,null,null,null,null,null,null,null,null,null,null,null,null,null,null,null,null,null,null,null,null,null,null,null,null,null,null,null,null,null,null,null,null,null,null,null,null,null,null,null,null,null,null,null,null,null,null,null,null,null,null,null,null,null,null,null,null,null,null,null,null,null,null,null,null,null,null,null,null,null,null,null,null,null,null,null,null,null,null,null,null,null,null,null,null,null,null,null,null,null,null,null,null,null,null,null,null,null,null,null,null,null,null,null,null,null,null,null,null,null,null,null,null,null,null,null,null,null,null,null,null,null,null,null,null,null,null,null,null,null,null,null,null,null,null,null,null,"一括徴収の場合の徴収予定付月反映用"]
[null,null,null,null,null,null,null,null,null,null,null,null,null,null,null,null,null,null,null,null,null,null,null,null,null,null,null,null,null,null,null,null,null,null,null,null,null,null,null,null,null,null,null,null,null,null,null,null,null,null,null,null,null,null,null,null,null,null,null,null,null,null,null,null,null,null,null,null,null,null,null,null,null,null,null,null,null,null,null,null,null,null,null,null,null,null,null,null,null,null,null,null,null,null,null,null,null,null,null,null,null,null,null,null,null,null,null,null,null,null,null,null,null,null,null,null,null,null,null,null,null,null,null,null,null,null,null,null,null,null,null,null,null,null,null,null,null,null,null,null,null,null,null,null,null,null,null,null,null,null,null,null,null,null,null,null,null,null,null,null,null,null,null,null,null,null,null,null,null,null,null,null,null,null,null,null,null,null,null,null,null,null,null,null,null,null,null,null,null,null,null,null,null,"（新規の場合のみ記載）",null,null,null,null,null,null,null,null,null,null,null,null,null,null,null,null,null,null,null,null,null,null,null,null,null,null,null,null,null,null,null,null,null,null,null,null,null,null,null,null,null,null,null,null,null,null,null,null,null,null,null,null,null,null,null,null,null,null,null,null,null,null,null,null,null,null,null,null,null,null,null,null,{"$f":"+IF($N$7<>\"\",IF(HLOOKUP(TEXT($N$7&1,\"#,##0\")*1,入力用!$B$18:$IL$73,31,FALSE)<>\"\",HLOOKUP(TEXT($N$7&1,\"#,##0\")*1,入力用!$B$18:$IL$73,31,FALSE),\"\"),\"\")","v":""}]
[]
[null,null,null,null,null,null,null,null,null,null,null,null,null,null,null,null,null,null,null,null," 2⃣ 一括徴収の場合（未徴収税額を一括徴収する場合に記入してください。）"]
[]
[]
[null,null,null,null,null,null,null,null,null,null,null,null,null,null,null,null,null,null,null,null,"番号を記入",null,null,null,null,null,null,null,null,null,null,null,null,"\n1.異動年月日が12月31日以前でかつ本人からの申出があったため。\n\n2.異動年月日が1月1日以降でかつ特別徴収の継続の希望がないため。\n",null,null,null,null,null,null,null,null,null,null,null,null,null,null,null,null,null,null,null,null,null,null,null,null,null,null,null,null,null,null,null,null,null,null,null,null,null,null,null,null,null,null,null,null,null,null,null,null,null,null,null,null,null,null,null,null,null,null,null,null,null,null,null,null,null,null,null,null,null,null,null,null,null,null,null,null,null,"徴収予定額((ウ)と同額)を右欄に記入",null,null,null,null,null,null,null,null,null,null,null,null,null,null,null,"円"]
[null,null,null,null,null,null,null,null,null,null,null,null,null,null,null,null,null,null,null,null,null,null,null,null,null,null,null,null,null,null,null,null,null,null,null,null,null,null,null,null,null,null,null,null,null,null,null,null,null,null,null,null,null,null,null,null,null,null,null,null,null,null,null,null,null,null,null,null,null,null,null,null,null,null,null,null,null,null,null,null,null,null,null,null,null,null,null,null,null,null,null,null,null,null,null,null,null,null,null,null,null,null,null,null,null,null,null,null,null,null,null,null,null,null,null,null,null,null,null,null,null,null,null,null,null,null,null,null,null,null,null,null,null,null,null,null,null,null,null,null,null,null,null,null,null,null,null,null,null,null,null,null,null,null,null,null,null,null,null," 左記の一括徴収した税額は、",null,null,null,null,null,null,null,null,null,null,null,null,null,null,null,null,null,null,null,null,null,null,null,null,null,null,null,null,null,null,null,null,null,null,null,null,null,null,null,null,null,"月分（翌月10日納期限）で納入します。"]
[null,null,null,null,null,null,null,null,null,null,null,null,null,null,null,null,null,null,null,null,null,null,null,null,null,null,null,null,null,null,null,null,null,null,null,null,null,null,null,null,null,null,null,null,null,null,null,null,null,null,null,null,null,null,null,null,null,null,null,null,null,null,null,null,null,null,null,null,null,null,null,null,null,null,null,null,null,null,null,null,null,null,null,null,null,null,null,null,null,null,null,null,null,null,null,null,null,null,null,null,null,null,null,null,null,null,null,null,null,null,null,null,null,null,null,null,null,null,null,null,null,null,null,null,null,null,null,{"$f":"+IF($N$7<>\"\",IF(HLOOKUP(TEXT($N$7&1,\"#,##0\")*1,入力用!$B$18:$IL$73,30,FALSE)<>\"\",HLOOKUP(TEXT($N$7&1,\"#,##0\")*1,入力用!$B$18:$IL$73,30,FALSE),\"\"),\"\")","v":""},null,null,null,null,null,null,null,null,null,null,null,null,null,null,null,null,null,null,null,null,null,null,null,null,null,null,null,null,null,null,null,null,null,null,null,null,null,null,null,null,null,null,null,null,null,null,null,null,null,null,null,null,null,null,null,null,null,null,null,null,null,null,{"$f":"IF($JG$81<>\"\",IF($FV$49<>\"\",RIGHT($JG$81,LEN($JG$81)-4),RIGHT($JG$81,LEN($JG$81)-3)),\"\")","v":""}]
[null,null,null,null,null,null,null,null,null,null,null,null,null,null,null,null,null,null,null,null,"　　1　異動年月日が12月31日以前でかつ本人からの申出があったため。\n　　2　異動年月日が1月1日以降でかつ特別徴収の継続の希望がないため。",null,null,{"$f":"+IF($N$7<>\"\",LEFT(IF(AND($JG$52<>\"\",OR($JG$52=$JG$53,$JG$52=$JG$54)),VLOOKUP($JG$52,$JG$53:$JJ$56,4,FALSE),\"\"),1),\"\")","v":""},null,null,null,null,"←"]
[]
[]
[]
[]
[]
[null,null,null,null,null,null,null,null,null,null,null,null,null,null,null,null,null,null,null,null," 3⃣ 普通徴収の（一括徴収しない）場合 ( 1⃣  及び2⃣　に当てはまらない場合に記入してください.)"]
[null,null,null,null,null,null,null,null,null,null,null,null,null,null,null,null,null,null,null,null,null,null,null,null,null,null,null,null,null,null,null,null,null,null,null,null,null,null,null,null,null,null,null,null,null,null,null,null,null,null,null,null,null,null,null,null,null,null,null,null,null,null,null,null,null,null,null,null,null,null,null,null,null,null,null,null,null,null,null,null,null,null,null,null,null,null,null,null,null,null,null,null,null,null,null,null,null,null,null,null,null,null,null,null,null,null,null,null,null,null,null,null,null,null,null,null,null,null,null,null,null,null,null,null,null,null,null,null,null,null,null,null,null,null,null,null,null,null,null,null,null,null,null,null,null,null,null,null,null,null,null,null,null,"旧特別徴収処理欄",null,null,null,null,{"$f":"IF(HI19<>\"\",HI19&HI23,\"　年度\")","v":"　年度"},null,null,null,null,null,null,null,null,null,null,null,null,null,null,null,null,null,null,"月分以降の\n月割額は",null,null,null,null,null,null,null,null,null,"　　1　特別徴収義務者を変更\n　　2　普通徴収切替\n　　3　一括徴収\n　　4　その他",null,null,null,null,null,"　　1　特別徴収義務者を変更\n　　2　普通徴収切替\n　　3　一括徴収\n　　4　その他",null,null,null,null,null,null,null,null,null,null,null,null,null,null,null,null,null,null,null,null,null,null,null,null,null,null,null,null,null,null,null,null,null,"入力者",null,null,null,null,null,null,null,null,null,null,null,null,null,null,null,null,null,"点検"]
[]
[null,null,null,null,null,null,null,null,null,null,null,null,null,null,null,null,null,null,null,null,"  番号を記入",null,null,null,null,null,null,null,null,null,null,null,null,null,"異動年月日が1月1日～4月30日の場合は、原則、一括徴収してください。"]
[]
[null,null,null,null,null,null,null,null,null,null,null,null,null,null,null,null,null,null,null,null,null,null,null,{"$f":"IF($N$7<>\"\",LEFT(IF(AND($JG$52<>\"\",AND($JG$52<>$JG$53,$JG$52<>$JG$54)),VLOOKUP($JG$52,$JG$55:$JJ$56,4,FALSE),\"\"),1),\"\")","v":""},null,null,null,null,"←",null,null,null,null,null,"1.異動年月日が6月1日～12月31日でかつ本人からの申出がないため。\n2.異動年月日が1月1日～4月30日でかつ給与及び退職手当等から未徴収税額(ウ)を一括徴収できないため。\n3.死亡による退職のため。"]
[null,null,null,null,null,null,null,null,null,null,null,null,null,null,null,null,null,null,null,null,"　　1　異動年月日が12月31日以前でかつ本人からの申出があったため。\n　　2　異動年月日が1月1日以降でかつ特別徴収の継続の希望がないため。"]
[null,null,null,null,null,null,null,null,null,null,null,null,null,null,null,null,null,null,null,null,null,null,null,null,null,null,null,null,null,null,null,null,null,null,null,null,null,null,null,null,null,null,null,null,null,null,null,null,null,null,null,null,null,null,null,null,null,null,null,null,null,null,null,null,null,null,null,null,null,null,null,null,null,null,null,null,null,null,null,null,null,null,null,null,null,null,null,null,null,null,null,null,null,null,null,null,null,null,null,null,null,null,null,null,null,null,null,null,null,null,null,null,null,null,null,null,null,null,null,null,null,null,null,null,null,null,null,null,null,null,null,null,null,null,null,null,null,null,null,null,null,null,null,null,null,null,null,null,null,null,null,null,null,null,null,null,null,null,{"$f":"IF(HI29<>\"\",HI29&HI33,\"　年度\")","v":"　年度"},null,null,null,null,null,null,null,null,null,null,null,null,null,null,null,null,null,null,"月分以降の月割額は",null,null,null,null,null,null,null,null,null,"　　1　特別徴収義務者を変更\n　　2　普通徴収切替\n　　3　一括徴収\n　　4　その他",null,null,null,null,null,"　　1　特別徴収義務者を変更\n　　2　普通徴収切替\n　　3　一括徴収\n　　4　その他",null,null,null,null,null,null,null,null,null,null,null,null,null,null,null,null,null,null,null,null,null,null,null,null,null,null,null,null,null,null,null,null,null,"入力者",null,null,null,null,null,null,null,null,null,null,null,null,null,null,null,null,null,"点検"]
[]
[]
[]
[null,null,null,null,null,null,null,null,null,null,null,null,null,null,null,null,null,null,null,null,"市町村処理欄"]
[]
[]
[null,null,null,null,null,null,null,null,null,null,null,null,null,null,null,null,null,null,null,null,"A",null,null,null,null,null,null,null,null,null,null,null,null,null,null,null,null,null,null,null,null,null,null,null,null,null,null,null,null,null,null,null,null,null,null,null,null,null,null,"B",null,null,null,null,null,null,null,null,null,null,null,null,null,null,null,null,null,null,null,null,null,null,null,null,null,null,null,null,null,null,null,null,null,null,null,null,null,null,"C",null,null,null,null,null,null,null,null,null,null,null,null,null,null,null,null,null,null,null,null,null,null,null,null,null,null,null,null,null,null,null,null,null,null,null,null,null,null,"D",null,null,null,null,null,null,null,null,null,null,null,null,null,null,null,null,null,null,null,null,null,null,null,null,null,null,null,null,null,null,null,null,null,null,null,null,null,null,"E",null,null,null,null,null,null,null,null,null,null,null,null,null,null,null,null,null,null,null,null,null,null,null,null,null,null,null,null,null,null,null,null,null,null,null,null,null,null,"F"]
[]
[]
[]
[null,null,null,null,null,null,null,null,null,null,null,null,null,null,null,null,null,null,null,null,"G",null,null,null,null,null,null,null,null,null,null,null,null,null,null,null,null,null,null,null,null,null,null,null,null,null,null,null,null,null,null,null,null,null,null,null,null,null,null,"H",null,null,null,null,null,null,null,null,null,null,null,null,null,null,null,null,null,null,null,null,null,null,null,null,null,null,null,null,null,null,null,null,null,null,null,null,null,null,"I",null,null,null,null,null,null,null,null,null,null,null,null,null,null,null,null,null,null,null,null,null,null,null,null,null,null,null,null,null,null,null,null,null,null,null,null,null,null,"J",null,null,null,null,null,null,null,null,null,null,null,null,null,null,null,null,null,null,null,null,null,null,null,null,null,null,null,null,null,null,null,null,null,null,null,null,null,null,"K",null,null,null,null,null,null,null,null,null,null,null,null,null,null,null,null,null,null,null,null,null,null,null,null,null,null,null,null,null,null,null,null,null,null,null,null,null,null,"L"]
[]
[]
[]
[]
[]
[]
[]
["注意事項等",null,null,null,null,null,null,null,null,null,null,null,null,null,null,null,null,null,null,null,null,null,null,null,null,null,null,null,null,null,null,null,null,null,null,null,null,null,null,null,null,null,null,null,null,"市町村民税",null,null,null,null,null,null,null,null,null,null,null,null,null,null,null,null,null,null,"給与支払報告",null,null,null,null,null,null,null,null,null,null,null,null,null,null,null,null,null,null,null,null,null,null,null,null,null,null,null,null,null,null,"に係る給与所得者異動届出書",null,null,null,null,null,null,null,null,null,null,null,null,null,null,null,null,null,null,null,null,null,null,null,null,null,null,null,null,null,null,null,null,null,null,null,null,null,null,null,null,null,null,null,null,null,null,null,null,null,null,null,null,null,null,null,null,null,null,null,null,null,null,null,null,null,null,null,null,null,null,null,null,null,null,null,null,null,null,null,null,null,null,null,null,null,null,null,null,null,null,null,null,null,null,null,null,null,null,null,null,null,null,null,null,null,null,null,null,null,null,null,null,null,null,null,null,null,null,null,null,null,null,null,null,null,null,null,null,null,null,null,null,null,null,null,null,null,null,null,null,null,null,null,null,null,null,null,null,null,null,null,null,2]
[]
[null,null,null,null,null,null,null,3,null,null,null,null,2,null,null,null,null,1]
[null,null,null,null,null,null,null,"給与所得者本人が国外に出国されるなどの場合は、納税管理人の届出が必要となります。詳しくは、市町村へお問い合わせください。",null,null,"なお、本書はノーカーボン紙です。訂正する場合は二重線で抹消してください。",null,"機械読み取りを行う場合がありますので、太枠内へ記入してください。また、2枚複写のうち、2枚ともご提出ください。",null,null,"した場合にご提出いただく用紙です。提出期限は、該当の従業員等の異動があった月の翌月10日までです。従業員等の住所変更のみの場合は、提出不要です。",null,"本書は、特別徴収の(個人の市町村民税・道府県民税(住民税)を給与差引している又は特別徴収の給与支払報告書を提出した)従業員等が、異動（退職・転勤等）",null,null,null,null,null,null,null,null,null,null,null,null,null,null,null,null,null,null,null,null,null,null,null,null,null,null,null,"道府県民税",null,null,null,null,null,null,null,null,null,null,null,null,null,null,null,null,null,null,"特　別　徴　収",null,null,null,null,null,null,null,null,null,null,null,null,null,null,null,null,null,null,null,null,null,null,null,null,null,null,null,null,null,null,null,null,null,null,null,null,null,null,null,null,null,null,null,null,null,null,null,null,null,null,null,null,null,null,null,null,null,null,null,null,null,null,null,null,null,null,null,null,null,null,null,null,null,null,null,null,null,null,null,null,null,null,null,null,null,null,null,null,null,null,null,null,null,null,null,null,null,null,null,null,null,null,null,null,null,null,null,null,null,null,null,null,null,null,null,null,null,null,null,null,null,null,null,null,"整理番号",null,null,null,null,null,null,null,null,null,null,null,null,null,null,null,null,null,null,null,null,null,null,null,null,null,null,null,null,null,null,null,null,null,null,null,null,null,null,null,null,null,null,null,null,null,null,null,null,null,null,null,null,null,null,null,null,null,null,null,null,null,null,null,null,null,"\n　　　特別徴収指定番号及び宛名番号は、特別徴収税額決定・変更通知書（特別徴収義務者用）をご確認ください。"]
[]
[]
[]
[null,null,null,null,null,null,null,null,null,null,null,null,null,null,null,null,null,null,null,null,null,null,null,null,null,null,null,null,null,null,null,null,null,null,null,null,null,null,null,null,null,null,null,null,null,null,null,null,null,null,null,null,null,null,null,null,null,"給　与　支　払　者",null,null,null,"(特別徴収義務者)",null,null,"所　在　地",null,null,"〒",null,null,null,null,null,null,null,null,null,null,null,null,null,null,null,null,null,null,null,null,null,null,null,null,null,null,null,null,null,null,null,null,null,null,null,null,null,null,null,null,null,null,null,null,null,null,null,null,null,null,null,null,null,null,null,null,null,null,null,null,null,null,null,null,null,null,null,null,null,null,null,null,null,null,null,null,null,null,null,null,null,null,null,null,null,null,null,null,null,null,null,null,null,null,null,null,null,null,null,null,null,null,null,null,null,null,null,null,"担当者",null,null,null,"課係",null,null,{"$f":"IF(入力用!$G$15<>\"\",入力用!$G$15,\"\")","v":""},null,null,null,null,null,null,null,null,null,null,null,null,null,null,null,null,null,null,null,null,null,null,null,null,null,null,null,null,null,null,null,null,{"$f":"IF($HI$29<>\"\",$HI$29-1,\"\")","v":""},null,null,null,"特別徴収\n指定番号",null,null,null,null,null,{"$f":"HS19","v":""}]
[null,null,null,null,null,null,null,null,null,null,null,null,null,null,null,null,null,null,null,null,null,null,null,null,null,null,null,null,null,null,null,null,null,null,null,null,null,null,null,null,null,null,null,null,null,null,null,null,null,null,null,null,null,null,null,null,null,null,null,null,null,null,null,null,null,null,null,null,null,null,{"$f":"IF(入力用!$G$10<>\"\",入力用!$G$10&入力用!$H$10&入力用!$I$10,\"\")","v":""},null,null,null,null,null,null,null,null,null,null,"-",null,{"$f":"IF(入力用!$K$10<>\"\",入力用!$K$10&入力用!$L$10&入力用!$M$10&入力用!$N$10,\"\")","v":""}]
[]
[null,null,null,null,null,null,null,null,null,null,null,null,null,null,null,null,null,null,null,null,null,null,null,null,null,null,null,null,null,null,null,null,null,null,null,null,null,null,null,null,null,null,null,null,null,null,null,null,null,null,null,null,null,null,null,null,null,null,null,null,null,null,null,null,null,null,null,{"$f":"IF(入力用!$G$12<>\"\",入力用!$G$12,\"\")","v":""}]
[null,null,null,null,null,null,null,null,null,null,null,null,null,null,null,null,null,null,null,null,null,null,null,null,null,null,null,null,null,null,null,null,null,null,null,null,null,null,null,null,null,null,null,null,null,null,null,null,null,null,null,null,null,null,null,null,null,null,null,null,null,null,null,null,null,null,null,null,null,null,null,null,null,null,null,null,null,null,null,null,null,null,null,null,null,null,null,null,null,null,null,null,null,null,null,null,null,null,null,null,null,null,null,null,null,null,null,null,null,null,null,null,null,null,null,null,null,null,null,null,null,null,null,null,null,null,null,null,null,null,null,null,null,null,null,null,null,null,null,null,null,null,null,null,null,null,null,null,null,null,null,null,null,null,null,null,null,null,null,null,null,null,null,null,null,null,null,null,null,null,null,null,null,null,null,null,null,null,null,null,"氏　名",null,null,{"$f":"IF(入力用!$M$15<>\"\",入力用!$M$15,\"\")","v":""},null,null,null,null,null,null,null,null,null,null,null,null,null,null,null,null,null,null,null,null,null,null,null,null,null,null,null,null,null,null,null,null,"年度"]
[null,null,null,null,null,null,null,null,null,null,null,null,null,null,null,null,null,null,null,null,null,{"$f":"IF($N$7<>\"\",HLOOKUP(TEXT($N$7&1,\"#,##0\")*1,入力用!$B$18:$IL$73,10,FALSE),\"\")","v":"大阪市"},null,null,null,null,null,null,null,null,null,null,null,null,null,null,null,null,null,null,null,"長"]
[null,null,null,null,null,null,null,null,null,null,null,null,null,null,null,null,null,null,null,null,null,null,null,null,null,null,null,null,null,null,null,null,null,null,null,null,null,null,null,null,null,null,null,null,null,null,null,null,null,null,null,null,null,null,null,null,null,null,null,null,null,null,null,null,null,null,null,null,null,null,null,null,null,null,null,null,null,null,null,null,null,null,null,null,null,null,null,null,null,null,null,null,null,null,null,null,null,null,null,null,null,null,null,null,null,null,null,null,null,null,null,null,null,null,null,null,null,null,null,null,null,null,null,null,null,null,null,null,null,null,null,null,null,null,null,null,null,null,null,null,null,null,null,null,null,null,null,null,null,null,null,null,null,null,null,null,null,null,null,null,null,null,null,null,null,null,null,null,null,null,null,null,null,null,null,null,null,null,null,null,null,null,null,null,null,null,null,null,null,null,null,null,null,null,null,null,null,null,null,null,null,null,null,null,null,null,null,null,null,null,null,null,null,null,null,null,null,null,null,null,"宛名\n番号",null,null,null,null,null,{"$f":"HS25","v":""}]
[]
[]
[null,null,null,null,null,null,null,null,null,null,null,null,null,null,null,null,null,null,null,null,null,"令和",null,null,null,null,null,null,{"$f":"IF(入力用!$G$8<>\"\",入力用!$G$8,\"\")","v":""},null,null,null,null,null,null,null,null,null,"年",null,null,null,null,null,null,null,null,null,null,null,null,null,null,null,null,null,null,null,null,null,null,null,null,null,"名　称",null,null,{"$f":"IF(入力用!$G$11<>\"\",入力用!$G$11,\"\")","v":""}]
[null,null,null,null,null,null,null,null,null,null,null,null,null,null,null,null,null,null,null,null,null,null,null,null,null,null,null,null,null,null,null,null,null,null,null,null,null,null,null,null,null,null,null,null,null,null,null,null,null,null,null,null,null,null,null,null,null,null,null,null,null,null,null,null,null,null,null,null,null,null,null,null,null,null,null,null,null,null,null,null,null,null,null,null,null,null,null,null,null,null,null,null,null,null,null,null,null,null,null,null,null,null,null,null,null,null,null,null,null,null,null,null,null,null,null,null,null,null,null,null,null,null,null,null,null,null,null,null,null,null,null,null,null,null,null,null,null,null,null,null,null,null,null,null,null,null,null,null,null,null,null,null,null,null,null,null,null,null,null,null,null,null,null,null,null,null,null,null,null,null,null,null,null,null,null,null,null,null,null,null,"電話番号",null,null,{"$f":"IF(入力用!$S$15<>\"\",入力用!$S$15,\"\")&IF(入力用!$S$15<>\"\",\"-\",\"\")&IF(入力用!$V$15<>\"\",入力用!$V$15,\"\")&IF(入力用!$S$15<>\"\",\"-\",\"\")&IF(入力用!$Y$15<>\"\",入力用!$Y$15,\"\")","v":""},null,null,null,null,null,null,null,null,null,null,null,null,null,null,null,null,null,null,null,null,null,null,null,null,null,null,null,null,null,null,null,null,{"$f":"IF($FV$49<>\"\",$FV$49,\"\")","v":""},null,null,null,"特別徴収\n指定番号",null,null,null,null,null,{"$f":"IF(OR(入力用!$G$9<>\"\",入力用!$H$9<>\"\",入力用!$I$9<>\"\",入力用!$J$9<>\"\",入力用!$K$9<>\"\",入力用!$L$9<>\"\"),入力用!$G$9&入力用!$H$9&入力用!$I$9&入力用!$J$9&入力用!$K$9&入力用!$L$9,\"\")","v":""}]
[]
[]
[]
[null,null,null,null,null,null,null,null,null,null,null,null,null,null,null,null,null,null,null,null,null,null,null,null,null,null,null,null,{"$f":"IF(入力用!$I$8<>\"\",入力用!$I$8,\"\")","v":""},null,null,null,null,null,null,null,null,null,"月",null,null,null,{"$f":"IF(入力用!$K$8<>\"\",入力用!$K$8,\"\")","v":""},null,null,null,null,null,null,null,null,null,"日",null,null,null,null,null,null,null,null,null,null,null,null,null,null,null,null,null,null,null,null,null,null,null,null,null,null,null,null,null,null,null,null,null,null,null,null,null,null,null,null,null,null,null,null,null,null,null,null,null,null,null,null,null,null,null,null,null,null,null,null,null,null,null,null,null,null,null,null,null,null,null,null,null,null,null,null,null,null,null,null,null,null,null,null,null,null,null,null,null,null,null,null,null,null,null,null,null,null,null,null,null,null,null,null,null,null,null,null,null,null,null,null,null,null,null,null,null,null,null,null,null,null,null,null,null,null,null,null,null,null,null,null,null,null,null,null,null,null,null,null,null,null,null,null,null,null,null,null,null,null,null,null,null,null,null,null,null,null,null,null,null,null,null,"年度"]
[null,null,null,null,null,null,null,null,null,null,null,null,null,null,null,null,null,null,null,null,null,null,null,null,null,null,null,null,null,null,null,null,null,null,null,null,null,null,null,null,null,null,null,null,null,null,null,null,null,null,null,null,null,null,null,null,null,null,null,null,null,null,null,null,null,null,null,null,null,null,null,null,null,null,null,null,null,null,null,null,null,null,null,null,null,null,null,null,null,null,null,null,null,null,null,null,null,null,null,null,null,null,null,null,null,null,null,null,null,null,null,null,null,null,null,null,null,null,null,null,null,null,null,null,null,null,null,null,null,null,null,null,null,null,null,null,null,null,null,null,null,null,null,null,null,null,null,null,null,null,null,null,null,null,null,null,null,null,null,null,null,null,null,null,null,null,null,null,null,null,null,null,null,null,null,null,null,null,null,null,"内線",null,null,{"$f":"IF(入力用!$AA$15<>\"\",入力用!$AA$15,\"\")","v":""}]
[null,null,null,null,null,null,null,null,null,null,null,null,null,null,null,null,null,null,null,null,null,null,null,null,null,null,null,null,null,null,null,null,null,null,null,null,null,null,null,null,null,null,null,null,null,null,null,null,null,null,null,null,null,null,null,null,null,null,null,null,null,null,null,null,"個人番号又は法人番号\n（右詰めでご記入ください）",null,null,null,null,null,null,null,null,null,null,null,null,null,null,null,null,null,null,null,null,null,null,null,{"$f":"IF(入力用!$G$13<>\"\",入力用!$G$13,\"\")","v":""},null,null,null,null,{"$f":"IF(入力用!$H$13<>\"\",入力用!$H$13,\"\")","v":""},null,null,null,null,{"$f":"IF(入力用!$I$13<>\"\",入力用!$I$13,\"\")","v":""},null,null,null,null,{"$f":"IF(入力用!$J$13<>\"\",入力用!$J$13,\"\")","v":""},null,null,null,null,{"$f":"IF(入力用!$K$13<>\"\",入力用!$K$13,\"\")","v":""},null,null,null,null,{"$f":"IF(入力用!$L$13<>\"\",入力用!$L$13,\"\")","v":""},null,null,null,null,{"$f":"IF(入力用!$M$13<>\"\",入力用!$M$13,\"\")","v":""},null,null,null,null,{"$f":"IF(入力用!$N$13<>\"\",入力用!$N$13,\"\")","v":""},null,null,null,null,{"$f":"IF(入力用!$O$13<>\"\",入力用!$O$13,\"\")","v":""},null,null,null,null,{"$f":"IF(入力用!$P$13<>\"\",入力用!$P$13,\"\")","v":""},null,null,null,null,{"$f":"IF(入力用!$Q$13<>\"\",入力用!$Q$13,\"\")","v":""},null,null,null,null,{"$f":"IF(入力用!$R$13<>\"\",入力用!$R$13,\"\")","v":""},null,null,null,null,{"$f":"IF(入力用!$S$13<>\"\",入力用!$S$13,\"\")","v":""},null,null,null,null,null,null,null,null,null,null,null,null,null,null,null,null,null,null,null,null,null,null,null,null,null,null,null,null,null,null,null,null,null,null,null,null,null,null,null,null,null,null,null,null,null,null,null,null,null,null,null,null,null,null,null,null,null,null,null,null,null,null,null,null,null,null,null,null,null,null,null,"宛名\n番号",null,null,null,null,null,{"$f":"+IF($N$7<>\"\",IF(HLOOKUP($N$7,入力用!$B$17:$IL$73,3,FALSE)<>\"\",HLOOKUP($N$7,入力用!$B$17:$IL$73,3,FALSE),\"\"),\"\")","v":""}]
[null,null,null,null,null,null,null,null,null,null,null,null,null,null,null,null,null,null,null,null,null,null,null,null,null,null,null,null,null,null,null,null,null,null,null,null,null,null,null,null,null,null,null,null,null,null,null,null,null,"提出"]
[]
[]
[null,null,null,null,null,null,null,null,null,null,null,null,null,null,null,null,null,null,null,null,"給　与　所　得　者",null,null,"フリガナ",null,null,null,null,null,null,null,null,{"$f":"+IF($N$7<>\"\",IF(HLOOKUP($N$7,入力用!$B$17:$IL$73,4,FALSE)<>\"\",HLOOKUP($N$7,入力用!$B$17:$IL$73,4,FALSE),\"\"),\"\")","v":""},null,null,null,null,null,null,null,null,null,null,null,null,null,null,null,null,null,null,null,null,null,null,null,null,null,null,null,null,null,null,null,null,null,null,null,null,null,null,null,null,null,null,null,null,null,null,null,null,null,null,null,"新 姓",null,null,null,{"$f":"+IF($N$7<>\"\",IF(HLOOKUP($N$7,入力用!$B$17:$IL$73,6,FALSE)<>\"\",HLOOKUP($N$7,入力用!$B$17:$IL$73,6,FALSE),\"\"),\"\")","v":""},null,null,null,null,null,null,null,null,null,null,null,null,null,null,null,null,null,null,null,null,null,"（ア）",null,null,null,null,null,null,null,null,null,null,null,null,null,null,null,null,null,null,null,"（イ）",null,null,null,null,null,null,null,null,null,null,null,null,null,null,null,null,null,null,null,"（ウ）",null,null,null,null,null,null,null,null,null,null,null,null,null,null,null,null,null,null,null,"異動年月日",null,null,null,null,null,null,null,null,null,null,null,null,null,null,null,"異動の事由",null,null,null,null,null,null,null,null,null,null,null,null,null,null,null,null,null,null,null,null,null,null,null,null,null,null,null,null,null,null,null,null,null,null,null,"異動後の未徴収\n税額の徴収方法",null,null,null,null,null,null,null,null,null,null,null,null,null,null,null,null,null,null,null,null,null,null,null,null,null,null,null,null,null,null,null,null,null,null,null,null,null,null,null,null,null,null,null,"元号コード反映用"]
[null,null,null,null,null,null,null,null,null,null,null,null,null,null,null,null,null,null,null,null,null,null,null,null,null,null,null,null,null,null,null,null,null,null,null,null,null,null,null,null,null,null,null,null,null,null,null,null,null,null,null,null,null,null,null,null,null,null,null,null,null,null,null,null,null,null,null,null,null,null,null,null,null,null,null,null,null,null,null,null,null,null,null,null,null,null,null,null,null,null,null,null,null,null,null,null,null,null,null,null,null,null,null,null,null,null,null,null,null,null,null,null,null,null,null,null,null,null,null,null,null,null,null,null,null,null,null,null,null,null,null,null,null,null,null,null,null,null,null,null,null,null,null,null,null,null,null,null,null,null,null,null,null,null,null,null,null,null,null,null,null,null,null,null,null,null,null,null,null,null,null,null,null,null,null,null,null,null,null,null,null,null,null,null,null,null,null,null,null,null,null,null,null,null,null,null,null,null,null,null,null,null,null,null,null,null,null,null,null,null,null,null,null,null,null,null,null,null,null,null,null,null,null,null,null,null,null,null,null,null,null,null,null,null,null,null,null,null,null,null,null,null,null,null,null,null,null,null,null,null,null,null,null,null,null,null,null,null,null,null,null,null,null,null,null,null,{"$f":"+IF($N$7<>\"\",IF(HLOOKUP(TEXT($N$7&1,\"#,##0\")*1,入力用!$B$18:$IL$73,7,FALSE)<>\"\",HLOOKUP(TEXT($N$7&1,\"#,##0\")*1,入力用!$B$18:$IL$73,7,FALSE),\"\"),\"\")","v":""}]
[null,null,null,null,null,null,null,null,null,null,null,null,null,null,null,null,null,null,null,null,null,null,null,null,null,null,null,null,null,null,null,null,null,null,null,null,null,null,null,null,null,null,null,null,null,null,null,null,null,null,null,null,null,null,null,null,null,null,null,null,null,null,null,null,null,null,null,null,null,null,null,null,null,null,null,null,null,null,null,null,null,null,null,null,null,null,null,null,null,null,null,null,null,null,null,null,null,null,null,null,null,null,null,null,null,null,null,null,null,null,"特別徴収税額\n（年税額）\n",null,null,null,null,null,null,null,null,null,null,null,null,null,null,null,null,null,null,null,"徴収済税額",null,null,null,null,null,null,null,null,null,null,null,null,null,null,null,null,null,null,null,"未徴収税額\n（ア）－（イ）",null,null,null,null,null,null,null,null,null,null,null,null,null,null,null,null,null,null,null,null,null,null,null,null,null,null,null,null,null,null,null,null,null,null,null,null,null,null,null,null,null,null,null,null,null,null,null,null,null,null,null,null,null,null,null,null,null,null,null,null,null,null,null,null,null,null,null,null,null,null,null,null,null,null,null,null,null,null,null,null,null,null,null,null,null,null,null,null,null,null,null,null,null,null,null,null,null,null,null,null,null,null,null,null,null,null,null,null,null,null,null,null,null,null,null,"平成",4]
[null,null,null,null,null,null,null,null,null,null,null,null,null,null,null,null,null,null,null,null,null,null,null,"氏　名",null,null,null,null,null,null,null,null,{"$f":"+IF($N$7<>\"\",IF(HLOOKUP($N$7,入力用!$B$17:$IL$73,5,FALSE)<>\"\",HLOOKUP($N$7,入力用!$B$17:$IL$73,5,FALSE),\"\"),\"\")","v":""},null,null,null,null,null,null,null,null,null,null,null,null,null,null,null,null,null,null,null,null,null,null,null,null,null,null,null,null,null,null,null,null,null,null,null,null,null,null,null,null,null,null,null,null,null,null,null,null,null,null,null,null,null,null,null,{"$f":"+IF($N$7<>\"\",IF(HLOOKUP($N$7,入力用!$B$17:$IL$73,7,FALSE)<>\"\",HLOOKUP($N$7,入力用!$B$17:$IL$73,7,FALSE),\"\"),\"\")","v":""},null,null,null,null,null,null,null,null,null,null,null,null,null,null,null,null,null,null,null,null,null,null,null,null,null,null,null,null,null,null,null,null,null,null,null,null,null,null,null,null,null,null,null,null,null,null,null,null,null,null,null,null,null,null,null,null,null,null,null,null,null,null,null,null,null,null,null,null,null,null,null,null,null,null,null,null,null,null,null,null,null,null,null,null,null,null,null,null,null,null,null,null,null,null,null,null,null,"※事業主及び従業員の希望のみによる\n普通徴収への切替はできません。",null,null,null,null,null,null,null,null,null,null,null,null,null,null,null,null,null,null,null,null,null,null,null,null,null,null,null,null,null,null,null,null,null,null,null,null,null,null,null,null,null,null,null,null,null,null,null,null,null,null,null,null,null,null,null,null,null,null,null,null,null,null,null,null,null,null,null,null,null,null,null,null,null,null,null,null,null,null,null,"昭和",3]
[null,null,null,null,null,null,null,null,null,null,null,null,null,null,null,null,null,null,null,null,null,null,null,null,null,null,null,null,null,null,null,null,null,null,null,null,null,null,null,null,null,null,null,null,null,null,null,null,null,null,null,null,null,null,null,null,null,null,null,null,null,null,null,null,null,null,null,null,null,null,null,null,null,null,null,null,null,null,null,null,null,null,null,null,null,null,null,null,null,null,null,null,null,null,null,null,null,null,null,null,null,null,null,null,null,null,null,null,null,null,null,null,null,null,null,null,null,null,null,null,null,null,null,null,null,null,null,null,null,null,null,null,null,null,null,null,null,null,null,null,null,null,null,null,null,null,null,null,null,null,null,null,null,null,null,null,null,null,null,null,null,null,null,null,null,null,null,null,null,null,null,null,null,null,null,null,null,null,null,null,null,null,null,null,null,null,null,null,null,null,null,null,null,null,null,null,null,null,null,null,null,null,null,null,null,null,null,null,null,null,null,null,null,null,null,null,null,null,null,null,null,null,null,null,null,null,null,null,null,null,null,null,null,null,null,null,null,null,null,null,null,null,null,null,null,null,null,null,null,null,null,null,null,null,null,null,null,null,null,null,null,null,null,null,null,null,"大正",2]
[null,null,null,null,null,null,null,null,null,null,null,null,null,null,null,null,null,null,null,null,null,null,null,null,null,null,null,null,null,null,null,null,null,null,null,null,null,null,null,null,null,null,null,null,null,null,null,null,null,null,null,null,null,null,null,null,null,null,null,null,null,null,null,null,null,null,null,null,null,null,null,null,null,null,null,null,null,null,null,null,null,null,null,null,null,null,null,null,null,null,null,null,null,null,null,null,null,null,null,null,null,null,null,null,null,null,null,null,null,null,null,null,null,null,null,null,null,null,null,null,null,null,null,null,null,null,null,null,null,null,"例）11月10日納期限分の場合→10月分",null,null,null,null,null,null,null,null,null,null,null,null,null,null,null,null,null,null,null,null,null,null,null,null,null,null,null,null,null,null,null,null,null,null,null,null,null,null,null,null,null,null,null,null,null,null,null,null,null,null,null,null,null,null,null,null,null,null,null,null,null,null,null,null,null,null,null,null,null,null,null,null,null,null,null,null,null,null,null,null,null,null,null,null,null,null,null,null,null,null,null,null,null,null,null,null,null,null,null,null,null,null,null,null,null,null,null,null,null,null,null,null,null,null,null,null,null,null,null,null,null,null,null,null,null,null,null,null,null,null,null,null,null,null,null,"明治",1]
[]
[null,null,null,null,null,null,null,null,null,null,null,null,null,null,null,null,null,null,null,null,null,null,null,"生年月日",null,null,null,null,null,null,null,null,"元号",null,null,{"$f":"+IF($N$7<>\"\",IF($JG$40<>\"\",VLOOKUP($JG$40,$JG$41:$JH$44,2,FALSE),\"\"),\"\")","v":""},null,null,null,null,null,null,null,null,null,"←",null,null,null,"1.明治 2.大正",null,null,null,null,null,null,null,null,null,null,null,null,null,null,null,{"$f":"IF($N$7<>\"\",IF(HLOOKUP(TEXT($N$7&1,\"#,##0\")*1,入力用!$B$18:$IL$73,8,FALSE)<>\"\",HLOOKUP(TEXT($N$7&1,\"#,##0\")*1,入力用!$B$18:$IL$73,8,FALSE),\"\"),\"\")","v":""},null,null,null,null,null,null,null,null,null,null,null,"年",null,null,{"$f":"IF($N$7<>\"\",IF(HLOOKUP(TEXT($N$7&3,\"#,##0\")*1,入力用!$B$18:$IL$73,8,FALSE)<>\"\",HLOOKUP(TEXT($N$7&3,\"#,##0\")*1,入力用!$B$18:$IL$73,8,FALSE),\"\"),\"\")","v":""},null,null,null,null,null,null,null,null,null,null,null,"月",null,null,{"$f":"+IF($N$7<>\"\",IF(HLOOKUP(TEXT($N$7&5,\"#,##0\")*1,入力用!$B$18:$IL$73,8,FALSE)<>\"\",HLOOKUP(TEXT($N$7&5,\"#,##0\")*1,入力用!$B$18:$IL$73,8,FALSE),\"\"),\"\")","v":""},null,null,null,null,null,null,null,null,null,null,null,"日",null,null,null,null,null,null,null,null,null,null,null,null,null,null,null,null,null,null,null,null,null,null,{"$f":"+IF($N$7<>\"\",IF(HLOOKUP(TEXT($N$7&1,\"#,##0\")*1,入力用!$B$18:$IL$73,24,FALSE)<>\"\",HLOOKUP(TEXT($N$7&1,\"#,##0\")*1,入力用!$B$18:$IL$73,24,FALSE),\"\"),\"\")","v":""},null,null,null,null,null,null,null,null,null,"月分から",null,null,null,null,null,null,null,null,null,{"$f":"IF(AND(EA158<>\"\",EA158<>5),IF(EA158=12,1,EA158+1),\"\")","v":""},null,null,null,null,null,null,null,null,null,"月分から",null,null,null,null,null,null,null,null,null,null,null,null,null,null,null,null,null,null,null,null,null,null,null,null,null,"\n番号を記入",null,null,null,null,null,null,null,null,null,null,null,null,"1.転勤・転籍\n2.退職\n3.死亡\n4.休職\n5.長欠\n6.支払少額\n7.支払不定期\n8.その他",null,null,null,null,null,null,null,null,null,null,null,null,null,null,null,null,null,null,null,null,null,"\n番号を記入",null,null,null,null,null,null,null,null,null,null,null,"\n 1⃣　特別徴収継続\n\n 2⃣　一括徴収\n\n 3⃣　普通徴収"]
[]
[null,null,null,null,null,null,null,null,null,null,null,null,null,null,null,null,null,null,null,null,null,null,null,null,null,null,null,null,null,null,null,null,null,null,null,null,null,null,null,null,null,null,null,null,null,null,null,null,null,"3.昭和 4.平成 "]
[null,null,null,null,null,null,null,null,null,null,null,null,null,null,null,null,null,null,null,null,null,null,null,null,null,null,null,null,null,null,null,null,null,null,null,null,null,null,null,null,null,null,null,null,null,null,null,null,null,null,null,null,null,null,null,null,null,null,null,null,null,null,null,null,null,null,null,null,null,null,null,null,null,null,null,null,null,null,null,null,null,null,null,null,null,null,null,null,null,null,null,null,null,null,null,null,null,null,null,null,null,null,null,null,null,null,null,null,null,null,null,null,null,null,null,null,null,null,null,null,null,null,null,null,null,null,null,null,null,null,{"$f":"+IF($N$7<>\"\",IF(HLOOKUP(TEXT($N$7&4,\"#,##0\")*1,入力用!$B$18:$IL$73,24,FALSE)<>\"\",HLOOKUP(TEXT($N$7&4,\"#,##0\")*1,入力用!$B$18:$IL$73,24,FALSE),\"\"),\"\")","v":""},null,null,null,null,null,null,null,null,null,"月分まで",null,null,null,null,null,null,null,null,null,{"$f":"IF(EU155<>\"\",5,\"\")","v":""},null,null,null,null,null,null,null,null,null,"月分まで",null,null,null,null,null,null,null,null,null,"令和",null,null,null,null,null,null,{"$f":"+IF($N$7<>\"\",IF(HLOOKUP(TEXT($N$7&1,\"#,##0\")*1,入力用!$B$18:$IL$73,19,FALSE)<>\"\",HLOOKUP(TEXT($N$7&1,\"#,##0\")*1,入力用!$B$18:$IL$73,19,FALSE),\"\"),\"\")","v":""},null,null,null,null,null,"年"]
[null,null,null,null,null,null,null,null,null,null,null,null,null,null,null,null,null,null,null,null,null,null,null,"個人番号",null,null,null,null,null,null,null,null,null,null,null,null,null,null,{"$f":"+IF($N$7<>\"\",IF(HLOOKUP(TEXT($N$7&1,\"#,##0\")*1,入力用!$B$18:$IL$73,9,FALSE)<>\"\",MID(HLOOKUP(TEXT($N$7&1,\"#,##0\")*1,入力用!$B$18:$IL$73,9,FALSE),1,1),\"\"),\"\")","v":""},null,null,null,null,null,{"$f":"+IF($N$7<>\"\",IF(HLOOKUP(TEXT($N$7&1,\"#,##0\")*1,入力用!$B$18:$IL$73,9,FALSE)<>\"\",MID(HLOOKUP(TEXT($N$7&1,\"#,##0\")*1,入力用!$B$18:$IL$73,9,FALSE),2,1),\"\"),\"\")","v":""},null,null,null,null,null,{"$f":"+IF($N$7<>\"\",IF(HLOOKUP(TEXT($N$7&1,\"#,##0\")*1,入力用!$B$18:$IL$73,9,FALSE)<>\"\",MID(HLOOKUP(TEXT($N$7&1,\"#,##0\")*1,入力用!$B$18:$IL$73,9,FALSE),3,1),\"\"),\"\")","v":""},null,null,null,null,null,{"$f":"+IF($N$7<>\"\",IF(HLOOKUP(TEXT($N$7&1,\"#,##0\")*1,入力用!$B$18:$IL$73,9,FALSE)<>\"\",MID(HLOOKUP(TEXT($N$7&1,\"#,##0\")*1,入力用!$B$18:$IL$73,9,FALSE),4,1),\"\"),\"\")","v":""},null,null,null,null,null,{"$f":"+IF($N$7<>\"\",IF(HLOOKUP(TEXT($N$7&1,\"#,##0\")*1,入力用!$B$18:$IL$73,9,FALSE)<>\"\",MID(HLOOKUP(TEXT($N$7&1,\"#,##0\")*1,入力用!$B$18:$IL$73,9,FALSE),5,1),\"\"),\"\")","v":""},null,null,null,null,null,{"$f":"+IF($N$7<>\"\",IF(HLOOKUP(TEXT($N$7&1,\"#,##0\")*1,入力用!$B$18:$IL$73,9,FALSE)<>\"\",MID(HLOOKUP(TEXT($N$7&1,\"#,##0\")*1,入力用!$B$18:$IL$73,9,FALSE),6,1),\"\"),\"\")","v":""},null,null,null,null,null,{"$f":"+IF($N$7<>\"\",IF(HLOOKUP(TEXT($N$7&1,\"#,##0\")*1,入力用!$B$18:$IL$73,9,FALSE)<>\"\",MID(HLOOKUP(TEXT($N$7&1,\"#,##0\")*1,入力用!$B$18:$IL$73,9,FALSE),7,1),\"\"),\"\")","v":""},null,null,null,null,null,{"$f":"+IF($N$7<>\"\",IF(HLOOKUP(TEXT($N$7&1,\"#,##0\")*1,入力用!$B$18:$IL$73,9,FALSE)<>\"\",MID(HLOOKUP(TEXT($N$7&1,\"#,##0\")*1,入力用!$B$18:$IL$73,9,FALSE),8,1),\"\"),\"\")","v":""},null,null,null,null,null,{"$f":"+IF($N$7<>\"\",IF(HLOOKUP(TEXT($N$7&1,\"#,##0\")*1,入力用!$B$18:$IL$73,9,FALSE)<>\"\",MID(HLOOKUP(TEXT($N$7&1,\"#,##0\")*1,入力用!$B$18:$IL$73,9,FALSE),9,1),\"\"),\"\")","v":""},null,null,null,null,null,{"$f":"+IF($N$7<>\"\",IF(HLOOKUP(TEXT($N$7&1,\"#,##0\")*1,入力用!$B$18:$IL$73,9,FALSE)<>\"\",MID(HLOOKUP(TEXT($N$7&1,\"#,##0\")*1,入力用!$B$18:$IL$73,9,FALSE),10,1),\"\"),\"\")","v":""},null,null,null,null,null,{"$f":"+IF($N$7<>\"\",IF(HLOOKUP(TEXT($N$7&1,\"#,##0\")*1,入力用!$B$18:$IL$73,9,FALSE)<>\"\",MID(HLOOKUP(TEXT($N$7&1,\"#,##0\")*1,入力用!$B$18:$IL$73,9,FALSE),11,1),\"\"),\"\")","v":""},null,null,null,null,null,{"$f":"+IF($N$7<>\"\",IF(HLOOKUP(TEXT($N$7&1,\"#,##0\")*1,入力用!$B$18:$IL$73,9,FALSE)<>\"\",MID(HLOOKUP(TEXT($N$7&1,\"#,##0\")*1,入力用!$B$18:$IL$73,9,FALSE),12,1),\"\"),\"\")","v":""},null,null,null,null,null,null,null,null,null,null,null,null,null,null,null,null,null,null,null,null,null,null,null,null,null,null,null,null,null,null,null,null,null,null,null,null,null,null,null,null,null,null,null,null,null,null,null,null,null,null,null,null,null,null,null,null,null,null,null,null,null,null,null,null,null,null,null,null,null,null,null,null,null,null,null,null,null,null,null,null,null,null,{"$f":"+IF($N$7<>\"\",IF($JG$65<>\"\",VLOOKUP($JG$65,$JG$66:$JH$73,2,FALSE),\"\"),\"\")","v":""},null,null,null,null,null,null,null,null,null,null,null,null,null,null,null,null,null,null,null,null,null,null,null,null,null,null,null,null,null,null,null,null,null,null,{"$f":"+IF($N$7<>\"\",IF($JG$52<>\"\",VLOOKUP($JG$52,$JG$53:$JJ$56,2,FALSE),\"\"),\"\")","v":""}]
[null,null,null,null,null,null,null,null,null,null,null,null,null,null,null,null,null,null,null,null,null,null,null,null,null,null,null,null,null,null,null,null,null,null,null,null,null,null,null,null,null,null,null,null,null,null,null,null,null,null,null,null,null,null,null,null,null,null,null,null,null,null,null,null,null,null,null,null,null,null,null,null,null,null,null,null,null,null,null,null,null,null,null,null,null,null,null,null,null,null,null,null,null,null,null,null,null,null,null,null,null,null,null,null,null,null,null,null,null,null,null,null,null,null,null,null,null,null,null,null,null,null,null,null,null,null,null,null,null,null,null,null,null,null,null,null,null,null,null,null,null,null,null,null,null,null,null,null,null,null,null,null,null,null,null,null,null,null,null,null,null,null,null,null,null,null,null,null,null,null,null,null,null,null,null,null,null,null,null,null,null,null,null,null,null,null,null,null,null,null,null,null,null,null,null,null,"←",null,null,null,null,null,null,null,null,null,null,null,null,null,null,null,null,null,null,null,null,null,null,null,null,null,null,null,null,null,null,null,null,null,"←",null,null,null,null,null,null,null,null,null,null,null,null,null,null,null,null,null,null,null,null,null,null,null,null,null,null,null,null,null,null,null,null,null,null,null,"税額の徴収方法用"]
[null,null,null,null,null,null,null,null,null,null,null,null,null,null,null,null,null,null,null,null,null,null,null,null,null,null,null,null,null,null,null,null,null,null,null,null,null,null,null,null,null,null,null,null,null,null,null,null,null,null,null,null,null,null,null,null,null,null,null,null,null,null,null,null,null,null,null,null,null,null,null,null,null,null,null,null,null,null,null,null,null,null,null,null,null,null,null,null,null,null,null,null,null,null,null,null,null,null,null,null,null,null,null,null,null,null,null,null,null,null,"円",null,null,null,null,null,null,null,null,null,null,null,null,null,null,null,null,null,null,null,"円",null,null,null,null,null,null,null,null,null,null,null,null,null,null,null,null,null,null,null,"円",null,null,null,null,null,null,null,null,null,null,null,null,null,null,null,null,null,null,null,null,null,null,null,null,null,null,null,null,null,null,null,null,null,null,null,null,null,null,null,null,null,null,null,null,null,null,null,null,null,null,null,null,null,null,null,null,null,null,null,null,null,null,null,null,null,null,null,null,null,null,null,null,null,null,null,null,null,null,null,null,null,null,null,null,null,null,null,null,null,null,null,null,null,null,null,null,null,null,null,null,null,null,null,null,null,null,null,null,null,null,null,null,null,null,null,{"$f":"+IF($N$7<>\"\",IF(HLOOKUP(TEXT($N$7&1,\"#,##0\")*1,入力用!$B$18:$IL$73,28,FALSE)<>\"\",HLOOKUP(TEXT($N$7&1,\"#,##0\")*1,入力用!$B$18:$IL$73,28,FALSE),\"\"),\"\")","v":""}]
[null,null,null,null,null,null,null,null,null,null,null,null,null,null,null,null,null,null,null,null,null,null,null,null,null,null,null,null,null,null,null,null,null,null,null,null,null,null,null,null,null,null,null,null,null,null,null,null,null,null,null,null,null,null,null,null,null,null,null,null,null,null,null,null,null,null,null,null,null,null,null,null,null,null,null,null,null,null,null,null,null,null,null,null,null,null,null,null,null,null,null,null,null,null,null,null,null,null,null,null,null,null,null,null,null,null,null,null,null,null,null,null,null,null,null,null,null,null,null,null,null,null,null,null,null,null,null,null,null,null,null,null,null,null,null,null,null,null,null,null,null,null,null,null,null,null,null,null,null,null,null,null,null,null,null,null,null,null,null,null,null,null,null,null,null,null,null,null,null,null,null,null,null,null,null,null,null,null,null,null,null,null,null,null,null,null,null,null,null,null,null,null,null,null,null,null,null,null,null,null,null,null,null,null,null,null,null,null,null,null,null,null,null,null,null,null,null,null,null,null,null,null,null,null,null,null,null,null,null,null,null,null,null,null,null,null,null,null,null,null,null,null,null,null,null,null,null,null,null,null,null,null,null,null,null,null,null,null,null,null,null,null,null,null,null,null,"一括徴収",2,2,"2.異動年月日が1月1日以降でかつ特別徴収の継続の希望がないため。"]
[null,null,null,null,null,null,null,null,null,null,null,null,null,null,null,null,null,null,null,null,null,null,null,"住　　所",null,null,"1月1日\n現在",null,null,null,null,null,{"$f":"+IF($N$7<>\"\",HLOOKUP(TEXT($N$7&1,\"#,##0\")*1,入力用!$B$18:$IL$73,10,FALSE)&HLOOKUP(TEXT($N$7&4,\"#,##0\")*1,入力用!$B$18:$IL$73,10,FALSE)&HLOOKUP(TEXT($N$7&6,\"#,##0\")*1,入力用!$B$18:$IL$73,10,FALSE)&HLOOKUP(TEXT($N$7&1,\"#,##0\")*1,入力用!$B$18:$IL$73,11,FALSE)&HLOOKUP(TEXT($N$7&1,\"#,##0\")*1,入力用!$B$18:$IL$73,12,FALSE)&HLOOKUP(TEXT($N$7&1,\"#,##0\")*1,入力用!$B$18:$IL$73,13,FALSE),\"\")","v":"大阪市区"},null,null,null,null,null,null,null,null,null,null,null,null,null,null,null,null,null,null,null,null,null,null,null,null,null,null,null,null,null,null,null,null,null,null,null,null,null,null,null,null,null,null,null,null,null,null,null,null,null,null,null,null,null,null,null,null,null,null,null,null,null,null,null,null,null,null,null,null,null,null,null,null,null,null,null,null,null,{"$f":"+IF($N$7<>\"\",IF(HLOOKUP(TEXT($N$7&1,\"#,##0\")*1,入力用!$B$18:$IL$73,22,FALSE)<>\"\",HLOOKUP(TEXT($N$7&1,\"#,##0\")*1,入力用!$B$18:$IL$73,22,FALSE),\"\"),\"\")","v":""},null,null,null,null,null,null,null,null,null,null,null,null,null,null,null,null,null,null,null,{"$f":"+IF($N$7<>\"\",IF(HLOOKUP(TEXT($N$7&1,\"#,##0\")*1,入力用!$B$18:$IL$73,23,FALSE)<>\"\",HLOOKUP(TEXT($N$7&1,\"#,##0\")*1,入力用!$B$18:$IL$73,23,FALSE),\"\"),\"\")","v":""},null,null,null,null,null,null,null,null,null,null,null,null,null,null,null,null,null,null,null,{"$f":"+IF(AND($N$7<>\"\",DG163<>\"\"),DG163-EA163,\"\")","v":""},null,null,null,null,null,null,null,null,null,null,null,null,null,null,null,null,null,null,null,null,null,null,null,null,null,null,null,null,null,null,null,null,null,null,null,null,null,null,null,null,null,null,null,null,null,null,null,null,null,null,null,null,null,null,null,null,null,null,null,null,null,null,null,null,null,null,null,null,null,null,null,null,null,null,null,null,null,null,null,null,null,null,null,null,null,null,null,null,null,null,null,null,null,null,null,null,null,null,null,null,null,null,null,null,null,null,null,null,null,null,null,null,null,null,null,"一括徴収(本人希望)",2,1,"1.異動年月日が12月31日以前でかつ本人からの申出があったため。"]
[null,null,null,null,null,null,null,null,null,null,null,null,null,null,null,null,null,null,null,null,null,null,null,null,null,null,null,null,null,null,null,null,null,null,null,null,null,null,null,null,null,null,null,null,null,null,null,null,null,null,null,null,null,null,null,null,null,null,null,null,null,null,null,null,null,null,null,null,null,null,null,null,null,null,null,null,null,null,null,null,null,null,null,null,null,null,null,null,null,null,null,null,null,null,null,null,null,null,null,null,null,null,null,null,null,null,null,null,null,null,null,null,null,null,null,null,null,null,null,null,null,null,null,null,null,null,null,null,null,null,null,null,null,null,null,null,null,null,null,null,null,null,null,null,null,null,null,null,null,null,null,null,null,null,null,null,null,null,null,null,null,null,null,null,null,null,null,null,null,null,null,null,null,null,null,null,null,null,null,null,null,null,null,null,null,null,null,null,null,null,null,null,null,null,null,null,null,null,null,null,null,null,null,null,null,null,null,null,null,null,null,null,null,null,null,null,null,null,null,null,null,null,null,null,null,null,null,null,null,null,null,null,null,null,null,null,null,null,null,null,null,null,null,null,null,null,null,null,null,null,null,null,null,null,null,null,null,null,null,null,null,null,null,null,null,null,"特別徴収継続(転勤・転籍)",1,null,"　"]
[null,null,null,null,null,null,null,null,null,null,null,null,null,null,null,null,null,null,null,null,null,null,null,null,null,null,null,null,null,null,null,null,null,null,null,null,null,null,null,null,null,null,null,null,null,null,null,null,null,null,null,null,null,null,null,null,null,null,null,null,null,null,null,null,null,null,null,null,null,null,null,null,null,null,null,null,null,null,null,null,null,null,null,null,null,null,null,null,null,null,null,null,null,null,null,null,null,null,null,null,null,null,null,null,null,null,null,null,null,null,null,null,null,null,null,null,null,null,null,null,null,null,null,null,null,null,null,null,null,null,null,null,null,null,null,null,null,null,null,null,null,null,null,null,null,null,null,null,null,null,null,null,null,null,null,null,null,null,null,null,null,null,null,null,null,null,null,null,null,null,null,{"$f":"+IF($N$7<>\"\",IF(HLOOKUP(TEXT($N$7&3,\"#,##0\")*1,入力用!$B$18:$IL$73,19,FALSE)<>\"\",HLOOKUP(TEXT($N$7&3,\"#,##0\")*1,入力用!$B$18:$IL$73,19,FALSE),\"\"),\"\")","v":""},null,null,null,null,null,null,null,{"$f":"+IF($N$7<>\"\",IF(HLOOKUP(TEXT($N$7&5,\"#,##0\")*1,入力用!$B$18:$IL$73,19,FALSE)<>\"\",HLOOKUP(TEXT($N$7&5,\"#,##0\")*1,入力用!$B$18:$IL$73,19,FALSE),\"\"),\"\")","v":""},null,null,null,null,null,null,null,null,null,null,null,null,null,null,null,null,null,null,null,null,null,null,null,null,null,null,null,null,null,null,null,null,null,null,null,null,null,null,null,null,null,null,null,null,null,null,null,null,null,null,null,null,null,null,null,null,null,null,null,null,null,null,null,null,null,null,null,null,null,null,null,null,null,null,null,null,null,null,null,null,null,null,null,null,null,null,"普通徴収(本人が納付)",3,{"$f":"+IF($N$7<>\"\",IF($JG$58<>\"\",VLOOKUP($JG$58,$JG$59:$JI$61,2,FALSE),\"\"),\"\")","v":""},{"$f":"+IF($N$7<>\"\",IF($JG$58<>\"\",VLOOKUP($JG$58,$JG$59:$JI$61,3,FALSE),\"\"),\"\")","v":""}]
[null,null,null,null,null,null,null,null,null,null,null,null,null,null,null,null,null,null,null,null,null,null,null,null,null,null,null,null,null,null,null,null,null,null,null,null,null,null,null,null,null,null,null,null,null,null,null,null,null,null,null,null,null,null,null,null,null,null,null,null,null,null,null,null,null,null,null,null,null,null,null,null,null,null,null,null,null,null,null,null,null,null,null,null,null,null,null,null,null,null,null,null,null,null,null,null,null,null,null,null,null,null,null,null,null,null,null,null,null,null,null,null,null,null,null,null,null,null,null,null,null,null,null,null,null,null,null,null,null,null,null,null,null,null,null,null,null,null,null,null,null,null,null,null,null,null,null,null,null,null,null,null,null,null,null,null,null,null,null,null,null,null,null,null,null,null,null,null,null,null,null,null,null,null,null,null,"月",null,null,null,null,null,null,null,"日"]
[null,null,null,null,null,null,null,null,null,null,null,null,null,null,null,null,null,null,null,null,null,null,null,null,null,null,"異動後",null,null,null,null,null,{"$f":"+IF($N$7<>\"\",IF(HLOOKUP(TEXT($N$7&1,\"#,##0\")*1,入力用!$B$18:$IL$73,14,FALSE)&HLOOKUP(TEXT($N$7&1,\"#,##0\")*1,入力用!$B$18:$IL$73,16,FALSE)&HLOOKUP(TEXT($N$7&1,\"#,##0\")*1,入力用!$B$18:$IL$73,17,FALSE)&HLOOKUP(TEXT($N$7&1,\"#,##0\")*1,入力用!$B$18:$IL$73,18,FALSE)&HLOOKUP(TEXT($N$7&1,\"#,##0\")*1,入力用!$B$18:$IL$73,19,FALSE)<>\"\",HLOOKUP(TEXT($N$7&1,\"#,##0\")*1,入力用!$B$18:$IL$73,14,FALSE)&HLOOKUP(TEXT($N$7&1,\"#,##0\")*1,入力用!$B$18:$IL$73,15,FALSE)&HLOOKUP(TEXT($N$7&1,\"#,##0\")*1,入力用!$B$18:$IL$73,16,FALSE)&HLOOKUP(TEXT($N$7&1,\"#,##0\")*1,入力用!$B$18:$IL$73,17,FALSE)&HLOOKUP(TEXT($N$7&1,\"#,##0\")*1,入力用!$B$18:$IL$73,18,FALSE),\"\"),\"\")","v":""},null,null,null,null,null,null,null,null,null,null,null,null,null,null,null,null,null,null,null,null,null,null,null,null,null,null,null,null,null,null,null,null,null,null,null,null,null,null,null,null,null,null,null,null,null,null,null,null,null,null,null,null,null,null,null,null,null,null,null,null,null,null,null,null,null,null,null,null,null,null,null,null,null,null,null,null,null,null,null,null,null,null,null,null,null,null,null,null,null,null,null,null,null,null,null,null,null,null,null,null,null,null,null,null,null,null,null,null,null,null,null,null,null,null,null,null,null,null,null,null,null,null,null,null,null,null,null,null,null,null,null,null,null,null,null,null,null,null,null,null,null,null,null,null,null,null,null,null,null,null,null,null,null,"8.その他の\n理由を右欄\nへ記入",null,null,null,null,null,null,null,null,{"$f":"+IF($N$7<>\"\",IF(HLOOKUP(TEXT($N$7&1,\"#,##0\")*1,入力用!$B$18:$IL$73,21,FALSE)<>\"\",HLOOKUP(TEXT($N$7&1,\"#,##0\")*1,入力用!$B$18:$IL$73,21,FALSE),\"\"),\"\")","v":""},null,null,null,null,null,null,null,null,null,null,null,null,null,null,null,null,null,null,null,null,null,null,null,null,null,null,null,null,null,null,null,null,null,null,null,null,null,null,"  （本人が納付）",null,null,null,null,null,null,null,null,null,null,null,null,null,null,null,null,null,null,null,null,null,null,null,null,null,null,null,null,null,null,null,{"$f":"+IF($N$7<>\"\",IF(HLOOKUP(TEXT($N$7&1,\"#,##0\")*1,入力用!$B$18:$IL$73,29,FALSE)<>\"\",HLOOKUP(TEXT($N$7&1,\"#,##0\")*1,入力用!$B$18:$IL$73,29,FALSE),\"\"),\"\")","v":""}]
[null,null,null,null,null,null,null,null,null,null,null,null,null,null,null,null,null,null,null,null,null,null,null,null,null,null,null,null,null,null,null,null,null,null,null,null,null,null,null,null,null,null,null,null,null,null,null,null,null,null,null,null,null,null,null,null,null,null,null,null,null,null,null,null,null,null,null,null,null,null,null,null,null,null,null,null,null,null,null,null,null,null,null,null,null,null,null,null,null,null,null,null,null,null,null,null,null,null,null,null,null,null,null,null,null,null,null,null,null,null,null,null,null,null,null,null,null,null,null,null,null,null,null,null,null,null,null,null,null,null,null,null,null,null,null,null,null,null,null,null,null,null,null,null,null,null,null,null,null,null,null,null,null,null,null,null,null,null,null,null,null,null,null,null,null,null,null,null,null,null,null,null,null,null,null,null,null,null,null,null,null,null,null,null,null,null,null,null,null,null,null,null,null,null,null,null,null,null,null,null,null,null,null,null,null,null,null,null,null,null,null,null,null,null,null,null,null,null,null,null,null,null,null,null,null,null,null,null,null,null,null,null,null,null,null,null,null,null,null,null,null,null,null,null,null,null,null,null,null,null,null,null,null,null,null,null,null,null,null,null,null,null,null,null,null,null,"一括徴収の本人申出がないため",1,"1.異動年月日が6月1日から12月31日でかつ本人からの申出がないため。"]
[null,null,null,null,null,null,null,null,null,null,null,null,null,null,null,null,null,null,null,null,null,null,null,null,null,null,null,null,null,null,null,null,null,null,null,null,null,null,null,null,null,null,null,null,null,null,null,null,null,null,null,null,null,null,null,null,null,null,null,null,null,null,null,null,null,null,null,null,null,null,null,null,null,null,null,null,null,null,null,null,null,null,null,null,null,null,null,null,null,null,null,null,null,null,null,null,null,null,null,null,null,null,null,null,null,null,null,null,null,null,null,null,null,null,null,null,null,null,null,null,null,null,null,null,null,null,null,null,null,null,null,null,null,null,null,null,null,null,null,null,null,null,null,null,null,null,null,null,null,null,null,null,null,null,null,null,null,null,null,null,null,null,null,null,null,null,null,null,null,null,null,null,null,null,null,null,null,null,null,null,null,null,null,null,null,null,null,null,null,null,null,null,null,null,null,null,null,null,null,null,null,null,null,null,null,null,null,null,null,null,null,null,null,null,null,null,null,null,null,null,null,null,null,null,null,null,null,null,null,null,null,null,null,null,null,null,null,null,null,null,null,null,null,null,null,null,null,null,null,null,null,null,null,null,null,null,null,null,null,null,null,null,null,null,null,null,"給与及び退職手当等から未徴収税額を一括徴収できないため",2,"2.異動年月日が1月1日から4月30日でかつ給与及び退職手当等から未徴収税額(ウ)を一括徴収できないため。"]
[null,null,null,null,null,null,null,null,null,null,null,null,null,null,null,null,null,null,null,null,null,null,null,null,null,null,null,null,null,null,null,null,null,null,null,null,null,null,null,null,null,null,null,null,null,null,null,null,null,null,null,null,null,null,null,null,null,null,null,null,null,null,null,null,null,null,null,null,null,null,null,null,null,null,null,null,null,null,null,null,null,null,null,null,null,null,null,null,null,null,null,null,null,null,null,null,null,null,null,null,null,null,null,null,null,null,null,null,null,null,null,null,null,null,null,null,null,null,null,null,null,null,null,null,null,null,null,null,null,null,null,null,null,null,null,null,null,null,null,null,null,null,null,null,null,null,null,null,null,null,null,null,null,null,null,null,null,null,null,null,null,null,null,null,null,null,null,null,null,null,null,null,null,null,null,null,null,null,null,null,null,null,null,null,null,null,null,null,null,null,null,null,null,null,null,null,null,null,null,null,null,null,null,null,null,null,null,null,null,null,null,null,null,null,null,null,null,null,null,null,null,null,null,null,null,null,null,null,null,null,null,null,null,null,null,null,null,null,null,null,null,null,null,null,null,null,null,null,null,null,null,null,null,null,null,null,null,null,null,null,null,null,null,null,null,null,"死亡による退職のため",3,"3.死亡による退職のため。"]
[]
[null,null,null,null,null,null,null,null,null,null,null,null,null,null,null,null,null,null,null,null," 1⃣ 特別徴収継続の場合（給与所得者が、新しい勤務先で特別徴収を希望する場合に記入してください。）"]
[null,null,null,null,null,null,null,null,null,null,null,null,null,null,null,null,null,null,null,null,null,null,null,null,null,null,null,null,null,null,null,null,null,null,null,null,null,null,null,null,null,null,null,null,null,null,null,null,null,null,null,null,null,null,null,null,null,null,null,null,null,null,null,null,null,null,null,null,null,null,null,null,null,null,null,null,null,null,null,null,null,null,null,null,null,null,null,null,null,null,null,null,null,null,null,null,null,null,null,null,null,null,null,null,null,null,null,null,null,null,null,null,null,null,null,null,null,null,null,null,null,null,null,null,null,null,null,null,null,null,null,null,null,null,null,null,null,null,null,null,null,null,null,null,null,null,null,null,null,null,null,null,null,null,null,null,null,null,null,null,null,null,null,null,null,null,null,null,null,null,null,null,null,null,null,null,null,null,null,null,null,null,null,null,null,null,null,null,null,null,null,null,null,null,null,null,null,null,null,null,null,null,null,null,null,null,null,null,null,null,null,null,null,null,null,null,null,null,null,null,null,null,null,null,null,null,null,null,null,null,null,null,null,null,null,null,null,null,null,null,null,null,null,null,null,null,null,null,null,null,null,null,null,null,null,null,null,null,null,null,null,null,null,null,null,null,"退職理由番号反映用"]
[null,null,null,null,null,null,null,null,null,null,null,null,null,null,null,null,null,null,null,null,null,null,null,null,null,null,null,null,null,null,null,null,null,null,null,null,null,null,null,null,null,null,null,null,null,null,null,null,null,null,null,null,null,null,null,null,null,null,null,null,null,null,null,null,null,null,null,null,null,null,null,null,null,null,null,null,null,null,null,null,null,null,null,null,null,null,null,null,null,null,null,null,null,null,null,null,null,null,null,null,null,null,null,null,null,null,null,null,null,null,null,null,null,null,null,null,null,null,null,null,null,null,null,null,null,null,null,null,null,null,null,null,null,null,null,null,null,null,null,null,null,null,null,null,null,null,null,null,null,null,null,null,null,null,null,null,null,null,null,null,null,null,null,null,null,null,null,null,null,null,null,null,null,null,null,null,null,null,null,null,null,null,null,null,null,null,null,null,null,null,null,null,null,null,null,null,null,null,null,null,null,null,null,null,null,null,null,null,null,null,null,null,null,null,null,null,null,null,null,null,null,null,null,null,null,null,null,null,null,null,null,null,null,null,null,null,null,null,null,null,null,null,null,null,null,null,null,null,null,null,null,null,null,null,null,null,null,null,null,null,null,null,null,null,null,null,{"$f":"+IF($N$7<>\"\",IF(HLOOKUP(TEXT($N$7&1,\"#,##0\")*1,入力用!$B$18:$IL$73,20,FALSE)<>\"\",HLOOKUP(TEXT($N$7&1,\"#,##0\")*1,入力用!$B$18:$IL$73,20,FALSE),\"\"),\"\")","v":""}]
[null,null,null,null,null,null,null,null,null,null,null,null,null,null,null,null,null,null,null,null,"新しい\n勤務先\n(特別\n徴収義\n務者)",null,null,null,null,null,null,null,null,"所在地",null,null,"〒",null,null,null,null,null,null,null,null,null,null,null,null,null,null,null,null,null,null,null,null,null,null,null,null,null,null,null,null,null,null,null,null,null,null,null,null,null,null,null,null,null,null,null,null,null,null,null,null,null,null,null,null,null,null,null,null,null,null,null,null,null,null,null,null,null,null,null,null,null,null,null,null,null,null,null,null,null,null,null,null,null,null,null,null,null,null,null,null,null,null,"特別徴収指定番号",null,null,null,null,null,null,null,null,null,null,null,null,null,null,null,null,null,null,null,null,null,null,null,null,null,null,null,null,null,null,"担 当 者",null,null,"氏　名",null,null,{"$f":"+IF($N$7<>\"\",IF((HLOOKUP(TEXT($N$7&1,\"#,##0\")*1,入力用!$B$18:$IL$77,42,FALSE)&HLOOKUP(TEXT($N$7&1,\"#,##0\")*1,入力用!$B$18:$IL$77,42,FALSE))<>\"\",(HLOOKUP(TEXT($N$7&1,\"#,##0\")*1,入力用!$B$18:$IL$77,42,FALSE)&\"　\"&HLOOKUP(TEXT($N$7&1,\"#,##0\")*1,入力用!$B$18:$IL$77,43,FALSE)),\"\"),\"\")","v":""},null,null,null,null,null,null,null,null,null,null,null,null,null,null,null,null,null,null,null,null,null,null,null,null,null,null,null,null,null,null,null,null," 新しい勤務先へは、",null,null,null,null,null,null,null,null,null,null,null,null,null,null,null,null,null,null,null,null,null,null,null,null,null,null,null,null,null,null,null,null,null,null,null,null,null,null,null,null,null,null,null,null,null,null,null,null,null,null,null,null,null,null,null,null,null,null,null,null,null,null,null,null,null,null,null,null,null,null,null,null,"1　転勤・転籍",1]
[null,null,null,null,null,null,null,null,null,null,null,null,null,null,null,null,null,null,null,null,null,null,null,null,null,null,null,null,null,null,null,null,null,null,null,{"$f":"+IF($N$7<>\"\",IF(HLOOKUP(TEXT($N$7&1,\"#,##0\")*1,入力用!$B$18:$IL$73,36,FALSE)<>\"\",HLOOKUP(TEXT($N$7&1,\"#,##0\")*1,入力用!$B$18:$IL$73,36,FALSE),\"\"),\"\")","v":""},null,null,null,null,null,null,null,null,null,null,"-",null,{"$f":"+IF($N$7<>\"\",IF(HLOOKUP(TEXT($N$7&4,\"#,##0\")*1,入力用!$B$18:$IL$73,36,FALSE)<>\"\",HLOOKUP(TEXT($N$7&4,\"#,##0\")*1,入力用!$B$18:$IL$73,36,FALSE),\"\"),\"\")","v":""},null,null,null,null,null,null,null,null,null,null,null,null,null,null,null,null,null,null,null,null,null,null,null,null,null,null,null,null,null,null,null,null,null,null,null,null,null,null,null,null,null,null,null,null,null,null,null,null,null,null,null,null,null,null,null,null,null,null,null,null,null,null,null,null,null,null,null,null,null,null,null,null,null,null,null,null,null,null,null,null,null,null,null,null,null,null,null,null,null,null,null,null,null,null,null,null,null,null,null,null,null,null,null,null,null,null,null,null,null,null,null,null,null,null,null,null,null,null,null,null,null,null,null,null,null,null,null,null,null,null,null,null,null,null,null,null,null,null,null,null,null,null,null,null,null,null,null,null,null,null,null,null,null,null,null,null,null,null,null,null,null,null,null,null,null,null,null,null,null,null,null,null,null,null,null,null,null,null,null,null,null,null,null,null,null,null,null,null,null,null,null,null,null,null,null,null,null,null,null,null,null,null,null,null,null,null,null,null,null,null,null,null,null,null,null,null,null,"2　退職",2]
[null,null,null,null,null,null,null,null,null,null,null,null,null,null,null,null,null,null,null,null,null,null,null,null,null,null,null,null,null,null,null,null,null,null,null,null,null,null,null,null,null,null,null,null,null,null,null,null,null,null,null,null,null,null,null,null,null,null,null,null,null,null,null,null,null,null,null,null,null,null,null,null,null,null,null,null,null,null,null,null,null,null,null,null,null,null,null,null,null,null,null,null,null,null,null,null,null,null,null,null,null,null,null,null,null,null,null,null,null,null,null,null,null,null,null,null,null,null,null,null,null,null,null,null,null,null,null,null,null,null,null,null,null,null,null,null,null,null,null,null,null,null,null,null,null,null,null,null,null,null,null,null,null,null,null,null,null,null,null,null,null,null,null,null,null,null,null,null,null,null,null,null,null,null,null,null,null,null,null,null,null,null,null,null,null,null,null,null,null,null,null,null,null,"月割額",null,null,null,null,null,null,null,null,null,null,"円",null,null,null,null,null,null,null,null,null,null,null,null,null,null,null,null,null,null,null,null,null,null,null,null,null,null,null,null,null,null,null,null,null,null,null,null,null,null,null,null,null,null,null,null,null,null,null,null,null,null,null,null,null,null,null,null,null,null,null,null,null,"3　死亡",3]
[null,null,null,null,null,null,null,null,null,null,null,null,null,null,null,null,null,null,null,null,null,null,null,null,null,null,null,null,null,null,null,null,{"$f":"+IF($N$7<>\"\",IF(HLOOKUP(TEXT($N$7&1,\"#,##0\")*1,入力用!$B$18:$IL$73,37,FALSE)&HLOOKUP(TEXT($N$7&1,\"#,##0\")*1,入力用!$B$18:$IL$73,38,FALSE)&HLOOKUP(TEXT($N$7&1,\"#,##0\")*1,入力用!$B$18:$IL$73,39,FALSE)&HLOOKUP(TEXT($N$7&1,\"#,##0\")*1,入力用!$B$18:$IL$73,40,FALSE)&HLOOKUP(TEXT($N$7&1,\"#,##0\")*1,入力用!$B$18:$IL$73,41,FALSE)<>\"\",HLOOKUP(TEXT($N$7&1,\"#,##0\")*1,入力用!$B$18:$IL$73,37,FALSE)&HLOOKUP(TEXT($N$7&1,\"#,##0\")*1,入力用!$B$18:$IL$73,38,FALSE)&HLOOKUP(TEXT($N$7&1,\"#,##0\")*1,入力用!$B$18:$IL$73,39,FALSE)&HLOOKUP(TEXT($N$7&1,\"#,##0\")*1,入力用!$B$18:$IL$73,40,FALSE)&HLOOKUP(TEXT($N$7&1,\"#,##0\")*1,入力用!$B$18:$IL$73,41,FALSE),\"\"),\"\")","v":""},null,null,null,null,null,null,null,null,null,null,null,null,null,null,null,null,null,null,null,null,null,null,null,null,null,null,null,null,null,null,null,null,null,null,null,null,null,null,null,null,null,null,null,null,null,null,null,null,null,null,null,null,null,null,null,null,null,null,null,null,null,null,null,null,null,null,null,null,null,null,null,null,null,null,null,null,null,null,null,null,null,null,null,null,null,null,null,null,null,null,{"$f":"+IF($N$7<>\"\",IF((HLOOKUP(TEXT($N$7&1,\"#,##0\")*1,入力用!$B$18:$IL$73,32,FALSE)&HLOOKUP(TEXT($N$7&2,\"#,##0\")*1,入力用!$B$18:$IL$73,32,FALSE)&HLOOKUP(TEXT($N$7&3,\"#,##0\")*1,入力用!$B$18:$IL$73,32,FALSE)&HLOOKUP(TEXT($N$7&4,\"#,##0\")*1,入力用!$B$18:$IL$73,32,FALSE)&HLOOKUP(TEXT($N$7&5,\"#,##0\")*1,入力用!$B$18:$IL$73,32,FALSE)&HLOOKUP(TEXT($N$7&6,\"#,##0\")*1,入力用!$B$18:$IL$73,31,FALSE))<>\"\",(HLOOKUP(TEXT($N$7&1,\"#,##0\")*1,入力用!$B$18:$IL$73,32,FALSE)&HLOOKUP(TEXT($N$7&2,\"#,##0\")*1,入力用!$B$18:$IL$73,32,FALSE)&HLOOKUP(TEXT($N$7&3,\"#,##0\")*1,入力用!$B$18:$IL$73,32,FALSE)&HLOOKUP(TEXT($N$7&4,\"#,##0\")*1,入力用!$B$18:$IL$73,32,FALSE)&HLOOKUP(TEXT($N$7&5,\"#,##0\")*1,入力用!$B$18:$IL$73,32,FALSE)&HLOOKUP(TEXT($N$7&6,\"#,##0\")*1,入力用!$B$18:$IL$73,32,FALSE)),\"\"),\"\")","v":""},null,null,null,null,null,null,null,null,null,null,null,null,null,null,null,null,null,null,null,null,null,null,null,null,null,null,null,null,null,null,null,null,null,null,null,null,null,null,null,null,null,null,null,null,null,null,null,null,null,null,null,null,null,null,null,null,null,null,null,null,null,null,null,null,null,null,null,null,null,null,null,null,null,null,null,null,null,null,null,null,{"$f":"+IF($N$7<>\"\",IF(HLOOKUP(TEXT($N$7&1,\"#,##0\")*1,入力用!$B$18:$IL$73,46,FALSE)<>\"\",HLOOKUP(TEXT($N$7&1,\"#,##0\")*1,入力用!$B$18:$IL$73,46,FALSE),\"\"),\"\")","v":""},null,null,null,null,null,null,null,null,null,null,null,null,null,null,null,null,null,null,null,null,null,"を",null,null,null,null,null,null,{"$f":"+IF($N$7<>\"\",IF(HLOOKUP(TEXT($N$7&1,\"#,##0\")*1,入力用!$B$18:$IL$73,47,FALSE)<>\"\",HLOOKUP(TEXT($N$7&1,\"#,##0\")*1,入力用!$B$18:$IL$73,47,FALSE),\"\"),\"\")","v":""},null,null,null,null,null,null,null,null,null,"  月分",null,null,null,null,null,null,null,null,null,null,null,null,null,null,null,null,null,null,null,null,null,null,"4　休職",4]
[null,null,null,null,null,null,null,null,null,null,null,null,null,null,null,null,null,null,null,null,null,null,null,null,null,null,null,null,null,null,null,null,null,null,null,null,null,null,null,null,null,null,null,null,null,null,null,null,null,null,null,null,null,null,null,null,null,null,null,null,null,null,null,null,null,null,null,null,null,null,null,null,null,null,null,null,null,null,null,null,null,null,null,null,null,null,null,null,null,null,null,null,null,null,null,null,null,null,null,null,null,null,null,null,null,null,null,null,null,null,null,null,null,null,null,null,null,null,null,null,null,null,null,null,null,null,null,null,null,null,null,null,null,null,null,null,null,null,null,null,null,null,null,null,null,null,null,null,null,null,null,null,null,null,null,null,null,null,null,null,null,null,null,null,null,null,null,null,null,null,null,null,null,null,null,null,null,null,null,null,null,null,null,null,null,null,null,null,null,null,null,null,null,null,null,null,null,null,null,null,null,null,null,null,null,null,null,null,null,null,null,null,null,null,null,null,null,null,null,null,null,null,null,null,null,null,null,null,null,null,null,null,null,null,null,null,null,null,null,null,null,null,null,null,null,null,null,null,null,null,null,null,null,null,null,null,null,null,null,null,null,null,null,null,null,null,"5　長欠",5]
[null,null,null,null,null,null,null,null,null,null,null,null,null,null,null,null,null,null,null,null,null,null,null,null,null,null,null,null,null,null,null,null,null,null,null,null,null,null,null,null,null,null,null,null,null,null,null,null,null,null,null,null,null,null,null,null,null,null,null,null,null,null,null,null,null,null,null,null,null,null,null,null,null,null,null,null,null,null,null,null,null,null,null,null,null,null,null,null,null,null,null,null,null,null,null,null,null,null,null,null,null,null,null,null,null,null,null,null,null,null,null,null,null,null,null,null,null,null,null,null,null,null,null,null,null,null,null,null,null,null,null,null,null,null,null,null,null,null,null,null,null,null,null,null,null,null,null,null,null,null,null,null,null,null,null,null,null,"電話",null,null,{"$f":"+IF($N$7<>\"\",IF(HLOOKUP(TEXT($N$7&1,\"#,##0\")*1,入力用!$B$18:$IL$73,44,FALSE)<>\"\",HLOOKUP(TEXT($N$7&1,\"#,##0\")*1,入力用!$B$18:$IL$73,44,FALSE),\"\"),\"\")","v":""},null,null,null,null,null,null,null,null,"-",null,{"$f":"+IF($N$7<>\"\",IF(HLOOKUP(TEXT($N$7&3,\"#,##0\")*1,入力用!$B$18:$IL$73,44,FALSE)<>\"\",HLOOKUP(TEXT($N$7&3,\"#,##0\")*1,入力用!$B$18:$IL$73,44,FALSE),\"\"),\"\")","v":""},null,null,null,null,null,null,null,null,null,"-",null,{"$f":"+IF($N$7<>\"\",IF(HLOOKUP(TEXT($N$7&5,\"#,##0\")*1,入力用!$B$18:$IL$73,44,FALSE)<>\"\",HLOOKUP(TEXT($N$7&5,\"#,##0\")*1,入力用!$B$18:$IL$73,44,FALSE),\"\"),\"\")","v":""},null,null,null,null,null,null,null,null,null,null,null,null,null,null,null,null,null,null,null,null,null,null,null,null,null,null,null,null,null,null,null,null,null,null,null,null,null,null,null,null,null,null,null,null,null,null,null,null,null,null,null,null,null,null,null,null,null,null,null,null,null,null,null,null,null,null,null,null,null,null,null,null,null,null,null,null,null,null,null,null,null,null,"6　支払少額",6]
[null,null,null,null,null,null,null,null,null,null,null,null,null,null,null,null,null,null,null,null,null,null,null,null,null,null,null,null,null,null,null,null,null,null,null,null,null,null,null,null,null,null,null,null,null,null,null,null,null,null,null,null,null,null,null,null,null,null,null,null,null,null,null,null,null,null,null,null,null,null,null,null,null,null,null,null,null,null,null,null,null,null,null,null,null,null,null,null,null,null,null,null,null,null,null,null,null,null,null,null,null,null,null,null,null,null,null,null,null,null,null,null,null,null,null,null,null,null,null,null,null,null,null,null,null,null,null,null,null,null,null,null,null,null,null,null,null,null,null,null,null,null,null,null,null,null,null,null,null,null,null,null,null,null,null,null,null,null,null,null,null,null,null,null,null,null,null,null,null,null,null,null,null,null,null,null,null,null,null,null,null,null,null,null,null,null,null,null,null,null,null,null,null,"（翌月10日納期限）から徴収し、納入するよう連絡済みです。",null,null,null,null,null,null,null,null,null,null,null,null,null,null,null,null,null,null,null,null,null,null,null,null,null,null,null,null,null,null,null,null,null,null,null,null,null,null,null,null,null,null,null,null,null,null,null,null,null,null,null,null,null,null,null,null,null,null,null,null,null,null,null,null,null,null,null,null,null,null,null,null,"7　支払不定期",7]
[null,null,null,null,null,null,null,null,null,null,null,null,null,null,null,null,null,null,null,null,null,null,null,null,null,null,null,null,null,null,null,null,null,null,null,null,null,null,null,null,null,null,null,null,null,null,null,null,null,null,null,null,null,null,null,null,null,null,null,null,null,null,null,null,null,null,null,null,null,null,null,null,null,null,null,null,null,null,null,null,null,null,null,null,null,null,null,null,null,null,null,null,null,null,null,null,null,null,null,null,null,null,null,null,null,null,null,null,null,null,null,null,null,null,null,null,null,null,null,null,null,null,null,null,null,null,null,null,null,null,null,null,null,null,null,null,null,null,null,null,null,null,null,null,null,null,null,null,null,null,null,null,null,null,null,null,null,null,null,null,null,null,null,null,null,null,null,null,null,null,null,null,null,null,null,null,null,null,null,null,null,null,null,null,null,null,null,null,null,null,null,null,null,null,null,null,null,null,null,null,null,null,null,null,null,null,null,null,null,null,null,null,null,null,null,null,null,null,null,null,null,null,null,null,null,null,null,null,null,null,null,null,null,null,null,null,null,null,null,null,null,null,null,null,null,null,null,null,null,null,null,null,null,null,null,null,null,null,null,null,null,null,null,null,null,null,"8　その他",8]
[null,null,null,null,null,null,null,null,null,null,null,null,null,null,null,null,null,null,null,null,null,null,null,null,null,null,null,null,null,null,null,null,null,null,null,null,null,null,null,null,null,null,null,null,null,null,null,null,null,null,null,null,null,null,null,null,null,null,null,null,null,null,null,null,null,null,null,null,null,null,null,null,null,null,null,null,null,null,null,null,null,null,null,null,null,null,null,null,null,null,null,null,null,null,null,null,null,null,null,null,null,null,null,null,null,null,null,null,null,null,null,null,null,null,null,null,null,null,null,null,null,null,null,null,null,null,null,null,null,null,null,null,null,null,null,null,null,null,null,null,null,null,null,null,null,null,null,null,null,null,null,null,null,null,null,null,null,null,null,null,null,null,null,null,null,null,null,null,null,null,null,null,null,null,null,null,null,null,null,null,null,null,null,null,null,null,null,null,null,null,null,null,null,"※新しい勤務先へ月割額をお伝えください。"]
[null,null,null,null,null,null,null,null,null,null,null,null,null,null,null,null,null,null,null,null,null,null,null,null,null,null,null,null,null,"名称",null,null,"フリ\nガナ",null,null,null,null,null,null,null,{"$f":"+IF($N$7<>\"\",IF(HLOOKUP(TEXT($N$7&1,\"#,##0\")*1,入力用!$B$18:$IL$73,33,FALSE)<>\"\",HLOOKUP(TEXT($N$7&1,\"#,##0\")*1,入力用!$B$18:$IL$73,33,FALSE),\"\"),\"\")","v":""},null,null,null,null,null,null,null,null,null,null,null,null,null,null,null,null,null,null,null,null,null,null,null,null,null,null,null,null,null,null,null,null,null,null,null,null,null,null,null,null,null,null,null,null,null,null,null,null,null,null,null,null,null,null,null,null,null,null,null,null,null,null,null,null,null,null,null,null,null,null,null,null,null,null,null,null,null,null,null,null,null,null,"法人\n番号",null,null,null,null,{"$f":"+IF($N$7<>\"\",IF(HLOOKUP(TEXT($N$7&1,\"#,##0\")*1,入力用!$B$18:$IL$73,35,FALSE)<>\"\",MID(HLOOKUP(TEXT($N$7&1,\"#,##0\")*1,入力用!$B$18:$IL$73,35,FALSE),1,1),\"\"),\"\")","v":""},null,null,null,null,{"$f":"+IF($N$7<>\"\",IF(HLOOKUP(TEXT($N$7&1,\"#,##0\")*1,入力用!$B$18:$IL$73,35,FALSE)<>\"\",MID(HLOOKUP(TEXT($N$7&1,\"#,##0\")*1,入力用!$B$18:$IL$73,35,FALSE),2,1),\"\"),\"\")","v":""},null,null,null,null,{"$f":"+IF($N$7<>\"\",IF(HLOOKUP(TEXT($N$7&1,\"#,##0\")*1,入力用!$B$18:$IL$73,35,FALSE)<>\"\",MID(HLOOKUP(TEXT($N$7&1,\"#,##0\")*1,入力用!$B$18:$IL$73,35,FALSE),3,1),\"\"),\"\")","v":""},null,null,null,null,{"$f":"+IF($N$7<>\"\",IF(HLOOKUP(TEXT($N$7&1,\"#,##0\")*1,入力用!$B$18:$IL$73,35,FALSE)<>\"\",MID(HLOOKUP(TEXT($N$7&1,\"#,##0\")*1,入力用!$B$18:$IL$73,35,FALSE),4,1),\"\"),\"\")","v":""},null,null,null,null,{"$f":"+IF($N$7<>\"\",IF(HLOOKUP(TEXT($N$7&1,\"#,##0\")*1,入力用!$B$18:$IL$73,35,FALSE)<>\"\",MID(HLOOKUP(TEXT($N$7&1,\"#,##0\")*1,入力用!$B$18:$IL$73,35,FALSE),5,1),\"\"),\"\")","v":""},null,null,null,null,{"$f":"+IF($N$7<>\"\",IF(HLOOKUP(TEXT($N$7&1,\"#,##0\")*1,入力用!$B$18:$IL$73,35,FALSE)<>\"\",MID(HLOOKUP(TEXT($N$7&1,\"#,##0\")*1,入力用!$B$18:$IL$73,35,FALSE),6,1),\"\"),\"\")","v":""},null,null,null,null,{"$f":"+IF($N$7<>\"\",IF(HLOOKUP(TEXT($N$7&1,\"#,##0\")*1,入力用!$B$18:$IL$73,35,FALSE)<>\"\",MID(HLOOKUP(TEXT($N$7&1,\"#,##0\")*1,入力用!$B$18:$IL$73,35,FALSE),7,1),\"\"),\"\")","v":""},null,null,null,null,{"$f":"+IF($N$7<>\"\",IF(HLOOKUP(TEXT($N$7&1,\"#,##0\")*1,入力用!$B$18:$IL$73,35,FALSE)<>\"\",MID(HLOOKUP(TEXT($N$7&1,\"#,##0\")*1,入力用!$B$18:$IL$73,35,FALSE),8,1),\"\"),\"\")","v":""},null,null,null,null,{"$f":"+IF($N$7<>\"\",IF(HLOOKUP(TEXT($N$7&1,\"#,##0\")*1,入力用!$B$18:$IL$73,35,FALSE)<>\"\",MID(HLOOKUP(TEXT($N$7&1,\"#,##0\")*1,入力用!$B$18:$IL$73,35,FALSE),9,1),\"\"),\"\")","v":""},null,null,null,null,{"$f":"+IF($N$7<>\"\",IF(HLOOKUP(TEXT($N$7&1,\"#,##0\")*1,入力用!$B$18:$IL$73,35,FALSE)<>\"\",MID(HLOOKUP(TEXT($N$7&1,\"#,##0\")*1,入力用!$B$18:$IL$73,35,FALSE),10,1),\"\"),\"\")","v":""},null,null,null,null,{"$f":"+IF($N$7<>\"\",IF(HLOOKUP(TEXT($N$7&1,\"#,##0\")*1,入力用!$B$18:$IL$73,35,FALSE)<>\"\",MID(HLOOKUP(TEXT($N$7&1,\"#,##0\")*1,入力用!$B$18:$IL$73,35,FALSE),11,1),\"\"),\"\")","v":""},null,null,null,null,{"$f":"+IF($N$7<>\"\",IF(HLOOKUP(TEXT($N$7&1,\"#,##0\")*1,入力用!$B$18:$IL$73,35,FALSE)<>\"\",MID(HLOOKUP(TEXT($N$7&1,\"#,##0\")*1,入力用!$B$18:$IL$73,35,FALSE),12,1),\"\"),\"\")","v":""},null,null,null,null,{"$f":"+IF($N$7<>\"\",IF(HLOOKUP(TEXT($N$7&1,\"#,##0\")*1,入力用!$B$18:$IL$73,35,FALSE)<>\"\",MID(HLOOKUP(TEXT($N$7&1,\"#,##0\")*1,入力用!$B$18:$IL$73,35,FALSE),13,1),\"\"),\"\")","v":""},null,null,null,null,null,null,null,null,null,null,null,null,null,null,null,null,null,null,null,null,null,null,null,null,null,null,null,null,null,null,null,null,null,null,null,null,null,null,null,null,null,null,null,null,null,null,null,null,null,null,null,null,null,null,null,null,null,null,null,null,null,null,null,null,null,null,null,null,null,null,null,null,null,null,null,null,null,"納入書の要否反映用"]
[null,null,null,null,null,null,null,null,null,null,null,null,null,null,null,null,null,null,null,null,null,null,null,null,null,null,null,null,null,null,null,null,null,null,null,null,null,null,null,null,null,null,null,null,null,null,null,null,null,null,null,null,null,null,null,null,null,null,null,null,null,null,null,null,null,null,null,null,null,null,null,null,null,null,null,null,null,null,null,null,null,null,null,null,null,null,null,null,null,null,null,null,null,null,null,null,null,null,null,null,null,null,null,null,null,null,null,null,null,null,null,null,null,null,null,null,null,null,null,null,null,null,null,null,null,null,null,null,null,null,null,null,null,null,null,null,null,null,null,null,null,null,null,null,null,null,null,null,null,null,null,null,null,null,null,null,null,null,null,null,null,null,null,null,null,null,null,null,null,null,null,null,null,null,null,null,null,null,null,null,null,null,null,null,null,null,null,null,null,null,null,null,null,"受給者番号",null,null,null,null,null,null,null,null,null,null,null,null,null,null,null,null,null,null,null,{"$f":"+IF($N$7<>\"\",IF(HLOOKUP(TEXT($N$7&1,\"#,##0\")*1,入力用!$B$18:$IL$73,48,FALSE)<>\"\",HLOOKUP(TEXT($N$7&1,\"#,##0\")*1,入力用!$B$18:$IL$73,48,FALSE),\"\"),\"\")","v":""},null,null,null,null,null,null,null,null,null,null,null,null,null,null,null,null,null,null,null,null,null,null,null,null,null,null,null,null,null,null,null,null,null,null,null,null,null,null,null,null,null,null,null,null,null,null,null,null,null,null,null,null,{"$f":"+IF($N$7<>\"\",IF(HLOOKUP(TEXT($N$7&1,\"#,##0\")*1,入力用!$B$18:$IL$73,20,FALSE)<>\"\",HLOOKUP(TEXT($N$7&1,\"#,##0\")*1,入力用!$B$18:$IL$73,49,FALSE),\"\"),\"\")","v":""}]
[null,null,null,null,null,null,null,null,null,null,null,null,null,null,null,null,null,null,null,null,null,null,null,null,null,null,null,null,null,null,null,null,null,null,null,null,null,null,null,null,null,null,null,null,null,null,null,null,null,null,null,null,null,null,null,null,null,null,null,null,null,null,null,null,null,null,null,null,null,null,null,null,null,null,null,null,null,null,null,null,null,null,null,null,null,null,null,null,null,null,null,null,null,null,null,null,null,null,null,null,null,null,null,null,null,null,null,null,null,null,null,null,null,null,null,null,null,null,null,null,null,null,null,null,null,null,null,null,null,null,null,null,null,null,null,null,null,null,null,null,null,null,null,null,null,null,null,null,null,null,null,null,null,null,null,null,null,null,null,null,null,null,null,null,null,null,null,null,null,null,null,null,null,null,null,null,null,null,null,null,null,null,null,null,null,null,null,null,null,null,null,null,null,null,null,null,null,null,null,null,null,null,null,null,null,null,null,null,null,null,null,null,null,null,null,null,null,null,null,null,null,null,null,null,null,null,null,null,null,null,null,null,null,null,null,null,null,null,null,null,null,null,null,null,null,null,null,null,null,null,null,null,null,null,null,null,null,null,null,null,null,null,null,null,null,null,"1　必要",1,null,"１　必要"]
[null,null,null,null,null,null,null,null,null,null,null,null,null,null,null,null,null,null,null,null,null,null,null,null,null,null,null,null,null,null,null,null,{"$f":"+IF($N$7<>\"\",IF(HLOOKUP(TEXT($N$7&1,\"#,##0\")*1,入力用!$B$18:$IL$73,34,FALSE)<>\"\",HLOOKUP(TEXT($N$7&1,\"#,##0\")*1,入力用!$B$18:$IL$73,34,FALSE),\"\"),\"\")","v":""},null,null,null,null,null,null,null,null,null,null,null,null,null,null,null,null,null,null,null,null,null,null,null,null,null,null,null,null,null,null,null,null,null,null,null,null,null,null,null,null,null,null,null,null,null,null,null,null,null,null,null,null,null,null,null,null,null,null,null,null,null,null,null,null,null,null,null,null,null,null,null,null,null,null,null,null,null,null,null,null,null,null,null,null,null,null,null,null,null,null,null,null,null,null,null,null,null,null,null,null,null,null,null,null,null,null,null,null,null,null,null,null,null,null,null,null,null,null,null,null,null,null,null,null,null,null,null,null,null,null,null,null,null,null,null,null,null,null,null,null,null,null,null,null,null,null,null,null,null,null,null,null,null,null,null,null,null,null,null,null,null,null,null,null,null,null,null,null,null,null,null,null,null,null,null,null,null,null,null,null,null,null,null,null,null,null,null,null,null,null,null,null,null,null,null,null,null,null,null,null,null,null,null,null,null,null,null,null,null,null,null,null,null,null,null,null,null,null,null,null,null,null,null,null,null,null,null,null,null,null,null,null,null,"2　不要",2,null,"２　不要"]
[null,null,null,null,null,null,null,null,null,null,null,null,null,null,null,null,null,null,null,null,null,null,null,null,null,null,null,null,null,null,null,null,null,null,null,null,null,null,null,null,null,null,null,null,null,null,null,null,null,null,null,null,null,null,null,null,null,null,null,null,null,null,null,null,null,null,null,null,null,null,null,null,null,null,null,null,null,null,null,null,null,null,null,null,null,null,null,null,null,null,null,null,null,null,null,null,null,null,null,null,null,null,null,null,null,null,null,null,null,null,null,null,null,null,null,null,null,null,null,null,null,null,null,null,null,null,null,null,null,null,null,null,null,null,null,null,null,null,null,null,null,null,null,null,null,null,null,null,null,null,null,null,null,null,null,null,null,null,null,null,null,null,null,null,null,null,null,null,null,null,null,null,null,null,null,null,null,null,null,null,null,null,null,null,null,null,null,null,null,null,null,null,null,"納入書の要否",null,null,null,null,null,null,null,null,null,null,null,null,null,null,null,null,null,null,null,{"$f":"+IF($N$7<>\"\",LEFT(IF(HLOOKUP(TEXT($N$7&1,\"#,##0\")*1,入力用!$B$18:$IL$73,49,FALSE)<>\"\",HLOOKUP(TEXT($N$7&1,\"#,##0\")*1,入力用!$B$18:$IL$73,49,FALSE),\"\"),1),\"\")","v":""},null,null,null,null,null,null,null,"番号を記入\n←",null,null,null,null,null,null,null,null,null,null," 1⃣　必要　2⃣　不要"]
[null,null,null,null,null,null,null,null,null,null,null,null,null,null,null,null,null,null,null,null,null,null,null,null,null,null,null,null,null,null,null,null,null,null,null,null,null,null,null,null,null,null,null,null,null,null,null,null,null,null,null,null,null,null,null,null,null,null,null,null,null,null,null,null,null,null,null,null,null,null,null,null,null,null,null,null,null,null,null,null,null,null,null,null,null,null,null,null,null,null,null,null,null,null,null,null,null,null,null,null,null,null,null,null,null,null,null,null,null,null,null,null,null,null,null,null,null,null,null,null,null,null,null,null,null,null,null,null,"※新しい勤務先が法人の場合は、ご確認の上記入してください。",null,null,null,null,null,null,null,null,null,null,null,null,null,null,null,null,null,null,null,null,null,null,null,null,null,null,null,null,null,null,null,null,null,null,null,null,null,null,null,null,null,null,null,null,null,null,null,null,null,null,null,null,null,null,null,null,null,null,null,null,null,null,null,null,null,null,null,null,null,null,null,null,null,null,null,null,null,null,null,null,null,null,null,null,null,null,null,null,null,null,null,null,null,null,null,null,null,null,null,null,null,null,null,null,null,null,null,null,null,null,null,null,null,null,null,null,null,null,null,null,null,null,null,null,null,null,null,null,null,null,null,null,null,null,null,null,null,"一括徴収の場合の徴収予定付月反映用"]
[null,null,null,null,null,null,null,null,null,null,null,null,null,null,null,null,null,null,null,null,null,null,null,null,null,null,null,null,null,null,null,null,null,null,null,null,null,null,null,null,null,null,null,null,null,null,null,null,null,null,null,null,null,null,null,null,null,null,null,null,null,null,null,null,null,null,null,null,null,null,null,null,null,null,null,null,null,null,null,null,null,null,null,null,null,null,null,null,null,null,null,null,null,null,null,null,null,null,null,null,null,null,null,null,null,null,null,null,null,null,null,null,null,null,null,null,null,null,null,null,null,null,null,null,null,null,null,null,null,null,null,null,null,null,null,null,null,null,null,null,null,null,null,null,null,null,null,null,null,null,null,null,null,null,null,null,null,null,null,null,null,null,null,null,null,null,null,null,null,null,null,null,null,null,null,null,null,null,null,null,null,null,null,null,null,null,null,null,null,null,null,null,null,"（新規の場合のみ記載）",null,null,null,null,null,null,null,null,null,null,null,null,null,null,null,null,null,null,null,null,null,null,null,null,null,null,null,null,null,null,null,null,null,null,null,null,null,null,null,null,null,null,null,null,null,null,null,null,null,null,null,null,null,null,null,null,null,null,null,null,null,null,null,null,null,null,null,null,null,null,null,null,{"$f":"+IF($N$7<>\"\",IF(HLOOKUP(TEXT($N$7&1,\"#,##0\")*1,入力用!$B$18:$IL$73,31,FALSE)<>\"\",HLOOKUP(TEXT($N$7&1,\"#,##0\")*1,入力用!$B$18:$IL$73,31,FALSE),\"\"),\"\")","v":""}]
[]
[null,null,null,null,null,null,null,null,null,null,null,null,null,null,null,null,null,null,null,null," 2⃣ 一括徴収の場合（未徴収税額を一括徴収する場合に記入してください。）"]
[]
[]
[null,null,null,null,null,null,null,null,null,null,null,null,null,null,null,null,null,null,null,null,"番号を記入",null,null,null,null,null,null,null,null,null,null,null,null,"\n1.異動年月日が12月31日以前でかつ本人からの申出があったため。\n\n2.異動年月日が1月1日以降でかつ特別徴収の継続の希望がないため。\n",null,null,null,null,null,null,null,null,null,null,null,null,null,null,null,null,null,null,null,null,null,null,null,null,null,null,null,null,null,null,null,null,null,null,null,null,null,null,null,null,null,null,null,null,null,null,null,null,null,null,null,null,null,null,null,null,null,null,null,null,null,null,null,null,null,null,null,null,null,null,null,null,null,null,null,null,null,"徴収予定額((ウ)と同額)を右欄に記入",null,null,null,null,null,null,null,null,null,null,null,null,null,null,null,"円"]
[null,null,null,null,null,null,null,null,null,null,null,null,null,null,null,null,null,null,null,null,null,null,null,null,null,null,null,null,null,null,null,null,null,null,null,null,null,null,null,null,null,null,null,null,null,null,null,null,null,null,null,null,null,null,null,null,null,null,null,null,null,null,null,null,null,null,null,null,null,null,null,null,null,null,null,null,null,null,null,null,null,null,null,null,null,null,null,null,null,null,null,null,null,null,null,null,null,null,null,null,null,null,null,null,null,null,null,null,null,null,null,null,null,null,null,null,null,null,null,null,null,null,null,null,null,null,null,null,null,null,null,null,null,null,null,null,null,null,null,null,null,null,null,null,null,null,null,null,null,null,null,null,null,null,null,null,null,null,null," 左記の一括徴収した税額は、",null,null,null,null,null,null,null,null,null,null,null,null,null,null,null,null,null,null,null,null,null,null,null,null,null,null,null,null,null,null,null,null,null,null,null,null,null,null,null,null,null,"月分（翌月10日納期限）で納入します。"]
[null,null,null,null,null,null,null,null,null,null,null,null,null,null,null,null,null,null,null,null,null,null,null,null,null,null,null,null,null,null,null,null,null,null,null,null,null,null,null,null,null,null,null,null,null,null,null,null,null,null,null,null,null,null,null,null,null,null,null,null,null,null,null,null,null,null,null,null,null,null,null,null,null,null,null,null,null,null,null,null,null,null,null,null,null,null,null,null,null,null,null,null,null,null,null,null,null,null,null,null,null,null,null,null,null,null,null,null,null,null,null,null,null,null,null,null,null,null,null,null,null,null,null,null,null,null,null,{"$f":"+IF($N$7<>\"\",IF(HLOOKUP(TEXT($N$7&1,\"#,##0\")*1,入力用!$B$18:$IL$73,30,FALSE)<>\"\",HLOOKUP(TEXT($N$7&1,\"#,##0\")*1,入力用!$B$18:$IL$73,30,FALSE),\"\"),\"\")","v":""},null,null,null,null,null,null,null,null,null,null,null,null,null,null,null,null,null,null,null,null,null,null,null,null,null,null,null,null,null,null,null,null,null,null,null,null,null,null,null,null,null,null,null,null,null,null,null,null,null,null,null,null,null,null,null,null,null,null,null,null,null,null,{"$f":"IF($JG$81<>\"\",IF($FV$49<>\"\",RIGHT($JG$81,LEN($JG$81)-4),RIGHT($JG$81,LEN($JG$81)-3)),\"\")","v":""}]
[null,null,null,null,null,null,null,null,null,null,null,null,null,null,null,null,null,null,null,null,"　　1　異動年月日が12月31日以前でかつ本人からの申出があったため。\n　　2　異動年月日が1月1日以降でかつ特別徴収の継続の希望がないため。",null,null,{"$f":"+IF($N$7<>\"\",LEFT(IF(AND($JG$52<>\"\",OR($JG$52=$JG$53,$JG$52=$JG$54)),VLOOKUP($JG$52,$JG$53:$JJ$56,4,FALSE),\"\"),1),\"\")","v":""},null,null,null,null,"←"]
[]
[]
[]
[]
[]
[null,null,null,null,null,null,null,null,null,null,null,null,null,null,null,null,null,null,null,null," 3⃣ 普通徴収の（一括徴収しない）場合 ( 1⃣  及び2⃣　に当てはまらない場合に記入してください.)"]
[null,null,null,null,null,null,null,null,null,null,null,null,null,null,null,null,null,null,null,null,null,null,null,null,null,null,null,null,null,null,null,null,null,null,null,null,null,null,null,null,null,null,null,null,null,null,null,null,null,null,null,null,null,null,null,null,null,null,null,null,null,null,null,null,null,null,null,null,null,null,null,null,null,null,null,null,null,null,null,null,null,null,null,null,null,null,null,null,null,null,null,null,null,null,null,null,null,null,null,null,null,null,null,null,null,null,null,null,null,null,null,null,null,null,null,null,null,null,null,null,null,null,null,null,null,null,null,null,null,null,null,null,null,null,null,null,null,null,null,null,null,null,null,null,null,null,null,null,null,null,null,null,null,"旧特別徴収処理欄",null,null,null,null,{"$f":"IF(HI128<>\"\",HI128&HI132,\"　年度\")","v":"　年度"},null,null,null,null,null,null,null,null,null,null,null,null,null,null,null,null,null,null,"月分以降の\n月割額は",null,null,null,null,null,null,null,null,null,"　　1　特別徴収義務者を変更\n　　2　普通徴収切替\n　　3　一括徴収\n　　4　その他",null,null,null,null,null,"　　1　特別徴収義務者を変更\n　　2　普通徴収切替\n　　3　一括徴収\n　　4　その他",null,null,null,null,null,null,null,null,null,null,null,null,null,null,null,null,null,null,null,null,null,null,null,null,null,null,null,null,null,null,null,null,null,"入力者",null,null,null,null,null,null,null,null,null,null,null,null,null,null,null,null,null,"点検"]
[]
[null,null,null,null,null,null,null,null,null,null,null,null,null,null,null,null,null,null,null,null,"  番号を記入",null,null,null,null,null,null,null,null,null,null,null,null,null,"異動年月日が1月1日～4月30日の場合は、原則、一括徴収してください。"]
[]
[null,null,null,null,null,null,null,null,null,null,null,null,null,null,null,null,null,null,null,null,null,null,null,{"$f":"IF($N$7<>\"\",LEFT(IF(AND($JG$52<>\"\",AND($JG$52<>$JG$53,$JG$52<>$JG$54)),VLOOKUP($JG$52,$JG$55:$JJ$56,4,FALSE),\"\"),1),\"\")","v":""},null,null,null,null,"←",null,null,null,null,null,"1.異動年月日が6月1日～12月31日でかつ本人からの申出がないため。\n2.異動年月日が1月1日～4月30日でかつ給与及び退職手当等から未徴収税額(ウ)を一括徴収できないため。\n3.死亡による退職のため。"]
[null,null,null,null,null,null,null,null,null,null,null,null,null,null,null,null,null,null,null,null,"　　1　異動年月日が12月31日以前でかつ本人からの申出があったため。\n　　2　異動年月日が1月1日以降でかつ特別徴収の継続の希望がないため。"]
[null,null,null,null,null,null,null,null,null,null,null,null,null,null,null,null,null,null,null,null,null,null,null,null,null,null,null,null,null,null,null,null,null,null,null,null,null,null,null,null,null,null,null,null,null,null,null,null,null,null,null,null,null,null,null,null,null,null,null,null,null,null,null,null,null,null,null,null,null,null,null,null,null,null,null,null,null,null,null,null,null,null,null,null,null,null,null,null,null,null,null,null,null,null,null,null,null,null,null,null,null,null,null,null,null,null,null,null,null,null,null,null,null,null,null,null,null,null,null,null,null,null,null,null,null,null,null,null,null,null,null,null,null,null,null,null,null,null,null,null,null,null,null,null,null,null,null,null,null,null,null,null,null,null,null,null,null,null,{"$f":"IF(HI138<>\"\",HI138&HI142,\"　年度\")","v":"　年度"},null,null,null,null,null,null,null,null,null,null,null,null,null,null,null,null,null,null,"月分以降の月割額は",null,null,null,null,null,null,null,null,null,"　　1　特別徴収義務者を変更\n　　2　普通徴収切替\n　　3　一括徴収\n　　4　その他",null,null,null,null,null,"　　1　特別徴収義務者を変更\n　　2　普通徴収切替\n　　3　一括徴収\n　　4　その他",null,null,null,null,null,null,null,null,null,null,null,null,null,null,null,null,null,null,null,null,null,null,null,null,null,null,null,null,null,null,null,null,null,"入力者",null,null,null,null,null,null,null,null,null,null,null,null,null,null,null,null,null,"点検"]
[]
[]
[]
[null,null,null,null,null,null,null,null,null,null,null,null,null,null,null,null,null,null,null,null,"市町村処理欄"]
[]
[]
[null,null,null,null,null,null,null,null,null,null,null,null,null,null,null,null,null,null,null,null,"A",null,null,null,null,null,null,null,null,null,null,null,null,null,null,null,null,null,null,null,null,null,null,null,null,null,null,null,null,null,null,null,null,null,null,null,null,null,null,"B",null,null,null,null,null,null,null,null,null,null,null,null,null,null,null,null,null,null,null,null,null,null,null,null,null,null,null,null,null,null,null,null,null,null,null,null,null,null,"C",null,null,null,null,null,null,null,null,null,null,null,null,null,null,null,null,null,null,null,null,null,null,null,null,null,null,null,null,null,null,null,null,null,null,null,null,null,null,"D",null,null,null,null,null,null,null,null,null,null,null,null,null,null,null,null,null,null,null,null,null,null,null,null,null,null,null,null,null,null,null,null,null,null,null,null,null,null,"E",null,null,null,null,null,null,null,null,null,null,null,null,null,null,null,null,null,null,null,null,null,null,null,null,null,null,null,null,null,null,null,null,null,null,null,null,null,null,"F"]
[]
[]
[]
[null,null,null,null,null,null,null,null,null,null,null,null,null,null,null,null,null,null,null,null,"G",null,null,null,null,null,null,null,null,null,null,null,null,null,null,null,null,null,null,null,null,null,null,null,null,null,null,null,null,null,null,null,null,null,null,null,null,null,null,"H",null,null,null,null,null,null,null,null,null,null,null,null,null,null,null,null,null,null,null,null,null,null,null,null,null,null,null,null,null,null,null,null,null,null,null,null,null,null,"I",null,null,null,null,null,null,null,null,null,null,null,null,null,null,null,null,null,null,null,null,null,null,null,null,null,null,null,null,null,null,null,null,null,null,null,null,null,null,"J",null,null,null,null,null,null,null,null,null,null,null,null,null,null,null,null,null,null,null,null,null,null,null,null,null,null,null,null,null,null,null,null,null,null,null,null,null,null,"K",null,null,null,null,null,null,null,null,null,null,null,null,null,null,null,null,null,null,null,null,null,null,null,null,null,null,null,null,null,null,null,null,null,null,null,null,null,null,"L"]