{"text_format":"1","workbook":"xlsx","n_sheets":2,"sheets":["入力用","異動届出書（印刷用）"],"not_rendered":{"charts":0,"images":0,"macros":1,"external_links":0,"defined_names":415,"comments":1,"pivot_tables":0},"unopened":[],"bounds":{"document_bytes":16777216,"sheet_cells":100000,"rows_first":2000,"rows_last":500,"rows_between":2000,"halvings":0,"cell_chars":16384,"cell_head_chars":4096},"cells_cut":0,"cells_raw":0,"read":"whole","date_system":"1900"}

{"sheet":"入力用","index":0,"n_rows":143,"n_cols":246,"rows_kept":143,"cut":false,"hidden":false,"merged":[[65,96,65,101],[65,102,65,107],[65,198,65,203],[65,204,65,209],[65,210,65,215],[65,216,65,221],[65,222,65,227],[65,228,65,233],[65,234,65,239],[65,240,65,245],[64,186,64,191],[64,192,64,197],[64,198,64,203],[64,204,64,209],[64,210,64,215],[64,216,64,221],[64,222,64,227],[64,228,64,233],[64,234,64,239],[64,240,64,245],[64,168,64,173],[64,174,64,179],[64,180,64,185],[50,60,50,65],[50,66,50,71],[65,6,65,11],[65,12,65,17],[65,18,65,23],[65,24,65,29],[65,30,65,35],[65,36,65,41],[65,42,65,47],[65,48,65,53],[65,54,65,59],[65,60,65,65],[65,66,65,71],[65,72,65,77],[65,78,65,83],[65,84,65,89],[65,90,65,95],[50,84,50,89],[50,90,50,95],[58,30,58,35],[58,36,58,41],[58,42,58,47],[58,48,58,53],[58,54,58,59],[58,60,58,65],[62,24,62,28],[62,30,62,34],[62,36,62,40],[62,42,62,46],[62,48,62,52],[62,54,62,58],[63,30,63,32],[64,4,64,5],[64,90,64,95],[65,108,65,113],[65,114,65,119],[65,120,65,125],[48,2,65,2],[62,3,65,3],[64,6,64,11],[64,12,64,17],[64,18,64,23],[64,24,64,29],[64,30,64,35],[64,36,64,41],[64,42,64,47],[64,48,64,53],[64,54,64,59],[64,60,64,65],[64,66,64,71],[64,72,64,77],[64,78,64,83],[64,84,64,89],[48,3,48,5],[49,6,49,11],[49,12,49,17],[49,18,49,23],[49,24,49,29],[49,30,49,35],[49,36,49,41],[49,42,49,47],[50,102,50,107],[50,108,50,113],[50,78,50,83],[2,0,2,1],[7,0,7,5],[8,0,14,0],[8,1,14,1],[8,2,8,5],[9,2,9,5],[10,2,10,5],[65,144,65,149],[65,150,65,155],[65,156,65,161],[65,162,65,167],[65,168,65,173],[65,174,65,179],[65,180,65,185],[65,186,65,191],[65,192,65,197],[65,126,65,131],[65,132,65,137],[65,138,65,143],[65,4,65,5],[64,96,64,101],[64,102,64,107],[64,108,64,113],[64,114,64,119],[64,120,64,125],[64,126,64,131],[64,132,64,137],[64,138,64,143],[64,144,64,149],[64,150,64,155],[64,156,64,161],[64,162,64,167],[15,6,15,11],[16,1,16,5],[16,6,16,11],[16,12,16,17],[16,18,16,23],[14,6,14,11],[14,12,14,17],[14,18,14,19],[14,21,14,22],[14,24,14,25],[14,26,14,27],[10,6,10,27],[11,2,11,5],[11,6,11,27],[12,2,12,5],[12,19,12,27],[13,2,14,5],[13,6,13,11],[13,12,13,17],[13,18,13,25],[13,26,13,27],[16,138,16,143],[16,144,16,149],[16,150,16,155],[16,120,16,125],[16,126,16,131],[16,60,16,65],[16,66,16,71],[16,72,16,77],[16,78,16,83],[16,84,16,89],[16,90,16,95],[16,24,16,29],[16,30,16,35],[16,36,16,41],[16,42,16,47],[16,48,16,53],[16,54,16,59],[18,132,18,137],[18,138,18,143],[18,144,18,149],[22,2,22,5],[22,6,22,11],[22,12,22,17],[22,18,22,23],[46,1,65,1],[16,0,65,0],[16,240,16,245],[17,1,17,5],[18,1,18,5],[18,6,18,11],[18,12,18,17],[18,18,18,23],[18,24,18,29],[18,30,18,35],[18,36,18,41],[18,42,18,47],[16,204,16,209],[16,210,16,215],[16,216,16,221],[16,222,16,227],[16,228,16,233],[16,234,16,239],[16,168,16,173],[16,174,16,179],[16,180,16,185],[16,186,16,191],[16,192,16,197],[16,198,16,203],[16,132,16,137],[19,60,19,65],[19,66,19,71],[19,72,19,77],[16,156,16,161],[16,162,16,167],[16,96,16,101],[16,102,16,107],[16,108,16,113],[16,114,16,119],[18,234,18,239],[18,240,18,245],[19,1,19,5],[19,6,19,11],[19,12,19,17],[19,18,19,23],[19,24,19,29],[19,30,19,35],[19,36,19,41],[18,192,18,197],[18,198,18,203],[18,204,18,209],[18,210,18,215],[18,216,18,221],[18,222,18,227],[18,156,18,161],[18,162,18,167],[18,168,18,173],[18,174,18,179],[18,180,18,185],[18,186,18,191],[18,120,18,125],[18,126,18,131],[18,228,18,233],[18,114,18,119],[18,48,18,53],[18,54,18,59],[18,60,18,65],[18,66,18,71],[18,72,18,77],[18,78,18,83],[20,96,20,101],[20,102,20,107],[20,36,20,41],[20,42,20,47],[20,48,20,53],[20,54,20,59],[20,60,20,65],[20,66,20,71],[19,222,19,227],[19,228,19,233],[18,150,18,155],[18,84,18,89],[18,90,18,95],[18,96,18,101],[18,102,18,107],[18,108,18,113],[19,126,19,131],[19,132,19,137],[19,138,19,143],[19,144,19,149],[19,78,19,83],[19,84,19,89],[19,90,19,95],[19,96,19,101],[19,234,19,239],[19,240,19,245],[20,1,20,5],[20,6,20,11],[20,12,20,17],[20,18,20,23],[20,24,20,29],[20,30,20,35],[19,186,19,191],[19,192,19,197],[19,198,19,203],[19,204,19,209],[19,210,19,215],[19,216,19,221],[19,150,19,155],[19,156,19,161],[19,162,19,167],[19,168,19,173],[19,174,19,179],[19,180,19,185],[19,114,19,119],[19,120,19,125],[20,216,20,221],[20,222,20,227],[20,228,20,233],[20,234,20,239],[20,240,20,245],[19,102,19,107],[19,108,19,113],[19,42,19,47],[19,48,19,53],[19,54,19,59],[21,2,21,5],[21,6,21,11],[21,12,21,17],[21,18,21,23],[21,24,21,29],[20,180,20,185],[20,186,20,191],[20,192,20,197],[20,198,20,203],[20,204,20,209],[20,210,20,215],[20,144,20,149],[20,150,20,155],[20,156,20,161],[20,162,20,167],[20,168,20,173],[20,174,20,179],[20,108,20,113],[20,114,20,119],[20,120,20,125],[20,126,20,131],[20,132,20,137],[20,138,20,143],[20,72,20,77],[20,78,20,83],[20,84,20,89],[20,90,20,95],[21,102,21,107],[21,108,21,113],[21,114,21,119],[21,120,21,125],[21,126,21,131],[21,132,21,137],[21,66,21,71],[21,72,21,77],[21,78,21,83],[21,84,21,89],[21,90,21,95],[21,96,21,101],[21,30,21,35],[21,36,21,41],[21,42,21,47],[21,48,21,53],[21,54,21,59],[21,60,21,65],[21,210,21,215],[21,216,21,221],[21,222,21,227],[21,228,21,233],[21,234,21,239],[21,240,21,245],[21,174,21,179],[21,180,21,185],[21,186,21,191],[21,192,21,197],[21,198,21,203],[21,204,21,209],[21,138,21,143],[21,144,21,149],[21,150,21,155],[21,156,21,161],[21,162,21,167],[21,168,21,173],[22,144,22,149],[22,150,22,155],[22,156,22,161],[22,162,22,167],[22,96,22,101],[22,102,22,107],[22,108,22,113],[22,114,22,119],[22,120,22,125],[22,126,22,131],[22,60,22,65],[22,66,22,71],[22,72,22,77],[22,78,22,83],[22,84,22,89],[22,90,22,95],[22,24,22,29],[22,30,22,35],[22,36,22,41],[22,42,22,47],[22,48,22,53],[22,54,22,59],[23,114,23,119],[23,120,23,125],[23,54,23,59],[23,60,23,65],[23,66,23,71],[23,72,23,77],[23,78,23,83],[23,84,23,89],[22,240,22,245],[23,1,24,4],[23,6,23,11],[23,12,23,17],[23,18,23,23],[23,24,23,29],[23,30,23,35],[23,36,23,41],[23,42,23,47],[23,48,23,53],[22,204,22,209],[22,210,22,215],[22,216,22,221],[22,222,22,227],[22,228,22,233],[22,234,22,239],[22,168,22,173],[22,174,22,179],[22,180,22,185],[22,186,22,191],[22,192,22,197],[22,198,22,203],[22,132,22,137],[22,138,22,143],[23,234,23,239],[23,240,23,245],[25,1,25,5],[25,6,25,11],[25,12,25,17],[25,18,25,23],[25,24,25,29],[25,30,25,35],[25,36,25,41],[25,42,25,47],[23,198,23,203],[23,204,23,209],[23,210,23,215],[23,216,23,221],[23,222,23,227],[23,228,23,233],[23,162,23,167],[23,168,23,173],[23,174,23,179],[23,180,23,185],[23,186,23,191],[23,192,23,197],[23,126,23,131],[23,132,23,137],[23,138,23,143],[23,144,23,149],[23,150,23,155],[23,156,23,161],[23,90,23,95],[23,96,23,101],[23,102,23,107],[23,108,23,113],[25,180,25,185],[25,186,25,191],[25,120,25,125],[25,126,25,131],[25,132,25,137],[25,138,25,143],[25,144,25,149],[25,150,25,155],[25,84,25,89],[25,90,25,95],[25,96,25,101],[25,102,25,107],[25,108,25,113],[25,114,25,119],[25,48,25,53],[25,54,25,59],[25,60,25,65],[25,66,25,71],[25,72,25,77],[25,78,25,83],[26,36,26,38],[26,39,26,41],[26,42,26,44],[26,45,26,47],[26,48,26,50],[26,51,26,53],[26,18,26,20],[26,21,26,23],[26,24,26,26],[26,27,26,29],[26,30,26,32],[26,33,26,35],[25,228,25,233],[25,234,25,239],[25,240,25,245],[26,1,34,1],[26,2,29,2],[26,3,26,5],[26,6,26,8],[26,9,26,11],[26,12,26,14],[26,15,26,17],[25,192,25,197],[25,198,25,203],[25,204,25,209],[25,210,25,215],[25,216,25,221],[25,222,25,227],[25,156,25,161],[25,162,25,167],[25,168,25,173],[25,174,25,179],[26,90,26,92],[26,93,26,95],[26,96,26,98],[26,99,26,101],[26,102,26,104],[26,105,26,107],[26,72,26,74],[26,75,26,77],[26,78,26,80],[26,81,26,83],[26,84,26,86],[26,87,26,89],[26,54,26,56],[26,57,26,59],[26,60,26,62],[26,63,26,65],[26,66,26,68],[26,69,26,71],[26,174,26,176],[26,177,26,179],[26,144,26,146],[26,147,26,149],[26,150,26,152],[26,153,26,155],[26,156,26,158],[26,159,26,161],[26,126,26,128],[26,129,26,131],[26,132,26,134],[26,135,26,137],[26,138,26,140],[26,141,26,143],[26,108,26,110],[26,111,26,113],[26,114,26,116],[26,117,26,119],[26,120,26,122],[26,123,26,125],[26,234,26,236],[26,237,26,239],[26,240,26,242],[26,243,26,245],[27,3,27,5],[27,6,27,11],[27,12,27,17],[27,18,27,23],[27,24,27,29],[27,30,27,35],[26,216,26,218],[26,219,26,221],[26,222,26,224],[26,225,26,227],[26,228,26,230],[26,231,26,233],[26,198,26,200],[26,201,26,203],[26,204,26,206],[26,207,26,209],[26,210,26,212],[26,213,26,215],[26,180,26,182],[26,183,26,185],[26,186,26,188],[26,189,26,191],[26,192,26,194],[26,195,26,197],[26,162,26,164],[26,165,26,167],[26,168,26,170],[26,171,26,173],[27,108,27,113],[27,114,27,119],[27,120,27,125],[27,126,27,131],[27,132,27,137],[27,138,27,143],[27,72,27,77],[27,78,27,83],[27,84,27,89],[27,90,27,95],[27,96,27,101],[27,102,27,107],[27,36,27,41],[27,42,27,47],[27,48,27,53],[27,54,27,59],[27,60,27,65],[27,66,27,71],[28,78,28,83],[28,84,28,89],[28,90,28,95],[28,96,28,101],[28,30,28,35],[28,36,28,41],[28,42,28,47],[28,48,28,53],[28,54,28,59],[28,60,28,65],[27,216,27,221],[27,222,27,227],[27,228,27,233],[27,234,27,239],[27,240,27,245],[28,3,28,5],[28,6,28,11],[28,12,28,17],[28,18,28,23],[28,24,28,29],[27,180,27,185],[27,186,27,191],[27,192,27,197],[27,198,27,203],[27,204,27,209],[27,210,27,215],[27,144,27,149],[27,150,27,155],[27,156,27,161],[27,162,27,167],[27,168,27,173],[27,174,27,179],[29,3,29,5],[29,6,29,11],[29,12,29,17],[29,18,29,23],[29,24,29,29],[29,30,29,35],[28,210,28,215],[28,216,28,221],[28,222,28,227],[28,228,28,233],[28,234,28,239],[28,240,28,245],[28,174,28,179],[28,180,28,185],[28,186,28,191],[28,192,28,197],[28,198,28,203],[28,204,28,209],[28,138,28,143],[28,144,28,149],[28,150,28,155],[28,156,28,161],[28,162,28,167],[28,168,28,173],[28,102,28,107],[28,108,28,113],[28,114,28,119],[28,120,28,125],[28,126,28,131],[28,132,28,137],[28,66,28,71],[28,72,28,77],[29,234,29,239],[29,240,29,245],[30,2,34,2],[30,3,30,5],[30,6,30,11],[30,12,30,17],[30,18,30,23],[29,180,29,185],[29,186,29,191],[29,192,29,197],[29,198,29,203],[29,204,29,209],[29,210,29,215],[29,144,29,149],[29,150,29,155],[29,156,29,161],[29,162,29,167],[29,168,29,173],[29,174,29,179],[29,108,29,113],[29,114,29,119],[29,120,29,125],[29,126,29,131],[29,132,29,137],[29,138,29,143],[29,72,29,77],[29,78,29,83],[29,84,29,89],[29,90,29,95],[29,96,29,101],[29,102,29,107],[29,36,29,41],[30,120,30,125],[30,126,30,131],[30,60,30,65],[30,66,30,71],[30,72,30,77],[30,78,30,83],[30,84,30,89],[30,90,30,95],[30,24,30,29],[30,30,30,35],[30,36,30,41],[30,42,30,47],[30,48,30,53],[30,54,30,59],[29,216,29,221],[29,222,29,227],[29,228,29,233],[29,42,29,47],[29,48,29,53],[29,54,29,59],[29,60,29,65],[29,66,29,71],[30,240,30,245],[31,3,31,5],[31,6,31,11],[31,12,31,17],[31,18,31,23],[31,24,31,29],[31,30,31,35],[31,36,31,41],[31,42,31,47],[31,48,31,53],[30,204,30,209],[30,210,30,215],[30,216,30,221],[30,222,30,227],[30,228,30,233],[30,234,30,239],[30,168,30,173],[30,174,30,179],[30,180,30,185],[30,186,30,191],[30,192,30,197],[30,198,30,203],[30,132,30,137],[30,138,30,143],[30,144,30,149],[30,150,30,155],[30,156,30,161],[30,162,30,167],[30,96,30,101],[30,102,30,107],[30,108,30,113],[30,114,30,119],[31,240,31,245],[32,3,32,5],[32,6,32,11],[32,12,32,17],[32,18,32,23],[32,24,32,29],[32,30,32,35],[32,36,32,41],[32,42,32,47],[31,198,31,203],[31,204,31,209],[31,210,31,215],[31,216,31,221],[31,222,31,227],[31,228,31,233],[31,162,31,167],[31,168,31,173],[31,174,31,179],[31,180,31,185],[31,186,31,191],[31,192,31,197],[31,126,31,131],[31,132,31,137],[31,138,31,143],[31,144,31,149],[31,150,31,155],[31,156,31,161],[31,90,31,95],[31,96,31,101],[31,102,31,107],[31,108,31,113],[31,114,31,119],[32,132,32,137],[32,138,32,143],[32,144,32,149],[32,150,32,155],[32,84,32,89],[32,90,32,95],[32,96,32,101],[32,102,32,107],[32,108,32,113],[32,114,32,119],[32,48,32,53],[32,54,32,59],[32,60,32,65],[32,66,32,71],[32,72,32,77],[32,78,32,83],[31,234,31,239],[31,120,31,125],[31,54,31,59],[31,60,31,65],[31,66,31,71],[31,72,31,77],[31,78,31,83],[31,84,31,89],[33,102,33,107],[33,108,33,113],[33,42,33,47],[33,48,33,53],[33,54,33,59],[33,60,33,65],[33,66,33,71],[33,72,33,77],[32,228,32,233],[32,234,32,239],[32,240,32,245],[33,3,33,5],[33,6,33,11],[33,12,33,17],[33,18,33,23],[33,24,33,29],[33,30,33,35],[33,36,33,41],[32,192,32,197],[32,198,32,203],[32,204,32,209],[32,210,32,215],[32,216,32,221],[32,222,32,227],[32,156,32,161],[32,162,32,167],[32,168,32,173],[32,174,32,179],[32,180,32,185],[32,186,32,191],[32,120,32,125],[32,126,32,131],[33,222,33,227],[33,228,33,233],[33,234,33,239],[33,240,33,245],[34,3,34,5],[34,6,34,11],[34,12,34,17],[34,18,34,23],[34,24,34,29],[34,30,34,35],[33,186,33,191],[33,192,33,197],[33,198,33,203],[33,204,33,209],[33,210,33,215],[33,216,33,221],[33,150,33,155],[33,156,33,161],[33,162,33,167],[33,168,33,173],[33,174,33,179],[33,180,33,185],[33,114,33,119],[33,120,33,125],[33,126,33,131],[33,132,33,137],[33,138,33,143],[33,144,33,149],[33,78,33,83],[33,84,33,89],[33,90,33,95],[33,96,33,101],[34,234,34,239],[34,240,34,245],[35,1,35,5],[34,180,34,185],[34,186,34,191],[34,192,34,197],[34,198,34,203],[34,204,34,209],[34,210,34,215],[34,144,34,149],[34,150,34,155],[34,156,34,161],[34,162,34,167],[34,168,34,173],[34,174,34,179],[34,108,34,113],[34,114,34,119],[34,120,34,125],[34,126,34,131],[34,132,34,137],[34,138,34,143],[34,72,34,77],[34,78,34,83],[34,84,34,89],[34,90,34,95],[34,96,34,101],[34,102,34,107],[34,36,34,41],[34,42,34,47],[34,48,34,53],[34,54,34,59],[34,60,34,65],[36,96,36,101],[36,102,36,107],[36,36,36,41],[36,42,36,47],[36,48,36,53],[36,54,36,59],[36,60,36,65],[36,66,36,71],[36,1,36,5],[36,6,36,11],[36,12,36,17],[36,18,36,23],[36,24,36,29],[36,30,36,35],[34,216,34,221],[34,222,34,227],[34,228,34,233],[34,66,34,71],[36,216,36,221],[36,222,36,227],[36,228,36,233],[36,234,36,239],[36,240,36,245],[37,2,37,5],[37,6,37,11],[37,12,37,17],[37,18,37,23],[37,24,37,29],[36,180,36,185],[36,186,36,191],[36,192,36,197],[36,198,36,203],[36,204,36,209],[36,210,36,215],[36,144,36,149],[36,150,36,155],[36,156,36,161],[36,162,36,167],[36,168,36,173],[36,174,36,179],[36,108,36,113],[36,114,36,119],[36,120,36,125],[36,126,36,131],[36,132,36,137],[36,138,36,143],[36,72,36,77],[36,78,36,83],[36,84,36,89],[36,90,36,95],[37,102,37,107],[37,108,37,113],[37,114,37,119],[37,120,37,125],[37,126,37,131],[37,132,37,137],[37,66,37,71],[37,72,37,77],[37,78,37,83],[37,84,37,89],[37,90,37,95],[37,96,37,101],[37,30,37,35],[37,36,37,41],[37,42,37,47],[37,48,37,53],[37,54,37,59],[37,60,37,65],[37,210,37,215],[37,216,37,221],[37,222,37,227],[37,228,37,233],[37,234,37,239],[37,240,37,245],[37,174,37,179],[37,180,37,185],[37,186,37,191],[37,192,37,197],[37,198,37,203],[37,204,37,209],[37,138,37,143],[37,144,37,149],[37,150,37,155],[37,156,37,161],[37,162,37,167],[37,168,37,173],[38,132,38,136],[38,138,38,142],[38,72,38,76],[38,78,38,82],[38,84,38,88],[38,90,38,94],[38,96,38,100],[38,102,38,106],[38,36,38,40],[38,42,38,46],[38,48,38,52],[38,54,38,58],[38,60,38,64],[38,66,38,70],[38,1,38,5],[38,6,38,10],[38,12,38,16],[38,18,38,22],[38,24,38,28],[38,30,38,34],[39,24,39,28],[39,30,39,34],[39,36,39,40],[39,42,39,46],[39,48,39,52],[39,54,39,58],[38,216,38,220],[38,222,38,226],[38,228,38,232],[38,234,38,238],[38,240,38,244],[39,1,41,1],[39,2,39,5],[39,6,39,10],[39,12,39,16],[39,18,39,22],[38,180,38,184],[38,186,38,190]],"merged_total":2450,"flags":["merged_cut"]}
["給与所得者異動届出書(入力シート)"]
[]
["作成方法"]
["①　共通項目に必要事項を入力のうえ、各従業員等の項目に入力番号ごとに必要事項を入力してください。"]
["②　必要事項を入力後、「異動届出書(印刷用)」シートの入力番号欄に「入力用」シートの「入力番号」を入力いただくと該当者が表示されます。"]
["　　 記載内容に誤りがないかご確認のうえ、異動（退職、転勤等）があった者1人につき1枚印刷して、提出してください。"]
[]
["提　出　年　月　日　　　　　令和",null,null,null,null,null,null,"年",null,"月",null,"日"]
["共通項目\n(すべてに印刷)","給与支払者情報\n（特別徴収義務者）","給与支払者番号\n（特別徴収指定番号）"]
[null,null,"郵便番号",null,null,null,null,null,null,"-"]
[null,null,"名　　称\n（氏　　名）"]
[null,null,"所　在　地\n（住　　　所）"]
[null,null,"個人番号又は法人番号",null,null,null,null,null,null,null,null,null,null,null,null,null,null,null,null,"（右詰めで入力してください。）"]
[null,null,"連　絡　先",null,null,null,"所属課・係",null,null,null,null,null,"氏　名",null,null,null,null,null,"電話番号",null,null,null,null,null,null,null,"内　線"]
[null,null,null,null,null,null,null,null,null,null,null,null,null,null,null,null,null,null,null,null,"－",null,null,"－"]
[]
["各従業員等の項目\n（入力番号ごとの内容がそれぞれ異動届出書に印刷）","入　力　番　号",null,null,null,null,1,null,null,null,null,null,2,null,null,null,null,null,3,null,null,null,null,null,4,null,null,null,null,null,5,null,null,null,null,null,6,null,null,null,null,null,7,null,null,null,null,null,8,null,null,null,null,null,9,null,null,null,null,null,10,null,null,null,null,null,11,null,null,null,null,null,12,null,null,null,null,null,13,null,null,null,null,null,14,null,null,null,null,null,15,null,null,null,null,null,16,null,null,null,null,null,17,null,null,null,null,null,18,null,null,null,null,null,19,null,null,null,null,null,20,null,null,null,null,null,21,null,null,null,null,null,22,null,null,null,null,null,23,null,null,null,null,null,24,null,null,null,null,null,25,null,null,null,null,null,26,null,null,null,null,null,27,null,null,null,null,null,28,null,null,null,null,null,29,null,null,null,null,null,30,null,null,null,null,null,31,null,null,null,null,null,32,null,null,null,null,null,33,null,null,null,null,null,34,null,null,null,null,null,35,null,null,null,null,null,36,null,null,null,null,null,37,null,null,null,null,null,38,null,null,null,null,null,39,null,null,null,null,null,40]
[null,"サブ番号",null,null,null,null,{"$f":"TEXT(G17&1,\"#,##0\")*1","v":11},{"$f":"+G18+1","v":12},{"$f":"+H18+1","v":13},{"$f":"+I18+1","v":14},{"$f":"+J18+1","v":15},{"$f":"+K18+1","v":16},{"$f":"TEXT(M17&1,\"#,##0\")*1","v":21},{"$f":"+M18+1","v":22},{"$f":"+N18+1","v":23},{"$f":"+O18+1","v":24},{"$f":"+P18+1","v":25},{"$f":"+Q18+1","v":26},{"$f":"TEXT(S17&1,\"#,##0\")*1","v":31},{"$f":"+S18+1","v":32},{"$f":"+T18+1","v":33},{"$f":"+U18+1","v":34},{"$f":"+V18+1","v":35},{"$f":"+W18+1","v":36},{"$f":"TEXT(Y17&1,\"#,##0\")*1","v":41},{"$f":"+Y18+1","v":42},{"$f":"+Z18+1","v":43},{"$f":"+AA18+1","v":44},{"$f":"+AB18+1","v":45},{"$f":"+AC18+1","v":46},{"$f":"TEXT(AE17&1,\"#,##0\")*1","v":51},{"$f":"+AE18+1","v":52},{"$f":"+AF18+1","v":53},{"$f":"+AG18+1","v":54},{"$f":"+AH18+1","v":55},{"$f":"+AI18+1","v":56},{"$f":"TEXT(AK17&1,\"#,##0\")*1","v":61},{"$f":"+AK18+1","v":62},{"$f":"+AL18+1","v":63},{"$f":"+AM18+1","v":64},{"$f":"+AN18+1","v":65},{"$f":"+AO18+1","v":66},{"$f":"TEXT(AQ17&1,\"#,##0\")*1","v":71},{"$f":"+AQ18+1","v":72},{"$f":"+AR18+1","v":73},{"$f":"+AS18+1","v":74},{"$f":"+AT18+1","v":75},{"$f":"+AU18+1","v":76},{"$f":"TEXT(AW17&1,\"#,##0\")*1","v":81},{"$f":"+AW18+1","v":82},{"$f":"+AX18+1","v":83},{"$f":"+AY18+1","v":84},{"$f":"+AZ18+1","v":85},{"$f":"+BA18+1","v":86},{"$f":"TEXT(BC17&1,\"#,##0\")*1","v":91},{"$f":"+BC18+1","v":92},{"$f":"+BD18+1","v":93},{"$f":"+BE18+1","v":94},{"$f":"+BF18+1","v":95},{"$f":"+BG18+1","v":96},{"$f":"TEXT(BI17&1,\"#,##0\")*1","v":101},{"$f":"+BI18+1","v":102},{"$f":"+BJ18+1","v":103},{"$f":"+BK18+1","v":104},{"$f":"+BL18+1","v":105},{"$f":"+BM18+1","v":106},{"$f":"TEXT(BO17&1,\"#,##0\")*1","v":111},{"$f":"+BO18+1","v":112},{"$f":"+BP18+1","v":113},{"$f":"+BQ18+1","v":114},{"$f":"+BR18+1","v":115},{"$f":"+BS18+1","v":116},{"$f":"TEXT(BU17&1,\"#,##0\")*1","v":121},{"$f":"+BU18+1","v":122},{"$f":"+BV18+1","v":123},{"$f":"+BW18+1","v":124},{"$f":"+BX18+1","v":125},{"$f":"+BY18+1","v":126},{"$f":"TEXT(CA17&1,\"#,##0\")*1","v":131},{"$f":"+CA18+1","v":132},{"$f":"+CB18+1","v":133},{"$f":"+CC18+1","v":134},{"$f":"+CD18+1","v":135},{"$f":"+CE18+1","v":136},{"$f":"TEXT(CG17&1,\"#,##0\")*1","v":141},{"$f":"+CG18+1","v":142},{"$f":"+CH18+1","v":143},{"$f":"+CI18+1","v":144},{"$f":"+CJ18+1","v":145},{"$f":"+CK18+1","v":146},{"$f":"TEXT(CM17&1,\"#,##0\")*1","v":151},{"$f":"+CM18+1","v":152},{"$f":"+CN18+1","v":153},{"$f":"+CO18+1","v":154},{"$f":"+CP18+1","v":155},{"$f":"+CQ18+1","v":156},{"$f":"TEXT(CS17&1,\"#,##0\")*1","v":161},{"$f":"+CS18+1","v":162},{"$f":"+CT18+1","v":163},{"$f":"+CU18+1","v":164},{"$f":"+CV18+1","v":165},{"$f":"+CW18+1","v":166},{"$f":"TEXT(CY17&1,\"#,##0\")*1","v":171},{"$f":"+CY18+1","v":172},{"$f":"+CZ18+1","v":173},{"$f":"+DA18+1","v":174},{"$f":"+DB18+1","v":175},{"$f":"+DC18+1","v":176},{"$f":"TEXT(DE17&1,\"#,##0\")*1","v":181},{"$f":"+DE18+1","v":182},{"$f":"+DF18+1","v":183},{"$f":"+DG18+1","v":184},{"$f":"+DH18+1","v":185},{"$f":"+DI18+1","v":186},{"$f":"TEXT(DK17&1,\"#,##0\")*1","v":191},{"$f":"+DK18+1","v":192},{"$f":"+DL18+1","v":193},{"$f":"+DM18+1","v":194},{"$f":"+DN18+1","v":195},{"$f":"+DO18+1","v":196},{"$f":"TEXT(DQ17&1,\"#,##0\")*1","v":201},{"$f":"+DQ18+1","v":202},{"$f":"+DR18+1","v":203},{"$f":"+DS18+1","v":204},{"$f":"+DT18+1","v":205},{"$f":"+DU18+1","v":206},{"$f":"TEXT(DW17&1,\"#,##0\")*1","v":211},{"$f":"+DW18+1","v":212},{"$f":"+DX18+1","v":213},{"$f":"+DY18+1","v":214},{"$f":"+DZ18+1","v":215},{"$f":"+EA18+1","v":216},{"$f":"TEXT(EC17&1,\"#,##0\")*1","v":221},{"$f":"+EC18+1","v":222},{"$f":"+ED18+1","v":223},{"$f":"+EE18+1","v":224},{"$f":"+EF18+1","v":225},{"$f":"+EG18+1","v":226},{"$f":"TEXT(EI17&1,\"#,##0\")*1","v":231},{"$f":"+EI18+1","v":232},{"$f":"+EJ18+1","v":233},{"$f":"+EK18+1","v":234},{"$f":"+EL18+1","v":235},{"$f":"+EM18+1","v":236},{"$f":"TEXT(EO17&1,\"#,##0\")*1","v":241},{"$f":"+EO18+1","v":242},{"$f":"+EP18+1","v":243},{"$f":"+EQ18+1","v":244},{"$f":"+ER18+1","v":245},{"$f":"+ES18+1","v":246},{"$f":"TEXT(EU17&1,\"#,##0\")*1","v":251},{"$f":"+EU18+1","v":252},{"$f":"+EV18+1","v":253},{"$f":"+EW18+1","v":254},{"$f":"+EX18+1","v":255},{"$f":"+EY18+1","v":256},{"$f":"TEXT(FA17&1,\"#,##0\")*1","v":261},{"$f":"+FA18+1","v":262},{"$f":"+FB18+1","v":263},{"$f":"+FC18+1","v":264},{"$f":"+FD18+1","v":265},{"$f":"+FE18+1","v":266},{"$f":"TEXT(FG17&1,\"#,##0\")*1","v":271},{"$f":"+FG18+1","v":272},{"$f":"+FH18+1","v":273},{"$f":"+FI18+1","v":274},{"$f":"+FJ18+1","v":275},{"$f":"+FK18+1","v":276},{"$f":"TEXT(FM17&1,\"#,##0\")*1","v":281},{"$f":"+FM18+1","v":282},{"$f":"+FN18+1","v":283},{"$f":"+FO18+1","v":284},{"$f":"+FP18+1","v":285},{"$f":"+FQ18+1","v":286},{"$f":"TEXT(FS17&1,\"#,##0\")*1","v":291},{"$f":"+FS18+1","v":292},{"$f":"+FT18+1","v":293},{"$f":"+FU18+1","v":294},{"$f":"+FV18+1","v":295},{"$f":"+FW18+1","v":296},{"$f":"TEXT(FY17&1,\"#,##0\")*1","v":301},{"$f":"+FY18+1","v":302},{"$f":"+FZ18+1","v":303},{"$f":"+GA18+1","v":304},{"$f":"+GB18+1","v":305},{"$f":"+GC18+1","v":306},{"$f":"TEXT(GE17&1,\"#,##0\")*1","v":311},{"$f":"+GE18+1","v":312},{"$f":"+GF18+1","v":313},{"$f":"+GG18+1","v":314},{"$f":"+GH18+1","v":315},{"$f":"+GI18+1","v":316},{"$f":"TEXT(GK17&1,\"#,##0\")*1","v":321},{"$f":"+GK18+1","v":322},{"$f":"+GL18+1","v":323},{"$f":"+GM18+1","v":324},{"$f":"+GN18+1","v":325},{"$f":"+GO18+1","v":326},{"$f":"TEXT(GQ17&1,\"#,##0\")*1","v":331},{"$f":"+GQ18+1","v":332},{"$f":"+GR18+1","v":333},{"$f":"+GS18+1","v":334},{"$f":"+GT18+1","v":335},{"$f":"+GU18+1","v":336},{"$f":"TEXT(GW17&1,\"#,##0\")*1","v":341},{"$f":"+GW18+1","v":342},{"$f":"+GX18+1","v":343},{"$f":"+GY18+1","v":344},{"$f":"+GZ18+1","v":345},{"$f":"+HA18+1","v":346},{"$f":"TEXT(HC17&1,\"#,##0\")*1","v":351},{"$f":"+HC18+1","v":352},{"$f":"+HD18+1","v":353},{"$f":"+HE18+1","v":354},{"$f":"+HF18+1","v":355},{"$f":"+HG18+1","v":356},{"$f":"TEXT(HI17&1,\"#,##0\")*1","v":361},{"$f":"+HI18+1","v":362},{"$f":"+HJ18+1","v":363},{"$f":"+HK18+1","v":364},{"$f":"+HL18+1","v":365},{"$f":"+HM18+1","v":366},{"$f":"TEXT(HO17&1,\"#,##0\")*1","v":371},{"$f":"+HO18+1","v":372},{"$f":"+HP18+1","v":373},{"$f":"+HQ18+1","v":374},{"$f":"+HR18+1","v":375},{"$f":"+HS18+1","v":376},{"$f":"TEXT(HU17&1,\"#,##0\")*1","v":381},{"$f":"+HU18+1","v":382},{"$f":"+HV18+1","v":383},{"$f":"+HW18+1","v":384},{"$f":"+HX18+1","v":385},{"$f":"+HY18+1","v":386},{"$f":"TEXT(IA17&1,\"#,##0\")*1","v":391},{"$f":"+IA18+1","v":392},{"$f":"+IB18+1","v":393},{"$f":"+IC18+1","v":394},{"$f":"+ID18+1","v":395},{"$f":"+IE18+1","v":396},{"$f":"TEXT(IG17&1,\"#,##0\")*1","v":401},{"$f":"+IG18+1","v":402},{"$f":"+IH18+1","v":403},{"$f":"+II18+1","v":404},{"$f":"+IJ18+1","v":405},{"$f":"+IK18+1","v":406}]
[null,"宛名番号（通知書記載の番号）"]
[null,"フリガナ"]
[null,"氏　　名"]
[null,null,"フリガナ"]
[null,null,"新　姓"]
[null,"生　年　月　日",null,null,null,"元号"]
[null,null,null,null,null,"年　月　日",null,"年",null,"月",null,"日",null,"年",null,"月",null,"日",null,"年",null,"月",null,"日",null,"年",null,"月",null,"日",null,"年",null,"月",null,"日",null,"年",null,"月",null,"日",null,"年",null,"月",null,"日",null,"年",null,"月",null,"日",null,"年",null,"月",null,"日",null,"年",null,"月",null,"日",null,"年",null,"月",null,"日",null,"年",null,"月",null,"日",null,"年",null,"月",null,"日",null,"年",null,"月",null,"日",null,"年",null,"月",null,"日",null,"年",null,"月",null,"日",null,"年",null,"月",null,"日",null,"年",null,"月",null,"日",null,"年",null,"月",null,"日",null,"年",null,"月",null,"日",null,"年",null,"月",null,"日",null,"年",null,"月",null,"日",null,"年",null,"月",null,"日",null,"年",null,"月",null,"日",null,"年",null,"月",null,"日",null,"年",null,"月",null,"日",null,"年",null,"月",null,"日",null,"年",null,"月",null,"日",null,"年",null,"月",null,"日",null,"年",null,"月",null,"日",null,"年",null,"月",null,"日",null,"年",null,"月",null,"日",null,"年",null,"月",null,"日",null,"年",null,"月",null,"日",null,"年",null,"月",null,"日",null,"年",null,"月",null,"日",null,"年",null,"月",null,"日",null,"年",null,"月",null,"日",null,"年",null,"月",null,"日",null,"年",null,"月",null,"日"]
[null,"個人番号（マイナンバー）"]
[null,"従業員等の住所","1月1日\n現在\n住所","市町村・区名",null,null,"大阪市",null,null,"区",null,null,"大阪市",null,null,"区",null,null,"大阪市",null,null,"区",null,null,"大阪市",null,null,"区",null,null,"大阪市",null,null,"区",null,null,"大阪市",null,null,"区",null,null,"大阪市",null,null,"区",null,null,"大阪市",null,null,"区",null,null,"大阪市",null,null,"区",null,null,"大阪市",null,null,"区",null,null,"大阪市",null,null,"区",null,null,"大阪市",null,null,"区",null,null,"大阪市",null,null,"区",null,null,"大阪市",null,null,"区",null,null,"大阪市",null,null,"区",null,null,"大阪市",null,null,"区",null,null,"大阪市",null,null,"区",null,null,"大阪市",null,null,"区",null,null,"大阪市",null,null,"区",null,null,"大阪市",null,null,"区",null,null,"大阪市",null,null,"区",null,null,"大阪市",null,null,"区",null,null,"大阪市",null,null,"区",null,null,"大阪市",null,null,"区",null,null,"大阪市",null,null,"区",null,null,"大阪市",null,null,"区",null,null,"大阪市",null,null,"区",null,null,"大阪市",null,null,"区",null,null,"大阪市",null,null,"区",null,null,"大阪市",null,null,"区",null,null,"大阪市",null,null,"区",null,null,"大阪市",null,null,"区",null,null,"大阪市",null,null,"区",null,null,"大阪市",null,null,"区",null,null,"大阪市",null,null,"区",null,null,"大阪市",null,null,"区",null,null,"大阪市",null,null,"区",null,null,"大阪市",null,null,"区",null,null,"大阪市",null,null,"区",null,null,"大阪市",null,null,"区"]
[null,null,null,"町　名"]
[null,null,null,"番　地"]
[null,null,null,"建物名等"]
[null,null,"現住所\n(異動後)\n\n上記と異なる場合のみ","都道府県名"]
[null,null,null,"市区町村名"]
[null,null,null,"町　名"]
[null,null,null,"番　地"]
[null,null,null,"建物名等"]
[null,"異動年月日　　　　令和",null,null,null,null,null,"年",null,"月",null,"日",null,"年",null,"月",null,"日",null,"年",null,"月",null,"日",null,"年",null,"月",null,"日",null,"年",null,"月",null,"日",null,"年",null,"月",null,"日",null,"年",null,"月",null,"日",null,"年",null,"月",null,"日",null,"年",null,"月",null,"日",null,"年",null,"月",null,"日",null,"年",null,"月",null,"日",null,"年",null,"月",null,"日",null,"年",null,"月",null,"日",null,"年",null,"月",null,"日",null,"年",null,"月",null,"日",null,"年",null,"月",null,"日",null,"年",null,"月",null,"日",null,"年",null,"月",null,"日",null,"年",null,"月",null,"日",null,"年",null,"月",null,"日",null,"年",null,"月",null,"日",null,"年",null,"月",null,"日",null,"年",null,"月",null,"日",null,"年",null,"月",null,"日",null,"年",null,"月",null,"日",null,"年",null,"月",null,"日",null,"年",null,"月",null,"日",null,"年",null,"月",null,"日",null,"年",null,"月",null,"日",null,"年",null,"月",null,"日",null,"年",null,"月",null,"日",null,"年",null,"月",null,"日",null,"年",null,"月",null,"日",null,"年",null,"月",null,"日",null,"年",null,"月",null,"日",null,"年",null,"月",null,"日",null,"年",null,"月",null,"日",null,"年",null,"月",null,"日",null,"年",null,"月",null,"日",null,"年",null,"月",null,"日"]
[null,"異動の事由"]
[null,null,"8　その他"]
[null,"特別徴収税額（年税額）",null,null,null,null,null,null,null,null,null,"円",null,null,null,null,null,"円",null,null,null,null,null,"円",null,null,null,null,null,"円",null,null,null,null,null,"円",null,null,null,null,null,"円",null,null,null,null,null,"円",null,null,null,null,null,"円",null,null,null,null,null,"円",null,null,null,null,null,"円",null,null,null,null,null,"円",null,null,null,null,null,"円",null,null,null,null,null,"円",null,null,null,null,null,"円",null,null,null,null,null,"円",null,null,null,null,null,"円",null,null,null,null,null,"円",null,null,null,null,null,"円",null,null,null,null,null,"円",null,null,null,null,null,"円",null,null,null,null,null,"円",null,null,null,null,null,"円",null,null,null,null,null,"円",null,null,null,null,null,"円",null,null,null,null,null,"円",null,null,null,null,null,"円",null,null,null,null,null,"円",null,null,null,null,null,"円",null,null,null,null,null,"円",null,null,null,null,null,"円",null,null,null,null,null,"円",null,null,null,null,null,"円",null,null,null,null,null,"円",null,null,null,null,null,"円",null,null,null,null,null,"円",null,null,null,null,null,"円",null,null,null,null,null,"円",null,null,null,null,null,"円",null,null,null,null,null,"円",null,null,null,null,null,"円"]
[null,null,"徴収済の税額",null,null,null,null,null,null,null,null,"円",null,null,null,null,null,"円",null,null,null,null,null,"円",null,null,null,null,null,"円",null,null,null,null,null,"円",null,null,null,null,null,"円",null,null,null,null,null,"円",null,null,null,null,null,"円",null,null,null,null,null,"円",null,null,null,null,null,"円",null,null,null,null,null,"円",null,null,null,null,null,"円",null,null,null,null,null,"円",null,null,null,null,null,"円",null,null,null,null,null,"円",null,null,null,null,null,"円",null,null,null,null,null,"円",null,null,null,null,null,"円",null,null,null,null,null,"円",null,null,null,null,null,"円",null,null,null,null,null,"円",null,null,null,null,null,"円",null,null,null,null,null,"円",null,null,null,null,null,"円",null,null,null,null,null,"円",null,null,null,null,null,"円",null,null,null,null,null,"円",null,null,null,null,null,"円",null,null,null,null,null,"円",null,null,null,null,null,"円",null,null,null,null,null,"円",null,null,null,null,null,"円",null,null,null,null,null,"円",null,null,null,null,null,"円",null,null,null,null,null,"円",null,null,null,null,null,"円",null,null,null,null,null,"円",null,null,null,null,null,"円",null,null,null,null,null,"円",null,null,null,null,null,"円"]
[null,null,"徴収済の月分",null,null,null,null,"月分～",null,null,"月分",null,null,"月分～",null,null,"月分",null,null,"月分～",null,null,"月分",null,null,"月分～",null,null,"月分",null,null,"月分～",null,null,"月分",null,null,"月分～",null,null,"月分",null,null,"月分～",null,null,"月分",null,null,"月分～",null,null,"月分",null,null,"月分～",null,null,"月分",null,null,"月分～",null,null,"月分",null,null,"月分～",null,null,"月分",null,null,"月分～",null,null,"月分",null,null,"月分～",null,null,"月分",null,null,"月分～",null,null,"月分",null,null,"月分～",null,null,"月分",null,null,"月分～",null,null,"月分",null,null,"月分～",null,null,"月分",null,null,"月分～",null,null,"月分",null,null,"月分～",null,null,"月分",null,null,"月分～",null,null,"月分",null,null,"月分～",null,null,"月分",null,null,"月分～",null,null,"月分",null,null,"月分～",null,null,"月分",null,null,"月分～",null,null,"月分",null,null,"月分～",null,null,"月分",null,null,"月分～",null,null,"月分",null,null,"月分～",null,null,"月分",null,null,"月分～",null,null,"月分",null,null,"月分～",null,null,"月分",null,null,"月分～",null,null,"月分",null,null,"月分～",null,null,"月分",null,null,"月分～",null,null,"月分",null,null,"月分～",null,null,"月分",null,null,"月分～",null,null,"月分",null,null,"月分～",null,null,"月分",null,null,"月分～",null,null,"月分",null,null,"月分～",null,null,"月分",null,null,"月分～",null,null,"月分",null,null,"月分～",null,null,"月分",null,null,"月分～",null,null,"月分"]
[null,null,"未徴収税額",null,null,null,{"$f":"+G39-G40","v":0},null,null,null,null,"円",{"$f":"+M39-M40","v":0},null,null,null,null,"円",{"$f":"+S39-S40","v":0},null,null,null,null,"円",{"$f":"+Y39-Y40","v":0},null,null,null,null,"円",{"$f":"+AE39-AE40","v":0},null,null,null,null,"円",{"$f":"+AK39-AK40","v":0},null,null,null,null,"円",{"$f":"+AQ39-AQ40","v":0},null,null,null,null,"円",{"$f":"+AW39-AW40","v":0},null,null,null,null,"円",{"$f":"+BC39-BC40","v":0},null,null,null,null,"円",{"$f":"+BI39-BI40","v":0},null,null,null,null,"円",{"$f":"+BO39-BO40","v":0},null,null,null,null,"円",{"$f":"+BU39-BU40","v":0},null,null,null,null,"円",{"$f":"+CA39-CA40","v":0},null,null,null,null,"円",{"$f":"+CG39-CG40","v":0},null,null,null,null,"円",{"$f":"+CM39-CM40","v":0},null,null,null,null,"円",{"$f":"+CS39-CS40","v":0},null,null,null,null,"円",{"$f":"+CY39-CY40","v":0},null,null,null,null,"円",{"$f":"+DE39-DE40","v":0},null,null,null,null,"円",{"$f":"+DK39-DK40","v":0},null,null,null,null,"円",{"$f":"+DQ39-DQ40","v":0},null,null,null,null,"円",{"$f":"+DW39-DW40","v":0},null,null,null,null,"円",{"$f":"+EC39-EC40","v":0},null,null,null,null,"円",{"$f":"+EI39-EI40","v":0},null,null,null,null,"円",{"$f":"+EO39-EO40","v":0},null,null,null,null,"円",{"$f":"+EU39-EU40","v":0},null,null,null,null,"円",{"$f":"+FA39-FA40","v":0},null,null,null,null,"円",{"$f":"+FG39-FG40","v":0},null,null,null,null,"円",{"$f":"+FM39-FM40","v":0},null,null,null,null,"円",{"$f":"+FS39-FS40","v":0},null,null,null,null,"円",{"$f":"+FY39-FY40","v":0},null,null,null,null,"円",{"$f":"+GE39-GE40","v":0},null,null,null,null,"円",{"$f":"+GK39-GK40","v":0},null,null,null,null,"円",{"$f":"+GQ39-GQ40","v":0},null,null,null,null,"円",{"$f":"+GW39-GW40","v":0},null,null,null,null,"円",{"$f":"+HC39-HC40","v":0},null,null,null,null,"円",{"$f":"+HI39-HI40","v":0},null,null,null,null,"円",{"$f":"+HO39-HO40","v":0},null,null,null,null,"円",{"$f":"+HU39-HU40","v":0},null,null,null,null,"円",{"$f":"+IA39-IA40","v":0},null,null,null,null,"円",{"$f":"+IG39-IG40","v":0},null,null,null,null,"円"]
[null,"1月1日以降退職時までの\n給与支払額(退職手当等を除く)",null,null,null,null,null,null,null,null,null,"円",null,null,null,null,null,"円",null,null,null,null,null,"円",null,null,null,null,null,"円",null,null,null,null,null,"円",null,null,null,null,null,"円",null,null,null,null,null,"円",null,null,null,null,null,"円",null,null,null,null,null,"円",null,null,null,null,null,"円",null,null,null,null,null,"円",null,null,null,null,null,"円",null,null,null,null,null,"円",null,null,null,null,null,"円",null,null,null,null,null,"円",null,null,null,null,null,"円",null,null,null,null,null,"円",null,null,null,null,null,"円",null,null,null,null,null,"円",null,null,null,null,null,"円",null,null,null,null,null,"円",null,null,null,null,null,"円",null,null,null,null,null,"円",null,null,null,null,null,"円",null,null,null,null,null,"円",null,null,null,null,null,"円",null,null,null,null,null,"円",null,null,null,null,null,"円",null,null,null,null,null,"円",null,null,null,null,null,"円",null,null,null,null,null,"円",null,null,null,null,null,"円",null,null,null,null,null,"円",null,null,null,null,null,"円",null,null,null,null,null,"円",null,null,null,null,null,"円",null,null,null,null,null,"円",null,null,null,null,null,"円",null,null,null,null,null,"円",null,null,null,null,null,"円"]
[null,"社会保険料控除額",null,null,null,null,null,null,null,null,null,"円",null,null,null,null,null,"円",null,null,null,null,null,"円",null,null,null,null,null,"円",null,null,null,null,null,"円",null,null,null,null,null,"円",null,null,null,null,null,"円",null,null,null,null,null,"円",null,null,null,null,null,"円",null,null,null,null,null,"円",null,null,null,null,null,"円",null,null,null,null,null,"円",null,null,null,null,null,"円",null,null,null,null,null,"円",null,null,null,null,null,"円",null,null,null,null,null,"円",null,null,null,null,null,"円",null,null,null,null,null,"円",null,null,null,null,null,"円",null,null,null,null,null,"円",null,null,null,null,null,"円",null,null,null,null,null,"円",null,null,null,null,null,"円",null,null,null,null,null,"円",null,null,null,null,null,"円",null,null,null,null,null,"円",null,null,null,null,null,"円",null,null,null,null,null,"円",null,null,null,null,null,"円",null,null,null,null,null,"円",null,null,null,null,null,"円",null,null,null,null,null,"円",null,null,null,null,null,"円",null,null,null,null,null,"円",null,null,null,null,null,"円",null,null,null,null,null,"円",null,null,null,null,null,"円",null,null,null,null,null,"円",null,null,null,null,null,"円",null,null,null,null,null,"円"]
[null,"未徴収税額の徴収方法"]
[null,null,"普通徴収の理由"]
[null,null,"一括徴収","徴　収　額\n（未徴収の税額と同額）",null,null,{"$f":"IF(G42=0,\"\",IF(COUNTIF(G45,\"*一括徴収*\"),G42,\"\"))","v":""},null,null,null,null,"円",{"$f":"IF(M42=0,\"\",IF(COUNTIF(M45,\"*一括徴収*\"),M42,\"\"))","v":""},null,null,null,null,"円",{"$f":"IF(S42=0,\"\",IF(COUNTIF(S45,\"*一括徴収*\"),S42,\"\"))","v":""},null,null,null,null,"円",{"$f":"IF(Y42=0,\"\",IF(COUNTIF(Y45,\"*一括徴収*\"),Y42,\"\"))","v":""},null,null,null,null,"円",{"$f":"IF(AE42=0,\"\",IF(COUNTIF(AE45,\"*一括徴収*\"),AE42,\"\"))","v":""},null,null,null,null,"円",{"$f":"IF(AK42=0,\"\",IF(COUNTIF(AK45,\"*一括徴収*\"),AK42,\"\"))","v":""},null,null,null,null,"円",{"$f":"IF(AQ42=0,\"\",IF(COUNTIF(AQ45,\"*一括徴収*\"),AQ42,\"\"))","v":""},null,null,null,null,"円",{"$f":"IF(AW42=0,\"\",IF(COUNTIF(AW45,\"*一括徴収*\"),AW42,\"\"))","v":""},null,null,null,null,"円",{"$f":"IF(BC42=0,\"\",IF(COUNTIF(BC45,\"*一括徴収*\"),BC42,\"\"))","v":""},null,null,null,null,"円",{"$f":"IF(BI42=0,\"\",IF(COUNTIF(BI45,\"*一括徴収*\"),BI42,\"\"))","v":""},null,null,null,null,"円",{"$f":"IF(BO42=0,\"\",IF(COUNTIF(BO45,\"*一括徴収*\"),BO42,\"\"))","v":""},null,null,null,null,"円",{"$f":"IF(BU42=0,\"\",IF(COUNTIF(BU45,\"*一括徴収*\"),BU42,\"\"))","v":""},null,null,null,null,"円",{"$f":"IF(CA42=0,\"\",IF(COUNTIF(CA45,\"*一括徴収*\"),CA42,\"\"))","v":""},null,null,null,null,"円",{"$f":"IF(CG42=0,\"\",IF(COUNTIF(CG45,\"*一括徴収*\"),CG42,\"\"))","v":""},null,null,null,null,"円",{"$f":"IF(CM42=0,\"\",IF(COUNTIF(CM45,\"*一括徴収*\"),CM42,\"\"))","v":""},null,null,null,null,"円",{"$f":"IF(CS42=0,\"\",IF(COUNTIF(CS45,\"*一括徴収*\"),CS42,\"\"))","v":""},null,null,null,null,"円",{"$f":"IF(CY42=0,\"\",IF(COUNTIF(CY45,\"*一括徴収*\"),CY42,\"\"))","v":""},null,null,null,null,"円",{"$f":"IF(DE42=0,\"\",IF(COUNTIF(DE45,\"*一括徴収*\"),DE42,\"\"))","v":""},null,null,null,null,"円",{"$f":"IF(DK42=0,\"\",IF(COUNTIF(DK45,\"*一括徴収*\"),DK42,\"\"))","v":""},null,null,null,null,"円",{"$f":"IF(DQ42=0,\"\",IF(COUNTIF(DQ45,\"*一括徴収*\"),DQ42,\"\"))","v":""},null,null,null,null,"円",{"$f":"IF(DW42=0,\"\",IF(COUNTIF(DW45,\"*一括徴収*\"),DW42,\"\"))","v":""},null,null,null,null,"円",{"$f":"IF(EC42=0,\"\",IF(COUNTIF(EC45,\"*一括徴収*\"),EC42,\"\"))","v":""},null,null,null,null,"円",{"$f":"IF(EI42=0,\"\",IF(COUNTIF(EI45,\"*一括徴収*\"),EI42,\"\"))","v":""},null,null,null,null,"円",{"$f":"IF(EO42=0,\"\",IF(COUNTIF(EO45,\"*一括徴収*\"),EO42,\"\"))","v":""},null,null,null,null,"円",{"$f":"IF(EU42=0,\"\",IF(COUNTIF(EU45,\"*一括徴収*\"),EU42,\"\"))","v":""},null,null,null,null,"円",{"$f":"IF(FA42=0,\"\",IF(COUNTIF(FA45,\"*一括徴収*\"),FA42,\"\"))","v":""},null,null,null,null,"円",{"$f":"IF(FG42=0,\"\",IF(COUNTIF(FG45,\"*一括徴収*\"),FG42,\"\"))","v":""},null,null,null,null,"円",{"$f":"IF(FM42=0,\"\",IF(COUNTIF(FM45,\"*一括徴収*\"),FM42,\"\"))","v":""},null,null,null,null,"円",{"$f":"IF(FS42=0,\"\",IF(COUNTIF(FS45,\"*一括徴収*\"),FS42,\"\"))","v":""},null,null,null,null,"円",{"$f":"IF(FY42=0,\"\",IF(COUNTIF(FY45,\"*一括徴収*\"),FY42,\"\"))","v":""},null,null,null,null,"円",{"$f":"IF(GE42=0,\"\",IF(COUNTIF(GE45,\"*一括徴収*\"),GE42,\"\"))","v":""},null,null,null,null,"円",{"$f":"IF(GK42=0,\"\",IF(COUNTIF(GK45,\"*一括徴収*\"),GK42,\"\"))","v":""},null,null,null,null,"円",{"$f":"IF(GQ42=0,\"\",IF(COUNTIF(GQ45,\"*一括徴収*\"),GQ42,\"\"))","v":""},null,null,null,null,"円",{"$f":"IF(GW42=0,\"\",IF(COUNTIF(GW45,\"*一括徴収*\"),GW42,\"\"))","v":""},null,null,null,null,"円",{"$f":"IF(HC42=0,\"\",IF(COUNTIF(HC45,\"*一括徴収*\"),HC42,\"\"))","v":""},null,null,null,null,"円",{"$f":"IF(HI42=0,\"\",IF(COUNTIF(HI45,\"*一括徴収*\"),HI42,\"\"))","v":""},null,null,null,null,"円",{"$f":"IF(HO42=0,\"\",IF(COUNTIF(HO45,\"*一括徴収*\"),HO42,\"\"))","v":""},null,null,null,null,"円",{"$f":"IF(HU42=0,\"\",IF(COUNTIF(HU45,\"*一括徴収*\"),HU42,\"\"))","v":""},null,null,null,null,"円",{"$f":"IF(IA42=0,\"\",IF(COUNTIF(IA45,\"*一括徴収*\"),IA42,\"\"))","v":""},null,null,null,null,"円",{"$f":"IF(IG42=0,\"\",IF(COUNTIF(IG45,\"*一括徴収*\"),IG42,\"\"))","v":""},null,null,null,null,"円"]
[null,null,null,"納　入　月",null,null,null,null,null,"月分\n(翌月10日期限)",null,null,null,null,null,"月分\n(翌月10日期限)",null,null,null,null,null,"月分\n(翌月10日期限)",null,null,null,null,null,"月分\n(翌月10日期限)",null,null,null,null,null,"月分\n(翌月10日期限)",null,null,null,null,null,"月分\n(翌月10日期限)",null,null,null,null,null,"月分\n(翌月10日期限)",null,null,null,null,null,"月分\n(翌月10日期限)",null,null,null,null,null,"月分\n(翌月10日期限)",null,null,null,null,null,"月分\n(翌月10日期限)",null,null,null,null,null,"月分\n(翌月10日期限)",null,null,null,null,null,"月分\n(翌月10日期限)",null,null,null,null,null,"月分\n(翌月10日期限)",null,null,null,null,null,"月分\n(翌月10日期限)",null,null,null,null,null,"月分\n(翌月10日期限)",null,null,null,null,null,"月分\n(翌月10日期限)",null,null,null,null,null,"月分\n(翌月10日期限)",null,null,null,null,null,"月分\n(翌月10日期限)",null,null,null,null,null,"月分\n(翌月10日期限)",null,null,null,null,null,"月分\n(翌月10日期限)",null,null,null,null,null,"月分\n(翌月10日期限)",null,null,null,null,null,"月分\n(翌月10日期限)",null,null,null,null,null,"月分\n(翌月10日期限)",null,null,null,null,null,"月分\n(翌月10日期限)",null,null,null,null,null,"月分\n(翌月10日期限)",null,null,null,null,null,"月分\n(翌月10日期限)",null,null,null,null,null,"月分\n(翌月10日期限)",null,null,null,null,null,"月分\n(翌月10日期限)",null,null,null,null,null,"月分\n(翌月10日期限)",null,null,null,null,null,"月分\n(翌月10日期限)",null,null,null,null,null,"月分\n(翌月10日期限)",null,null,null,null,null,"月分\n(翌月10日期限)",null,null,null,null,null,"月分\n(翌月10日期限)",null,null,null,null,null,"月分\n(翌月10日期限)",null,null,null,null,null,"月分\n(翌月10日期限)",null,null,null,null,null,"月分\n(翌月10日期限)",null,null,null,null,null,"月分\n(翌月10日期限)",null,null,null,null,null,"月分\n(翌月10日期限)",null,null,null,null,null,"月分\n(翌月10日期限)",null,null,null,null,null,"月分\n(翌月10日期限)"]
[null,null,"特　別　徴　収　継　続\n(継続先給与支払者情報)","給与支払者番号\n(特別徴収指定番号)"]
[null,null,null,null,null,"フリガナ"]
[null,null,null,"給与支払者名称"]
[null,null,null,"法人番号"]
[null,null,null,"所在地","郵便番号",null,null,null,"－",null,null,null,null,null,"－",null,null,null,null,null,"－",null,null,null,null,null,"－",null,null,null,null,null,"－",null,null,null,null,null,"－",null,null,null,null,null,"－",null,null,null,null,null,"－",null,null,null,null,null,"－",null,null,null,null,null,"－",null,null,null,null,null,"－",null,null,null,null,null,"－",null,null,null,null,null,"－",null,null,null,null,null,"－",null,null,null,null,null,"－",null,null,null,null,null,"－",null,null,null,null,null,"－",null,null,null,null,null,"－",null,null,null,null,null,"－",null,null,null,null,null,"－",null,null,null,null,null,"－",null,null,null,null,null,"－",null,null,null,null,null,"－",null,null,null,null,null,"－",null,null,null,null,null,"－",null,null,null,null,null,"－",null,null,null,null,null,"－",null,null,null,null,null,"－",null,null,null,null,null,"－",null,null,null,null,null,"－",null,null,null,null,null,"－",null,null,null,null,null,"－",null,null,null,null,null,"－",null,null,null,null,null,"－",null,null,null,null,null,"－",null,null,null,null,null,"－",null,null,null,null,null,"－",null,null,null,null,null,"－",null,null,null,null,null,"－",null,null,null,null,null,"－"]
[null,null,null,null,"都道府県名"]
[null,null,null,null,"市区町村名"]
[null,null,null,null,"町　名"]
[null,null,null,null,"番　地"]
[null,null,null,null,"建物名等"]
[null,null,null,"連絡先","所属課・係"]
[null,null,null,null,"氏　名"]
[null,null,null,null,"電話番号"]
[null,null,null,null,"内　線"]
[null,null,null,"依頼済","徴収月割額",null,null,null,null,null,null,"円",null,null,null,null,null,"円",null,null,null,null,null,"円",null,null,null,null,null,"円",null,null,null,null,null,"円",null,null,null,null,null,"円",null,null,null,null,null,"円",null,null,null,null,null,"円",null,null,null,null,null,"円",null,null,null,null,null,"円",null,null,null,null,null,"円",null,null,null,null,null,"円",null,null,null,null,null,"円",null,null,null,null,null,"円",null,null,null,null,null,"円",null,null,null,null,null,"円",null,null,null,null,null,"円",null,null,null,null,null,"円",null,null,null,null,null,"円",null,null,null,null,null,"円",null,null,null,null,null,"円",null,null,null,null,null,"円",null,null,null,null,null,"円",null,null,null,null,null,"円",null,null,null,null,null,"円",null,null,null,null,null,"円",null,null,null,null,null,"円",null,null,null,null,null,"円",null,null,null,null,null,"円",null,null,null,null,null,"円",null,null,null,null,null,"円",null,null,null,null,null,"円",null,null,null,null,null,"円",null,null,null,null,null,"円",null,null,null,null,null,"円",null,null,null,null,null,"円",null,null,null,null,null,"円",null,null,null,null,null,"円",null,null,null,null,null,"円",null,null,null,null,null,"円"]
[null,null,null,null,"徴収開始月",null,null,null,null,"月分\n(翌月10日期限)",null,null,null,null,null,"月分\n(翌月10日期限)",null,null,null,null,null,"月分\n(翌月10日期限)",null,null,null,null,null,"月分\n(翌月10日期限)",null,null,null,null,null,"月分\n(翌月10日期限)",null,null,null,null,null,"月分\n(翌月10日期限)",null,null,null,null,null,"月分\n(翌月10日期限)",null,null,null,null,null,"月分\n(翌月10日期限)",null,null,null,null,null,"月分\n(翌月10日期限)",null,null,null,null,null,"月分\n(翌月10日期限)",null,null,null,null,null,"月分\n(翌月10日期限)",null,null,null,null,null,"月分\n(翌月10日期限)",null,null,null,null,null,"月分\n(翌月10日期限)",null,null,null,null,null,"月分\n(翌月10日期限)",null,null,null,null,null,"月分\n(翌月10日期限)",null,null,null,null,null,"月分\n(翌月10日期限)",null,null,null,null,null,"月分\n(翌月10日期限)",null,null,null,null,null,"月分\n(翌月10日期限)",null,null,null,null,null,"月分\n(翌月10日期限)",null,null,null,null,null,"月分\n(翌月10日期限)",null,null,null,null,null,"月分\n(翌月10日期限)",null,null,null,null,null,"月分\n(翌月10日期限)",null,null,null,null,null,"月分\n(翌月10日期限)",null,null,null,null,null,"月分\n(翌月10日期限)",null,null,null,null,null,"月分\n(翌月10日期限)",null,null,null,null,null,"月分\n(翌月10日期限)",null,null,null,null,null,"月分\n(翌月10日期限)",null,null,null,null,null,"月分\n(翌月10日期限)",null,null,null,null,null,"月分\n(翌月10日期限)",null,null,null,null,null,"月分\n(翌月10日期限)",null,null,null,null,null,"月分\n(翌月10日期限)",null,null,null,null,null,"月分\n(翌月10日期限)",null,null,null,null,null,"月分\n(翌月10日期限)",null,null,null,null,null,"月分\n(翌月10日期限)",null,null,null,null,null,"月分\n(翌月10日期限)",null,null,null,null,null,"月分\n(翌月10日期限)",null,null,null,null,null,"月分\n(翌月10日期限)",null,null,null,null,null,"月分\n(翌月10日期限)",null,null,null,null,null,"月分\n(翌月10日期限)",null,null,null,null,null,"月分\n(翌月10日期限)"]
[null,null,null,null,"受給者番号"]
[null,null,null,null,"納入書の要否\n（新規の場合のみ記載）"]
[]
[]
[]
[]
[]
[null,null,null,null,null,"異動事由","徴収方法",null,null,null,null,null,"徴収方法",null,null,null,null,null,"徴収方法",null,null,null,null,null,"徴収方法",null,null,null,null,null,"徴収方法",null,null,null,null,null,"徴収方法",null,null,null,null,null,"徴収方法",null,null,null,null,null,"徴収方法",null,null,null,null,null,"徴収方法",null,null,null,null,null,"徴収方法",null,null,null,null,null,"徴収方法",null,null,null,null,null,"徴収方法",null,null,null,null,null,"徴収方法",null,null,null,null,null,"徴収方法",null,null,null,null,null,"徴収方法",null,null,null,null,null,"徴収方法",null,null,null,null,null,"徴収方法",null,null,null,null,null,"徴収方法",null,null,null,null,null,"徴収方法",null,null,null,null,null,"徴収方法",null,null,null,null,null,"徴収方法",null,null,null,null,null,"徴収方法",null,null,null,null,null,"徴収方法",null,null,null,null,null,"徴収方法",null,null,null,null,null,"徴収方法",null,null,null,null,null,"徴収方法",null,null,null,null,null,"徴収方法",null,null,null,null,null,"徴収方法",null,null,null,null,null,"徴収方法",null,null,null,null,null,"徴収方法",null,null,null,null,null,"徴収方法",null,null,null,null,null,"徴収方法",null,null,null,null,null,"徴収方法",null,null,null,null,null,"徴収方法",null,null,null,null,null,"徴収方法",null,null,null,null,null,"徴収方法",null,null,null,null,null,"徴収方法",null,null,null,null,null,"徴収方法",null,null,null,null,null,"徴収方法",null,null,null,null,null,"徴収方法"]
[null,{"$f":"IF(AND(G21<>\"\",G25<>\"\",I25<>\"\",K25<>\"\"),G17,\"\")","v":""},"年齢テーブル",null,null,"1　転勤・転籍",{"$f":"IF(AND(I36>=1,I36<=5),\"一括徴収\",\"\")","v":""},null,null,null,null,null,{"$f":"IF(AND(O36>=1,O36<=5),\"一括徴収\",\"\")","v":""},null,null,null,null,null,{"$f":"IF(AND(U36>=1,U36<=5),\"一括徴収\",\"\")","v":""},null,null,null,null,null,{"$f":"IF(AND(AA36>=1,AA36<=5),\"一括徴収\",\"\")","v":""},null,null,null,null,null,{"$f":"IF(AND(AG36>=1,AG36<=5),\"一括徴収\",\"\")","v":""},null,null,null,null,null,{"$f":"IF(AND(AM36>=1,AM36<=5),\"一括徴収\",\"\")","v":""},null,null,null,null,null,{"$f":"IF(AND(AS36>=1,AS36<=5),\"一括徴収\",\"\")","v":""},null,null,null,null,null,{"$f":"IF(AND(AY36>=1,AY36<=5),\"一括徴収\",\"\")","v":""},null,null,null,null,null,{"$f":"IF(AND(BE36>=1,BE36<=5),\"一括徴収\",\"\")","v":""},null,null,null,null,null,{"$f":"IF(AND(BK36>=1,BK36<=5),\"一括徴収\",\"\")","v":""},null,null,null,null,null,{"$f":"IF(AND(BQ36>=1,BQ36<=5),\"一括徴収\",\"\")","v":""},null,null,null,null,null,{"$f":"IF(AND(BW36>=1,BW36<=5),\"一括徴収\",\"\")","v":""},null,null,null,null,null,{"$f":"IF(AND(CC36>=1,CC36<=5),\"一括徴収\",\"\")","v":""},null,null,null,null,null,{"$f":"IF(AND(CI36>=1,CI36<=5),\"一括徴収\",\"\")","v":""},null,null,null,null,null,{"$f":"IF(AND(CO36>=1,CO36<=5),\"一括徴収\",\"\")","v":""},null,null,null,null,null,{"$f":"IF(AND(CU36>=1,CU36<=5),\"一括徴収\",\"\")","v":""},null,null,null,null,null,{"$f":"IF(AND(DA36>=1,DA36<=5),\"一括徴収\",\"\")","v":""},null,null,null,null,null,{"$f":"IF(AND(DG36>=1,DG36<=5),\"一括徴収\",\"\")","v":""},null,null,null,null,null,{"$f":"IF(AND(DM36>=1,DM36<=5),\"一括徴収\",\"\")","v":""},null,null,null,null,null,{"$f":"IF(AND(DS36>=1,DS36<=5),\"一括徴収\",\"\")","v":""},null,null,null,null,null,{"$f":"IF(AND(DY36>=1,DY36<=5),\"一括徴収\",\"\")","v":""},null,null,null,null,null,{"$f":"IF(AND(EE36>=1,EE36<=5),\"一括徴収\",\"\")","v":""},null,null,null,null,null,{"$f":"IF(AND(EK36>=1,EK36<=5),\"一括徴収\",\"\")","v":""},null,null,null,null,null,{"$f":"IF(AND(EQ36>=1,EQ36<=5),\"一括徴収\",\"\")","v":""},null,null,null,null,null,{"$f":"IF(AND(EW36>=1,EW36<=5),\"一括徴収\",\"\")","v":""},null,null,null,null,null,{"$f":"IF(AND(FC36>=1,FC36<=5),\"一括徴収\",\"\")","v":""},null,null,null,null,null,{"$f":"IF(AND(FI36>=1,FI36<=5),\"一括徴収\",\"\")","v":""},null,null,null,null,null,{"$f":"IF(AND(FO36>=1,FO36<=5),\"一括徴収\",\"\")","v":""},null,null,null,null,null,{"$f":"IF(AND(FU36>=1,FU36<=5),\"一括徴収\",\"\")","v":""},null,null,null,null,null,{"$f":"IF(AND(GA36>=1,GA36<=5),\"一括徴収\",\"\")","v":""},null,null,null,null,null,{"$f":"IF(AND(GG36>=1,GG36<=5),\"一括徴収\",\"\")","v":""},null,null,null,null,null,{"$f":"IF(AND(GM36>=1,GM36<=5),\"一括徴収\",\"\")","v":""},null,null,null,null,null,{"$f":"IF(AND(GS36>=1,GS36<=5),\"一括徴収\",\"\")","v":""},null,null,null,null,null,{"$f":"IF(AND(GY36>=1,GY36<=5),\"一括徴収\",\"\")","v":""},null,null,null,null,null,{"$f":"IF(AND(HE36>=1,HE36<=5),\"一括徴収\",\"\")","v":""},null,null,null,null,null,{"$f":"IF(AND(HK36>=1,HK36<=5),\"一括徴収\",\"\")","v":""},null,null,null,null,null,{"$f":"IF(AND(HQ36>=1,HQ36<=5),\"一括徴収\",\"\")","v":""},null,null,null,null,null,{"$f":"IF(AND(HW36>=1,HW36<=5),\"一括徴収\",\"\")","v":""},null,null,null,null,null,{"$f":"IF(AND(IC36>=1,IC36<=5),\"一括徴収\",\"\")","v":""},null,null,null,null,null,{"$f":"IF(AND(II36>=1,II36<=5),\"一括徴収\",\"\")","v":""}]
[null,{"$f":"IF(AND(M21<>\"\",M25<>\"\",O25<>\"\",Q25<>\"\"),M17,\"\")","v":""},"年号","today","生年","2　退職",{"$f":"IF(AND(I36>=6,I36<=12),\"一括徴収(本人希望)\",\"\")","v":""},null,null,null,null,null,{"$f":"IF(AND(O36>=6,O36<=12),\"一括徴収(本人希望)\",\"\")","v":""},null,null,null,null,null,{"$f":"IF(AND(U36>=6,U36<=12),\"一括徴収(本人希望)\",\"\")","v":""},null,null,null,null,null,{"$f":"IF(AND(AA36>=6,AA36<=12),\"一括徴収(本人希望)\",\"\")","v":""},null,null,null,null,null,{"$f":"IF(AND(AG36>=6,AG36<=12),\"一括徴収(本人希望)\",\"\")","v":""},null,null,null,null,null,{"$f":"IF(AND(AM36>=6,AM36<=12),\"一括徴収(本人希望)\",\"\")","v":""},null,null,null,null,null,{"$f":"IF(AND(AS36>=6,AS36<=12),\"一括徴収(本人希望)\",\"\")","v":""},null,null,null,null,null,{"$f":"IF(AND(AY36>=6,AY36<=12),\"一括徴収(本人希望)\",\"\")","v":""},null,null,null,null,null,{"$f":"IF(AND(BE36>=6,BE36<=12),\"一括徴収(本人希望)\",\"\")","v":""},null,null,null,null,null,{"$f":"IF(AND(BK36>=6,BK36<=12),\"一括徴収(本人希望)\",\"\")","v":""},null,null,null,null,null,{"$f":"IF(AND(BQ36>=6,BQ36<=12),\"一括徴収(本人希望)\",\"\")","v":""},null,null,null,null,null,{"$f":"IF(AND(BW36>=6,BW36<=12),\"一括徴収(本人希望)\",\"\")","v":""},null,null,null,null,null,{"$f":"IF(AND(CC36>=6,CC36<=12),\"一括徴収(本人希望)\",\"\")","v":""},null,null,null,null,null,{"$f":"IF(AND(CI36>=6,CI36<=12),\"一括徴収(本人希望)\",\"\")","v":""},null,null,null,null,null,{"$f":"IF(AND(CO36>=6,CO36<=12),\"一括徴収(本人希望)\",\"\")","v":""},null,null,null,null,null,{"$f":"IF(AND(CU36>=6,CU36<=12),\"一括徴収(本人希望)\",\"\")","v":""},null,null,null,null,null,{"$f":"IF(AND(DA36>=6,DA36<=12),\"一括徴収(本人希望)\",\"\")","v":""},null,null,null,null,null,{"$f":"IF(AND(DG36>=6,DG36<=12),\"一括徴収(本人希望)\",\"\")","v":""},null,null,null,null,null,{"$f":"IF(AND(DM36>=6,DM36<=12),\"一括徴収(本人希望)\",\"\")","v":""},null,null,null,null,null,{"$f":"IF(AND(DS36>=6,DS36<=12),\"一括徴収(本人希望)\",\"\")","v":""},null,null,null,null,null,{"$f":"IF(AND(DY36>=6,DY36<=12),\"一括徴収(本人希望)\",\"\")","v":""},null,null,null,null,null,{"$f":"IF(AND(EE36>=6,EE36<=12),\"一括徴収(本人希望)\",\"\")","v":""},null,null,null,null,null,{"$f":"IF(AND(EK36>=6,EK36<=12),\"一括徴収(本人希望)\",\"\")","v":""},null,null,null,null,null,{"$f":"IF(AND(EQ36>=6,EQ36<=12),\"一括徴収(本人希望)\",\"\")","v":""},null,null,null,null,null,{"$f":"IF(AND(EW36>=6,EW36<=12),\"一括徴収(本人希望)\",\"\")","v":""},null,null,null,null,null,{"$f":"IF(AND(FC36>=6,FC36<=12),\"一括徴収(本人希望)\",\"\")","v":""},null,null,null,null,null,{"$f":"IF(AND(FI36>=6,FI36<=12),\"一括徴収(本人希望)\",\"\")","v":""},null,null,null,null,null,{"$f":"IF(AND(FO36>=6,FO36<=12),\"一括徴収(本人希望)\",\"\")","v":""},null,null,null,null,null,{"$f":"IF(AND(FU36>=6,FU36<=12),\"一括徴収(本人希望)\",\"\")","v":""},null,null,null,null,null,{"$f":"IF(AND(GA36>=6,GA36<=12),\"一括徴収(本人希望)\",\"\")","v":""},null,null,null,null,null,{"$f":"IF(AND(GG36>=6,GG36<=12),\"一括徴収(本人希望)\",\"\")","v":""},null,null,null,null,null,{"$f":"IF(AND(GM36>=6,GM36<=12),\"一括徴収(本人希望)\",\"\")","v":""},null,null,null,null,null,{"$f":"IF(AND(GS36>=6,GS36<=12),\"一括徴収(本人希望)\",\"\")","v":""},null,null,null,null,null,{"$f":"IF(AND(GY36>=6,GY36<=12),\"一括徴収(本人希望)\",\"\")","v":""},null,null,null,null,null,{"$f":"IF(AND(HE36>=6,HE36<=12),\"一括徴収(本人希望)\",\"\")","v":""},null,null,null,null,null,{"$f":"IF(AND(HK36>=6,HK36<=12),\"一括徴収(本人希望)\",\"\")","v":""},null,null,null,null,null,{"$f":"IF(AND(HQ36>=6,HQ36<=12),\"一括徴収(本人希望)\",\"\")","v":""},null,null,null,null,null,{"$f":"IF(AND(HW36>=6,HW36<=12),\"一括徴収(本人希望)\",\"\")","v":""},null,null,null,null,null,{"$f":"IF(AND(IC36>=6,IC36<=12),\"一括徴収(本人希望)\",\"\")","v":""},null,null,null,null,null,{"$f":"IF(AND(II36>=6,II36<=12),\"一括徴収(本人希望)\",\"\")","v":""}]
[null,{"$f":"IF(AND(S21<>\"\",S25<>\"\",U25<>\"\",W25<>\"\"),S17,\"\")","v":""},null,{"$f":"TEXT(TODAY(),\"yyyy\")","v":"2024"},null,"3　死亡",{"$f":"IF(G37=$F$73,\"特別徴収継続(転勤・転籍)\",\"\")","v":""},null,null,null,null,null,{"$f":"IF(M37=$F$73,\"特別徴収継続(転勤・転籍)\",\"\")","v":""},null,null,null,null,null,{"$f":"IF(S37=$F$73,\"特別徴収継続(転勤・転籍)\",\"\")","v":""},null,null,null,null,null,{"$f":"IF(Y37=$F$73,\"特別徴収継続(転勤・転籍)\",\"\")","v":""},null,null,null,null,null,{"$f":"IF(AE37=$F$73,\"特別徴収継続(転勤・転籍)\",\"\")","v":""},null,null,null,null,null,{"$f":"IF(AK37=$F$73,\"特別徴収継続(転勤・転籍)\",\"\")","v":""},null,null,null,null,null,{"$f":"IF(AQ37=$F$73,\"特別徴収継続(転勤・転籍)\",\"\")","v":""},null,null,null,null,null,{"$f":"IF(AW37=$F$73,\"特別徴収継続(転勤・転籍)\",\"\")","v":""},null,null,null,null,null,{"$f":"IF(BC37=$F$73,\"特別徴収継続(転勤・転籍)\",\"\")","v":""},null,null,null,null,null,{"$f":"IF(BI37=$F$73,\"特別徴収継続(転勤・転籍)\",\"\")","v":""},null,null,null,null,null,{"$f":"IF(BO37=$F$73,\"特別徴収継続(転勤・転籍)\",\"\")","v":""},null,null,null,null,null,{"$f":"IF(BU37=$F$73,\"特別徴収継続(転勤・転籍)\",\"\")","v":""},null,null,null,null,null,{"$f":"IF(CA37=$F$73,\"特別徴収継続(転勤・転籍)\",\"\")","v":""},null,null,null,null,null,{"$f":"IF(CG37=$F$73,\"特別徴収継続(転勤・転籍)\",\"\")","v":""},null,null,null,null,null,{"$f":"IF(CM37=$F$73,\"特別徴収継続(転勤・転籍)\",\"\")","v":""},null,null,null,null,null,{"$f":"IF(CS37=$F$73,\"特別徴収継続(転勤・転籍)\",\"\")","v":""},null,null,null,null,null,{"$f":"IF(CY37=$F$73,\"特別徴収継続(転勤・転籍)\",\"\")","v":""},null,null,null,null,null,{"$f":"IF(DE37=$F$73,\"特別徴収継続(転勤・転籍)\",\"\")","v":""},null,null,null,null,null,{"$f":"IF(DK37=$F$73,\"特別徴収継続(転勤・転籍)\",\"\")","v":""},null,null,null,null,null,{"$f":"IF(DQ37=$F$73,\"特別徴収継続(転勤・転籍)\",\"\")","v":""},null,null,null,null,null,{"$f":"IF(DW37=$F$73,\"特別徴収継続(転勤・転籍)\",\"\")","v":""},null,null,null,null,null,{"$f":"IF(EC37=$F$73,\"特別徴収継続(転勤・転籍)\",\"\")","v":""},null,null,null,null,null,{"$f":"IF(EI37=$F$73,\"特別徴収継続(転勤・転籍)\",\"\")","v":""},null,null,null,null,null,{"$f":"IF(EO37=$F$73,\"特別徴収継続(転勤・転籍)\",\"\")","v":""},null,null,null,null,null,{"$f":"IF(EU37=$F$73,\"特別徴収継続(転勤・転籍)\",\"\")","v":""},null,null,null,null,null,{"$f":"IF(FA37=$F$73,\"特別徴収継続(転勤・転籍)\",\"\")","v":""},null,null,null,null,null,{"$f":"IF(FG37=$F$73,\"特別徴収継続(転勤・転籍)\",\"\")","v":""},null,null,null,null,null,{"$f":"IF(FM37=$F$73,\"特別徴収継続(転勤・転籍)\",\"\")","v":""},null,null,null,null,null,{"$f":"IF(FS37=$F$73,\"特別徴収継続(転勤・転籍)\",\"\")","v":""},null,null,null,null,null,{"$f":"IF(FY37=$F$73,\"特別徴収継続(転勤・転籍)\",\"\")","v":""},null,null,null,null,null,{"$f":"IF(GE37=$F$73,\"特別徴収継続(転勤・転籍)\",\"\")","v":""},null,null,null,null,null,{"$f":"IF(GK37=$F$73,\"特別徴収継続(転勤・転籍)\",\"\")","v":""},null,null,null,null,null,{"$f":"IF(GQ37=$F$73,\"特別徴収継続(転勤・転籍)\",\"\")","v":""},null,null,null,null,null,{"$f":"IF(GW37=$F$73,\"特別徴収継続(転勤・転籍)\",\"\")","v":""},null,null,null,null,null,{"$f":"IF(HC37=$F$73,\"特別徴収継続(転勤・転籍)\",\"\")","v":""},null,null,null,null,null,{"$f":"IF(HI37=$F$73,\"特別徴収継続(転勤・転籍)\",\"\")","v":""},null,null,null,null,null,{"$f":"IF(HO37=$F$73,\"特別徴収継続(転勤・転籍)\",\"\")","v":""},null,null,null,null,null,{"$f":"IF(HU37=$F$73,\"特別徴収継続(転勤・転籍)\",\"\")","v":""},null,null,null,null,null,{"$f":"IF(IA37=$F$73,\"特別徴収継続(転勤・転籍)\",\"\")","v":""},null,null,null,null,null,{"$f":"IF(IG37=$F$73,\"特別徴収継続(転勤・転籍)\",\"\")","v":""}]
[null,{"$f":"IF(AND(Y21<>\"\",Y25<>\"\",AA25<>\"\",AC25<>\"\"),Y17,\"\")","v":""},"平",{"$f":"IF(D75-2004>0,D75-2004,64)","v":20},{"$f":"C76&D76","v":"平20"},"4　休職",{"$f":"IF(OR(AND(I36>=6,I36<=12),G37=$F$75),\"普通徴収(本人が納付)\",IF(AND(I36>=1,I36<=5),\"普通徴収(本人が納付)\",\"\"))","v":""},null,null,null,null,null,{"$f":"IF(OR(AND(O36>=6,O36<=12),M37=$F$75),\"普通徴収(本人が納付)\",IF(AND(O36>=1,O36<=5),\"普通徴収(本人が納付)\",\"\"))","v":""},null,null,null,null,null,{"$f":"IF(OR(AND(U36>=6,U36<=12),S37=$F$75),\"普通徴収(本人が納付)\",IF(AND(U36>=1,U36<=5),\"普通徴収(本人が納付)\",\"\"))","v":""},null,null,null,null,null,{"$f":"IF(OR(AND(AA36>=6,AA36<=12),Y37=$F$75),\"普通徴収(本人が納付)\",IF(AND(AA36>=1,AA36<=5),\"普通徴収(本人が納付)\",\"\"))","v":""},null,null,null,null,null,{"$f":"IF(OR(AND(AG36>=6,AG36<=12),AE37=$F$75),\"普通徴収(本人が納付)\",IF(AND(AG36>=1,AG36<=5),\"普通徴収(本人が納付)\",\"\"))","v":""},null,null,null,null,null,{"$f":"IF(OR(AND(AM36>=6,AM36<=12),AK37=$F$75),\"普通徴収(本人が納付)\",IF(AND(AM36>=1,AM36<=5),\"普通徴収(本人が納付)\",\"\"))","v":""},null,null,null,null,null,{"$f":"IF(OR(AND(AS36>=6,AS36<=12),AQ37=$F$75),\"普通徴収(本人が納付)\",IF(AND(AS36>=1,AS36<=5),\"普通徴収(本人が納付)\",\"\"))","v":""},null,null,null,null,null,{"$f":"IF(OR(AND(AY36>=6,AY36<=12),AW37=$F$75),\"普通徴収(本人が納付)\",IF(AND(AY36>=1,AY36<=5),\"普通徴収(本人が納付)\",\"\"))","v":""},null,null,null,null,null,{"$f":"IF(OR(AND(BE36>=6,BE36<=12),BC37=$F$75),\"普通徴収(本人が納付)\",IF(AND(BE36>=1,BE36<=5),\"普通徴収(本人が納付)\",\"\"))","v":""},null,null,null,null,null,{"$f":"IF(OR(AND(BK36>=6,BK36<=12),BI37=$F$75),\"普通徴収(本人が納付)\",IF(AND(BK36>=1,BK36<=5),\"普通徴収(本人が納付)\",\"\"))","v":""},null,null,null,null,null,{"$f":"IF(OR(AND(BQ36>=6,BQ36<=12),BO37=$F$75),\"普通徴収(本人が納付)\",IF(AND(BQ36>=1,BQ36<=5),\"普通徴収(本人が納付)\",\"\"))","v":""},null,null,null,null,null,{"$f":"IF(OR(AND(BW36>=6,BW36<=12),BU37=$F$75),\"普通徴収(本人が納付)\",IF(AND(BW36>=1,BW36<=5),\"普通徴収(本人が納付)\",\"\"))","v":""},null,null,null,null,null,{"$f":"IF(OR(AND(CC36>=6,CC36<=12),CA37=$F$75),\"普通徴収(本人が納付)\",IF(AND(CC36>=1,CC36<=5),\"普通徴収(本人が納付)\",\"\"))","v":""},null,null,null,null,null,{"$f":"IF(OR(AND(CI36>=6,CI36<=12),CG37=$F$75),\"普通徴収(本人が納付)\",IF(AND(CI36>=1,CI36<=5),\"普通徴収(本人が納付)\",\"\"))","v":""},null,null,null,null,null,{"$f":"IF(OR(AND(CO36>=6,CO36<=12),CM37=$F$75),\"普通徴収(本人が納付)\",IF(AND(CO36>=1,CO36<=5),\"普通徴収(本人が納付)\",\"\"))","v":""},null,null,null,null,null,{"$f":"IF(OR(AND(CU36>=6,CU36<=12),CS37=$F$75),\"普通徴収(本人が納付)\",IF(AND(CU36>=1,CU36<=5),\"普通徴収(本人が納付)\",\"\"))","v":""},null,null,null,null,null,{"$f":"IF(OR(AND(DA36>=6,DA36<=12),CY37=$F$75),\"普通徴収(本人が納付)\",IF(AND(DA36>=1,DA36<=5),\"普通徴収(本人が納付)\",\"\"))","v":""},null,null,null,null,null,{"$f":"IF(OR(AND(DG36>=6,DG36<=12),DE37=$F$75),\"普通徴収(本人が納付)\",IF(AND(DG36>=1,DG36<=5),\"普通徴収(本人が納付)\",\"\"))","v":""},null,null,null,null,null,{"$f":"IF(OR(AND(DM36>=6,DM36<=12),DK37=$F$75),\"普通徴収(本人が納付)\",IF(AND(DM36>=1,DM36<=5),\"普通徴収(本人が納付)\",\"\"))","v":""},null,null,null,null,null,{"$f":"IF(OR(AND(DS36>=6,DS36<=12),DQ37=$F$75),\"普通徴収(本人が納付)\",IF(AND(DS36>=1,DS36<=5),\"普通徴収(本人が納付)\",\"\"))","v":""},null,null,null,null,null,{"$f":"IF(OR(AND(DY36>=6,DY36<=12),DW37=$F$75),\"普通徴収(本人が納付)\",IF(AND(DY36>=1,DY36<=5),\"普通徴収(本人が納付)\",\"\"))","v":""},null,null,null,null,null,{"$f":"IF(OR(AND(EE36>=6,EE36<=12),EC37=$F$75),\"普通徴収(本人が納付)\",IF(AND(EE36>=1,EE36<=5),\"普通徴収(本人が納付)\",\"\"))","v":""},null,null,null,null,null,{"$f":"IF(OR(AND(EK36>=6,EK36<=12),EI37=$F$75),\"普通徴収(本人が納付)\",IF(AND(EK36>=1,EK36<=5),\"普通徴収(本人が納付)\",\"\"))","v":""},null,null,null,null,null,{"$f":"IF(OR(AND(EQ36>=6,EQ36<=12),EO37=$F$75),\"普通徴収(本人が納付)\",IF(AND(EQ36>=1,EQ36<=5),\"普通徴収(本人が納付)\",\"\"))","v":""},null,null,null,null,null,{"$f":"IF(OR(AND(EW36>=6,EW36<=12),EU37=$F$75),\"普通徴収(本人が納付)\",IF(AND(EW36>=1,EW36<=5),\"普通徴収(本人が納付)\",\"\"))","v":""},null,null,null,null,null,{"$f":"IF(OR(AND(FC36>=6,FC36<=12),FA37=$F$75),\"普通徴収(本人が納付)\",IF(AND(FC36>=1,FC36<=5),\"普通徴収(本人が納付)\",\"\"))","v":""},null,null,null,null,null,{"$f":"IF(OR(AND(FI36>=6,FI36<=12),FG37=$F$75),\"普通徴収(本人が納付)\",IF(AND(FI36>=1,FI36<=5),\"普通徴収(本人が納付)\",\"\"))","v":""},null,null,null,null,null,{"$f":"IF(OR(AND(FO36>=6,FO36<=12),FM37=$F$75),\"普通徴収(本人が納付)\",IF(AND(FO36>=1,FO36<=5),\"普通徴収(本人が納付)\",\"\"))","v":""},null,null,null,null,null,{"$f":"IF(OR(AND(FU36>=6,FU36<=12),FS37=$F$75),\"普通徴収(本人が納付)\",IF(AND(FU36>=1,FU36<=5),\"普通徴収(本人が納付)\",\"\"))","v":""},null,null,null,null,null,{"$f":"IF(OR(AND(GA36>=6,GA36<=12),FY37=$F$75),\"普通徴収(本人が納付)\",IF(AND(GA36>=1,GA36<=5),\"普通徴収(本人が納付)\",\"\"))","v":""},null,null,null,null,null,{"$f":"IF(OR(AND(GG36>=6,GG36<=12),GE37=$F$75),\"普通徴収(本人が納付)\",IF(AND(GG36>=1,GG36<=5),\"普通徴収(本人が納付)\",\"\"))","v":""},null,null,null,null,null,{"$f":"IF(OR(AND(GM36>=6,GM36<=12),GK37=$F$75),\"普通徴収(本人が納付)\",IF(AND(GM36>=1,GM36<=5),\"普通徴収(本人が納付)\",\"\"))","v":""},null,null,null,null,null,{"$f":"IF(OR(AND(GS36>=6,GS36<=12),GQ37=$F$75),\"普通徴収(本人が納付)\",IF(AND(GS36>=1,GS36<=5),\"普通徴収(本人が納付)\",\"\"))","v":""},null,null,null,null,null,{"$f":"IF(OR(AND(GY36>=6,GY36<=12),GW37=$F$75),\"普通徴収(本人が納付)\",IF(AND(GY36>=1,GY36<=5),\"普通徴収(本人が納付)\",\"\"))","v":""},null,null,null,null,null,{"$f":"IF(OR(AND(HE36>=6,HE36<=12),HC37=$F$75),\"普通徴収(本人が納付)\",IF(AND(HE36>=1,HE36<=5),\"普通徴収(本人が納付)\",\"\"))","v":""},null,null,null,null,null,{"$f":"IF(OR(AND(HK36>=6,HK36<=12),HI37=$F$75),\"普通徴収(本人が納付)\",IF(AND(HK36>=1,HK36<=5),\"普通徴収(本人が納付)\",\"\"))","v":""},null,null,null,null,null,{"$f":"IF(OR(AND(HQ36>=6,HQ36<=12),HO37=$F$75),\"普通徴収(本人が納付)\",IF(AND(HQ36>=1,HQ36<=5),\"普通徴収(本人が納付)\",\"\"))","v":""},null,null,null,null,null,{"$f":"IF(OR(AND(HW36>=6,HW36<=12),HU37=$F$75),\"普通徴収(本人が納付)\",IF(AND(HW36>=1,HW36<=5),\"普通徴収(本人が納付)\",\"\"))","v":""},null,null,null,null,null,{"$f":"IF(OR(AND(IC36>=6,IC36<=12),IA37=$F$75),\"普通徴収(本人が納付)\",IF(AND(IC36>=1,IC36<=5),\"普通徴収(本人が納付)\",\"\"))","v":""},null,null,null,null,null,{"$f":"IF(OR(AND(II36>=6,II36<=12),IG37=$F$75),\"普通徴収(本人が納付)\",IF(AND(II36>=1,II36<=5),\"普通徴収(本人が納付)\",\"\"))","v":""}]
[null,{"$f":"IF(AND(AE21<>\"\",AE25<>\"\",AG25<>\"\",AI25<>\"\"),AE17,\"\")","v":""},{"$f":"IF(D77=64,\"昭\",IF(C76=\"昭\",\"昭\",\"平\"))","v":"平"},{"$f":"IF(D76-1>0,D76-1,64)","v":19},{"$f":"C77&D77","v":"平19"},"5　長欠","普徴理由",null,null,null,null,null,"普徴理由",null,null,null,null,null,"普徴理由",null,null,null,null,null,"普徴理由",null,null,null,null,null,"普徴理由",null,null,null,null,null,"普徴理由",null,null,null,null,null,"普徴理由",null,null,null,null,null,"普徴理由",null,null,null,null,null,"普徴理由",null,null,null,null,null,"普徴理由",null,null,null,null,null,"普徴理由",null,null,null,null,null,"普徴理由",null,null,null,null,null,"普徴理由",null,null,null,null,null,"普徴理由",null,null,null,null,null,"普徴理由",null,null,null,null,null,"普徴理由",null,null,null,null,null,"普徴理由",null,null,null,null,null,"普徴理由",null,null,null,null,null,"普徴理由",null,null,null,null,null,"普徴理由",null,null,null,null,null,"普徴理由",null,null,null,null,null,"普徴理由",null,null,null,null,null,"普徴理由",null,null,null,null,null,"普徴理由",null,null,null,null,null,"普徴理由",null,null,null,null,null,"普徴理由",null,null,null,null,null,"普徴理由",null,null,null,null,null,"普徴理由",null,null,null,null,null,"普徴理由",null,null,null,null,null,"普徴理由",null,null,null,null,null,"普徴理由",null,null,null,null,null,"普徴理由",null,null,null,null,null,"普徴理由",null,null,null,null,null,"普徴理由",null,null,null,null,null,"普徴理由",null,null,null,null,null,"普徴理由",null,null,null,null,null,"普徴理由",null,null,null,null,null,"普徴理由",null,null,null,null,null,"普徴理由",null,null,null,null,null,"普徴理由"]
[null,{"$f":"IF(AND(AK21<>\"\",AK25<>\"\",AM25<>\"\",AO25<>\"\"),AK17,\"\")","v":""},{"$f":"IF(D78=64,\"昭\",IF(C77=\"昭\",\"昭\",\"平\"))","v":"平"},{"$f":"IF(D77-1>0,D77-1,64)","v":18},"平18","6　支払少額",{"$f":"IF(AND(I36>=6,I36<=12,G45=G76),\"一括徴収の本人申出がないため\",\"\")","v":""},null,null,null,null,null,{"$f":"IF(AND(O36>=6,O36<=12,M45=M76),\"一括徴収の本人申出がないため\",\"\")","v":""},null,null,null,null,null,{"$f":"IF(AND(U36>=6,U36<=12,S45=S76),\"一括徴収の本人申出がないため\",\"\")","v":""},null,null,null,null,null,{"$f":"IF(AND(AA36>=6,AA36<=12,Y45=Y76),\"一括徴収の本人申出がないため\",\"\")","v":""},null,null,null,null,null,{"$f":"IF(AND(AG36>=6,AG36<=12,AE45=AE76),\"一括徴収の本人申出がないため\",\"\")","v":""},null,null,null,null,null,{"$f":"IF(AND(AM36>=6,AM36<=12,AK45=AK76),\"一括徴収の本人申出がないため\",\"\")","v":""},null,null,null,null,null,{"$f":"IF(AND(AS36>=6,AS36<=12,AQ45=AQ76),\"一括徴収の本人申出がないため\",\"\")","v":""},null,null,null,null,null,{"$f":"IF(AND(AY36>=6,AY36<=12,AW45=AW76),\"一括徴収の本人申出がないため\",\"\")","v":""},null,null,null,null,null,{"$f":"IF(AND(BE36>=6,BE36<=12,BC45=BC76),\"一括徴収の本人申出がないため\",\"\")","v":""},null,null,null,null,null,{"$f":"IF(AND(BK36>=6,BK36<=12,BI45=BI76),\"一括徴収の本人申出がないため\",\"\")","v":""},null,null,null,null,null,{"$f":"IF(AND(BQ36>=6,BQ36<=12,BO45=BO76),\"一括徴収の本人申出がないため\",\"\")","v":""},null,null,null,null,null,{"$f":"IF(AND(BW36>=6,BW36<=12,BU45=BU76),\"一括徴収の本人申出がないため\",\"\")","v":""},null,null,null,null,null,{"$f":"IF(AND(CC36>=6,CC36<=12,CA45=CA76),\"一括徴収の本人申出がないため\",\"\")","v":""},null,null,null,null,null,{"$f":"IF(AND(CI36>=6,CI36<=12,CG45=CG76),\"一括徴収の本人申出がないため\",\"\")","v":""},null,null,null,null,null,{"$f":"IF(AND(CO36>=6,CO36<=12,CM45=CM76),\"一括徴収の本人申出がないため\",\"\")","v":""},null,null,null,null,null,{"$f":"IF(AND(CU36>=6,CU36<=12,CS45=CS76),\"一括徴収の本人申出がないため\",\"\")","v":""},null,null,null,null,null,{"$f":"IF(AND(DA36>=6,DA36<=12,CY45=CY76),\"一括徴収の本人申出がないため\",\"\")","v":""},null,null,null,null,null,{"$f":"IF(AND(DG36>=6,DG36<=12,DE45=DE76),\"一括徴収の本人申出がないため\",\"\")","v":""},null,null,null,null,null,{"$f":"IF(AND(DM36>=6,DM36<=12,DK45=DK76),\"一括徴収の本人申出がないため\",\"\")","v":""},null,null,null,null,null,{"$f":"IF(AND(DS36>=6,DS36<=12,DQ45=DQ76),\"一括徴収の本人申出がないため\",\"\")","v":""},null,null,null,null,null,{"$f":"IF(AND(DY36>=6,DY36<=12,DW45=DW76),\"一括徴収の本人申出がないため\",\"\")","v":""},null,null,null,null,null,{"$f":"IF(AND(EE36>=6,EE36<=12,EC45=EC76),\"一括徴収の本人申出がないため\",\"\")","v":""},null,null,null,null,null,{"$f":"IF(AND(EK36>=6,EK36<=12,EI45=EI76),\"一括徴収の本人申出がないため\",\"\")","v":""},null,null,null,null,null,{"$f":"IF(AND(EQ36>=6,EQ36<=12,EO45=EO76),\"一括徴収の本人申出がないため\",\"\")","v":""},null,null,null,null,null,{"$f":"IF(AND(EW36>=6,EW36<=12,EU45=EU76),\"一括徴収の本人申出がないため\",\"\")","v":""},null,null,null,null,null,{"$f":"IF(AND(FC36>=6,FC36<=12,FA45=FA76),\"一括徴収の本人申出がないため\",\"\")","v":""},null,null,null,null,null,{"$f":"IF(AND(FI36>=6,FI36<=12,FG45=FG76),\"一括徴収の本人申出がないため\",\"\")","v":""},null,null,null,null,null,{"$f":"IF(AND(FO36>=6,FO36<=12,FM45=FM76),\"一括徴収の本人申出がないため\",\"\")","v":""},null,null,null,null,null,{"$f":"IF(AND(FU36>=6,FU36<=12,FS45=FS76),\"一括徴収の本人申出がないため\",\"\")","v":""},null,null,null,null,null,{"$f":"IF(AND(GA36>=6,GA36<=12,FY45=FY76),\"一括徴収の本人申出がないため\",\"\")","v":""},null,null,null,null,null,{"$f":"IF(AND(GG36>=6,GG36<=12,GE45=GE76),\"一括徴収の本人申出がないため\",\"\")","v":""},null,null,null,null,null,{"$f":"IF(AND(GM36>=6,GM36<=12,GK45=GK76),\"一括徴収の本人申出がないため\",\"\")","v":""},null,null,null,null,null,{"$f":"IF(AND(GS36>=6,GS36<=12,GQ45=GQ76),\"一括徴収の本人申出がないため\",\"\")","v":""},null,null,null,null,null,{"$f":"IF(AND(GY36>=6,GY36<=12,GW45=GW76),\"一括徴収の本人申出がないため\",\"\")","v":""},null,null,null,null,null,{"$f":"IF(AND(HE36>=6,HE36<=12,HC45=HC76),\"一括徴収の本人申出がないため\",\"\")","v":""},null,null,null,null,null,{"$f":"IF(AND(HK36>=6,HK36<=12,HI45=HI76),\"一括徴収の本人申出がないため\",\"\")","v":""},null,null,null,null,null,{"$f":"IF(AND(HQ36>=6,HQ36<=12,HO45=HO76),\"一括徴収の本人申出がないため\",\"\")","v":""},null,null,null,null,null,{"$f":"IF(AND(HW36>=6,HW36<=12,HU45=HU76),\"一括徴収の本人申出がないため\",\"\")","v":""},null,null,null,null,null,{"$f":"IF(AND(IC36>=6,IC36<=12,IA45=IA76),\"一括徴収の本人申出がないため\",\"\")","v":""},null,null,null,null,null,{"$f":"IF(AND(II36>=6,II36<=12,IG45=IG76),\"一括徴収の本人申出がないため\",\"\")","v":""}]
[null,{"$f":"IF(AND(AQ21<>\"\",AQ25<>\"\",AS25<>\"\",AU25<>\"\"),AQ17,\"\")","v":""},"平",{"$f":"IF(D78-1>0,D78-1,64)","v":17},"平17","7　支払不定期",{"$f":"IF(G45=G76,\"給与及び退職手当等から未徴収税額を一括徴収できないため\",\"\")","v":"給与及び退職手当等から未徴収税額を一括徴収できないため"},null,null,null,null,null,{"$f":"IF(M45=M76,\"給与及び退職手当等から未徴収税額を一括徴収できないため\",\"\")","v":"給与及び退職手当等から未徴収税額を一括徴収できないため"},null,null,null,null,null,{"$f":"IF(S45=S76,\"給与及び退職手当等から未徴収税額を一括徴収できないため\",\"\")","v":"給与及び退職手当等から未徴収税額を一括徴収できないため"},null,null,null,null,null,{"$f":"IF(Y45=Y76,\"給与及び退職手当等から未徴収税額を一括徴収できないため\",\"\")","v":"給与及び退職手当等から未徴収税額を一括徴収できないため"},null,null,null,null,null,{"$f":"IF(AE45=AE76,\"給与及び退職手当等から未徴収税額を一括徴収できないため\",\"\")","v":"給与及び退職手当等から未徴収税額を一括徴収できないため"},null,null,null,null,null,{"$f":"IF(AK45=AK76,\"給与及び退職手当等から未徴収税額を一括徴収できないため\",\"\")","v":"給与及び退職手当等から未徴収税額を一括徴収できないため"},null,null,null,null,null,{"$f":"IF(AQ45=AQ76,\"給与及び退職手当等から未徴収税額を一括徴収できないため\",\"\")","v":"給与及び退職手当等から未徴収税額を一括徴収できないため"},null,null,null,null,null,{"$f":"IF(AW45=AW76,\"給与及び退職手当等から未徴収税額を一括徴収できないため\",\"\")","v":"給与及び退職手当等から未徴収税額を一括徴収できないため"},null,null,null,null,null,{"$f":"IF(BC45=BC76,\"給与及び退職手当等から未徴収税額を一括徴収できないため\",\"\")","v":"給与及び退職手当等から未徴収税額を一括徴収できないため"},null,null,null,null,null,{"$f":"IF(BI45=BI76,\"給与及び退職手当等から未徴収税額を一括徴収できないため\",\"\")","v":"給与及び退職手当等から未徴収税額を一括徴収できないため"},null,null,null,null,null,{"$f":"IF(BO45=BO76,\"給与及び退職手当等から未徴収税額を一括徴収できないため\",\"\")","v":"給与及び退職手当等から未徴収税額を一括徴収できないため"},null,null,null,null,null,{"$f":"IF(BU45=BU76,\"給与及び退職手当等から未徴収税額を一括徴収できないため\",\"\")","v":"給与及び退職手当等から未徴収税額を一括徴収できないため"},null,null,null,null,null,{"$f":"IF(CA45=CA76,\"給与及び退職手当等から未徴収税額を一括徴収できないため\",\"\")","v":"給与及び退職手当等から未徴収税額を一括徴収できないため"},null,null,null,null,null,{"$f":"IF(CG45=CG76,\"給与及び退職手当等から未徴収税額を一括徴収できないため\",\"\")","v":"給与及び退職手当等から未徴収税額を一括徴収できないため"},null,null,null,null,null,{"$f":"IF(CM45=CM76,\"給与及び退職手当等から未徴収税額を一括徴収できないため\",\"\")","v":"給与及び退職手当等から未徴収税額を一括徴収できないため"},null,null,null,null,null,{"$f":"IF(CS45=CS76,\"給与及び退職手当等から未徴収税額を一括徴収できないため\",\"\")","v":"給与及び退職手当等から未徴収税額を一括徴収できないため"},null,null,null,null,null,{"$f":"IF(CY45=CY76,\"給与及び退職手当等から未徴収税額を一括徴収できないため\",\"\")","v":"給与及び退職手当等から未徴収税額を一括徴収できないため"},null,null,null,null,null,{"$f":"IF(DE45=DE76,\"給与及び退職手当等から未徴収税額を一括徴収できないため\",\"\")","v":"給与及び退職手当等から未徴収税額を一括徴収できないため"},null,null,null,null,null,{"$f":"IF(DK45=DK76,\"給与及び退職手当等から未徴収税額を一括徴収できないため\",\"\")","v":"給与及び退職手当等から未徴収税額を一括徴収できないため"},null,null,null,null,null,{"$f":"IF(DQ45=DQ76,\"給与及び退職手当等から未徴収税額を一括徴収できないため\",\"\")","v":"給与及び退職手当等から未徴収税額を一括徴収できないため"},null,null,null,null,null,{"$f":"IF(DW45=DW76,\"給与及び退職手当等から未徴収税額を一括徴収できないため\",\"\")","v":"給与及び退職手当等から未徴収税額を一括徴収できないため"},null,null,null,null,null,{"$f":"IF(EC45=EC76,\"給与及び退職手当等から未徴収税額を一括徴収できないため\",\"\")","v":"給与及び退職手当等から未徴収税額を一括徴収できないため"},null,null,null,null,null,{"$f":"IF(EI45=EI76,\"給与及び退職手当等から未徴収税額を一括徴収できないため\",\"\")","v":"給与及び退職手当等から未徴収税額を一括徴収できないため"},null,null,null,null,null,{"$f":"IF(EO45=EO76,\"給与及び退職手当等から未徴収税額を一括徴収できないため\",\"\")","v":"給与及び退職手当等から未徴収税額を一括徴収できないため"},null,null,null,null,null,{"$f":"IF(EU45=EU76,\"給与及び退職手当等から未徴収税額を一括徴収できないため\",\"\")","v":"給与及び退職手当等から未徴収税額を一括徴収できないため"},null,null,null,null,null,{"$f":"IF(FA45=FA76,\"給与及び退職手当等から未徴収税額を一括徴収できないため\",\"\")","v":"給与及び退職手当等から未徴収税額を一括徴収できないため"},null,null,null,null,null,{"$f":"IF(FG45=FG76,\"給与及び退職手当等から未徴収税額を一括徴収できないため\",\"\")","v":"給与及び退職手当等から未徴収税額を一括徴収できないため"},null,null,null,null,null,{"$f":"IF(FM45=FM76,\"給与及び退職手当等から未徴収税額を一括徴収できないため\",\"\")","v":"給与及び退職手当等から未徴収税額を一括徴収できないため"},null,null,null,null,null,{"$f":"IF(FS45=FS76,\"給与及び退職手当等から未徴収税額を一括徴収できないため\",\"\")","v":"給与及び退職手当等から未徴収税額を一括徴収できないため"},null,null,null,null,null,{"$f":"IF(FY45=FY76,\"給与及び退職手当等から未徴収税額を一括徴収できないため\",\"\")","v":"給与及び退職手当等から未徴収税額を一括徴収できないため"},null,null,null,null,null,{"$f":"IF(GE45=GE76,\"給与及び退職手当等から未徴収税額を一括徴収できないため\",\"\")","v":"給与及び退職手当等から未徴収税額を一括徴収できないため"},null,null,null,null,null,{"$f":"IF(GK45=GK76,\"給与及び退職手当等から未徴収税額を一括徴収できないため\",\"\")","v":"給与及び退職手当等から未徴収税額を一括徴収できないため"},null,null,null,null,null,{"$f":"IF(GQ45=GQ76,\"給与及び退職手当等から未徴収税額を一括徴収できないため\",\"\")","v":"給与及び退職手当等から未徴収税額を一括徴収できないため"},null,null,null,null,null,{"$f":"IF(GW45=GW76,\"給与及び退職手当等から未徴収税額を一括徴収できないため\",\"\")","v":"給与及び退職手当等から未徴収税額を一括徴収できないため"},null,null,null,null,null,{"$f":"IF(HC45=HC76,\"給与及び退職手当等から未徴収税額を一括徴収できないため\",\"\")","v":"給与及び退職手当等から未徴収税額を一括徴収できないため"},null,null,null,null,null,{"$f":"IF(HI45=HI76,\"給与及び退職手当等から未徴収税額を一括徴収できないため\",\"\")","v":"給与及び退職手当等から未徴収税額を一括徴収できないため"},null,null,null,null,null,{"$f":"IF(HO45=HO76,\"給与及び退職手当等から未徴収税額を一括徴収できないため\",\"\")","v":"給与及び退職手当等から未徴収税額を一括徴収できないため"},null,null,null,null,null,{"$f":"IF(HU45=HU76,\"給与及び退職手当等から未徴収税額を一括徴収できないため\",\"\")","v":"給与及び退職手当等から未徴収税額を一括徴収できないため"},null,null,null,null,null,{"$f":"IF(IA45=IA76,\"給与及び退職手当等から未徴収税額を一括徴収できないため\",\"\")","v":"給与及び退職手当等から未徴収税額を一括徴収できないため"},null,null,null,null,null,{"$f":"IF(IG45=IG76,\"給与及び退職手当等から未徴収税額を一括徴収できないため\",\"\")","v":"給与及び退職手当等から未徴収税額を一括徴収できないため"}]
[null,{"$f":"IF(AND(AW21<>\"\",AW25<>\"\",AY25<>\"\",BA25<>\"\"),AW17,\"\")","v":""},"平",{"$f":"IF(D79-1>0,D79-1,64)","v":16},"平16","8　その他",{"$f":"IF(AND(G37=$F$75,G45=G76),\"死亡による退職のため\",\"\")","v":""},null,null,null,null,null,{"$f":"IF(AND(M37=$F$75,M45=M76),\"死亡による退職のため\",\"\")","v":""},null,null,null,null,null,{"$f":"IF(AND(S37=$F$75,S45=S76),\"死亡による退職のため\",\"\")","v":""},null,null,null,null,null,{"$f":"IF(AND(Y37=$F$75,Y45=Y76),\"死亡による退職のため\",\"\")","v":""},null,null,null,null,null,{"$f":"IF(AND(AE37=$F$75,AE45=AE76),\"死亡による退職のため\",\"\")","v":""},null,null,null,null,null,{"$f":"IF(AND(AK37=$F$75,AK45=AK76),\"死亡による退職のため\",\"\")","v":""},null,null,null,null,null,{"$f":"IF(AND(AQ37=$F$75,AQ45=AQ76),\"死亡による退職のため\",\"\")","v":""},null,null,null,null,null,{"$f":"IF(AND(AW37=$F$75,AW45=AW76),\"死亡による退職のため\",\"\")","v":""},null,null,null,null,null,{"$f":"IF(AND(BC37=$F$75,BC45=BC76),\"死亡による退職のため\",\"\")","v":""},null,null,null,null,null,{"$f":"IF(AND(BI37=$F$75,BI45=BI76),\"死亡による退職のため\",\"\")","v":""},null,null,null,null,null,{"$f":"IF(AND(BO37=$F$75,BO45=BO76),\"死亡による退職のため\",\"\")","v":""},null,null,null,null,null,{"$f":"IF(AND(BU37=$F$75,BU45=BU76),\"死亡による退職のため\",\"\")","v":""},null,null,null,null,null,{"$f":"IF(AND(CA37=$F$75,CA45=CA76),\"死亡による退職のため\",\"\")","v":""},null,null,null,null,null,{"$f":"IF(AND(CG37=$F$75,CG45=CG76),\"死亡による退職のため\",\"\")","v":""},null,null,null,null,null,{"$f":"IF(AND(CM37=$F$75,CM45=CM76),\"死亡による退職のため\",\"\")","v":""},null,null,null,null,null,{"$f":"IF(AND(CS37=$F$75,CS45=CS76),\"死亡による退職のため\",\"\")","v":""},null,null,null,null,null,{"$f":"IF(AND(CY37=$F$75,CY45=CY76),\"死亡による退職のため\",\"\")","v":""},null,null,null,null,null,{"$f":"IF(AND(DE37=$F$75,DE45=DE76),\"死亡による退職のため\",\"\")","v":""},null,null,null,null,null,{"$f":"IF(AND(DK37=$F$75,DK45=DK76),\"死亡による退職のため\",\"\")","v":""},null,null,null,null,null,{"$f":"IF(AND(DQ37=$F$75,DQ45=DQ76),\"死亡による退職のため\",\"\")","v":""},null,null,null,null,null,{"$f":"IF(AND(DW37=$F$75,DW45=DW76),\"死亡による退職のため\",\"\")","v":""},null,null,null,null,null,{"$f":"IF(AND(EC37=$F$75,EC45=EC76),\"死亡による退職のため\",\"\")","v":""},null,null,null,null,null,{"$f":"IF(AND(EI37=$F$75,EI45=EI76),\"死亡による退職のため\",\"\")","v":""},null,null,null,null,null,{"$f":"IF(AND(EO37=$F$75,EO45=EO76),\"死亡による退職のため\",\"\")","v":""},null,null,null,null,null,{"$f":"IF(AND(EU37=$F$75,EU45=EU76),\"死亡による退職のため\",\"\")","v":""},null,null,null,null,null,{"$f":"IF(AND(FA37=$F$75,FA45=FA76),\"死亡による退職のため\",\"\")","v":""},null,null,null,null,null,{"$f":"IF(AND(FG37=$F$75,FG45=FG76),\"死亡による退職のため\",\"\")","v":""},null,null,null,null,null,{"$f":"IF(AND(FM37=$F$75,FM45=FM76),\"死亡による退職のため\",\"\")","v":""},null,null,null,null,null,{"$f":"IF(AND(FS37=$F$75,FS45=FS76),\"死亡による退職のため\",\"\")","v":""},null,null,null,null,null,{"$f":"IF(AND(FY37=$F$75,FY45=FY76),\"死亡による退職のため\",\"\")","v":""},null,null,null,null,null,{"$f":"IF(AND(GE37=$F$75,GE45=GE76),\"死亡による退職のため\",\"\")","v":""},null,null,null,null,null,{"$f":"IF(AND(GK37=$F$75,GK45=GK76),\"死亡による退職のため\",\"\")","v":""},null,null,null,null,null,{"$f":"IF(AND(GQ37=$F$75,GQ45=GQ76),\"死亡による退職のため\",\"\")","v":""},null,null,null,null,null,{"$f":"IF(AND(GW37=$F$75,GW45=GW76),\"死亡による退職のため\",\"\")","v":""},null,null,null,null,null,{"$f":"IF(AND(HC37=$F$75,HC45=HC76),\"死亡による退職のため\",\"\")","v":""},null,null,null,null,null,{"$f":"IF(AND(HI37=$F$75,HI45=HI76),\"死亡による退職のため\",\"\")","v":""},null,null,null,null,null,{"$f":"IF(AND(HO37=$F$75,HO45=HO76),\"死亡による退職のため\",\"\")","v":""},null,null,null,null,null,{"$f":"IF(AND(HU37=$F$75,HU45=HU76),\"死亡による退職のため\",\"\")","v":""},null,null,null,null,null,{"$f":"IF(AND(IA37=$F$75,IA45=IA76),\"死亡による退職のため\",\"\")","v":""},null,null,null,null,null,{"$f":"IF(AND(IG37=$F$75,IG45=IG76),\"死亡による退職のため\",\"\")","v":""}]
[null,{"$f":"IF(AND(BC21<>\"\",BC25<>\"\",BE25<>\"\",BG25<>\"\"),BC17,\"\")","v":""},{"$f":"IF(D81=64,\"昭\",IF(C80=\"昭\",\"昭\",\"平\"))","v":"平"},{"$f":"IF(D80-1>0,D80-1,64)","v":15},"平15","納入書の要否"]
[null,{"$f":"IF(AND(BI21<>\"\",BI25<>\"\",BK25<>\"\",BM25<>\"\"),BI17,\"\")","v":""},"平",14,"平14","1　必要","済月","納月","開月",null,null,null,"済月","納月","開月",null,null,null,"済月","納月","開月",null,null,null,"済月","納月","開月",null,null,null,"済月","納月","開月",null,null,null,"済月","納月","開月",null,null,null,"済月","納月","開月",null,null,null,"済月","納月","開月",null,null,null,"済月","納月","開月",null,null,null,"済月","納月","開月",null,null,null,"済月","納月","開月",null,null,null,"済月","納月","開月",null,null,null,"済月","納月","開月",null,null,null,"済月","納月","開月",null,null,null,"済月","納月","開月",null,null,null,"済月","納月","開月",null,null,null,"済月","納月","開月",null,null,null,"済月","納月","開月",null,null,null,"済月","納月","開月",null,null,null,"済月","納月","開月",null,null,null,"済月","納月","開月",null,null,null,"済月","納月","開月",null,null,null,"済月","納月","開月",null,null,null,"済月","納月","開月",null,null,null,"済月","納月","開月",null,null,null,"済月","納月","開月",null,null,null,"済月","納月","開月",null,null,null,"済月","納月","開月",null,null,null,"済月","納月","開月",null,null,null,"済月","納月","開月",null,null,null,"済月","納月","開月",null,null,null,"済月","納月","開月",null,null,null,"済月","納月","開月",null,null,null,"済月","納月","開月",null,null,null,"済月","納月","開月",null,null,null,"済月","納月","開月",null,null,null,"済月","納月","開月",null,null,null,"済月","納月","開月",null,null,null,"済月","納月","開月",null,null,null,"済月","納月","開月"]
[null,{"$f":"IF(AND(BO21<>\"\",BO25<>\"\",BQ25<>\"\",BS25<>\"\"),BO17,\"\")","v":""},"平",13,"平13","2　不要",{"$f":"IF(OR(G84=\"\",G$41=7),\"\",6)","v":6},{"$f":"IF(OR(H84=\"\",J$41=4),\"\",IF(AND(I$36>=1,I$36<=4,G$36=31),\"平成\"&30&\"年\"&6,IF(AND(I$36=5,G$36=\"元\"),\"平成\"&30&\"年\"&6,IF(AND(I$36>=6,G$36=\"元\"),\"令和元年\"&6,IF(AND(I$36>=1,I$36<=5,G$36=2),\"令和元年\"&6,(IF((AND(I$36>=1,I$36<=5)),\"令和\"&G$36-1&\"年\"&6,\"令和\"&G$36&\"年\"&6)))))))","v":"令和年6"},{"$f":"IF(OR(H84=\"\",J$41=4),\"\",IF(AND(I$36>=1,I$36<=4,G$36=31),\"平成\"&30&\"年\"&6,IF(AND(I$36=5,G$36=\"元\"),\"平成\"&30&\"年\"&6,IF(AND(I$36>=6,G$36=\"元\"),\"令和元年\"&6,IF(AND(I$36>=1,I$36<=5,G$36=2),\"令和元年\"&6,(IF((AND(I$36>=1,I$36<=5)),\"令和\"&G$36-1&\"年\"&6,\"令和\"&G$36&\"年\"&6)))))))","v":"令和年6"},null,null,null,{"$f":"IF(OR(M84=\"\",M$41=7),\"\",6)","v":6},{"$f":"IF(OR(N84=\"\",P$41=4),\"\",IF(AND(O$36>=1,O$36<=4,M$36=31),\"平成\"&30&\"年\"&6,IF(AND(O$36=5,M$36=\"元\"),\"平成\"&30&\"年\"&6,IF(AND(O$36>=6,M$36=\"元\"),\"令和元年\"&6,IF(AND(O$36>=1,O$36<=5,M$36=2),\"令和元年\"&6,(IF((AND(O$36>=1,O$36<=5)),\"令和\"&M$36-1&\"年\"&6,\"令和\"&M$36&\"年\"&6)))))))","v":"令和年6"},{"$f":"IF(OR(N84=\"\",P$41=4),\"\",IF(AND(O$36>=1,O$36<=4,M$36=31),\"平成\"&30&\"年\"&6,IF(AND(O$36=5,M$36=\"元\"),\"平成\"&30&\"年\"&6,IF(AND(O$36>=6,M$36=\"元\"),\"令和元年\"&6,IF(AND(O$36>=1,O$36<=5,M$36=2),\"令和元年\"&6,(IF((AND(O$36>=1,O$36<=5)),\"令和\"&M$36-1&\"年\"&6,\"令和\"&M$36&\"年\"&6)))))))","v":"令和年6"},null,null,null,{"$f":"IF(OR(S84=\"\",S$41=7),\"\",6)","v":6},{"$f":"IF(OR(T84=\"\",V$41=4),\"\",IF(AND(U$36>=1,U$36<=4,S$36=31),\"平成\"&30&\"年\"&6,IF(AND(U$36=5,S$36=\"元\"),\"平成\"&30&\"年\"&6,IF(AND(U$36>=6,S$36=\"元\"),\"令和元年\"&6,IF(AND(U$36>=1,U$36<=5,S$36=2),\"令和元年\"&6,(IF((AND(U$36>=1,U$36<=5)),\"令和\"&S$36-1&\"年\"&6,\"令和\"&S$36&\"年\"&6)))))))","v":"令和年6"},{"$f":"IF(OR(T84=\"\",V$41=4),\"\",IF(AND(U$36>=1,U$36<=4,S$36=31),\"平成\"&30&\"年\"&6,IF(AND(U$36=5,S$36=\"元\"),\"平成\"&30&\"年\"&6,IF(AND(U$36>=6,S$36=\"元\"),\"令和元年\"&6,IF(AND(U$36>=1,U$36<=5,S$36=2),\"令和元年\"&6,(IF((AND(U$36>=1,U$36<=5)),\"令和\"&S$36-1&\"年\"&6,\"令和\"&S$36&\"年\"&6)))))))","v":"令和年6"},null,null,null,{"$f":"IF(OR(Y84=\"\",Y$41=7),\"\",6)","v":6},{"$f":"IF(OR(Z84=\"\",AB$41=4),\"\",IF(AND(AA$36>=1,AA$36<=4,Y$36=31),\"平成\"&30&\"年\"&6,IF(AND(AA$36=5,Y$36=\"元\"),\"平成\"&30&\"年\"&6,IF(AND(AA$36>=6,Y$36=\"元\"),\"令和元年\"&6,IF(AND(AA$36>=1,AA$36<=5,Y$36=2),\"令和元年\"&6,(IF((AND(AA$36>=1,AA$36<=5)),\"令和\"&Y$36-1&\"年\"&6,\"令和\"&Y$36&\"年\"&6)))))))","v":"令和年6"},{"$f":"IF(OR(Z84=\"\",AB$41=4),\"\",IF(AND(AA$36>=1,AA$36<=4,Y$36=31),\"平成\"&30&\"年\"&6,IF(AND(AA$36=5,Y$36=\"元\"),\"平成\"&30&\"年\"&6,IF(AND(AA$36>=6,Y$36=\"元\"),\"令和元年\"&6,IF(AND(AA$36>=1,AA$36<=5,Y$36=2),\"令和元年\"&6,(IF((AND(AA$36>=1,AA$36<=5)),\"令和\"&Y$36-1&\"年\"&6,\"令和\"&Y$36&\"年\"&6)))))))","v":"令和年6"},null,null,null,{"$f":"IF(OR(AE84=\"\",AE$41=7),\"\",6)","v":6},{"$f":"IF(OR(AF84=\"\",AH$41=4),\"\",IF(AND(AG$36>=1,AG$36<=4,AE$36=31),\"平成\"&30&\"年\"&6,IF(AND(AG$36=5,AE$36=\"元\"),\"平成\"&30&\"年\"&6,IF(AND(AG$36>=6,AE$36=\"元\"),\"令和元年\"&6,IF(AND(AG$36>=1,AG$36<=5,AE$36=2),\"令和元年\"&6,(IF((AND(AG$36>=1,AG$36<=5)),\"令和\"&AE$36-1&\"年\"&6,\"令和\"&AE$36&\"年\"&6)))))))","v":"令和年6"},{"$f":"IF(OR(AF84=\"\",AH$41=4),\"\",IF(AND(AG$36>=1,AG$36<=4,AE$36=31),\"平成\"&30&\"年\"&6,IF(AND(AG$36=5,AE$36=\"元\"),\"平成\"&30&\"年\"&6,IF(AND(AG$36>=6,AE$36=\"元\"),\"令和元年\"&6,IF(AND(AG$36>=1,AG$36<=5,AE$36=2),\"令和元年\"&6,(IF((AND(AG$36>=1,AG$36<=5)),\"令和\"&AE$36-1&\"年\"&6,\"令和\"&AE$36&\"年\"&6)))))))","v":"令和年6"},null,null,null,{"$f":"IF(OR(AK84=\"\",AK$41=7),\"\",6)","v":6},{"$f":"IF(OR(AL84=\"\",AN$41=4),\"\",IF(AND(AM$36>=1,AM$36<=4,AK$36=31),\"平成\"&30&\"年\"&6,IF(AND(AM$36=5,AK$36=\"元\"),\"平成\"&30&\"年\"&6,IF(AND(AM$36>=6,AK$36=\"元\"),\"令和元年\"&6,IF(AND(AM$36>=1,AM$36<=5,AK$36=2),\"令和元年\"&6,(IF((AND(AM$36>=1,AM$36<=5)),\"令和\"&AK$36-1&\"年\"&6,\"令和\"&AK$36&\"年\"&6)))))))","v":"令和年6"},{"$f":"IF(OR(AL84=\"\",AN$41=4),\"\",IF(AND(AM$36>=1,AM$36<=4,AK$36=31),\"平成\"&30&\"年\"&6,IF(AND(AM$36=5,AK$36=\"元\"),\"平成\"&30&\"年\"&6,IF(AND(AM$36>=6,AK$36=\"元\"),\"令和元年\"&6,IF(AND(AM$36>=1,AM$36<=5,AK$36=2),\"令和元年\"&6,(IF((AND(AM$36>=1,AM$36<=5)),\"令和\"&AK$36-1&\"年\"&6,\"令和\"&AK$36&\"年\"&6)))))))","v":"令和年6"},null,null,null,{"$f":"IF(OR(AQ84=\"\",AQ$41=7),\"\",6)","v":6},{"$f":"IF(OR(AR84=\"\",AT$41=4),\"\",IF(AND(AS$36>=1,AS$36<=4,AQ$36=31),\"平成\"&30&\"年\"&6,IF(AND(AS$36=5,AQ$36=\"元\"),\"平成\"&30&\"年\"&6,IF(AND(AS$36>=6,AQ$36=\"元\"),\"令和元年\"&6,IF(AND(AS$36>=1,AS$36<=5,AQ$36=2),\"令和元年\"&6,(IF((AND(AS$36>=1,AS$36<=5)),\"令和\"&AQ$36-1&\"年\"&6,\"令和\"&AQ$36&\"年\"&6)))))))","v":"令和年6"},{"$f":"IF(OR(AR84=\"\",AT$41=4),\"\",IF(AND(AS$36>=1,AS$36<=4,AQ$36=31),\"平成\"&30&\"年\"&6,IF(AND(AS$36=5,AQ$36=\"元\"),\"平成\"&30&\"年\"&6,IF(AND(AS$36>=6,AQ$36=\"元\"),\"令和元年\"&6,IF(AND(AS$36>=1,AS$36<=5,AQ$36=2),\"令和元年\"&6,(IF((AND(AS$36>=1,AS$36<=5)),\"令和\"&AQ$36-1&\"年\"&6,\"令和\"&AQ$36&\"年\"&6)))))))","v":"令和年6"},null,null,null,{"$f":"IF(OR(AW84=\"\",AW$41=7),\"\",6)","v":6},{"$f":"IF(OR(AX84=\"\",AZ$41=4),\"\",IF(AND(AY$36>=1,AY$36<=4,AW$36=31),\"平成\"&30&\"年\"&6,IF(AND(AY$36=5,AW$36=\"元\"),\"平成\"&30&\"年\"&6,IF(AND(AY$36>=6,AW$36=\"元\"),\"令和元年\"&6,IF(AND(AY$36>=1,AY$36<=5,AW$36=2),\"令和元年\"&6,(IF((AND(AY$36>=1,AY$36<=5)),\"令和\"&AW$36-1&\"年\"&6,\"令和\"&AW$36&\"年\"&6)))))))","v":"令和年6"},{"$f":"IF(OR(AX84=\"\",AZ$41=4),\"\",IF(AND(AY$36>=1,AY$36<=4,AW$36=31),\"平成\"&30&\"年\"&6,IF(AND(AY$36=5,AW$36=\"元\"),\"平成\"&30&\"年\"&6,IF(AND(AY$36>=6,AW$36=\"元\"),\"令和元年\"&6,IF(AND(AY$36>=1,AY$36<=5,AW$36=2),\"令和元年\"&6,(IF((AND(AY$36>=1,AY$36<=5)),\"令和\"&AW$36-1&\"年\"&6,\"令和\"&AW$36&\"年\"&6)))))))","v":"令和年6"},null,null,null,{"$f":"IF(OR(BC84=\"\",BC$41=7),\"\",6)","v":6},{"$f":"IF(OR(BD84=\"\",BF$41=4),\"\",IF(AND(BE$36>=1,BE$36<=4,BC$36=31),\"平成\"&30&\"年\"&6,IF(AND(BE$36=5,BC$36=\"元\"),\"平成\"&30&\"年\"&6,IF(AND(BE$36>=6,BC$36=\"元\"),\"令和元年\"&6,IF(AND(BE$36>=1,BE$36<=5,BC$36=2),\"令和元年\"&6,(IF((AND(BE$36>=1,BE$36<=5)),\"令和\"&BC$36-1&\"年\"&6,\"令和\"&BC$36&\"年\"&6)))))))","v":"令和年6"},{"$f":"IF(OR(BD84=\"\",BF$41=4),\"\",IF(AND(BE$36>=1,BE$36<=4,BC$36=31),\"平成\"&30&\"年\"&6,IF(AND(BE$36=5,BC$36=\"元\"),\"平成\"&30&\"年\"&6,IF(AND(BE$36>=6,BC$36=\"元\"),\"令和元年\"&6,IF(AND(BE$36>=1,BE$36<=5,BC$36=2),\"令和元年\"&6,(IF((AND(BE$36>=1,BE$36<=5)),\"令和\"&BC$36-1&\"年\"&6,\"令和\"&BC$36&\"年\"&6)))))))","v":"令和年6"},null,null,null,{"$f":"IF(OR(BI84=\"\",BI$41=7),\"\",6)","v":6},{"$f":"IF(OR(BJ84=\"\",BL$41=4),\"\",IF(AND(BK$36>=1,BK$36<=4,BI$36=31),\"平成\"&30&\"年\"&6,IF(AND(BK$36=5,BI$36=\"元\"),\"平成\"&30&\"年\"&6,IF(AND(BK$36>=6,BI$36=\"元\"),\"令和元年\"&6,IF(AND(BK$36>=1,BK$36<=5,BI$36=2),\"令和元年\"&6,(IF((AND(BK$36>=1,BK$36<=5)),\"令和\"&BI$36-1&\"年\"&6,\"令和\"&BI$36&\"年\"&6)))))))","v":"令和年6"},{"$f":"IF(OR(BJ84=\"\",BL$41=4),\"\",IF(AND(BK$36>=1,BK$36<=4,BI$36=31),\"平成\"&30&\"年\"&6,IF(AND(BK$36=5,BI$36=\"元\"),\"平成\"&30&\"年\"&6,IF(AND(BK$36>=6,BI$36=\"元\"),\"令和元年\"&6,IF(AND(BK$36>=1,BK$36<=5,BI$36=2),\"令和元年\"&6,(IF((AND(BK$36>=1,BK$36<=5)),\"令和\"&BI$36-1&\"年\"&6,\"令和\"&BI$36&\"年\"&6)))))))","v":"令和年6"},null,null,null,{"$f":"IF(OR(BO84=\"\",BO$41=7),\"\",6)","v":6},{"$f":"IF(OR(BP84=\"\",BR$41=4),\"\",IF(AND(BQ$36>=1,BQ$36<=4,BO$36=31),\"平成\"&30&\"年\"&6,IF(AND(BQ$36=5,BO$36=\"元\"),\"平成\"&30&\"年\"&6,IF(AND(BQ$36>=6,BO$36=\"元\"),\"令和元年\"&6,IF(AND(BQ$36>=1,BQ$36<=5,BO$36=2),\"令和元年\"&6,(IF((AND(BQ$36>=1,BQ$36<=5)),\"令和\"&BO$36-1&\"年\"&6,\"令和\"&BO$36&\"年\"&6)))))))","v":"令和年6"},{"$f":"IF(OR(BP84=\"\",BR$41=4),\"\",IF(AND(BQ$36>=1,BQ$36<=4,BO$36=31),\"平成\"&30&\"年\"&6,IF(AND(BQ$36=5,BO$36=\"元\"),\"平成\"&30&\"年\"&6,IF(AND(BQ$36>=6,BO$36=\"元\"),\"令和元年\"&6,IF(AND(BQ$36>=1,BQ$36<=5,BO$36=2),\"令和元年\"&6,(IF((AND(BQ$36>=1,BQ$36<=5)),\"令和\"&BO$36-1&\"年\"&6,\"令和\"&BO$36&\"年\"&6)))))))","v":"令和年6"},null,null,null,{"$f":"IF(OR(BU84=\"\",BU$41=7),\"\",6)","v":6},{"$f":"IF(OR(BV84=\"\",BX$41=4),\"\",IF(AND(BW$36>=1,BW$36<=4,BU$36=31),\"平成\"&30&\"年\"&6,IF(AND(BW$36=5,BU$36=\"元\"),\"平成\"&30&\"年\"&6,IF(AND(BW$36>=6,BU$36=\"元\"),\"令和元年\"&6,IF(AND(BW$36>=1,BW$36<=5,BU$36=2),\"令和元年\"&6,(IF((AND(BW$36>=1,BW$36<=5)),\"令和\"&BU$36-1&\"年\"&6,\"令和\"&BU$36&\"年\"&6)))))))","v":"令和年6"},{"$f":"IF(OR(BV84=\"\",BX$41=4),\"\",IF(AND(BW$36>=1,BW$36<=4,BU$36=31),\"平成\"&30&\"年\"&6,IF(AND(BW$36=5,BU$36=\"元\"),\"平成\"&30&\"年\"&6,IF(AND(BW$36>=6,BU$36=\"元\"),\"令和元年\"&6,IF(AND(BW$36>=1,BW$36<=5,BU$36=2),\"令和元年\"&6,(IF((AND(BW$36>=1,BW$36<=5)),\"令和\"&BU$36-1&\"年\"&6,\"令和\"&BU$36&\"年\"&6)))))))","v":"令和年6"},null,null,null,{"$f":"IF(OR(CA84=\"\",CA$41=7),\"\",6)","v":6},{"$f":"IF(OR(CB84=\"\",CD$41=4),\"\",IF(AND(CC$36>=1,CC$36<=4,CA$36=31),\"平成\"&30&\"年\"&6,IF(AND(CC$36=5,CA$36=\"元\"),\"平成\"&30&\"年\"&6,IF(AND(CC$36>=6,CA$36=\"元\"),\"令和元年\"&6,IF(AND(CC$36>=1,CC$36<=5,CA$36=2),\"令和元年\"&6,(IF((AND(CC$36>=1,CC$36<=5)),\"令和\"&CA$36-1&\"年\"&6,\"令和\"&CA$36&\"年\"&6)))))))","v":"令和年6"},{"$f":"IF(OR(CB84=\"\",CD$41=4),\"\",IF(AND(CC$36>=1,CC$36<=4,CA$36=31),\"平成\"&30&\"年\"&6,IF(AND(CC$36=5,CA$36=\"元\"),\"平成\"&30&\"年\"&6,IF(AND(CC$36>=6,CA$36=\"元\"),\"令和元年\"&6,IF(AND(CC$36>=1,CC$36<=5,CA$36=2),\"令和元年\"&6,(IF((AND(CC$36>=1,CC$36<=5)),\"令和\"&CA$36-1&\"年\"&6,\"令和\"&CA$36&\"年\"&6)))))))","v":"令和年6"},null,null,null,{"$f":"IF(OR(CG84=\"\",CG$41=7),\"\",6)","v":6},{"$f":"IF(OR(CH84=\"\",CJ$41=4),\"\",IF(AND(CI$36>=1,CI$36<=4,CG$36=31),\"平成\"&30&\"年\"&6,IF(AND(CI$36=5,CG$36=\"元\"),\"平成\"&30&\"年\"&6,IF(AND(CI$36>=6,CG$36=\"元\"),\"令和元年\"&6,IF(AND(CI$36>=1,CI$36<=5,CG$36=2),\"令和元年\"&6,(IF((AND(CI$36>=1,CI$36<=5)),\"令和\"&CG$36-1&\"年\"&6,\"令和\"&CG$36&\"年\"&6)))))))","v":"令和年6"},{"$f":"IF(OR(CH84=\"\",CJ$41=4),\"\",IF(AND(CI$36>=1,CI$36<=4,CG$36=31),\"平成\"&30&\"年\"&6,IF(AND(CI$36=5,CG$36=\"元\"),\"平成\"&30&\"年\"&6,IF(AND(CI$36>=6,CG$36=\"元\"),\"令和元年\"&6,IF(AND(CI$36>=1,CI$36<=5,CG$36=2),\"令和元年\"&6,(IF((AND(CI$36>=1,CI$36<=5)),\"令和\"&CG$36-1&\"年\"&6,\"令和\"&CG$36&\"年\"&6)))))))","v":"令和年6"},null,null,null,{"$f":"IF(OR(CM84=\"\",CM$41=7),\"\",6)","v":6},{"$f":"IF(OR(CN84=\"\",CP$41=4),\"\",IF(AND(CO$36>=1,CO$36<=4,CM$36=31),\"平成\"&30&\"年\"&6,IF(AND(CO$36=5,CM$36=\"元\"),\"平成\"&30&\"年\"&6,IF(AND(CO$36>=6,CM$36=\"元\"),\"令和元年\"&6,IF(AND(CO$36>=1,CO$36<=5,CM$36=2),\"令和元年\"&6,(IF((AND(CO$36>=1,CO$36<=5)),\"令和\"&CM$36-1&\"年\"&6,\"令和\"&CM$36&\"年\"&6)))))))","v":"令和年6"},{"$f":"IF(OR(CN84=\"\",CP$41=4),\"\",IF(AND(CO$36>=1,CO$36<=4,CM$36=31),\"平成\"&30&\"年\"&6,IF(AND(CO$36=5,CM$36=\"元\"),\"平成\"&30&\"年\"&6,IF(AND(CO$36>=6,CM$36=\"元\"),\"令和元年\"&6,IF(AND(CO$36>=1,CO$36<=5,CM$36=2),\"令和元年\"&6,(IF((AND(CO$36>=1,CO$36<=5)),\"令和\"&CM$36-1&\"年\"&6,\"令和\"&CM$36&\"年\"&6)))))))","v":"令和年6"},null,null,null,{"$f":"IF(OR(CS84=\"\",CS$41=7),\"\",6)","v":6},{"$f":"IF(OR(CT84=\"\",CV$41=4),\"\",IF(AND(CU$36>=1,CU$36<=4,CS$36=31),\"平成\"&30&\"年\"&6,IF(AND(CU$36=5,CS$36=\"元\"),\"平成\"&30&\"年\"&6,IF(AND(CU$36>=6,CS$36=\"元\"),\"令和元年\"&6,IF(AND(CU$36>=1,CU$36<=5,CS$36=2),\"令和元年\"&6,(IF((AND(CU$36>=1,CU$36<=5)),\"令和\"&CS$36-1&\"年\"&6,\"令和\"&CS$36&\"年\"&6)))))))","v":"令和年6"},{"$f":"IF(OR(CT84=\"\",CV$41=4),\"\",IF(AND(CU$36>=1,CU$36<=4,CS$36=31),\"平成\"&30&\"年\"&6,IF(AND(CU$36=5,CS$36=\"元\"),\"平成\"&30&\"年\"&6,IF(AND(CU$36>=6,CS$36=\"元\"),\"令和元年\"&6,IF(AND(CU$36>=1,CU$36<=5,CS$36=2),\"令和元年\"&6,(IF((AND(CU$36>=1,CU$36<=5)),\"令和\"&CS$36-1&\"年\"&6,\"令和\"&CS$36&\"年\"&6)))))))","v":"令和年6"},null,null,null,{"$f":"IF(OR(CY84=\"\",CY$41=7),\"\",6)","v":6},{"$f":"IF(OR(CZ84=\"\",DB$41=4),\"\",IF(AND(DA$36>=1,DA$36<=4,CY$36=31),\"平成\"&30&\"年\"&6,IF(AND(DA$36=5,CY$36=\"元\"),\"平成\"&30&\"年\"&6,IF(AND(DA$36>=6,CY$36=\"元\"),\"令和元年\"&6,IF(AND(DA$36>=1,DA$36<=5,CY$36=2),\"令和元年\"&6,(IF((AND(DA$36>=1,DA$36<=5)),\"令和\"&CY$36-1&\"年\"&6,\"令和\"&CY$36&\"年\"&6)))))))","v":"令和年6"},{"$f":"IF(OR(CZ84=\"\",DB$41=4),\"\",IF(AND(DA$36>=1,DA$36<=4,CY$36=31),\"平成\"&30&\"年\"&6,IF(AND(DA$36=5,CY$36=\"元\"),\"平成\"&30&\"年\"&6,IF(AND(DA$36>=6,CY$36=\"元\"),\"令和元年\"&6,IF(AND(DA$36>=1,DA$36<=5,CY$36=2),\"令和元年\"&6,(IF((AND(DA$36>=1,DA$36<=5)),\"令和\"&CY$36-1&\"年\"&6,\"令和\"&CY$36&\"年\"&6)))))))","v":"令和年6"},null,null,null,{"$f":"IF(OR(DE84=\"\",DE$41=7),\"\",6)","v":6},{"$f":"IF(OR(DF84=\"\",DH$41=4),\"\",IF(AND(DG$36>=1,DG$36<=4,DE$36=31),\"平成\"&30&\"年\"&6,IF(AND(DG$36=5,DE$36=\"元\"),\"平成\"&30&\"年\"&6,IF(AND(DG$36>=6,DE$36=\"元\"),\"令和元年\"&6,IF(AND(DG$36>=1,DG$36<=5,DE$36=2),\"令和元年\"&6,(IF((AND(DG$36>=1,DG$36<=5)),\"令和\"&DE$36-1&\"年\"&6,\"令和\"&DE$36&\"年\"&6)))))))","v":"令和年6"},{"$f":"IF(OR(DF84=\"\",DH$41=4),\"\",IF(AND(DG$36>=1,DG$36<=4,DE$36=31),\"平成\"&30&\"年\"&6,IF(AND(DG$36=5,DE$36=\"元\"),\"平成\"&30&\"年\"&6,IF(AND(DG$36>=6,DE$36=\"元\"),\"令和元年\"&6,IF(AND(DG$36>=1,DG$36<=5,DE$36=2),\"令和元年\"&6,(IF((AND(DG$36>=1,DG$36<=5)),\"令和\"&DE$36-1&\"年\"&6,\"令和\"&DE$36&\"年\"&6)))))))","v":"令和年6"},null,null,null,{"$f":"IF(OR(DK84=\"\",DK$41=7),\"\",6)","v":6},{"$f":"IF(OR(DL84=\"\",DN$41=4),\"\",IF(AND(DM$36>=1,DM$36<=4,DK$36=31),\"平成\"&30&\"年\"&6,IF(AND(DM$36=5,DK$36=\"元\"),\"平成\"&30&\"年\"&6,IF(AND(DM$36>=6,DK$36=\"元\"),\"令和元年\"&6,IF(AND(DM$36>=1,DM$36<=5,DK$36=2),\"令和元年\"&6,(IF((AND(DM$36>=1,DM$36<=5)),\"令和\"&DK$36-1&\"年\"&6,\"令和\"&DK$36&\"年\"&6)))))))","v":"令和年6"},{"$f":"IF(OR(DL84=\"\",DN$41=4),\"\",IF(AND(DM$36>=1,DM$36<=4,DK$36=31),\"平成\"&30&\"年\"&6,IF(AND(DM$36=5,DK$36=\"元\"),\"平成\"&30&\"年\"&6,IF(AND(DM$36>=6,DK$36=\"元\"),\"令和元年\"&6,IF(AND(DM$36>=1,DM$36<=5,DK$36=2),\"令和元年\"&6,(IF((AND(DM$36>=1,DM$36<=5)),\"令和\"&DK$36-1&\"年\"&6,\"令和\"&DK$36&\"年\"&6)))))))","v":"令和年6"},null,null,null,{"$f":"IF(OR(DQ84=\"\",DQ$41=7),\"\",6)","v":6},{"$f":"IF(OR(DR84=\"\",DT$41=4),\"\",IF(AND(DS$36>=1,DS$36<=4,DQ$36=31),\"平成\"&30&\"年\"&6,IF(AND(DS$36=5,DQ$36=\"元\"),\"平成\"&30&\"年\"&6,IF(AND(DS$36>=6,DQ$36=\"元\"),\"令和元年\"&6,IF(AND(DS$36>=1,DS$36<=5,DQ$36=2),\"令和元年\"&6,(IF((AND(DS$36>=1,DS$36<=5)),\"令和\"&DQ$36-1&\"年\"&6,\"令和\"&DQ$36&\"年\"&6)))))))","v":"令和年6"},{"$f":"IF(OR(DR84=\"\",DT$41=4),\"\",IF(AND(DS$36>=1,DS$36<=4,DQ$36=31),\"平成\"&30&\"年\"&6,IF(AND(DS$36=5,DQ$36=\"元\"),\"平成\"&30&\"年\"&6,IF(AND(DS$36>=6,DQ$36=\"元\"),\"令和元年\"&6,IF(AND(DS$36>=1,DS$36<=5,DQ$36=2),\"令和元年\"&6,(IF((AND(DS$36>=1,DS$36<=5)),\"令和\"&DQ$36-1&\"年\"&6,\"令和\"&DQ$36&\"年\"&6)))))))","v":"令和年6"},null,null,null,{"$f":"IF(OR(DW84=\"\",DW$41=7),\"\",6)","v":6},{"$f":"IF(OR(DX84=\"\",DZ$41=4),\"\",IF(AND(DY$36>=1,DY$36<=4,DW$36=31),\"平成\"&30&\"年\"&6,IF(AND(DY$36=5,DW$36=\"元\"),\"平成\"&30&\"年\"&6,IF(AND(DY$36>=6,DW$36=\"元\"),\"令和元年\"&6,IF(AND(DY$36>=1,DY$36<=5,DW$36=2),\"令和元年\"&6,(IF((AND(DY$36>=1,DY$36<=5)),\"令和\"&DW$36-1&\"年\"&6,\"令和\"&DW$36&\"年\"&6)))))))","v":"令和年6"},{"$f":"IF(OR(DX84=\"\",DZ$41=4),\"\",IF(AND(DY$36>=1,DY$36<=4,DW$36=31),\"平成\"&30&\"年\"&6,IF(AND(DY$36=5,DW$36=\"元\"),\"平成\"&30&\"年\"&6,IF(AND(DY$36>=6,DW$36=\"元\"),\"令和元年\"&6,IF(AND(DY$36>=1,DY$36<=5,DW$36=2),\"令和元年\"&6,(IF((AND(DY$36>=1,DY$36<=5)),\"令和\"&DW$36-1&\"年\"&6,\"令和\"&DW$36&\"年\"&6)))))))","v":"令和年6"},null,null,null,{"$f":"IF(OR(EC84=\"\",EC$41=7),\"\",6)","v":6},{"$f":"IF(OR(ED84=\"\",EF$41=4),\"\",IF(AND(EE$36>=1,EE$36<=4,EC$36=31),\"平成\"&30&\"年\"&6,IF(AND(EE$36=5,EC$36=\"元\"),\"平成\"&30&\"年\"&6,IF(AND(EE$36>=6,EC$36=\"元\"),\"令和元年\"&6,IF(AND(EE$36>=1,EE$36<=5,EC$36=2),\"令和元年\"&6,(IF((AND(EE$36>=1,EE$36<=5)),\"令和\"&EC$36-1&\"年\"&6,\"令和\"&EC$36&\"年\"&6)))))))","v":"令和年6"},{"$f":"IF(OR(ED84=\"\",EF$41=4),\"\",IF(AND(EE$36>=1,EE$36<=4,EC$36=31),\"平成\"&30&\"年\"&6,IF(AND(EE$36=5,EC$36=\"元\"),\"平成\"&30&\"年\"&6,IF(AND(EE$36>=6,EC$36=\"元\"),\"令和元年\"&6,IF(AND(EE$36>=1,EE$36<=5,EC$36=2),\"令和元年\"&6,(IF((AND(EE$36>=1,EE$36<=5)),\"令和\"&EC$36-1&\"年\"&6,\"令和\"&EC$36&\"年\"&6)))))))","v":"令和年6"},null,null,null,{"$f":"IF(OR(EI84=\"\",EI$41=7),\"\",6)","v":6},{"$f":"IF(OR(EJ84=\"\",EL$41=4),\"\",IF(AND(EK$36>=1,EK$36<=4,EI$36=31),\"平成\"&30&\"年\"&6,IF(AND(EK$36=5,EI$36=\"元\"),\"平成\"&30&\"年\"&6,IF(AND(EK$36>=6,EI$36=\"元\"),\"令和元年\"&6,IF(AND(EK$36>=1,EK$36<=5,EI$36=2),\"令和元年\"&6,(IF((AND(EK$36>=1,EK$36<=5)),\"令和\"&EI$36-1&\"年\"&6,\"令和\"&EI$36&\"年\"&6)))))))","v":"令和年6"},{"$f":"IF(OR(EJ84=\"\",EL$41=4),\"\",IF(AND(EK$36>=1,EK$36<=4,EI$36=31),\"平成\"&30&\"年\"&6,IF(AND(EK$36=5,EI$36=\"元\"),\"平成\"&30&\"年\"&6,IF(AND(EK$36>=6,EI$36=\"元\"),\"令和元年\"&6,IF(AND(EK$36>=1,EK$36<=5,EI$36=2),\"令和元年\"&6,(IF((AND(EK$36>=1,EK$36<=5)),\"令和\"&EI$36-1&\"年\"&6,\"令和\"&EI$36&\"年\"&6)))))))","v":"令和年6"},null,null,null,{"$f":"IF(OR(EO84=\"\",EO$41=7),\"\",6)","v":6},{"$f":"IF(OR(EP84=\"\",ER$41=4),\"\",IF(AND(EQ$36>=1,EQ$36<=4,EO$36=31),\"平成\"&30&\"年\"&6,IF(AND(EQ$36=5,EO$36=\"元\"),\"平成\"&30&\"年\"&6,IF(AND(EQ$36>=6,EO$36=\"元\"),\"令和元年\"&6,IF(AND(EQ$36>=1,EQ$36<=5,EO$36=2),\"令和元年\"&6,(IF((AND(EQ$36>=1,EQ$36<=5)),\"令和\"&EO$36-1&\"年\"&6,\"令和\"&EO$36&\"年\"&6)))))))","v":"令和年6"},{"$f":"IF(OR(EP84=\"\",ER$41=4),\"\",IF(AND(EQ$36>=1,EQ$36<=4,EO$36=31),\"平成\"&30&\"年\"&6,IF(AND(EQ$36=5,EO$36=\"元\"),\"平成\"&30&\"年\"&6,IF(AND(EQ$36>=6,EO$36=\"元\"),\"令和元年\"&6,IF(AND(EQ$36>=1,EQ$36<=5,EO$36=2),\"令和元年\"&6,(IF((AND(EQ$36>=1,EQ$36<=5)),\"令和\"&EO$36-1&\"年\"&6,\"令和\"&EO$36&\"年\"&6)))))))","v":"令和年6"},null,null,null,{"$f":"IF(OR(EU84=\"\",EU$41=7),\"\",6)","v":6},{"$f":"IF(OR(EV84=\"\",EX$41=4),\"\",IF(AND(EW$36>=1,EW$36<=4,EU$36=31),\"平成\"&30&\"年\"&6,IF(AND(EW$36=5,EU$36=\"元\"),\"平成\"&30&\"年\"&6,IF(AND(EW$36>=6,EU$36=\"元\"),\"令和元年\"&6,IF(AND(EW$36>=1,EW$36<=5,EU$36=2),\"令和元年\"&6,(IF((AND(EW$36>=1,EW$36<=5)),\"令和\"&EU$36-1&\"年\"&6,\"令和\"&EU$36&\"年\"&6)))))))","v":"令和年6"},{"$f":"IF(OR(EV84=\"\",EX$41=4),\"\",IF(AND(EW$36>=1,EW$36<=4,EU$36=31),\"平成\"&30&\"年\"&6,IF(AND(EW$36=5,EU$36=\"元\"),\"平成\"&30&\"年\"&6,IF(AND(EW$36>=6,EU$36=\"元\"),\"令和元年\"&6,IF(AND(EW$36>=1,EW$36<=5,EU$36=2),\"令和元年\"&6,(IF((AND(EW$36>=1,EW$36<=5)),\"令和\"&EU$36-1&\"年\"&6,\"令和\"&EU$36&\"年\"&6)))))))","v":"令和年6"},null,null,null,{"$f":"IF(OR(FA84=\"\",FA$41=7),\"\",6)","v":6},{"$f":"IF(OR(FB84=\"\",FD$41=4),\"\",IF(AND(FC$36>=1,FC$36<=4,FA$36=31),\"平成\"&30&\"年\"&6,IF(AND(FC$36=5,FA$36=\"元\"),\"平成\"&30&\"年\"&6,IF(AND(FC$36>=6,FA$36=\"元\"),\"令和元年\"&6,IF(AND(FC$36>=1,FC$36<=5,FA$36=2),\"令和元年\"&6,(IF((AND(FC$36>=1,FC$36<=5)),\"令和\"&FA$36-1&\"年\"&6,\"令和\"&FA$36&\"年\"&6)))))))","v":"令和年6"},{"$f":"IF(OR(FB84=\"\",FD$41=4),\"\",IF(AND(FC$36>=1,FC$36<=4,FA$36=31),\"平成\"&30&\"年\"&6,IF(AND(FC$36=5,FA$36=\"元\"),\"平成\"&30&\"年\"&6,IF(AND(FC$36>=6,FA$36=\"元\"),\"令和元年\"&6,IF(AND(FC$36>=1,FC$36<=5,FA$36=2),\"令和元年\"&6,(IF((AND(FC$36>=1,FC$36<=5)),\"令和\"&FA$36-1&\"年\"&6,\"令和\"&FA$36&\"年\"&6)))))))","v":"令和年6"},null,null,null,{"$f":"IF(OR(FG84=\"\",FG$41=7),\"\",6)","v":6},{"$f":"IF(OR(FH84=\"\",FJ$41=4),\"\",IF(AND(FI$36>=1,FI$36<=4,FG$36=31),\"平成\"&30&\"年\"&6,IF(AND(FI$36=5,FG$36=\"元\"),\"平成\"&30&\"年\"&6,IF(AND(FI$36>=6,FG$36=\"元\"),\"令和元年\"&6,IF(AND(FI$36>=1,FI$36<=5,FG$36=2),\"令和元年\"&6,(IF((AND(FI$36>=1,FI$36<=5)),\"令和\"&FG$36-1&\"年\"&6,\"令和\"&FG$36&\"年\"&6)))))))","v":"令和年6"},{"$f":"IF(OR(FH84=\"\",FJ$41=4),\"\",IF(AND(FI$36>=1,FI$36<=4,FG$36=31),\"平成\"&30&\"年\"&6,IF(AND(FI$36=5,FG$36=\"元\"),\"平成\"&30&\"年\"&6,IF(AND(FI$36>=6,FG$36=\"元\"),\"令和元年\"&6,IF(AND(FI$36>=1,FI$36<=5,FG$36=2),\"令和元年\"&6,(IF((AND(FI$36>=1,FI$36<=5)),\"令和\"&FG$36-1&\"年\"&6,\"令和\"&FG$36&\"年\"&6)))))))","v":"令和年6"},null,null,null,{"$f":"IF(OR(FM84=\"\",FM$41=7),\"\",6)","v":6},{"$f":"IF(OR(FN84=\"\",FP$41=4),\"\",IF(AND(FO$36>=1,FO$36<=4,FM$36=31),\"平成\"&30&\"年\"&6,IF(AND(FO$36=5,FM$36=\"元\"),\"平成\"&30&\"年\"&6,IF(AND(FO$36>=6,FM$36=\"元\"),\"令和元年\"&6,IF(AND(FO$36>=1,FO$36<=5,FM$36=2),\"令和元年\"&6,(IF((AND(FO$36>=1,FO$36<=5)),\"令和\"&FM$36-1&\"年\"&6,\"令和\"&FM$36&\"年\"&6)))))))","v":"令和年6"},{"$f":"IF(OR(FN84=\"\",FP$41=4),\"\",IF(AND(FO$36>=1,FO$36<=4,FM$36=31),\"平成\"&30&\"年\"&6,IF(AND(FO$36=5,FM$36=\"元\"),\"平成\"&30&\"年\"&6,IF(AND(FO$36>=6,FM$36=\"元\"),\"令和元年\"&6,IF(AND(FO$36>=1,FO$36<=5,FM$36=2),\"令和元年\"&6,(IF((AND(FO$36>=1,FO$36<=5)),\"令和\"&FM$36-1&\"年\"&6,\"令和\"&FM$36&\"年\"&6)))))))","v":"令和年6"},null,null,null,{"$f":"IF(OR(FS84=\"\",FS$41=7),\"\",6)","v":6},{"$f":"IF(OR(FT84=\"\",FV$41=4),\"\",IF(AND(FU$36>=1,FU$36<=4,FS$36=31),\"平成\"&30&\"年\"&6,IF(AND(FU$36=5,FS$36=\"元\"),\"平成\"&30&\"年\"&6,IF(AND(FU$36>=6,FS$36=\"元\"),\"令和元年\"&6,IF(AND(FU$36>=1,FU$36<=5,FS$36=2),\"令和元年\"&6,(IF((AND(FU$36>=1,FU$36<=5)),\"令和\"&FS$36-1&\"年\"&6,\"令和\"&FS$36&\"年\"&6)))))))","v":"令和年6"},{"$f":"IF(OR(FT84=\"\",FV$41=4),\"\",IF(AND(FU$36>=1,FU$36<=4,FS$36=31),\"平成\"&30&\"年\"&6,IF(AND(FU$36=5,FS$36=\"元\"),\"平成\"&30&\"年\"&6,IF(AND(FU$36>=6,FS$36=\"元\"),\"令和元年\"&6,IF(AND(FU$36>=1,FU$36<=5,FS$36=2),\"令和元年\"&6,(IF((AND(FU$36>=1,FU$36<=5)),\"令和\"&FS$36-1&\"年\"&6,\"令和\"&FS$36&\"年\"&6)))))))","v":"令和年6"},null,null,null,{"$f":"IF(OR(FY84=\"\",FY$41=7),\"\",6)","v":6},{"$f":"IF(OR(FZ84=\"\",GB$41=4),\"\",IF(AND(GA$36>=1,GA$36<=4,FY$36=31),\"平成\"&30&\"年\"&6,IF(AND(GA$36=5,FY$36=\"元\"),\"平成\"&30&\"年\"&6,IF(AND(GA$36>=6,FY$36=\"元\"),\"令和元年\"&6,IF(AND(GA$36>=1,GA$36<=5,FY$36=2),\"令和元年\"&6,(IF((AND(GA$36>=1,GA$36<=5)),\"令和\"&FY$36-1&\"年\"&6,\"令和\"&FY$36&\"年\"&6)))))))","v":"令和年6"},{"$f":"IF(OR(FZ84=\"\",GB$41=4),\"\",IF(AND(GA$36>=1,GA$36<=4,FY$36=31),\"平成\"&30&\"年\"&6,IF(AND(GA$36=5,FY$36=\"元\"),\"平成\"&30&\"年\"&6,IF(AND(GA$36>=6,FY$36=\"元\"),\"令和元年\"&6,IF(AND(GA$36>=1,GA$36<=5,FY$36=2),\"令和元年\"&6,(IF((AND(GA$36>=1,GA$36<=5)),\"令和\"&FY$36-1&\"年\"&6,\"令和\"&FY$36&\"年\"&6)))))))","v":"令和年6"},null,null,null,{"$f":"IF(OR(GE84=\"\",GE$41=7),\"\",6)","v":6},{"$f":"IF(OR(GF84=\"\",GH$41=4),\"\",IF(AND(GG$36>=1,GG$36<=4,GE$36=31),\"平成\"&30&\"年\"&6,IF(AND(GG$36=5,GE$36=\"元\"),\"平成\"&30&\"年\"&6,IF(AND(GG$36>=6,GE$36=\"元\"),\"令和元年\"&6,IF(AND(GG$36>=1,GG$36<=5,GE$36=2),\"令和元年\"&6,(IF((AND(GG$36>=1,GG$36<=5)),\"令和\"&GE$36-1&\"年\"&6,\"令和\"&GE$36&\"年\"&6)))))))","v":"令和年6"},{"$f":"IF(OR(GF84=\"\",GH$41=4),\"\",IF(AND(GG$36>=1,GG$36<=4,GE$36=31),\"平成\"&30&\"年\"&6,IF(AND(GG$36=5,GE$36=\"元\"),\"平成\"&30&\"年\"&6,IF(AND(GG$36>=6,GE$36=\"元\"),\"令和元年\"&6,IF(AND(GG$36>=1,GG$36<=5,GE$36=2),\"令和元年\"&6,(IF((AND(GG$36>=1,GG$36<=5)),\"令和\"&GE$36-1&\"年\"&6,\"令和\"&GE$36&\"年\"&6)))))))","v":"令和年6"},null,null,null,{"$f":"IF(OR(GK84=\"\",GK$41=7),\"\",6)","v":6},{"$f":"IF(OR(GL84=\"\",GN$41=4),\"\",IF(AND(GM$36>=1,GM$36<=4,GK$36=31),\"平成\"&30&\"年\"&6,IF(AND(GM$36=5,GK$36=\"元\"),\"平成\"&30&\"年\"&6,IF(AND(GM$36>=6,GK$36=\"元\"),\"令和元年\"&6,IF(AND(GM$36>=1,GM$36<=5,GK$36=2),\"令和元年\"&6,(IF((AND(GM$36>=1,GM$36<=5)),\"令和\"&GK$36-1&\"年\"&6,\"令和\"&GK$36&\"年\"&6)))))))","v":"令和年6"},{"$f":"IF(OR(GL84=\"\",GN$41=4),\"\",IF(AND(GM$36>=1,GM$36<=4,GK$36=31),\"平成\"&30&\"年\"&6,IF(AND(GM$36=5,GK$36=\"元\"),\"平成\"&30&\"年\"&6,IF(AND(GM$36>=6,GK$36=\"元\"),\"令和元年\"&6,IF(AND(GM$36>=1,GM$36<=5,GK$36=2),\"令和元年\"&6,(IF((AND(GM$36>=1,GM$36<=5)),\"令和\"&GK$36-1&\"年\"&6,\"令和\"&GK$36&\"年\"&6)))))))","v":"令和年6"},null,null,null,{"$f":"IF(OR(GQ84=\"\",GQ$41=7),\"\",6)","v":6},{"$f":"IF(OR(GR84=\"\",GT$41=4),\"\",IF(AND(GS$36>=1,GS$36<=4,GQ$36=31),\"平成\"&30&\"年\"&6,IF(AND(GS$36=5,GQ$36=\"元\"),\"平成\"&30&\"年\"&6,IF(AND(GS$36>=6,GQ$36=\"元\"),\"令和元年\"&6,IF(AND(GS$36>=1,GS$36<=5,GQ$36=2),\"令和元年\"&6,(IF((AND(GS$36>=1,GS$36<=5)),\"令和\"&GQ$36-1&\"年\"&6,\"令和\"&GQ$36&\"年\"&6)))))))","v":"令和年6"},{"$f":"IF(OR(GR84=\"\",GT$41=4),\"\",IF(AND(GS$36>=1,GS$36<=4,GQ$36=31),\"平成\"&30&\"年\"&6,IF(AND(GS$36=5,GQ$36=\"元\"),\"平成\"&30&\"年\"&6,IF(AND(GS$36>=6,GQ$36=\"元\"),\"令和元年\"&6,IF(AND(GS$36>=1,GS$36<=5,GQ$36=2),\"令和元年\"&6,(IF((AND(GS$36>=1,GS$36<=5)),\"令和\"&GQ$36-1&\"年\"&6,\"令和\"&GQ$36&\"年\"&6)))))))","v":"令和年6"},null,null,null,{"$f":"IF(OR(GW84=\"\",GW$41=7),\"\",6)","v":6},{"$f":"IF(OR(GX84=\"\",GZ$41=4),\"\",IF(AND(GY$36>=1,GY$36<=4,GW$36=31),\"平成\"&30&\"年\"&6,IF(AND(GY$36=5,GW$36=\"元\"),\"平成\"&30&\"年\"&6,IF(AND(GY$36>=6,GW$36=\"元\"),\"令和元年\"&6,IF(AND(GY$36>=1,GY$36<=5,GW$36=2),\"令和元年\"&6,(IF((AND(GY$36>=1,GY$36<=5)),\"令和\"&GW$36-1&\"年\"&6,\"令和\"&GW$36&\"年\"&6)))))))","v":"令和年6"},{"$f":"IF(OR(GX84=\"\",GZ$41=4),\"\",IF(AND(GY$36>=1,GY$36<=4,GW$36=31),\"平成\"&30&\"年\"&6,IF(AND(GY$36=5,GW$36=\"元\"),\"平成\"&30&\"年\"&6,IF(AND(GY$36>=6,GW$36=\"元\"),\"令和元年\"&6,IF(AND(GY$36>=1,GY$36<=5,GW$36=2),\"令和元年\"&6,(IF((AND(GY$36>=1,GY$36<=5)),\"令和\"&GW$36-1&\"年\"&6,\"令和\"&GW$36&\"年\"&6)))))))","v":"令和年6"},null,null,null,{"$f":"IF(OR(HC84=\"\",HC$41=7),\"\",6)","v":6},{"$f":"IF(OR(HD84=\"\",HF$41=4),\"\",IF(AND(HE$36>=1,HE$36<=4,HC$36=31),\"平成\"&30&\"年\"&6,IF(AND(HE$36=5,HC$36=\"元\"),\"平成\"&30&\"年\"&6,IF(AND(HE$36>=6,HC$36=\"元\"),\"令和元年\"&6,IF(AND(HE$36>=1,HE$36<=5,HC$36=2),\"令和元年\"&6,(IF((AND(HE$36>=1,HE$36<=5)),\"令和\"&HC$36-1&\"年\"&6,\"令和\"&HC$36&\"年\"&6)))))))","v":"令和年6"},{"$f":"IF(OR(HD84=\"\",HF$41=4),\"\",IF(AND(HE$36>=1,HE$36<=4,HC$36=31),\"平成\"&30&\"年\"&6,IF(AND(HE$36=5,HC$36=\"元\"),\"平成\"&30&\"年\"&6,IF(AND(HE$36>=6,HC$36=\"元\"),\"令和元年\"&6,IF(AND(HE$36>=1,HE$36<=5,HC$36=2),\"令和元年\"&6,(IF((AND(HE$36>=1,HE$36<=5)),\"令和\"&HC$36-1&\"年\"&6,\"令和\"&HC$36&\"年\"&6)))))))","v":"令和年6"},null,null,null,{"$f":"IF(OR(HI84=\"\",HI$41=7),\"\",6)","v":6},{"$f":"IF(OR(HJ84=\"\",HL$41=4),\"\",IF(AND(HK$36>=1,HK$36<=4,HI$36=31),\"平成\"&30&\"年\"&6,IF(AND(HK$36=5,HI$36=\"元\"),\"平成\"&30&\"年\"&6,IF(AND(HK$36>=6,HI$36=\"元\"),\"令和元年\"&6,IF(AND(HK$36>=1,HK$36<=5,HI$36=2),\"令和元年\"&6,(IF((AND(HK$36>=1,HK$36<=5)),\"令和\"&HI$36-1&\"年\"&6,\"令和\"&HI$36&\"年\"&6)))))))","v":"令和年6"},{"$f":"IF(OR(HJ84=\"\",HL$41=4),\"\",IF(AND(HK$36>=1,HK$36<=4,HI$36=31),\"平成\"&30&\"年\"&6,IF(AND(HK$36=5,HI$36=\"元\"),\"平成\"&30&\"年\"&6,IF(AND(HK$36>=6,HI$36=\"元\"),\"令和元年\"&6,IF(AND(HK$36>=1,HK$36<=5,HI$36=2),\"令和元年\"&6,(IF((AND(HK$36>=1,HK$36<=5)),\"令和\"&HI$36-1&\"年\"&6,\"令和\"&HI$36&\"年\"&6)))))))","v":"令和年6"},null,null,null,{"$f":"IF(OR(HO84=\"\",HO$41=7),\"\",6)","v":6},{"$f":"IF(OR(HP84=\"\",HR$41=4),\"\",IF(AND(HQ$36>=1,HQ$36<=4,HO$36=31),\"平成\"&30&\"年\"&6,IF(AND(HQ$36=5,HO$36=\"元\"),\"平成\"&30&\"年\"&6,IF(AND(HQ$36>=6,HO$36=\"元\"),\"令和元年\"&6,IF(AND(HQ$36>=1,HQ$36<=5,HO$36=2),\"令和元年\"&6,(IF((AND(HQ$36>=1,HQ$36<=5)),\"令和\"&HO$36-1&\"年\"&6,\"令和\"&HO$36&\"年\"&6)))))))","v":"令和年6"},{"$f":"IF(OR(HP84=\"\",HR$41=4),\"\",IF(AND(HQ$36>=1,HQ$36<=4,HO$36=31),\"平成\"&30&\"年\"&6,IF(AND(HQ$36=5,HO$36=\"元\"),\"平成\"&30&\"年\"&6,IF(AND(HQ$36>=6,HO$36=\"元\"),\"令和元年\"&6,IF(AND(HQ$36>=1,HQ$36<=5,HO$36=2),\"令和元年\"&6,(IF((AND(HQ$36>=1,HQ$36<=5)),\"令和\"&HO$36-1&\"年\"&6,\"令和\"&HO$36&\"年\"&6)))))))","v":"令和年6"},null,null,null,{"$f":"IF(OR(HU84=\"\",HU$41=7),\"\",6)","v":6},{"$f":"IF(OR(HV84=\"\",HX$41=4),\"\",IF(AND(HW$36>=1,HW$36<=4,HU$36=31),\"平成\"&30&\"年\"&6,IF(AND(HW$36=5,HU$36=\"元\"),\"平成\"&30&\"年\"&6,IF(AND(HW$36>=6,HU$36=\"元\"),\"令和元年\"&6,IF(AND(HW$36>=1,HW$36<=5,HU$36=2),\"令和元年\"&6,(IF((AND(HW$36>=1,HW$36<=5)),\"令和\"&HU$36-1&\"年\"&6,\"令和\"&HU$36&\"年\"&6)))))))","v":"令和年6"},{"$f":"IF(OR(HV84=\"\",HX$41=4),\"\",IF(AND(HW$36>=1,HW$36<=4,HU$36=31),\"平成\"&30&\"年\"&6,IF(AND(HW$36=5,HU$36=\"元\"),\"平成\"&30&\"年\"&6,IF(AND(HW$36>=6,HU$36=\"元\"),\"令和元年\"&6,IF(AND(HW$36>=1,HW$36<=5,HU$36=2),\"令和元年\"&6,(IF((AND(HW$36>=1,HW$36<=5)),\"令和\"&HU$36-1&\"年\"&6,\"令和\"&HU$36&\"年\"&6)))))))","v":"令和年6"},null,null,null,{"$f":"IF(OR(IA84=\"\",IA$41=7),\"\",6)","v":6},{"$f":"IF(OR(IB84=\"\",ID$41=4),\"\",IF(AND(IC$36>=1,IC$36<=4,IA$36=31),\"平成\"&30&\"年\"&6,IF(AND(IC$36=5,IA$36=\"元\"),\"平成\"&30&\"年\"&6,IF(AND(IC$36>=6,IA$36=\"元\"),\"令和元年\"&6,IF(AND(IC$36>=1,IC$36<=5,IA$36=2),\"令和元年\"&6,(IF((AND(IC$36>=1,IC$36<=5)),\"令和\"&IA$36-1&\"年\"&6,\"令和\"&IA$36&\"年\"&6)))))))","v":"令和年6"},{"$f":"IF(OR(IB84=\"\",ID$41=4),\"\",IF(AND(IC$36>=1,IC$36<=4,IA$36=31),\"平成\"&30&\"年\"&6,IF(AND(IC$36=5,IA$36=\"元\"),\"平成\"&30&\"年\"&6,IF(AND(IC$36>=6,IA$36=\"元\"),\"令和元年\"&6,IF(AND(IC$36>=1,IC$36<=5,IA$36=2),\"令和元年\"&6,(IF((AND(IC$36>=1,IC$36<=5)),\"令和\"&IA$36-1&\"年\"&6,\"令和\"&IA$36&\"年\"&6)))))))","v":"令和年6"},null,null,null,{"$f":"IF(OR(IG84=\"\",IG$41=7),\"\",6)","v":6},{"$f":"IF(OR(IH84=\"\",IJ$41=4),\"\",IF(AND(II$36>=1,II$36<=4,IG$36=31),\"平成\"&30&\"年\"&6,IF(AND(II$36=5,IG$36=\"元\"),\"平成\"&30&\"年\"&6,IF(AND(II$36>=6,IG$36=\"元\"),\"令和元年\"&6,IF(AND(II$36>=1,II$36<=5,IG$36=2),\"令和元年\"&6,(IF((AND(II$36>=1,II$36<=5)),\"令和\"&IG$36-1&\"年\"&6,\"令和\"&IG$36&\"年\"&6)))))))","v":"令和年6"},{"$f":"IF(OR(IH84=\"\",IJ$41=4),\"\",IF(AND(II$36>=1,II$36<=4,IG$36=31),\"平成\"&30&\"年\"&6,IF(AND(II$36=5,IG$36=\"元\"),\"平成\"&30&\"年\"&6,IF(AND(II$36>=6,IG$36=\"元\"),\"令和元年\"&6,IF(AND(II$36>=1,II$36<=5,IG$36=2),\"令和元年\"&6,(IF((AND(II$36>=1,II$36<=5)),\"令和\"&IG$36-1&\"年\"&6,\"令和\"&IG$36&\"年\"&6)))))))","v":"令和年6"}]
[null,{"$f":"IF(AND(BU21<>\"\",BU25<>\"\",BW25<>\"\",BY25<>\"\"),BU17,\"\")","v":""},"平",12,"平12",null,{"$f":"IF(OR(G85=\"\",G$41=8),\"\",7)","v":7},{"$f":"IF(OR(H85=\"\",J$41=4),\"\",IF(AND(I$36>=1,I$36<=4,G$36=31),\"平成\"&30&\"年\"&7,IF(AND(I$36=5,G$36=\"元\"),\"平成\"&30&\"年\"&7,IF(AND(I$36>=6,G$36=\"元\"),\"令和元年\"&7,IF(AND(I$36>=1,I$36<=5,G$36=2),\"令和元年\"&7,(IF((AND(I$36>=1,I$36<=5)),\"令和\"&G$36-1&\"年\"&7,\"令和\"&G$36&\"年\"&7)))))))","v":"令和年7"},{"$f":"IF(OR(H85=\"\",J$41=4),\"\",IF(AND(I$36>=1,I$36<=4,G$36=31),\"平成\"&30&\"年\"&7,IF(AND(I$36=5,G$36=\"元\"),\"平成\"&30&\"年\"&7,IF(AND(I$36>=6,G$36=\"元\"),\"令和元年\"&7,IF(AND(I$36>=1,I$36<=5,G$36=2),\"令和元年\"&7,(IF((AND(I$36>=1,I$36<=5)),\"令和\"&G$36-1&\"年\"&7,\"令和\"&G$36&\"年\"&7)))))))","v":"令和年7"},null,null,null,{"$f":"IF(OR(M85=\"\",M$41=8),\"\",7)","v":7},{"$f":"IF(OR(N85=\"\",P$41=4),\"\",IF(AND(O$36>=1,O$36<=4,M$36=31),\"平成\"&30&\"年\"&7,IF(AND(O$36=5,M$36=\"元\"),\"平成\"&30&\"年\"&7,IF(AND(O$36>=6,M$36=\"元\"),\"令和元年\"&7,IF(AND(O$36>=1,O$36<=5,M$36=2),\"令和元年\"&7,(IF((AND(O$36>=1,O$36<=5)),\"令和\"&M$36-1&\"年\"&7,\"令和\"&M$36&\"年\"&7)))))))","v":"令和年7"},{"$f":"IF(OR(N85=\"\",P$41=4),\"\",IF(AND(O$36>=1,O$36<=4,M$36=31),\"平成\"&30&\"年\"&7,IF(AND(O$36=5,M$36=\"元\"),\"平成\"&30&\"年\"&7,IF(AND(O$36>=6,M$36=\"元\"),\"令和元年\"&7,IF(AND(O$36>=1,O$36<=5,M$36=2),\"令和元年\"&7,(IF((AND(O$36>=1,O$36<=5)),\"令和\"&M$36-1&\"年\"&7,\"令和\"&M$36&\"年\"&7)))))))","v":"令和年7"},null,null,null,{"$f":"IF(OR(S85=\"\",S$41=8),\"\",7)","v":7},{"$f":"IF(OR(T85=\"\",V$41=4),\"\",IF(AND(U$36>=1,U$36<=4,S$36=31),\"平成\"&30&\"年\"&7,IF(AND(U$36=5,S$36=\"元\"),\"平成\"&30&\"年\"&7,IF(AND(U$36>=6,S$36=\"元\"),\"令和元年\"&7,IF(AND(U$36>=1,U$36<=5,S$36=2),\"令和元年\"&7,(IF((AND(U$36>=1,U$36<=5)),\"令和\"&S$36-1&\"年\"&7,\"令和\"&S$36&\"年\"&7)))))))","v":"令和年7"},{"$f":"IF(OR(T85=\"\",V$41=4),\"\",IF(AND(U$36>=1,U$36<=4,S$36=31),\"平成\"&30&\"年\"&7,IF(AND(U$36=5,S$36=\"元\"),\"平成\"&30&\"年\"&7,IF(AND(U$36>=6,S$36=\"元\"),\"令和元年\"&7,IF(AND(U$36>=1,U$36<=5,S$36=2),\"令和元年\"&7,(IF((AND(U$36>=1,U$36<=5)),\"令和\"&S$36-1&\"年\"&7,\"令和\"&S$36&\"年\"&7)))))))","v":"令和年7"},null,null,null,{"$f":"IF(OR(Y85=\"\",Y$41=8),\"\",7)","v":7},{"$f":"IF(OR(Z85=\"\",AB$41=4),\"\",IF(AND(AA$36>=1,AA$36<=4,Y$36=31),\"平成\"&30&\"年\"&7,IF(AND(AA$36=5,Y$36=\"元\"),\"平成\"&30&\"年\"&7,IF(AND(AA$36>=6,Y$36=\"元\"),\"令和元年\"&7,IF(AND(AA$36>=1,AA$36<=5,Y$36=2),\"令和元年\"&7,(IF((AND(AA$36>=1,AA$36<=5)),\"令和\"&Y$36-1&\"年\"&7,\"令和\"&Y$36&\"年\"&7)))))))","v":"令和年7"},{"$f":"IF(OR(Z85=\"\",AB$41=4),\"\",IF(AND(AA$36>=1,AA$36<=4,Y$36=31),\"平成\"&30&\"年\"&7,IF(AND(AA$36=5,Y$36=\"元\"),\"平成\"&30&\"年\"&7,IF(AND(AA$36>=6,Y$36=\"元\"),\"令和元年\"&7,IF(AND(AA$36>=1,AA$36<=5,Y$36=2),\"令和元年\"&7,(IF((AND(AA$36>=1,AA$36<=5)),\"令和\"&Y$36-1&\"年\"&7,\"令和\"&Y$36&\"年\"&7)))))))","v":"令和年7"},null,null,null,{"$f":"IF(OR(AE85=\"\",AE$41=8),\"\",7)","v":7},{"$f":"IF(OR(AF85=\"\",AH$41=4),\"\",IF(AND(AG$36>=1,AG$36<=4,AE$36=31),\"平成\"&30&\"年\"&7,IF(AND(AG$36=5,AE$36=\"元\"),\"平成\"&30&\"年\"&7,IF(AND(AG$36>=6,AE$36=\"元\"),\"令和元年\"&7,IF(AND(AG$36>=1,AG$36<=5,AE$36=2),\"令和元年\"&7,(IF((AND(AG$36>=1,AG$36<=5)),\"令和\"&AE$36-1&\"年\"&7,\"令和\"&AE$36&\"年\"&7)))))))","v":"令和年7"},{"$f":"IF(OR(AF85=\"\",AH$41=4),\"\",IF(AND(AG$36>=1,AG$36<=4,AE$36=31),\"平成\"&30&\"年\"&7,IF(AND(AG$36=5,AE$36=\"元\"),\"平成\"&30&\"年\"&7,IF(AND(AG$36>=6,AE$36=\"元\"),\"令和元年\"&7,IF(AND(AG$36>=1,AG$36<=5,AE$36=2),\"令和元年\"&7,(IF((AND(AG$36>=1,AG$36<=5)),\"令和\"&AE$36-1&\"年\"&7,\"令和\"&AE$36&\"年\"&7)))))))","v":"令和年7"},null,null,null,{"$f":"IF(OR(AK85=\"\",AK$41=8),\"\",7)","v":7},{"$f":"IF(OR(AL85=\"\",AN$41=4),\"\",IF(AND(AM$36>=1,AM$36<=4,AK$36=31),\"平成\"&30&\"年\"&7,IF(AND(AM$36=5,AK$36=\"元\"),\"平成\"&30&\"年\"&7,IF(AND(AM$36>=6,AK$36=\"元\"),\"令和元年\"&7,IF(AND(AM$36>=1,AM$36<=5,AK$36=2),\"令和元年\"&7,(IF((AND(AM$36>=1,AM$36<=5)),\"令和\"&AK$36-1&\"年\"&7,\"令和\"&AK$36&\"年\"&7)))))))","v":"令和年7"},{"$f":"IF(OR(AL85=\"\",AN$41=4),\"\",IF(AND(AM$36>=1,AM$36<=4,AK$36=31),\"平成\"&30&\"年\"&7,IF(AND(AM$36=5,AK$36=\"元\"),\"平成\"&30&\"年\"&7,IF(AND(AM$36>=6,AK$36=\"元\"),\"令和元年\"&7,IF(AND(AM$36>=1,AM$36<=5,AK$36=2),\"令和元年\"&7,(IF((AND(AM$36>=1,AM$36<=5)),\"令和\"&AK$36-1&\"年\"&7,\"令和\"&AK$36&\"年\"&7)))))))","v":"令和年7"},null,null,null,{"$f":"IF(OR(AQ85=\"\",AQ$41=8),\"\",7)","v":7},{"$f":"IF(OR(AR85=\"\",AT$41=4),\"\",IF(AND(AS$36>=1,AS$36<=4,AQ$36=31),\"平成\"&30&\"年\"&7,IF(AND(AS$36=5,AQ$36=\"元\"),\"平成\"&30&\"年\"&7,IF(AND(AS$36>=6,AQ$36=\"元\"),\"令和元年\"&7,IF(AND(AS$36>=1,AS$36<=5,AQ$36=2),\"令和元年\"&7,(IF((AND(AS$36>=1,AS$36<=5)),\"令和\"&AQ$36-1&\"年\"&7,\"令和\"&AQ$36&\"年\"&7)))))))","v":"令和年7"},{"$f":"IF(OR(AR85=\"\",AT$41=4),\"\",IF(AND(AS$36>=1,AS$36<=4,AQ$36=31),\"平成\"&30&\"年\"&7,IF(AND(AS$36=5,AQ$36=\"元\"),\"平成\"&30&\"年\"&7,IF(AND(AS$36>=6,AQ$36=\"元\"),\"令和元年\"&7,IF(AND(AS$36>=1,AS$36<=5,AQ$36=2),\"令和元年\"&7,(IF((AND(AS$36>=1,AS$36<=5)),\"令和\"&AQ$36-1&\"年\"&7,\"令和\"&AQ$36&\"年\"&7)))))))","v":"令和年7"},null,null,null,{"$f":"IF(OR(AW85=\"\",AW$41=8),\"\",7)","v":7},{"$f":"IF(OR(AX85=\"\",AZ$41=4),\"\",IF(AND(AY$36>=1,AY$36<=4,AW$36=31),\"平成\"&30&\"年\"&7,IF(AND(AY$36=5,AW$36=\"元\"),\"平成\"&30&\"年\"&7,IF(AND(AY$36>=6,AW$36=\"元\"),\"令和元年\"&7,IF(AND(AY$36>=1,AY$36<=5,AW$36=2),\"令和元年\"&7,(IF((AND(AY$36>=1,AY$36<=5)),\"令和\"&AW$36-1&\"年\"&7,\"令和\"&AW$36&\"年\"&7)))))))","v":"令和年7"},{"$f":"IF(OR(AX85=\"\",AZ$41=4),\"\",IF(AND(AY$36>=1,AY$36<=4,AW$36=31),\"平成\"&30&\"年\"&7,IF(AND(AY$36=5,AW$36=\"元\"),\"平成\"&30&\"年\"&7,IF(AND(AY$36>=6,AW$36=\"元\"),\"令和元年\"&7,IF(AND(AY$36>=1,AY$36<=5,AW$36=2),\"令和元年\"&7,(IF((AND(AY$36>=1,AY$36<=5)),\"令和\"&AW$36-1&\"年\"&7,\"令和\"&AW$36&\"年\"&7)))))))","v":"令和年7"},null,null,null,{"$f":"IF(OR(BC85=\"\",BC$41=8),\"\",7)","v":7},{"$f":"IF(OR(BD85=\"\",BF$41=4),\"\",IF(AND(BE$36>=1,BE$36<=4,BC$36=31),\"平成\"&30&\"年\"&7,IF(AND(BE$36=5,BC$36=\"元\"),\"平成\"&30&\"年\"&7,IF(AND(BE$36>=6,BC$36=\"元\"),\"令和元年\"&7,IF(AND(BE$36>=1,BE$36<=5,BC$36=2),\"令和元年\"&7,(IF((AND(BE$36>=1,BE$36<=5)),\"令和\"&BC$36-1&\"年\"&7,\"令和\"&BC$36&\"年\"&7)))))))","v":"令和年7"},{"$f":"IF(OR(BD85=\"\",BF$41=4),\"\",IF(AND(BE$36>=1,BE$36<=4,BC$36=31),\"平成\"&30&\"年\"&7,IF(AND(BE$36=5,BC$36=\"元\"),\"平成\"&30&\"年\"&7,IF(AND(BE$36>=6,BC$36=\"元\"),\"令和元年\"&7,IF(AND(BE$36>=1,BE$36<=5,BC$36=2),\"令和元年\"&7,(IF((AND(BE$36>=1,BE$36<=5)),\"令和\"&BC$36-1&\"年\"&7,\"令和\"&BC$36&\"年\"&7)))))))","v":"令和年7"},null,null,null,{"$f":"IF(OR(BI85=\"\",BI$41=8),\"\",7)","v":7},{"$f":"IF(OR(BJ85=\"\",BL$41=4),\"\",IF(AND(BK$36>=1,BK$36<=4,BI$36=31),\"平成\"&30&\"年\"&7,IF(AND(BK$36=5,BI$36=\"元\"),\"平成\"&30&\"年\"&7,IF(AND(BK$36>=6,BI$36=\"元\"),\"令和元年\"&7,IF(AND(BK$36>=1,BK$36<=5,BI$36=2),\"令和元年\"&7,(IF((AND(BK$36>=1,BK$36<=5)),\"令和\"&BI$36-1&\"年\"&7,\"令和\"&BI$36&\"年\"&7)))))))","v":"令和年7"},{"$f":"IF(OR(BJ85=\"\",BL$41=4),\"\",IF(AND(BK$36>=1,BK$36<=4,BI$36=31),\"平成\"&30&\"年\"&7,IF(AND(BK$36=5,BI$36=\"元\"),\"平成\"&30&\"年\"&7,IF(AND(BK$36>=6,BI$36=\"元\"),\"令和元年\"&7,IF(AND(BK$36>=1,BK$36<=5,BI$36=2),\"令和元年\"&7,(IF((AND(BK$36>=1,BK$36<=5)),\"令和\"&BI$36-1&\"年\"&7,\"令和\"&BI$36&\"年\"&7)))))))","v":"令和年7"},null,null,null,{"$f":"IF(OR(BO85=\"\",BO$41=8),\"\",7)","v":7},{"$f":"IF(OR(BP85=\"\",BR$41=4),\"\",IF(AND(BQ$36>=1,BQ$36<=4,BO$36=31),\"平成\"&30&\"年\"&7,IF(AND(BQ$36=5,BO$36=\"元\"),\"平成\"&30&\"年\"&7,IF(AND(BQ$36>=6,BO$36=\"元\"),\"令和元年\"&7,IF(AND(BQ$36>=1,BQ$36<=5,BO$36=2),\"令和元年\"&7,(IF((AND(BQ$36>=1,BQ$36<=5)),\"令和\"&BO$36-1&\"年\"&7,\"令和\"&BO$36&\"年\"&7)))))))","v":"令和年7"},{"$f":"IF(OR(BP85=\"\",BR$41=4),\"\",IF(AND(BQ$36>=1,BQ$36<=4,BO$36=31),\"平成\"&30&\"年\"&7,IF(AND(BQ$36=5,BO$36=\"元\"),\"平成\"&30&\"年\"&7,IF(AND(BQ$36>=6,BO$36=\"元\"),\"令和元年\"&7,IF(AND(BQ$36>=1,BQ$36<=5,BO$36=2),\"令和元年\"&7,(IF((AND(BQ$36>=1,BQ$36<=5)),\"令和\"&BO$36-1&\"年\"&7,\"令和\"&BO$36&\"年\"&7)))))))","v":"令和年7"},null,null,null,{"$f":"IF(OR(BU85=\"\",BU$41=8),\"\",7)","v":7},{"$f":"IF(OR(BV85=\"\",BX$41=4),\"\",IF(AND(BW$36>=1,BW$36<=4,BU$36=31),\"平成\"&30&\"年\"&7,IF(AND(BW$36=5,BU$36=\"元\"),\"平成\"&30&\"年\"&7,IF(AND(BW$36>=6,BU$36=\"元\"),\"令和元年\"&7,IF(AND(BW$36>=1,BW$36<=5,BU$36=2),\"令和元年\"&7,(IF((AND(BW$36>=1,BW$36<=5)),\"令和\"&BU$36-1&\"年\"&7,\"令和\"&BU$36&\"年\"&7)))))))","v":"令和年7"},{"$f":"IF(OR(BV85=\"\",BX$41=4),\"\",IF(AND(BW$36>=1,BW$36<=4,BU$36=31),\"平成\"&30&\"年\"&7,IF(AND(BW$36=5,BU$36=\"元\"),\"平成\"&30&\"年\"&7,IF(AND(BW$36>=6,BU$36=\"元\"),\"令和元年\"&7,IF(AND(BW$36>=1,BW$36<=5,BU$36=2),\"令和元年\"&7,(IF((AND(BW$36>=1,BW$36<=5)),\"令和\"&BU$36-1&\"年\"&7,\"令和\"&BU$36&\"年\"&7)))))))","v":"令和年7"},null,null,null,{"$f":"IF(OR(CA85=\"\",CA$41=8),\"\",7)","v":7},{"$f":"IF(OR(CB85=\"\",CD$41=4),\"\",IF(AND(CC$36>=1,CC$36<=4,CA$36=31),\"平成\"&30&\"年\"&7,IF(AND(CC$36=5,CA$36=\"元\"),\"平成\"&30&\"年\"&7,IF(AND(CC$36>=6,CA$36=\"元\"),\"令和元年\"&7,IF(AND(CC$36>=1,CC$36<=5,CA$36=2),\"令和元年\"&7,(IF((AND(CC$36>=1,CC$36<=5)),\"令和\"&CA$36-1&\"年\"&7,\"令和\"&CA$36&\"年\"&7)))))))","v":"令和年7"},{"$f":"IF(OR(CB85=\"\",CD$41=4),\"\",IF(AND(CC$36>=1,CC$36<=4,CA$36=31),\"平成\"&30&\"年\"&7,IF(AND(CC$36=5,CA$36=\"元\"),\"平成\"&30&\"年\"&7,IF(AND(CC$36>=6,CA$36=\"元\"),\"令和元年\"&7,IF(AND(CC$36>=1,CC$36<=5,CA$36=2),\"令和元年\"&7,(IF((AND(CC$36>=1,CC$36<=5)),\"令和\"&CA$36-1&\"年\"&7,\"令和\"&CA$36&\"年\"&7)))))))","v":"令和年7"},null,null,null,{"$f":"IF(OR(CG85=\"\",CG$41=8),\"\",7)","v":7},{"$f":"IF(OR(CH85=\"\",CJ$41=4),\"\",IF(AND(CI$36>=1,CI$36<=4,CG$36=31),\"平成\"&30&\"年\"&7,IF(AND(CI$36=5,CG$36=\"元\"),\"平成\"&30&\"年\"&7,IF(AND(CI$36>=6,CG$36=\"元\"),\"令和元年\"&7,IF(AND(CI$36>=1,CI$36<=5,CG$36=2),\"令和元年\"&7,(IF((AND(CI$36>=1,CI$36<=5)),\"令和\"&CG$36-1&\"年\"&7,\"令和\"&CG$36&\"年\"&7)))))))","v":"令和年7"},{"$f":"IF(OR(CH85=\"\",CJ$41=4),\"\",IF(AND(CI$36>=1,CI$36<=4,CG$36=31),\"平成\"&30&\"年\"&7,IF(AND(CI$36=5,CG$36=\"元\"),\"平成\"&30&\"年\"&7,IF(AND(CI$36>=6,CG$36=\"元\"),\"令和元年\"&7,IF(AND(CI$36>=1,CI$36<=5,CG$36=2),\"令和元年\"&7,(IF((AND(CI$36>=1,CI$36<=5)),\"令和\"&CG$36-1&\"年\"&7,\"令和\"&CG$36&\"年\"&7)))))))","v":"令和年7"},null,null,null,{"$f":"IF(OR(CM85=\"\",CM$41=8),\"\",7)","v":7},{"$f":"IF(OR(CN85=\"\",CP$41=4),\"\",IF(AND(CO$36>=1,CO$36<=4,CM$36=31),\"平成\"&30&\"年\"&7,IF(AND(CO$36=5,CM$36=\"元\"),\"平成\"&30&\"年\"&7,IF(AND(CO$36>=6,CM$36=\"元\"),\"令和元年\"&7,IF(AND(CO$36>=1,CO$36<=5,CM$36=2),\"令和元年\"&7,(IF((AND(CO$36>=1,CO$36<=5)),\"令和\"&CM$36-1&\"年\"&7,\"令和\"&CM$36&\"年\"&7)))))))","v":"令和年7"},{"$f":"IF(OR(CN85=\"\",CP$41=4),\"\",IF(AND(CO$36>=1,CO$36<=4,CM$36=31),\"平成\"&30&\"年\"&7,IF(AND(CO$36=5,CM$36=\"元\"),\"平成\"&30&\"年\"&7,IF(AND(CO$36>=6,CM$36=\"元\"),\"令和元年\"&7,IF(AND(CO$36>=1,CO$36<=5,CM$36=2),\"令和元年\"&7,(IF((AND(CO$36>=1,CO$36<=5)),\"令和\"&CM$36-1&\"年\"&7,\"令和\"&CM$36&\"年\"&7)))))))","v":"令和年7"},null,null,null,{"$f":"IF(OR(CS85=\"\",CS$41=8),\"\",7)","v":7},{"$f":"IF(OR(CT85=\"\",CV$41=4),\"\",IF(AND(CU$36>=1,CU$36<=4,CS$36=31),\"平成\"&30&\"年\"&7,IF(AND(CU$36=5,CS$36=\"元\"),\"平成\"&30&\"年\"&7,IF(AND(CU$36>=6,CS$36=\"元\"),\"令和元年\"&7,IF(AND(CU$36>=1,CU$36<=5,CS$36=2),\"令和元年\"&7,(IF((AND(CU$36>=1,CU$36<=5)),\"令和\"&CS$36-1&\"年\"&7,\"令和\"&CS$36&\"年\"&7)))))))","v":"令和年7"},{"$f":"IF(OR(CT85=\"\",CV$41=4),\"\",IF(AND(CU$36>=1,CU$36<=4,CS$36=31),\"平成\"&30&\"年\"&7,IF(AND(CU$36=5,CS$36=\"元\"),\"平成\"&30&\"年\"&7,IF(AND(CU$36>=6,CS$36=\"元\"),\"令和元年\"&7,IF(AND(CU$36>=1,CU$36<=5,CS$36=2),\"令和元年\"&7,(IF((AND(CU$36>=1,CU$36<=5)),\"令和\"&CS$36-1&\"年\"&7,\"令和\"&CS$36&\"年\"&7)))))))","v":"令和年7"},null,null,null,{"$f":"IF(OR(CY85=\"\",CY$41=8),\"\",7)","v":7},{"$f":"IF(OR(CZ85=\"\",DB$41=4),\"\",IF(AND(DA$36>=1,DA$36<=4,CY$36=31),\"平成\"&30&\"年\"&7,IF(AND(DA$36=5,CY$36=\"元\"),\"平成\"&30&\"年\"&7,IF(AND(DA$36>=6,CY$36=\"元\"),\"令和元年\"&7,IF(AND(DA$36>=1,DA$36<=5,CY$36=2),\"令和元年\"&7,(IF((AND(DA$36>=1,DA$36<=5)),\"令和\"&CY$36-1&\"年\"&7,\"令和\"&CY$36&\"年\"&7)))))))","v":"令和年7"},{"$f":"IF(OR(CZ85=\"\",DB$41=4),\"\",IF(AND(DA$36>=1,DA$36<=4,CY$36=31),\"平成\"&30&\"年\"&7,IF(AND(DA$36=5,CY$36=\"元\"),\"平成\"&30&\"年\"&7,IF(AND(DA$36>=6,CY$36=\"元\"),\"令和元年\"&7,IF(AND(DA$36>=1,DA$36<=5,CY$36=2),\"令和元年\"&7,(IF((AND(DA$36>=1,DA$36<=5)),\"令和\"&CY$36-1&\"年\"&7,\"令和\"&CY$36&\"年\"&7)))))))","v":"令和年7"},null,null,null,{"$f":"IF(OR(DE85=\"\",DE$41=8),\"\",7)","v":7},{"$f":"IF(OR(DF85=\"\",DH$41=4),\"\",IF(AND(DG$36>=1,DG$36<=4,DE$36=31),\"平成\"&30&\"年\"&7,IF(AND(DG$36=5,DE$36=\"元\"),\"平成\"&30&\"年\"&7,IF(AND(DG$36>=6,DE$36=\"元\"),\"令和元年\"&7,IF(AND(DG$36>=1,DG$36<=5,DE$36=2),\"令和元年\"&7,(IF((AND(DG$36>=1,DG$36<=5)),\"令和\"&DE$36-1&\"年\"&7,\"令和\"&DE$36&\"年\"&7)))))))","v":"令和年7"},{"$f":"IF(OR(DF85=\"\",DH$41=4),\"\",IF(AND(DG$36>=1,DG$36<=4,DE$36=31),\"平成\"&30&\"年\"&7,IF(AND(DG$36=5,DE$36=\"元\"),\"平成\"&30&\"年\"&7,IF(AND(DG$36>=6,DE$36=\"元\"),\"令和元年\"&7,IF(AND(DG$36>=1,DG$36<=5,DE$36=2),\"令和元年\"&7,(IF((AND(DG$36>=1,DG$36<=5)),\"令和\"&DE$36-1&\"年\"&7,\"令和\"&DE$36&\"年\"&7)))))))","v":"令和年7"},null,null,null,{"$f":"IF(OR(DK85=\"\",DK$41=8),\"\",7)","v":7},{"$f":"IF(OR(DL85=\"\",DN$41=4),\"\",IF(AND(DM$36>=1,DM$36<=4,DK$36=31),\"平成\"&30&\"年\"&7,IF(AND(DM$36=5,DK$36=\"元\"),\"平成\"&30&\"年\"&7,IF(AND(DM$36>=6,DK$36=\"元\"),\"令和元年\"&7,IF(AND(DM$36>=1,DM$36<=5,DK$36=2),\"令和元年\"&7,(IF((AND(DM$36>=1,DM$36<=5)),\"令和\"&DK$36-1&\"年\"&7,\"令和\"&DK$36&\"年\"&7)))))))","v":"令和年7"},{"$f":"IF(OR(DL85=\"\",DN$41=4),\"\",IF(AND(DM$36>=1,DM$36<=4,DK$36=31),\"平成\"&30&\"年\"&7,IF(AND(DM$36=5,DK$36=\"元\"),\"平成\"&30&\"年\"&7,IF(AND(DM$36>=6,DK$36=\"元\"),\"令和元年\"&7,IF(AND(DM$36>=1,DM$36<=5,DK$36=2),\"令和元年\"&7,(IF((AND(DM$36>=1,DM$36<=5)),\"令和\"&DK$36-1&\"年\"&7,\"令和\"&DK$36&\"年\"&7)))))))","v":"令和年7"},null,null,null,{"$f":"IF(OR(DQ85=\"\",DQ$41=8),\"\",7)","v":7},{"$f":"IF(OR(DR85=\"\",DT$41=4),\"\",IF(AND(DS$36>=1,DS$36<=4,DQ$36=31),\"平成\"&30&\"年\"&7,IF(AND(DS$36=5,DQ$36=\"元\"),\"平成\"&30&\"年\"&7,IF(AND(DS$36>=6,DQ$36=\"元\"),\"令和元年\"&7,IF(AND(DS$36>=1,DS$36<=5,DQ$36=2),\"令和元年\"&7,(IF((AND(DS$36>=1,DS$36<=5)),\"令和\"&DQ$36-1&\"年\"&7,\"令和\"&DQ$36&\"年\"&7)))))))","v":"令和年7"},{"$f":"IF(OR(DR85=\"\",DT$41=4),\"\",IF(AND(DS$36>=1,DS$36<=4,DQ$36=31),\"平成\"&30&\"年\"&7,IF(AND(DS$36=5,DQ$36=\"元\"),\"平成\"&30&\"年\"&7,IF(AND(DS$36>=6,DQ$36=\"元\"),\"令和元年\"&7,IF(AND(DS$36>=1,DS$36<=5,DQ$36=2),\"令和元年\"&7,(IF((AND(DS$36>=1,DS$36<=5)),\"令和\"&DQ$36-1&\"年\"&7,\"令和\"&DQ$36&\"年\"&7)))))))","v":"令和年7"},null,null,null,{"$f":"IF(OR(DW85=\"\",DW$41=8),\"\",7)","v":7},{"$f":"IF(OR(DX85=\"\",DZ$41=4),\"\",IF(AND(DY$36>=1,DY$36<=4,DW$36=31),\"平成\"&30&\"年\"&7,IF(AND(DY$36=5,DW$36=\"元\"),\"平成\"&30&\"年\"&7,IF(AND(DY$36>=6,DW$36=\"元\"),\"令和元年\"&7,IF(AND(DY$36>=1,DY$36<=5,DW$36=2),\"令和元年\"&7,(IF((AND(DY$36>=1,DY$36<=5)),\"令和\"&DW$36-1&\"年\"&7,\"令和\"&DW$36&\"年\"&7)))))))","v":"令和年7"},{"$f":"IF(OR(DX85=\"\",DZ$41=4),\"\",IF(AND(DY$36>=1,DY$36<=4,DW$36=31),\"平成\"&30&\"年\"&7,IF(AND(DY$36=5,DW$36=\"元\"),\"平成\"&30&\"年\"&7,IF(AND(DY$36>=6,DW$36=\"元\"),\"令和元年\"&7,IF(AND(DY$36>=1,DY$36<=5,DW$36=2),\"令和元年\"&7,(IF((AND(DY$36>=1,DY$36<=5)),\"令和\"&DW$36-1&\"年\"&7,\"令和\"&DW$36&\"年\"&7)))))))","v":"令和年7"},null,null,null,{"$f":"IF(OR(EC85=\"\",EC$41=8),\"\",7)","v":7},{"$f":"IF(OR(ED85=\"\",EF$41=4),\"\",IF(AND(EE$36>=1,EE$36<=4,EC$36=31),\"平成\"&30&\"年\"&7,IF(AND(EE$36=5,EC$36=\"元\"),\"平成\"&30&\"年\"&7,IF(AND(EE$36>=6,EC$36=\"元\"),\"令和元年\"&7,IF(AND(EE$36>=1,EE$36<=5,EC$36=2),\"令和元年\"&7,(IF((AND(EE$36>=1,EE$36<=5)),\"令和\"&EC$36-1&\"年\"&7,\"令和\"&EC$36&\"年\"&7)))))))","v":"令和年7"},{"$f":"IF(OR(ED85=\"\",EF$41=4),\"\",IF(AND(EE$36>=1,EE$36<=4,EC$36=31),\"平成\"&30&\"年\"&7,IF(AND(EE$36=5,EC$36=\"元\"),\"平成\"&30&\"年\"&7,IF(AND(EE$36>=6,EC$36=\"元\"),\"令和元年\"&7,IF(AND(EE$36>=1,EE$36<=5,EC$36=2),\"令和元年\"&7,(IF((AND(EE$36>=1,EE$36<=5)),\"令和\"&EC$36-1&\"年\"&7,\"令和\"&EC$36&\"年\"&7)))))))","v":"令和年7"},null,null,null,{"$f":"IF(OR(EI85=\"\",EI$41=8),\"\",7)","v":7},{"$f":"IF(OR(EJ85=\"\",EL$41=4),\"\",IF(AND(EK$36>=1,EK$36<=4,EI$36=31),\"平成\"&30&\"年\"&7,IF(AND(EK$36=5,EI$36=\"元\"),\"平成\"&30&\"年\"&7,IF(AND(EK$36>=6,EI$36=\"元\"),\"令和元年\"&7,IF(AND(EK$36>=1,EK$36<=5,EI$36=2),\"令和元年\"&7,(IF((AND(EK$36>=1,EK$36<=5)),\"令和\"&EI$36-1&\"年\"&7,\"令和\"&EI$36&\"年\"&7)))))))","v":"令和年7"},{"$f":"IF(OR(EJ85=\"\",EL$41=4),\"\",IF(AND(EK$36>=1,EK$36<=4,EI$36=31),\"平成\"&30&\"年\"&7,IF(AND(EK$36=5,EI$36=\"元\"),\"平成\"&30&\"年\"&7,IF(AND(EK$36>=6,EI$36=\"元\"),\"令和元年\"&7,IF(AND(EK$36>=1,EK$36<=5,EI$36=2),\"令和元年\"&7,(IF((AND(EK$36>=1,EK$36<=5)),\"令和\"&EI$36-1&\"年\"&7,\"令和\"&EI$36&\"年\"&7)))))))","v":"令和年7"},null,null,null,{"$f":"IF(OR(EO85=\"\",EO$41=8),\"\",7)","v":7},{"$f":"IF(OR(EP85=\"\",ER$41=4),\"\",IF(AND(EQ$36>=1,EQ$36<=4,EO$36=31),\"平成\"&30&\"年\"&7,IF(AND(EQ$36=5,EO$36=\"元\"),\"平成\"&30&\"年\"&7,IF(AND(EQ$36>=6,EO$36=\"元\"),\"令和元年\"&7,IF(AND(EQ$36>=1,EQ$36<=5,EO$36=2),\"令和元年\"&7,(IF((AND(EQ$36>=1,EQ$36<=5)),\"令和\"&EO$36-1&\"年\"&7,\"令和\"&EO$36&\"年\"&7)))))))","v":"令和年7"},{"$f":"IF(OR(EP85=\"\",ER$41=4),\"\",IF(AND(EQ$36>=1,EQ$36<=4,EO$36=31),\"平成\"&30&\"年\"&7,IF(AND(EQ$36=5,EO$36=\"元\"),\"平成\"&30&\"年\"&7,IF(AND(EQ$36>=6,EO$36=\"元\"),\"令和元年\"&7,IF(AND(EQ$36>=1,EQ$36<=5,EO$36=2),\"令和元年\"&7,(IF((AND(EQ$36>=1,EQ$36<=5)),\"令和\"&EO$36-1&\"年\"&7,\"令和\"&EO$36&\"年\"&7)))))))","v":"令和年7"},null,null,null,{"$f":"IF(OR(EU85=\"\",EU$41=8),\"\",7)","v":7},{"$f":"IF(OR(EV85=\"\",EX$41=4),\"\",IF(AND(EW$36>=1,EW$36<=4,EU$36=31),\"平成\"&30&\"年\"&7,IF(AND(EW$36=5,EU$36=\"元\"),\"平成\"&30&\"年\"&7,IF(AND(EW$36>=6,EU$36=\"元\"),\"令和元年\"&7,IF(AND(EW$36>=1,EW$36<=5,EU$36=2),\"令和元年\"&7,(IF((AND(EW$36>=1,EW$36<=5)),\"令和\"&EU$36-1&\"年\"&7,\"令和\"&EU$36&\"年\"&7)))))))","v":"令和年7"},{"$f":"IF(OR(EV85=\"\",EX$41=4),\"\",IF(AND(EW$36>=1,EW$36<=4,EU$36=31),\"平成\"&30&\"年\"&7,IF(AND(EW$36=5,EU$36=\"元\"),\"平成\"&30&\"年\"&7,IF(AND(EW$36>=6,EU$36=\"元\"),\"令和元年\"&7,IF(AND(EW$36>=1,EW$36<=5,EU$36=2),\"令和元年\"&7,(IF((AND(EW$36>=1,EW$36<=5)),\"令和\"&EU$36-1&\"年\"&7,\"令和\"&EU$36&\"年\"&7)))))))","v":"令和年7"},null,null,null,{"$f":"IF(OR(FA85=\"\",FA$41=8),\"\",7)","v":7},{"$f":"IF(OR(FB85=\"\",FD$41=4),\"\",IF(AND(FC$36>=1,FC$36<=4,FA$36=31),\"平成\"&30&\"年\"&7,IF(AND(FC$36=5,FA$36=\"元\"),\"平成\"&30&\"年\"&7,IF(AND(FC$36>=6,FA$36=\"元\"),\"令和元年\"&7,IF(AND(FC$36>=1,FC$36<=5,FA$36=2),\"令和元年\"&7,(IF((AND(FC$36>=1,FC$36<=5)),\"令和\"&FA$36-1&\"年\"&7,\"令和\"&FA$36&\"年\"&7)))))))","v":"令和年7"},{"$f":"IF(OR(FB85=\"\",FD$41=4),\"\",IF(AND(FC$36>=1,FC$36<=4,FA$36=31),\"平成\"&30&\"年\"&7,IF(AND(FC$36=5,FA$36=\"元\"),\"平成\"&30&\"年\"&7,IF(AND(FC$36>=6,FA$36=\"元\"),\"令和元年\"&7,IF(AND(FC$36>=1,FC$36<=5,FA$36=2),\"令和元年\"&7,(IF((AND(FC$36>=1,FC$36<=5)),\"令和\"&FA$36-1&\"年\"&7,\"令和\"&FA$36&\"年\"&7)))))))","v":"令和年7"},null,null,null,{"$f":"IF(OR(FG85=\"\",FG$41=8),\"\",7)","v":7},{"$f":"IF(OR(FH85=\"\",FJ$41=4),\"\",IF(AND(FI$36>=1,FI$36<=4,FG$36=31),\"平成\"&30&\"年\"&7,IF(AND(FI$36=5,FG$36=\"元\"),\"平成\"&30&\"年\"&7,IF(AND(FI$36>=6,FG$36=\"元\"),\"令和元年\"&7,IF(AND(FI$36>=1,FI$36<=5,FG$36=2),\"令和元年\"&7,(IF((AND(FI$36>=1,FI$36<=5)),\"令和\"&FG$36-1&\"年\"&7,\"令和\"&FG$36&\"年\"&7)))))))","v":"令和年7"},{"$f":"IF(OR(FH85=\"\",FJ$41=4),\"\",IF(AND(FI$36>=1,FI$36<=4,FG$36=31),\"平成\"&30&\"年\"&7,IF(AND(FI$36=5,FG$36=\"元\"),\"平成\"&30&\"年\"&7,IF(AND(FI$36>=6,FG$36=\"元\"),\"令和元年\"&7,IF(AND(FI$36>=1,FI$36<=5,FG$36=2),\"令和元年\"&7,(IF((AND(FI$36>=1,FI$36<=5)),\"令和\"&FG$36-1&\"年\"&7,\"令和\"&FG$36&\"年\"&7)))))))","v":"令和年7"},null,null,null,{"$f":"IF(OR(FM85=\"\",FM$41=8),\"\",7)","v":7},{"$f":"IF(OR(FN85=\"\",FP$41=4),\"\",IF(AND(FO$36>=1,FO$36<=4,FM$36=31),\"平成\"&30&\"年\"&7,IF(AND(FO$36=5,FM$36=\"元\"),\"平成\"&30&\"年\"&7,IF(AND(FO$36>=6,FM$36=\"元\"),\"令和元年\"&7,IF(AND(FO$36>=1,FO$36<=5,FM$36=2),\"令和元年\"&7,(IF((AND(FO$36>=1,FO$36<=5)),\"令和\"&FM$36-1&\"年\"&7,\"令和\"&FM$36&\"年\"&7)))))))","v":"令和年7"},{"$f":"IF(OR(FN85=\"\",FP$41=4),\"\",IF(AND(FO$36>=1,FO$36<=4,FM$36=31),\"平成\"&30&\"年\"&7,IF(AND(FO$36=5,FM$36=\"元\"),\"平成\"&30&\"年\"&7,IF(AND(FO$36>=6,FM$36=\"元\"),\"令和元年\"&7,IF(AND(FO$36>=1,FO$36<=5,FM$36=2),\"令和元年\"&7,(IF((AND(FO$36>=1,FO$36<=5)),\"令和\"&FM$36-1&\"年\"&7,\"令和\"&FM$36&\"年\"&7)))))))","v":"令和年7"},null,null,null,{"$f":"IF(OR(FS85=\"\",FS$41=8),\"\",7)","v":7},{"$f":"IF(OR(FT85=\"\",FV$41=4),\"\",IF(AND(FU$36>=1,FU$36<=4,FS$36=31),\"平成\"&30&\"年\"&7,IF(AND(FU$36=5,FS$36=\"元\"),\"平成\"&30&\"年\"&7,IF(AND(FU$36>=6,FS$36=\"元\"),\"令和元年\"&7,IF(AND(FU$36>=1,FU$36<=5,FS$36=2),\"令和元年\"&7,(IF((AND(FU$36>=1,FU$36<=5)),\"令和\"&FS$36-1&\"年\"&7,\"令和\"&FS$36&\"年\"&7)))))))","v":"令和年7"},{"$f":"IF(OR(FT85=\"\",FV$41=4),\"\",IF(AND(FU$36>=1,FU$36<=4,FS$36=31),\"平成\"&30&\"年\"&7,IF(AND(FU$36=5,FS$36=\"元\"),\"平成\"&30&\"年\"&7,IF(AND(FU$36>=6,FS$36=\"元\"),\"令和元年\"&7,IF(AND(FU$36>=1,FU$36<=5,FS$36=2),\"令和元年\"&7,(IF((AND(FU$36>=1,FU$36<=5)),\"令和\"&FS$36-1&\"年\"&7,\"令和\"&FS$36&\"年\"&7)))))))","v":"令和年7"},null,null,null,{"$f":"IF(OR(FY85=\"\",FY$41=8),\"\",7)","v":7},{"$f":"IF(OR(FZ85=\"\",GB$41=4),\"\",IF(AND(GA$36>=1,GA$36<=4,FY$36=31),\"平成\"&30&\"年\"&7,IF(AND(GA$36=5,FY$36=\"元\"),\"平成\"&30&\"年\"&7,IF(AND(GA$36>=6,FY$36=\"元\"),\"令和元年\"&7,IF(AND(GA$36>=1,GA$36<=5,FY$36=2),\"令和元年\"&7,(IF((AND(GA$36>=1,GA$36<=5)),\"令和\"&FY$36-1&\"年\"&7,\"令和\"&FY$36&\"年\"&7)))))))","v":"令和年7"},{"$f":"IF(OR(FZ85=\"\",GB$41=4),\"\",IF(AND(GA$36>=1,GA$36<=4,FY$36=31),\"平成\"&30&\"年\"&7,IF(AND(GA$36=5,FY$36=\"元\"),\"平成\"&30&\"年\"&7,IF(AND(GA$36>=6,FY$36=\"元\"),\"令和元年\"&7,IF(AND(GA$36>=1,GA$36<=5,FY$36=2),\"令和元年\"&7,(IF((AND(GA$36>=1,GA$36<=5)),\"令和\"&FY$36-1&\"年\"&7,\"令和\"&FY$36&\"年\"&7)))))))","v":"令和年7"},null,null,null,{"$f":"IF(OR(GE85=\"\",GE$41=8),\"\",7)","v":7},{"$f":"IF(OR(GF85=\"\",GH$41=4),\"\",IF(AND(GG$36>=1,GG$36<=4,GE$36=31),\"平成\"&30&\"年\"&7,IF(AND(GG$36=5,GE$36=\"元\"),\"平成\"&30&\"年\"&7,IF(AND(GG$36>=6,GE$36=\"元\"),\"令和元年\"&7,IF(AND(GG$36>=1,GG$36<=5,GE$36=2),\"令和元年\"&7,(IF((AND(GG$36>=1,GG$36<=5)),\"令和\"&GE$36-1&\"年\"&7,\"令和\"&GE$36&\"年\"&7)))))))","v":"令和年7"},{"$f":"IF(OR(GF85=\"\",GH$41=4),\"\",IF(AND(GG$36>=1,GG$36<=4,GE$36=31),\"平成\"&30&\"年\"&7,IF(AND(GG$36=5,GE$36=\"元\"),\"平成\"&30&\"年\"&7,IF(AND(GG$36>=6,GE$36=\"元\"),\"令和元年\"&7,IF(AND(GG$36>=1,GG$36<=5,GE$36=2),\"令和元年\"&7,(IF((AND(GG$36>=1,GG$36<=5)),\"令和\"&GE$36-1&\"年\"&7,\"令和\"&GE$36&\"年\"&7)))))))","v":"令和年7"},null,null,null,{"$f":"IF(OR(GK85=\"\",GK$41=8),\"\",7)","v":7},{"$f":"IF(OR(GL85=\"\",GN$41=4),\"\",IF(AND(GM$36>=1,GM$36<=4,GK$36=31),\"平成\"&30&\"年\"&7,IF(AND(GM$36=5,GK$36=\"元\"),\"平成\"&30&\"年\"&7,IF(AND(GM$36>=6,GK$36=\"元\"),\"令和元年\"&7,IF(AND(GM$36>=1,GM$36<=5,GK$36=2),\"令和元年\"&7,(IF((AND(GM$36>=1,GM$36<=5)),\"令和\"&GK$36-1&\"年\"&7,\"令和\"&GK$36&\"年\"&7)))))))","v":"令和年7"},{"$f":"IF(OR(GL85=\"\",GN$41=4),\"\",IF(AND(GM$36>=1,GM$36<=4,GK$36=31),\"平成\"&30&\"年\"&7,IF(AND(GM$36=5,GK$36=\"元\"),\"平成\"&30&\"年\"&7,IF(AND(GM$36>=6,GK$36=\"元\"),\"令和元年\"&7,IF(AND(GM$36>=1,GM$36<=5,GK$36=2),\"令和元年\"&7,(IF((AND(GM$36>=1,GM$36<=5)),\"令和\"&GK$36-1&\"年\"&7,\"令和\"&GK$36&\"年\"&7)))))))","v":"令和年7"},null,null,null,{"$f":"IF(OR(GQ85=\"\",GQ$41=8),\"\",7)","v":7},{"$f":"IF(OR(GR85=\"\",GT$41=4),\"\",IF(AND(GS$36>=1,GS$36<=4,GQ$36=31),\"平成\"&30&\"年\"&7,IF(AND(GS$36=5,GQ$36=\"元\"),\"平成\"&30&\"年\"&7,IF(AND(GS$36>=6,GQ$36=\"元\"),\"令和元年\"&7,IF(AND(GS$36>=1,GS$36<=5,GQ$36=2),\"令和元年\"&7,(IF((AND(GS$36>=1,GS$36<=5)),\"令和\"&GQ$36-1&\"年\"&7,\"令和\"&GQ$36&\"年\"&7)))))))","v":"令和年7"},{"$f":"IF(OR(GR85=\"\",GT$41=4),\"\",IF(AND(GS$36>=1,GS$36<=4,GQ$36=31),\"平成\"&30&\"年\"&7,IF(AND(GS$36=5,GQ$36=\"元\"),\"平成\"&30&\"年\"&7,IF(AND(GS$36>=6,GQ$36=\"元\"),\"令和元年\"&7,IF(AND(GS$36>=1,GS$36<=5,GQ$36=2),\"令和元年\"&7,(IF((AND(GS$36>=1,GS$36<=5)),\"令和\"&GQ$36-1&\"年\"&7,\"令和\"&GQ$36&\"年\"&7)))))))","v":"令和年7"},null,null,null,{"$f":"IF(OR(GW85=\"\",GW$41=8),\"\",7)","v":7},{"$f":"IF(OR(GX85=\"\",GZ$41=4),\"\",IF(AND(GY$36>=1,GY$36<=4,GW$36=31),\"平成\"&30&\"年\"&7,IF(AND(GY$36=5,GW$36=\"元\"),\"平成\"&30&\"年\"&7,IF(AND(GY$36>=6,GW$36=\"元\"),\"令和元年\"&7,IF(AND(GY$36>=1,GY$36<=5,GW$36=2),\"令和元年\"&7,(IF((AND(GY$36>=1,GY$36<=5)),\"令和\"&GW$36-1&\"年\"&7,\"令和\"&GW$36&\"年\"&7)))))))","v":"令和年7"},{"$f":"IF(OR(GX85=\"\",GZ$41=4),\"\",IF(AND(GY$36>=1,GY$36<=4,GW$36=31),\"平成\"&30&\"年\"&7,IF(AND(GY$36=5,GW$36=\"元\"),\"平成\"&30&\"年\"&7,IF(AND(GY$36>=6,GW$36=\"元\"),\"令和元年\"&7,IF(AND(GY$36>=1,GY$36<=5,GW$36=2),\"令和元年\"&7,(IF((AND(GY$36>=1,GY$36<=5)),\"令和\"&GW$36-1&\"年\"&7,\"令和\"&GW$36&\"年\"&7)))))))","v":"令和年7"},null,null,null,{"$f":"IF(OR(HC85=\"\",HC$41=8),\"\",7)","v":7},{"$f":"IF(OR(HD85=\"\",HF$41=4),\"\",IF(AND(HE$36>=1,HE$36<=4,HC$36=31),\"平成\"&30&\"年\"&7,IF(AND(HE$36=5,HC$36=\"元\"),\"平成\"&30&\"年\"&7,IF(AND(HE$36>=6,HC$36=\"元\"),\"令和元年\"&7,IF(AND(HE$36>=1,HE$36<=5,HC$36=2),\"令和元年\"&7,(IF((AND(HE$36>=1,HE$36<=5)),\"令和\"&HC$36-1&\"年\"&7,\"令和\"&HC$36&\"年\"&7)))))))","v":"令和年7"},{"$f":"IF(OR(HD85=\"\",HF$41=4),\"\",IF(AND(HE$36>=1,HE$36<=4,HC$36=31),\"平成\"&30&\"年\"&7,IF(AND(HE$36=5,HC$36=\"元\"),\"平成\"&30&\"年\"&7,IF(AND(HE$36>=6,HC$36=\"元\"),\"令和元年\"&7,IF(AND(HE$36>=1,HE$36<=5,HC$36=2),\"令和元年\"&7,(IF((AND(HE$36>=1,HE$36<=5)),\"令和\"&HC$36-1&\"年\"&7,\"令和\"&HC$36&\"年\"&7)))))))","v":"令和年7"},null,null,null,{"$f":"IF(OR(HI85=\"\",HI$41=8),\"\",7)","v":7},{"$f":"IF(OR(HJ85=\"\",HL$41=4),\"\",IF(AND(HK$36>=1,HK$36<=4,HI$36=31),\"平成\"&30&\"年\"&7,IF(AND(HK$36=5,HI$36=\"元\"),\"平成\"&30&\"年\"&7,IF(AND(HK$36>=6,HI$36=\"元\"),\"令和元年\"&7,IF(AND(HK$36>=1,HK$36<=5,HI$36=2),\"令和元年\"&7,(IF((AND(HK$36>=1,HK$36<=5)),\"令和\"&HI$36-1&\"年\"&7,\"令和\"&HI$36&\"年\"&7)))))))","v":"令和年7"},{"$f":"IF(OR(HJ85=\"\",HL$41=4),\"\",IF(AND(HK$36>=1,HK$36<=4,HI$36=31),\"平成\"&30&\"年\"&7,IF(AND(HK$36=5,HI$36=\"元\"),\"平成\"&30&\"年\"&7,IF(AND(HK$36>=6,HI$36=\"元\"),\"令和元年\"&7,IF(AND(HK$36>=1,HK$36<=5,HI$36=2),\"令和元年\"&7,(IF((AND(HK$36>=1,HK$36<=5)),\"令和\"&HI$36-1&\"年\"&7,\"令和\"&HI$36&\"年\"&7)))))))","v":"令和年7"},null,null,null,{"$f":"IF(OR(HO85=\"\",HO$41=8),\"\",7)","v":7},{"$f":"IF(OR(HP85=\"\",HR$41=4),\"\",IF(AND(HQ$36>=1,HQ$36<=4,HO$36=31),\"平成\"&30&\"年\"&7,IF(AND(HQ$36=5,HO$36=\"元\"),\"平成\"&30&\"年\"&7,IF(AND(HQ$36>=6,HO$36=\"元\"),\"令和元年\"&7,IF(AND(HQ$36>=1,HQ$36<=5,HO$36=2),\"令和元年\"&7,(IF((AND(HQ$36>=1,HQ$36<=5)),\"令和\"&HO$36-1&\"年\"&7,\"令和\"&HO$36&\"年\"&7)))))))","v":"令和年7"},{"$f":"IF(OR(HP85=\"\",HR$41=4),\"\",IF(AND(HQ$36>=1,HQ$36<=4,HO$36=31),\"平成\"&30&\"年\"&7,IF(AND(HQ$36=5,HO$36=\"元\"),\"平成\"&30&\"年\"&7,IF(AND(HQ$36>=6,HO$36=\"元\"),\"令和元年\"&7,IF(AND(HQ$36>=1,HQ$36<=5,HO$36=2),\"令和元年\"&7,(IF((AND(HQ$36>=1,HQ$36<=5)),\"令和\"&HO$36-1&\"年\"&7,\"令和\"&HO$36&\"年\"&7)))))))","v":"令和年7"},null,null,null,{"$f":"IF(OR(HU85=\"\",HU$41=8),\"\",7)","v":7},{"$f":"IF(OR(HV85=\"\",HX$41=4),\"\",IF(AND(HW$36>=1,HW$36<=4,HU$36=31),\"平成\"&30&\"年\"&7,IF(AND(HW$36=5,HU$36=\"元\"),\"平成\"&30&\"年\"&7,IF(AND(HW$36>=6,HU$36=\"元\"),\"令和元年\"&7,IF(AND(HW$36>=1,HW$36<=5,HU$36=2),\"令和元年\"&7,(IF((AND(HW$36>=1,HW$36<=5)),\"令和\"&HU$36-1&\"年\"&7,\"令和\"&HU$36&\"年\"&7)))))))","v":"令和年7"},{"$f":"IF(OR(HV85=\"\",HX$41=4),\"\",IF(AND(HW$36>=1,HW$36<=4,HU$36=31),\"平成\"&30&\"年\"&7,IF(AND(HW$36=5,HU$36=\"元\"),\"平成\"&30&\"年\"&7,IF(AND(HW$36>=6,HU$36=\"元\"),\"令和元年\"&7,IF(AND(HW$36>=1,HW$36<=5,HU$36=2),\"令和元年\"&7,(IF((AND(HW$36>=1,HW$36<=5)),\"令和\"&HU$36-1&\"年\"&7,\"令和\"&HU$36&\"年\"&7)))))))","v":"令和年7"},null,null,null,{"$f":"IF(OR(IA85=\"\",IA$41=8),\"\",7)","v":7},{"$f":"IF(OR(IB85=\"\",ID$41=4),\"\",IF(AND(IC$36>=1,IC$36<=4,IA$36=31),\"平成\"&30&\"年\"&7,IF(AND(IC$36=5,IA$36=\"元\"),\"平成\"&30&\"年\"&7,IF(AND(IC$36>=6,IA$36=\"元\"),\"令和元年\"&7,IF(AND(IC$36>=1,IC$36<=5,IA$36=2),\"令和元年\"&7,(IF((AND(IC$36>=1,IC$36<=5)),\"令和\"&IA$36-1&\"年\"&7,\"令和\"&IA$36&\"年\"&7)))))))","v":"令和年7"},{"$f":"IF(OR(IB85=\"\",ID$41=4),\"\",IF(AND(IC$36>=1,IC$36<=4,IA$36=31),\"平成\"&30&\"年\"&7,IF(AND(IC$36=5,IA$36=\"元\"),\"平成\"&30&\"年\"&7,IF(AND(IC$36>=6,IA$36=\"元\"),\"令和元年\"&7,IF(AND(IC$36>=1,IC$36<=5,IA$36=2),\"令和元年\"&7,(IF((AND(IC$36>=1,IC$36<=5)),\"令和\"&IA$36-1&\"年\"&7,\"令和\"&IA$36&\"年\"&7)))))))","v":"令和年7"},null,null,null,{"$f":"IF(OR(IG85=\"\",IG$41=8),\"\",7)","v":7},{"$f":"IF(OR(IH85=\"\",IJ$41=4),\"\",IF(AND(II$36>=1,II$36<=4,IG$36=31),\"平成\"&30&\"年\"&7,IF(AND(II$36=5,IG$36=\"元\"),\"平成\"&30&\"年\"&7,IF(AND(II$36>=6,IG$36=\"元\"),\"令和元年\"&7,IF(AND(II$36>=1,II$36<=5,IG$36=2),\"令和元年\"&7,(IF((AND(II$36>=1,II$36<=5)),\"令和\"&IG$36-1&\"年\"&7,\"令和\"&IG$36&\"年\"&7)))))))","v":"令和年7"},{"$f":"IF(OR(IH85=\"\",IJ$41=4),\"\",IF(AND(II$36>=1,II$36<=4,IG$36=31),\"平成\"&30&\"年\"&7,IF(AND(II$36=5,IG$36=\"元\"),\"平成\"&30&\"年\"&7,IF(AND(II$36>=6,IG$36=\"元\"),\"令和元年\"&7,IF(AND(II$36>=1,II$36<=5,IG$36=2),\"令和元年\"&7,(IF((AND(II$36>=1,II$36<=5)),\"令和\"&IG$36-1&\"年\"&7,\"令和\"&IG$36&\"年\"&7)))))))","v":"令和年7"}]
[null,{"$f":"IF(AND(CA21<>\"\",CA25<>\"\",CC25<>\"\",CE25<>\"\"),CA17,\"\")","v":""},"平",11,"平11",null,{"$f":"IF(OR(G86=\"\",G$41=9),\"\",8)","v":8},{"$f":"IF(OR(H86=\"\",J$41=4),\"\",IF(AND(I$36>=1,I$36<=4,G$36=31),\"平成\"&30&\"年\"&8,IF(AND(I$36=5,G$36=\"元\"),\"平成\"&30&\"年\"&8,IF(AND(I$36>=6,G$36=\"元\"),\"令和元年\"&8,IF(AND(I$36>=1,I$36<=5,G$36=2),\"令和元年\"&8,(IF((AND(I$36>=1,I$36<=5)),\"令和\"&G$36-1&\"年\"&8,\"令和\"&G$36&\"年\"&8)))))))","v":"令和年8"},{"$f":"IF(OR(H86=\"\",J$41=4),\"\",IF(AND(I$36>=1,I$36<=4,G$36=31),\"平成\"&30&\"年\"&8,IF(AND(I$36=5,G$36=\"元\"),\"平成\"&30&\"年\"&8,IF(AND(I$36>=6,G$36=\"元\"),\"令和元年\"&8,IF(AND(I$36>=1,I$36<=5,G$36=2),\"令和元年\"&8,(IF((AND(I$36>=1,I$36<=5)),\"令和\"&G$36-1&\"年\"&8,\"令和\"&G$36&\"年\"&8)))))))","v":"令和年8"},null,null,null,{"$f":"IF(OR(M86=\"\",M$41=9),\"\",8)","v":8},{"$f":"IF(OR(N86=\"\",P$41=4),\"\",IF(AND(O$36>=1,O$36<=4,M$36=31),\"平成\"&30&\"年\"&8,IF(AND(O$36=5,M$36=\"元\"),\"平成\"&30&\"年\"&8,IF(AND(O$36>=6,M$36=\"元\"),\"令和元年\"&8,IF(AND(O$36>=1,O$36<=5,M$36=2),\"令和元年\"&8,(IF((AND(O$36>=1,O$36<=5)),\"令和\"&M$36-1&\"年\"&8,\"令和\"&M$36&\"年\"&8)))))))","v":"令和年8"},{"$f":"IF(OR(N86=\"\",P$41=4),\"\",IF(AND(O$36>=1,O$36<=4,M$36=31),\"平成\"&30&\"年\"&8,IF(AND(O$36=5,M$36=\"元\"),\"平成\"&30&\"年\"&8,IF(AND(O$36>=6,M$36=\"元\"),\"令和元年\"&8,IF(AND(O$36>=1,O$36<=5,M$36=2),\"令和元年\"&8,(IF((AND(O$36>=1,O$36<=5)),\"令和\"&M$36-1&\"年\"&8,\"令和\"&M$36&\"年\"&8)))))))","v":"令和年8"},null,null,null,{"$f":"IF(OR(S86=\"\",S$41=9),\"\",8)","v":8},{"$f":"IF(OR(T86=\"\",V$41=4),\"\",IF(AND(U$36>=1,U$36<=4,S$36=31),\"平成\"&30&\"年\"&8,IF(AND(U$36=5,S$36=\"元\"),\"平成\"&30&\"年\"&8,IF(AND(U$36>=6,S$36=\"元\"),\"令和元年\"&8,IF(AND(U$36>=1,U$36<=5,S$36=2),\"令和元年\"&8,(IF((AND(U$36>=1,U$36<=5)),\"令和\"&S$36-1&\"年\"&8,\"令和\"&S$36&\"年\"&8)))))))","v":"令和年8"},{"$f":"IF(OR(T86=\"\",V$41=4),\"\",IF(AND(U$36>=1,U$36<=4,S$36=31),\"平成\"&30&\"年\"&8,IF(AND(U$36=5,S$36=\"元\"),\"平成\"&30&\"年\"&8,IF(AND(U$36>=6,S$36=\"元\"),\"令和元年\"&8,IF(AND(U$36>=1,U$36<=5,S$36=2),\"令和元年\"&8,(IF((AND(U$36>=1,U$36<=5)),\"令和\"&S$36-1&\"年\"&8,\"令和\"&S$36&\"年\"&8)))))))","v":"令和年8"},null,null,null,{"$f":"IF(OR(Y86=\"\",Y$41=9),\"\",8)","v":8},{"$f":"IF(OR(Z86=\"\",AB$41=4),\"\",IF(AND(AA$36>=1,AA$36<=4,Y$36=31),\"平成\"&30&\"年\"&8,IF(AND(AA$36=5,Y$36=\"元\"),\"平成\"&30&\"年\"&8,IF(AND(AA$36>=6,Y$36=\"元\"),\"令和元年\"&8,IF(AND(AA$36>=1,AA$36<=5,Y$36=2),\"令和元年\"&8,(IF((AND(AA$36>=1,AA$36<=5)),\"令和\"&Y$36-1&\"年\"&8,\"令和\"&Y$36&\"年\"&8)))))))","v":"令和年8"},{"$f":"IF(OR(Z86=\"\",AB$41=4),\"\",IF(AND(AA$36>=1,AA$36<=4,Y$36=31),\"平成\"&30&\"年\"&8,IF(AND(AA$36=5,Y$36=\"元\"),\"平成\"&30&\"年\"&8,IF(AND(AA$36>=6,Y$36=\"元\"),\"令和元年\"&8,IF(AND(AA$36>=1,AA$36<=5,Y$36=2),\"令和元年\"&8,(IF((AND(AA$36>=1,AA$36<=5)),\"令和\"&Y$36-1&\"年\"&8,\"令和\"&Y$36&\"年\"&8)))))))","v":"令和年8"},null,null,null,{"$f":"IF(OR(AE86=\"\",AE$41=9),\"\",8)","v":8},{"$f":"IF(OR(AF86=\"\",AH$41=4),\"\",IF(AND(AG$36>=1,AG$36<=4,AE$36=31),\"平成\"&30&\"年\"&8,IF(AND(AG$36=5,AE$36=\"元\"),\"平成\"&30&\"年\"&8,IF(AND(AG$36>=6,AE$36=\"元\"),\"令和元年\"&8,IF(AND(AG$36>=1,AG$36<=5,AE$36=2),\"令和元年\"&8,(IF((AND(AG$36>=1,AG$36<=5)),\"令和\"&AE$36-1&\"年\"&8,\"令和\"&AE$36&\"年\"&8)))))))","v":"令和年8"},{"$f":"IF(OR(AF86=\"\",AH$41=4),\"\",IF(AND(AG$36>=1,AG$36<=4,AE$36=31),\"平成\"&30&\"年\"&8,IF(AND(AG$36=5,AE$36=\"元\"),\"平成\"&30&\"年\"&8,IF(AND(AG$36>=6,AE$36=\"元\"),\"令和元年\"&8,IF(AND(AG$36>=1,AG$36<=5,AE$36=2),\"令和元年\"&8,(IF((AND(AG$36>=1,AG$36<=5)),\"令和\"&AE$36-1&\"年\"&8,\"令和\"&AE$36&\"年\"&8)))))))","v":"令和年8"},null,null,null,{"$f":"IF(OR(AK86=\"\",AK$41=9),\"\",8)","v":8},{"$f":"IF(OR(AL86=\"\",AN$41=4),\"\",IF(AND(AM$36>=1,AM$36<=4,AK$36=31),\"平成\"&30&\"年\"&8,IF(AND(AM$36=5,AK$36=\"元\"),\"平成\"&30&\"年\"&8,IF(AND(AM$36>=6,AK$36=\"元\"),\"令和元年\"&8,IF(AND(AM$36>=1,AM$36<=5,AK$36=2),\"令和元年\"&8,(IF((AND(AM$36>=1,AM$36<=5)),\"令和\"&AK$36-1&\"年\"&8,\"令和\"&AK$36&\"年\"&8)))))))","v":"令和年8"},{"$f":"IF(OR(AL86=\"\",AN$41=4),\"\",IF(AND(AM$36>=1,AM$36<=4,AK$36=31),\"平成\"&30&\"年\"&8,IF(AND(AM$36=5,AK$36=\"元\"),\"平成\"&30&\"年\"&8,IF(AND(AM$36>=6,AK$36=\"元\"),\"令和元年\"&8,IF(AND(AM$36>=1,AM$36<=5,AK$36=2),\"令和元年\"&8,(IF((AND(AM$36>=1,AM$36<=5)),\"令和\"&AK$36-1&\"年\"&8,\"令和\"&AK$36&\"年\"&8)))))))","v":"令和年8"},null,null,null,{"$f":"IF(OR(AQ86=\"\",AQ$41=9),\"\",8)","v":8},{"$f":"IF(OR(AR86=\"\",AT$41=4),\"\",IF(AND(AS$36>=1,AS$36<=4,AQ$36=31),\"平成\"&30&\"年\"&8,IF(AND(AS$36=5,AQ$36=\"元\"),\"平成\"&30&\"年\"&8,IF(AND(AS$36>=6,AQ$36=\"元\"),\"令和元年\"&8,IF(AND(AS$36>=1,AS$36<=5,AQ$36=2),\"令和元年\"&8,(IF((AND(AS$36>=1,AS$36<=5)),\"令和\"&AQ$36-1&\"年\"&8,\"令和\"&AQ$36&\"年\"&8)))))))","v":"令和年8"},{"$f":"IF(OR(AR86=\"\",AT$41=4),\"\",IF(AND(AS$36>=1,AS$36<=4,AQ$36=31),\"平成\"&30&\"年\"&8,IF(AND(AS$36=5,AQ$36=\"元\"),\"平成\"&30&\"年\"&8,IF(AND(AS$36>=6,AQ$36=\"元\"),\"令和元年\"&8,IF(AND(AS$36>=1,AS$36<=5,AQ$36=2),\"令和元年\"&8,(IF((AND(AS$36>=1,AS$36<=5)),\"令和\"&AQ$36-1&\"年\"&8,\"令和\"&AQ$36&\"年\"&8)))))))","v":"令和年8"},null,null,null,{"$f":"IF(OR(AW86=\"\",AW$41=9),\"\",8)","v":8},{"$f":"IF(OR(AX86=\"\",AZ$41=4),\"\",IF(AND(AY$36>=1,AY$36<=4,AW$36=31),\"平成\"&30&\"年\"&8,IF(AND(AY$36=5,AW$36=\"元\"),\"平成\"&30&\"年\"&8,IF(AND(AY$36>=6,AW$36=\"元\"),\"令和元年\"&8,IF(AND(AY$36>=1,AY$36<=5,AW$36=2),\"令和元年\"&8,(IF((AND(AY$36>=1,AY$36<=5)),\"令和\"&AW$36-1&\"年\"&8,\"令和\"&AW$36&\"年\"&8)))))))","v":"令和年8"},{"$f":"IF(OR(AX86=\"\",AZ$41=4),\"\",IF(AND(AY$36>=1,AY$36<=4,AW$36=31),\"平成\"&30&\"年\"&8,IF(AND(AY$36=5,AW$36=\"元\"),\"平成\"&30&\"年\"&8,IF(AND(AY$36>=6,AW$36=\"元\"),\"令和元年\"&8,IF(AND(AY$36>=1,AY$36<=5,AW$36=2),\"令和元年\"&8,(IF((AND(AY$36>=1,AY$36<=5)),\"令和\"&AW$36-1&\"年\"&8,\"令和\"&AW$36&\"年\"&8)))))))","v":"令和年8"},null,null,null,{"$f":"IF(OR(BC86=\"\",BC$41=9),\"\",8)","v":8},{"$f":"IF(OR(BD86=\"\",BF$41=4),\"\",IF(AND(BE$36>=1,BE$36<=4,BC$36=31),\"平成\"&30&\"年\"&8,IF(AND(BE$36=5,BC$36=\"元\"),\"平成\"&30&\"年\"&8,IF(AND(BE$36>=6,BC$36=\"元\"),\"令和元年\"&8,IF(AND(BE$36>=1,BE$36<=5,BC$36=2),\"令和元年\"&8,(IF((AND(BE$36>=1,BE$36<=5)),\"令和\"&BC$36-1&\"年\"&8,\"令和\"&BC$36&\"年\"&8)))))))","v":"令和年8"},{"$f":"IF(OR(BD86=\"\",BF$41=4),\"\",IF(AND(BE$36>=1,BE$36<=4,BC$36=31),\"平成\"&30&\"年\"&8,IF(AND(BE$36=5,BC$36=\"元\"),\"平成\"&30&\"年\"&8,IF(AND(BE$36>=6,BC$36=\"元\"),\"令和元年\"&8,IF(AND(BE$36>=1,BE$36<=5,BC$36=2),\"令和元年\"&8,(IF((AND(BE$36>=1,BE$36<=5)),\"令和\"&BC$36-1&\"年\"&8,\"令和\"&BC$36&\"年\"&8)))))))","v":"令和年8"},null,null,null,{"$f":"IF(OR(BI86=\"\",BI$41=9),\"\",8)","v":8},{"$f":"IF(OR(BJ86=\"\",BL$41=4),\"\",IF(AND(BK$36>=1,BK$36<=4,BI$36=31),\"平成\"&30&\"年\"&8,IF(AND(BK$36=5,BI$36=\"元\"),\"平成\"&30&\"年\"&8,IF(AND(BK$36>=6,BI$36=\"元\"),\"令和元年\"&8,IF(AND(BK$36>=1,BK$36<=5,BI$36=2),\"令和元年\"&8,(IF((AND(BK$36>=1,BK$36<=5)),\"令和\"&BI$36-1&\"年\"&8,\"令和\"&BI$36&\"年\"&8)))))))","v":"令和年8"},{"$f":"IF(OR(BJ86=\"\",BL$41=4),\"\",IF(AND(BK$36>=1,BK$36<=4,BI$36=31),\"平成\"&30&\"年\"&8,IF(AND(BK$36=5,BI$36=\"元\"),\"平成\"&30&\"年\"&8,IF(AND(BK$36>=6,BI$36=\"元\"),\"令和元年\"&8,IF(AND(BK$36>=1,BK$36<=5,BI$36=2),\"令和元年\"&8,(IF((AND(BK$36>=1,BK$36<=5)),\"令和\"&BI$36-1&\"年\"&8,\"令和\"&BI$36&\"年\"&8)))))))","v":"令和年8"},null,null,null,{"$f":"IF(OR(BO86=\"\",BO$41=9),\"\",8)","v":8},{"$f":"IF(OR(BP86=\"\",BR$41=4),\"\",IF(AND(BQ$36>=1,BQ$36<=4,BO$36=31),\"平成\"&30&\"年\"&8,IF(AND(BQ$36=5,BO$36=\"元\"),\"平成\"&30&\"年\"&8,IF(AND(BQ$36>=6,BO$36=\"元\"),\"令和元年\"&8,IF(AND(BQ$36>=1,BQ$36<=5,BO$36=2),\"令和元年\"&8,(IF((AND(BQ$36>=1,BQ$36<=5)),\"令和\"&BO$36-1&\"年\"&8,\"令和\"&BO$36&\"年\"&8)))))))","v":"令和年8"},{"$f":"IF(OR(BP86=\"\",BR$41=4),\"\",IF(AND(BQ$36>=1,BQ$36<=4,BO$36=31),\"平成\"&30&\"年\"&8,IF(AND(BQ$36=5,BO$36=\"元\"),\"平成\"&30&\"年\"&8,IF(AND(BQ$36>=6,BO$36=\"元\"),\"令和元年\"&8,IF(AND(BQ$36>=1,BQ$36<=5,BO$36=2),\"令和元年\"&8,(IF((AND(BQ$36>=1,BQ$36<=5)),\"令和\"&BO$36-1&\"年\"&8,\"令和\"&BO$36&\"年\"&8)))))))","v":"令和年8"},null,null,null,{"$f":"IF(OR(BU86=\"\",BU$41=9),\"\",8)","v":8},{"$f":"IF(OR(BV86=\"\",BX$41=4),\"\",IF(AND(BW$36>=1,BW$36<=4,BU$36=31),\"平成\"&30&\"年\"&8,IF(AND(BW$36=5,BU$36=\"元\"),\"平成\"&30&\"年\"&8,IF(AND(BW$36>=6,BU$36=\"元\"),\"令和元年\"&8,IF(AND(BW$36>=1,BW$36<=5,BU$36=2),\"令和元年\"&8,(IF((AND(BW$36>=1,BW$36<=5)),\"令和\"&BU$36-1&\"年\"&8,\"令和\"&BU$36&\"年\"&8)))))))","v":"令和年8"},{"$f":"IF(OR(BV86=\"\",BX$41=4),\"\",IF(AND(BW$36>=1,BW$36<=4,BU$36=31),\"平成\"&30&\"年\"&8,IF(AND(BW$36=5,BU$36=\"元\"),\"平成\"&30&\"年\"&8,IF(AND(BW$36>=6,BU$36=\"元\"),\"令和元年\"&8,IF(AND(BW$36>=1,BW$36<=5,BU$36=2),\"令和元年\"&8,(IF((AND(BW$36>=1,BW$36<=5)),\"令和\"&BU$36-1&\"年\"&8,\"令和\"&BU$36&\"年\"&8)))))))","v":"令和年8"},null,null,null,{"$f":"IF(OR(CA86=\"\",CA$41=9),\"\",8)","v":8},{"$f":"IF(OR(CB86=\"\",CD$41=4),\"\",IF(AND(CC$36>=1,CC$36<=4,CA$36=31),\"平成\"&30&\"年\"&8,IF(AND(CC$36=5,CA$36=\"元\"),\"平成\"&30&\"年\"&8,IF(AND(CC$36>=6,CA$36=\"元\"),\"令和元年\"&8,IF(AND(CC$36>=1,CC$36<=5,CA$36=2),\"令和元年\"&8,(IF((AND(CC$36>=1,CC$36<=5)),\"令和\"&CA$36-1&\"年\"&8,\"令和\"&CA$36&\"年\"&8)))))))","v":"令和年8"},{"$f":"IF(OR(CB86=\"\",CD$41=4),\"\",IF(AND(CC$36>=1,CC$36<=4,CA$36=31),\"平成\"&30&\"年\"&8,IF(AND(CC$36=5,CA$36=\"元\"),\"平成\"&30&\"年\"&8,IF(AND(CC$36>=6,CA$36=\"元\"),\"令和元年\"&8,IF(AND(CC$36>=1,CC$36<=5,CA$36=2),\"令和元年\"&8,(IF((AND(CC$36>=1,CC$36<=5)),\"令和\"&CA$36-1&\"年\"&8,\"令和\"&CA$36&\"年\"&8)))))))","v":"令和年8"},null,null,null,{"$f":"IF(OR(CG86=\"\",CG$41=9),\"\",8)","v":8},{"$f":"IF(OR(CH86=\"\",CJ$41=4),\"\",IF(AND(CI$36>=1,CI$36<=4,CG$36=31),\"平成\"&30&\"年\"&8,IF(AND(CI$36=5,CG$36=\"元\"),\"平成\"&30&\"年\"&8,IF(AND(CI$36>=6,CG$36=\"元\"),\"令和元年\"&8,IF(AND(CI$36>=1,CI$36<=5,CG$36=2),\"令和元年\"&8,(IF((AND(CI$36>=1,CI$36<=5)),\"令和\"&CG$36-1&\"年\"&8,\"令和\"&CG$36&\"年\"&8)))))))","v":"令和年8"},{"$f":"IF(OR(CH86=\"\",CJ$41=4),\"\",IF(AND(CI$36>=1,CI$36<=4,CG$36=31),\"平成\"&30&\"年\"&8,IF(AND(CI$36=5,CG$36=\"元\"),\"平成\"&30&\"年\"&8,IF(AND(CI$36>=6,CG$36=\"元\"),\"令和元年\"&8,IF(AND(CI$36>=1,CI$36<=5,CG$36=2),\"令和元年\"&8,(IF((AND(CI$36>=1,CI$36<=5)),\"令和\"&CG$36-1&\"年\"&8,\"令和\"&CG$36&\"年\"&8)))))))","v":"令和年8"},null,null,null,{"$f":"IF(OR(CM86=\"\",CM$41=9),\"\",8)","v":8},{"$f":"IF(OR(CN86=\"\",CP$41=4),\"\",IF(AND(CO$36>=1,CO$36<=4,CM$36=31),\"平成\"&30&\"年\"&8,IF(AND(CO$36=5,CM$36=\"元\"),\"平成\"&30&\"年\"&8,IF(AND(CO$36>=6,CM$36=\"元\"),\"令和元年\"&8,IF(AND(CO$36>=1,CO$36<=5,CM$36=2),\"令和元年\"&8,(IF((AND(CO$36>=1,CO$36<=5)),\"令和\"&CM$36-1&\"年\"&8,\"令和\"&CM$36&\"年\"&8)))))))","v":"令和年8"},{"$f":"IF(OR(CN86=\"\",CP$41=4),\"\",IF(AND(CO$36>=1,CO$36<=4,CM$36=31),\"平成\"&30&\"年\"&8,IF(AND(CO$36=5,CM$36=\"元\"),\"平成\"&30&\"年\"&8,IF(AND(CO$36>=6,CM$36=\"元\"),\"令和元年\"&8,IF(AND(CO$36>=1,CO$36<=5,CM$36=2),\"令和元年\"&8,(IF((AND(CO$36>=1,CO$36<=5)),\"令和\"&CM$36-1&\"年\"&8,\"令和\"&CM$36&\"年\"&8)))))))","v":"令和年8"},null,null,null,{"$f":"IF(OR(CS86=\"\",CS$41=9),\"\",8)","v":8},{"$f":"IF(OR(CT86=\"\",CV$41=4),\"\",IF(AND(CU$36>=1,CU$36<=4,CS$36=31),\"平成\"&30&\"年\"&8,IF(AND(CU$36=5,CS$36=\"元\"),\"平成\"&30&\"年\"&8,IF(AND(CU$36>=6,CS$36=\"元\"),\"令和元年\"&8,IF(AND(CU$36>=1,CU$36<=5,CS$36=2),\"令和元年\"&8,(IF((AND(CU$36>=1,CU$36<=5)),\"令和\"&CS$36-1&\"年\"&8,\"令和\"&CS$36&\"年\"&8)))))))","v":"令和年8"},{"$f":"IF(OR(CT86=\"\",CV$41=4),\"\",IF(AND(CU$36>=1,CU$36<=4,CS$36=31),\"平成\"&30&\"年\"&8,IF(AND(CU$36=5,CS$36=\"元\"),\"平成\"&30&\"年\"&8,IF(AND(CU$36>=6,CS$36=\"元\"),\"令和元年\"&8,IF(AND(CU$36>=1,CU$36<=5,CS$36=2),\"令和元年\"&8,(IF((AND(CU$36>=1,CU$36<=5)),\"令和\"&CS$36-1&\"年\"&8,\"令和\"&CS$36&\"年\"&8)))))))","v":"令和年8"},null,null,null,{"$f":"IF(OR(CY86=\"\",CY$41=9),\"\",8)","v":8},{"$f":"IF(OR(CZ86=\"\",DB$41=4),\"\",IF(AND(DA$36>=1,DA$36<=4,CY$36=31),\"平成\"&30&\"年\"&8,IF(AND(DA$36=5,CY$36=\"元\"),\"平成\"&30&\"年\"&8,IF(AND(DA$36>=6,CY$36=\"元\"),\"令和元年\"&8,IF(AND(DA$36>=1,DA$36<=5,CY$36=2),\"令和元年\"&8,(IF((AND(DA$36>=1,DA$36<=5)),\"令和\"&CY$36-1&\"年\"&8,\"令和\"&CY$36&\"年\"&8)))))))","v":"令和年8"},{"$f":"IF(OR(CZ86=\"\",DB$41=4),\"\",IF(AND(DA$36>=1,DA$36<=4,CY$36=31),\"平成\"&30&\"年\"&8,IF(AND(DA$36=5,CY$36=\"元\"),\"平成\"&30&\"年\"&8,IF(AND(DA$36>=6,CY$36=\"元\"),\"令和元年\"&8,IF(AND(DA$36>=1,DA$36<=5,CY$36=2),\"令和元年\"&8,(IF((AND(DA$36>=1,DA$36<=5)),\"令和\"&CY$36-1&\"年\"&8,\"令和\"&CY$36&\"年\"&8)))))))","v":"令和年8"},null,null,null,{"$f":"IF(OR(DE86=\"\",DE$41=9),\"\",8)","v":8},{"$f":"IF(OR(DF86=\"\",DH$41=4),\"\",IF(AND(DG$36>=1,DG$36<=4,DE$36=31),\"平成\"&30&\"年\"&8,IF(AND(DG$36=5,DE$36=\"元\"),\"平成\"&30&\"年\"&8,IF(AND(DG$36>=6,DE$36=\"元\"),\"令和元年\"&8,IF(AND(DG$36>=1,DG$36<=5,DE$36=2),\"令和元年\"&8,(IF((AND(DG$36>=1,DG$36<=5)),\"令和\"&DE$36-1&\"年\"&8,\"令和\"&DE$36&\"年\"&8)))))))","v":"令和年8"},{"$f":"IF(OR(DF86=\"\",DH$41=4),\"\",IF(AND(DG$36>=1,DG$36<=4,DE$36=31),\"平成\"&30&\"年\"&8,IF(AND(DG$36=5,DE$36=\"元\"),\"平成\"&30&\"年\"&8,IF(AND(DG$36>=6,DE$36=\"元\"),\"令和元年\"&8,IF(AND(DG$36>=1,DG$36<=5,DE$36=2),\"令和元年\"&8,(IF((AND(DG$36>=1,DG$36<=5)),\"令和\"&DE$36-1&\"年\"&8,\"令和\"&DE$36&\"年\"&8)))))))","v":"令和年8"},null,null,null,{"$f":"IF(OR(DK86=\"\",DK$41=9),\"\",8)","v":8},{"$f":"IF(OR(DL86=\"\",DN$41=4),\"\",IF(AND(DM$36>=1,DM$36<=4,DK$36=31),\"平成\"&30&\"年\"&8,IF(AND(DM$36=5,DK$36=\"元\"),\"平成\"&30&\"年\"&8,IF(AND(DM$36>=6,DK$36=\"元\"),\"令和元年\"&8,IF(AND(DM$36>=1,DM$36<=5,DK$36=2),\"令和元年\"&8,(IF((AND(DM$36>=1,DM$36<=5)),\"令和\"&DK$36-1&\"年\"&8,\"令和\"&DK$36&\"年\"&8)))))))","v":"令和年8"},{"$f":"IF(OR(DL86=\"\",DN$41=4),\"\",IF(AND(DM$36>=1,DM$36<=4,DK$36=31),\"平成\"&30&\"年\"&8,IF(AND(DM$36=5,DK$36=\"元\"),\"平成\"&30&\"年\"&8,IF(AND(DM$36>=6,DK$36=\"元\"),\"令和元年\"&8,IF(AND(DM$36>=1,DM$36<=5,DK$36=2),\"令和元年\"&8,(IF((AND(DM$36>=1,DM$36<=5)),\"令和\"&DK$36-1&\"年\"&8,\"令和\"&DK$36&\"年\"&8)))))))","v":"令和年8"},null,null,null,{"$f":"IF(OR(DQ86=\"\",DQ$41=9),\"\",8)","v":8},{"$f":"IF(OR(DR86=\"\",DT$41=4),\"\",IF(AND(DS$36>=1,DS$36<=4,DQ$36=31),\"平成\"&30&\"年\"&8,IF(AND(DS$36=5,DQ$36=\"元\"),\"平成\"&30&\"年\"&8,IF(AND(DS$36>=6,DQ$36=\"元\"),\"令和元年\"&8,IF(AND(DS$36>=1,DS$36<=5,DQ$36=2),\"令和元年\"&8,(IF((AND(DS$36>=1,DS$36<=5)),\"令和\"&DQ$36-1&\"年\"&8,\"令和\"&DQ$36&\"年\"&8)))))))","v":"令和年8"},{"$f":"IF(OR(DR86=\"\",DT$41=4),\"\",IF(AND(DS$36>=1,DS$36<=4,DQ$36=31),\"平成\"&30&\"年\"&8,IF(AND(DS$36=5,DQ$36=\"元\"),\"平成\"&30&\"年\"&8,IF(AND(DS$36>=6,DQ$36=\"元\"),\"令和元年\"&8,IF(AND(DS$36>=1,DS$36<=5,DQ$36=2),\"令和元年\"&8,(IF((AND(DS$36>=1,DS$36<=5)),\"令和\"&DQ$36-1&\"年\"&8,\"令和\"&DQ$36&\"年\"&8)))))))","v":"令和年8"},null,null,null,{"$f":"IF(OR(DW86=\"\",DW$41=9),\"\",8)","v":8},{"$f":"IF(OR(DX86=\"\",DZ$41=4),\"\",IF(AND(DY$36>=1,DY$36<=4,DW$36=31),\"平成\"&30&\"年\"&8,IF(AND(DY$36=5,DW$36=\"元\"),\"平成\"&30&\"年\"&8,IF(AND(DY$36>=6,DW$36=\"元\"),\"令和元年\"&8,IF(AND(DY$36>=1,DY$36<=5,DW$36=2),\"令和元年\"&8,(IF((AND(DY$36>=1,DY$36<=5)),\"令和\"&DW$36-1&\"年\"&8,\"令和\"&DW$36&\"年\"&8)))))))","v":"令和年8"},{"$f":"IF(OR(DX86=\"\",DZ$41=4),\"\",IF(AND(DY$36>=1,DY$36<=4,DW$36=31),\"平成\"&30&\"年\"&8,IF(AND(DY$36=5,DW$36=\"元\"),\"平成\"&30&\"年\"&8,IF(AND(DY$36>=6,DW$36=\"元\"),\"令和元年\"&8,IF(AND(DY$36>=1,DY$36<=5,DW$36=2),\"令和元年\"&8,(IF((AND(DY$36>=1,DY$36<=5)),\"令和\"&DW$36-1&\"年\"&8,\"令和\"&DW$36&\"年\"&8)))))))","v":"令和年8"},null,null,null,{"$f":"IF(OR(EC86=\"\",EC$41=9),\"\",8)","v":8},{"$f":"IF(OR(ED86=\"\",EF$41=4),\"\",IF(AND(EE$36>=1,EE$36<=4,EC$36=31),\"平成\"&30&\"年\"&8,IF(AND(EE$36=5,EC$36=\"元\"),\"平成\"&30&\"年\"&8,IF(AND(EE$36>=6,EC$36=\"元\"),\"令和元年\"&8,IF(AND(EE$36>=1,EE$36<=5,EC$36=2),\"令和元年\"&8,(IF((AND(EE$36>=1,EE$36<=5)),\"令和\"&EC$36-1&\"年\"&8,\"令和\"&EC$36&\"年\"&8)))))))","v":"令和年8"},{"$f":"IF(OR(ED86=\"\",EF$41=4),\"\",IF(AND(EE$36>=1,EE$36<=4,EC$36=31),\"平成\"&30&\"年\"&8,IF(AND(EE$36=5,EC$36=\"元\"),\"平成\"&30&\"年\"&8,IF(AND(EE$36>=6,EC$36=\"元\"),\"令和元年\"&8,IF(AND(EE$36>=1,EE$36<=5,EC$36=2),\"令和元年\"&8,(IF((AND(EE$36>=1,EE$36<=5)),\"令和\"&EC$36-1&\"年\"&8,\"令和\"&EC$36&\"年\"&8)))))))","v":"令和年8"},null,null,null,{"$f":"IF(OR(EI86=\"\",EI$41=9),\"\",8)","v":8},{"$f":"IF(OR(EJ86=\"\",EL$41=4),\"\",IF(AND(EK$36>=1,EK$36<=4,EI$36=31),\"平成\"&30&\"年\"&8,IF(AND(EK$36=5,EI$36=\"元\"),\"平成\"&30&\"年\"&8,IF(AND(EK$36>=6,EI$36=\"元\"),\"令和元年\"&8,IF(AND(EK$36>=1,EK$36<=5,EI$36=2),\"令和元年\"&8,(IF((AND(EK$36>=1,EK$36<=5)),\"令和\"&EI$36-1&\"年\"&8,\"令和\"&EI$36&\"年\"&8)))))))","v":"令和年8"},{"$f":"IF(OR(EJ86=\"\",EL$41=4),\"\",IF(AND(EK$36>=1,EK$36<=4,EI$36=31),\"平成\"&30&\"年\"&8,IF(AND(EK$36=5,EI$36=\"元\"),\"平成\"&30&\"年\"&8,IF(AND(EK$36>=6,EI$36=\"元\"),\"令和元年\"&8,IF(AND(EK$36>=1,EK$36<=5,EI$36=2),\"令和元年\"&8,(IF((AND(EK$36>=1,EK$36<=5)),\"令和\"&EI$36-1&\"年\"&8,\"令和\"&EI$36&\"年\"&8)))))))","v":"令和年8"},null,null,null,{"$f":"IF(OR(EO86=\"\",EO$41=9),\"\",8)","v":8},{"$f":"IF(OR(EP86=\"\",ER$41=4),\"\",IF(AND(EQ$36>=1,EQ$36<=4,EO$36=31),\"平成\"&30&\"年\"&8,IF(AND(EQ$36=5,EO$36=\"元\"),\"平成\"&30&\"年\"&8,IF(AND(EQ$36>=6,EO$36=\"元\"),\"令和元年\"&8,IF(AND(EQ$36>=1,EQ$36<=5,EO$36=2),\"令和元年\"&8,(IF((AND(EQ$36>=1,EQ$36<=5)),\"令和\"&EO$36-1&\"年\"&8,\"令和\"&EO$36&\"年\"&8)))))))","v":"令和年8"},{"$f":"IF(OR(EP86=\"\",ER$41=4),\"\",IF(AND(EQ$36>=1,EQ$36<=4,EO$36=31),\"平成\"&30&\"年\"&8,IF(AND(EQ$36=5,EO$36=\"元\"),\"平成\"&30&\"年\"&8,IF(AND(EQ$36>=6,EO$36=\"元\"),\"令和元年\"&8,IF(AND(EQ$36>=1,EQ$36<=5,EO$36=2),\"令和元年\"&8,(IF((AND(EQ$36>=1,EQ$36<=5)),\"令和\"&EO$36-1&\"年\"&8,\"令和\"&EO$36&\"年\"&8)))))))","v":"令和年8"},null,null,null,{"$f":"IF(OR(EU86=\"\",EU$41=9),\"\",8)","v":8},{"$f":"IF(OR(EV86=\"\",EX$41=4),\"\",IF(AND(EW$36>=1,EW$36<=4,EU$36=31),\"平成\"&30&\"年\"&8,IF(AND(EW$36=5,EU$36=\"元\"),\"平成\"&30&\"年\"&8,IF(AND(EW$36>=6,EU$36=\"元\"),\"令和元年\"&8,IF(AND(EW$36>=1,EW$36<=5,EU$36=2),\"令和元年\"&8,(IF((AND(EW$36>=1,EW$36<=5)),\"令和\"&EU$36-1&\"年\"&8,\"令和\"&EU$36&\"年\"&8)))))))","v":"令和年8"},{"$f":"IF(OR(EV86=\"\",EX$41=4),\"\",IF(AND(EW$36>=1,EW$36<=4,EU$36=31),\"平成\"&30&\"年\"&8,IF(AND(EW$36=5,EU$36=\"元\"),\"平成\"&30&\"年\"&8,IF(AND(EW$36>=6,EU$36=\"元\"),\"令和元年\"&8,IF(AND(EW$36>=1,EW$36<=5,EU$36=2),\"令和元年\"&8,(IF((AND(EW$36>=1,EW$36<=5)),\"令和\"&EU$36-1&\"年\"&8,\"令和\"&EU$36&\"年\"&8)))))))","v":"令和年8"},null,null,null,{"$f":"IF(OR(FA86=\"\",FA$41=9),\"\",8)","v":8},{"$f":"IF(OR(FB86=\"\",FD$41=4),\"\",IF(AND(FC$36>=1,FC$36<=4,FA$36=31),\"平成\"&30&\"年\"&8,IF(AND(FC$36=5,FA$36=\"元\"),\"平成\"&30&\"年\"&8,IF(AND(FC$36>=6,FA$36=\"元\"),\"令和元年\"&8,IF(AND(FC$36>=1,FC$36<=5,FA$36=2),\"令和元年\"&8,(IF((AND(FC$36>=1,FC$36<=5)),\"令和\"&FA$36-1&\"年\"&8,\"令和\"&FA$36&\"年\"&8)))))))","v":"令和年8"},{"$f":"IF(OR(FB86=\"\",FD$41=4),\"\",IF(AND(FC$36>=1,FC$36<=4,FA$36=31),\"平成\"&30&\"年\"&8,IF(AND(FC$36=5,FA$36=\"元\"),\"平成\"&30&\"年\"&8,IF(AND(FC$36>=6,FA$36=\"元\"),\"令和元年\"&8,IF(AND(FC$36>=1,FC$36<=5,FA$36=2),\"令和元年\"&8,(IF((AND(FC$36>=1,FC$36<=5)),\"令和\"&FA$36-1&\"年\"&8,\"令和\"&FA$36&\"年\"&8)))))))","v":"令和年8"},null,null,null,{"$f":"IF(OR(FG86=\"\",FG$41=9),\"\",8)","v":8},{"$f":"IF(OR(FH86=\"\",FJ$41=4),\"\",IF(AND(FI$36>=1,FI$36<=4,FG$36=31),\"平成\"&30&\"年\"&8,IF(AND(FI$36=5,FG$36=\"元\"),\"平成\"&30&\"年\"&8,IF(AND(FI$36>=6,FG$36=\"元\"),\"令和元年\"&8,IF(AND(FI$36>=1,FI$36<=5,FG$36=2),\"令和元年\"&8,(IF((AND(FI$36>=1,FI$36<=5)),\"令和\"&FG$36-1&\"年\"&8,\"令和\"&FG$36&\"年\"&8)))))))","v":"令和年8"},{"$f":"IF(OR(FH86=\"\",FJ$41=4),\"\",IF(AND(FI$36>=1,FI$36<=4,FG$36=31),\"平成\"&30&\"年\"&8,IF(AND(FI$36=5,FG$36=\"元\"),\"平成\"&30&\"年\"&8,IF(AND(FI$36>=6,FG$36=\"元\"),\"令和元年\"&8,IF(AND(FI$36>=1,FI$36<=5,FG$36=2),\"令和元年\"&8,(IF((AND(FI$36>=1,FI$36<=5)),\"令和\"&FG$36-1&\"年\"&8,\"令和\"&FG$36&\"年\"&8)))))))","v":"令和年8"},null,null,null,{"$f":"IF(OR(FM86=\"\",FM$41=9),\"\",8)","v":8},{"$f":"IF(OR(FN86=\"\",FP$41=4),\"\",IF(AND(FO$36>=1,FO$36<=4,FM$36=31),\"平成\"&30&\"年\"&8,IF(AND(FO$36=5,FM$36=\"元\"),\"平成\"&30&\"年\"&8,IF(AND(FO$36>=6,FM$36=\"元\"),\"令和元年\"&8,IF(AND(FO$36>=1,FO$36<=5,FM$36=2),\"令和元年\"&8,(IF((AND(FO$36>=1,FO$36<=5)),\"令和\"&FM$36-1&\"年\"&8,\"令和\"&FM$36&\"年\"&8)))))))","v":"令和年8"},{"$f":"IF(OR(FN86=\"\",FP$41=4),\"\",IF(AND(FO$36>=1,FO$36<=4,FM$36=31),\"平成\"&30&\"年\"&8,IF(AND(FO$36=5,FM$36=\"元\"),\"平成\"&30&\"年\"&8,IF(AND(FO$36>=6,FM$36=\"元\"),\"令和元年\"&8,IF(AND(FO$36>=1,FO$36<=5,FM$36=2),\"令和元年\"&8,(IF((AND(FO$36>=1,FO$36<=5)),\"令和\"&FM$36-1&\"年\"&8,\"令和\"&FM$36&\"年\"&8)))))))","v":"令和年8"},null,null,null,{"$f":"IF(OR(FS86=\"\",FS$41=9),\"\",8)","v":8},{"$f":"IF(OR(FT86=\"\",FV$41=4),\"\",IF(AND(FU$36>=1,FU$36<=4,FS$36=31),\"平成\"&30&\"年\"&8,IF(AND(FU$36=5,FS$36=\"元\"),\"平成\"&30&\"年\"&8,IF(AND(FU$36>=6,FS$36=\"元\"),\"令和元年\"&8,IF(AND(FU$36>=1,FU$36<=5,FS$36=2),\"令和元年\"&8,(IF((AND(FU$36>=1,FU$36<=5)),\"令和\"&FS$36-1&\"年\"&8,\"令和\"&FS$36&\"年\"&8)))))))","v":"令和年8"},{"$f":"IF(OR(FT86=\"\",FV$41=4),\"\",IF(AND(FU$36>=1,FU$36<=4,FS$36=31),\"平成\"&30&\"年\"&8,IF(AND(FU$36=5,FS$36=\"元\"),\"平成\"&30&\"年\"&8,IF(AND(FU$36>=6,FS$36=\"元\"),\"令和元年\"&8,IF(AND(FU$36>=1,FU$36<=5,FS$36=2),\"令和元年\"&8,(IF((AND(FU$36>=1,FU$36<=5)),\"令和\"&FS$36-1&\"年\"&8,\"令和\"&FS$36&\"年\"&8)))))))","v":"令和年8"},null,null,null,{"$f":"IF(OR(FY86=\"\",FY$41=9),\"\",8)","v":8},{"$f":"IF(OR(FZ86=\"\",GB$41=4),\"\",IF(AND(GA$36>=1,GA$36<=4,FY$36=31),\"平成\"&30&\"年\"&8,IF(AND(GA$36=5,FY$36=\"元\"),\"平成\"&30&\"年\"&8,IF(AND(GA$36>=6,FY$36=\"元\"),\"令和元年\"&8,IF(AND(GA$36>=1,GA$36<=5,FY$36=2),\"令和元年\"&8,(IF((AND(GA$36>=1,GA$36<=5)),\"令和\"&FY$36-1&\"年\"&8,\"令和\"&FY$36&\"年\"&8)))))))","v":"令和年8"},{"$f":"IF(OR(FZ86=\"\",GB$41=4),\"\",IF(AND(GA$36>=1,GA$36<=4,FY$36=31),\"平成\"&30&\"年\"&8,IF(AND(GA$36=5,FY$36=\"元\"),\"平成\"&30&\"年\"&8,IF(AND(GA$36>=6,FY$36=\"元\"),\"令和元年\"&8,IF(AND(GA$36>=1,GA$36<=5,FY$36=2),\"令和元年\"&8,(IF((AND(GA$36>=1,GA$36<=5)),\"令和\"&FY$36-1&\"年\"&8,\"令和\"&FY$36&\"年\"&8)))))))","v":"令和年8"},null,null,null,{"$f":"IF(OR(GE86=\"\",GE$41=9),\"\",8)","v":8},{"$f":"IF(OR(GF86=\"\",GH$41=4),\"\",IF(AND(GG$36>=1,GG$36<=4,GE$36=31),\"平成\"&30&\"年\"&8,IF(AND(GG$36=5,GE$36=\"元\"),\"平成\"&30&\"年\"&8,IF(AND(GG$36>=6,GE$36=\"元\"),\"令和元年\"&8,IF(AND(GG$36>=1,GG$36<=5,GE$36=2),\"令和元年\"&8,(IF((AND(GG$36>=1,GG$36<=5)),\"令和\"&GE$36-1&\"年\"&8,\"令和\"&GE$36&\"年\"&8)))))))","v":"令和年8"},{"$f":"IF(OR(GF86=\"\",GH$41=4),\"\",IF(AND(GG$36>=1,GG$36<=4,GE$36=31),\"平成\"&30&\"年\"&8,IF(AND(GG$36=5,GE$36=\"元\"),\"平成\"&30&\"年\"&8,IF(AND(GG$36>=6,GE$36=\"元\"),\"令和元年\"&8,IF(AND(GG$36>=1,GG$36<=5,GE$36=2),\"令和元年\"&8,(IF((AND(GG$36>=1,GG$36<=5)),\"令和\"&GE$36-1&\"年\"&8,\"令和\"&GE$36&\"年\"&8)))))))","v":"令和年8"},null,null,null,{"$f":"IF(OR(GK86=\"\",GK$41=9),\"\",8)","v":8},{"$f":"IF(OR(GL86=\"\",GN$41=4),\"\",IF(AND(GM$36>=1,GM$36<=4,GK$36=31),\"平成\"&30&\"年\"&8,IF(AND(GM$36=5,GK$36=\"元\"),\"平成\"&30&\"年\"&8,IF(AND(GM$36>=6,GK$36=\"元\"),\"令和元年\"&8,IF(AND(GM$36>=1,GM$36<=5,GK$36=2),\"令和元年\"&8,(IF((AND(GM$36>=1,GM$36<=5)),\"令和\"&GK$36-1&\"年\"&8,\"令和\"&GK$36&\"年\"&8)))))))","v":"令和年8"},{"$f":"IF(OR(GL86=\"\",GN$41=4),\"\",IF(AND(GM$36>=1,GM$36<=4,GK$36=31),\"平成\"&30&\"年\"&8,IF(AND(GM$36=5,GK$36=\"元\"),\"平成\"&30&\"年\"&8,IF(AND(GM$36>=6,GK$36=\"元\"),\"令和元年\"&8,IF(AND(GM$36>=1,GM$36<=5,GK$36=2),\"令和元年\"&8,(IF((AND(GM$36>=1,GM$36<=5)),\"令和\"&GK$36-1&\"年\"&8,\"令和\"&GK$36&\"年\"&8)))))))","v":"令和年8"},null,null,null,{"$f":"IF(OR(GQ86=\"\",GQ$41=9),\"\",8)","v":8},{"$f":"IF(OR(GR86=\"\",GT$41=4),\"\",IF(AND(GS$36>=1,GS$36<=4,GQ$36=31),\"平成\"&30&\"年\"&8,IF(AND(GS$36=5,GQ$36=\"元\"),\"平成\"&30&\"年\"&8,IF(AND(GS$36>=6,GQ$36=\"元\"),\"令和元年\"&8,IF(AND(GS$36>=1,GS$36<=5,GQ$36=2),\"令和元年\"&8,(IF((AND(GS$36>=1,GS$36<=5)),\"令和\"&GQ$36-1&\"年\"&8,\"令和\"&GQ$36&\"年\"&8)))))))","v":"令和年8"},{"$f":"IF(OR(GR86=\"\",GT$41=4),\"\",IF(AND(GS$36>=1,GS$36<=4,GQ$36=31),\"平成\"&30&\"年\"&8,IF(AND(GS$36=5,GQ$36=\"元\"),\"平成\"&30&\"年\"&8,IF(AND(GS$36>=6,GQ$36=\"元\"),\"令和元年\"&8,IF(AND(GS$36>=1,GS$36<=5,GQ$36=2),\"令和元年\"&8,(IF((AND(GS$36>=1,GS$36<=5)),\"令和\"&GQ$36-1&\"年\"&8,\"令和\"&GQ$36&\"年\"&8)))))))","v":"令和年8"},null,null,null,{"$f":"IF(OR(GW86=\"\",GW$41=9),\"\",8)","v":8},{"$f":"IF(OR(GX86=\"\",GZ$41=4),\"\",IF(AND(GY$36>=1,GY$36<=4,GW$36=31),\"平成\"&30&\"年\"&8,IF(AND(GY$36=5,GW$36=\"元\"),\"平成\"&30&\"年\"&8,IF(AND(GY$36>=6,GW$36=\"元\"),\"令和元年\"&8,IF(AND(GY$36>=1,GY$36<=5,GW$36=2),\"令和元年\"&8,(IF((AND(GY$36>=1,GY$36<=5)),\"令和\"&GW$36-1&\"年\"&8,\"令和\"&GW$36&\"年\"&8)))))))","v":"令和年8"},{"$f":"IF(OR(GX86=\"\",GZ$41=4),\"\",IF(AND(GY$36>=1,GY$36<=4,GW$36=31),\"平成\"&30&\"年\"&8,IF(AND(GY$36=5,GW$36=\"元\"),\"平成\"&30&\"年\"&8,IF(AND(GY$36>=6,GW$36=\"元\"),\"令和元年\"&8,IF(AND(GY$36>=1,GY$36<=5,GW$36=2),\"令和元年\"&8,(IF((AND(GY$36>=1,GY$36<=5)),\"令和\"&GW$36-1&\"年\"&8,\"令和\"&GW$36&\"年\"&8)))))))","v":"令和年8"},null,null,null,{"$f":"IF(OR(HC86=\"\",HC$41=9),\"\",8)","v":8},{"$f":"IF(OR(HD86=\"\",HF$41=4),\"\",IF(AND(HE$36>=1,HE$36<=4,HC$36=31),\"平成\"&30&\"年\"&8,IF(AND(HE$36=5,HC$36=\"元\"),\"平成\"&30&\"年\"&8,IF(AND(HE$36>=6,HC$36=\"元\"),\"令和元年\"&8,IF(AND(HE$36>=1,HE$36<=5,HC$36=2),\"令和元年\"&8,(IF((AND(HE$36>=1,HE$36<=5)),\"令和\"&HC$36-1&\"年\"&8,\"令和\"&HC$36&\"年\"&8)))))))","v":"令和年8"},{"$f":"IF(OR(HD86=\"\",HF$41=4),\"\",IF(AND(HE$36>=1,HE$36<=4,HC$36=31),\"平成\"&30&\"年\"&8,IF(AND(HE$36=5,HC$36=\"元\"),\"平成\"&30&\"年\"&8,IF(AND(HE$36>=6,HC$36=\"元\"),\"令和元年\"&8,IF(AND(HE$36>=1,HE$36<=5,HC$36=2),\"令和元年\"&8,(IF((AND(HE$36>=1,HE$36<=5)),\"令和\"&HC$36-1&\"年\"&8,\"令和\"&HC$36&\"年\"&8)))))))","v":"令和年8"},null,null,null,{"$f":"IF(OR(HI86=\"\",HI$41=9),\"\",8)","v":8},{"$f":"IF(OR(HJ86=\"\",HL$41=4),\"\",IF(AND(HK$36>=1,HK$36<=4,HI$36=31),\"平成\"&30&\"年\"&8,IF(AND(HK$36=5,HI$36=\"元\"),\"平成\"&30&\"年\"&8,IF(AND(HK$36>=6,HI$36=\"元\"),\"令和元年\"&8,IF(AND(HK$36>=1,HK$36<=5,HI$36=2),\"令和元年\"&8,(IF((AND(HK$36>=1,HK$36<=5)),\"令和\"&HI$36-1&\"年\"&8,\"令和\"&HI$36&\"年\"&8)))))))","v":"令和年8"},{"$f":"IF(OR(HJ86=\"\",HL$41=4),\"\",IF(AND(HK$36>=1,HK$36<=4,HI$36=31),\"平成\"&30&\"年\"&8,IF(AND(HK$36=5,HI$36=\"元\"),\"平成\"&30&\"年\"&8,IF(AND(HK$36>=6,HI$36=\"元\"),\"令和元年\"&8,IF(AND(HK$36>=1,HK$36<=5,HI$36=2),\"令和元年\"&8,(IF((AND(HK$36>=1,HK$36<=5)),\"令和\"&HI$36-1&\"年\"&8,\"令和\"&HI$36&\"年\"&8)))))))","v":"令和年8"},null,null,null,{"$f":"IF(OR(HO86=\"\",HO$41=9),\"\",8)","v":8},{"$f":"IF(OR(HP86=\"\",HR$41=4),\"\",IF(AND(HQ$36>=1,HQ$36<=4,HO$36=31),\"平成\"&30&\"年\"&8,IF(AND(HQ$36=5,HO$36=\"元\"),\"平成\"&30&\"年\"&8,IF(AND(HQ$36>=6,HO$36=\"元\"),\"令和元年\"&8,IF(AND(HQ$36>=1,HQ$36<=5,HO$36=2),\"令和元年\"&8,(IF((AND(HQ$36>=1,HQ$36<=5)),\"令和\"&HO$36-1&\"年\"&8,\"令和\"&HO$36&\"年\"&8)))))))","v":"令和年8"},{"$f":"IF(OR(HP86=\"\",HR$41=4),\"\",IF(AND(HQ$36>=1,HQ$36<=4,HO$36=31),\"平成\"&30&\"年\"&8,IF(AND(HQ$36=5,HO$36=\"元\"),\"平成\"&30&\"年\"&8,IF(AND(HQ$36>=6,HO$36=\"元\"),\"令和元年\"&8,IF(AND(HQ$36>=1,HQ$36<=5,HO$36=2),\"令和元年\"&8,(IF((AND(HQ$36>=1,HQ$36<=5)),\"令和\"&HO$36-1&\"年\"&8,\"令和\"&HO$36&\"年\"&8)))))))","v":"令和年8"},null,null,null,{"$f":"IF(OR(HU86=\"\",HU$41=9),\"\",8)","v":8},{"$f":"IF(OR(HV86=\"\",HX$41=4),\"\",IF(AND(HW$36>=1,HW$36<=4,HU$36=31),\"平成\"&30&\"年\"&8,IF(AND(HW$36=5,HU$36=\"元\"),\"平成\"&30&\"年\"&8,IF(AND(HW$36>=6,HU$36=\"元\"),\"令和元年\"&8,IF(AND(HW$36>=1,HW$36<=5,HU$36=2),\"令和元年\"&8,(IF((AND(HW$36>=1,HW$36<=5)),\"令和\"&HU$36-1&\"年\"&8,\"令和\"&HU$36&\"年\"&8)))))))","v":"令和年8"},{"$f":"IF(OR(HV86=\"\",HX$41=4),\"\",IF(AND(HW$36>=1,HW$36<=4,HU$36=31),\"平成\"&30&\"年\"&8,IF(AND(HW$36=5,HU$36=\"元\"),\"平成\"&30&\"年\"&8,IF(AND(HW$36>=6,HU$36=\"元\"),\"令和元年\"&8,IF(AND(HW$36>=1,HW$36<=5,HU$36=2),\"令和元年\"&8,(IF((AND(HW$36>=1,HW$36<=5)),\"令和\"&HU$36-1&\"年\"&8,\"令和\"&HU$36&\"年\"&8)))))))","v":"令和年8"},null,null,null,{"$f":"IF(OR(IA86=\"\",IA$41=9),\"\",8)","v":8},{"$f":"IF(OR(IB86=\"\",ID$41=4),\"\",IF(AND(IC$36>=1,IC$36<=4,IA$36=31),\"平成\"&30&\"年\"&8,IF(AND(IC$36=5,IA$36=\"元\"),\"平成\"&30&\"年\"&8,IF(AND(IC$36>=6,IA$36=\"元\"),\"令和元年\"&8,IF(AND(IC$36>=1,IC$36<=5,IA$36=2),\"令和元年\"&8,(IF((AND(IC$36>=1,IC$36<=5)),\"令和\"&IA$36-1&\"年\"&8,\"令和\"&IA$36&\"年\"&8)))))))","v":"令和年8"},{"$f":"IF(OR(IB86=\"\",ID$41=4),\"\",IF(AND(IC$36>=1,IC$36<=4,IA$36=31),\"平成\"&30&\"年\"&8,IF(AND(IC$36=5,IA$36=\"元\"),\"平成\"&30&\"年\"&8,IF(AND(IC$36>=6,IA$36=\"元\"),\"令和元年\"&8,IF(AND(IC$36>=1,IC$36<=5,IA$36=2),\"令和元年\"&8,(IF((AND(IC$36>=1,IC$36<=5)),\"令和\"&IA$36-1&\"年\"&8,\"令和\"&IA$36&\"年\"&8)))))))","v":"令和年8"},null,null,null,{"$f":"IF(OR(IG86=\"\",IG$41=9),\"\",8)","v":8},{"$f":"IF(OR(IH86=\"\",IJ$41=4),\"\",IF(AND(II$36>=1,II$36<=4,IG$36=31),\"平成\"&30&\"年\"&8,IF(AND(II$36=5,IG$36=\"元\"),\"平成\"&30&\"年\"&8,IF(AND(II$36>=6,IG$36=\"元\"),\"令和元年\"&8,IF(AND(II$36>=1,II$36<=5,IG$36=2),\"令和元年\"&8,(IF((AND(II$36>=1,II$36<=5)),\"令和\"&IG$36-1&\"年\"&8,\"令和\"&IG$36&\"年\"&8)))))))","v":"令和年8"},{"$f":"IF(OR(IH86=\"\",IJ$41=4),\"\",IF(AND(II$36>=1,II$36<=4,IG$36=31),\"平成\"&30&\"年\"&8,IF(AND(II$36=5,IG$36=\"元\"),\"平成\"&30&\"年\"&8,IF(AND(II$36>=6,IG$36=\"元\"),\"令和元年\"&8,IF(AND(II$36>=1,II$36<=5,IG$36=2),\"令和元年\"&8,(IF((AND(II$36>=1,II$36<=5)),\"令和\"&IG$36-1&\"年\"&8,\"令和\"&IG$36&\"年\"&8)))))))","v":"令和年8"}]
[null,{"$f":"IF(AND(CG21<>\"\",CG25<>\"\",CI25<>\"\",CK25<>\"\"),CG17,\"\")","v":""},"平",10,"平10",null,{"$f":"IF(OR(G87=\"\",G$41=10),\"\",9)","v":9},{"$f":"IF(OR(H87=\"\",J$41=4),\"\",IF(AND(I$36>=1,I$36<=4,G$36=31),\"平成\"&30&\"年\"&9,IF(AND(I$36=5,G$36=\"元\"),\"平成\"&30&\"年\"&9,IF(AND(I$36>=6,G$36=\"元\"),\"令和元年\"&9,IF(AND(I$36>=1,I$36<=5,G$36=2),\"令和元年\"&9,(IF((AND(I$36>=1,I$36<=5)),\"令和\"&G$36-1&\"年\"&9,\"令和\"&G$36&\"年\"&9)))))))","v":"令和年9"},{"$f":"IF(OR(H87=\"\",J$41=4),\"\",IF(AND(I$36>=1,I$36<=4,G$36=31),\"平成\"&30&\"年\"&9,IF(AND(I$36=5,G$36=\"元\"),\"平成\"&30&\"年\"&9,IF(AND(I$36>=6,G$36=\"元\"),\"令和元年\"&9,IF(AND(I$36>=1,I$36<=5,G$36=2),\"令和元年\"&9,(IF((AND(I$36>=1,I$36<=5)),\"令和\"&G$36-1&\"年\"&9,\"令和\"&G$36&\"年\"&9)))))))","v":"令和年9"},null,null,null,{"$f":"IF(OR(M87=\"\",M$41=10),\"\",9)","v":9},{"$f":"IF(OR(N87=\"\",P$41=4),\"\",IF(AND(O$36>=1,O$36<=4,M$36=31),\"平成\"&30&\"年\"&9,IF(AND(O$36=5,M$36=\"元\"),\"平成\"&30&\"年\"&9,IF(AND(O$36>=6,M$36=\"元\"),\"令和元年\"&9,IF(AND(O$36>=1,O$36<=5,M$36=2),\"令和元年\"&9,(IF((AND(O$36>=1,O$36<=5)),\"令和\"&M$36-1&\"年\"&9,\"令和\"&M$36&\"年\"&9)))))))","v":"令和年9"},{"$f":"IF(OR(N87=\"\",P$41=4),\"\",IF(AND(O$36>=1,O$36<=4,M$36=31),\"平成\"&30&\"年\"&9,IF(AND(O$36=5,M$36=\"元\"),\"平成\"&30&\"年\"&9,IF(AND(O$36>=6,M$36=\"元\"),\"令和元年\"&9,IF(AND(O$36>=1,O$36<=5,M$36=2),\"令和元年\"&9,(IF((AND(O$36>=1,O$36<=5)),\"令和\"&M$36-1&\"年\"&9,\"令和\"&M$36&\"年\"&9)))))))","v":"令和年9"},null,null,null,{"$f":"IF(OR(S87=\"\",S$41=10),\"\",9)","v":9},{"$f":"IF(OR(T87=\"\",V$41=4),\"\",IF(AND(U$36>=1,U$36<=4,S$36=31),\"平成\"&30&\"年\"&9,IF(AND(U$36=5,S$36=\"元\"),\"平成\"&30&\"年\"&9,IF(AND(U$36>=6,S$36=\"元\"),\"令和元年\"&9,IF(AND(U$36>=1,U$36<=5,S$36=2),\"令和元年\"&9,(IF((AND(U$36>=1,U$36<=5)),\"令和\"&S$36-1&\"年\"&9,\"令和\"&S$36&\"年\"&9)))))))","v":"令和年9"},{"$f":"IF(OR(T87=\"\",V$41=4),\"\",IF(AND(U$36>=1,U$36<=4,S$36=31),\"平成\"&30&\"年\"&9,IF(AND(U$36=5,S$36=\"元\"),\"平成\"&30&\"年\"&9,IF(AND(U$36>=6,S$36=\"元\"),\"令和元年\"&9,IF(AND(U$36>=1,U$36<=5,S$36=2),\"令和元年\"&9,(IF((AND(U$36>=1,U$36<=5)),\"令和\"&S$36-1&\"年\"&9,\"令和\"&S$36&\"年\"&9)))))))","v":"令和年9"},null,null,null,{"$f":"IF(OR(Y87=\"\",Y$41=10),\"\",9)","v":9},{"$f":"IF(OR(Z87=\"\",AB$41=4),\"\",IF(AND(AA$36>=1,AA$36<=4,Y$36=31),\"平成\"&30&\"年\"&9,IF(AND(AA$36=5,Y$36=\"元\"),\"平成\"&30&\"年\"&9,IF(AND(AA$36>=6,Y$36=\"元\"),\"令和元年\"&9,IF(AND(AA$36>=1,AA$36<=5,Y$36=2),\"令和元年\"&9,(IF((AND(AA$36>=1,AA$36<=5)),\"令和\"&Y$36-1&\"年\"&9,\"令和\"&Y$36&\"年\"&9)))))))","v":"令和年9"},{"$f":"IF(OR(Z87=\"\",AB$41=4),\"\",IF(AND(AA$36>=1,AA$36<=4,Y$36=31),\"平成\"&30&\"年\"&9,IF(AND(AA$36=5,Y$36=\"元\"),\"平成\"&30&\"年\"&9,IF(AND(AA$36>=6,Y$36=\"元\"),\"令和元年\"&9,IF(AND(AA$36>=1,AA$36<=5,Y$36=2),\"令和元年\"&9,(IF((AND(AA$36>=1,AA$36<=5)),\"令和\"&Y$36-1&\"年\"&9,\"令和\"&Y$36&\"年\"&9)))))))","v":"令和年9"},null,null,null,{"$f":"IF(OR(AE87=\"\",AE$41=10),\"\",9)","v":9},{"$f":"IF(OR(AF87=\"\",AH$41=4),\"\",IF(AND(AG$36>=1,AG$36<=4,AE$36=31),\"平成\"&30&\"年\"&9,IF(AND(AG$36=5,AE$36=\"元\"),\"平成\"&30&\"年\"&9,IF(AND(AG$36>=6,AE$36=\"元\"),\"令和元年\"&9,IF(AND(AG$36>=1,AG$36<=5,AE$36=2),\"令和元年\"&9,(IF((AND(AG$36>=1,AG$36<=5)),\"令和\"&AE$36-1&\"年\"&9,\"令和\"&AE$36&\"年\"&9)))))))","v":"令和年9"},{"$f":"IF(OR(AF87=\"\",AH$41=4),\"\",IF(AND(AG$36>=1,AG$36<=4,AE$36=31),\"平成\"&30&\"年\"&9,IF(AND(AG$36=5,AE$36=\"元\"),\"平成\"&30&\"年\"&9,IF(AND(AG$36>=6,AE$36=\"元\"),\"令和元年\"&9,IF(AND(AG$36>=1,AG$36<=5,AE$36=2),\"令和元年\"&9,(IF((AND(AG$36>=1,AG$36<=5)),\"令和\"&AE$36-1&\"年\"&9,\"令和\"&AE$36&\"年\"&9)))))))","v":"令和年9"},null,null,null,{"$f":"IF(OR(AK87=\"\",AK$41=10),\"\",9)","v":9},{"$f":"IF(OR(AL87=\"\",AN$41=4),\"\",IF(AND(AM$36>=1,AM$36<=4,AK$36=31),\"平成\"&30&\"年\"&9,IF(AND(AM$36=5,AK$36=\"元\"),\"平成\"&30&\"年\"&9,IF(AND(AM$36>=6,AK$36=\"元\"),\"令和元年\"&9,IF(AND(AM$36>=1,AM$36<=5,AK$36=2),\"令和元年\"&9,(IF((AND(AM$36>=1,AM$36<=5)),\"令和\"&AK$36-1&\"年\"&9,\"令和\"&AK$36&\"年\"&9)))))))","v":"令和年9"},{"$f":"IF(OR(AL87=\"\",AN$41=4),\"\",IF(AND(AM$36>=1,AM$36<=4,AK$36=31),\"平成\"&30&\"年\"&9,IF(AND(AM$36=5,AK$36=\"元\"),\"平成\"&30&\"年\"&9,IF(AND(AM$36>=6,AK$36=\"元\"),\"令和元年\"&9,IF(AND(AM$36>=1,AM$36<=5,AK$36=2),\"令和元年\"&9,(IF((AND(AM$36>=1,AM$36<=5)),\"令和\"&AK$36-1&\"年\"&9,\"令和\"&AK$36&\"年\"&9)))))))","v":"令和年9"},null,null,null,{"$f":"IF(OR(AQ87=\"\",AQ$41=10),\"\",9)","v":9},{"$f":"IF(OR(AR87=\"\",AT$41=4),\"\",IF(AND(AS$36>=1,AS$36<=4,AQ$36=31),\"平成\"&30&\"年\"&9,IF(AND(AS$36=5,AQ$36=\"元\"),\"平成\"&30&\"年\"&9,IF(AND(AS$36>=6,AQ$36=\"元\"),\"令和元年\"&9,IF(AND(AS$36>=1,AS$36<=5,AQ$36=2),\"令和元年\"&9,(IF((AND(AS$36>=1,AS$36<=5)),\"令和\"&AQ$36-1&\"年\"&9,\"令和\"&AQ$36&\"年\"&9)))))))","v":"令和年9"},{"$f":"IF(OR(AR87=\"\",AT$41=4),\"\",IF(AND(AS$36>=1,AS$36<=4,AQ$36=31),\"平成\"&30&\"年\"&9,IF(AND(AS$36=5,AQ$36=\"元\"),\"平成\"&30&\"年\"&9,IF(AND(AS$36>=6,AQ$36=\"元\"),\"令和元年\"&9,IF(AND(AS$36>=1,AS$36<=5,AQ$36=2),\"令和元年\"&9,(IF((AND(AS$36>=1,AS$36<=5)),\"令和\"&AQ$36-1&\"年\"&9,\"令和\"&AQ$36&\"年\"&9)))))))","v":"令和年9"},null,null,null,{"$f":"IF(OR(AW87=\"\",AW$41=10),\"\",9)","v":9},{"$f":"IF(OR(AX87=\"\",AZ$41=4),\"\",IF(AND(AY$36>=1,AY$36<=4,AW$36=31),\"平成\"&30&\"年\"&9,IF(AND(AY$36=5,AW$36=\"元\"),\"平成\"&30&\"年\"&9,IF(AND(AY$36>=6,AW$36=\"元\"),\"令和元年\"&9,IF(AND(AY$36>=1,AY$36<=5,AW$36=2),\"令和元年\"&9,(IF((AND(AY$36>=1,AY$36<=5)),\"令和\"&AW$36-1&\"年\"&9,\"令和\"&AW$36&\"年\"&9)))))))","v":"令和年9"},{"$f":"IF(OR(AX87=\"\",AZ$41=4),\"\",IF(AND(AY$36>=1,AY$36<=4,AW$36=31),\"平成\"&30&\"年\"&9,IF(AND(AY$36=5,AW$36=\"元\"),\"平成\"&30&\"年\"&9,IF(AND(AY$36>=6,AW$36=\"元\"),\"令和元年\"&9,IF(AND(AY$36>=1,AY$36<=5,AW$36=2),\"令和元年\"&9,(IF((AND(AY$36>=1,AY$36<=5)),\"令和\"&AW$36-1&\"年\"&9,\"令和\"&AW$36&\"年\"&9)))))))","v":"令和年9"},null,null,null,{"$f":"IF(OR(BC87=\"\",BC$41=10),\"\",9)","v":9},{"$f":"IF(OR(BD87=\"\",BF$41=4),\"\",IF(AND(BE$36>=1,BE$36<=4,BC$36=31),\"平成\"&30&\"年\"&9,IF(AND(BE$36=5,BC$36=\"元\"),\"平成\"&30&\"年\"&9,IF(AND(BE$36>=6,BC$36=\"元\"),\"令和元年\"&9,IF(AND(BE$36>=1,BE$36<=5,BC$36=2),\"令和元年\"&9,(IF((AND(BE$36>=1,BE$36<=5)),\"令和\"&BC$36-1&\"年\"&9,\"令和\"&BC$36&\"年\"&9)))))))","v":"令和年9"},{"$f":"IF(OR(BD87=\"\",BF$41=4),\"\",IF(AND(BE$36>=1,BE$36<=4,BC$36=31),\"平成\"&30&\"年\"&9,IF(AND(BE$36=5,BC$36=\"元\"),\"平成\"&30&\"年\"&9,IF(AND(BE$36>=6,BC$36=\"元\"),\"令和元年\"&9,IF(AND(BE$36>=1,BE$36<=5,BC$36=2),\"令和元年\"&9,(IF((AND(BE$36>=1,BE$36<=5)),\"令和\"&BC$36-1&\"年\"&9,\"令和\"&BC$36&\"年\"&9)))))))","v":"令和年9"},null,null,null,{"$f":"IF(OR(BI87=\"\",BI$41=10),\"\",9)","v":9},{"$f":"IF(OR(BJ87=\"\",BL$41=4),\"\",IF(AND(BK$36>=1,BK$36<=4,BI$36=31),\"平成\"&30&\"年\"&9,IF(AND(BK$36=5,BI$36=\"元\"),\"平成\"&30&\"年\"&9,IF(AND(BK$36>=6,BI$36=\"元\"),\"令和元年\"&9,IF(AND(BK$36>=1,BK$36<=5,BI$36=2),\"令和元年\"&9,(IF((AND(BK$36>=1,BK$36<=5)),\"令和\"&BI$36-1&\"年\"&9,\"令和\"&BI$36&\"年\"&9)))))))","v":"令和年9"},{"$f":"IF(OR(BJ87=\"\",BL$41=4),\"\",IF(AND(BK$36>=1,BK$36<=4,BI$36=31),\"平成\"&30&\"年\"&9,IF(AND(BK$36=5,BI$36=\"元\"),\"平成\"&30&\"年\"&9,IF(AND(BK$36>=6,BI$36=\"元\"),\"令和元年\"&9,IF(AND(BK$36>=1,BK$36<=5,BI$36=2),\"令和元年\"&9,(IF((AND(BK$36>=1,BK$36<=5)),\"令和\"&BI$36-1&\"年\"&9,\"令和\"&BI$36&\"年\"&9)))))))","v":"令和年9"},null,null,null,{"$f":"IF(OR(BO87=\"\",BO$41=10),\"\",9)","v":9},{"$f":"IF(OR(BP87=\"\",BR$41=4),\"\",IF(AND(BQ$36>=1,BQ$36<=4,BO$36=31),\"平成\"&30&\"年\"&9,IF(AND(BQ$36=5,BO$36=\"元\"),\"平成\"&30&\"年\"&9,IF(AND(BQ$36>=6,BO$36=\"元\"),\"令和元年\"&9,IF(AND(BQ$36>=1,BQ$36<=5,BO$36=2),\"令和元年\"&9,(IF((AND(BQ$36>=1,BQ$36<=5)),\"令和\"&BO$36-1&\"年\"&9,\"令和\"&BO$36&\"年\"&9)))))))","v":"令和年9"},{"$f":"IF(OR(BP87=\"\",BR$41=4),\"\",IF(AND(BQ$36>=1,BQ$36<=4,BO$36=31),\"平成\"&30&\"年\"&9,IF(AND(BQ$36=5,BO$36=\"元\"),\"平成\"&30&\"年\"&9,IF(AND(BQ$36>=6,BO$36=\"元\"),\"令和元年\"&9,IF(AND(BQ$36>=1,BQ$36<=5,BO$36=2),\"令和元年\"&9,(IF((AND(BQ$36>=1,BQ$36<=5)),\"令和\"&BO$36-1&\"年\"&9,\"令和\"&BO$36&\"年\"&9)))))))","v":"令和年9"},null,null,null,{"$f":"IF(OR(BU87=\"\",BU$41=10),\"\",9)","v":9},{"$f":"IF(OR(BV87=\"\",BX$41=4),\"\",IF(AND(BW$36>=1,BW$36<=4,BU$36=31),\"平成\"&30&\"年\"&9,IF(AND(BW$36=5,BU$36=\"元\"),\"平成\"&30&\"年\"&9,IF(AND(BW$36>=6,BU$36=\"元\"),\"令和元年\"&9,IF(AND(BW$36>=1,BW$36<=5,BU$36=2),\"令和元年\"&9,(IF((AND(BW$36>=1,BW$36<=5)),\"令和\"&BU$36-1&\"年\"&9,\"令和\"&BU$36&\"年\"&9)))))))","v":"令和年9"},{"$f":"IF(OR(BV87=\"\",BX$41=4),\"\",IF(AND(BW$36>=1,BW$36<=4,BU$36=31),\"平成\"&30&\"年\"&9,IF(AND(BW$36=5,BU$36=\"元\"),\"平成\"&30&\"年\"&9,IF(AND(BW$36>=6,BU$36=\"元\"),\"令和元年\"&9,IF(AND(BW$36>=1,BW$36<=5,BU$36=2),\"令和元年\"&9,(IF((AND(BW$36>=1,BW$36<=5)),\"令和\"&BU$36-1&\"年\"&9,\"令和\"&BU$36&\"年\"&9)))))))","v":"令和年9"},null,null,null,{"$f":"IF(OR(CA87=\"\",CA$41=10),\"\",9)","v":9},{"$f":"IF(OR(CB87=\"\",CD$41=4),\"\",IF(AND(CC$36>=1,CC$36<=4,CA$36=31),\"平成\"&30&\"年\"&9,IF(AND(CC$36=5,CA$36=\"元\"),\"平成\"&30&\"年\"&9,IF(AND(CC$36>=6,CA$36=\"元\"),\"令和元年\"&9,IF(AND(CC$36>=1,CC$36<=5,CA$36=2),\"令和元年\"&9,(IF((AND(CC$36>=1,CC$36<=5)),\"令和\"&CA$36-1&\"年\"&9,\"令和\"&CA$36&\"年\"&9)))))))","v":"令和年9"},{"$f":"IF(OR(CB87=\"\",CD$41=4),\"\",IF(AND(CC$36>=1,CC$36<=4,CA$36=31),\"平成\"&30&\"年\"&9,IF(AND(CC$36=5,CA$36=\"元\"),\"平成\"&30&\"年\"&9,IF(AND(CC$36>=6,CA$36=\"元\"),\"令和元年\"&9,IF(AND(CC$36>=1,CC$36<=5,CA$36=2),\"令和元年\"&9,(IF((AND(CC$36>=1,CC$36<=5)),\"令和\"&CA$36-1&\"年\"&9,\"令和\"&CA$36&\"年\"&9)))))))","v":"令和年9"},null,null,null,{"$f":"IF(OR(CG87=\"\",CG$41=10),\"\",9)","v":9},{"$f":"IF(OR(CH87=\"\",CJ$41=4),\"\",IF(AND(CI$36>=1,CI$36<=4,CG$36=31),\"平成\"&30&\"年\"&9,IF(AND(CI$36=5,CG$36=\"元\"),\"平成\"&30&\"年\"&9,IF(AND(CI$36>=6,CG$36=\"元\"),\"令和元年\"&9,IF(AND(CI$36>=1,CI$36<=5,CG$36=2),\"令和元年\"&9,(IF((AND(CI$36>=1,CI$36<=5)),\"令和\"&CG$36-1&\"年\"&9,\"令和\"&CG$36&\"年\"&9)))))))","v":"令和年9"},{"$f":"IF(OR(CH87=\"\",CJ$41=4),\"\",IF(AND(CI$36>=1,CI$36<=4,CG$36=31),\"平成\"&30&\"年\"&9,IF(AND(CI$36=5,CG$36=\"元\"),\"平成\"&30&\"年\"&9,IF(AND(CI$36>=6,CG$36=\"元\"),\"令和元年\"&9,IF(AND(CI$36>=1,CI$36<=5,CG$36=2),\"令和元年\"&9,(IF((AND(CI$36>=1,CI$36<=5)),\"令和\"&CG$36-1&\"年\"&9,\"令和\"&CG$36&\"年\"&9)))))))","v":"令和年9"},null,null,null,{"$f":"IF(OR(CM87=\"\",CM$41=10),\"\",9)","v":9},{"$f":"IF(OR(CN87=\"\",CP$41=4),\"\",IF(AND(CO$36>=1,CO$36<=4,CM$36=31),\"平成\"&30&\"年\"&9,IF(AND(CO$36=5,CM$36=\"元\"),\"平成\"&30&\"年\"&9,IF(AND(CO$36>=6,CM$36=\"元\"),\"令和元年\"&9,IF(AND(CO$36>=1,CO$36<=5,CM$36=2),\"令和元年\"&9,(IF((AND(CO$36>=1,CO$36<=5)),\"令和\"&CM$36-1&\"年\"&9,\"令和\"&CM$36&\"年\"&9)))))))","v":"令和年9"},{"$f":"IF(OR(CN87=\"\",CP$41=4),\"\",IF(AND(CO$36>=1,CO$36<=4,CM$36=31),\"平成\"&30&\"年\"&9,IF(AND(CO$36=5,CM$36=\"元\"),\"平成\"&30&\"年\"&9,IF(AND(CO$36>=6,CM$36=\"元\"),\"令和元年\"&9,IF(AND(CO$36>=1,CO$36<=5,CM$36=2),\"令和元年\"&9,(IF((AND(CO$36>=1,CO$36<=5)),\"令和\"&CM$36-1&\"年\"&9,\"令和\"&CM$36&\"年\"&9)))))))","v":"令和年9"},null,null,null,{"$f":"IF(OR(CS87=\"\",CS$41=10),\"\",9)","v":9},{"$f":"IF(OR(CT87=\"\",CV$41=4),\"\",IF(AND(CU$36>=1,CU$36<=4,CS$36=31),\"平成\"&30&\"年\"&9,IF(AND(CU$36=5,CS$36=\"元\"),\"平成\"&30&\"年\"&9,IF(AND(CU$36>=6,CS$36=\"元\"),\"令和元年\"&9,IF(AND(CU$36>=1,CU$36<=5,CS$36=2),\"令和元年\"&9,(IF((AND(CU$36>=1,CU$36<=5)),\"令和\"&CS$36-1&\"年\"&9,\"令和\"&CS$36&\"年\"&9)))))))","v":"令和年9"},{"$f":"IF(OR(CT87=\"\",CV$41=4),\"\",IF(AND(CU$36>=1,CU$36<=4,CS$36=31),\"平成\"&30&\"年\"&9,IF(AND(CU$36=5,CS$36=\"元\"),\"平成\"&30&\"年\"&9,IF(AND(CU$36>=6,CS$36=\"元\"),\"令和元年\"&9,IF(AND(CU$36>=1,CU$36<=5,CS$36=2),\"令和元年\"&9,(IF((AND(CU$36>=1,CU$36<=5)),\"令和\"&CS$36-1&\"年\"&9,\"令和\"&CS$36&\"年\"&9)))))))","v":"令和年9"},null,null,null,{"$f":"IF(OR(CY87=\"\",CY$41=10),\"\",9)","v":9},{"$f":"IF(OR(CZ87=\"\",DB$41=4),\"\",IF(AND(DA$36>=1,DA$36<=4,CY$36=31),\"平成\"&30&\"年\"&9,IF(AND(DA$36=5,CY$36=\"元\"),\"平成\"&30&\"年\"&9,IF(AND(DA$36>=6,CY$36=\"元\"),\"令和元年\"&9,IF(AND(DA$36>=1,DA$36<=5,CY$36=2),\"令和元年\"&9,(IF((AND(DA$36>=1,DA$36<=5)),\"令和\"&CY$36-1&\"年\"&9,\"令和\"&CY$36&\"年\"&9)))))))","v":"令和年9"},{"$f":"IF(OR(CZ87=\"\",DB$41=4),\"\",IF(AND(DA$36>=1,DA$36<=4,CY$36=31),\"平成\"&30&\"年\"&9,IF(AND(DA$36=5,CY$36=\"元\"),\"平成\"&30&\"年\"&9,IF(AND(DA$36>=6,CY$36=\"元\"),\"令和元年\"&9,IF(AND(DA$36>=1,DA$36<=5,CY$36=2),\"令和元年\"&9,(IF((AND(DA$36>=1,DA$36<=5)),\"令和\"&CY$36-1&\"年\"&9,\"令和\"&CY$36&\"年\"&9)))))))","v":"令和年9"},null,null,null,{"$f":"IF(OR(DE87=\"\",DE$41=10),\"\",9)","v":9},{"$f":"IF(OR(DF87=\"\",DH$41=4),\"\",IF(AND(DG$36>=1,DG$36<=4,DE$36=31),\"平成\"&30&\"年\"&9,IF(AND(DG$36=5,DE$36=\"元\"),\"平成\"&30&\"年\"&9,IF(AND(DG$36>=6,DE$36=\"元\"),\"令和元年\"&9,IF(AND(DG$36>=1,DG$36<=5,DE$36=2),\"令和元年\"&9,(IF((AND(DG$36>=1,DG$36<=5)),\"令和\"&DE$36-1&\"年\"&9,\"令和\"&DE$36&\"年\"&9)))))))","v":"令和年9"},{"$f":"IF(OR(DF87=\"\",DH$41=4),\"\",IF(AND(DG$36>=1,DG$36<=4,DE$36=31),\"平成\"&30&\"年\"&9,IF(AND(DG$36=5,DE$36=\"元\"),\"平成\"&30&\"年\"&9,IF(AND(DG$36>=6,DE$36=\"元\"),\"令和元年\"&9,IF(AND(DG$36>=1,DG$36<=5,DE$36=2),\"令和元年\"&9,(IF((AND(DG$36>=1,DG$36<=5)),\"令和\"&DE$36-1&\"年\"&9,\"令和\"&DE$36&\"年\"&9)))))))","v":"令和年9"},null,null,null,{"$f":"IF(OR(DK87=\"\",DK$41=10),\"\",9)","v":9},{"$f":"IF(OR(DL87=\"\",DN$41=4),\"\",IF(AND(DM$36>=1,DM$36<=4,DK$36=31),\"平成\"&30&\"年\"&9,IF(AND(DM$36=5,DK$36=\"元\"),\"平成\"&30&\"年\"&9,IF(AND(DM$36>=6,DK$36=\"元\"),\"令和元年\"&9,IF(AND(DM$36>=1,DM$36<=5,DK$36=2),\"令和元年\"&9,(IF((AND(DM$36>=1,DM$36<=5)),\"令和\"&DK$36-1&\"年\"&9,\"令和\"&DK$36&\"年\"&9)))))))","v":"令和年9"},{"$f":"IF(OR(DL87=\"\",DN$41=4),\"\",IF(AND(DM$36>=1,DM$36<=4,DK$36=31),\"平成\"&30&\"年\"&9,IF(AND(DM$36=5,DK$36=\"元\"),\"平成\"&30&\"年\"&9,IF(AND(DM$36>=6,DK$36=\"元\"),\"令和元年\"&9,IF(AND(DM$36>=1,DM$36<=5,DK$36=2),\"令和元年\"&9,(IF((AND(DM$36>=1,DM$36<=5)),\"令和\"&DK$36-1&\"年\"&9,\"令和\"&DK$36&\"年\"&9)))))))","v":"令和年9"},null,null,null,{"$f":"IF(OR(DQ87=\"\",DQ$41=10),\"\",9)","v":9},{"$f":"IF(OR(DR87=\"\",DT$41=4),\"\",IF(AND(DS$36>=1,DS$36<=4,DQ$36=31),\"平成\"&30&\"年\"&9,IF(AND(DS$36=5,DQ$36=\"元\"),\"平成\"&30&\"年\"&9,IF(AND(DS$36>=6,DQ$36=\"元\"),\"令和元年\"&9,IF(AND(DS$36>=1,DS$36<=5,DQ$36=2),\"令和元年\"&9,(IF((AND(DS$36>=1,DS$36<=5)),\"令和\"&DQ$36-1&\"年\"&9,\"令和\"&DQ$36&\"年\"&9)))))))","v":"令和年9"},{"$f":"IF(OR(DR87=\"\",DT$41=4),\"\",IF(AND(DS$36>=1,DS$36<=4,DQ$36=31),\"平成\"&30&\"年\"&9,IF(AND(DS$36=5,DQ$36=\"元\"),\"平成\"&30&\"年\"&9,IF(AND(DS$36>=6,DQ$36=\"元\"),\"令和元年\"&9,IF(AND(DS$36>=1,DS$36<=5,DQ$36=2),\"令和元年\"&9,(IF((AND(DS$36>=1,DS$36<=5)),\"令和\"&DQ$36-1&\"年\"&9,\"令和\"&DQ$36&\"年\"&9)))))))","v":"令和年9"},null,null,null,{"$f":"IF(OR(DW87=\"\",DW$41=10),\"\",9)","v":9},{"$f":"IF(OR(DX87=\"\",DZ$41=4),\"\",IF(AND(DY$36>=1,DY$36<=4,DW$36=31),\"平成\"&30&\"年\"&9,IF(AND(DY$36=5,DW$36=\"元\"),\"平成\"&30&\"年\"&9,IF(AND(DY$36>=6,DW$36=\"元\"),\"令和元年\"&9,IF(AND(DY$36>=1,DY$36<=5,DW$36=2),\"令和元年\"&9,(IF((AND(DY$36>=1,DY$36<=5)),\"令和\"&DW$36-1&\"年\"&9,\"令和\"&DW$36&\"年\"&9)))))))","v":"令和年9"},{"$f":"IF(OR(DX87=\"\",DZ$41=4),\"\",IF(AND(DY$36>=1,DY$36<=4,DW$36=31),\"平成\"&30&\"年\"&9,IF(AND(DY$36=5,DW$36=\"元\"),\"平成\"&30&\"年\"&9,IF(AND(DY$36>=6,DW$36=\"元\"),\"令和元年\"&9,IF(AND(DY$36>=1,DY$36<=5,DW$36=2),\"令和元年\"&9,(IF((AND(DY$36>=1,DY$36<=5)),\"令和\"&DW$36-1&\"年\"&9,\"令和\"&DW$36&\"年\"&9)))))))","v":"令和年9"},null,null,null,{"$f":"IF(OR(EC87=\"\",EC$41=10),\"\",9)","v":9},{"$f":"IF(OR(ED87=\"\",EF$41=4),\"\",IF(AND(EE$36>=1,EE$36<=4,EC$36=31),\"平成\"&30&\"年\"&9,IF(AND(EE$36=5,EC$36=\"元\"),\"平成\"&30&\"年\"&9,IF(AND(EE$36>=6,EC$36=\"元\"),\"令和元年\"&9,IF(AND(EE$36>=1,EE$36<=5,EC$36=2),\"令和元年\"&9,(IF((AND(EE$36>=1,EE$36<=5)),\"令和\"&EC$36-1&\"年\"&9,\"令和\"&EC$36&\"年\"&9)))))))","v":"令和年9"},{"$f":"IF(OR(ED87=\"\",EF$41=4),\"\",IF(AND(EE$36>=1,EE$36<=4,EC$36=31),\"平成\"&30&\"年\"&9,IF(AND(EE$36=5,EC$36=\"元\"),\"平成\"&30&\"年\"&9,IF(AND(EE$36>=6,EC$36=\"元\"),\"令和元年\"&9,IF(AND(EE$36>=1,EE$36<=5,EC$36=2),\"令和元年\"&9,(IF((AND(EE$36>=1,EE$36<=5)),\"令和\"&EC$36-1&\"年\"&9,\"令和\"&EC$36&\"年\"&9)))))))","v":"令和年9"},null,null,null,{"$f":"IF(OR(EI87=\"\",EI$41=10),\"\",9)","v":9},{"$f":"IF(OR(EJ87=\"\",EL$41=4),\"\",IF(AND(EK$36>=1,EK$36<=4,EI$36=31),\"平成\"&30&\"年\"&9,IF(AND(EK$36=5,EI$36=\"元\"),\"平成\"&30&\"年\"&9,IF(AND(EK$36>=6,EI$36=\"元\"),\"令和元年\"&9,IF(AND(EK$36>=1,EK$36<=5,EI$36=2),\"令和元年\"&9,(IF((AND(EK$36>=1,EK$36<=5)),\"令和\"&EI$36-1&\"年\"&9,\"令和\"&EI$36&\"年\"&9)))))))","v":"令和年9"},{"$f":"IF(OR(EJ87=\"\",EL$41=4),\"\",IF(AND(EK$36>=1,EK$36<=4,EI$36=31),\"平成\"&30&\"年\"&9,IF(AND(EK$36=5,EI$36=\"元\"),\"平成\"&30&\"年\"&9,IF(AND(EK$36>=6,EI$36=\"元\"),\"令和元年\"&9,IF(AND(EK$36>=1,EK$36<=5,EI$36=2),\"令和元年\"&9,(IF((AND(EK$36>=1,EK$36<=5)),\"令和\"&EI$36-1&\"年\"&9,\"令和\"&EI$36&\"年\"&9)))))))","v":"令和年9"},null,null,null,{"$f":"IF(OR(EO87=\"\",EO$41=10),\"\",9)","v":9},{"$f":"IF(OR(EP87=\"\",ER$41=4),\"\",IF(AND(EQ$36>=1,EQ$36<=4,EO$36=31),\"平成\"&30&\"年\"&9,IF(AND(EQ$36=5,EO$36=\"元\"),\"平成\"&30&\"年\"&9,IF(AND(EQ$36>=6,EO$36=\"元\"),\"令和元年\"&9,IF(AND(EQ$36>=1,EQ$36<=5,EO$36=2),\"令和元年\"&9,(IF((AND(EQ$36>=1,EQ$36<=5)),\"令和\"&EO$36-1&\"年\"&9,\"令和\"&EO$36&\"年\"&9)))))))","v":"令和年9"},{"$f":"IF(OR(EP87=\"\",ER$41=4),\"\",IF(AND(EQ$36>=1,EQ$36<=4,EO$36=31),\"平成\"&30&\"年\"&9,IF(AND(EQ$36=5,EO$36=\"元\"),\"平成\"&30&\"年\"&9,IF(AND(EQ$36>=6,EO$36=\"元\"),\"令和元年\"&9,IF(AND(EQ$36>=1,EQ$36<=5,EO$36=2),\"令和元年\"&9,(IF((AND(EQ$36>=1,EQ$36<=5)),\"令和\"&EO$36-1&\"年\"&9,\"令和\"&EO$36&\"年\"&9)))))))","v":"令和年9"},null,null,null,{"$f":"IF(OR(EU87=\"\",EU$41=10),\"\",9)","v":9},{"$f":"IF(OR(EV87=\"\",EX$41=4),\"\",IF(AND(EW$36>=1,EW$36<=4,EU$36=31),\"平成\"&30&\"年\"&9,IF(AND(EW$36=5,EU$36=\"元\"),\"平成\"&30&\"年\"&9,IF(AND(EW$36>=6,EU$36=\"元\"),\"令和元年\"&9,IF(AND(EW$36>=1,EW$36<=5,EU$36=2),\"令和元年\"&9,(IF((AND(EW$36>=1,EW$36<=5)),\"令和\"&EU$36-1&\"年\"&9,\"令和\"&EU$36&\"年\"&9)))))))","v":"令和年9"},{"$f":"IF(OR(EV87=\"\",EX$41=4),\"\",IF(AND(EW$36>=1,EW$36<=4,EU$36=31),\"平成\"&30&\"年\"&9,IF(AND(EW$36=5,EU$36=\"元\"),\"平成\"&30&\"年\"&9,IF(AND(EW$36>=6,EU$36=\"元\"),\"令和元年\"&9,IF(AND(EW$36>=1,EW$36<=5,EU$36=2),\"令和元年\"&9,(IF((AND(EW$36>=1,EW$36<=5)),\"令和\"&EU$36-1&\"年\"&9,\"令和\"&EU$36&\"年\"&9)))))))","v":"令和年9"},null,null,null,{"$f":"IF(OR(FA87=\"\",FA$41=10),\"\",9)","v":9},{"$f":"IF(OR(FB87=\"\",FD$41=4),\"\",IF(AND(FC$36>=1,FC$36<=4,FA$36=31),\"平成\"&30&\"年\"&9,IF(AND(FC$36=5,FA$36=\"元\"),\"平成\"&30&\"年\"&9,IF(AND(FC$36>=6,FA$36=\"元\"),\"令和元年\"&9,IF(AND(FC$36>=1,FC$36<=5,FA$36=2),\"令和元年\"&9,(IF((AND(FC$36>=1,FC$36<=5)),\"令和\"&FA$36-1&\"年\"&9,\"令和\"&FA$36&\"年\"&9)))))))","v":"令和年9"},{"$f":"IF(OR(FB87=\"\",FD$41=4),\"\",IF(AND(FC$36>=1,FC$36<=4,FA$36=31),\"平成\"&30&\"年\"&9,IF(AND(FC$36=5,FA$36=\"元\"),\"平成\"&30&\"年\"&9,IF(AND(FC$36>=6,FA$36=\"元\"),\"令和元年\"&9,IF(AND(FC$36>=1,FC$36<=5,FA$36=2),\"令和元年\"&9,(IF((AND(FC$36>=1,FC$36<=5)),\"令和\"&FA$36-1&\"年\"&9,\"令和\"&FA$36&\"年\"&9)))))))","v":"令和年9"},null,null,null,{"$f":"IF(OR(FG87=\"\",FG$41=10),\"\",9)","v":9},{"$f":"IF(OR(FH87=\"\",FJ$41=4),\"\",IF(AND(FI$36>=1,FI$36<=4,FG$36=31),\"平成\"&30&\"年\"&9,IF(AND(FI$36=5,FG$36=\"元\"),\"平成\"&30&\"年\"&9,IF(AND(FI$36>=6,FG$36=\"元\"),\"令和元年\"&9,IF(AND(FI$36>=1,FI$36<=5,FG$36=2),\"令和元年\"&9,(IF((AND(FI$36>=1,FI$36<=5)),\"令和\"&FG$36-1&\"年\"&9,\"令和\"&FG$36&\"年\"&9)))))))","v":"令和年9"},{"$f":"IF(OR(FH87=\"\",FJ$41=4),\"\",IF(AND(FI$36>=1,FI$36<=4,FG$36=31),\"平成\"&30&\"年\"&9,IF(AND(FI$36=5,FG$36=\"元\"),\"平成\"&30&\"年\"&9,IF(AND(FI$36>=6,FG$36=\"元\"),\"令和元年\"&9,IF(AND(FI$36>=1,FI$36<=5,FG$36=2),\"令和元年\"&9,(IF((AND(FI$36>=1,FI$36<=5)),\"令和\"&FG$36-1&\"年\"&9,\"令和\"&FG$36&\"年\"&9)))))))","v":"令和年9"},null,null,null,{"$f":"IF(OR(FM87=\"\",FM$41=10),\"\",9)","v":9},{"$f":"IF(OR(FN87=\"\",FP$41=4),\"\",IF(AND(FO$36>=1,FO$36<=4,FM$36=31),\"平成\"&30&\"年\"&9,IF(AND(FO$36=5,FM$36=\"元\"),\"平成\"&30&\"年\"&9,IF(AND(FO$36>=6,FM$36=\"元\"),\"令和元年\"&9,IF(AND(FO$36>=1,FO$36<=5,FM$36=2),\"令和元年\"&9,(IF((AND(FO$36>=1,FO$36<=5)),\"令和\"&FM$36-1&\"年\"&9,\"令和\"&FM$36&\"年\"&9)))))))","v":"令和年9"},{"$f":"IF(OR(FN87=\"\",FP$41=4),\"\",IF(AND(FO$36>=1,FO$36<=4,FM$36=31),\"平成\"&30&\"年\"&9,IF(AND(FO$36=5,FM$36=\"元\"),\"平成\"&30&\"年\"&9,IF(AND(FO$36>=6,FM$36=\"元\"),\"令和元年\"&9,IF(AND(FO$36>=1,FO$36<=5,FM$36=2),\"令和元年\"&9,(IF((AND(FO$36>=1,FO$36<=5)),\"令和\"&FM$36-1&\"年\"&9,\"令和\"&FM$36&\"年\"&9)))))))","v":"令和年9"},null,null,null,{"$f":"IF(OR(FS87=\"\",FS$41=10),\"\",9)","v":9},{"$f":"IF(OR(FT87=\"\",FV$41=4),\"\",IF(AND(FU$36>=1,FU$36<=4,FS$36=31),\"平成\"&30&\"年\"&9,IF(AND(FU$36=5,FS$36=\"元\"),\"平成\"&30&\"年\"&9,IF(AND(FU$36>=6,FS$36=\"元\"),\"令和元年\"&9,IF(AND(FU$36>=1,FU$36<=5,FS$36=2),\"令和元年\"&9,(IF((AND(FU$36>=1,FU$36<=5)),\"令和\"&FS$36-1&\"年\"&9,\"令和\"&FS$36&\"年\"&9)))))))","v":"令和年9"},{"$f":"IF(OR(FT87=\"\",FV$41=4),\"\",IF(AND(FU$36>=1,FU$36<=4,FS$36=31),\"平成\"&30&\"年\"&9,IF(AND(FU$36=5,FS$36=\"元\"),\"平成\"&30&\"年\"&9,IF(AND(FU$36>=6,FS$36=\"元\"),\"令和元年\"&9,IF(AND(FU$36>=1,FU$36<=5,FS$36=2),\"令和元年\"&9,(IF((AND(FU$36>=1,FU$36<=5)),\"令和\"&FS$36-1&\"年\"&9,\"令和\"&FS$36&\"年\"&9)))))))","v":"令和年9"},null,null,null,{"$f":"IF(OR(FY87=\"\",FY$41=10),\"\",9)","v":9},{"$f":"IF(OR(FZ87=\"\",GB$41=4),\"\",IF(AND(GA$36>=1,GA$36<=4,FY$36=31),\"平成\"&30&\"年\"&9,IF(AND(GA$36=5,FY$36=\"元\"),\"平成\"&30&\"年\"&9,IF(AND(GA$36>=6,FY$36=\"元\"),\"令和元年\"&9,IF(AND(GA$36>=1,GA$36<=5,FY$36=2),\"令和元年\"&9,(IF((AND(GA$36>=1,GA$36<=5)),\"令和\"&FY$36-1&\"年\"&9,\"令和\"&FY$36&\"年\"&9)))))))","v":"令和年9"},{"$f":"IF(OR(FZ87=\"\",GB$41=4),\"\",IF(AND(GA$36>=1,GA$36<=4,FY$36=31),\"平成\"&30&\"年\"&9,IF(AND(GA$36=5,FY$36=\"元\"),\"平成\"&30&\"年\"&9,IF(AND(GA$36>=6,FY$36=\"元\"),\"令和元年\"&9,IF(AND(GA$36>=1,GA$36<=5,FY$36=2),\"令和元年\"&9,(IF((AND(GA$36>=1,GA$36<=5)),\"令和\"&FY$36-1&\"年\"&9,\"令和\"&FY$36&\"年\"&9)))))))","v":"令和年9"},null,null,null,{"$f":"IF(OR(GE87=\"\",GE$41=10),\"\",9)","v":9},{"$f":"IF(OR(GF87=\"\",GH$41=4),\"\",IF(AND(GG$36>=1,GG$36<=4,GE$36=31),\"平成\"&30&\"年\"&9,IF(AND(GG$36=5,GE$36=\"元\"),\"平成\"&30&\"年\"&9,IF(AND(GG$36>=6,GE$36=\"元\"),\"令和元年\"&9,IF(AND(GG$36>=1,GG$36<=5,GE$36=2),\"令和元年\"&9,(IF((AND(GG$36>=1,GG$36<=5)),\"令和\"&GE$36-1&\"年\"&9,\"令和\"&GE$36&\"年\"&9)))))))","v":"令和年9"},{"$f":"IF(OR(GF87=\"\",GH$41=4),\"\",IF(AND(GG$36>=1,GG$36<=4,GE$36=31),\"平成\"&30&\"年\"&9,IF(AND(GG$36=5,GE$36=\"元\"),\"平成\"&30&\"年\"&9,IF(AND(GG$36>=6,GE$36=\"元\"),\"令和元年\"&9,IF(AND(GG$36>=1,GG$36<=5,GE$36=2),\"令和元年\"&9,(IF((AND(GG$36>=1,GG$36<=5)),\"令和\"&GE$36-1&\"年\"&9,\"令和\"&GE$36&\"年\"&9)))))))","v":"令和年9"},null,null,null,{"$f":"IF(OR(GK87=\"\",GK$41=10),\"\",9)","v":9},{"$f":"IF(OR(GL87=\"\",GN$41=4),\"\",IF(AND(GM$36>=1,GM$36<=4,GK$36=31),\"平成\"&30&\"年\"&9,IF(AND(GM$36=5,GK$36=\"元\"),\"平成\"&30&\"年\"&9,IF(AND(GM$36>=6,GK$36=\"元\"),\"令和元年\"&9,IF(AND(GM$36>=1,GM$36<=5,GK$36=2),\"令和元年\"&9,(IF((AND(GM$36>=1,GM$36<=5)),\"令和\"&GK$36-1&\"年\"&9,\"令和\"&GK$36&\"年\"&9)))))))","v":"令和年9"},{"$f":"IF(OR(GL87=\"\",GN$41=4),\"\",IF(AND(GM$36>=1,GM$36<=4,GK$36=31),\"平成\"&30&\"年\"&9,IF(AND(GM$36=5,GK$36=\"元\"),\"平成\"&30&\"年\"&9,IF(AND(GM$36>=6,GK$36=\"元\"),\"令和元年\"&9,IF(AND(GM$36>=1,GM$36<=5,GK$36=2),\"令和元年\"&9,(IF((AND(GM$36>=1,GM$36<=5)),\"令和\"&GK$36-1&\"年\"&9,\"令和\"&GK$36&\"年\"&9)))))))","v":"令和年9"},null,null,null,{"$f":"IF(OR(GQ87=\"\",GQ$41=10),\"\",9)","v":9},{"$f":"IF(OR(GR87=\"\",GT$41=4),\"\",IF(AND(GS$36>=1,GS$36<=4,GQ$36=31),\"平成\"&30&\"年\"&9,IF(AND(GS$36=5,GQ$36=\"元\"),\"平成\"&30&\"年\"&9,IF(AND(GS$36>=6,GQ$36=\"元\"),\"令和元年\"&9,IF(AND(GS$36>=1,GS$36<=5,GQ$36=2),\"令和元年\"&9,(IF((AND(GS$36>=1,GS$36<=5)),\"令和\"&GQ$36-1&\"年\"&9,\"令和\"&GQ$36&\"年\"&9)))))))","v":"令和年9"},{"$f":"IF(OR(GR87=\"\",GT$41=4),\"\",IF(AND(GS$36>=1,GS$36<=4,GQ$36=31),\"平成\"&30&\"年\"&9,IF(AND(GS$36=5,GQ$36=\"元\"),\"平成\"&30&\"年\"&9,IF(AND(GS$36>=6,GQ$36=\"元\"),\"令和元年\"&9,IF(AND(GS$36>=1,GS$36<=5,GQ$36=2),\"令和元年\"&9,(IF((AND(GS$36>=1,GS$36<=5)),\"令和\"&GQ$36-1&\"年\"&9,\"令和\"&GQ$36&\"年\"&9)))))))","v":"令和年9"},null,null,null,{"$f":"IF(OR(GW87=\"\",GW$41=10),\"\",9)","v":9},{"$f":"IF(OR(GX87=\"\",GZ$41=4),\"\",IF(AND(GY$36>=1,GY$36<=4,GW$36=31),\"平成\"&30&\"年\"&9,IF(AND(GY$36=5,GW$36=\"元\"),\"平成\"&30&\"年\"&9,IF(AND(GY$36>=6,GW$36=\"元\"),\"令和元年\"&9,IF(AND(GY$36>=1,GY$36<=5,GW$36=2),\"令和元年\"&9,(IF((AND(GY$36>=1,GY$36<=5)),\"令和\"&GW$36-1&\"年\"&9,\"令和\"&GW$36&\"年\"&9)))))))","v":"令和年9"},{"$f":"IF(OR(GX87=\"\",GZ$41=4),\"\",IF(AND(GY$36>=1,GY$36<=4,GW$36=31),\"平成\"&30&\"年\"&9,IF(AND(GY$36=5,GW$36=\"元\"),\"平成\"&30&\"年\"&9,IF(AND(GY$36>=6,GW$36=\"元\"),\"令和元年\"&9,IF(AND(GY$36>=1,GY$36<=5,GW$36=2),\"令和元年\"&9,(IF((AND(GY$36>=1,GY$36<=5)),\"令和\"&GW$36-1&\"年\"&9,\"令和\"&GW$36&\"年\"&9)))))))","v":"令和年9"},null,null,null,{"$f":"IF(OR(HC87=\"\",HC$41=10),\"\",9)","v":9},{"$f":"IF(OR(HD87=\"\",HF$41=4),\"\",IF(AND(HE$36>=1,HE$36<=4,HC$36=31),\"平成\"&30&\"年\"&9,IF(AND(HE$36=5,HC$36=\"元\"),\"平成\"&30&\"年\"&9,IF(AND(HE$36>=6,HC$36=\"元\"),\"令和元年\"&9,IF(AND(HE$36>=1,HE$36<=5,HC$36=2),\"令和元年\"&9,(IF((AND(HE$36>=1,HE$36<=5)),\"令和\"&HC$36-1&\"年\"&9,\"令和\"&HC$36&\"年\"&9)))))))","v":"令和年9"},{"$f":"IF(OR(HD87=\"\",HF$41=4),\"\",IF(AND(HE$36>=1,HE$36<=4,HC$36=31),\"平成\"&30&\"年\"&9,IF(AND(HE$36=5,HC$36=\"元\"),\"平成\"&30&\"年\"&9,IF(AND(HE$36>=6,HC$36=\"元\"),\"令和元年\"&9,IF(AND(HE$36>=1,HE$36<=5,HC$36=2),\"令和元年\"&9,(IF((AND(HE$36>=1,HE$36<=5)),\"令和\"&HC$36-1&\"年\"&9,\"令和\"&HC$36&\"年\"&9)))))))","v":"令和年9"},null,null,null,{"$f":"IF(OR(HI87=\"\",HI$41=10),\"\",9)","v":9},{"$f":"IF(OR(HJ87=\"\",HL$41=4),\"\",IF(AND(HK$36>=1,HK$36<=4,HI$36=31),\"平成\"&30&\"年\"&9,IF(AND(HK$36=5,HI$36=\"元\"),\"平成\"&30&\"年\"&9,IF(AND(HK$36>=6,HI$36=\"元\"),\"令和元年\"&9,IF(AND(HK$36>=1,HK$36<=5,HI$36=2),\"令和元年\"&9,(IF((AND(HK$36>=1,HK$36<=5)),\"令和\"&HI$36-1&\"年\"&9,\"令和\"&HI$36&\"年\"&9)))))))","v":"令和年9"},{"$f":"IF(OR(HJ87=\"\",HL$41=4),\"\",IF(AND(HK$36>=1,HK$36<=4,HI$36=31),\"平成\"&30&\"年\"&9,IF(AND(HK$36=5,HI$36=\"元\"),\"平成\"&30&\"年\"&9,IF(AND(HK$36>=6,HI$36=\"元\"),\"令和元年\"&9,IF(AND(HK$36>=1,HK$36<=5,HI$36=2),\"令和元年\"&9,(IF((AND(HK$36>=1,HK$36<=5)),\"令和\"&HI$36-1&\"年\"&9,\"令和\"&HI$36&\"年\"&9)))))))","v":"令和年9"},null,null,null,{"$f":"IF(OR(HO87=\"\",HO$41=10),\"\",9)","v":9},{"$f":"IF(OR(HP87=\"\",HR$41=4),\"\",IF(AND(HQ$36>=1,HQ$36<=4,HO$36=31),\"平成\"&30&\"年\"&9,IF(AND(HQ$36=5,HO$36=\"元\"),\"平成\"&30&\"年\"&9,IF(AND(HQ$36>=6,HO$36=\"元\"),\"令和元年\"&9,IF(AND(HQ$36>=1,HQ$36<=5,HO$36=2),\"令和元年\"&9,(IF((AND(HQ$36>=1,HQ$36<=5)),\"令和\"&HO$36-1&\"年\"&9,\"令和\"&HO$36&\"年\"&9)))))))","v":"令和年9"},{"$f":"IF(OR(HP87=\"\",HR$41=4),\"\",IF(AND(HQ$36>=1,HQ$36<=4,HO$36=31),\"平成\"&30&\"年\"&9,IF(AND(HQ$36=5,HO$36=\"元\"),\"平成\"&30&\"年\"&9,IF(AND(HQ$36>=6,HO$36=\"元\"),\"令和元年\"&9,IF(AND(HQ$36>=1,HQ$36<=5,HO$36=2),\"令和元年\"&9,(IF((AND(HQ$36>=1,HQ$36<=5)),\"令和\"&HO$36-1&\"年\"&9,\"令和\"&HO$36&\"年\"&9)))))))","v":"令和年9"},null,null,null,{"$f":"IF(OR(HU87=\"\",HU$41=10),\"\",9)","v":9},{"$f":"IF(OR(HV87=\"\",HX$41=4),\"\",IF(AND(HW$36>=1,HW$36<=4,HU$36=31),\"平成\"&30&\"年\"&9,IF(AND(HW$36=5,HU$36=\"元\"),\"平成\"&30&\"年\"&9,IF(AND(HW$36>=6,HU$36=\"元\"),\"令和元年\"&9,IF(AND(HW$36>=1,HW$36<=5,HU$36=2),\"令和元年\"&9,(IF((AND(HW$36>=1,HW$36<=5)),\"令和\"&HU$36-1&\"年\"&9,\"令和\"&HU$36&\"年\"&9)))))))","v":"令和年9"},{"$f":"IF(OR(HV87=\"\",HX$41=4),\"\",IF(AND(HW$36>=1,HW$36<=4,HU$36=31),\"平成\"&30&\"年\"&9,IF(AND(HW$36=5,HU$36=\"元\"),\"平成\"&30&\"年\"&9,IF(AND(HW$36>=6,HU$36=\"元\"),\"令和元年\"&9,IF(AND(HW$36>=1,HW$36<=5,HU$36=2),\"令和元年\"&9,(IF((AND(HW$36>=1,HW$36<=5)),\"令和\"&HU$36-1&\"年\"&9,\"令和\"&HU$36&\"年\"&9)))))))","v":"令和年9"},null,null,null,{"$f":"IF(OR(IA87=\"\",IA$41=10),\"\",9)","v":9},{"$f":"IF(OR(IB87=\"\",ID$41=4),\"\",IF(AND(IC$36>=1,IC$36<=4,IA$36=31),\"平成\"&30&\"年\"&9,IF(AND(IC$36=5,IA$36=\"元\"),\"平成\"&30&\"年\"&9,IF(AND(IC$36>=6,IA$36=\"元\"),\"令和元年\"&9,IF(AND(IC$36>=1,IC$36<=5,IA$36=2),\"令和元年\"&9,(IF((AND(IC$36>=1,IC$36<=5)),\"令和\"&IA$36-1&\"年\"&9,\"令和\"&IA$36&\"年\"&9)))))))","v":"令和年9"},{"$f":"IF(OR(IB87=\"\",ID$41=4),\"\",IF(AND(IC$36>=1,IC$36<=4,IA$36=31),\"平成\"&30&\"年\"&9,IF(AND(IC$36=5,IA$36=\"元\"),\"平成\"&30&\"年\"&9,IF(AND(IC$36>=6,IA$36=\"元\"),\"令和元年\"&9,IF(AND(IC$36>=1,IC$36<=5,IA$36=2),\"令和元年\"&9,(IF((AND(IC$36>=1,IC$36<=5)),\"令和\"&IA$36-1&\"年\"&9,\"令和\"&IA$36&\"年\"&9)))))))","v":"令和年9"},null,null,null,{"$f":"IF(OR(IG87=\"\",IG$41=10),\"\",9)","v":9},{"$f":"IF(OR(IH87=\"\",IJ$41=4),\"\",IF(AND(II$36>=1,II$36<=4,IG$36=31),\"平成\"&30&\"年\"&9,IF(AND(II$36=5,IG$36=\"元\"),\"平成\"&30&\"年\"&9,IF(AND(II$36>=6,IG$36=\"元\"),\"令和元年\"&9,IF(AND(II$36>=1,II$36<=5,IG$36=2),\"令和元年\"&9,(IF((AND(II$36>=1,II$36<=5)),\"令和\"&IG$36-1&\"年\"&9,\"令和\"&IG$36&\"年\"&9)))))))","v":"令和年9"},{"$f":"IF(OR(IH87=\"\",IJ$41=4),\"\",IF(AND(II$36>=1,II$36<=4,IG$36=31),\"平成\"&30&\"年\"&9,IF(AND(II$36=5,IG$36=\"元\"),\"平成\"&30&\"年\"&9,IF(AND(II$36>=6,IG$36=\"元\"),\"令和元年\"&9,IF(AND(II$36>=1,II$36<=5,IG$36=2),\"令和元年\"&9,(IF((AND(II$36>=1,II$36<=5)),\"令和\"&IG$36-1&\"年\"&9,\"令和\"&IG$36&\"年\"&9)))))))","v":"令和年9"}]
[null,{"$f":"IF(AND(CM21<>\"\",CM25<>\"\",CO25<>\"\",CQ25<>\"\"),CM17,\"\")","v":""},"平",9,"平9",null,{"$f":"IF(OR(G88=\"\",G$41=11),\"\",10)","v":10},{"$f":"IF(OR(H88=\"\",J$41=4),\"\",IF(AND(I$36>=1,I$36<=4,G$36=31),\"平成\"&30&\"年\"&10,IF(AND(I$36=5,G$36=\"元\"),\"平成\"&30&\"年\"&10,IF(AND(I$36>=6,G$36=\"元\"),\"令和元年\"&10,IF(AND(I$36>=1,I$36<=5,G$36=2),\"令和元年\"&10,(IF((AND(I$36>=1,I$36<=5)),\"令和\"&G$36-1&\"年\"&10,\"令和\"&G$36&\"年\"&10)))))))","v":"令和年10"},{"$f":"IF(OR(H88=\"\",J$41=4),\"\",IF(AND(I$36>=1,I$36<=4,G$36=31),\"平成\"&30&\"年\"&10,IF(AND(I$36=5,G$36=\"元\"),\"平成\"&30&\"年\"&10,IF(AND(I$36>=6,G$36=\"元\"),\"令和元年\"&10,IF(AND(I$36>=1,I$36<=5,G$36=2),\"令和元年\"&10,(IF((AND(I$36>=1,I$36<=5)),\"令和\"&G$36-1&\"年\"&10,\"令和\"&G$36&\"年\"&10)))))))","v":"令和年10"},null,null,null,{"$f":"IF(OR(M88=\"\",M$41=11),\"\",10)","v":10},{"$f":"IF(OR(N88=\"\",P$41=4),\"\",IF(AND(O$36>=1,O$36<=4,M$36=31),\"平成\"&30&\"年\"&10,IF(AND(O$36=5,M$36=\"元\"),\"平成\"&30&\"年\"&10,IF(AND(O$36>=6,M$36=\"元\"),\"令和元年\"&10,IF(AND(O$36>=1,O$36<=5,M$36=2),\"令和元年\"&10,(IF((AND(O$36>=1,O$36<=5)),\"令和\"&M$36-1&\"年\"&10,\"令和\"&M$36&\"年\"&10)))))))","v":"令和年10"},{"$f":"IF(OR(N88=\"\",P$41=4),\"\",IF(AND(O$36>=1,O$36<=4,M$36=31),\"平成\"&30&\"年\"&10,IF(AND(O$36=5,M$36=\"元\"),\"平成\"&30&\"年\"&10,IF(AND(O$36>=6,M$36=\"元\"),\"令和元年\"&10,IF(AND(O$36>=1,O$36<=5,M$36=2),\"令和元年\"&10,(IF((AND(O$36>=1,O$36<=5)),\"令和\"&M$36-1&\"年\"&10,\"令和\"&M$36&\"年\"&10)))))))","v":"令和年10"},null,null,null,{"$f":"IF(OR(S88=\"\",S$41=11),\"\",10)","v":10},{"$f":"IF(OR(T88=\"\",V$41=4),\"\",IF(AND(U$36>=1,U$36<=4,S$36=31),\"平成\"&30&\"年\"&10,IF(AND(U$36=5,S$36=\"元\"),\"平成\"&30&\"年\"&10,IF(AND(U$36>=6,S$36=\"元\"),\"令和元年\"&10,IF(AND(U$36>=1,U$36<=5,S$36=2),\"令和元年\"&10,(IF((AND(U$36>=1,U$36<=5)),\"令和\"&S$36-1&\"年\"&10,\"令和\"&S$36&\"年\"&10)))))))","v":"令和年10"},{"$f":"IF(OR(T88=\"\",V$41=4),\"\",IF(AND(U$36>=1,U$36<=4,S$36=31),\"平成\"&30&\"年\"&10,IF(AND(U$36=5,S$36=\"元\"),\"平成\"&30&\"年\"&10,IF(AND(U$36>=6,S$36=\"元\"),\"令和元年\"&10,IF(AND(U$36>=1,U$36<=5,S$36=2),\"令和元年\"&10,(IF((AND(U$36>=1,U$36<=5)),\"令和\"&S$36-1&\"年\"&10,\"令和\"&S$36&\"年\"&10)))))))","v":"令和年10"},null,null,null,{"$f":"IF(OR(Y88=\"\",Y$41=11),\"\",10)","v":10},{"$f":"IF(OR(Z88=\"\",AB$41=4),\"\",IF(AND(AA$36>=1,AA$36<=4,Y$36=31),\"平成\"&30&\"年\"&10,IF(AND(AA$36=5,Y$36=\"元\"),\"平成\"&30&\"年\"&10,IF(AND(AA$36>=6,Y$36=\"元\"),\"令和元年\"&10,IF(AND(AA$36>=1,AA$36<=5,Y$36=2),\"令和元年\"&10,(IF((AND(AA$36>=1,AA$36<=5)),\"令和\"&Y$36-1&\"年\"&10,\"令和\"&Y$36&\"年\"&10)))))))","v":"令和年10"},{"$f":"IF(OR(Z88=\"\",AB$41=4),\"\",IF(AND(AA$36>=1,AA$36<=4,Y$36=31),\"平成\"&30&\"年\"&10,IF(AND(AA$36=5,Y$36=\"元\"),\"平成\"&30&\"年\"&10,IF(AND(AA$36>=6,Y$36=\"元\"),\"令和元年\"&10,IF(AND(AA$36>=1,AA$36<=5,Y$36=2),\"令和元年\"&10,(IF((AND(AA$36>=1,AA$36<=5)),\"令和\"&Y$36-1&\"年\"&10,\"令和\"&Y$36&\"年\"&10)))))))","v":"令和年10"},null,null,null,{"$f":"IF(OR(AE88=\"\",AE$41=11),\"\",10)","v":10},{"$f":"IF(OR(AF88=\"\",AH$41=4),\"\",IF(AND(AG$36>=1,AG$36<=4,AE$36=31),\"平成\"&30&\"年\"&10,IF(AND(AG$36=5,AE$36=\"元\"),\"平成\"&30&\"年\"&10,IF(AND(AG$36>=6,AE$36=\"元\"),\"令和元年\"&10,IF(AND(AG$36>=1,AG$36<=5,AE$36=2),\"令和元年\"&10,(IF((AND(AG$36>=1,AG$36<=5)),\"令和\"&AE$36-1&\"年\"&10,\"令和\"&AE$36&\"年\"&10)))))))","v":"令和年10"},{"$f":"IF(OR(AF88=\"\",AH$41=4),\"\",IF(AND(AG$36>=1,AG$36<=4,AE$36=31),\"平成\"&30&\"年\"&10,IF(AND(AG$36=5,AE$36=\"元\"),\"平成\"&30&\"年\"&10,IF(AND(AG$36>=6,AE$36=\"元\"),\"令和元年\"&10,IF(AND(AG$36>=1,AG$36<=5,AE$36=2),\"令和元年\"&10,(IF((AND(AG$36>=1,AG$36<=5)),\"令和\"&AE$36-1&\"年\"&10,\"令和\"&AE$36&\"年\"&10)))))))","v":"令和年10"},null,null,null,{"$f":"IF(OR(AK88=\"\",AK$41=11),\"\",10)","v":10},{"$f":"IF(OR(AL88=\"\",AN$41=4),\"\",IF(AND(AM$36>=1,AM$36<=4,AK$36=31),\"平成\"&30&\"年\"&10,IF(AND(AM$36=5,AK$36=\"元\"),\"平成\"&30&\"年\"&10,IF(AND(AM$36>=6,AK$36=\"元\"),\"令和元年\"&10,IF(AND(AM$36>=1,AM$36<=5,AK$36=2),\"令和元年\"&10,(IF((AND(AM$36>=1,AM$36<=5)),\"令和\"&AK$36-1&\"年\"&10,\"令和\"&AK$36&\"年\"&10)))))))","v":"令和年10"},{"$f":"IF(OR(AL88=\"\",AN$41=4),\"\",IF(AND(AM$36>=1,AM$36<=4,AK$36=31),\"平成\"&30&\"年\"&10,IF(AND(AM$36=5,AK$36=\"元\"),\"平成\"&30&\"年\"&10,IF(AND(AM$36>=6,AK$36=\"元\"),\"令和元年\"&10,IF(AND(AM$36>=1,AM$36<=5,AK$36=2),\"令和元年\"&10,(IF((AND(AM$36>=1,AM$36<=5)),\"令和\"&AK$36-1&\"年\"&10,\"令和\"&AK$36&\"年\"&10)))))))","v":"令和年10"},null,null,null,{"$f":"IF(OR(AQ88=\"\",AQ$41=11),\"\",10)","v":10},{"$f":"IF(OR(AR88=\"\",AT$41=4),\"\",IF(AND(AS$36>=1,AS$36<=4,AQ$36=31),\"平成\"&30&\"年\"&10,IF(AND(AS$36=5,AQ$36=\"元\"),\"平成\"&30&\"年\"&10,IF(AND(AS$36>=6,AQ$36=\"元\"),\"令和元年\"&10,IF(AND(AS$36>=1,AS$36<=5,AQ$36=2),\"令和元年\"&10,(IF((AND(AS$36>=1,AS$36<=5)),\"令和\"&AQ$36-1&\"年\"&10,\"令和\"&AQ$36&\"年\"&10)))))))","v":"令和年10"},{"$f":"IF(OR(AR88=\"\",AT$41=4),\"\",IF(AND(AS$36>=1,AS$36<=4,AQ$36=31),\"平成\"&30&\"年\"&10,IF(AND(AS$36=5,AQ$36=\"元\"),\"平成\"&30&\"年\"&10,IF(AND(AS$36>=6,AQ$36=\"元\"),\"令和元年\"&10,IF(AND(AS$36>=1,AS$36<=5,AQ$36=2),\"令和元年\"&10,(IF((AND(AS$36>=1,AS$36<=5)),\"令和\"&AQ$36-1&\"年\"&10,\"令和\"&AQ$36&\"年\"&10)))))))","v":"令和年10"},null,null,null,{"$f":"IF(OR(AW88=\"\",AW$41=11),\"\",10)","v":10},{"$f":"IF(OR(AX88=\"\",AZ$41=4),\"\",IF(AND(AY$36>=1,AY$36<=4,AW$36=31),\"平成\"&30&\"年\"&10,IF(AND(AY$36=5,AW$36=\"元\"),\"平成\"&30&\"年\"&10,IF(AND(AY$36>=6,AW$36=\"元\"),\"令和元年\"&10,IF(AND(AY$36>=1,AY$36<=5,AW$36=2),\"令和元年\"&10,(IF((AND(AY$36>=1,AY$36<=5)),\"令和\"&AW$36-1&\"年\"&10,\"令和\"&AW$36&\"年\"&10)))))))","v":"令和年10"},{"$f":"IF(OR(AX88=\"\",AZ$41=4),\"\",IF(AND(AY$36>=1,AY$36<=4,AW$36=31),\"平成\"&30&\"年\"&10,IF(AND(AY$36=5,AW$36=\"元\"),\"平成\"&30&\"年\"&10,IF(AND(AY$36>=6,AW$36=\"元\"),\"令和元年\"&10,IF(AND(AY$36>=1,AY$36<=5,AW$36=2),\"令和元年\"&10,(IF((AND(AY$36>=1,AY$36<=5)),\"令和\"&AW$36-1&\"年\"&10,\"令和\"&AW$36&\"年\"&10)))))))","v":"令和年10"},null,null,null,{"$f":"IF(OR(BC88=\"\",BC$41=11),\"\",10)","v":10},{"$f":"IF(OR(BD88=\"\",BF$41=4),\"\",IF(AND(BE$36>=1,BE$36<=4,BC$36=31),\"平成\"&30&\"年\"&10,IF(AND(BE$36=5,BC$36=\"元\"),\"平成\"&30&\"年\"&10,IF(AND(BE$36>=6,BC$36=\"元\"),\"令和元年\"&10,IF(AND(BE$36>=1,BE$36<=5,BC$36=2),\"令和元年\"&10,(IF((AND(BE$36>=1,BE$36<=5)),\"令和\"&BC$36-1&\"年\"&10,\"令和\"&BC$36&\"年\"&10)))))))","v":"令和年10"},{"$f":"IF(OR(BD88=\"\",BF$41=4),\"\",IF(AND(BE$36>=1,BE$36<=4,BC$36=31),\"平成\"&30&\"年\"&10,IF(AND(BE$36=5,BC$36=\"元\"),\"平成\"&30&\"年\"&10,IF(AND(BE$36>=6,BC$36=\"元\"),\"令和元年\"&10,IF(AND(BE$36>=1,BE$36<=5,BC$36=2),\"令和元年\"&10,(IF((AND(BE$36>=1,BE$36<=5)),\"令和\"&BC$36-1&\"年\"&10,\"令和\"&BC$36&\"年\"&10)))))))","v":"令和年10"},null,null,null,{"$f":"IF(OR(BI88=\"\",BI$41=11),\"\",10)","v":10},{"$f":"IF(OR(BJ88=\"\",BL$41=4),\"\",IF(AND(BK$36>=1,BK$36<=4,BI$36=31),\"平成\"&30&\"年\"&10,IF(AND(BK$36=5,BI$36=\"元\"),\"平成\"&30&\"年\"&10,IF(AND(BK$36>=6,BI$36=\"元\"),\"令和元年\"&10,IF(AND(BK$36>=1,BK$36<=5,BI$36=2),\"令和元年\"&10,(IF((AND(BK$36>=1,BK$36<=5)),\"令和\"&BI$36-1&\"年\"&10,\"令和\"&BI$36&\"年\"&10)))))))","v":"令和年10"},{"$f":"IF(OR(BJ88=\"\",BL$41=4),\"\",IF(AND(BK$36>=1,BK$36<=4,BI$36=31),\"平成\"&30&\"年\"&10,IF(AND(BK$36=5,BI$36=\"元\"),\"平成\"&30&\"年\"&10,IF(AND(BK$36>=6,BI$36=\"元\"),\"令和元年\"&10,IF(AND(BK$36>=1,BK$36<=5,BI$36=2),\"令和元年\"&10,(IF((AND(BK$36>=1,BK$36<=5)),\"令和\"&BI$36-1&\"年\"&10,\"令和\"&BI$36&\"年\"&10)))))))","v":"令和年10"},null,null,null,{"$f":"IF(OR(BO88=\"\",BO$41=11),\"\",10)","v":10},{"$f":"IF(OR(BP88=\"\",BR$41=4),\"\",IF(AND(BQ$36>=1,BQ$36<=4,BO$36=31),\"平成\"&30&\"年\"&10,IF(AND(BQ$36=5,BO$36=\"元\"),\"平成\"&30&\"年\"&10,IF(AND(BQ$36>=6,BO$36=\"元\"),\"令和元年\"&10,IF(AND(BQ$36>=1,BQ$36<=5,BO$36=2),\"令和元年\"&10,(IF((AND(BQ$36>=1,BQ$36<=5)),\"令和\"&BO$36-1&\"年\"&10,\"令和\"&BO$36&\"年\"&10)))))))","v":"令和年10"},{"$f":"IF(OR(BP88=\"\",BR$41=4),\"\",IF(AND(BQ$36>=1,BQ$36<=4,BO$36=31),\"平成\"&30&\"年\"&10,IF(AND(BQ$36=5,BO$36=\"元\"),\"平成\"&30&\"年\"&10,IF(AND(BQ$36>=6,BO$36=\"元\"),\"令和元年\"&10,IF(AND(BQ$36>=1,BQ$36<=5,BO$36=2),\"令和元年\"&10,(IF((AND(BQ$36>=1,BQ$36<=5)),\"令和\"&BO$36-1&\"年\"&10,\"令和\"&BO$36&\"年\"&10)))))))","v":"令和年10"},null,null,null,{"$f":"IF(OR(BU88=\"\",BU$41=11),\"\",10)","v":10},{"$f":"IF(OR(BV88=\"\",BX$41=4),\"\",IF(AND(BW$36>=1,BW$36<=4,BU$36=31),\"平成\"&30&\"年\"&10,IF(AND(BW$36=5,BU$36=\"元\"),\"平成\"&30&\"年\"&10,IF(AND(BW$36>=6,BU$36=\"元\"),\"令和元年\"&10,IF(AND(BW$36>=1,BW$36<=5,BU$36=2),\"令和元年\"&10,(IF((AND(BW$36>=1,BW$36<=5)),\"令和\"&BU$36-1&\"年\"&10,\"令和\"&BU$36&\"年\"&10)))))))","v":"令和年10"},{"$f":"IF(OR(BV88=\"\",BX$41=4),\"\",IF(AND(BW$36>=1,BW$36<=4,BU$36=31),\"平成\"&30&\"年\"&10,IF(AND(BW$36=5,BU$36=\"元\"),\"平成\"&30&\"年\"&10,IF(AND(BW$36>=6,BU$36=\"元\"),\"令和元年\"&10,IF(AND(BW$36>=1,BW$36<=5,BU$36=2),\"令和元年\"&10,(IF((AND(BW$36>=1,BW$36<=5)),\"令和\"&BU$36-1&\"年\"&10,\"令和\"&BU$36&\"年\"&10)))))))","v":"令和年10"},null,null,null,{"$f":"IF(OR(CA88=\"\",CA$41=11),\"\",10)","v":10},{"$f":"IF(OR(CB88=\"\",CD$41=4),\"\",IF(AND(CC$36>=1,CC$36<=4,CA$36=31),\"平成\"&30&\"年\"&10,IF(AND(CC$36=5,CA$36=\"元\"),\"平成\"&30&\"年\"&10,IF(AND(CC$36>=6,CA$36=\"元\"),\"令和元年\"&10,IF(AND(CC$36>=1,CC$36<=5,CA$36=2),\"令和元年\"&10,(IF((AND(CC$36>=1,CC$36<=5)),\"令和\"&CA$36-1&\"年\"&10,\"令和\"&CA$36&\"年\"&10)))))))","v":"令和年10"},{"$f":"IF(OR(CB88=\"\",CD$41=4),\"\",IF(AND(CC$36>=1,CC$36<=4,CA$36=31),\"平成\"&30&\"年\"&10,IF(AND(CC$36=5,CA$36=\"元\"),\"平成\"&30&\"年\"&10,IF(AND(CC$36>=6,CA$36=\"元\"),\"令和元年\"&10,IF(AND(CC$36>=1,CC$36<=5,CA$36=2),\"令和元年\"&10,(IF((AND(CC$36>=1,CC$36<=5)),\"令和\"&CA$36-1&\"年\"&10,\"令和\"&CA$36&\"年\"&10)))))))","v":"令和年10"},null,null,null,{"$f":"IF(OR(CG88=\"\",CG$41=11),\"\",10)","v":10},{"$f":"IF(OR(CH88=\"\",CJ$41=4),\"\",IF(AND(CI$36>=1,CI$36<=4,CG$36=31),\"平成\"&30&\"年\"&10,IF(AND(CI$36=5,CG$36=\"元\"),\"平成\"&30&\"年\"&10,IF(AND(CI$36>=6,CG$36=\"元\"),\"令和元年\"&10,IF(AND(CI$36>=1,CI$36<=5,CG$36=2),\"令和元年\"&10,(IF((AND(CI$36>=1,CI$36<=5)),\"令和\"&CG$36-1&\"年\"&10,\"令和\"&CG$36&\"年\"&10)))))))","v":"令和年10"},{"$f":"IF(OR(CH88=\"\",CJ$41=4),\"\",IF(AND(CI$36>=1,CI$36<=4,CG$36=31),\"平成\"&30&\"年\"&10,IF(AND(CI$36=5,CG$36=\"元\"),\"平成\"&30&\"年\"&10,IF(AND(CI$36>=6,CG$36=\"元\"),\"令和元年\"&10,IF(AND(CI$36>=1,CI$36<=5,CG$36=2),\"令和元年\"&10,(IF((AND(CI$36>=1,CI$36<=5)),\"令和\"&CG$36-1&\"年\"&10,\"令和\"&CG$36&\"年\"&10)))))))","v":"令和年10"},null,null,null,{"$f":"IF(OR(CM88=\"\",CM$41=11),\"\",10)","v":10},{"$f":"IF(OR(CN88=\"\",CP$41=4),\"\",IF(AND(CO$36>=1,CO$36<=4,CM$36=31),\"平成\"&30&\"年\"&10,IF(AND(CO$36=5,CM$36=\"元\"),\"平成\"&30&\"年\"&10,IF(AND(CO$36>=6,CM$36=\"元\"),\"令和元年\"&10,IF(AND(CO$36>=1,CO$36<=5,CM$36=2),\"令和元年\"&10,(IF((AND(CO$36>=1,CO$36<=5)),\"令和\"&CM$36-1&\"年\"&10,\"令和\"&CM$36&\"年\"&10)))))))","v":"令和年10"},{"$f":"IF(OR(CN88=\"\",CP$41=4),\"\",IF(AND(CO$36>=1,CO$36<=4,CM$36=31),\"平成\"&30&\"年\"&10,IF(AND(CO$36=5,CM$36=\"元\"),\"平成\"&30&\"年\"&10,IF(AND(CO$36>=6,CM$36=\"元\"),\"令和元年\"&10,IF(AND(CO$36>=1,CO$36<=5,CM$36=2),\"令和元年\"&10,(IF((AND(CO$36>=1,CO$36<=5)),\"令和\"&CM$36-1&\"年\"&10,\"令和\"&CM$36&\"年\"&10)))))))","v":"令和年10"},null,null,null,{"$f":"IF(OR(CS88=\"\",CS$41=11),\"\",10)","v":10},{"$f":"IF(OR(CT88=\"\",CV$41=4),\"\",IF(AND(CU$36>=1,CU$36<=4,CS$36=31),\"平成\"&30&\"年\"&10,IF(AND(CU$36=5,CS$36=\"元\"),\"平成\"&30&\"年\"&10,IF(AND(CU$36>=6,CS$36=\"元\"),\"令和元年\"&10,IF(AND(CU$36>=1,CU$36<=5,CS$36=2),\"令和元年\"&10,(IF((AND(CU$36>=1,CU$36<=5)),\"令和\"&CS$36-1&\"年\"&10,\"令和\"&CS$36&\"年\"&10)))))))","v":"令和年10"},{"$f":"IF(OR(CT88=\"\",CV$41=4),\"\",IF(AND(CU$36>=1,CU$36<=4,CS$36=31),\"平成\"&30&\"年\"&10,IF(AND(CU$36=5,CS$36=\"元\"),\"平成\"&30&\"年\"&10,IF(AND(CU$36>=6,CS$36=\"元\"),\"令和元年\"&10,IF(AND(CU$36>=1,CU$36<=5,CS$36=2),\"令和元年\"&10,(IF((AND(CU$36>=1,CU$36<=5)),\"令和\"&CS$36-1&\"年\"&10,\"令和\"&CS$36&\"年\"&10)))))))","v":"令和年10"},null,null,null,{"$f":"IF(OR(CY88=\"\",CY$41=11),\"\",10)","v":10},{"$f":"IF(OR(CZ88=\"\",DB$41=4),\"\",IF(AND(DA$36>=1,DA$36<=4,CY$36=31),\"平成\"&30&\"年\"&10,IF(AND(DA$36=5,CY$36=\"元\"),\"平成\"&30&\"年\"&10,IF(AND(DA$36>=6,CY$36=\"元\"),\"令和元年\"&10,IF(AND(DA$36>=1,DA$36<=5,CY$36=2),\"令和元年\"&10,(IF((AND(DA$36>=1,DA$36<=5)),\"令和\"&CY$36-1&\"年\"&10,\"令和\"&CY$36&\"年\"&10)))))))","v":"令和年10"},{"$f":"IF(OR(CZ88=\"\",DB$41=4),\"\",IF(AND(DA$36>=1,DA$36<=4,CY$36=31),\"平成\"&30&\"年\"&10,IF(AND(DA$36=5,CY$36=\"元\"),\"平成\"&30&\"年\"&10,IF(AND(DA$36>=6,CY$36=\"元\"),\"令和元年\"&10,IF(AND(DA$36>=1,DA$36<=5,CY$36=2),\"令和元年\"&10,(IF((AND(DA$36>=1,DA$36<=5)),\"令和\"&CY$36-1&\"年\"&10,\"令和\"&CY$36&\"年\"&10)))))))","v":"令和年10"},null,null,null,{"$f":"IF(OR(DE88=\"\",DE$41=11),\"\",10)","v":10},{"$f":"IF(OR(DF88=\"\",DH$41=4),\"\",IF(AND(DG$36>=1,DG$36<=4,DE$36=31),\"平成\"&30&\"年\"&10,IF(AND(DG$36=5,DE$36=\"元\"),\"平成\"&30&\"年\"&10,IF(AND(DG$36>=6,DE$36=\"元\"),\"令和元年\"&10,IF(AND(DG$36>=1,DG$36<=5,DE$36=2),\"令和元年\"&10,(IF((AND(DG$36>=1,DG$36<=5)),\"令和\"&DE$36-1&\"年\"&10,\"令和\"&DE$36&\"年\"&10)))))))","v":"令和年10"},{"$f":"IF(OR(DF88=\"\",DH$41=4),\"\",IF(AND(DG$36>=1,DG$36<=4,DE$36=31),\"平成\"&30&\"年\"&10,IF(AND(DG$36=5,DE$36=\"元\"),\"平成\"&30&\"年\"&10,IF(AND(DG$36>=6,DE$36=\"元\"),\"令和元年\"&10,IF(AND(DG$36>=1,DG$36<=5,DE$36=2),\"令和元年\"&10,(IF((AND(DG$36>=1,DG$36<=5)),\"令和\"&DE$36-1&\"年\"&10,\"令和\"&DE$36&\"年\"&10)))))))","v":"令和年10"},null,null,null,{"$f":"IF(OR(DK88=\"\",DK$41=11),\"\",10)","v":10},{"$f":"IF(OR(DL88=\"\",DN$41=4),\"\",IF(AND(DM$36>=1,DM$36<=4,DK$36=31),\"平成\"&30&\"年\"&10,IF(AND(DM$36=5,DK$36=\"元\"),\"平成\"&30&\"年\"&10,IF(AND(DM$36>=6,DK$36=\"元\"),\"令和元年\"&10,IF(AND(DM$36>=1,DM$36<=5,DK$36=2),\"令和元年\"&10,(IF((AND(DM$36>=1,DM$36<=5)),\"令和\"&DK$36-1&\"年\"&10,\"令和\"&DK$36&\"年\"&10)))))))","v":"令和年10"},{"$f":"IF(OR(DL88=\"\",DN$41=4),\"\",IF(AND(DM$36>=1,DM$36<=4,DK$36=31),\"平成\"&30&\"年\"&10,IF(AND(DM$36=5,DK$36=\"元\"),\"平成\"&30&\"年\"&10,IF(AND(DM$36>=6,DK$36=\"元\"),\"令和元年\"&10,IF(AND(DM$36>=1,DM$36<=5,DK$36=2),\"令和元年\"&10,(IF((AND(DM$36>=1,DM$36<=5)),\"令和\"&DK$36-1&\"年\"&10,\"令和\"&DK$36&\"年\"&10)))))))","v":"令和年10"},null,null,null,{"$f":"IF(OR(DQ88=\"\",DQ$41=11),\"\",10)","v":10},{"$f":"IF(OR(DR88=\"\",DT$41=4),\"\",IF(AND(DS$36>=1,DS$36<=4,DQ$36=31),\"平成\"&30&\"年\"&10,IF(AND(DS$36=5,DQ$36=\"元\"),\"平成\"&30&\"年\"&10,IF(AND(DS$36>=6,DQ$36=\"元\"),\"令和元年\"&10,IF(AND(DS$36>=1,DS$36<=5,DQ$36=2),\"令和元年\"&10,(IF((AND(DS$36>=1,DS$36<=5)),\"令和\"&DQ$36-1&\"年\"&10,\"令和\"&DQ$36&\"年\"&10)))))))","v":"令和年10"},{"$f":"IF(OR(DR88=\"\",DT$41=4),\"\",IF(AND(DS$36>=1,DS$36<=4,DQ$36=31),\"平成\"&30&\"年\"&10,IF(AND(DS$36=5,DQ$36=\"元\"),\"平成\"&30&\"年\"&10,IF(AND(DS$36>=6,DQ$36=\"元\"),\"令和元年\"&10,IF(AND(DS$36>=1,DS$36<=5,DQ$36=2),\"令和元年\"&10,(IF((AND(DS$36>=1,DS$36<=5)),\"令和\"&DQ$36-1&\"年\"&10,\"令和\"&DQ$36&\"年\"&10)))))))","v":"令和年10"},null,null,null,{"$f":"IF(OR(DW88=\"\",DW$41=11),\"\",10)","v":10},{"$f":"IF(OR(DX88=\"\",DZ$41=4),\"\",IF(AND(DY$36>=1,DY$36<=4,DW$36=31),\"平成\"&30&\"年\"&10,IF(AND(DY$36=5,DW$36=\"元\"),\"平成\"&30&\"年\"&10,IF(AND(DY$36>=6,DW$36=\"元\"),\"令和元年\"&10,IF(AND(DY$36>=1,DY$36<=5,DW$36=2),\"令和元年\"&10,(IF((AND(DY$36>=1,DY$36<=5)),\"令和\"&DW$36-1&\"年\"&10,\"令和\"&DW$36&\"年\"&10)))))))","v":"令和年10"},{"$f":"IF(OR(DX88=\"\",DZ$41=4),\"\",IF(AND(DY$36>=1,DY$36<=4,DW$36=31),\"平成\"&30&\"年\"&10,IF(AND(DY$36=5,DW$36=\"元\"),\"平成\"&30&\"年\"&10,IF(AND(DY$36>=6,DW$36=\"元\"),\"令和元年\"&10,IF(AND(DY$36>=1,DY$36<=5,DW$36=2),\"令和元年\"&10,(IF((AND(DY$36>=1,DY$36<=5)),\"令和\"&DW$36-1&\"年\"&10,\"令和\"&DW$36&\"年\"&10)))))))","v":"令和年10"},null,null,null,{"$f":"IF(OR(EC88=\"\",EC$41=11),\"\",10)","v":10},{"$f":"IF(OR(ED88=\"\",EF$41=4),\"\",IF(AND(EE$36>=1,EE$36<=4,EC$36=31),\"平成\"&30&\"年\"&10,IF(AND(EE$36=5,EC$36=\"元\"),\"平成\"&30&\"年\"&10,IF(AND(EE$36>=6,EC$36=\"元\"),\"令和元年\"&10,IF(AND(EE$36>=1,EE$36<=5,EC$36=2),\"令和元年\"&10,(IF((AND(EE$36>=1,EE$36<=5)),\"令和\"&EC$36-1&\"年\"&10,\"令和\"&EC$36&\"年\"&10)))))))","v":"令和年10"},{"$f":"IF(OR(ED88=\"\",EF$41=4),\"\",IF(AND(EE$36>=1,EE$36<=4,EC$36=31),\"平成\"&30&\"年\"&10,IF(AND(EE$36=5,EC$36=\"元\"),\"平成\"&30&\"年\"&10,IF(AND(EE$36>=6,EC$36=\"元\"),\"令和元年\"&10,IF(AND(EE$36>=1,EE$36<=5,EC$36=2),\"令和元年\"&10,(IF((AND(EE$36>=1,EE$36<=5)),\"令和\"&EC$36-1&\"年\"&10,\"令和\"&EC$36&\"年\"&10)))))))","v":"令和年10"},null,null,null,{"$f":"IF(OR(EI88=\"\",EI$41=11),\"\",10)","v":10},{"$f":"IF(OR(EJ88=\"\",EL$41=4),\"\",IF(AND(EK$36>=1,EK$36<=4,EI$36=31),\"平成\"&30&\"年\"&10,IF(AND(EK$36=5,EI$36=\"元\"),\"平成\"&30&\"年\"&10,IF(AND(EK$36>=6,EI$36=\"元\"),\"令和元年\"&10,IF(AND(EK$36>=1,EK$36<=5,EI$36=2),\"令和元年\"&10,(IF((AND(EK$36>=1,EK$36<=5)),\"令和\"&EI$36-1&\"年\"&10,\"令和\"&EI$36&\"年\"&10)))))))","v":"令和年10"},{"$f":"IF(OR(EJ88=\"\",EL$41=4),\"\",IF(AND(EK$36>=1,EK$36<=4,EI$36=31),\"平成\"&30&\"年\"&10,IF(AND(EK$36=5,EI$36=\"元\"),\"平成\"&30&\"年\"&10,IF(AND(EK$36>=6,EI$36=\"元\"),\"令和元年\"&10,IF(AND(EK$36>=1,EK$36<=5,EI$36=2),\"令和元年\"&10,(IF((AND(EK$36>=1,EK$36<=5)),\"令和\"&EI$36-1&\"年\"&10,\"令和\"&EI$36&\"年\"&10)))))))","v":"令和年10"},null,null,null,{"$f":"IF(OR(EO88=\"\",EO$41=11),\"\",10)","v":10},{"$f":"IF(OR(EP88=\"\",ER$41=4),\"\",IF(AND(EQ$36>=1,EQ$36<=4,EO$36=31),\"平成\"&30&\"年\"&10,IF(AND(EQ$36=5,EO$36=\"元\"),\"平成\"&30&\"年\"&10,IF(AND(EQ$36>=6,EO$36=\"元\"),\"令和元年\"&10,IF(AND(EQ$36>=1,EQ$36<=5,EO$36=2),\"令和元年\"&10,(IF((AND(EQ$36>=1,EQ$36<=5)),\"令和\"&EO$36-1&\"年\"&10,\"令和\"&EO$36&\"年\"&10)))))))","v":"令和年10"},{"$f":"IF(OR(EP88=\"\",ER$41=4),\"\",IF(AND(EQ$36>=1,EQ$36<=4,EO$36=31),\"平成\"&30&\"年\"&10,IF(AND(EQ$36=5,EO$36=\"元\"),\"平成\"&30&\"年\"&10,IF(AND(EQ$36>=6,EO$36=\"元\"),\"令和元年\"&10,IF(AND(EQ$36>=1,EQ$36<=5,EO$36=2),\"令和元年\"&10,(IF((AND(EQ$36>=1,EQ$36<=5)),\"令和\"&EO$36-1&\"年\"&10,\"令和\"&EO$36&\"年\"&10)))))))","v":"令和年10"},null,null,null,{"$f":"IF(OR(EU88=\"\",EU$41=11),\"\",10)","v":10},{"$f":"IF(OR(EV88=\"\",EX$41=4),\"\",IF(AND(EW$36>=1,EW$36<=4,EU$36=31),\"平成\"&30&\"年\"&10,IF(AND(EW$36=5,EU$36=\"元\"),\"平成\"&30&\"年\"&10,IF(AND(EW$36>=6,EU$36=\"元\"),\"令和元年\"&10,IF(AND(EW$36>=1,EW$36<=5,EU$36=2),\"令和元年\"&10,(IF((AND(EW$36>=1,EW$36<=5)),\"令和\"&EU$36-1&\"年\"&10,\"令和\"&EU$36&\"年\"&10)))))))","v":"令和年10"},{"$f":"IF(OR(EV88=\"\",EX$41=4),\"\",IF(AND(EW$36>=1,EW$36<=4,EU$36=31),\"平成\"&30&\"年\"&10,IF(AND(EW$36=5,EU$36=\"元\"),\"平成\"&30&\"年\"&10,IF(AND(EW$36>=6,EU$36=\"元\"),\"令和元年\"&10,IF(AND(EW$36>=1,EW$36<=5,EU$36=2),\"令和元年\"&10,(IF((AND(EW$36>=1,EW$36<=5)),\"令和\"&EU$36-1&\"年\"&10,\"令和\"&EU$36&\"年\"&10)))))))","v":"令和年10"},null,null,null,{"$f":"IF(OR(FA88=\"\",FA$41=11),\"\",10)","v":10},{"$f":"IF(OR(FB88=\"\",FD$41=4),\"\",IF(AND(FC$36>=1,FC$36<=4,FA$36=31),\"平成\"&30&\"年\"&10,IF(AND(FC$36=5,FA$36=\"元\"),\"平成\"&30&\"年\"&10,IF(AND(FC$36>=6,FA$36=\"元\"),\"令和元年\"&10,IF(AND(FC$36>=1,FC$36<=5,FA$36=2),\"令和元年\"&10,(IF((AND(FC$36>=1,FC$36<=5)),\"令和\"&FA$36-1&\"年\"&10,\"令和\"&FA$36&\"年\"&10)))))))","v":"令和年10"},{"$f":"IF(OR(FB88=\"\",FD$41=4),\"\",IF(AND(FC$36>=1,FC$36<=4,FA$36=31),\"平成\"&30&\"年\"&10,IF(AND(FC$36=5,FA$36=\"元\"),\"平成\"&30&\"年\"&10,IF(AND(FC$36>=6,FA$36=\"元\"),\"令和元年\"&10,IF(AND(FC$36>=1,FC$36<=5,FA$36=2),\"令和元年\"&10,(IF((AND(FC$36>=1,FC$36<=5)),\"令和\"&FA$36-1&\"年\"&10,\"令和\"&FA$36&\"年\"&10)))))))","v":"令和年10"},null,null,null,{"$f":"IF(OR(FG88=\"\",FG$41=11),\"\",10)","v":10},{"$f":"IF(OR(FH88=\"\",FJ$41=4),\"\",IF(AND(FI$36>=1,FI$36<=4,FG$36=31),\"平成\"&30&\"年\"&10,IF(AND(FI$36=5,FG$36=\"元\"),\"平成\"&30&\"年\"&10,IF(AND(FI$36>=6,FG$36=\"元\"),\"令和元年\"&10,IF(AND(FI$36>=1,FI$36<=5,FG$36=2),\"令和元年\"&10,(IF((AND(FI$36>=1,FI$36<=5)),\"令和\"&FG$36-1&\"年\"&10,\"令和\"&FG$36&\"年\"&10)))))))","v":"令和年10"},{"$f":"IF(OR(FH88=\"\",FJ$41=4),\"\",IF(AND(FI$36>=1,FI$36<=4,FG$36=31),\"平成\"&30&\"年\"&10,IF(AND(FI$36=5,FG$36=\"元\"),\"平成\"&30&\"年\"&10,IF(AND(FI$36>=6,FG$36=\"元\"),\"令和元年\"&10,IF(AND(FI$36>=1,FI$36<=5,FG$36=2),\"令和元年\"&10,(IF((AND(FI$36>=1,FI$36<=5)),\"令和\"&FG$36-1&\"年\"&10,\"令和\"&FG$36&\"年\"&10)))))))","v":"令和年10"},null,null,null,{"$f":"IF(OR(FM88=\"\",FM$41=11),\"\",10)","v":10},{"$f":"IF(OR(FN88=\"\",FP$41=4),\"\",IF(AND(FO$36>=1,FO$36<=4,FM$36=31),\"平成\"&30&\"年\"&10,IF(AND(FO$36=5,FM$36=\"元\"),\"平成\"&30&\"年\"&10,IF(AND(FO$36>=6,FM$36=\"元\"),\"令和元年\"&10,IF(AND(FO$36>=1,FO$36<=5,FM$36=2),\"令和元年\"&10,(IF((AND(FO$36>=1,FO$36<=5)),\"令和\"&FM$36-1&\"年\"&10,\"令和\"&FM$36&\"年\"&10)))))))","v":"令和年10"},{"$f":"IF(OR(FN88=\"\",FP$41=4),\"\",IF(AND(FO$36>=1,FO$36<=4,FM$36=31),\"平成\"&30&\"年\"&10,IF(AND(FO$36=5,FM$36=\"元\"),\"平成\"&30&\"年\"&10,IF(AND(FO$36>=6,FM$36=\"元\"),\"令和元年\"&10,IF(AND(FO$36>=1,FO$36<=5,FM$36=2),\"令和元年\"&10,(IF((AND(FO$36>=1,FO$36<=5)),\"令和\"&FM$36-1&\"年\"&10,\"令和\"&FM$36&\"年\"&10)))))))","v":"令和年10"},null,null,null,{"$f":"IF(OR(FS88=\"\",FS$41=11),\"\",10)","v":10},{"$f":"IF(OR(FT88=\"\",FV$41=4),\"\",IF(AND(FU$36>=1,FU$36<=4,FS$36=31),\"平成\"&30&\"年\"&10,IF(AND(FU$36=5,FS$36=\"元\"),\"平成\"&30&\"年\"&10,IF(AND(FU$36>=6,FS$36=\"元\"),\"令和元年\"&10,IF(AND(FU$36>=1,FU$36<=5,FS$36=2),\"令和元年\"&10,(IF((AND(FU$36>=1,FU$36<=5)),\"令和\"&FS$36-1&\"年\"&10,\"令和\"&FS$36&\"年\"&10)))))))","v":"令和年10"},{"$f":"IF(OR(FT88=\"\",FV$41=4),\"\",IF(AND(FU$36>=1,FU$36<=4,FS$36=31),\"平成\"&30&\"年\"&10,IF(AND(FU$36=5,FS$36=\"元\"),\"平成\"&30&\"年\"&10,IF(AND(FU$36>=6,FS$36=\"元\"),\"令和元年\"&10,IF(AND(FU$36>=1,FU$36<=5,FS$36=2),\"令和元年\"&10,(IF((AND(FU$36>=1,FU$36<=5)),\"令和\"&FS$36-1&\"年\"&10,\"令和\"&FS$36&\"年\"&10)))))))","v":"令和年10"},null,null,null,{"$f":"IF(OR(FY88=\"\",FY$41=11),\"\",10)","v":10},{"$f":"IF(OR(FZ88=\"\",GB$41=4),\"\",IF(AND(GA$36>=1,GA$36<=4,FY$36=31),\"平成\"&30&\"年\"&10,IF(AND(GA$36=5,FY$36=\"元\"),\"平成\"&30&\"年\"&10,IF(AND(GA$36>=6,FY$36=\"元\"),\"令和元年\"&10,IF(AND(GA$36>=1,GA$36<=5,FY$36=2),\"令和元年\"&10,(IF((AND(GA$36>=1,GA$36<=5)),\"令和\"&FY$36-1&\"年\"&10,\"令和\"&FY$36&\"年\"&10)))))))","v":"令和年10"},{"$f":"IF(OR(FZ88=\"\",GB$41=4),\"\",IF(AND(GA$36>=1,GA$36<=4,FY$36=31),\"平成\"&30&\"年\"&10,IF(AND(GA$36=5,FY$36=\"元\"),\"平成\"&30&\"年\"&10,IF(AND(GA$36>=6,FY$36=\"元\"),\"令和元年\"&10,IF(AND(GA$36>=1,GA$36<=5,FY$36=2),\"令和元年\"&10,(IF((AND(GA$36>=1,GA$36<=5)),\"令和\"&FY$36-1&\"年\"&10,\"令和\"&FY$36&\"年\"&10)))))))","v":"令和年10"},null,null,null,{"$f":"IF(OR(GE88=\"\",GE$41=11),\"\",10)","v":10},{"$f":"IF(OR(GF88=\"\",GH$41=4),\"\",IF(AND(GG$36>=1,GG$36<=4,GE$36=31),\"平成\"&30&\"年\"&10,IF(AND(GG$36=5,GE$36=\"元\"),\"平成\"&30&\"年\"&10,IF(AND(GG$36>=6,GE$36=\"元\"),\"令和元年\"&10,IF(AND(GG$36>=1,GG$36<=5,GE$36=2),\"令和元年\"&10,(IF((AND(GG$36>=1,GG$36<=5)),\"令和\"&GE$36-1&\"年\"&10,\"令和\"&GE$36&\"年\"&10)))))))","v":"令和年10"},{"$f":"IF(OR(GF88=\"\",GH$41=4),\"\",IF(AND(GG$36>=1,GG$36<=4,GE$36=31),\"平成\"&30&\"年\"&10,IF(AND(GG$36=5,GE$36=\"元\"),\"平成\"&30&\"年\"&10,IF(AND(GG$36>=6,GE$36=\"元\"),\"令和元年\"&10,IF(AND(GG$36>=1,GG$36<=5,GE$36=2),\"令和元年\"&10,(IF((AND(GG$36>=1,GG$36<=5)),\"令和\"&GE$36-1&\"年\"&10,\"令和\"&GE$36&\"年\"&10)))))))","v":"令和年10"},null,null,null,{"$f":"IF(OR(GK88=\"\",GK$41=11),\"\",10)","v":10},{"$f":"IF(OR(GL88=\"\",GN$41=4),\"\",IF(AND(GM$36>=1,GM$36<=4,GK$36=31),\"平成\"&30&\"年\"&10,IF(AND(GM$36=5,GK$36=\"元\"),\"平成\"&30&\"年\"&10,IF(AND(GM$36>=6,GK$36=\"元\"),\"令和元年\"&10,IF(AND(GM$36>=1,GM$36<=5,GK$36=2),\"令和元年\"&10,(IF((AND(GM$36>=1,GM$36<=5)),\"令和\"&GK$36-1&\"年\"&10,\"令和\"&GK$36&\"年\"&10)))))))","v":"令和年10"},{"$f":"IF(OR(GL88=\"\",GN$41=4),\"\",IF(AND(GM$36>=1,GM$36<=4,GK$36=31),\"平成\"&30&\"年\"&10,IF(AND(GM$36=5,GK$36=\"元\"),\"平成\"&30&\"年\"&10,IF(AND(GM$36>=6,GK$36=\"元\"),\"令和元年\"&10,IF(AND(GM$36>=1,GM$36<=5,GK$36=2),\"令和元年\"&10,(IF((AND(GM$36>=1,GM$36<=5)),\"令和\"&GK$36-1&\"年\"&10,\"令和\"&GK$36&\"年\"&10)))))))","v":"令和年10"},null,null,null,{"$f":"IF(OR(GQ88=\"\",GQ$41=11),\"\",10)","v":10},{"$f":"IF(OR(GR88=\"\",GT$41=4),\"\",IF(AND(GS$36>=1,GS$36<=4,GQ$36=31),\"平成\"&30&\"年\"&10,IF(AND(GS$36=5,GQ$36=\"元\"),\"平成\"&30&\"年\"&10,IF(AND(GS$36>=6,GQ$36=\"元\"),\"令和元年\"&10,IF(AND(GS$36>=1,GS$36<=5,GQ$36=2),\"令和元年\"&10,(IF((AND(GS$36>=1,GS$36<=5)),\"令和\"&GQ$36-1&\"年\"&10,\"令和\"&GQ$36&\"年\"&10)))))))","v":"令和年10"},{"$f":"IF(OR(GR88=\"\",GT$41=4),\"\",IF(AND(GS$36>=1,GS$36<=4,GQ$36=31),\"平成\"&30&\"年\"&10,IF(AND(GS$36=5,GQ$36=\"元\"),\"平成\"&30&\"年\"&10,IF(AND(GS$36>=6,GQ$36=\"元\"),\"令和元年\"&10,IF(AND(GS$36>=1,GS$36<=5,GQ$36=2),\"令和元年\"&10,(IF((AND(GS$36>=1,GS$36<=5)),\"令和\"&GQ$36-1&\"年\"&10,\"令和\"&GQ$36&\"年\"&10)))))))","v":"令和年10"},null,null,null,{"$f":"IF(OR(GW88=\"\",GW$41=11),\"\",10)","v":10},{"$f":"IF(OR(GX88=\"\",GZ$41=4),\"\",IF(AND(GY$36>=1,GY$36<=4,GW$36=31),\"平成\"&30&\"年\"&10,IF(AND(GY$36=5,GW$36=\"元\"),\"平成\"&30&\"年\"&10,IF(AND(GY$36>=6,GW$36=\"元\"),\"令和元年\"&10,IF(AND(GY$36>=1,GY$36<=5,GW$36=2),\"令和元年\"&10,(IF((AND(GY$36>=1,GY$36<=5)),\"令和\"&GW$36-1&\"年\"&10,\"令和\"&GW$36&\"年\"&10)))))))","v":"令和年10"},{"$f":"IF(OR(GX88=\"\",GZ$41=4),\"\",IF(AND(GY$36>=1,GY$36<=4,GW$36=31),\"平成\"&30&\"年\"&10,IF(AND(GY$36=5,GW$36=\"元\"),\"平成\"&30&\"年\"&10,IF(AND(GY$36>=6,GW$36=\"元\"),\"令和元年\"&10,IF(AND(GY$36>=1,GY$36<=5,GW$36=2),\"令和元年\"&10,(IF((AND(GY$36>=1,GY$36<=5)),\"令和\"&GW$36-1&\"年\"&10,\"令和\"&GW$36&\"年\"&10)))))))","v":"令和年10"},null,null,null,{"$f":"IF(OR(HC88=\"\",HC$41=11),\"\",10)","v":10},{"$f":"IF(OR(HD88=\"\",HF$41=4),\"\",IF(AND(HE$36>=1,HE$36<=4,HC$36=31),\"平成\"&30&\"年\"&10,IF(AND(HE$36=5,HC$36=\"元\"),\"平成\"&30&\"年\"&10,IF(AND(HE$36>=6,HC$36=\"元\"),\"令和元年\"&10,IF(AND(HE$36>=1,HE$36<=5,HC$36=2),\"令和元年\"&10,(IF((AND(HE$36>=1,HE$36<=5)),\"令和\"&HC$36-1&\"年\"&10,\"令和\"&HC$36&\"年\"&10)))))))","v":"令和年10"},{"$f":"IF(OR(HD88=\"\",HF$41=4),\"\",IF(AND(HE$36>=1,HE$36<=4,HC$36=31),\"平成\"&30&\"年\"&10,IF(AND(HE$36=5,HC$36=\"元\"),\"平成\"&30&\"年\"&10,IF(AND(HE$36>=6,HC$36=\"元\"),\"令和元年\"&10,IF(AND(HE$36>=1,HE$36<=5,HC$36=2),\"令和元年\"&10,(IF((AND(HE$36>=1,HE$36<=5)),\"令和\"&HC$36-1&\"年\"&10,\"令和\"&HC$36&\"年\"&10)))))))","v":"令和年10"},null,null,null,{"$f":"IF(OR(HI88=\"\",HI$41=11),\"\",10)","v":10},{"$f":"IF(OR(HJ88=\"\",HL$41=4),\"\",IF(AND(HK$36>=1,HK$36<=4,HI$36=31),\"平成\"&30&\"年\"&10,IF(AND(HK$36=5,HI$36=\"元\"),\"平成\"&30&\"年\"&10,IF(AND(HK$36>=6,HI$36=\"元\"),\"令和元年\"&10,IF(AND(HK$36>=1,HK$36<=5,HI$36=2),\"令和元年\"&10,(IF((AND(HK$36>=1,HK$36<=5)),\"令和\"&HI$36-1&\"年\"&10,\"令和\"&HI$36&\"年\"&10)))))))","v":"令和年10"},{"$f":"IF(OR(HJ88=\"\",HL$41=4),\"\",IF(AND(HK$36>=1,HK$36<=4,HI$36=31),\"平成\"&30&\"年\"&10,IF(AND(HK$36=5,HI$36=\"元\"),\"平成\"&30&\"年\"&10,IF(AND(HK$36>=6,HI$36=\"元\"),\"令和元年\"&10,IF(AND(HK$36>=1,HK$36<=5,HI$36=2),\"令和元年\"&10,(IF((AND(HK$36>=1,HK$36<=5)),\"令和\"&HI$36-1&\"年\"&10,\"令和\"&HI$36&\"年\"&10)))))))","v":"令和年10"},null,null,null,{"$f":"IF(OR(HO88=\"\",HO$41=11),\"\",10)","v":10},{"$f":"IF(OR(HP88=\"\",HR$41=4),\"\",IF(AND(HQ$36>=1,HQ$36<=4,HO$36=31),\"平成\"&30&\"年\"&10,IF(AND(HQ$36=5,HO$36=\"元\"),\"平成\"&30&\"年\"&10,IF(AND(HQ$36>=6,HO$36=\"元\"),\"令和元年\"&10,IF(AND(HQ$36>=1,HQ$36<=5,HO$36=2),\"令和元年\"&10,(IF((AND(HQ$36>=1,HQ$36<=5)),\"令和\"&HO$36-1&\"年\"&10,\"令和\"&HO$36&\"年\"&10)))))))","v":"令和年10"},{"$f":"IF(OR(HP88=\"\",HR$41=4),\"\",IF(AND(HQ$36>=1,HQ$36<=4,HO$36=31),\"平成\"&30&\"年\"&10,IF(AND(HQ$36=5,HO$36=\"元\"),\"平成\"&30&\"年\"&10,IF(AND(HQ$36>=6,HO$36=\"元\"),\"令和元年\"&10,IF(AND(HQ$36>=1,HQ$36<=5,HO$36=2),\"令和元年\"&10,(IF((AND(HQ$36>=1,HQ$36<=5)),\"令和\"&HO$36-1&\"年\"&10,\"令和\"&HO$36&\"年\"&10)))))))","v":"令和年10"},null,null,null,{"$f":"IF(OR(HU88=\"\",HU$41=11),\"\",10)","v":10},{"$f":"IF(OR(HV88=\"\",HX$41=4),\"\",IF(AND(HW$36>=1,HW$36<=4,HU$36=31),\"平成\"&30&\"年\"&10,IF(AND(HW$36=5,HU$36=\"元\"),\"平成\"&30&\"年\"&10,IF(AND(HW$36>=6,HU$36=\"元\"),\"令和元年\"&10,IF(AND(HW$36>=1,HW$36<=5,HU$36=2),\"令和元年\"&10,(IF((AND(HW$36>=1,HW$36<=5)),\"令和\"&HU$36-1&\"年\"&10,\"令和\"&HU$36&\"年\"&10)))))))","v":"令和年10"},{"$f":"IF(OR(HV88=\"\",HX$41=4),\"\",IF(AND(HW$36>=1,HW$36<=4,HU$36=31),\"平成\"&30&\"年\"&10,IF(AND(HW$36=5,HU$36=\"元\"),\"平成\"&30&\"年\"&10,IF(AND(HW$36>=6,HU$36=\"元\"),\"令和元年\"&10,IF(AND(HW$36>=1,HW$36<=5,HU$36=2),\"令和元年\"&10,(IF((AND(HW$36>=1,HW$36<=5)),\"令和\"&HU$36-1&\"年\"&10,\"令和\"&HU$36&\"年\"&10)))))))","v":"令和年10"},null,null,null,{"$f":"IF(OR(IA88=\"\",IA$41=11),\"\",10)","v":10},{"$f":"IF(OR(IB88=\"\",ID$41=4),\"\",IF(AND(IC$36>=1,IC$36<=4,IA$36=31),\"平成\"&30&\"年\"&10,IF(AND(IC$36=5,IA$36=\"元\"),\"平成\"&30&\"年\"&10,IF(AND(IC$36>=6,IA$36=\"元\"),\"令和元年\"&10,IF(AND(IC$36>=1,IC$36<=5,IA$36=2),\"令和元年\"&10,(IF((AND(IC$36>=1,IC$36<=5)),\"令和\"&IA$36-1&\"年\"&10,\"令和\"&IA$36&\"年\"&10)))))))","v":"令和年10"},{"$f":"IF(OR(IB88=\"\",ID$41=4),\"\",IF(AND(IC$36>=1,IC$36<=4,IA$36=31),\"平成\"&30&\"年\"&10,IF(AND(IC$36=5,IA$36=\"元\"),\"平成\"&30&\"年\"&10,IF(AND(IC$36>=6,IA$36=\"元\"),\"令和元年\"&10,IF(AND(IC$36>=1,IC$36<=5,IA$36=2),\"令和元年\"&10,(IF((AND(IC$36>=1,IC$36<=5)),\"令和\"&IA$36-1&\"年\"&10,\"令和\"&IA$36&\"年\"&10)))))))","v":"令和年10"},null,null,null,{"$f":"IF(OR(IG88=\"\",IG$41=11),\"\",10)","v":10},{"$f":"IF(OR(IH88=\"\",IJ$41=4),\"\",IF(AND(II$36>=1,II$36<=4,IG$36=31),\"平成\"&30&\"年\"&10,IF(AND(II$36=5,IG$36=\"元\"),\"平成\"&30&\"年\"&10,IF(AND(II$36>=6,IG$36=\"元\"),\"令和元年\"&10,IF(AND(II$36>=1,II$36<=5,IG$36=2),\"令和元年\"&10,(IF((AND(II$36>=1,II$36<=5)),\"令和\"&IG$36-1&\"年\"&10,\"令和\"&IG$36&\"年\"&10)))))))","v":"令和年10"},{"$f":"IF(OR(IH88=\"\",IJ$41=4),\"\",IF(AND(II$36>=1,II$36<=4,IG$36=31),\"平成\"&30&\"年\"&10,IF(AND(II$36=5,IG$36=\"元\"),\"平成\"&30&\"年\"&10,IF(AND(II$36>=6,IG$36=\"元\"),\"令和元年\"&10,IF(AND(II$36>=1,II$36<=5,IG$36=2),\"令和元年\"&10,(IF((AND(II$36>=1,II$36<=5)),\"令和\"&IG$36-1&\"年\"&10,\"令和\"&IG$36&\"年\"&10)))))))","v":"令和年10"}]
[null,{"$f":"IF(AND(CS21<>\"\",CS25<>\"\",CU25<>\"\",CW25<>\"\"),CS17,\"\")","v":""},"平",8,"平8",null,{"$f":"IF(OR(G89=\"\",G$41=12),\"\",11)","v":11},{"$f":"IF(OR(H89=\"\",J$41=4),\"\",IF(AND(I$36>=1,I$36<=4,G$36=31),\"平成\"&30&\"年\"&11,IF(AND(I$36=5,G$36=\"元\"),\"平成\"&30&\"年\"&11,IF(AND(I$36>=6,G$36=\"元\"),\"令和元年\"&11,IF(AND(I$36>=1,I$36<=5,G$36=2),\"令和元年\"&11,(IF((AND(I$36>=1,I$36<=5)),\"令和\"&G$36-1&\"年\"&11,\"令和\"&G$36&\"年\"&11)))))))","v":"令和年11"},{"$f":"IF(OR(H89=\"\",J$41=4),\"\",IF(AND(I$36>=1,I$36<=4,G$36=31),\"平成\"&30&\"年\"&11,IF(AND(I$36=5,G$36=\"元\"),\"平成\"&30&\"年\"&11,IF(AND(I$36>=6,G$36=\"元\"),\"令和元年\"&11,IF(AND(I$36>=1,I$36<=5,G$36=2),\"令和元年\"&11,(IF((AND(I$36>=1,I$36<=5)),\"令和\"&G$36-1&\"年\"&11,\"令和\"&G$36&\"年\"&11)))))))","v":"令和年11"},null,null,null,{"$f":"IF(OR(M89=\"\",M$41=12),\"\",11)","v":11},{"$f":"IF(OR(N89=\"\",P$41=4),\"\",IF(AND(O$36>=1,O$36<=4,M$36=31),\"平成\"&30&\"年\"&11,IF(AND(O$36=5,M$36=\"元\"),\"平成\"&30&\"年\"&11,IF(AND(O$36>=6,M$36=\"元\"),\"令和元年\"&11,IF(AND(O$36>=1,O$36<=5,M$36=2),\"令和元年\"&11,(IF((AND(O$36>=1,O$36<=5)),\"令和\"&M$36-1&\"年\"&11,\"令和\"&M$36&\"年\"&11)))))))","v":"令和年11"},{"$f":"IF(OR(N89=\"\",P$41=4),\"\",IF(AND(O$36>=1,O$36<=4,M$36=31),\"平成\"&30&\"年\"&11,IF(AND(O$36=5,M$36=\"元\"),\"平成\"&30&\"年\"&11,IF(AND(O$36>=6,M$36=\"元\"),\"令和元年\"&11,IF(AND(O$36>=1,O$36<=5,M$36=2),\"令和元年\"&11,(IF((AND(O$36>=1,O$36<=5)),\"令和\"&M$36-1&\"年\"&11,\"令和\"&M$36&\"年\"&11)))))))","v":"令和年11"},null,null,null,{"$f":"IF(OR(S89=\"\",S$41=12),\"\",11)","v":11},{"$f":"IF(OR(T89=\"\",V$41=4),\"\",IF(AND(U$36>=1,U$36<=4,S$36=31),\"平成\"&30&\"年\"&11,IF(AND(U$36=5,S$36=\"元\"),\"平成\"&30&\"年\"&11,IF(AND(U$36>=6,S$36=\"元\"),\"令和元年\"&11,IF(AND(U$36>=1,U$36<=5,S$36=2),\"令和元年\"&11,(IF((AND(U$36>=1,U$36<=5)),\"令和\"&S$36-1&\"年\"&11,\"令和\"&S$36&\"年\"&11)))))))","v":"令和年11"},{"$f":"IF(OR(T89=\"\",V$41=4),\"\",IF(AND(U$36>=1,U$36<=4,S$36=31),\"平成\"&30&\"年\"&11,IF(AND(U$36=5,S$36=\"元\"),\"平成\"&30&\"年\"&11,IF(AND(U$36>=6,S$36=\"元\"),\"令和元年\"&11,IF(AND(U$36>=1,U$36<=5,S$36=2),\"令和元年\"&11,(IF((AND(U$36>=1,U$36<=5)),\"令和\"&S$36-1&\"年\"&11,\"令和\"&S$36&\"年\"&11)))))))","v":"令和年11"},null,null,null,{"$f":"IF(OR(Y89=\"\",Y$41=12),\"\",11)","v":11},{"$f":"IF(OR(Z89=\"\",AB$41=4),\"\",IF(AND(AA$36>=1,AA$36<=4,Y$36=31),\"平成\"&30&\"年\"&11,IF(AND(AA$36=5,Y$36=\"元\"),\"平成\"&30&\"年\"&11,IF(AND(AA$36>=6,Y$36=\"元\"),\"令和元年\"&11,IF(AND(AA$36>=1,AA$36<=5,Y$36=2),\"令和元年\"&11,(IF((AND(AA$36>=1,AA$36<=5)),\"令和\"&Y$36-1&\"年\"&11,\"令和\"&Y$36&\"年\"&11)))))))","v":"令和年11"},{"$f":"IF(OR(Z89=\"\",AB$41=4),\"\",IF(AND(AA$36>=1,AA$36<=4,Y$36=31),\"平成\"&30&\"年\"&11,IF(AND(AA$36=5,Y$36=\"元\"),\"平成\"&30&\"年\"&11,IF(AND(AA$36>=6,Y$36=\"元\"),\"令和元年\"&11,IF(AND(AA$36>=1,AA$36<=5,Y$36=2),\"令和元年\"&11,(IF((AND(AA$36>=1,AA$36<=5)),\"令和\"&Y$36-1&\"年\"&11,\"令和\"&Y$36&\"年\"&11)))))))","v":"令和年11"},null,null,null,{"$f":"IF(OR(AE89=\"\",AE$41=12),\"\",11)","v":11},{"$f":"IF(OR(AF89=\"\",AH$41=4),\"\",IF(AND(AG$36>=1,AG$36<=4,AE$36=31),\"平成\"&30&\"年\"&11,IF(AND(AG$36=5,AE$36=\"元\"),\"平成\"&30&\"年\"&11,IF(AND(AG$36>=6,AE$36=\"元\"),\"令和元年\"&11,IF(AND(AG$36>=1,AG$36<=5,AE$36=2),\"令和元年\"&11,(IF((AND(AG$36>=1,AG$36<=5)),\"令和\"&AE$36-1&\"年\"&11,\"令和\"&AE$36&\"年\"&11)))))))","v":"令和年11"},{"$f":"IF(OR(AF89=\"\",AH$41=4),\"\",IF(AND(AG$36>=1,AG$36<=4,AE$36=31),\"平成\"&30&\"年\"&11,IF(AND(AG$36=5,AE$36=\"元\"),\"平成\"&30&\"年\"&11,IF(AND(AG$36>=6,AE$36=\"元\"),\"令和元年\"&11,IF(AND(AG$36>=1,AG$36<=5,AE$36=2),\"令和元年\"&11,(IF((AND(AG$36>=1,AG$36<=5)),\"令和\"&AE$36-1&\"年\"&11,\"令和\"&AE$36&\"年\"&11)))))))","v":"令和年11"},null,null,null,{"$f":"IF(OR(AK89=\"\",AK$41=12),\"\",11)","v":11},{"$f":"IF(OR(AL89=\"\",AN$41=4),\"\",IF(AND(AM$36>=1,AM$36<=4,AK$36=31),\"平成\"&30&\"年\"&11,IF(AND(AM$36=5,AK$36=\"元\"),\"平成\"&30&\"年\"&11,IF(AND(AM$36>=6,AK$36=\"元\"),\"令和元年\"&11,IF(AND(AM$36>=1,AM$36<=5,AK$36=2),\"令和元年\"&11,(IF((AND(AM$36>=1,AM$36<=5)),\"令和\"&AK$36-1&\"年\"&11,\"令和\"&AK$36&\"年\"&11)))))))","v":"令和年11"},{"$f":"IF(OR(AL89=\"\",AN$41=4),\"\",IF(AND(AM$36>=1,AM$36<=4,AK$36=31),\"平成\"&30&\"年\"&11,IF(AND(AM$36=5,AK$36=\"元\"),\"平成\"&30&\"年\"&11,IF(AND(AM$36>=6,AK$36=\"元\"),\"令和元年\"&11,IF(AND(AM$36>=1,AM$36<=5,AK$36=2),\"令和元年\"&11,(IF((AND(AM$36>=1,AM$36<=5)),\"令和\"&AK$36-1&\"年\"&11,\"令和\"&AK$36&\"年\"&11)))))))","v":"令和年11"},null,null,null,{"$f":"IF(OR(AQ89=\"\",AQ$41=12),\"\",11)","v":11},{"$f":"IF(OR(AR89=\"\",AT$41=4),\"\",IF(AND(AS$36>=1,AS$36<=4,AQ$36=31),\"平成\"&30&\"年\"&11,IF(AND(AS$36=5,AQ$36=\"元\"),\"平成\"&30&\"年\"&11,IF(AND(AS$36>=6,AQ$36=\"元\"),\"令和元年\"&11,IF(AND(AS$36>=1,AS$36<=5,AQ$36=2),\"令和元年\"&11,(IF((AND(AS$36>=1,AS$36<=5)),\"令和\"&AQ$36-1&\"年\"&11,\"令和\"&AQ$36&\"年\"&11)))))))","v":"令和年11"},{"$f":"IF(OR(AR89=\"\",AT$41=4),\"\",IF(AND(AS$36>=1,AS$36<=4,AQ$36=31),\"平成\"&30&\"年\"&11,IF(AND(AS$36=5,AQ$36=\"元\"),\"平成\"&30&\"年\"&11,IF(AND(AS$36>=6,AQ$36=\"元\"),\"令和元年\"&11,IF(AND(AS$36>=1,AS$36<=5,AQ$36=2),\"令和元年\"&11,(IF((AND(AS$36>=1,AS$36<=5)),\"令和\"&AQ$36-1&\"年\"&11,\"令和\"&AQ$36&\"年\"&11)))))))","v":"令和年11"},null,null,null,{"$f":"IF(OR(AW89=\"\",AW$41=12),\"\",11)","v":11},{"$f":"IF(OR(AX89=\"\",AZ$41=4),\"\",IF(AND(AY$36>=1,AY$36<=4,AW$36=31),\"平成\"&30&\"年\"&11,IF(AND(AY$36=5,AW$36=\"元\"),\"平成\"&30&\"年\"&11,IF(AND(AY$36>=6,AW$36=\"元\"),\"令和元年\"&11,IF(AND(AY$36>=1,AY$36<=5,AW$36=2),\"令和元年\"&11,(IF((AND(AY$36>=1,AY$36<=5)),\"令和\"&AW$36-1&\"年\"&11,\"令和\"&AW$36&\"年\"&11)))))))","v":"令和年11"},{"$f":"IF(OR(AX89=\"\",AZ$41=4),\"\",IF(AND(AY$36>=1,AY$36<=4,AW$36=31),\"平成\"&30&\"年\"&11,IF(AND(AY$36=5,AW$36=\"元\"),\"平成\"&30&\"年\"&11,IF(AND(AY$36>=6,AW$36=\"元\"),\"令和元年\"&11,IF(AND(AY$36>=1,AY$36<=5,AW$36=2),\"令和元年\"&11,(IF((AND(AY$36>=1,AY$36<=5)),\"令和\"&AW$36-1&\"年\"&11,\"令和\"&AW$36&\"年\"&11)))))))","v":"令和年11"},null,null,null,{"$f":"IF(OR(BC89=\"\",BC$41=12),\"\",11)","v":11},{"$f":"IF(OR(BD89=\"\",BF$41=4),\"\",IF(AND(BE$36>=1,BE$36<=4,BC$36=31),\"平成\"&30&\"年\"&11,IF(AND(BE$36=5,BC$36=\"元\"),\"平成\"&30&\"年\"&11,IF(AND(BE$36>=6,BC$36=\"元\"),\"令和元年\"&11,IF(AND(BE$36>=1,BE$36<=5,BC$36=2),\"令和元年\"&11,(IF((AND(BE$36>=1,BE$36<=5)),\"令和\"&BC$36-1&\"年\"&11,\"令和\"&BC$36&\"年\"&11)))))))","v":"令和年11"},{"$f":"IF(OR(BD89=\"\",BF$41=4),\"\",IF(AND(BE$36>=1,BE$36<=4,BC$36=31),\"平成\"&30&\"年\"&11,IF(AND(BE$36=5,BC$36=\"元\"),\"平成\"&30&\"年\"&11,IF(AND(BE$36>=6,BC$36=\"元\"),\"令和元年\"&11,IF(AND(BE$36>=1,BE$36<=5,BC$36=2),\"令和元年\"&11,(IF((AND(BE$36>=1,BE$36<=5)),\"令和\"&BC$36-1&\"年\"&11,\"令和\"&BC$36&\"年\"&11)))))))","v":"令和年11"},null,null,null,{"$f":"IF(OR(BI89=\"\",BI$41=12),\"\",11)","v":11},{"$f":"IF(OR(BJ89=\"\",BL$41=4),\"\",IF(AND(BK$36>=1,BK$36<=4,BI$36=31),\"平成\"&30&\"年\"&11,IF(AND(BK$36=5,BI$36=\"元\"),\"平成\"&30&\"年\"&11,IF(AND(BK$36>=6,BI$36=\"元\"),\"令和元年\"&11,IF(AND(BK$36>=1,BK$36<=5,BI$36=2),\"令和元年\"&11,(IF((AND(BK$36>=1,BK$36<=5)),\"令和\"&BI$36-1&\"年\"&11,\"令和\"&BI$36&\"年\"&11)))))))","v":"令和年11"},{"$f":"IF(OR(BJ89=\"\",BL$41=4),\"\",IF(AND(BK$36>=1,BK$36<=4,BI$36=31),\"平成\"&30&\"年\"&11,IF(AND(BK$36=5,BI$36=\"元\"),\"平成\"&30&\"年\"&11,IF(AND(BK$36>=6,BI$36=\"元\"),\"令和元年\"&11,IF(AND(BK$36>=1,BK$36<=5,BI$36=2),\"令和元年\"&11,(IF((AND(BK$36>=1,BK$36<=5)),\"令和\"&BI$36-1&\"年\"&11,\"令和\"&BI$36&\"年\"&11)))))))","v":"令和年11"},null,null,null,{"$f":"IF(OR(BO89=\"\",BO$41=12),\"\",11)","v":11},{"$f":"IF(OR(BP89=\"\",BR$41=4),\"\",IF(AND(BQ$36>=1,BQ$36<=4,BO$36=31),\"平成\"&30&\"年\"&11,IF(AND(BQ$36=5,BO$36=\"元\"),\"平成\"&30&\"年\"&11,IF(AND(BQ$36>=6,BO$36=\"元\"),\"令和元年\"&11,IF(AND(BQ$36>=1,BQ$36<=5,BO$36=2),\"令和元年\"&11,(IF((AND(BQ$36>=1,BQ$36<=5)),\"令和\"&BO$36-1&\"年\"&11,\"令和\"&BO$36&\"年\"&11)))))))","v":"令和年11"},{"$f":"IF(OR(BP89=\"\",BR$41=4),\"\",IF(AND(BQ$36>=1,BQ$36<=4,BO$36=31),\"平成\"&30&\"年\"&11,IF(AND(BQ$36=5,BO$36=\"元\"),\"平成\"&30&\"年\"&11,IF(AND(BQ$36>=6,BO$36=\"元\"),\"令和元年\"&11,IF(AND(BQ$36>=1,BQ$36<=5,BO$36=2),\"令和元年\"&11,(IF((AND(BQ$36>=1,BQ$36<=5)),\"令和\"&BO$36-1&\"年\"&11,\"令和\"&BO$36&\"年\"&11)))))))","v":"令和年11"},null,null,null,{"$f":"IF(OR(BU89=\"\",BU$41=12),\"\",11)","v":11},{"$f":"IF(OR(BV89=\"\",BX$41=4),\"\",IF(AND(BW$36>=1,BW$36<=4,BU$36=31),\"平成\"&30&\"年\"&11,IF(AND(BW$36=5,BU$36=\"元\"),\"平成\"&30&\"年\"&11,IF(AND(BW$36>=6,BU$36=\"元\"),\"令和元年\"&11,IF(AND(BW$36>=1,BW$36<=5,BU$36=2),\"令和元年\"&11,(IF((AND(BW$36>=1,BW$36<=5)),\"令和\"&BU$36-1&\"年\"&11,\"令和\"&BU$36&\"年\"&11)))))))","v":"令和年11"},{"$f":"IF(OR(BV89=\"\",BX$41=4),\"\",IF(AND(BW$36>=1,BW$36<=4,BU$36=31),\"平成\"&30&\"年\"&11,IF(AND(BW$36=5,BU$36=\"元\"),\"平成\"&30&\"年\"&11,IF(AND(BW$36>=6,BU$36=\"元\"),\"令和元年\"&11,IF(AND(BW$36>=1,BW$36<=5,BU$36=2),\"令和元年\"&11,(IF((AND(BW$36>=1,BW$36<=5)),\"令和\"&BU$36-1&\"年\"&11,\"令和\"&BU$36&\"年\"&11)))))))","v":"令和年11"},null,null,null,{"$f":"IF(OR(CA89=\"\",CA$41=12),\"\",11)","v":11},{"$f":"IF(OR(CB89=\"\",CD$41=4),\"\",IF(AND(CC$36>=1,CC$36<=4,CA$36=31),\"平成\"&30&\"年\"&11,IF(AND(CC$36=5,CA$36=\"元\"),\"平成\"&30&\"年\"&11,IF(AND(CC$36>=6,CA$36=\"元\"),\"令和元年\"&11,IF(AND(CC$36>=1,CC$36<=5,CA$36=2),\"令和元年\"&11,(IF((AND(CC$36>=1,CC$36<=5)),\"令和\"&CA$36-1&\"年\"&11,\"令和\"&CA$36&\"年\"&11)))))))","v":"令和年11"},{"$f":"IF(OR(CB89=\"\",CD$41=4),\"\",IF(AND(CC$36>=1,CC$36<=4,CA$36=31),\"平成\"&30&\"年\"&11,IF(AND(CC$36=5,CA$36=\"元\"),\"平成\"&30&\"年\"&11,IF(AND(CC$36>=6,CA$36=\"元\"),\"令和元年\"&11,IF(AND(CC$36>=1,CC$36<=5,CA$36=2),\"令和元年\"&11,(IF((AND(CC$36>=1,CC$36<=5)),\"令和\"&CA$36-1&\"年\"&11,\"令和\"&CA$36&\"年\"&11)))))))","v":"令和年11"},null,null,null,{"$f":"IF(OR(CG89=\"\",CG$41=12),\"\",11)","v":11},{"$f":"IF(OR(CH89=\"\",CJ$41=4),\"\",IF(AND(CI$36>=1,CI$36<=4,CG$36=31),\"平成\"&30&\"年\"&11,IF(AND(CI$36=5,CG$36=\"元\"),\"平成\"&30&\"年\"&11,IF(AND(CI$36>=6,CG$36=\"元\"),\"令和元年\"&11,IF(AND(CI$36>=1,CI$36<=5,CG$36=2),\"令和元年\"&11,(IF((AND(CI$36>=1,CI$36<=5)),\"令和\"&CG$36-1&\"年\"&11,\"令和\"&CG$36&\"年\"&11)))))))","v":"令和年11"},{"$f":"IF(OR(CH89=\"\",CJ$41=4),\"\",IF(AND(CI$36>=1,CI$36<=4,CG$36=31),\"平成\"&30&\"年\"&11,IF(AND(CI$36=5,CG$36=\"元\"),\"平成\"&30&\"年\"&11,IF(AND(CI$36>=6,CG$36=\"元\"),\"令和元年\"&11,IF(AND(CI$36>=1,CI$36<=5,CG$36=2),\"令和元年\"&11,(IF((AND(CI$36>=1,CI$36<=5)),\"令和\"&CG$36-1&\"年\"&11,\"令和\"&CG$36&\"年\"&11)))))))","v":"令和年11"},null,null,null,{"$f":"IF(OR(CM89=\"\",CM$41=12),\"\",11)","v":11},{"$f":"IF(OR(CN89=\"\",CP$41=4),\"\",IF(AND(CO$36>=1,CO$36<=4,CM$36=31),\"平成\"&30&\"年\"&11,IF(AND(CO$36=5,CM$36=\"元\"),\"平成\"&30&\"年\"&11,IF(AND(CO$36>=6,CM$36=\"元\"),\"令和元年\"&11,IF(AND(CO$36>=1,CO$36<=5,CM$36=2),\"令和元年\"&11,(IF((AND(CO$36>=1,CO$36<=5)),\"令和\"&CM$36-1&\"年\"&11,\"令和\"&CM$36&\"年\"&11)))))))","v":"令和年11"},{"$f":"IF(OR(CN89=\"\",CP$41=4),\"\",IF(AND(CO$36>=1,CO$36<=4,CM$36=31),\"平成\"&30&\"年\"&11,IF(AND(CO$36=5,CM$36=\"元\"),\"平成\"&30&\"年\"&11,IF(AND(CO$36>=6,CM$36=\"元\"),\"令和元年\"&11,IF(AND(CO$36>=1,CO$36<=5,CM$36=2),\"令和元年\"&11,(IF((AND(CO$36>=1,CO$36<=5)),\"令和\"&CM$36-1&\"年\"&11,\"令和\"&CM$36&\"年\"&11)))))))","v":"令和年11"},null,null,null,{"$f":"IF(OR(CS89=\"\",CS$41=12),\"\",11)","v":11},{"$f":"IF(OR(CT89=\"\",CV$41=4),\"\",IF(AND(CU$36>=1,CU$36<=4,CS$36=31),\"平成\"&30&\"年\"&11,IF(AND(CU$36=5,CS$36=\"元\"),\"平成\"&30&\"年\"&11,IF(AND(CU$36>=6,CS$36=\"元\"),\"令和元年\"&11,IF(AND(CU$36>=1,CU$36<=5,CS$36=2),\"令和元年\"&11,(IF((AND(CU$36>=1,CU$36<=5)),\"令和\"&CS$36-1&\"年\"&11,\"令和\"&CS$36&\"年\"&11)))))))","v":"令和年11"},{"$f":"IF(OR(CT89=\"\",CV$41=4),\"\",IF(AND(CU$36>=1,CU$36<=4,CS$36=31),\"平成\"&30&\"年\"&11,IF(AND(CU$36=5,CS$36=\"元\"),\"平成\"&30&\"年\"&11,IF(AND(CU$36>=6,CS$36=\"元\"),\"令和元年\"&11,IF(AND(CU$36>=1,CU$36<=5,CS$36=2),\"令和元年\"&11,(IF((AND(CU$36>=1,CU$36<=5)),\"令和\"&CS$36-1&\"年\"&11,\"令和\"&CS$36&\"年\"&11)))))))","v":"令和年11"},null,null,null,{"$f":"IF(OR(CY89=\"\",CY$41=12),\"\",11)","v":11},{"$f":"IF(OR(CZ89=\"\",DB$41=4),\"\",IF(AND(DA$36>=1,DA$36<=4,CY$36=31),\"平成\"&30&\"年\"&11,IF(AND(DA$36=5,CY$36=\"元\"),\"平成\"&30&\"年\"&11,IF(AND(DA$36>=6,CY$36=\"元\"),\"令和元年\"&11,IF(AND(DA$36>=1,DA$36<=5,CY$36=2),\"令和元年\"&11,(IF((AND(DA$36>=1,DA$36<=5)),\"令和\"&CY$36-1&\"年\"&11,\"令和\"&CY$36&\"年\"&11)))))))","v":"令和年11"},{"$f":"IF(OR(CZ89=\"\",DB$41=4),\"\",IF(AND(DA$36>=1,DA$36<=4,CY$36=31),\"平成\"&30&\"年\"&11,IF(AND(DA$36=5,CY$36=\"元\"),\"平成\"&30&\"年\"&11,IF(AND(DA$36>=6,CY$36=\"元\"),\"令和元年\"&11,IF(AND(DA$36>=1,DA$36<=5,CY$36=2),\"令和元年\"&11,(IF((AND(DA$36>=1,DA$36<=5)),\"令和\"&CY$36-1&\"年\"&11,\"令和\"&CY$36&\"年\"&11)))))))","v":"令和年11"},null,null,null,{"$f":"IF(OR(DE89=\"\",DE$41=12),\"\",11)","v":11},{"$f":"IF(OR(DF89=\"\",DH$41=4),\"\",IF(AND(DG$36>=1,DG$36<=4,DE$36=31),\"平成\"&30&\"年\"&11,IF(AND(DG$36=5,DE$36=\"元\"),\"平成\"&30&\"年\"&11,IF(AND(DG$36>=6,DE$36=\"元\"),\"令和元年\"&11,IF(AND(DG$36>=1,DG$36<=5,DE$36=2),\"令和元年\"&11,(IF((AND(DG$36>=1,DG$36<=5)),\"令和\"&DE$36-1&\"年\"&11,\"令和\"&DE$36&\"年\"&11)))))))","v":"令和年11"},{"$f":"IF(OR(DF89=\"\",DH$41=4),\"\",IF(AND(DG$36>=1,DG$36<=4,DE$36=31),\"平成\"&30&\"年\"&11,IF(AND(DG$36=5,DE$36=\"元\"),\"平成\"&30&\"年\"&11,IF(AND(DG$36>=6,DE$36=\"元\"),\"令和元年\"&11,IF(AND(DG$36>=1,DG$36<=5,DE$36=2),\"令和元年\"&11,(IF((AND(DG$36>=1,DG$36<=5)),\"令和\"&DE$36-1&\"年\"&11,\"令和\"&DE$36&\"年\"&11)))))))","v":"令和年11"},null,null,null,{"$f":"IF(OR(DK89=\"\",DK$41=12),\"\",11)","v":11},{"$f":"IF(OR(DL89=\"\",DN$41=4),\"\",IF(AND(DM$36>=1,DM$36<=4,DK$36=31),\"平成\"&30&\"年\"&11,IF(AND(DM$36=5,DK$36=\"元\"),\"平成\"&30&\"年\"&11,IF(AND(DM$36>=6,DK$36=\"元\"),\"令和元年\"&11,IF(AND(DM$36>=1,DM$36<=5,DK$36=2),\"令和元年\"&11,(IF((AND(DM$36>=1,DM$36<=5)),\"令和\"&DK$36-1&\"年\"&11,\"令和\"&DK$36&\"年\"&11)))))))","v":"令和年11"},{"$f":"IF(OR(DL89=\"\",DN$41=4),\"\",IF(AND(DM$36>=1,DM$36<=4,DK$36=31),\"平成\"&30&\"年\"&11,IF(AND(DM$36=5,DK$36=\"元\"),\"平成\"&30&\"年\"&11,IF(AND(DM$36>=6,DK$36=\"元\"),\"令和元年\"&11,IF(AND(DM$36>=1,DM$36<=5,DK$36=2),\"令和元年\"&11,(IF((AND(DM$36>=1,DM$36<=5)),\"令和\"&DK$36-1&\"年\"&11,\"令和\"&DK$36&\"年\"&11)))))))","v":"令和年11"},null,null,null,{"$f":"IF(OR(DQ89=\"\",DQ$41=12),\"\",11)","v":11},{"$f":"IF(OR(DR89=\"\",DT$41=4),\"\",IF(AND(DS$36>=1,DS$36<=4,DQ$36=31),\"平成\"&30&\"年\"&11,IF(AND(DS$36=5,DQ$36=\"元\"),\"平成\"&30&\"年\"&11,IF(AND(DS$36>=6,DQ$36=\"元\"),\"令和元年\"&11,IF(AND(DS$36>=1,DS$36<=5,DQ$36=2),\"令和元年\"&11,(IF((AND(DS$36>=1,DS$36<=5)),\"令和\"&DQ$36-1&\"年\"&11,\"令和\"&DQ$36&\"年\"&11)))))))","v":"令和年11"},{"$f":"IF(OR(DR89=\"\",DT$41=4),\"\",IF(AND(DS$36>=1,DS$36<=4,DQ$36=31),\"平成\"&30&\"年\"&11,IF(AND(DS$36=5,DQ$36=\"元\"),\"平成\"&30&\"年\"&11,IF(AND(DS$36>=6,DQ$36=\"元\"),\"令和元年\"&11,IF(AND(DS$36>=1,DS$36<=5,DQ$36=2),\"令和元年\"&11,(IF((AND(DS$36>=1,DS$36<=5)),\"令和\"&DQ$36-1&\"年\"&11,\"令和\"&DQ$36&\"年\"&11)))))))","v":"令和年11"},null,null,null,{"$f":"IF(OR(DW89=\"\",DW$41=12),\"\",11)","v":11},{"$f":"IF(OR(DX89=\"\",DZ$41=4),\"\",IF(AND(DY$36>=1,DY$36<=4,DW$36=31),\"平成\"&30&\"年\"&11,IF(AND(DY$36=5,DW$36=\"元\"),\"平成\"&30&\"年\"&11,IF(AND(DY$36>=6,DW$36=\"元\"),\"令和元年\"&11,IF(AND(DY$36>=1,DY$36<=5,DW$36=2),\"令和元年\"&11,(IF((AND(DY$36>=1,DY$36<=5)),\"令和\"&DW$36-1&\"年\"&11,\"令和\"&DW$36&\"年\"&11)))))))","v":"令和年11"},{"$f":"IF(OR(DX89=\"\",DZ$41=4),\"\",IF(AND(DY$36>=1,DY$36<=4,DW$36=31),\"平成\"&30&\"年\"&11,IF(AND(DY$36=5,DW$36=\"元\"),\"平成\"&30&\"年\"&11,IF(AND(DY$36>=6,DW$36=\"元\"),\"令和元年\"&11,IF(AND(DY$36>=1,DY$36<=5,DW$36=2),\"令和元年\"&11,(IF((AND(DY$36>=1,DY$36<=5)),\"令和\"&DW$36-1&\"年\"&11,\"令和\"&DW$36&\"年\"&11)))))))","v":"令和年11"},null,null,null,{"$f":"IF(OR(EC89=\"\",EC$41=12),\"\",11)","v":11},{"$f":"IF(OR(ED89=\"\",EF$41=4),\"\",IF(AND(EE$36>=1,EE$36<=4,EC$36=31),\"平成\"&30&\"年\"&11,IF(AND(EE$36=5,EC$36=\"元\"),\"平成\"&30&\"年\"&11,IF(AND(EE$36>=6,EC$36=\"元\"),\"令和元年\"&11,IF(AND(EE$36>=1,EE$36<=5,EC$36=2),\"令和元年\"&11,(IF((AND(EE$36>=1,EE$36<=5)),\"令和\"&EC$36-1&\"年\"&11,\"令和\"&EC$36&\"年\"&11)))))))","v":"令和年11"},{"$f":"IF(OR(ED89=\"\",EF$41=4),\"\",IF(AND(EE$36>=1,EE$36<=4,EC$36=31),\"平成\"&30&\"年\"&11,IF(AND(EE$36=5,EC$36=\"元\"),\"平成\"&30&\"年\"&11,IF(AND(EE$36>=6,EC$36=\"元\"),\"令和元年\"&11,IF(AND(EE$36>=1,EE$36<=5,EC$36=2),\"令和元年\"&11,(IF((AND(EE$36>=1,EE$36<=5)),\"令和\"&EC$36-1&\"年\"&11,\"令和\"&EC$36&\"年\"&11)))))))","v":"令和年11"},null,null,null,{"$f":"IF(OR(EI89=\"\",EI$41=12),\"\",11)","v":11},{"$f":"IF(OR(EJ89=\"\",EL$41=4),\"\",IF(AND(EK$36>=1,EK$36<=4,EI$36=31),\"平成\"&30&\"年\"&11,IF(AND(EK$36=5,EI$36=\"元\"),\"平成\"&30&\"年\"&11,IF(AND(EK$36>=6,EI$36=\"元\"),\"令和元年\"&11,IF(AND(EK$36>=1,EK$36<=5,EI$36=2),\"令和元年\"&11,(IF((AND(EK$36>=1,EK$36<=5)),\"令和\"&EI$36-1&\"年\"&11,\"令和\"&EI$36&\"年\"&11)))))))","v":"令和年11"},{"$f":"IF(OR(EJ89=\"\",EL$41=4),\"\",IF(AND(EK$36>=1,EK$36<=4,EI$36=31),\"平成\"&30&\"年\"&11,IF(AND(EK$36=5,EI$36=\"元\"),\"平成\"&30&\"年\"&11,IF(AND(EK$36>=6,EI$36=\"元\"),\"令和元年\"&11,IF(AND(EK$36>=1,EK$36<=5,EI$36=2),\"令和元年\"&11,(IF((AND(EK$36>=1,EK$36<=5)),\"令和\"&EI$36-1&\"年\"&11,\"令和\"&EI$36&\"年\"&11)))))))","v":"令和年11"},null,null,null,{"$f":"IF(OR(EO89=\"\",EO$41=12),\"\",11)","v":11},{"$f":"IF(OR(EP89=\"\",ER$41=4),\"\",IF(AND(EQ$36>=1,EQ$36<=4,EO$36=31),\"平成\"&30&\"年\"&11,IF(AND(EQ$36=5,EO$36=\"元\"),\"平成\"&30&\"年\"&11,IF(AND(EQ$36>=6,EO$36=\"元\"),\"令和元年\"&11,IF(AND(EQ$36>=1,EQ$36<=5,EO$36=2),\"令和元年\"&11,(IF((AND(EQ$36>=1,EQ$36<=5)),\"令和\"&EO$36-1&\"年\"&11,\"令和\"&EO$36&\"年\"&11)))))))","v":"令和年11"},{"$f":"IF(OR(EP89=\"\",ER$41=4),\"\",IF(AND(EQ$36>=1,EQ$36<=4,EO$36=31),\"平成\"&30&\"年\"&11,IF(AND(EQ$36=5,EO$36=\"元\"),\"平成\"&30&\"年\"&11,IF(AND(EQ$36>=6,EO$36=\"元\"),\"令和元年\"&11,IF(AND(EQ$36>=1,EQ$36<=5,EO$36=2),\"令和元年\"&11,(IF((AND(EQ$36>=1,EQ$36<=5)),\"令和\"&EO$36-1&\"年\"&11,\"令和\"&EO$36&\"年\"&11)))))))","v":"令和年11"},null,null,null,{"$f":"IF(OR(EU89=\"\",EU$41=12),\"\",11)","v":11},{"$f":"IF(OR(EV89=\"\",EX$41=4),\"\",IF(AND(EW$36>=1,EW$36<=4,EU$36=31),\"平成\"&30&\"年\"&11,IF(AND(EW$36=5,EU$36=\"元\"),\"平成\"&30&\"年\"&11,IF(AND(EW$36>=6,EU$36=\"元\"),\"令和元年\"&11,IF(AND(EW$36>=1,EW$36<=5,EU$36=2),\"令和元年\"&11,(IF((AND(EW$36>=1,EW$36<=5)),\"令和\"&EU$36-1&\"年\"&11,\"令和\"&EU$36&\"年\"&11)))))))","v":"令和年11"},{"$f":"IF(OR(EV89=\"\",EX$41=4),\"\",IF(AND(EW$36>=1,EW$36<=4,EU$36=31),\"平成\"&30&\"年\"&11,IF(AND(EW$36=5,EU$36=\"元\"),\"平成\"&30&\"年\"&11,IF(AND(EW$36>=6,EU$36=\"元\"),\"令和元年\"&11,IF(AND(EW$36>=1,EW$36<=5,EU$36=2),\"令和元年\"&11,(IF((AND(EW$36>=1,EW$36<=5)),\"令和\"&EU$36-1&\"年\"&11,\"令和\"&EU$36&\"年\"&11)))))))","v":"令和年11"},null,null,null,{"$f":"IF(OR(FA89=\"\",FA$41=12),\"\",11)","v":11},{"$f":"IF(OR(FB89=\"\",FD$41=4),\"\",IF(AND(FC$36>=1,FC$36<=4,FA$36=31),\"平成\"&30&\"年\"&11,IF(AND(FC$36=5,FA$36=\"元\"),\"平成\"&30&\"年\"&11,IF(AND(FC$36>=6,FA$36=\"元\"),\"令和元年\"&11,IF(AND(FC$36>=1,FC$36<=5,FA$36=2),\"令和元年\"&11,(IF((AND(FC$36>=1,FC$36<=5)),\"令和\"&FA$36-1&\"年\"&11,\"令和\"&FA$36&\"年\"&11)))))))","v":"令和年11"},{"$f":"IF(OR(FB89=\"\",FD$41=4),\"\",IF(AND(FC$36>=1,FC$36<=4,FA$36=31),\"平成\"&30&\"年\"&11,IF(AND(FC$36=5,FA$36=\"元\"),\"平成\"&30&\"年\"&11,IF(AND(FC$36>=6,FA$36=\"元\"),\"令和元年\"&11,IF(AND(FC$36>=1,FC$36<=5,FA$36=2),\"令和元年\"&11,(IF((AND(FC$36>=1,FC$36<=5)),\"令和\"&FA$36-1&\"年\"&11,\"令和\"&FA$36&\"年\"&11)))))))","v":"令和年11"},null,null,null,{"$f":"IF(OR(FG89=\"\",FG$41=12),\"\",11)","v":11},{"$f":"IF(OR(FH89=\"\",FJ$41=4),\"\",IF(AND(FI$36>=1,FI$36<=4,FG$36=31),\"平成\"&30&\"年\"&11,IF(AND(FI$36=5,FG$36=\"元\"),\"平成\"&30&\"年\"&11,IF(AND(FI$36>=6,FG$36=\"元\"),\"令和元年\"&11,IF(AND(FI$36>=1,FI$36<=5,FG$36=2),\"令和元年\"&11,(IF((AND(FI$36>=1,FI$36<=5)),\"令和\"&FG$36-1&\"年\"&11,\"令和\"&FG$36&\"年\"&11)))))))","v":"令和年11"},{"$f":"IF(OR(FH89=\"\",FJ$41=4),\"\",IF(AND(FI$36>=1,FI$36<=4,FG$36=31),\"平成\"&30&\"年\"&11,IF(AND(FI$36=5,FG$36=\"元\"),\"平成\"&30&\"年\"&11,IF(AND(FI$36>=6,FG$36=\"元\"),\"令和元年\"&11,IF(AND(FI$36>=1,FI$36<=5,FG$36=2),\"令和元年\"&11,(IF((AND(FI$36>=1,FI$36<=5)),\"令和\"&FG$36-1&\"年\"&11,\"令和\"&FG$36&\"年\"&11)))))))","v":"令和年11"},null,null,null,{"$f":"IF(OR(FM89=\"\",FM$41=12),\"\",11)","v":11},{"$f":"IF(OR(FN89=\"\",FP$41=4),\"\",IF(AND(FO$36>=1,FO$36<=4,FM$36=31),\"平成\"&30&\"年\"&11,IF(AND(FO$36=5,FM$36=\"元\"),\"平成\"&30&\"年\"&11,IF(AND(FO$36>=6,FM$36=\"元\"),\"令和元年\"&11,IF(AND(FO$36>=1,FO$36<=5,FM$36=2),\"令和元年\"&11,(IF((AND(FO$36>=1,FO$36<=5)),\"令和\"&FM$36-1&\"年\"&11,\"令和\"&FM$36&\"年\"&11)))))))","v":"令和年11"},{"$f":"IF(OR(FN89=\"\",FP$41=4),\"\",IF(AND(FO$36>=1,FO$36<=4,FM$36=31),\"平成\"&30&\"年\"&11,IF(AND(FO$36=5,FM$36=\"元\"),\"平成\"&30&\"年\"&11,IF(AND(FO$36>=6,FM$36=\"元\"),\"令和元年\"&11,IF(AND(FO$36>=1,FO$36<=5,FM$36=2),\"令和元年\"&11,(IF((AND(FO$36>=1,FO$36<=5)),\"令和\"&FM$36-1&\"年\"&11,\"令和\"&FM$36&\"年\"&11)))))))","v":"令和年11"},null,null,null,{"$f":"IF(OR(FS89=\"\",FS$41=12),\"\",11)","v":11},{"$f":"IF(OR(FT89=\"\",FV$41=4),\"\",IF(AND(FU$36>=1,FU$36<=4,FS$36=31),\"平成\"&30&\"年\"&11,IF(AND(FU$36=5,FS$36=\"元\"),\"平成\"&30&\"年\"&11,IF(AND(FU$36>=6,FS$36=\"元\"),\"令和元年\"&11,IF(AND(FU$36>=1,FU$36<=5,FS$36=2),\"令和元年\"&11,(IF((AND(FU$36>=1,FU$36<=5)),\"令和\"&FS$36-1&\"年\"&11,\"令和\"&FS$36&\"年\"&11)))))))","v":"令和年11"},{"$f":"IF(OR(FT89=\"\",FV$41=4),\"\",IF(AND(FU$36>=1,FU$36<=4,FS$36=31),\"平成\"&30&\"年\"&11,IF(AND(FU$36=5,FS$36=\"元\"),\"平成\"&30&\"年\"&11,IF(AND(FU$36>=6,FS$36=\"元\"),\"令和元年\"&11,IF(AND(FU$36>=1,FU$36<=5,FS$36=2),\"令和元年\"&11,(IF((AND(FU$36>=1,FU$36<=5)),\"令和\"&FS$36-1&\"年\"&11,\"令和\"&FS$36&\"年\"&11)))))))","v":"令和年11"},null,null,null,{"$f":"IF(OR(FY89=\"\",FY$41=12),\"\",11)","v":11},{"$f":"IF(OR(FZ89=\"\",GB$41=4),\"\",IF(AND(GA$36>=1,GA$36<=4,FY$36=31),\"平成\"&30&\"年\"&11,IF(AND(GA$36=5,FY$36=\"元\"),\"平成\"&30&\"年\"&11,IF(AND(GA$36>=6,FY$36=\"元\"),\"令和元年\"&11,IF(AND(GA$36>=1,GA$36<=5,FY$36=2),\"令和元年\"&11,(IF((AND(GA$36>=1,GA$36<=5)),\"令和\"&FY$36-1&\"年\"&11,\"令和\"&FY$36&\"年\"&11)))))))","v":"令和年11"},{"$f":"IF(OR(FZ89=\"\",GB$41=4),\"\",IF(AND(GA$36>=1,GA$36<=4,FY$36=31),\"平成\"&30&\"年\"&11,IF(AND(GA$36=5,FY$36=\"元\"),\"平成\"&30&\"年\"&11,IF(AND(GA$36>=6,FY$36=\"元\"),\"令和元年\"&11,IF(AND(GA$36>=1,GA$36<=5,FY$36=2),\"令和元年\"&11,(IF((AND(GA$36>=1,GA$36<=5)),\"令和\"&FY$36-1&\"年\"&11,\"令和\"&FY$36&\"年\"&11)))))))","v":"令和年11"},null,null,null,{"$f":"IF(OR(GE89=\"\",GE$41=12),\"\",11)","v":11},{"$f":"IF(OR(GF89=\"\",GH$41=4),\"\",IF(AND(GG$36>=1,GG$36<=4,GE$36=31),\"平成\"&30&\"年\"&11,IF(AND(GG$36=5,GE$36=\"元\"),\"平成\"&30&\"年\"&11,IF(AND(GG$36>=6,GE$36=\"元\"),\"令和元年\"&11,IF(AND(GG$36>=1,GG$36<=5,GE$36=2),\"令和元年\"&11,(IF((AND(GG$36>=1,GG$36<=5)),\"令和\"&GE$36-1&\"年\"&11,\"令和\"&GE$36&\"年\"&11)))))))","v":"令和年11"},{"$f":"IF(OR(GF89=\"\",GH$41=4),\"\",IF(AND(GG$36>=1,GG$36<=4,GE$36=31),\"平成\"&30&\"年\"&11,IF(AND(GG$36=5,GE$36=\"元\"),\"平成\"&30&\"年\"&11,IF(AND(GG$36>=6,GE$36=\"元\"),\"令和元年\"&11,IF(AND(GG$36>=1,GG$36<=5,GE$36=2),\"令和元年\"&11,(IF((AND(GG$36>=1,GG$36<=5)),\"令和\"&GE$36-1&\"年\"&11,\"令和\"&GE$36&\"年\"&11)))))))","v":"令和年11"},null,null,null,{"$f":"IF(OR(GK89=\"\",GK$41=12),\"\",11)","v":11},{"$f":"IF(OR(GL89=\"\",GN$41=4),\"\",IF(AND(GM$36>=1,GM$36<=4,GK$36=31),\"平成\"&30&\"年\"&11,IF(AND(GM$36=5,GK$36=\"元\"),\"平成\"&30&\"年\"&11,IF(AND(GM$36>=6,GK$36=\"元\"),\"令和元年\"&11,IF(AND(GM$36>=1,GM$36<=5,GK$36=2),\"令和元年\"&11,(IF((AND(GM$36>=1,GM$36<=5)),\"令和\"&GK$36-1&\"年\"&11,\"令和\"&GK$36&\"年\"&11)))))))","v":"令和年11"},{"$f":"IF(OR(GL89=\"\",GN$41=4),\"\",IF(AND(GM$36>=1,GM$36<=4,GK$36=31),\"平成\"&30&\"年\"&11,IF(AND(GM$36=5,GK$36=\"元\"),\"平成\"&30&\"年\"&11,IF(AND(GM$36>=6,GK$36=\"元\"),\"令和元年\"&11,IF(AND(GM$36>=1,GM$36<=5,GK$36=2),\"令和元年\"&11,(IF((AND(GM$36>=1,GM$36<=5)),\"令和\"&GK$36-1&\"年\"&11,\"令和\"&GK$36&\"年\"&11)))))))","v":"令和年11"},null,null,null,{"$f":"IF(OR(GQ89=\"\",GQ$41=12),\"\",11)","v":11},{"$f":"IF(OR(GR89=\"\",GT$41=4),\"\",IF(AND(GS$36>=1,GS$36<=4,GQ$36=31),\"平成\"&30&\"年\"&11,IF(AND(GS$36=5,GQ$36=\"元\"),\"平成\"&30&\"年\"&11,IF(AND(GS$36>=6,GQ$36=\"元\"),\"令和元年\"&11,IF(AND(GS$36>=1,GS$36<=5,GQ$36=2),\"令和元年\"&11,(IF((AND(GS$36>=1,GS$36<=5)),\"令和\"&GQ$36-1&\"年\"&11,\"令和\"&GQ$36&\"年\"&11)))))))","v":"令和年11"},{"$f":"IF(OR(GR89=\"\",GT$41=4),\"\",IF(AND(GS$36>=1,GS$36<=4,GQ$36=31),\"平成\"&30&\"年\"&11,IF(AND(GS$36=5,GQ$36=\"元\"),\"平成\"&30&\"年\"&11,IF(AND(GS$36>=6,GQ$36=\"元\"),\"令和元年\"&11,IF(AND(GS$36>=1,GS$36<=5,GQ$36=2),\"令和元年\"&11,(IF((AND(GS$36>=1,GS$36<=5)),\"令和\"&GQ$36-1&\"年\"&11,\"令和\"&GQ$36&\"年\"&11)))))))","v":"令和年11"},null,null,null,{"$f":"IF(OR(GW89=\"\",GW$41=12),\"\",11)","v":11},{"$f":"IF(OR(GX89=\"\",GZ$41=4),\"\",IF(AND(GY$36>=1,GY$36<=4,GW$36=31),\"平成\"&30&\"年\"&11,IF(AND(GY$36=5,GW$36=\"元\"),\"平成\"&30&\"年\"&11,IF(AND(GY$36>=6,GW$36=\"元\"),\"令和元年\"&11,IF(AND(GY$36>=1,GY$36<=5,GW$36=2),\"令和元年\"&11,(IF((AND(GY$36>=1,GY$36<=5)),\"令和\"&GW$36-1&\"年\"&11,\"令和\"&GW$36&\"年\"&11)))))))","v":"令和年11"},{"$f":"IF(OR(GX89=\"\",GZ$41=4),\"\",IF(AND(GY$36>=1,GY$36<=4,GW$36=31),\"平成\"&30&\"年\"&11,IF(AND(GY$36=5,GW$36=\"元\"),\"平成\"&30&\"年\"&11,IF(AND(GY$36>=6,GW$36=\"元\"),\"令和元年\"&11,IF(AND(GY$36>=1,GY$36<=5,GW$36=2),\"令和元年\"&11,(IF((AND(GY$36>=1,GY$36<=5)),\"令和\"&GW$36-1&\"年\"&11,\"令和\"&GW$36&\"年\"&11)))))))","v":"令和年11"},null,null,null,{"$f":"IF(OR(HC89=\"\",HC$41=12),\"\",11)","v":11},{"$f":"IF(OR(HD89=\"\",HF$41=4),\"\",IF(AND(HE$36>=1,HE$36<=4,HC$36=31),\"平成\"&30&\"年\"&11,IF(AND(HE$36=5,HC$36=\"元\"),\"平成\"&30&\"年\"&11,IF(AND(HE$36>=6,HC$36=\"元\"),\"令和元年\"&11,IF(AND(HE$36>=1,HE$36<=5,HC$36=2),\"令和元年\"&11,(IF((AND(HE$36>=1,HE$36<=5)),\"令和\"&HC$36-1&\"年\"&11,\"令和\"&HC$36&\"年\"&11)))))))","v":"令和年11"},{"$f":"IF(OR(HD89=\"\",HF$41=4),\"\",IF(AND(HE$36>=1,HE$36<=4,HC$36=31),\"平成\"&30&\"年\"&11,IF(AND(HE$36=5,HC$36=\"元\"),\"平成\"&30&\"年\"&11,IF(AND(HE$36>=6,HC$36=\"元\"),\"令和元年\"&11,IF(AND(HE$36>=1,HE$36<=5,HC$36=2),\"令和元年\"&11,(IF((AND(HE$36>=1,HE$36<=5)),\"令和\"&HC$36-1&\"年\"&11,\"令和\"&HC$36&\"年\"&11)))))))","v":"令和年11"},null,null,null,{"$f":"IF(OR(HI89=\"\",HI$41=12),\"\",11)","v":11},{"$f":"IF(OR(HJ89=\"\",HL$41=4),\"\",IF(AND(HK$36>=1,HK$36<=4,HI$36=31),\"平成\"&30&\"年\"&11,IF(AND(HK$36=5,HI$36=\"元\"),\"平成\"&30&\"年\"&11,IF(AND(HK$36>=6,HI$36=\"元\"),\"令和元年\"&11,IF(AND(HK$36>=1,HK$36<=5,HI$36=2),\"令和元年\"&11,(IF((AND(HK$36>=1,HK$36<=5)),\"令和\"&HI$36-1&\"年\"&11,\"令和\"&HI$36&\"年\"&11)))))))","v":"令和年11"},{"$f":"IF(OR(HJ89=\"\",HL$41=4),\"\",IF(AND(HK$36>=1,HK$36<=4,HI$36=31),\"平成\"&30&\"年\"&11,IF(AND(HK$36=5,HI$36=\"元\"),\"平成\"&30&\"年\"&11,IF(AND(HK$36>=6,HI$36=\"元\"),\"令和元年\"&11,IF(AND(HK$36>=1,HK$36<=5,HI$36=2),\"令和元年\"&11,(IF((AND(HK$36>=1,HK$36<=5)),\"令和\"&HI$36-1&\"年\"&11,\"令和\"&HI$36&\"年\"&11)))))))","v":"令和年11"},null,null,null,{"$f":"IF(OR(HO89=\"\",HO$41=12),\"\",11)","v":11},{"$f":"IF(OR(HP89=\"\",HR$41=4),\"\",IF(AND(HQ$36>=1,HQ$36<=4,HO$36=31),\"平成\"&30&\"年\"&11,IF(AND(HQ$36=5,HO$36=\"元\"),\"平成\"&30&\"年\"&11,IF(AND(HQ$36>=6,HO$36=\"元\"),\"令和元年\"&11,IF(AND(HQ$36>=1,HQ$36<=5,HO$36=2),\"令和元年\"&11,(IF((AND(HQ$36>=1,HQ$36<=5)),\"令和\"&HO$36-1&\"年\"&11,\"令和\"&HO$36&\"年\"&11)))))))","v":"令和年11"},{"$f":"IF(OR(HP89=\"\",HR$41=4),\"\",IF(AND(HQ$36>=1,HQ$36<=4,HO$36=31),\"平成\"&30&\"年\"&11,IF(AND(HQ$36=5,HO$36=\"元\"),\"平成\"&30&\"年\"&11,IF(AND(HQ$36>=6,HO$36=\"元\"),\"令和元年\"&11,IF(AND(HQ$36>=1,HQ$36<=5,HO$36=2),\"令和元年\"&11,(IF((AND(HQ$36>=1,HQ$36<=5)),\"令和\"&HO$36-1&\"年\"&11,\"令和\"&HO$36&\"年\"&11)))))))","v":"令和年11"},null,null,null,{"$f":"IF(OR(HU89=\"\",HU$41=12),\"\",11)","v":11},{"$f":"IF(OR(HV89=\"\",HX$41=4),\"\",IF(AND(HW$36>=1,HW$36<=4,HU$36=31),\"平成\"&30&\"年\"&11,IF(AND(HW$36=5,HU$36=\"元\"),\"平成\"&30&\"年\"&11,IF(AND(HW$36>=6,HU$36=\"元\"),\"令和元年\"&11,IF(AND(HW$36>=1,HW$36<=5,HU$36=2),\"令和元年\"&11,(IF((AND(HW$36>=1,HW$36<=5)),\"令和\"&HU$36-1&\"年\"&11,\"令和\"&HU$36&\"年\"&11)))))))","v":"令和年11"},{"$f":"IF(OR(HV89=\"\",HX$41=4),\"\",IF(AND(HW$36>=1,HW$36<=4,HU$36=31),\"平成\"&30&\"年\"&11,IF(AND(HW$36=5,HU$36=\"元\"),\"平成\"&30&\"年\"&11,IF(AND(HW$36>=6,HU$36=\"元\"),\"令和元年\"&11,IF(AND(HW$36>=1,HW$36<=5,HU$36=2),\"令和元年\"&11,(IF((AND(HW$36>=1,HW$36<=5)),\"令和\"&HU$36-1&\"年\"&11,\"令和\"&HU$36&\"年\"&11)))))))","v":"令和年11"},null,null,null,{"$f":"IF(OR(IA89=\"\",IA$41=12),\"\",11)","v":11},{"$f":"IF(OR(IB89=\"\",ID$41=4),\"\",IF(AND(IC$36>=1,IC$36<=4,IA$36=31),\"平成\"&30&\"年\"&11,IF(AND(IC$36=5,IA$36=\"元\"),\"平成\"&30&\"年\"&11,IF(AND(IC$36>=6,IA$36=\"元\"),\"令和元年\"&11,IF(AND(IC$36>=1,IC$36<=5,IA$36=2),\"令和元年\"&11,(IF((AND(IC$36>=1,IC$36<=5)),\"令和\"&IA$36-1&\"年\"&11,\"令和\"&IA$36&\"年\"&11)))))))","v":"令和年11"},{"$f":"IF(OR(IB89=\"\",ID$41=4),\"\",IF(AND(IC$36>=1,IC$36<=4,IA$36=31),\"平成\"&30&\"年\"&11,IF(AND(IC$36=5,IA$36=\"元\"),\"平成\"&30&\"年\"&11,IF(AND(IC$36>=6,IA$36=\"元\"),\"令和元年\"&11,IF(AND(IC$36>=1,IC$36<=5,IA$36=2),\"令和元年\"&11,(IF((AND(IC$36>=1,IC$36<=5)),\"令和\"&IA$36-1&\"年\"&11,\"令和\"&IA$36&\"年\"&11)))))))","v":"令和年11"},null,null,null,{"$f":"IF(OR(IG89=\"\",IG$41=12),\"\",11)","v":11},{"$f":"IF(OR(IH89=\"\",IJ$41=4),\"\",IF(AND(II$36>=1,II$36<=4,IG$36=31),\"平成\"&30&\"年\"&11,IF(AND(II$36=5,IG$36=\"元\"),\"平成\"&30&\"年\"&11,IF(AND(II$36>=6,IG$36=\"元\"),\"令和元年\"&11,IF(AND(II$36>=1,II$36<=5,IG$36=2),\"令和元年\"&11,(IF((AND(II$36>=1,II$36<=5)),\"令和\"&IG$36-1&\"年\"&11,\"令和\"&IG$36&\"年\"&11)))))))","v":"令和年11"},{"$f":"IF(OR(IH89=\"\",IJ$41=4),\"\",IF(AND(II$36>=1,II$36<=4,IG$36=31),\"平成\"&30&\"年\"&11,IF(AND(II$36=5,IG$36=\"元\"),\"平成\"&30&\"年\"&11,IF(AND(II$36>=6,IG$36=\"元\"),\"令和元年\"&11,IF(AND(II$36>=1,II$36<=5,IG$36=2),\"令和元年\"&11,(IF((AND(II$36>=1,II$36<=5)),\"令和\"&IG$36-1&\"年\"&11,\"令和\"&IG$36&\"年\"&11)))))))","v":"令和年11"}]
[null,{"$f":"IF(AND(CY21<>\"\",CY25<>\"\",DA25<>\"\",DC25<>\"\"),CY17,\"\")","v":""},"平",7,"平7",null,{"$f":"IF(OR(G90=\"\",G$41=1),\"\",12)","v":12},{"$f":"IF(OR(H90=\"\",J$41=4),\"\",IF(AND(I$36>=1,I$36<=4,G$36=31),\"平成\"&30&\"年\"&12,IF(AND(I$36=5,G$36=\"元\"),\"平成\"&30&\"年\"&12,IF(AND(I$36>=6,G$36=\"元\"),\"令和元年\"&12,IF(AND(I$36>=1,I$36<=5,G$36=2),\"令和元年\"&12,(IF((AND(I$36>=1,I$36<=5)),\"令和\"&G$36-1&\"年\"&12,\"令和\"&G$36&\"年\"&12)))))))","v":"令和年12"},{"$f":"IF(OR(H90=\"\",J$41=4),\"\",IF(AND(I$36>=1,I$36<=4,G$36=31),\"平成\"&30&\"年\"&12,IF(AND(I$36=5,G$36=\"元\"),\"平成\"&30&\"年\"&12,IF(AND(I$36>=6,G$36=\"元\"),\"令和元年\"&12,IF(AND(I$36>=1,I$36<=5,G$36=2),\"令和元年\"&12,(IF((AND(I$36>=1,I$36<=5)),\"令和\"&G$36-1&\"年\"&12,\"令和\"&G$36&\"年\"&12)))))))","v":"令和年12"},null,null,null,{"$f":"IF(OR(M90=\"\",M$41=1),\"\",12)","v":12},{"$f":"IF(OR(N90=\"\",P$41=4),\"\",IF(AND(O$36>=1,O$36<=4,M$36=31),\"平成\"&30&\"年\"&12,IF(AND(O$36=5,M$36=\"元\"),\"平成\"&30&\"年\"&12,IF(AND(O$36>=6,M$36=\"元\"),\"令和元年\"&12,IF(AND(O$36>=1,O$36<=5,M$36=2),\"令和元年\"&12,(IF((AND(O$36>=1,O$36<=5)),\"令和\"&M$36-1&\"年\"&12,\"令和\"&M$36&\"年\"&12)))))))","v":"令和年12"},{"$f":"IF(OR(N90=\"\",P$41=4),\"\",IF(AND(O$36>=1,O$36<=4,M$36=31),\"平成\"&30&\"年\"&12,IF(AND(O$36=5,M$36=\"元\"),\"平成\"&30&\"年\"&12,IF(AND(O$36>=6,M$36=\"元\"),\"令和元年\"&12,IF(AND(O$36>=1,O$36<=5,M$36=2),\"令和元年\"&12,(IF((AND(O$36>=1,O$36<=5)),\"令和\"&M$36-1&\"年\"&12,\"令和\"&M$36&\"年\"&12)))))))","v":"令和年12"},null,null,null,{"$f":"IF(OR(S90=\"\",S$41=1),\"\",12)","v":12},{"$f":"IF(OR(T90=\"\",V$41=4),\"\",IF(AND(U$36>=1,U$36<=4,S$36=31),\"平成\"&30&\"年\"&12,IF(AND(U$36=5,S$36=\"元\"),\"平成\"&30&\"年\"&12,IF(AND(U$36>=6,S$36=\"元\"),\"令和元年\"&12,IF(AND(U$36>=1,U$36<=5,S$36=2),\"令和元年\"&12,(IF((AND(U$36>=1,U$36<=5)),\"令和\"&S$36-1&\"年\"&12,\"令和\"&S$36&\"年\"&12)))))))","v":"令和年12"},{"$f":"IF(OR(T90=\"\",V$41=4),\"\",IF(AND(U$36>=1,U$36<=4,S$36=31),\"平成\"&30&\"年\"&12,IF(AND(U$36=5,S$36=\"元\"),\"平成\"&30&\"年\"&12,IF(AND(U$36>=6,S$36=\"元\"),\"令和元年\"&12,IF(AND(U$36>=1,U$36<=5,S$36=2),\"令和元年\"&12,(IF((AND(U$36>=1,U$36<=5)),\"令和\"&S$36-1&\"年\"&12,\"令和\"&S$36&\"年\"&12)))))))","v":"令和年12"},null,null,null,{"$f":"IF(OR(Y90=\"\",Y$41=1),\"\",12)","v":12},{"$f":"IF(OR(Z90=\"\",AB$41=4),\"\",IF(AND(AA$36>=1,AA$36<=4,Y$36=31),\"平成\"&30&\"年\"&12,IF(AND(AA$36=5,Y$36=\"元\"),\"平成\"&30&\"年\"&12,IF(AND(AA$36>=6,Y$36=\"元\"),\"令和元年\"&12,IF(AND(AA$36>=1,AA$36<=5,Y$36=2),\"令和元年\"&12,(IF((AND(AA$36>=1,AA$36<=5)),\"令和\"&Y$36-1&\"年\"&12,\"令和\"&Y$36&\"年\"&12)))))))","v":"令和年12"},{"$f":"IF(OR(Z90=\"\",AB$41=4),\"\",IF(AND(AA$36>=1,AA$36<=4,Y$36=31),\"平成\"&30&\"年\"&12,IF(AND(AA$36=5,Y$36=\"元\"),\"平成\"&30&\"年\"&12,IF(AND(AA$36>=6,Y$36=\"元\"),\"令和元年\"&12,IF(AND(AA$36>=1,AA$36<=5,Y$36=2),\"令和元年\"&12,(IF((AND(AA$36>=1,AA$36<=5)),\"令和\"&Y$36-1&\"年\"&12,\"令和\"&Y$36&\"年\"&12)))))))","v":"令和年12"},null,null,null,{"$f":"IF(OR(AE90=\"\",AE$41=1),\"\",12)","v":12},{"$f":"IF(OR(AF90=\"\",AH$41=4),\"\",IF(AND(AG$36>=1,AG$36<=4,AE$36=31),\"平成\"&30&\"年\"&12,IF(AND(AG$36=5,AE$36=\"元\"),\"平成\"&30&\"年\"&12,IF(AND(AG$36>=6,AE$36=\"元\"),\"令和元年\"&12,IF(AND(AG$36>=1,AG$36<=5,AE$36=2),\"令和元年\"&12,(IF((AND(AG$36>=1,AG$36<=5)),\"令和\"&AE$36-1&\"年\"&12,\"令和\"&AE$36&\"年\"&12)))))))","v":"令和年12"},{"$f":"IF(OR(AF90=\"\",AH$41=4),\"\",IF(AND(AG$36>=1,AG$36<=4,AE$36=31),\"平成\"&30&\"年\"&12,IF(AND(AG$36=5,AE$36=\"元\"),\"平成\"&30&\"年\"&12,IF(AND(AG$36>=6,AE$36=\"元\"),\"令和元年\"&12,IF(AND(AG$36>=1,AG$36<=5,AE$36=2),\"令和元年\"&12,(IF((AND(AG$36>=1,AG$36<=5)),\"令和\"&AE$36-1&\"年\"&12,\"令和\"&AE$36&\"年\"&12)))))))","v":"令和年12"},null,null,null,{"$f":"IF(OR(AK90=\"\",AK$41=1),\"\",12)","v":12},{"$f":"IF(OR(AL90=\"\",AN$41=4),\"\",IF(AND(AM$36>=1,AM$36<=4,AK$36=31),\"平成\"&30&\"年\"&12,IF(AND(AM$36=5,AK$36=\"元\"),\"平成\"&30&\"年\"&12,IF(AND(AM$36>=6,AK$36=\"元\"),\"令和元年\"&12,IF(AND(AM$36>=1,AM$36<=5,AK$36=2),\"令和元年\"&12,(IF((AND(AM$36>=1,AM$36<=5)),\"令和\"&AK$36-1&\"年\"&12,\"令和\"&AK$36&\"年\"&12)))))))","v":"令和年12"},{"$f":"IF(OR(AL90=\"\",AN$41=4),\"\",IF(AND(AM$36>=1,AM$36<=4,AK$36=31),\"平成\"&30&\"年\"&12,IF(AND(AM$36=5,AK$36=\"元\"),\"平成\"&30&\"年\"&12,IF(AND(AM$36>=6,AK$36=\"元\"),\"令和元年\"&12,IF(AND(AM$36>=1,AM$36<=5,AK$36=2),\"令和元年\"&12,(IF((AND(AM$36>=1,AM$36<=5)),\"令和\"&AK$36-1&\"年\"&12,\"令和\"&AK$36&\"年\"&12)))))))","v":"令和年12"},null,null,null,{"$f":"IF(OR(AQ90=\"\",AQ$41=1),\"\",12)","v":12},{"$f":"IF(OR(AR90=\"\",AT$41=4),\"\",IF(AND(AS$36>=1,AS$36<=4,AQ$36=31),\"平成\"&30&\"年\"&12,IF(AND(AS$36=5,AQ$36=\"元\"),\"平成\"&30&\"年\"&12,IF(AND(AS$36>=6,AQ$36=\"元\"),\"令和元年\"&12,IF(AND(AS$36>=1,AS$36<=5,AQ$36=2),\"令和元年\"&12,(IF((AND(AS$36>=1,AS$36<=5)),\"令和\"&AQ$36-1&\"年\"&12,\"令和\"&AQ$36&\"年\"&12)))))))","v":"令和年12"},{"$f":"IF(OR(AR90=\"\",AT$41=4),\"\",IF(AND(AS$36>=1,AS$36<=4,AQ$36=31),\"平成\"&30&\"年\"&12,IF(AND(AS$36=5,AQ$36=\"元\"),\"平成\"&30&\"年\"&12,IF(AND(AS$36>=6,AQ$36=\"元\"),\"令和元年\"&12,IF(AND(AS$36>=1,AS$36<=5,AQ$36=2),\"令和元年\"&12,(IF((AND(AS$36>=1,AS$36<=5)),\"令和\"&AQ$36-1&\"年\"&12,\"令和\"&AQ$36&\"年\"&12)))))))","v":"令和年12"},null,null,null,{"$f":"IF(OR(AW90=\"\",AW$41=1),\"\",12)","v":12},{"$f":"IF(OR(AX90=\"\",AZ$41=4),\"\",IF(AND(AY$36>=1,AY$36<=4,AW$36=31),\"平成\"&30&\"年\"&12,IF(AND(AY$36=5,AW$36=\"元\"),\"平成\"&30&\"年\"&12,IF(AND(AY$36>=6,AW$36=\"元\"),\"令和元年\"&12,IF(AND(AY$36>=1,AY$36<=5,AW$36=2),\"令和元年\"&12,(IF((AND(AY$36>=1,AY$36<=5)),\"令和\"&AW$36-1&\"年\"&12,\"令和\"&AW$36&\"年\"&12)))))))","v":"令和年12"},{"$f":"IF(OR(AX90=\"\",AZ$41=4),\"\",IF(AND(AY$36>=1,AY$36<=4,AW$36=31),\"平成\"&30&\"年\"&12,IF(AND(AY$36=5,AW$36=\"元\"),\"平成\"&30&\"年\"&12,IF(AND(AY$36>=6,AW$36=\"元\"),\"令和元年\"&12,IF(AND(AY$36>=1,AY$36<=5,AW$36=2),\"令和元年\"&12,(IF((AND(AY$36>=1,AY$36<=5)),\"令和\"&AW$36-1&\"年\"&12,\"令和\"&AW$36&\"年\"&12)))))))","v":"令和年12"},null,null,null,{"$f":"IF(OR(BC90=\"\",BC$41=1),\"\",12)","v":12},{"$f":"IF(OR(BD90=\"\",BF$41=4),\"\",IF(AND(BE$36>=1,BE$36<=4,BC$36=31),\"平成\"&30&\"年\"&12,IF(AND(BE$36=5,BC$36=\"元\"),\"平成\"&30&\"年\"&12,IF(AND(BE$36>=6,BC$36=\"元\"),\"令和元年\"&12,IF(AND(BE$36>=1,BE$36<=5,BC$36=2),\"令和元年\"&12,(IF((AND(BE$36>=1,BE$36<=5)),\"令和\"&BC$36-1&\"年\"&12,\"令和\"&BC$36&\"年\"&12)))))))","v":"令和年12"},{"$f":"IF(OR(BD90=\"\",BF$41=4),\"\",IF(AND(BE$36>=1,BE$36<=4,BC$36=31),\"平成\"&30&\"年\"&12,IF(AND(BE$36=5,BC$36=\"元\"),\"平成\"&30&\"年\"&12,IF(AND(BE$36>=6,BC$36=\"元\"),\"令和元年\"&12,IF(AND(BE$36>=1,BE$36<=5,BC$36=2),\"令和元年\"&12,(IF((AND(BE$36>=1,BE$36<=5)),\"令和\"&BC$36-1&\"年\"&12,\"令和\"&BC$36&\"年\"&12)))))))","v":"令和年12"},null,null,null,{"$f":"IF(OR(BI90=\"\",BI$41=1),\"\",12)","v":12},{"$f":"IF(OR(BJ90=\"\",BL$41=4),\"\",IF(AND(BK$36>=1,BK$36<=4,BI$36=31),\"平成\"&30&\"年\"&12,IF(AND(BK$36=5,BI$36=\"元\"),\"平成\"&30&\"年\"&12,IF(AND(BK$36>=6,BI$36=\"元\"),\"令和元年\"&12,IF(AND(BK$36>=1,BK$36<=5,BI$36=2),\"令和元年\"&12,(IF((AND(BK$36>=1,BK$36<=5)),\"令和\"&BI$36-1&\"年\"&12,\"令和\"&BI$36&\"年\"&12)))))))","v":"令和年12"},{"$f":"IF(OR(BJ90=\"\",BL$41=4),\"\",IF(AND(BK$36>=1,BK$36<=4,BI$36=31),\"平成\"&30&\"年\"&12,IF(AND(BK$36=5,BI$36=\"元\"),\"平成\"&30&\"年\"&12,IF(AND(BK$36>=6,BI$36=\"元\"),\"令和元年\"&12,IF(AND(BK$36>=1,BK$36<=5,BI$36=2),\"令和元年\"&12,(IF((AND(BK$36>=1,BK$36<=5)),\"令和\"&BI$36-1&\"年\"&12,\"令和\"&BI$36&\"年\"&12)))))))","v":"令和年12"},null,null,null,{"$f":"IF(OR(BO90=\"\",BO$41=1),\"\",12)","v":12},{"$f":"IF(OR(BP90=\"\",BR$41=4),\"\",IF(AND(BQ$36>=1,BQ$36<=4,BO$36=31),\"平成\"&30&\"年\"&12,IF(AND(BQ$36=5,BO$36=\"元\"),\"平成\"&30&\"年\"&12,IF(AND(BQ$36>=6,BO$36=\"元\"),\"令和元年\"&12,IF(AND(BQ$36>=1,BQ$36<=5,BO$36=2),\"令和元年\"&12,(IF((AND(BQ$36>=1,BQ$36<=5)),\"令和\"&BO$36-1&\"年\"&12,\"令和\"&BO$36&\"年\"&12)))))))","v":"令和年12"},{"$f":"IF(OR(BP90=\"\",BR$41=4),\"\",IF(AND(BQ$36>=1,BQ$36<=4,BO$36=31),\"平成\"&30&\"年\"&12,IF(AND(BQ$36=5,BO$36=\"元\"),\"平成\"&30&\"年\"&12,IF(AND(BQ$36>=6,BO$36=\"元\"),\"令和元年\"&12,IF(AND(BQ$36>=1,BQ$36<=5,BO$36=2),\"令和元年\"&12,(IF((AND(BQ$36>=1,BQ$36<=5)),\"令和\"&BO$36-1&\"年\"&12,\"令和\"&BO$36&\"年\"&12)))))))","v":"令和年12"},null,null,null,{"$f":"IF(OR(BU90=\"\",BU$41=1),\"\",12)","v":12},{"$f":"IF(OR(BV90=\"\",BX$41=4),\"\",IF(AND(BW$36>=1,BW$36<=4,BU$36=31),\"平成\"&30&\"年\"&12,IF(AND(BW$36=5,BU$36=\"元\"),\"平成\"&30&\"年\"&12,IF(AND(BW$36>=6,BU$36=\"元\"),\"令和元年\"&12,IF(AND(BW$36>=1,BW$36<=5,BU$36=2),\"令和元年\"&12,(IF((AND(BW$36>=1,BW$36<=5)),\"令和\"&BU$36-1&\"年\"&12,\"令和\"&BU$36&\"年\"&12)))))))","v":"令和年12"},{"$f":"IF(OR(BV90=\"\",BX$41=4),\"\",IF(AND(BW$36>=1,BW$36<=4,BU$36=31),\"平成\"&30&\"年\"&12,IF(AND(BW$36=5,BU$36=\"元\"),\"平成\"&30&\"年\"&12,IF(AND(BW$36>=6,BU$36=\"元\"),\"令和元年\"&12,IF(AND(BW$36>=1,BW$36<=5,BU$36=2),\"令和元年\"&12,(IF((AND(BW$36>=1,BW$36<=5)),\"令和\"&BU$36-1&\"年\"&12,\"令和\"&BU$36&\"年\"&12)))))))","v":"令和年12"},null,null,null,{"$f":"IF(OR(CA90=\"\",CA$41=1),\"\",12)","v":12},{"$f":"IF(OR(CB90=\"\",CD$41=4),\"\",IF(AND(CC$36>=1,CC$36<=4,CA$36=31),\"平成\"&30&\"年\"&12,IF(AND(CC$36=5,CA$36=\"元\"),\"平成\"&30&\"年\"&12,IF(AND(CC$36>=6,CA$36=\"元\"),\"令和元年\"&12,IF(AND(CC$36>=1,CC$36<=5,CA$36=2),\"令和元年\"&12,(IF((AND(CC$36>=1,CC$36<=5)),\"令和\"&CA$36-1&\"年\"&12,\"令和\"&CA$36&\"年\"&12)))))))","v":"令和年12"},{"$f":"IF(OR(CB90=\"\",CD$41=4),\"\",IF(AND(CC$36>=1,CC$36<=4,CA$36=31),\"平成\"&30&\"年\"&12,IF(AND(CC$36=5,CA$36=\"元\"),\"平成\"&30&\"年\"&12,IF(AND(CC$36>=6,CA$36=\"元\"),\"令和元年\"&12,IF(AND(CC$36>=1,CC$36<=5,CA$36=2),\"令和元年\"&12,(IF((AND(CC$36>=1,CC$36<=5)),\"令和\"&CA$36-1&\"年\"&12,\"令和\"&CA$36&\"年\"&12)))))))","v":"令和年12"},null,null,null,{"$f":"IF(OR(CG90=\"\",CG$41=1),\"\",12)","v":12},{"$f":"IF(OR(CH90=\"\",CJ$41=4),\"\",IF(AND(CI$36>=1,CI$36<=4,CG$36=31),\"平成\"&30&\"年\"&12,IF(AND(CI$36=5,CG$36=\"元\"),\"平成\"&30&\"年\"&12,IF(AND(CI$36>=6,CG$36=\"元\"),\"令和元年\"&12,IF(AND(CI$36>=1,CI$36<=5,CG$36=2),\"令和元年\"&12,(IF((AND(CI$36>=1,CI$36<=5)),\"令和\"&CG$36-1&\"年\"&12,\"令和\"&CG$36&\"年\"&12)))))))","v":"令和年12"},{"$f":"IF(OR(CH90=\"\",CJ$41=4),\"\",IF(AND(CI$36>=1,CI$36<=4,CG$36=31),\"平成\"&30&\"年\"&12,IF(AND(CI$36=5,CG$36=\"元\"),\"平成\"&30&\"年\"&12,IF(AND(CI$36>=6,CG$36=\"元\"),\"令和元年\"&12,IF(AND(CI$36>=1,CI$36<=5,CG$36=2),\"令和元年\"&12,(IF((AND(CI$36>=1,CI$36<=5)),\"令和\"&CG$36-1&\"年\"&12,\"令和\"&CG$36&\"年\"&12)))))))","v":"令和年12"},null,null,null,{"$f":"IF(OR(CM90=\"\",CM$41=1),\"\",12)","v":12},{"$f":"IF(OR(CN90=\"\",CP$41=4),\"\",IF(AND(CO$36>=1,CO$36<=4,CM$36=31),\"平成\"&30&\"年\"&12,IF(AND(CO$36=5,CM$36=\"元\"),\"平成\"&30&\"年\"&12,IF(AND(CO$36>=6,CM$36=\"元\"),\"令和元年\"&12,IF(AND(CO$36>=1,CO$36<=5,CM$36=2),\"令和元年\"&12,(IF((AND(CO$36>=1,CO$36<=5)),\"令和\"&CM$36-1&\"年\"&12,\"令和\"&CM$36&\"年\"&12)))))))","v":"令和年12"},{"$f":"IF(OR(CN90=\"\",CP$41=4),\"\",IF(AND(CO$36>=1,CO$36<=4,CM$36=31),\"平成\"&30&\"年\"&12,IF(AND(CO$36=5,CM$36=\"元\"),\"平成\"&30&\"年\"&12,IF(AND(CO$36>=6,CM$36=\"元\"),\"令和元年\"&12,IF(AND(CO$36>=1,CO$36<=5,CM$36=2),\"令和元年\"&12,(IF((AND(CO$36>=1,CO$36<=5)),\"令和\"&CM$36-1&\"年\"&12,\"令和\"&CM$36&\"年\"&12)))))))","v":"令和年12"},null,null,null,{"$f":"IF(OR(CS90=\"\",CS$41=1),\"\",12)","v":12},{"$f":"IF(OR(CT90=\"\",CV$41=4),\"\",IF(AND(CU$36>=1,CU$36<=4,CS$36=31),\"平成\"&30&\"年\"&12,IF(AND(CU$36=5,CS$36=\"元\"),\"平成\"&30&\"年\"&12,IF(AND(CU$36>=6,CS$36=\"元\"),\"令和元年\"&12,IF(AND(CU$36>=1,CU$36<=5,CS$36=2),\"令和元年\"&12,(IF((AND(CU$36>=1,CU$36<=5)),\"令和\"&CS$36-1&\"年\"&12,\"令和\"&CS$36&\"年\"&12)))))))","v":"令和年12"},{"$f":"IF(OR(CT90=\"\",CV$41=4),\"\",IF(AND(CU$36>=1,CU$36<=4,CS$36=31),\"平成\"&30&\"年\"&12,IF(AND(CU$36=5,CS$36=\"元\"),\"平成\"&30&\"年\"&12,IF(AND(CU$36>=6,CS$36=\"元\"),\"令和元年\"&12,IF(AND(CU$36>=1,CU$36<=5,CS$36=2),\"令和元年\"&12,(IF((AND(CU$36>=1,CU$36<=5)),\"令和\"&CS$36-1&\"年\"&12,\"令和\"&CS$36&\"年\"&12)))))))","v":"令和年12"},null,null,null,{"$f":"IF(OR(CY90=\"\",CY$41=1),\"\",12)","v":12},{"$f":"IF(OR(CZ90=\"\",DB$41=4),\"\",IF(AND(DA$36>=1,DA$36<=4,CY$36=31),\"平成\"&30&\"年\"&12,IF(AND(DA$36=5,CY$36=\"元\"),\"平成\"&30&\"年\"&12,IF(AND(DA$36>=6,CY$36=\"元\"),\"令和元年\"&12,IF(AND(DA$36>=1,DA$36<=5,CY$36=2),\"令和元年\"&12,(IF((AND(DA$36>=1,DA$36<=5)),\"令和\"&CY$36-1&\"年\"&12,\"令和\"&CY$36&\"年\"&12)))))))","v":"令和年12"},{"$f":"IF(OR(CZ90=\"\",DB$41=4),\"\",IF(AND(DA$36>=1,DA$36<=4,CY$36=31),\"平成\"&30&\"年\"&12,IF(AND(DA$36=5,CY$36=\"元\"),\"平成\"&30&\"年\"&12,IF(AND(DA$36>=6,CY$36=\"元\"),\"令和元年\"&12,IF(AND(DA$36>=1,DA$36<=5,CY$36=2),\"令和元年\"&12,(IF((AND(DA$36>=1,DA$36<=5)),\"令和\"&CY$36-1&\"年\"&12,\"令和\"&CY$36&\"年\"&12)))))))","v":"令和年12"},null,null,null,{"$f":"IF(OR(DE90=\"\",DE$41=1),\"\",12)","v":12},{"$f":"IF(OR(DF90=\"\",DH$41=4),\"\",IF(AND(DG$36>=1,DG$36<=4,DE$36=31),\"平成\"&30&\"年\"&12,IF(AND(DG$36=5,DE$36=\"元\"),\"平成\"&30&\"年\"&12,IF(AND(DG$36>=6,DE$36=\"元\"),\"令和元年\"&12,IF(AND(DG$36>=1,DG$36<=5,DE$36=2),\"令和元年\"&12,(IF((AND(DG$36>=1,DG$36<=5)),\"令和\"&DE$36-1&\"年\"&12,\"令和\"&DE$36&\"年\"&12)))))))","v":"令和年12"},{"$f":"IF(OR(DF90=\"\",DH$41=4),\"\",IF(AND(DG$36>=1,DG$36<=4,DE$36=31),\"平成\"&30&\"年\"&12,IF(AND(DG$36=5,DE$36=\"元\"),\"平成\"&30&\"年\"&12,IF(AND(DG$36>=6,DE$36=\"元\"),\"令和元年\"&12,IF(AND(DG$36>=1,DG$36<=5,DE$36=2),\"令和元年\"&12,(IF((AND(DG$36>=1,DG$36<=5)),\"令和\"&DE$36-1&\"年\"&12,\"令和\"&DE$36&\"年\"&12)))))))","v":"令和年12"},null,null,null,{"$f":"IF(OR(DK90=\"\",DK$41=1),\"\",12)","v":12},{"$f":"IF(OR(DL90=\"\",DN$41=4),\"\",IF(AND(DM$36>=1,DM$36<=4,DK$36=31),\"平成\"&30&\"年\"&12,IF(AND(DM$36=5,DK$36=\"元\"),\"平成\"&30&\"年\"&12,IF(AND(DM$36>=6,DK$36=\"元\"),\"令和元年\"&12,IF(AND(DM$36>=1,DM$36<=5,DK$36=2),\"令和元年\"&12,(IF((AND(DM$36>=1,DM$36<=5)),\"令和\"&DK$36-1&\"年\"&12,\"令和\"&DK$36&\"年\"&12)))))))","v":"令和年12"},{"$f":"IF(OR(DL90=\"\",DN$41=4),\"\",IF(AND(DM$36>=1,DM$36<=4,DK$36=31),\"平成\"&30&\"年\"&12,IF(AND(DM$36=5,DK$36=\"元\"),\"平成\"&30&\"年\"&12,IF(AND(DM$36>=6,DK$36=\"元\"),\"令和元年\"&12,IF(AND(DM$36>=1,DM$36<=5,DK$36=2),\"令和元年\"&12,(IF((AND(DM$36>=1,DM$36<=5)),\"令和\"&DK$36-1&\"年\"&12,\"令和\"&DK$36&\"年\"&12)))))))","v":"令和年12"},null,null,null,{"$f":"IF(OR(DQ90=\"\",DQ$41=1),\"\",12)","v":12},{"$f":"IF(OR(DR90=\"\",DT$41=4),\"\",IF(AND(DS$36>=1,DS$36<=4,DQ$36=31),\"平成\"&30&\"年\"&12,IF(AND(DS$36=5,DQ$36=\"元\"),\"平成\"&30&\"年\"&12,IF(AND(DS$36>=6,DQ$36=\"元\"),\"令和元年\"&12,IF(AND(DS$36>=1,DS$36<=5,DQ$36=2),\"令和元年\"&12,(IF((AND(DS$36>=1,DS$36<=5)),\"令和\"&DQ$36-1&\"年\"&12,\"令和\"&DQ$36&\"年\"&12)))))))","v":"令和年12"},{"$f":"IF(OR(DR90=\"\",DT$41=4),\"\",IF(AND(DS$36>=1,DS$36<=4,DQ$36=31),\"平成\"&30&\"年\"&12,IF(AND(DS$36=5,DQ$36=\"元\"),\"平成\"&30&\"年\"&12,IF(AND(DS$36>=6,DQ$36=\"元\"),\"令和元年\"&12,IF(AND(DS$36>=1,DS$36<=5,DQ$36=2),\"令和元年\"&12,(IF((AND(DS$36>=1,DS$36<=5)),\"令和\"&DQ$36-1&\"年\"&12,\"令和\"&DQ$36&\"年\"&12)))))))","v":"令和年12"},null,null,null,{"$f":"IF(OR(DW90=\"\",DW$41=1),\"\",12)","v":12},{"$f":"IF(OR(DX90=\"\",DZ$41=4),\"\",IF(AND(DY$36>=1,DY$36<=4,DW$36=31),\"平成\"&30&\"年\"&12,IF(AND(DY$36=5,DW$36=\"元\"),\"平成\"&30&\"年\"&12,IF(AND(DY$36>=6,DW$36=\"元\"),\"令和元年\"&12,IF(AND(DY$36>=1,DY$36<=5,DW$36=2),\"令和元年\"&12,(IF((AND(DY$36>=1,DY$36<=5)),\"令和\"&DW$36-1&\"年\"&12,\"令和\"&DW$36&\"年\"&12)))))))","v":"令和年12"},{"$f":"IF(OR(DX90=\"\",DZ$41=4),\"\",IF(AND(DY$36>=1,DY$36<=4,DW$36=31),\"平成\"&30&\"年\"&12,IF(AND(DY$36=5,DW$36=\"元\"),\"平成\"&30&\"年\"&12,IF(AND(DY$36>=6,DW$36=\"元\"),\"令和元年\"&12,IF(AND(DY$36>=1,DY$36<=5,DW$36=2),\"令和元年\"&12,(IF((AND(DY$36>=1,DY$36<=5)),\"令和\"&DW$36-1&\"年\"&12,\"令和\"&DW$36&\"年\"&12)))))))","v":"令和年12"},null,null,null,{"$f":"IF(OR(EC90=\"\",EC$41=1),\"\",12)","v":12},{"$f":"IF(OR(ED90=\"\",EF$41=4),\"\",IF(AND(EE$36>=1,EE$36<=4,EC$36=31),\"平成\"&30&\"年\"&12,IF(AND(EE$36=5,EC$36=\"元\"),\"平成\"&30&\"年\"&12,IF(AND(EE$36>=6,EC$36=\"元\"),\"令和元年\"&12,IF(AND(EE$36>=1,EE$36<=5,EC$36=2),\"令和元年\"&12,(IF((AND(EE$36>=1,EE$36<=5)),\"令和\"&EC$36-1&\"年\"&12,\"令和\"&EC$36&\"年\"&12)))))))","v":"令和年12"},{"$f":"IF(OR(ED90=\"\",EF$41=4),\"\",IF(AND(EE$36>=1,EE$36<=4,EC$36=31),\"平成\"&30&\"年\"&12,IF(AND(EE$36=5,EC$36=\"元\"),\"平成\"&30&\"年\"&12,IF(AND(EE$36>=6,EC$36=\"元\"),\"令和元年\"&12,IF(AND(EE$36>=1,EE$36<=5,EC$36=2),\"令和元年\"&12,(IF((AND(EE$36>=1,EE$36<=5)),\"令和\"&EC$36-1&\"年\"&12,\"令和\"&EC$36&\"年\"&12)))))))","v":"令和年12"},null,null,null,{"$f":"IF(OR(EI90=\"\",EI$41=1),\"\",12)","v":12},{"$f":"IF(OR(EJ90=\"\",EL$41=4),\"\",IF(AND(EK$36>=1,EK$36<=4,EI$36=31),\"平成\"&30&\"年\"&12,IF(AND(EK$36=5,EI$36=\"元\"),\"平成\"&30&\"年\"&12,IF(AND(EK$36>=6,EI$36=\"元\"),\"令和元年\"&12,IF(AND(EK$36>=1,EK$36<=5,EI$36=2),\"令和元年\"&12,(IF((AND(EK$36>=1,EK$36<=5)),\"令和\"&EI$36-1&\"年\"&12,\"令和\"&EI$36&\"年\"&12)))))))","v":"令和年12"},{"$f":"IF(OR(EJ90=\"\",EL$41=4),\"\",IF(AND(EK$36>=1,EK$36<=4,EI$36=31),\"平成\"&30&\"年\"&12,IF(AND(EK$36=5,EI$36=\"元\"),\"平成\"&30&\"年\"&12,IF(AND(EK$36>=6,EI$36=\"元\"),\"令和元年\"&12,IF(AND(EK$36>=1,EK$36<=5,EI$36=2),\"令和元年\"&12,(IF((AND(EK$36>=1,EK$36<=5)),\"令和\"&EI$36-1&\"年\"&12,\"令和\"&EI$36&\"年\"&12)))))))","v":"令和年12"},null,null,null,{"$f":"IF(OR(EO90=\"\",EO$41=1),\"\",12)","v":12},{"$f":"IF(OR(EP90=\"\",ER$41=4),\"\",IF(AND(EQ$36>=1,EQ$36<=4,EO$36=31),\"平成\"&30&\"年\"&12,IF(AND(EQ$36=5,EO$36=\"元\"),\"平成\"&30&\"年\"&12,IF(AND(EQ$36>=6,EO$36=\"元\"),\"令和元年\"&12,IF(AND(EQ$36>=1,EQ$36<=5,EO$36=2),\"令和元年\"&12,(IF((AND(EQ$36>=1,EQ$36<=5)),\"令和\"&EO$36-1&\"年\"&12,\"令和\"&EO$36&\"年\"&12)))))))","v":"令和年12"},{"$f":"IF(OR(EP90=\"\",ER$41=4),\"\",IF(AND(EQ$36>=1,EQ$36<=4,EO$36=31),\"平成\"&30&\"年\"&12,IF(AND(EQ$36=5,EO$36=\"元\"),\"平成\"&30&\"年\"&12,IF(AND(EQ$36>=6,EO$36=\"元\"),\"令和元年\"&12,IF(AND(EQ$36>=1,EQ$36<=5,EO$36=2),\"令和元年\"&12,(IF((AND(EQ$36>=1,EQ$36<=5)),\"令和\"&EO$36-1&\"年\"&12,\"令和\"&EO$36&\"年\"&12)))))))","v":"令和年12"},null,null,null,{"$f":"IF(OR(EU90=\"\",EU$41=1),\"\",12)","v":12},{"$f":"IF(OR(EV90=\"\",EX$41=4),\"\",IF(AND(EW$36>=1,EW$36<=4,EU$36=31),\"平成\"&30&\"年\"&12,IF(AND(EW$36=5,EU$36=\"元\"),\"平成\"&30&\"年\"&12,IF(AND(EW$36>=6,EU$36=\"元\"),\"令和元年\"&12,IF(AND(EW$36>=1,EW$36<=5,EU$36=2),\"令和元年\"&12,(IF((AND(EW$36>=1,EW$36<=5)),\"令和\"&EU$36-1&\"年\"&12,\"令和\"&EU$36&\"年\"&12)))))))","v":"令和年12"},{"$f":"IF(OR(EV90=\"\",EX$41=4),\"\",IF(AND(EW$36>=1,EW$36<=4,EU$36=31),\"平成\"&30&\"年\"&12,IF(AND(EW$36=5,EU$36=\"元\"),\"平成\"&30&\"年\"&12,IF(AND(EW$36>=6,EU$36=\"元\"),\"令和元年\"&12,IF(AND(EW$36>=1,EW$36<=5,EU$36=2),\"令和元年\"&12,(IF((AND(EW$36>=1,EW$36<=5)),\"令和\"&EU$36-1&\"年\"&12,\"令和\"&EU$36&\"年\"&12)))))))","v":"令和年12"},null,null,null,{"$f":"IF(OR(FA90=\"\",FA$41=1),\"\",12)","v":12},{"$f":"IF(OR(FB90=\"\",FD$41=4),\"\",IF(AND(FC$36>=1,FC$36<=4,FA$36=31),\"平成\"&30&\"年\"&12,IF(AND(FC$36=5,FA$36=\"元\"),\"平成\"&30&\"年\"&12,IF(AND(FC$36>=6,FA$36=\"元\"),\"令和元年\"&12,IF(AND(FC$36>=1,FC$36<=5,FA$36=2),\"令和元年\"&12,(IF((AND(FC$36>=1,FC$36<=5)),\"令和\"&FA$36-1&\"年\"&12,\"令和\"&FA$36&\"年\"&12)))))))","v":"令和年12"},{"$f":"IF(OR(FB90=\"\",FD$41=4),\"\",IF(AND(FC$36>=1,FC$36<=4,FA$36=31),\"平成\"&30&\"年\"&12,IF(AND(FC$36=5,FA$36=\"元\"),\"平成\"&30&\"年\"&12,IF(AND(FC$36>=6,FA$36=\"元\"),\"令和元年\"&12,IF(AND(FC$36>=1,FC$36<=5,FA$36=2),\"令和元年\"&12,(IF((AND(FC$36>=1,FC$36<=5)),\"令和\"&FA$36-1&\"年\"&12,\"令和\"&FA$36&\"年\"&12)))))))","v":"令和年12"},null,null,null,{"$f":"IF(OR(FG90=\"\",FG$41=1),\"\",12)","v":12},{"$f":"IF(OR(FH90=\"\",FJ$41=4),\"\",IF(AND(FI$36>=1,FI$36<=4,FG$36=31),\"平成\"&30&\"年\"&12,IF(AND(FI$36=5,FG$36=\"元\"),\"平成\"&30&\"年\"&12,IF(AND(FI$36>=6,FG$36=\"元\"),\"令和元年\"&12,IF(AND(FI$36>=1,FI$36<=5,FG$36=2),\"令和元年\"&12,(IF((AND(FI$36>=1,FI$36<=5)),\"令和\"&FG$36-1&\"年\"&12,\"令和\"&FG$36&\"年\"&12)))))))","v":"令和年12"},{"$f":"IF(OR(FH90=\"\",FJ$41=4),\"\",IF(AND(FI$36>=1,FI$36<=4,FG$36=31),\"平成\"&30&\"年\"&12,IF(AND(FI$36=5,FG$36=\"元\"),\"平成\"&30&\"年\"&12,IF(AND(FI$36>=6,FG$36=\"元\"),\"令和元年\"&12,IF(AND(FI$36>=1,FI$36<=5,FG$36=2),\"令和元年\"&12,(IF((AND(FI$36>=1,FI$36<=5)),\"令和\"&FG$36-1&\"年\"&12,\"令和\"&FG$36&\"年\"&12)))))))","v":"令和年12"},null,null,null,{"$f":"IF(OR(FM90=\"\",FM$41=1),\"\",12)","v":12},{"$f":"IF(OR(FN90=\"\",FP$41=4),\"\",IF(AND(FO$36>=1,FO$36<=4,FM$36=31),\"平成\"&30&\"年\"&12,IF(AND(FO$36=5,FM$36=\"元\"),\"平成\"&30&\"年\"&12,IF(AND(FO$36>=6,FM$36=\"元\"),\"令和元年\"&12,IF(AND(FO$36>=1,FO$36<=5,FM$36=2),\"令和元年\"&12,(IF((AND(FO$36>=1,FO$36<=5)),\"令和\"&FM$36-1&\"年\"&12,\"令和\"&FM$36&\"年\"&12)))))))","v":"令和年12"},{"$f":"IF(OR(FN90=\"\",FP$41=4),\"\",IF(AND(FO$36>=1,FO$36<=4,FM$36=31),\"平成\"&30&\"年\"&12,IF(AND(FO$36=5,FM$36=\"元\"),\"平成\"&30&\"年\"&12,IF(AND(FO$36>=6,FM$36=\"元\"),\"令和元年\"&12,IF(AND(FO$36>=1,FO$36<=5,FM$36=2),\"令和元年\"&12,(IF((AND(FO$36>=1,FO$36<=5)),\"令和\"&FM$36-1&\"年\"&12,\"令和\"&FM$36&\"年\"&12)))))))","v":"令和年12"},null,null,null,{"$f":"IF(OR(FS90=\"\",FS$41=1),\"\",12)","v":12},{"$f":"IF(OR(FT90=\"\",FV$41=4),\"\",IF(AND(FU$36>=1,FU$36<=4,FS$36=31),\"平成\"&30&\"年\"&12,IF(AND(FU$36=5,FS$36=\"元\"),\"平成\"&30&\"年\"&12,IF(AND(FU$36>=6,FS$36=\"元\"),\"令和元年\"&12,IF(AND(FU$36>=1,FU$36<=5,FS$36=2),\"令和元年\"&12,(IF((AND(FU$36>=1,FU$36<=5)),\"令和\"&FS$36-1&\"年\"&12,\"令和\"&FS$36&\"年\"&12)))))))","v":"令和年12"},{"$f":"IF(OR(FT90=\"\",FV$41=4),\"\",IF(AND(FU$36>=1,FU$36<=4,FS$36=31),\"平成\"&30&\"年\"&12,IF(AND(FU$36=5,FS$36=\"元\"),\"平成\"&30&\"年\"&12,IF(AND(FU$36>=6,FS$36=\"元\"),\"令和元年\"&12,IF(AND(FU$36>=1,FU$36<=5,FS$36=2),\"令和元年\"&12,(IF((AND(FU$36>=1,FU$36<=5)),\"令和\"&FS$36-1&\"年\"&12,\"令和\"&FS$36&\"年\"&12)))))))","v":"令和年12"},null,null,null,{"$f":"IF(OR(FY90=\"\",FY$41=1),\"\",12)","v":12},{"$f":"IF(OR(FZ90=\"\",GB$41=4),\"\",IF(AND(GA$36>=1,GA$36<=4,FY$36=31),\"平成\"&30&\"年\"&12,IF(AND(GA$36=5,FY$36=\"元\"),\"平成\"&30&\"年\"&12,IF(AND(GA$36>=6,FY$36=\"元\"),\"令和元年\"&12,IF(AND(GA$36>=1,GA$36<=5,FY$36=2),\"令和元年\"&12,(IF((AND(GA$36>=1,GA$36<=5)),\"令和\"&FY$36-1&\"年\"&12,\"令和\"&FY$36&\"年\"&12)))))))","v":"令和年12"},{"$f":"IF(OR(FZ90=\"\",GB$41=4),\"\",IF(AND(GA$36>=1,GA$36<=4,FY$36=31),\"平成\"&30&\"年\"&12,IF(AND(GA$36=5,FY$36=\"元\"),\"平成\"&30&\"年\"&12,IF(AND(GA$36>=6,FY$36=\"元\"),\"令和元年\"&12,IF(AND(GA$36>=1,GA$36<=5,FY$36=2),\"令和元年\"&12,(IF((AND(GA$36>=1,GA$36<=5)),\"令和\"&FY$36-1&\"年\"&12,\"令和\"&FY$36&\"年\"&12)))))))","v":"令和年12"},null,null,null,{"$f":"IF(OR(GE90=\"\",GE$41=1),\"\",12)","v":12},{"$f":"IF(OR(GF90=\"\",GH$41=4),\"\",IF(AND(GG$36>=1,GG$36<=4,GE$36=31),\"平成\"&30&\"年\"&12,IF(AND(GG$36=5,GE$36=\"元\"),\"平成\"&30&\"年\"&12,IF(AND(GG$36>=6,GE$36=\"元\"),\"令和元年\"&12,IF(AND(GG$36>=1,GG$36<=5,GE$36=2),\"令和元年\"&12,(IF((AND(GG$36>=1,GG$36<=5)),\"令和\"&GE$36-1&\"年\"&12,\"令和\"&GE$36&\"年\"&12)))))))","v":"令和年12"},{"$f":"IF(OR(GF90=\"\",GH$41=4),\"\",IF(AND(GG$36>=1,GG$36<=4,GE$36=31),\"平成\"&30&\"年\"&12,IF(AND(GG$36=5,GE$36=\"元\"),\"平成\"&30&\"年\"&12,IF(AND(GG$36>=6,GE$36=\"元\"),\"令和元年\"&12,IF(AND(GG$36>=1,GG$36<=5,GE$36=2),\"令和元年\"&12,(IF((AND(GG$36>=1,GG$36<=5)),\"令和\"&GE$36-1&\"年\"&12,\"令和\"&GE$36&\"年\"&12)))))))","v":"令和年12"},null,null,null,{"$f":"IF(OR(GK90=\"\",GK$41=1),\"\",12)","v":12},{"$f":"IF(OR(GL90=\"\",GN$41=4),\"\",IF(AND(GM$36>=1,GM$36<=4,GK$36=31),\"平成\"&30&\"年\"&12,IF(AND(GM$36=5,GK$36=\"元\"),\"平成\"&30&\"年\"&12,IF(AND(GM$36>=6,GK$36=\"元\"),\"令和元年\"&12,IF(AND(GM$36>=1,GM$36<=5,GK$36=2),\"令和元年\"&12,(IF((AND(GM$36>=1,GM$36<=5)),\"令和\"&GK$36-1&\"年\"&12,\"令和\"&GK$36&\"年\"&12)))))))","v":"令和年12"},{"$f":"IF(OR(GL90=\"\",GN$41=4),\"\",IF(AND(GM$36>=1,GM$36<=4,GK$36=31),\"平成\"&30&\"年\"&12,IF(AND(GM$36=5,GK$36=\"元\"),\"平成\"&30&\"年\"&12,IF(AND(GM$36>=6,GK$36=\"元\"),\"令和元年\"&12,IF(AND(GM$36>=1,GM$36<=5,GK$36=2),\"令和元年\"&12,(IF((AND(GM$36>=1,GM$36<=5)),\"令和\"&GK$36-1&\"年\"&12,\"令和\"&GK$36&\"年\"&12)))))))","v":"令和年12"},null,null,null,{"$f":"IF(OR(GQ90=\"\",GQ$41=1),\"\",12)","v":12},{"$f":"IF(OR(GR90=\"\",GT$41=4),\"\",IF(AND(GS$36>=1,GS$36<=4,GQ$36=31),\"平成\"&30&\"年\"&12,IF(AND(GS$36=5,GQ$36=\"元\"),\"平成\"&30&\"年\"&12,IF(AND(GS$36>=6,GQ$36=\"元\"),\"令和元年\"&12,IF(AND(GS$36>=1,GS$36<=5,GQ$36=2),\"令和元年\"&12,(IF((AND(GS$36>=1,GS$36<=5)),\"令和\"&GQ$36-1&\"年\"&12,\"令和\"&GQ$36&\"年\"&12)))))))","v":"令和年12"},{"$f":"IF(OR(GR90=\"\",GT$41=4),\"\",IF(AND(GS$36>=1,GS$36<=4,GQ$36=31),\"平成\"&30&\"年\"&12,IF(AND(GS$36=5,GQ$36=\"元\"),\"平成\"&30&\"年\"&12,IF(AND(GS$36>=6,GQ$36=\"元\"),\"令和元年\"&12,IF(AND(GS$36>=1,GS$36<=5,GQ$36=2),\"令和元年\"&12,(IF((AND(GS$36>=1,GS$36<=5)),\"令和\"&GQ$36-1&\"年\"&12,\"令和\"&GQ$36&\"年\"&12)))))))","v":"令和年12"},null,null,null,{"$f":"IF(OR(GW90=\"\",GW$41=1),\"\",12)","v":12},{"$f":"IF(OR(GX90=\"\",GZ$41=4),\"\",IF(AND(GY$36>=1,GY$36<=4,GW$36=31),\"平成\"&30&\"年\"&12,IF(AND(GY$36=5,GW$36=\"元\"),\"平成\"&30&\"年\"&12,IF(AND(GY$36>=6,GW$36=\"元\"),\"令和元年\"&12,IF(AND(GY$36>=1,GY$36<=5,GW$36=2),\"令和元年\"&12,(IF((AND(GY$36>=1,GY$36<=5)),\"令和\"&GW$36-1&\"年\"&12,\"令和\"&GW$36&\"年\"&12)))))))","v":"令和年12"},{"$f":"IF(OR(GX90=\"\",GZ$41=4),\"\",IF(AND(GY$36>=1,GY$36<=4,GW$36=31),\"平成\"&30&\"年\"&12,IF(AND(GY$36=5,GW$36=\"元\"),\"平成\"&30&\"年\"&12,IF(AND(GY$36>=6,GW$36=\"元\"),\"令和元年\"&12,IF(AND(GY$36>=1,GY$36<=5,GW$36=2),\"令和元年\"&12,(IF((AND(GY$36>=1,GY$36<=5)),\"令和\"&GW$36-1&\"年\"&12,\"令和\"&GW$36&\"年\"&12)))))))","v":"令和年12"},null,null,null,{"$f":"IF(OR(HC90=\"\",HC$41=1),\"\",12)","v":12},{"$f":"IF(OR(HD90=\"\",HF$41=4),\"\",IF(AND(HE$36>=1,HE$36<=4,HC$36=31),\"平成\"&30&\"年\"&12,IF(AND(HE$36=5,HC$36=\"元\"),\"平成\"&30&\"年\"&12,IF(AND(HE$36>=6,HC$36=\"元\"),\"令和元年\"&12,IF(AND(HE$36>=1,HE$36<=5,HC$36=2),\"令和元年\"&12,(IF((AND(HE$36>=1,HE$36<=5)),\"令和\"&HC$36-1&\"年\"&12,\"令和\"&HC$36&\"年\"&12)))))))","v":"令和年12"},{"$f":"IF(OR(HD90=\"\",HF$41=4),\"\",IF(AND(HE$36>=1,HE$36<=4,HC$36=31),\"平成\"&30&\"年\"&12,IF(AND(HE$36=5,HC$36=\"元\"),\"平成\"&30&\"年\"&12,IF(AND(HE$36>=6,HC$36=\"元\"),\"令和元年\"&12,IF(AND(HE$36>=1,HE$36<=5,HC$36=2),\"令和元年\"&12,(IF((AND(HE$36>=1,HE$36<=5)),\"令和\"&HC$36-1&\"年\"&12,\"令和\"&HC$36&\"年\"&12)))))))","v":"令和年12"},null,null,null,{"$f":"IF(OR(HI90=\"\",HI$41=1),\"\",12)","v":12},{"$f":"IF(OR(HJ90=\"\",HL$41=4),\"\",IF(AND(HK$36>=1,HK$36<=4,HI$36=31),\"平成\"&30&\"年\"&12,IF(AND(HK$36=5,HI$36=\"元\"),\"平成\"&30&\"年\"&12,IF(AND(HK$36>=6,HI$36=\"元\"),\"令和元年\"&12,IF(AND(HK$36>=1,HK$36<=5,HI$36=2),\"令和元年\"&12,(IF((AND(HK$36>=1,HK$36<=5)),\"令和\"&HI$36-1&\"年\"&12,\"令和\"&HI$36&\"年\"&12)))))))","v":"令和年12"},{"$f":"IF(OR(HJ90=\"\",HL$41=4),\"\",IF(AND(HK$36>=1,HK$36<=4,HI$36=31),\"平成\"&30&\"年\"&12,IF(AND(HK$36=5,HI$36=\"元\"),\"平成\"&30&\"年\"&12,IF(AND(HK$36>=6,HI$36=\"元\"),\"令和元年\"&12,IF(AND(HK$36>=1,HK$36<=5,HI$36=2),\"令和元年\"&12,(IF((AND(HK$36>=1,HK$36<=5)),\"令和\"&HI$36-1&\"年\"&12,\"令和\"&HI$36&\"年\"&12)))))))","v":"令和年12"},null,null,null,{"$f":"IF(OR(HO90=\"\",HO$41=1),\"\",12)","v":12},{"$f":"IF(OR(HP90=\"\",HR$41=4),\"\",IF(AND(HQ$36>=1,HQ$36<=4,HO$36=31),\"平成\"&30&\"年\"&12,IF(AND(HQ$36=5,HO$36=\"元\"),\"平成\"&30&\"年\"&12,IF(AND(HQ$36>=6,HO$36=\"元\"),\"令和元年\"&12,IF(AND(HQ$36>=1,HQ$36<=5,HO$36=2),\"令和元年\"&12,(IF((AND(HQ$36>=1,HQ$36<=5)),\"令和\"&HO$36-1&\"年\"&12,\"令和\"&HO$36&\"年\"&12)))))))","v":"令和年12"},{"$f":"IF(OR(HP90=\"\",HR$41=4),\"\",IF(AND(HQ$36>=1,HQ$36<=4,HO$36=31),\"平成\"&30&\"年\"&12,IF(AND(HQ$36=5,HO$36=\"元\"),\"平成\"&30&\"年\"&12,IF(AND(HQ$36>=6,HO$36=\"元\"),\"令和元年\"&12,IF(AND(HQ$36>=1,HQ$36<=5,HO$36=2),\"令和元年\"&12,(IF((AND(HQ$36>=1,HQ$36<=5)),\"令和\"&HO$36-1&\"年\"&12,\"令和\"&HO$36&\"年\"&12)))))))","v":"令和年12"},null,null,null,{"$f":"IF(OR(HU90=\"\",HU$41=1),\"\",12)","v":12},{"$f":"IF(OR(HV90=\"\",HX$41=4),\"\",IF(AND(HW$36>=1,HW$36<=4,HU$36=31),\"平成\"&30&\"年\"&12,IF(AND(HW$36=5,HU$36=\"元\"),\"平成\"&30&\"年\"&12,IF(AND(HW$36>=6,HU$36=\"元\"),\"令和元年\"&12,IF(AND(HW$36>=1,HW$36<=5,HU$36=2),\"令和元年\"&12,(IF((AND(HW$36>=1,HW$36<=5)),\"令和\"&HU$36-1&\"年\"&12,\"令和\"&HU$36&\"年\"&12)))))))","v":"令和年12"},{"$f":"IF(OR(HV90=\"\",HX$41=4),\"\",IF(AND(HW$36>=1,HW$36<=4,HU$36=31),\"平成\"&30&\"年\"&12,IF(AND(HW$36=5,HU$36=\"元\"),\"平成\"&30&\"年\"&12,IF(AND(HW$36>=6,HU$36=\"元\"),\"令和元年\"&12,IF(AND(HW$36>=1,HW$36<=5,HU$36=2),\"令和元年\"&12,(IF((AND(HW$36>=1,HW$36<=5)),\"令和\"&HU$36-1&\"年\"&12,\"令和\"&HU$36&\"年\"&12)))))))","v":"令和年12"},null,null,null,{"$f":"IF(OR(IA90=\"\",IA$41=1),\"\",12)","v":12},{"$f":"IF(OR(IB90=\"\",ID$41=4),\"\",IF(AND(IC$36>=1,IC$36<=4,IA$36=31),\"平成\"&30&\"年\"&12,IF(AND(IC$36=5,IA$36=\"元\"),\"平成\"&30&\"年\"&12,IF(AND(IC$36>=6,IA$36=\"元\"),\"令和元年\"&12,IF(AND(IC$36>=1,IC$36<=5,IA$36=2),\"令和元年\"&12,(IF((AND(IC$36>=1,IC$36<=5)),\"令和\"&IA$36-1&\"年\"&12,\"令和\"&IA$36&\"年\"&12)))))))","v":"令和年12"},{"$f":"IF(OR(IB90=\"\",ID$41=4),\"\",IF(AND(IC$36>=1,IC$36<=4,IA$36=31),\"平成\"&30&\"年\"&12,IF(AND(IC$36=5,IA$36=\"元\"),\"平成\"&30&\"年\"&12,IF(AND(IC$36>=6,IA$36=\"元\"),\"令和元年\"&12,IF(AND(IC$36>=1,IC$36<=5,IA$36=2),\"令和元年\"&12,(IF((AND(IC$36>=1,IC$36<=5)),\"令和\"&IA$36-1&\"年\"&12,\"令和\"&IA$36&\"年\"&12)))))))","v":"令和年12"},null,null,null,{"$f":"IF(OR(IG90=\"\",IG$41=1),\"\",12)","v":12},{"$f":"IF(OR(IH90=\"\",IJ$41=4),\"\",IF(AND(II$36>=1,II$36<=4,IG$36=31),\"平成\"&30&\"年\"&12,IF(AND(II$36=5,IG$36=\"元\"),\"平成\"&30&\"年\"&12,IF(AND(II$36>=6,IG$36=\"元\"),\"令和元年\"&12,IF(AND(II$36>=1,II$36<=5,IG$36=2),\"令和元年\"&12,(IF((AND(II$36>=1,II$36<=5)),\"令和\"&IG$36-1&\"年\"&12,\"令和\"&IG$36&\"年\"&12)))))))","v":"令和年12"},{"$f":"IF(OR(IH90=\"\",IJ$41=4),\"\",IF(AND(II$36>=1,II$36<=4,IG$36=31),\"平成\"&30&\"年\"&12,IF(AND(II$36=5,IG$36=\"元\"),\"平成\"&30&\"年\"&12,IF(AND(II$36>=6,IG$36=\"元\"),\"令和元年\"&12,IF(AND(II$36>=1,II$36<=5,IG$36=2),\"令和元年\"&12,(IF((AND(II$36>=1,II$36<=5)),\"令和\"&IG$36-1&\"年\"&12,\"令和\"&IG$36&\"年\"&12)))))))","v":"令和年12"}]
[null,{"$f":"IF(AND(DE21<>\"\",DE25<>\"\",DG25<>\"\",DI25<>\"\"),DE17,\"\")","v":""},"平",6,"平6",null,{"$f":"IF(OR(G91=\"\",G$41=2),\"\",1)","v":1},{"$f":"IF(OR(H91=\"\",J$41=4),\"\",IF(AND(I$36>=1,I$36<=4,G$36=31),\"平成\"&31&\"年\"&1,IF(AND(I$36=5,G$36=\"元\"),\"平成\"&31&\"年\"&1,IF(AND(I$36>=6,G$36=\"元\"),\"令和\"&2&\"年\"&1,IF((AND(I$36>=1,I$36<=5)),\"令和\"&G$36&\"年\"&1,\"令和\"&G$36+1&\"年\"&1)))))","v":"令和1年1"},{"$f":"IF(OR(H91=\"\",J$41=4),\"\",IF(AND(I$36>=1,I$36<=4,G$36=31),\"平成\"&31&\"年\"&1,IF(AND(I$36=5,G$36=\"元\"),\"平成\"&31&\"年\"&1,IF(AND(I$36>=6,G$36=\"元\"),\"令和\"&2&\"年\"&1,IF((AND(I$36>=1,I$36<=5)),\"令和\"&G$36&\"年\"&1,\"令和\"&G$36+1&\"年\"&1)))))","v":"令和1年1"},null,null,null,{"$f":"IF(OR(M91=\"\",M$41=2),\"\",1)","v":1},{"$f":"IF(OR(N91=\"\",P$41=4),\"\",IF(AND(O$36>=1,O$36<=4,M$36=31),\"平成\"&31&\"年\"&1,IF(AND(O$36=5,M$36=\"元\"),\"平成\"&31&\"年\"&1,IF(AND(O$36>=6,M$36=\"元\"),\"令和\"&2&\"年\"&1,IF((AND(O$36>=1,O$36<=5)),\"令和\"&M$36&\"年\"&1,\"令和\"&M$36+1&\"年\"&1)))))","v":"令和1年1"},{"$f":"IF(OR(N91=\"\",P$41=4),\"\",IF(AND(O$36>=1,O$36<=4,M$36=31),\"平成\"&31&\"年\"&1,IF(AND(O$36=5,M$36=\"元\"),\"平成\"&31&\"年\"&1,IF(AND(O$36>=6,M$36=\"元\"),\"令和\"&2&\"年\"&1,IF((AND(O$36>=1,O$36<=5)),\"令和\"&M$36&\"年\"&1,\"令和\"&M$36+1&\"年\"&1)))))","v":"令和1年1"},null,null,null,{"$f":"IF(OR(S91=\"\",S$41=2),\"\",1)","v":1},{"$f":"IF(OR(T91=\"\",V$41=4),\"\",IF(AND(U$36>=1,U$36<=4,S$36=31),\"平成\"&31&\"年\"&1,IF(AND(U$36=5,S$36=\"元\"),\"平成\"&31&\"年\"&1,IF(AND(U$36>=6,S$36=\"元\"),\"令和\"&2&\"年\"&1,IF((AND(U$36>=1,U$36<=5)),\"令和\"&S$36&\"年\"&1,\"令和\"&S$36+1&\"年\"&1)))))","v":"令和1年1"},{"$f":"IF(OR(T91=\"\",V$41=4),\"\",IF(AND(U$36>=1,U$36<=4,S$36=31),\"平成\"&31&\"年\"&1,IF(AND(U$36=5,S$36=\"元\"),\"平成\"&31&\"年\"&1,IF(AND(U$36>=6,S$36=\"元\"),\"令和\"&2&\"年\"&1,IF((AND(U$36>=1,U$36<=5)),\"令和\"&S$36&\"年\"&1,\"令和\"&S$36+1&\"年\"&1)))))","v":"令和1年1"},null,null,null,{"$f":"IF(OR(Y91=\"\",Y$41=2),\"\",1)","v":1},{"$f":"IF(OR(Z91=\"\",AB$41=4),\"\",IF(AND(AA$36>=1,AA$36<=4,Y$36=31),\"平成\"&31&\"年\"&1,IF(AND(AA$36=5,Y$36=\"元\"),\"平成\"&31&\"年\"&1,IF(AND(AA$36>=6,Y$36=\"元\"),\"令和\"&2&\"年\"&1,IF((AND(AA$36>=1,AA$36<=5)),\"令和\"&Y$36&\"年\"&1,\"令和\"&Y$36+1&\"年\"&1)))))","v":"令和1年1"},{"$f":"IF(OR(Z91=\"\",AB$41=4),\"\",IF(AND(AA$36>=1,AA$36<=4,Y$36=31),\"平成\"&31&\"年\"&1,IF(AND(AA$36=5,Y$36=\"元\"),\"平成\"&31&\"年\"&1,IF(AND(AA$36>=6,Y$36=\"元\"),\"令和\"&2&\"年\"&1,IF((AND(AA$36>=1,AA$36<=5)),\"令和\"&Y$36&\"年\"&1,\"令和\"&Y$36+1&\"年\"&1)))))","v":"令和1年1"},null,null,null,{"$f":"IF(OR(AE91=\"\",AE$41=2),\"\",1)","v":1},{"$f":"IF(OR(AF91=\"\",AH$41=4),\"\",IF(AND(AG$36>=1,AG$36<=4,AE$36=31),\"平成\"&31&\"年\"&1,IF(AND(AG$36=5,AE$36=\"元\"),\"平成\"&31&\"年\"&1,IF(AND(AG$36>=6,AE$36=\"元\"),\"令和\"&2&\"年\"&1,IF((AND(AG$36>=1,AG$36<=5)),\"令和\"&AE$36&\"年\"&1,\"令和\"&AE$36+1&\"年\"&1)))))","v":"令和1年1"},{"$f":"IF(OR(AF91=\"\",AH$41=4),\"\",IF(AND(AG$36>=1,AG$36<=4,AE$36=31),\"平成\"&31&\"年\"&1,IF(AND(AG$36=5,AE$36=\"元\"),\"平成\"&31&\"年\"&1,IF(AND(AG$36>=6,AE$36=\"元\"),\"令和\"&2&\"年\"&1,IF((AND(AG$36>=1,AG$36<=5)),\"令和\"&AE$36&\"年\"&1,\"令和\"&AE$36+1&\"年\"&1)))))","v":"令和1年1"},null,null,null,{"$f":"IF(OR(AK91=\"\",AK$41=2),\"\",1)","v":1},{"$f":"IF(OR(AL91=\"\",AN$41=4),\"\",IF(AND(AM$36>=1,AM$36<=4,AK$36=31),\"平成\"&31&\"年\"&1,IF(AND(AM$36=5,AK$36=\"元\"),\"平成\"&31&\"年\"&1,IF(AND(AM$36>=6,AK$36=\"元\"),\"令和\"&2&\"年\"&1,IF((AND(AM$36>=1,AM$36<=5)),\"令和\"&AK$36&\"年\"&1,\"令和\"&AK$36+1&\"年\"&1)))))","v":"令和1年1"},{"$f":"IF(OR(AL91=\"\",AN$41=4),\"\",IF(AND(AM$36>=1,AM$36<=4,AK$36=31),\"平成\"&31&\"年\"&1,IF(AND(AM$36=5,AK$36=\"元\"),\"平成\"&31&\"年\"&1,IF(AND(AM$36>=6,AK$36=\"元\"),\"令和\"&2&\"年\"&1,IF((AND(AM$36>=1,AM$36<=5)),\"令和\"&AK$36&\"年\"&1,\"令和\"&AK$36+1&\"年\"&1)))))","v":"令和1年1"},null,null,null,{"$f":"IF(OR(AQ91=\"\",AQ$41=2),\"\",1)","v":1},{"$f":"IF(OR(AR91=\"\",AT$41=4),\"\",IF(AND(AS$36>=1,AS$36<=4,AQ$36=31),\"平成\"&31&\"年\"&1,IF(AND(AS$36=5,AQ$36=\"元\"),\"平成\"&31&\"年\"&1,IF(AND(AS$36>=6,AQ$36=\"元\"),\"令和\"&2&\"年\"&1,IF((AND(AS$36>=1,AS$36<=5)),\"令和\"&AQ$36&\"年\"&1,\"令和\"&AQ$36+1&\"年\"&1)))))","v":"令和1年1"},{"$f":"IF(OR(AR91=\"\",AT$41=4),\"\",IF(AND(AS$36>=1,AS$36<=4,AQ$36=31),\"平成\"&31&\"年\"&1,IF(AND(AS$36=5,AQ$36=\"元\"),\"平成\"&31&\"年\"&1,IF(AND(AS$36>=6,AQ$36=\"元\"),\"令和\"&2&\"年\"&1,IF((AND(AS$36>=1,AS$36<=5)),\"令和\"&AQ$36&\"年\"&1,\"令和\"&AQ$36+1&\"年\"&1)))))","v":"令和1年1"},null,null,null,{"$f":"IF(OR(AW91=\"\",AW$41=2),\"\",1)","v":1},{"$f":"IF(OR(AX91=\"\",AZ$41=4),\"\",IF(AND(AY$36>=1,AY$36<=4,AW$36=31),\"平成\"&31&\"年\"&1,IF(AND(AY$36=5,AW$36=\"元\"),\"平成\"&31&\"年\"&1,IF(AND(AY$36>=6,AW$36=\"元\"),\"令和\"&2&\"年\"&1,IF((AND(AY$36>=1,AY$36<=5)),\"令和\"&AW$36&\"年\"&1,\"令和\"&AW$36+1&\"年\"&1)))))","v":"令和1年1"},{"$f":"IF(OR(AX91=\"\",AZ$41=4),\"\",IF(AND(AY$36>=1,AY$36<=4,AW$36=31),\"平成\"&31&\"年\"&1,IF(AND(AY$36=5,AW$36=\"元\"),\"平成\"&31&\"年\"&1,IF(AND(AY$36>=6,AW$36=\"元\"),\"令和\"&2&\"年\"&1,IF((AND(AY$36>=1,AY$36<=5)),\"令和\"&AW$36&\"年\"&1,\"令和\"&AW$36+1&\"年\"&1)))))","v":"令和1年1"},null,null,null,{"$f":"IF(OR(BC91=\"\",BC$41=2),\"\",1)","v":1},{"$f":"IF(OR(BD91=\"\",BF$41=4),\"\",IF(AND(BE$36>=1,BE$36<=4,BC$36=31),\"平成\"&31&\"年\"&1,IF(AND(BE$36=5,BC$36=\"元\"),\"平成\"&31&\"年\"&1,IF(AND(BE$36>=6,BC$36=\"元\"),\"令和\"&2&\"年\"&1,IF((AND(BE$36>=1,BE$36<=5)),\"令和\"&BC$36&\"年\"&1,\"令和\"&BC$36+1&\"年\"&1)))))","v":"令和1年1"},{"$f":"IF(OR(BD91=\"\",BF$41=4),\"\",IF(AND(BE$36>=1,BE$36<=4,BC$36=31),\"平成\"&31&\"年\"&1,IF(AND(BE$36=5,BC$36=\"元\"),\"平成\"&31&\"年\"&1,IF(AND(BE$36>=6,BC$36=\"元\"),\"令和\"&2&\"年\"&1,IF((AND(BE$36>=1,BE$36<=5)),\"令和\"&BC$36&\"年\"&1,\"令和\"&BC$36+1&\"年\"&1)))))","v":"令和1年1"},null,null,null,{"$f":"IF(OR(BI91=\"\",BI$41=2),\"\",1)","v":1},{"$f":"IF(OR(BJ91=\"\",BL$41=4),\"\",IF(AND(BK$36>=1,BK$36<=4,BI$36=31),\"平成\"&31&\"年\"&1,IF(AND(BK$36=5,BI$36=\"元\"),\"平成\"&31&\"年\"&1,IF(AND(BK$36>=6,BI$36=\"元\"),\"令和\"&2&\"年\"&1,IF((AND(BK$36>=1,BK$36<=5)),\"令和\"&BI$36&\"年\"&1,\"令和\"&BI$36+1&\"年\"&1)))))","v":"令和1年1"},{"$f":"IF(OR(BJ91=\"\",BL$41=4),\"\",IF(AND(BK$36>=1,BK$36<=4,BI$36=31),\"平成\"&31&\"年\"&1,IF(AND(BK$36=5,BI$36=\"元\"),\"平成\"&31&\"年\"&1,IF(AND(BK$36>=6,BI$36=\"元\"),\"令和\"&2&\"年\"&1,IF((AND(BK$36>=1,BK$36<=5)),\"令和\"&BI$36&\"年\"&1,\"令和\"&BI$36+1&\"年\"&1)))))","v":"令和1年1"},null,null,null,{"$f":"IF(OR(BO91=\"\",BO$41=2),\"\",1)","v":1},{"$f":"IF(OR(BP91=\"\",BR$41=4),\"\",IF(AND(BQ$36>=1,BQ$36<=4,BO$36=31),\"平成\"&31&\"年\"&1,IF(AND(BQ$36=5,BO$36=\"元\"),\"平成\"&31&\"年\"&1,IF(AND(BQ$36>=6,BO$36=\"元\"),\"令和\"&2&\"年\"&1,IF((AND(BQ$36>=1,BQ$36<=5)),\"令和\"&BO$36&\"年\"&1,\"令和\"&BO$36+1&\"年\"&1)))))","v":"令和1年1"},{"$f":"IF(OR(BP91=\"\",BR$41=4),\"\",IF(AND(BQ$36>=1,BQ$36<=4,BO$36=31),\"平成\"&31&\"年\"&1,IF(AND(BQ$36=5,BO$36=\"元\"),\"平成\"&31&\"年\"&1,IF(AND(BQ$36>=6,BO$36=\"元\"),\"令和\"&2&\"年\"&1,IF((AND(BQ$36>=1,BQ$36<=5)),\"令和\"&BO$36&\"年\"&1,\"令和\"&BO$36+1&\"年\"&1)))))","v":"令和1年1"},null,null,null,{"$f":"IF(OR(BU91=\"\",BU$41=2),\"\",1)","v":1},{"$f":"IF(OR(BV91=\"\",BX$41=4),\"\",IF(AND(BW$36>=1,BW$36<=4,BU$36=31),\"平成\"&31&\"年\"&1,IF(AND(BW$36=5,BU$36=\"元\"),\"平成\"&31&\"年\"&1,IF(AND(BW$36>=6,BU$36=\"元\"),\"令和\"&2&\"年\"&1,IF((AND(BW$36>=1,BW$36<=5)),\"令和\"&BU$36&\"年\"&1,\"令和\"&BU$36+1&\"年\"&1)))))","v":"令和1年1"},{"$f":"IF(OR(BV91=\"\",BX$41=4),\"\",IF(AND(BW$36>=1,BW$36<=4,BU$36=31),\"平成\"&31&\"年\"&1,IF(AND(BW$36=5,BU$36=\"元\"),\"平成\"&31&\"年\"&1,IF(AND(BW$36>=6,BU$36=\"元\"),\"令和\"&2&\"年\"&1,IF((AND(BW$36>=1,BW$36<=5)),\"令和\"&BU$36&\"年\"&1,\"令和\"&BU$36+1&\"年\"&1)))))","v":"令和1年1"},null,null,null,{"$f":"IF(OR(CA91=\"\",CA$41=2),\"\",1)","v":1},{"$f":"IF(OR(CB91=\"\",CD$41=4),\"\",IF(AND(CC$36>=1,CC$36<=4,CA$36=31),\"平成\"&31&\"年\"&1,IF(AND(CC$36=5,CA$36=\"元\"),\"平成\"&31&\"年\"&1,IF(AND(CC$36>=6,CA$36=\"元\"),\"令和\"&2&\"年\"&1,IF((AND(CC$36>=1,CC$36<=5)),\"令和\"&CA$36&\"年\"&1,\"令和\"&CA$36+1&\"年\"&1)))))","v":"令和1年1"},{"$f":"IF(OR(CB91=\"\",CD$41=4),\"\",IF(AND(CC$36>=1,CC$36<=4,CA$36=31),\"平成\"&31&\"年\"&1,IF(AND(CC$36=5,CA$36=\"元\"),\"平成\"&31&\"年\"&1,IF(AND(CC$36>=6,CA$36=\"元\"),\"令和\"&2&\"年\"&1,IF((AND(CC$36>=1,CC$36<=5)),\"令和\"&CA$36&\"年\"&1,\"令和\"&CA$36+1&\"年\"&1)))))","v":"令和1年1"},null,null,null,{"$f":"IF(OR(CG91=\"\",CG$41=2),\"\",1)","v":1},{"$f":"IF(OR(CH91=\"\",CJ$41=4),\"\",IF(AND(CI$36>=1,CI$36<=4,CG$36=31),\"平成\"&31&\"年\"&1,IF(AND(CI$36=5,CG$36=\"元\"),\"平成\"&31&\"年\"&1,IF(AND(CI$36>=6,CG$36=\"元\"),\"令和\"&2&\"年\"&1,IF((AND(CI$36>=1,CI$36<=5)),\"令和\"&CG$36&\"年\"&1,\"令和\"&CG$36+1&\"年\"&1)))))","v":"令和1年1"},{"$f":"IF(OR(CH91=\"\",CJ$41=4),\"\",IF(AND(CI$36>=1,CI$36<=4,CG$36=31),\"平成\"&31&\"年\"&1,IF(AND(CI$36=5,CG$36=\"元\"),\"平成\"&31&\"年\"&1,IF(AND(CI$36>=6,CG$36=\"元\"),\"令和\"&2&\"年\"&1,IF((AND(CI$36>=1,CI$36<=5)),\"令和\"&CG$36&\"年\"&1,\"令和\"&CG$36+1&\"年\"&1)))))","v":"令和1年1"},null,null,null,{"$f":"IF(OR(CM91=\"\",CM$41=2),\"\",1)","v":1},{"$f":"IF(OR(CN91=\"\",CP$41=4),\"\",IF(AND(CO$36>=1,CO$36<=4,CM$36=31),\"平成\"&31&\"年\"&1,IF(AND(CO$36=5,CM$36=\"元\"),\"平成\"&31&\"年\"&1,IF(AND(CO$36>=6,CM$36=\"元\"),\"令和\"&2&\"年\"&1,IF((AND(CO$36>=1,CO$36<=5)),\"令和\"&CM$36&\"年\"&1,\"令和\"&CM$36+1&\"年\"&1)))))","v":"令和1年1"},{"$f":"IF(OR(CN91=\"\",CP$41=4),\"\",IF(AND(CO$36>=1,CO$36<=4,CM$36=31),\"平成\"&31&\"年\"&1,IF(AND(CO$36=5,CM$36=\"元\"),\"平成\"&31&\"年\"&1,IF(AND(CO$36>=6,CM$36=\"元\"),\"令和\"&2&\"年\"&1,IF((AND(CO$36>=1,CO$36<=5)),\"令和\"&CM$36&\"年\"&1,\"令和\"&CM$36+1&\"年\"&1)))))","v":"令和1年1"},null,null,null,{"$f":"IF(OR(CS91=\"\",CS$41=2),\"\",1)","v":1},{"$f":"IF(OR(CT91=\"\",CV$41=4),\"\",IF(AND(CU$36>=1,CU$36<=4,CS$36=31),\"平成\"&31&\"年\"&1,IF(AND(CU$36=5,CS$36=\"元\"),\"平成\"&31&\"年\"&1,IF(AND(CU$36>=6,CS$36=\"元\"),\"令和\"&2&\"年\"&1,IF((AND(CU$36>=1,CU$36<=5)),\"令和\"&CS$36&\"年\"&1,\"令和\"&CS$36+1&\"年\"&1)))))","v":"令和1年1"},{"$f":"IF(OR(CT91=\"\",CV$41=4),\"\",IF(AND(CU$36>=1,CU$36<=4,CS$36=31),\"平成\"&31&\"年\"&1,IF(AND(CU$36=5,CS$36=\"元\"),\"平成\"&31&\"年\"&1,IF(AND(CU$36>=6,CS$36=\"元\"),\"令和\"&2&\"年\"&1,IF((AND(CU$36>=1,CU$36<=5)),\"令和\"&CS$36&\"年\"&1,\"令和\"&CS$36+1&\"年\"&1)))))","v":"令和1年1"},null,null,null,{"$f":"IF(OR(CY91=\"\",CY$41=2),\"\",1)","v":1},{"$f":"IF(OR(CZ91=\"\",DB$41=4),\"\",IF(AND(DA$36>=1,DA$36<=4,CY$36=31),\"平成\"&31&\"年\"&1,IF(AND(DA$36=5,CY$36=\"元\"),\"平成\"&31&\"年\"&1,IF(AND(DA$36>=6,CY$36=\"元\"),\"令和\"&2&\"年\"&1,IF((AND(DA$36>=1,DA$36<=5)),\"令和\"&CY$36&\"年\"&1,\"令和\"&CY$36+1&\"年\"&1)))))","v":"令和1年1"},{"$f":"IF(OR(CZ91=\"\",DB$41=4),\"\",IF(AND(DA$36>=1,DA$36<=4,CY$36=31),\"平成\"&31&\"年\"&1,IF(AND(DA$36=5,CY$36=\"元\"),\"平成\"&31&\"年\"&1,IF(AND(DA$36>=6,CY$36=\"元\"),\"令和\"&2&\"年\"&1,IF((AND(DA$36>=1,DA$36<=5)),\"令和\"&CY$36&\"年\"&1,\"令和\"&CY$36+1&\"年\"&1)))))","v":"令和1年1"},null,null,null,{"$f":"IF(OR(DE91=\"\",DE$41=2),\"\",1)","v":1},{"$f":"IF(OR(DF91=\"\",DH$41=4),\"\",IF(AND(DG$36>=1,DG$36<=4,DE$36=31),\"平成\"&31&\"年\"&1,IF(AND(DG$36=5,DE$36=\"元\"),\"平成\"&31&\"年\"&1,IF(AND(DG$36>=6,DE$36=\"元\"),\"令和\"&2&\"年\"&1,IF((AND(DG$36>=1,DG$36<=5)),\"令和\"&DE$36&\"年\"&1,\"令和\"&DE$36+1&\"年\"&1)))))","v":"令和1年1"},{"$f":"IF(OR(DF91=\"\",DH$41=4),\"\",IF(AND(DG$36>=1,DG$36<=4,DE$36=31),\"平成\"&31&\"年\"&1,IF(AND(DG$36=5,DE$36=\"元\"),\"平成\"&31&\"年\"&1,IF(AND(DG$36>=6,DE$36=\"元\"),\"令和\"&2&\"年\"&1,IF((AND(DG$36>=1,DG$36<=5)),\"令和\"&DE$36&\"年\"&1,\"令和\"&DE$36+1&\"年\"&1)))))","v":"令和1年1"},null,null,null,{"$f":"IF(OR(DK91=\"\",DK$41=2),\"\",1)","v":1},{"$f":"IF(OR(DL91=\"\",DN$41=4),\"\",IF(AND(DM$36>=1,DM$36<=4,DK$36=31),\"平成\"&31&\"年\"&1,IF(AND(DM$36=5,DK$36=\"元\"),\"平成\"&31&\"年\"&1,IF(AND(DM$36>=6,DK$36=\"元\"),\"令和\"&2&\"年\"&1,IF((AND(DM$36>=1,DM$36<=5)),\"令和\"&DK$36&\"年\"&1,\"令和\"&DK$36+1&\"年\"&1)))))","v":"令和1年1"},{"$f":"IF(OR(DL91=\"\",DN$41=4),\"\",IF(AND(DM$36>=1,DM$36<=4,DK$36=31),\"平成\"&31&\"年\"&1,IF(AND(DM$36=5,DK$36=\"元\"),\"平成\"&31&\"年\"&1,IF(AND(DM$36>=6,DK$36=\"元\"),\"令和\"&2&\"年\"&1,IF((AND(DM$36>=1,DM$36<=5)),\"令和\"&DK$36&\"年\"&1,\"令和\"&DK$36+1&\"年\"&1)))))","v":"令和1年1"},null,null,null,{"$f":"IF(OR(DQ91=\"\",DQ$41=2),\"\",1)","v":1},{"$f":"IF(OR(DR91=\"\",DT$41=4),\"\",IF(AND(DS$36>=1,DS$36<=4,DQ$36=31),\"平成\"&31&\"年\"&1,IF(AND(DS$36=5,DQ$36=\"元\"),\"平成\"&31&\"年\"&1,IF(AND(DS$36>=6,DQ$36=\"元\"),\"令和\"&2&\"年\"&1,IF((AND(DS$36>=1,DS$36<=5)),\"令和\"&DQ$36&\"年\"&1,\"令和\"&DQ$36+1&\"年\"&1)))))","v":"令和1年1"},{"$f":"IF(OR(DR91=\"\",DT$41=4),\"\",IF(AND(DS$36>=1,DS$36<=4,DQ$36=31),\"平成\"&31&\"年\"&1,IF(AND(DS$36=5,DQ$36=\"元\"),\"平成\"&31&\"年\"&1,IF(AND(DS$36>=6,DQ$36=\"元\"),\"令和\"&2&\"年\"&1,IF((AND(DS$36>=1,DS$36<=5)),\"令和\"&DQ$36&\"年\"&1,\"令和\"&DQ$36+1&\"年\"&1)))))","v":"令和1年1"},null,null,null,{"$f":"IF(OR(DW91=\"\",DW$41=2),\"\",1)","v":1},{"$f":"IF(OR(DX91=\"\",DZ$41=4),\"\",IF(AND(DY$36>=1,DY$36<=4,DW$36=31),\"平成\"&31&\"年\"&1,IF(AND(DY$36=5,DW$36=\"元\"),\"平成\"&31&\"年\"&1,IF(AND(DY$36>=6,DW$36=\"元\"),\"令和\"&2&\"年\"&1,IF((AND(DY$36>=1,DY$36<=5)),\"令和\"&DW$36&\"年\"&1,\"令和\"&DW$36+1&\"年\"&1)))))","v":"令和1年1"},{"$f":"IF(OR(DX91=\"\",DZ$41=4),\"\",IF(AND(DY$36>=1,DY$36<=4,DW$36=31),\"平成\"&31&\"年\"&1,IF(AND(DY$36=5,DW$36=\"元\"),\"平成\"&31&\"年\"&1,IF(AND(DY$36>=6,DW$36=\"元\"),\"令和\"&2&\"年\"&1,IF((AND(DY$36>=1,DY$36<=5)),\"令和\"&DW$36&\"年\"&1,\"令和\"&DW$36+1&\"年\"&1)))))","v":"令和1年1"},null,null,null,{"$f":"IF(OR(EC91=\"\",EC$41=2),\"\",1)","v":1},{"$f":"IF(OR(ED91=\"\",EF$41=4),\"\",IF(AND(EE$36>=1,EE$36<=4,EC$36=31),\"平成\"&31&\"年\"&1,IF(AND(EE$36=5,EC$36=\"元\"),\"平成\"&31&\"年\"&1,IF(AND(EE$36>=6,EC$36=\"元\"),\"令和\"&2&\"年\"&1,IF((AND(EE$36>=1,EE$36<=5)),\"令和\"&EC$36&\"年\"&1,\"令和\"&EC$36+1&\"年\"&1)))))","v":"令和1年1"},{"$f":"IF(OR(ED91=\"\",EF$41=4),\"\",IF(AND(EE$36>=1,EE$36<=4,EC$36=31),\"平成\"&31&\"年\"&1,IF(AND(EE$36=5,EC$36=\"元\"),\"平成\"&31&\"年\"&1,IF(AND(EE$36>=6,EC$36=\"元\"),\"令和\"&2&\"年\"&1,IF((AND(EE$36>=1,EE$36<=5)),\"令和\"&EC$36&\"年\"&1,\"令和\"&EC$36+1&\"年\"&1)))))","v":"令和1年1"},null,null,null,{"$f":"IF(OR(EI91=\"\",EI$41=2),\"\",1)","v":1},{"$f":"IF(OR(EJ91=\"\",EL$41=4),\"\",IF(AND(EK$36>=1,EK$36<=4,EI$36=31),\"平成\"&31&\"年\"&1,IF(AND(EK$36=5,EI$36=\"元\"),\"平成\"&31&\"年\"&1,IF(AND(EK$36>=6,EI$36=\"元\"),\"令和\"&2&\"年\"&1,IF((AND(EK$36>=1,EK$36<=5)),\"令和\"&EI$36&\"年\"&1,\"令和\"&EI$36+1&\"年\"&1)))))","v":"令和1年1"},{"$f":"IF(OR(EJ91=\"\",EL$41=4),\"\",IF(AND(EK$36>=1,EK$36<=4,EI$36=31),\"平成\"&31&\"年\"&1,IF(AND(EK$36=5,EI$36=\"元\"),\"平成\"&31&\"年\"&1,IF(AND(EK$36>=6,EI$36=\"元\"),\"令和\"&2&\"年\"&1,IF((AND(EK$36>=1,EK$36<=5)),\"令和\"&EI$36&\"年\"&1,\"令和\"&EI$36+1&\"年\"&1)))))","v":"令和1年1"},null,null,null,{"$f":"IF(OR(EO91=\"\",EO$41=2),\"\",1)","v":1},{"$f":"IF(OR(EP91=\"\",ER$41=4),\"\",IF(AND(EQ$36>=1,EQ$36<=4,EO$36=31),\"平成\"&31&\"年\"&1,IF(AND(EQ$36=5,EO$36=\"元\"),\"平成\"&31&\"年\"&1,IF(AND(EQ$36>=6,EO$36=\"元\"),\"令和\"&2&\"年\"&1,IF((AND(EQ$36>=1,EQ$36<=5)),\"令和\"&EO$36&\"年\"&1,\"令和\"&EO$36+1&\"年\"&1)))))","v":"令和1年1"},{"$f":"IF(OR(EP91=\"\",ER$41=4),\"\",IF(AND(EQ$36>=1,EQ$36<=4,EO$36=31),\"平成\"&31&\"年\"&1,IF(AND(EQ$36=5,EO$36=\"元\"),\"平成\"&31&\"年\"&1,IF(AND(EQ$36>=6,EO$36=\"元\"),\"令和\"&2&\"年\"&1,IF((AND(EQ$36>=1,EQ$36<=5)),\"令和\"&EO$36&\"年\"&1,\"令和\"&EO$36+1&\"年\"&1)))))","v":"令和1年1"},null,null,null,{"$f":"IF(OR(EU91=\"\",EU$41=2),\"\",1)","v":1},{"$f":"IF(OR(EV91=\"\",EX$41=4),\"\",IF(AND(EW$36>=1,EW$36<=4,EU$36=31),\"平成\"&31&\"年\"&1,IF(AND(EW$36=5,EU$36=\"元\"),\"平成\"&31&\"年\"&1,IF(AND(EW$36>=6,EU$36=\"元\"),\"令和\"&2&\"年\"&1,IF((AND(EW$36>=1,EW$36<=5)),\"令和\"&EU$36&\"年\"&1,\"令和\"&EU$36+1&\"年\"&1)))))","v":"令和1年1"},{"$f":"IF(OR(EV91=\"\",EX$41=4),\"\",IF(AND(EW$36>=1,EW$36<=4,EU$36=31),\"平成\"&31&\"年\"&1,IF(AND(EW$36=5,EU$36=\"元\"),\"平成\"&31&\"年\"&1,IF(AND(EW$36>=6,EU$36=\"元\"),\"令和\"&2&\"年\"&1,IF((AND(EW$36>=1,EW$36<=5)),\"令和\"&EU$36&\"年\"&1,\"令和\"&EU$36+1&\"年\"&1)))))","v":"令和1年1"},null,null,null,{"$f":"IF(OR(FA91=\"\",FA$41=2),\"\",1)","v":1},{"$f":"IF(OR(FB91=\"\",FD$41=4),\"\",IF(AND(FC$36>=1,FC$36<=4,FA$36=31),\"平成\"&31&\"年\"&1,IF(AND(FC$36=5,FA$36=\"元\"),\"平成\"&31&\"年\"&1,IF(AND(FC$36>=6,FA$36=\"元\"),\"令和\"&2&\"年\"&1,IF((AND(FC$36>=1,FC$36<=5)),\"令和\"&FA$36&\"年\"&1,\"令和\"&FA$36+1&\"年\"&1)))))","v":"令和1年1"},{"$f":"IF(OR(FB91=\"\",FD$41=4),\"\",IF(AND(FC$36>=1,FC$36<=4,FA$36=31),\"平成\"&31&\"年\"&1,IF(AND(FC$36=5,FA$36=\"元\"),\"平成\"&31&\"年\"&1,IF(AND(FC$36>=6,FA$36=\"元\"),\"令和\"&2&\"年\"&1,IF((AND(FC$36>=1,FC$36<=5)),\"令和\"&FA$36&\"年\"&1,\"令和\"&FA$36+1&\"年\"&1)))))","v":"令和1年1"},null,null,null,{"$f":"IF(OR(FG91=\"\",FG$41=2),\"\",1)","v":1},{"$f":"IF(OR(FH91=\"\",FJ$41=4),\"\",IF(AND(FI$36>=1,FI$36<=4,FG$36=31),\"平成\"&31&\"年\"&1,IF(AND(FI$36=5,FG$36=\"元\"),\"平成\"&31&\"年\"&1,IF(AND(FI$36>=6,FG$36=\"元\"),\"令和\"&2&\"年\"&1,IF((AND(FI$36>=1,FI$36<=5)),\"令和\"&FG$36&\"年\"&1,\"令和\"&FG$36+1&\"年\"&1)))))","v":"令和1年1"},{"$f":"IF(OR(FH91=\"\",FJ$41=4),\"\",IF(AND(FI$36>=1,FI$36<=4,FG$36=31),\"平成\"&31&\"年\"&1,IF(AND(FI$36=5,FG$36=\"元\"),\"平成\"&31&\"年\"&1,IF(AND(FI$36>=6,FG$36=\"元\"),\"令和\"&2&\"年\"&1,IF((AND(FI$36>=1,FI$36<=5)),\"令和\"&FG$36&\"年\"&1,\"令和\"&FG$36+1&\"年\"&1)))))","v":"令和1年1"},null,null,null,{"$f":"IF(OR(FM91=\"\",FM$41=2),\"\",1)","v":1},{"$f":"IF(OR(FN91=\"\",FP$41=4),\"\",IF(AND(FO$36>=1,FO$36<=4,FM$36=31),\"平成\"&31&\"年\"&1,IF(AND(FO$36=5,FM$36=\"元\"),\"平成\"&31&\"年\"&1,IF(AND(FO$36>=6,FM$36=\"元\"),\"令和\"&2&\"年\"&1,IF((AND(FO$36>=1,FO$36<=5)),\"令和\"&FM$36&\"年\"&1,\"令和\"&FM$36+1&\"年\"&1)))))","v":"令和1年1"},{"$f":"IF(OR(FN91=\"\",FP$41=4),\"\",IF(AND(FO$36>=1,FO$36<=4,FM$36=31),\"平成\"&31&\"年\"&1,IF(AND(FO$36=5,FM$36=\"元\"),\"平成\"&31&\"年\"&1,IF(AND(FO$36>=6,FM$36=\"元\"),\"令和\"&2&\"年\"&1,IF((AND(FO$36>=1,FO$36<=5)),\"令和\"&FM$36&\"年\"&1,\"令和\"&FM$36+1&\"年\"&1)))))","v":"令和1年1"},null,null,null,{"$f":"IF(OR(FS91=\"\",FS$41=2),\"\",1)","v":1},{"$f":"IF(OR(FT91=\"\",FV$41=4),\"\",IF(AND(FU$36>=1,FU$36<=4,FS$36=31),\"平成\"&31&\"年\"&1,IF(AND(FU$36=5,FS$36=\"元\"),\"平成\"&31&\"年\"&1,IF(AND(FU$36>=6,FS$36=\"元\"),\"令和\"&2&\"年\"&1,IF((AND(FU$36>=1,FU$36<=5)),\"令和\"&FS$36&\"年\"&1,\"令和\"&FS$36+1&\"年\"&1)))))","v":"令和1年1"},{"$f":"IF(OR(FT91=\"\",FV$41=4),\"\",IF(AND(FU$36>=1,FU$36<=4,FS$36=31),\"平成\"&31&\"年\"&1,IF(AND(FU$36=5,FS$36=\"元\"),\"平成\"&31&\"年\"&1,IF(AND(FU$36>=6,FS$36=\"元\"),\"令和\"&2&\"年\"&1,IF((AND(FU$36>=1,FU$36<=5)),\"令和\"&FS$36&\"年\"&1,\"令和\"&FS$36+1&\"年\"&1)))))","v":"令和1年1"},null,null,null,{"$f":"IF(OR(FY91=\"\",FY$41=2),\"\",1)","v":1},{"$f":"IF(OR(FZ91=\"\",GB$41=4),\"\",IF(AND(GA$36>=1,GA$36<=4,FY$36=31),\"平成\"&31&\"年\"&1,IF(AND(GA$36=5,FY$36=\"元\"),\"平成\"&31&\"年\"&1,IF(AND(GA$36>=6,FY$36=\"元\"),\"令和\"&2&\"年\"&1,IF((AND(GA$36>=1,GA$36<=5)),\"令和\"&FY$36&\"年\"&1,\"令和\"&FY$36+1&\"年\"&1)))))","v":"令和1年1"},{"$f":"IF(OR(FZ91=\"\",GB$41=4),\"\",IF(AND(GA$36>=1,GA$36<=4,FY$36=31),\"平成\"&31&\"年\"&1,IF(AND(GA$36=5,FY$36=\"元\"),\"平成\"&31&\"年\"&1,IF(AND(GA$36>=6,FY$36=\"元\"),\"令和\"&2&\"年\"&1,IF((AND(GA$36>=1,GA$36<=5)),\"令和\"&FY$36&\"年\"&1,\"令和\"&FY$36+1&\"年\"&1)))))","v":"令和1年1"},null,null,null,{"$f":"IF(OR(GE91=\"\",GE$41=2),\"\",1)","v":1},{"$f":"IF(OR(GF91=\"\",GH$41=4),\"\",IF(AND(GG$36>=1,GG$36<=4,GE$36=31),\"平成\"&31&\"年\"&1,IF(AND(GG$36=5,GE$36=\"元\"),\"平成\"&31&\"年\"&1,IF(AND(GG$36>=6,GE$36=\"元\"),\"令和\"&2&\"年\"&1,IF((AND(GG$36>=1,GG$36<=5)),\"令和\"&GE$36&\"年\"&1,\"令和\"&GE$36+1&\"年\"&1)))))","v":"令和1年1"},{"$f":"IF(OR(GF91=\"\",GH$41=4),\"\",IF(AND(GG$36>=1,GG$36<=4,GE$36=31),\"平成\"&31&\"年\"&1,IF(AND(GG$36=5,GE$36=\"元\"),\"平成\"&31&\"年\"&1,IF(AND(GG$36>=6,GE$36=\"元\"),\"令和\"&2&\"年\"&1,IF((AND(GG$36>=1,GG$36<=5)),\"令和\"&GE$36&\"年\"&1,\"令和\"&GE$36+1&\"年\"&1)))))","v":"令和1年1"},null,null,null,{"$f":"IF(OR(GK91=\"\",GK$41=2),\"\",1)","v":1},{"$f":"IF(OR(GL91=\"\",GN$41=4),\"\",IF(AND(GM$36>=1,GM$36<=4,GK$36=31),\"平成\"&31&\"年\"&1,IF(AND(GM$36=5,GK$36=\"元\"),\"平成\"&31&\"年\"&1,IF(AND(GM$36>=6,GK$36=\"元\"),\"令和\"&2&\"年\"&1,IF((AND(GM$36>=1,GM$36<=5)),\"令和\"&GK$36&\"年\"&1,\"令和\"&GK$36+1&\"年\"&1)))))","v":"令和1年1"},{"$f":"IF(OR(GL91=\"\",GN$41=4),\"\",IF(AND(GM$36>=1,GM$36<=4,GK$36=31),\"平成\"&31&\"年\"&1,IF(AND(GM$36=5,GK$36=\"元\"),\"平成\"&31&\"年\"&1,IF(AND(GM$36>=6,GK$36=\"元\"),\"令和\"&2&\"年\"&1,IF((AND(GM$36>=1,GM$36<=5)),\"令和\"&GK$36&\"年\"&1,\"令和\"&GK$36+1&\"年\"&1)))))","v":"令和1年1"},null,null,null,{"$f":"IF(OR(GQ91=\"\",GQ$41=2),\"\",1)","v":1},{"$f":"IF(OR(GR91=\"\",GT$41=4),\"\",IF(AND(GS$36>=1,GS$36<=4,GQ$36=31),\"平成\"&31&\"年\"&1,IF(AND(GS$36=5,GQ$36=\"元\"),\"平成\"&31&\"年\"&1,IF(AND(GS$36>=6,GQ$36=\"元\"),\"令和\"&2&\"年\"&1,IF((AND(GS$36>=1,GS$36<=5)),\"令和\"&GQ$36&\"年\"&1,\"令和\"&GQ$36+1&\"年\"&1)))))","v":"令和1年1"},{"$f":"IF(OR(GR91=\"\",GT$41=4),\"\",IF(AND(GS$36>=1,GS$36<=4,GQ$36=31),\"平成\"&31&\"年\"&1,IF(AND(GS$36=5,GQ$36=\"元\"),\"平成\"&31&\"年\"&1,IF(AND(GS$36>=6,GQ$36=\"元\"),\"令和\"&2&\"年\"&1,IF((AND(GS$36>=1,GS$36<=5)),\"令和\"&GQ$36&\"年\"&1,\"令和\"&GQ$36+1&\"年\"&1)))))","v":"令和1年1"},null,null,null,{"$f":"IF(OR(GW91=\"\",GW$41=2),\"\",1)","v":1},{"$f":"IF(OR(GX91=\"\",GZ$41=4),\"\",IF(AND(GY$36>=1,GY$36<=4,GW$36=31),\"平成\"&31&\"年\"&1,IF(AND(GY$36=5,GW$36=\"元\"),\"平成\"&31&\"年\"&1,IF(AND(GY$36>=6,GW$36=\"元\"),\"令和\"&2&\"年\"&1,IF((AND(GY$36>=1,GY$36<=5)),\"令和\"&GW$36&\"年\"&1,\"令和\"&GW$36+1&\"年\"&1)))))","v":"令和1年1"},{"$f":"IF(OR(GX91=\"\",GZ$41=4),\"\",IF(AND(GY$36>=1,GY$36<=4,GW$36=31),\"平成\"&31&\"年\"&1,IF(AND(GY$36=5,GW$36=\"元\"),\"平成\"&31&\"年\"&1,IF(AND(GY$36>=6,GW$36=\"元\"),\"令和\"&2&\"年\"&1,IF((AND(GY$36>=1,GY$36<=5)),\"令和\"&GW$36&\"年\"&1,\"令和\"&GW$36+1&\"年\"&1)))))","v":"令和1年1"},null,null,null,{"$f":"IF(OR(HC91=\"\",HC$41=2),\"\",1)","v":1},{"$f":"IF(OR(HD91=\"\",HF$41=4),\"\",IF(AND(HE$36>=1,HE$36<=4,HC$36=31),\"平成\"&31&\"年\"&1,IF(AND(HE$36=5,HC$36=\"元\"),\"平成\"&31&\"年\"&1,IF(AND(HE$36>=6,HC$36=\"元\"),\"令和\"&2&\"年\"&1,IF((AND(HE$36>=1,HE$36<=5)),\"令和\"&HC$36&\"年\"&1,\"令和\"&HC$36+1&\"年\"&1)))))","v":"令和1年1"},{"$f":"IF(OR(HD91=\"\",HF$41=4),\"\",IF(AND(HE$36>=1,HE$36<=4,HC$36=31),\"平成\"&31&\"年\"&1,IF(AND(HE$36=5,HC$36=\"元\"),\"平成\"&31&\"年\"&1,IF(AND(HE$36>=6,HC$36=\"元\"),\"令和\"&2&\"年\"&1,IF((AND(HE$36>=1,HE$36<=5)),\"令和\"&HC$36&\"年\"&1,\"令和\"&HC$36+1&\"年\"&1)))))","v":"令和1年1"},null,null,null,{"$f":"IF(OR(HI91=\"\",HI$41=2),\"\",1)","v":1},{"$f":"IF(OR(HJ91=\"\",HL$41=4),\"\",IF(AND(HK$36>=1,HK$36<=4,HI$36=31),\"平成\"&31&\"年\"&1,IF(AND(HK$36=5,HI$36=\"元\"),\"平成\"&31&\"年\"&1,IF(AND(HK$36>=6,HI$36=\"元\"),\"令和\"&2&\"年\"&1,IF((AND(HK$36>=1,HK$36<=5)),\"令和\"&HI$36&\"年\"&1,\"令和\"&HI$36+1&\"年\"&1)))))","v":"令和1年1"},{"$f":"IF(OR(HJ91=\"\",HL$41=4),\"\",IF(AND(HK$36>=1,HK$36<=4,HI$36=31),\"平成\"&31&\"年\"&1,IF(AND(HK$36=5,HI$36=\"元\"),\"平成\"&31&\"年\"&1,IF(AND(HK$36>=6,HI$36=\"元\"),\"令和\"&2&\"年\"&1,IF((AND(HK$36>=1,HK$36<=5)),\"令和\"&HI$36&\"年\"&1,\"令和\"&HI$36+1&\"年\"&1)))))","v":"令和1年1"},null,null,null,{"$f":"IF(OR(HO91=\"\",HO$41=2),\"\",1)","v":1},{"$f":"IF(OR(HP91=\"\",HR$41=4),\"\",IF(AND(HQ$36>=1,HQ$36<=4,HO$36=31),\"平成\"&31&\"年\"&1,IF(AND(HQ$36=5,HO$36=\"元\"),\"平成\"&31&\"年\"&1,IF(AND(HQ$36>=6,HO$36=\"元\"),\"令和\"&2&\"年\"&1,IF((AND(HQ$36>=1,HQ$36<=5)),\"令和\"&HO$36&\"年\"&1,\"令和\"&HO$36+1&\"年\"&1)))))","v":"令和1年1"},{"$f":"IF(OR(HP91=\"\",HR$41=4),\"\",IF(AND(HQ$36>=1,HQ$36<=4,HO$36=31),\"平成\"&31&\"年\"&1,IF(AND(HQ$36=5,HO$36=\"元\"),\"平成\"&31&\"年\"&1,IF(AND(HQ$36>=6,HO$36=\"元\"),\"令和\"&2&\"年\"&1,IF((AND(HQ$36>=1,HQ$36<=5)),\"令和\"&HO$36&\"年\"&1,\"令和\"&HO$36+1&\"年\"&1)))))","v":"令和1年1"},null,null,null,{"$f":"IF(OR(HU91=\"\",HU$41=2),\"\",1)","v":1},{"$f":"IF(OR(HV91=\"\",HX$41=4),\"\",IF(AND(HW$36>=1,HW$36<=4,HU$36=31),\"平成\"&31&\"年\"&1,IF(AND(HW$36=5,HU$36=\"元\"),\"平成\"&31&\"年\"&1,IF(AND(HW$36>=6,HU$36=\"元\"),\"令和\"&2&\"年\"&1,IF((AND(HW$36>=1,HW$36<=5)),\"令和\"&HU$36&\"年\"&1,\"令和\"&HU$36+1&\"年\"&1)))))","v":"令和1年1"},{"$f":"IF(OR(HV91=\"\",HX$41=4),\"\",IF(AND(HW$36>=1,HW$36<=4,HU$36=31),\"平成\"&31&\"年\"&1,IF(AND(HW$36=5,HU$36=\"元\"),\"平成\"&31&\"年\"&1,IF(AND(HW$36>=6,HU$36=\"元\"),\"令和\"&2&\"年\"&1,IF((AND(HW$36>=1,HW$36<=5)),\"令和\"&HU$36&\"年\"&1,\"令和\"&HU$36+1&\"年\"&1)))))","v":"令和1年1"},null,null,null,{"$f":"IF(OR(IA91=\"\",IA$41=2),\"\",1)","v":1},{"$f":"IF(OR(IB91=\"\",ID$41=4),\"\",IF(AND(IC$36>=1,IC$36<=4,IA$36=31),\"平成\"&31&\"年\"&1,IF(AND(IC$36=5,IA$36=\"元\"),\"平成\"&31&\"年\"&1,IF(AND(IC$36>=6,IA$36=\"元\"),\"令和\"&2&\"年\"&1,IF((AND(IC$36>=1,IC$36<=5)),\"令和\"&IA$36&\"年\"&1,\"令和\"&IA$36+1&\"年\"&1)))))","v":"令和1年1"},{"$f":"IF(OR(IB91=\"\",ID$41=4),\"\",IF(AND(IC$36>=1,IC$36<=4,IA$36=31),\"平成\"&31&\"年\"&1,IF(AND(IC$36=5,IA$36=\"元\"),\"平成\"&31&\"年\"&1,IF(AND(IC$36>=6,IA$36=\"元\"),\"令和\"&2&\"年\"&1,IF((AND(IC$36>=1,IC$36<=5)),\"令和\"&IA$36&\"年\"&1,\"令和\"&IA$36+1&\"年\"&1)))))","v":"令和1年1"},null,null,null,{"$f":"IF(OR(IG91=\"\",IG$41=2),\"\",1)","v":1},{"$f":"IF(OR(IH91=\"\",IJ$41=4),\"\",IF(AND(II$36>=1,II$36<=4,IG$36=31),\"平成\"&31&\"年\"&1,IF(AND(II$36=5,IG$36=\"元\"),\"平成\"&31&\"年\"&1,IF(AND(II$36>=6,IG$36=\"元\"),\"令和\"&2&\"年\"&1,IF((AND(II$36>=1,II$36<=5)),\"令和\"&IG$36&\"年\"&1,\"令和\"&IG$36+1&\"年\"&1)))))","v":"令和1年1"},{"$f":"IF(OR(IH91=\"\",IJ$41=4),\"\",IF(AND(II$36>=1,II$36<=4,IG$36=31),\"平成\"&31&\"年\"&1,IF(AND(II$36=5,IG$36=\"元\"),\"平成\"&31&\"年\"&1,IF(AND(II$36>=6,IG$36=\"元\"),\"令和\"&2&\"年\"&1,IF((AND(II$36>=1,II$36<=5)),\"令和\"&IG$36&\"年\"&1,\"令和\"&IG$36+1&\"年\"&1)))))","v":"令和1年1"}]
[null,{"$f":"IF(AND(DK21<>\"\",DK25<>\"\",DM25<>\"\",DO25<>\"\"),DK17,\"\")","v":""},"平",5,"平5",null,{"$f":"IF(OR(G92=\"\",G$41=3),\"\",2)","v":2},{"$f":"IF(OR(H92=\"\",J$41=4),\"\",IF(AND(I$36>=1,I$36<=4,G$36=31),\"平成\"&31&\"年\"&2,IF(AND(I$36=5,G$36=\"元\"),\"平成\"&31&\"年\"&2,IF(AND(I$36>=6,G$36=\"元\"),\"令和\"&2&\"年\"&2,IF((AND(I$36>=1,I$36<=5)),\"令和\"&G$36&\"年\"&2,\"令和\"&G$36+1&\"年\"&2)))))","v":"令和1年2"},{"$f":"IF(OR(H92=\"\",J$41=4),\"\",IF(AND(I$36>=1,I$36<=4,G$36=31),\"平成\"&31&\"年\"&2,IF(AND(I$36=5,G$36=\"元\"),\"平成\"&31&\"年\"&2,IF(AND(I$36>=6,G$36=\"元\"),\"令和\"&2&\"年\"&2,IF((AND(I$36>=1,I$36<=5)),\"令和\"&G$36&\"年\"&2,\"令和\"&G$36+1&\"年\"&2)))))","v":"令和1年2"},null,null,null,{"$f":"IF(OR(M92=\"\",M$41=3),\"\",2)","v":2},{"$f":"IF(OR(N92=\"\",P$41=4),\"\",IF(AND(O$36>=1,O$36<=4,M$36=31),\"平成\"&31&\"年\"&2,IF(AND(O$36=5,M$36=\"元\"),\"平成\"&31&\"年\"&2,IF(AND(O$36>=6,M$36=\"元\"),\"令和\"&2&\"年\"&2,IF((AND(O$36>=1,O$36<=5)),\"令和\"&M$36&\"年\"&2,\"令和\"&M$36+1&\"年\"&2)))))","v":"令和1年2"},{"$f":"IF(OR(N92=\"\",P$41=4),\"\",IF(AND(O$36>=1,O$36<=4,M$36=31),\"平成\"&31&\"年\"&2,IF(AND(O$36=5,M$36=\"元\"),\"平成\"&31&\"年\"&2,IF(AND(O$36>=6,M$36=\"元\"),\"令和\"&2&\"年\"&2,IF((AND(O$36>=1,O$36<=5)),\"令和\"&M$36&\"年\"&2,\"令和\"&M$36+1&\"年\"&2)))))","v":"令和1年2"},null,null,null,{"$f":"IF(OR(S92=\"\",S$41=3),\"\",2)","v":2},{"$f":"IF(OR(T92=\"\",V$41=4),\"\",IF(AND(U$36>=1,U$36<=4,S$36=31),\"平成\"&31&\"年\"&2,IF(AND(U$36=5,S$36=\"元\"),\"平成\"&31&\"年\"&2,IF(AND(U$36>=6,S$36=\"元\"),\"令和\"&2&\"年\"&2,IF((AND(U$36>=1,U$36<=5)),\"令和\"&S$36&\"年\"&2,\"令和\"&S$36+1&\"年\"&2)))))","v":"令和1年2"},{"$f":"IF(OR(T92=\"\",V$41=4),\"\",IF(AND(U$36>=1,U$36<=4,S$36=31),\"平成\"&31&\"年\"&2,IF(AND(U$36=5,S$36=\"元\"),\"平成\"&31&\"年\"&2,IF(AND(U$36>=6,S$36=\"元\"),\"令和\"&2&\"年\"&2,IF((AND(U$36>=1,U$36<=5)),\"令和\"&S$36&\"年\"&2,\"令和\"&S$36+1&\"年\"&2)))))","v":"令和1年2"},null,null,null,{"$f":"IF(OR(Y92=\"\",Y$41=3),\"\",2)","v":2},{"$f":"IF(OR(Z92=\"\",AB$41=4),\"\",IF(AND(AA$36>=1,AA$36<=4,Y$36=31),\"平成\"&31&\"年\"&2,IF(AND(AA$36=5,Y$36=\"元\"),\"平成\"&31&\"年\"&2,IF(AND(AA$36>=6,Y$36=\"元\"),\"令和\"&2&\"年\"&2,IF((AND(AA$36>=1,AA$36<=5)),\"令和\"&Y$36&\"年\"&2,\"令和\"&Y$36+1&\"年\"&2)))))","v":"令和1年2"},{"$f":"IF(OR(Z92=\"\",AB$41=4),\"\",IF(AND(AA$36>=1,AA$36<=4,Y$36=31),\"平成\"&31&\"年\"&2,IF(AND(AA$36=5,Y$36=\"元\"),\"平成\"&31&\"年\"&2,IF(AND(AA$36>=6,Y$36=\"元\"),\"令和\"&2&\"年\"&2,IF((AND(AA$36>=1,AA$36<=5)),\"令和\"&Y$36&\"年\"&2,\"令和\"&Y$36+1&\"年\"&2)))))","v":"令和1年2"},null,null,null,{"$f":"IF(OR(AE92=\"\",AE$41=3),\"\",2)","v":2},{"$f":"IF(OR(AF92=\"\",AH$41=4),\"\",IF(AND(AG$36>=1,AG$36<=4,AE$36=31),\"平成\"&31&\"年\"&2,IF(AND(AG$36=5,AE$36=\"元\"),\"平成\"&31&\"年\"&2,IF(AND(AG$36>=6,AE$36=\"元\"),\"令和\"&2&\"年\"&2,IF((AND(AG$36>=1,AG$36<=5)),\"令和\"&AE$36&\"年\"&2,\"令和\"&AE$36+1&\"年\"&2)))))","v":"令和1年2"},{"$f":"IF(OR(AF92=\"\",AH$41=4),\"\",IF(AND(AG$36>=1,AG$36<=4,AE$36=31),\"平成\"&31&\"年\"&2,IF(AND(AG$36=5,AE$36=\"元\"),\"平成\"&31&\"年\"&2,IF(AND(AG$36>=6,AE$36=\"元\"),\"令和\"&2&\"年\"&2,IF((AND(AG$36>=1,AG$36<=5)),\"令和\"&AE$36&\"年\"&2,\"令和\"&AE$36+1&\"年\"&2)))))","v":"令和1年2"},null,null,null,{"$f":"IF(OR(AK92=\"\",AK$41=3),\"\",2)","v":2},{"$f":"IF(OR(AL92=\"\",AN$41=4),\"\",IF(AND(AM$36>=1,AM$36<=4,AK$36=31),\"平成\"&31&\"年\"&2,IF(AND(AM$36=5,AK$36=\"元\"),\"平成\"&31&\"年\"&2,IF(AND(AM$36>=6,AK$36=\"元\"),\"令和\"&2&\"年\"&2,IF((AND(AM$36>=1,AM$36<=5)),\"令和\"&AK$36&\"年\"&2,\"令和\"&AK$36+1&\"年\"&2)))))","v":"令和1年2"},{"$f":"IF(OR(AL92=\"\",AN$41=4),\"\",IF(AND(AM$36>=1,AM$36<=4,AK$36=31),\"平成\"&31&\"年\"&2,IF(AND(AM$36=5,AK$36=\"元\"),\"平成\"&31&\"年\"&2,IF(AND(AM$36>=6,AK$36=\"元\"),\"令和\"&2&\"年\"&2,IF((AND(AM$36>=1,AM$36<=5)),\"令和\"&AK$36&\"年\"&2,\"令和\"&AK$36+1&\"年\"&2)))))","v":"令和1年2"},null,null,null,{"$f":"IF(OR(AQ92=\"\",AQ$41=3),\"\",2)","v":2},{"$f":"IF(OR(AR92=\"\",AT$41=4),\"\",IF(AND(AS$36>=1,AS$36<=4,AQ$36=31),\"平成\"&31&\"年\"&2,IF(AND(AS$36=5,AQ$36=\"元\"),\"平成\"&31&\"年\"&2,IF(AND(AS$36>=6,AQ$36=\"元\"),\"令和\"&2&\"年\"&2,IF((AND(AS$36>=1,AS$36<=5)),\"令和\"&AQ$36&\"年\"&2,\"令和\"&AQ$36+1&\"年\"&2)))))","v":"令和1年2"},{"$f":"IF(OR(AR92=\"\",AT$41=4),\"\",IF(AND(AS$36>=1,AS$36<=4,AQ$36=31),\"平成\"&31&\"年\"&2,IF(AND(AS$36=5,AQ$36=\"元\"),\"平成\"&31&\"年\"&2,IF(AND(AS$36>=6,AQ$36=\"元\"),\"令和\"&2&\"年\"&2,IF((AND(AS$36>=1,AS$36<=5)),\"令和\"&AQ$36&\"年\"&2,\"令和\"&AQ$36+1&\"年\"&2)))))","v":"令和1年2"},null,null,null,{"$f":"IF(OR(AW92=\"\",AW$41=3),\"\",2)","v":2},{"$f":"IF(OR(AX92=\"\",AZ$41=4),\"\",IF(AND(AY$36>=1,AY$36<=4,AW$36=31),\"平成\"&31&\"年\"&2,IF(AND(AY$36=5,AW$36=\"元\"),\"平成\"&31&\"年\"&2,IF(AND(AY$36>=6,AW$36=\"元\"),\"令和\"&2&\"年\"&2,IF((AND(AY$36>=1,AY$36<=5)),\"令和\"&AW$36&\"年\"&2,\"令和\"&AW$36+1&\"年\"&2)))))","v":"令和1年2"},{"$f":"IF(OR(AX92=\"\",AZ$41=4),\"\",IF(AND(AY$36>=1,AY$36<=4,AW$36=31),\"平成\"&31&\"年\"&2,IF(AND(AY$36=5,AW$36=\"元\"),\"平成\"&31&\"年\"&2,IF(AND(AY$36>=6,AW$36=\"元\"),\"令和\"&2&\"年\"&2,IF((AND(AY$36>=1,AY$36<=5)),\"令和\"&AW$36&\"年\"&2,\"令和\"&AW$36+1&\"年\"&2)))))","v":"令和1年2"},null,null,null,{"$f":"IF(OR(BC92=\"\",BC$41=3),\"\",2)","v":2},{"$f":"IF(OR(BD92=\"\",BF$41=4),\"\",IF(AND(BE$36>=1,BE$36<=4,BC$36=31),\"平成\"&31&\"年\"&2,IF(AND(BE$36=5,BC$36=\"元\"),\"平成\"&31&\"年\"&2,IF(AND(BE$36>=6,BC$36=\"元\"),\"令和\"&2&\"年\"&2,IF((AND(BE$36>=1,BE$36<=5)),\"令和\"&BC$36&\"年\"&2,\"令和\"&BC$36+1&\"年\"&2)))))","v":"令和1年2"},{"$f":"IF(OR(BD92=\"\",BF$41=4),\"\",IF(AND(BE$36>=1,BE$36<=4,BC$36=31),\"平成\"&31&\"年\"&2,IF(AND(BE$36=5,BC$36=\"元\"),\"平成\"&31&\"年\"&2,IF(AND(BE$36>=6,BC$36=\"元\"),\"令和\"&2&\"年\"&2,IF((AND(BE$36>=1,BE$36<=5)),\"令和\"&BC$36&\"年\"&2,\"令和\"&BC$36+1&\"年\"&2)))))","v":"令和1年2"},null,null,null,{"$f":"IF(OR(BI92=\"\",BI$41=3),\"\",2)","v":2},{"$f":"IF(OR(BJ92=\"\",BL$41=4),\"\",IF(AND(BK$36>=1,BK$36<=4,BI$36=31),\"平成\"&31&\"年\"&2,IF(AND(BK$36=5,BI$36=\"元\"),\"平成\"&31&\"年\"&2,IF(AND(BK$36>=6,BI$36=\"元\"),\"令和\"&2&\"年\"&2,IF((AND(BK$36>=1,BK$36<=5)),\"令和\"&BI$36&\"年\"&2,\"令和\"&BI$36+1&\"年\"&2)))))","v":"令和1年2"},{"$f":"IF(OR(BJ92=\"\",BL$41=4),\"\",IF(AND(BK$36>=1,BK$36<=4,BI$36=31),\"平成\"&31&\"年\"&2,IF(AND(BK$36=5,BI$36=\"元\"),\"平成\"&31&\"年\"&2,IF(AND(BK$36>=6,BI$36=\"元\"),\"令和\"&2&\"年\"&2,IF((AND(BK$36>=1,BK$36<=5)),\"令和\"&BI$36&\"年\"&2,\"令和\"&BI$36+1&\"年\"&2)))))","v":"令和1年2"},null,null,null,{"$f":"IF(OR(BO92=\"\",BO$41=3),\"\",2)","v":2},{"$f":"IF(OR(BP92=\"\",BR$41=4),\"\",IF(AND(BQ$36>=1,BQ$36<=4,BO$36=31),\"平成\"&31&\"年\"&2,IF(AND(BQ$36=5,BO$36=\"元\"),\"平成\"&31&\"年\"&2,IF(AND(BQ$36>=6,BO$36=\"元\"),\"令和\"&2&\"年\"&2,IF((AND(BQ$36>=1,BQ$36<=5)),\"令和\"&BO$36&\"年\"&2,\"令和\"&BO$36+1&\"年\"&2)))))","v":"令和1年2"},{"$f":"IF(OR(BP92=\"\",BR$41=4),\"\",IF(AND(BQ$36>=1,BQ$36<=4,BO$36=31),\"平成\"&31&\"年\"&2,IF(AND(BQ$36=5,BO$36=\"元\"),\"平成\"&31&\"年\"&2,IF(AND(BQ$36>=6,BO$36=\"元\"),\"令和\"&2&\"年\"&2,IF((AND(BQ$36>=1,BQ$36<=5)),\"令和\"&BO$36&\"年\"&2,\"令和\"&BO$36+1&\"年\"&2)))))","v":"令和1年2"},null,null,null,{"$f":"IF(OR(BU92=\"\",BU$41=3),\"\",2)","v":2},{"$f":"IF(OR(BV92=\"\",BX$41=4),\"\",IF(AND(BW$36>=1,BW$36<=4,BU$36=31),\"平成\"&31&\"年\"&2,IF(AND(BW$36=5,BU$36=\"元\"),\"平成\"&31&\"年\"&2,IF(AND(BW$36>=6,BU$36=\"元\"),\"令和\"&2&\"年\"&2,IF((AND(BW$36>=1,BW$36<=5)),\"令和\"&BU$36&\"年\"&2,\"令和\"&BU$36+1&\"年\"&2)))))","v":"令和1年2"},{"$f":"IF(OR(BV92=\"\",BX$41=4),\"\",IF(AND(BW$36>=1,BW$36<=4,BU$36=31),\"平成\"&31&\"年\"&2,IF(AND(BW$36=5,BU$36=\"元\"),\"平成\"&31&\"年\"&2,IF(AND(BW$36>=6,BU$36=\"元\"),\"令和\"&2&\"年\"&2,IF((AND(BW$36>=1,BW$36<=5)),\"令和\"&BU$36&\"年\"&2,\"令和\"&BU$36+1&\"年\"&2)))))","v":"令和1年2"},null,null,null,{"$f":"IF(OR(CA92=\"\",CA$41=3),\"\",2)","v":2},{"$f":"IF(OR(CB92=\"\",CD$41=4),\"\",IF(AND(CC$36>=1,CC$36<=4,CA$36=31),\"平成\"&31&\"年\"&2,IF(AND(CC$36=5,CA$36=\"元\"),\"平成\"&31&\"年\"&2,IF(AND(CC$36>=6,CA$36=\"元\"),\"令和\"&2&\"年\"&2,IF((AND(CC$36>=1,CC$36<=5)),\"令和\"&CA$36&\"年\"&2,\"令和\"&CA$36+1&\"年\"&2)))))","v":"令和1年2"},{"$f":"IF(OR(CB92=\"\",CD$41=4),\"\",IF(AND(CC$36>=1,CC$36<=4,CA$36=31),\"平成\"&31&\"年\"&2,IF(AND(CC$36=5,CA$36=\"元\"),\"平成\"&31&\"年\"&2,IF(AND(CC$36>=6,CA$36=\"元\"),\"令和\"&2&\"年\"&2,IF((AND(CC$36>=1,CC$36<=5)),\"令和\"&CA$36&\"年\"&2,\"令和\"&CA$36+1&\"年\"&2)))))","v":"令和1年2"},null,null,null,{"$f":"IF(OR(CG92=\"\",CG$41=3),\"\",2)","v":2},{"$f":"IF(OR(CH92=\"\",CJ$41=4),\"\",IF(AND(CI$36>=1,CI$36<=4,CG$36=31),\"平成\"&31&\"年\"&2,IF(AND(CI$36=5,CG$36=\"元\"),\"平成\"&31&\"年\"&2,IF(AND(CI$36>=6,CG$36=\"元\"),\"令和\"&2&\"年\"&2,IF((AND(CI$36>=1,CI$36<=5)),\"令和\"&CG$36&\"年\"&2,\"令和\"&CG$36+1&\"年\"&2)))))","v":"令和1年2"},{"$f":"IF(OR(CH92=\"\",CJ$41=4),\"\",IF(AND(CI$36>=1,CI$36<=4,CG$36=31),\"平成\"&31&\"年\"&2,IF(AND(CI$36=5,CG$36=\"元\"),\"平成\"&31&\"年\"&2,IF(AND(CI$36>=6,CG$36=\"元\"),\"令和\"&2&\"年\"&2,IF((AND(CI$36>=1,CI$36<=5)),\"令和\"&CG$36&\"年\"&2,\"令和\"&CG$36+1&\"年\"&2)))))","v":"令和1年2"},null,null,null,{"$f":"IF(OR(CM92=\"\",CM$41=3),\"\",2)","v":2},{"$f":"IF(OR(CN92=\"\",CP$41=4),\"\",IF(AND(CO$36>=1,CO$36<=4,CM$36=31),\"平成\"&31&\"年\"&2,IF(AND(CO$36=5,CM$36=\"元\"),\"平成\"&31&\"年\"&2,IF(AND(CO$36>=6,CM$36=\"元\"),\"令和\"&2&\"年\"&2,IF((AND(CO$36>=1,CO$36<=5)),\"令和\"&CM$36&\"年\"&2,\"令和\"&CM$36+1&\"年\"&2)))))","v":"令和1年2"},{"$f":"IF(OR(CN92=\"\",CP$41=4),\"\",IF(AND(CO$36>=1,CO$36<=4,CM$36=31),\"平成\"&31&\"年\"&2,IF(AND(CO$36=5,CM$36=\"元\"),\"平成\"&31&\"年\"&2,IF(AND(CO$36>=6,CM$36=\"元\"),\"令和\"&2&\"年\"&2,IF((AND(CO$36>=1,CO$36<=5)),\"令和\"&CM$36&\"年\"&2,\"令和\"&CM$36+1&\"年\"&2)))))","v":"令和1年2"},null,null,null,{"$f":"IF(OR(CS92=\"\",CS$41=3),\"\",2)","v":2},{"$f":"IF(OR(CT92=\"\",CV$41=4),\"\",IF(AND(CU$36>=1,CU$36<=4,CS$36=31),\"平成\"&31&\"年\"&2,IF(AND(CU$36=5,CS$36=\"元\"),\"平成\"&31&\"年\"&2,IF(AND(CU$36>=6,CS$36=\"元\"),\"令和\"&2&\"年\"&2,IF((AND(CU$36>=1,CU$36<=5)),\"令和\"&CS$36&\"年\"&2,\"令和\"&CS$36+1&\"年\"&2)))))","v":"令和1年2"},{"$f":"IF(OR(CT92=\"\",CV$41=4),\"\",IF(AND(CU$36>=1,CU$36<=4,CS$36=31),\"平成\"&31&\"年\"&2,IF(AND(CU$36=5,CS$36=\"元\"),\"平成\"&31&\"年\"&2,IF(AND(CU$36>=6,CS$36=\"元\"),\"令和\"&2&\"年\"&2,IF((AND(CU$36>=1,CU$36<=5)),\"令和\"&CS$36&\"年\"&2,\"令和\"&CS$36+1&\"年\"&2)))))","v":"令和1年2"},null,null,null,{"$f":"IF(OR(CY92=\"\",CY$41=3),\"\",2)","v":2},{"$f":"IF(OR(CZ92=\"\",DB$41=4),\"\",IF(AND(DA$36>=1,DA$36<=4,CY$36=31),\"平成\"&31&\"年\"&2,IF(AND(DA$36=5,CY$36=\"元\"),\"平成\"&31&\"年\"&2,IF(AND(DA$36>=6,CY$36=\"元\"),\"令和\"&2&\"年\"&2,IF((AND(DA$36>=1,DA$36<=5)),\"令和\"&CY$36&\"年\"&2,\"令和\"&CY$36+1&\"年\"&2)))))","v":"令和1年2"},{"$f":"IF(OR(CZ92=\"\",DB$41=4),\"\",IF(AND(DA$36>=1,DA$36<=4,CY$36=31),\"平成\"&31&\"年\"&2,IF(AND(DA$36=5,CY$36=\"元\"),\"平成\"&31&\"年\"&2,IF(AND(DA$36>=6,CY$36=\"元\"),\"令和\"&2&\"年\"&2,IF((AND(DA$36>=1,DA$36<=5)),\"令和\"&CY$36&\"年\"&2,\"令和\"&CY$36+1&\"年\"&2)))))","v":"令和1年2"},null,null,null,{"$f":"IF(OR(DE92=\"\",DE$41=3),\"\",2)","v":2},{"$f":"IF(OR(DF92=\"\",DH$41=4),\"\",IF(AND(DG$36>=1,DG$36<=4,DE$36=31),\"平成\"&31&\"年\"&2,IF(AND(DG$36=5,DE$36=\"元\"),\"平成\"&31&\"年\"&2,IF(AND(DG$36>=6,DE$36=\"元\"),\"令和\"&2&\"年\"&2,IF((AND(DG$36>=1,DG$36<=5)),\"令和\"&DE$36&\"年\"&2,\"令和\"&DE$36+1&\"年\"&2)))))","v":"令和1年2"},{"$f":"IF(OR(DF92=\"\",DH$41=4),\"\",IF(AND(DG$36>=1,DG$36<=4,DE$36=31),\"平成\"&31&\"年\"&2,IF(AND(DG$36=5,DE$36=\"元\"),\"平成\"&31&\"年\"&2,IF(AND(DG$36>=6,DE$36=\"元\"),\"令和\"&2&\"年\"&2,IF((AND(DG$36>=1,DG$36<=5)),\"令和\"&DE$36&\"年\"&2,\"令和\"&DE$36+1&\"年\"&2)))))","v":"令和1年2"},null,null,null,{"$f":"IF(OR(DK92=\"\",DK$41=3),\"\",2)","v":2},{"$f":"IF(OR(DL92=\"\",DN$41=4),\"\",IF(AND(DM$36>=1,DM$36<=4,DK$36=31),\"平成\"&31&\"年\"&2,IF(AND(DM$36=5,DK$36=\"元\"),\"平成\"&31&\"年\"&2,IF(AND(DM$36>=6,DK$36=\"元\"),\"令和\"&2&\"年\"&2,IF((AND(DM$36>=1,DM$36<=5)),\"令和\"&DK$36&\"年\"&2,\"令和\"&DK$36+1&\"年\"&2)))))","v":"令和1年2"},{"$f":"IF(OR(DL92=\"\",DN$41=4),\"\",IF(AND(DM$36>=1,DM$36<=4,DK$36=31),\"平成\"&31&\"年\"&2,IF(AND(DM$36=5,DK$36=\"元\"),\"平成\"&31&\"年\"&2,IF(AND(DM$36>=6,DK$36=\"元\"),\"令和\"&2&\"年\"&2,IF((AND(DM$36>=1,DM$36<=5)),\"令和\"&DK$36&\"年\"&2,\"令和\"&DK$36+1&\"年\"&2)))))","v":"令和1年2"},null,null,null,{"$f":"IF(OR(DQ92=\"\",DQ$41=3),\"\",2)","v":2},{"$f":"IF(OR(DR92=\"\",DT$41=4),\"\",IF(AND(DS$36>=1,DS$36<=4,DQ$36=31),\"平成\"&31&\"年\"&2,IF(AND(DS$36=5,DQ$36=\"元\"),\"平成\"&31&\"年\"&2,IF(AND(DS$36>=6,DQ$36=\"元\"),\"令和\"&2&\"年\"&2,IF((AND(DS$36>=1,DS$36<=5)),\"令和\"&DQ$36&\"年\"&2,\"令和\"&DQ$36+1&\"年\"&2)))))","v":"令和1年2"},{"$f":"IF(OR(DR92=\"\",DT$41=4),\"\",IF(AND(DS$36>=1,DS$36<=4,DQ$36=31),\"平成\"&31&\"年\"&2,IF(AND(DS$36=5,DQ$36=\"元\"),\"平成\"&31&\"年\"&2,IF(AND(DS$36>=6,DQ$36=\"元\"),\"令和\"&2&\"年\"&2,IF((AND(DS$36>=1,DS$36<=5)),\"令和\"&DQ$36&\"年\"&2,\"令和\"&DQ$36+1&\"年\"&2)))))","v":"令和1年2"},null,null,null,{"$f":"IF(OR(DW92=\"\",DW$41=3),\"\",2)","v":2},{"$f":"IF(OR(DX92=\"\",DZ$41=4),\"\",IF(AND(DY$36>=1,DY$36<=4,DW$36=31),\"平成\"&31&\"年\"&2,IF(AND(DY$36=5,DW$36=\"元\"),\"平成\"&31&\"年\"&2,IF(AND(DY$36>=6,DW$36=\"元\"),\"令和\"&2&\"年\"&2,IF((AND(DY$36>=1,DY$36<=5)),\"令和\"&DW$36&\"年\"&2,\"令和\"&DW$36+1&\"年\"&2)))))","v":"令和1年2"},{"$f":"IF(OR(DX92=\"\",DZ$41=4),\"\",IF(AND(DY$36>=1,DY$36<=4,DW$36=31),\"平成\"&31&\"年\"&2,IF(AND(DY$36=5,DW$36=\"元\"),\"平成\"&31&\"年\"&2,IF(AND(DY$36>=6,DW$36=\"元\"),\"令和\"&2&\"年\"&2,IF((AND(DY$36>=1,DY$36<=5)),\"令和\"&DW$36&\"年\"&2,\"令和\"&DW$36+1&\"年\"&2)))))","v":"令和1年2"},null,null,null,{"$f":"IF(OR(EC92=\"\",EC$41=3),\"\",2)","v":2},{"$f":"IF(OR(ED92=\"\",EF$41=4),\"\",IF(AND(EE$36>=1,EE$36<=4,EC$36=31),\"平成\"&31&\"年\"&2,IF(AND(EE$36=5,EC$36=\"元\"),\"平成\"&31&\"年\"&2,IF(AND(EE$36>=6,EC$36=\"元\"),\"令和\"&2&\"年\"&2,IF((AND(EE$36>=1,EE$36<=5)),\"令和\"&EC$36&\"年\"&2,\"令和\"&EC$36+1&\"年\"&2)))))","v":"令和1年2"},{"$f":"IF(OR(ED92=\"\",EF$41=4),\"\",IF(AND(EE$36>=1,EE$36<=4,EC$36=31),\"平成\"&31&\"年\"&2,IF(AND(EE$36=5,EC$36=\"元\"),\"平成\"&31&\"年\"&2,IF(AND(EE$36>=6,EC$36=\"元\"),\"令和\"&2&\"年\"&2,IF((AND(EE$36>=1,EE$36<=5)),\"令和\"&EC$36&\"年\"&2,\"令和\"&EC$36+1&\"年\"&2)))))","v":"令和1年2"},null,null,null,{"$f":"IF(OR(EI92=\"\",EI$41=3),\"\",2)","v":2},{"$f":"IF(OR(EJ92=\"\",EL$41=4),\"\",IF(AND(EK$36>=1,EK$36<=4,EI$36=31),\"平成\"&31&\"年\"&2,IF(AND(EK$36=5,EI$36=\"元\"),\"平成\"&31&\"年\"&2,IF(AND(EK$36>=6,EI$36=\"元\"),\"令和\"&2&\"年\"&2,IF((AND(EK$36>=1,EK$36<=5)),\"令和\"&EI$36&\"年\"&2,\"令和\"&EI$36+1&\"年\"&2)))))","v":"令和1年2"},{"$f":"IF(OR(EJ92=\"\",EL$41=4),\"\",IF(AND(EK$36>=1,EK$36<=4,EI$36=31),\"平成\"&31&\"年\"&2,IF(AND(EK$36=5,EI$36=\"元\"),\"平成\"&31&\"年\"&2,IF(AND(EK$36>=6,EI$36=\"元\"),\"令和\"&2&\"年\"&2,IF((AND(EK$36>=1,EK$36<=5)),\"令和\"&EI$36&\"年\"&2,\"令和\"&EI$36+1&\"年\"&2)))))","v":"令和1年2"},null,null,null,{"$f":"IF(OR(EO92=\"\",EO$41=3),\"\",2)","v":2},{"$f":"IF(OR(EP92=\"\",ER$41=4),\"\",IF(AND(EQ$36>=1,EQ$36<=4,EO$36=31),\"平成\"&31&\"年\"&2,IF(AND(EQ$36=5,EO$36=\"元\"),\"平成\"&31&\"年\"&2,IF(AND(EQ$36>=6,EO$36=\"元\"),\"令和\"&2&\"年\"&2,IF((AND(EQ$36>=1,EQ$36<=5)),\"令和\"&EO$36&\"年\"&2,\"令和\"&EO$36+1&\"年\"&2)))))","v":"令和1年2"},{"$f":"IF(OR(EP92=\"\",ER$41=4),\"\",IF(AND(EQ$36>=1,EQ$36<=4,EO$36=31),\"平成\"&31&\"年\"&2,IF(AND(EQ$36=5,EO$36=\"元\"),\"平成\"&31&\"年\"&2,IF(AND(EQ$36>=6,EO$36=\"元\"),\"令和\"&2&\"年\"&2,IF((AND(EQ$36>=1,EQ$36<=5)),\"令和\"&EO$36&\"年\"&2,\"令和\"&EO$36+1&\"年\"&2)))))","v":"令和1年2"},null,null,null,{"$f":"IF(OR(EU92=\"\",EU$41=3),\"\",2)","v":2},{"$f":"IF(OR(EV92=\"\",EX$41=4),\"\",IF(AND(EW$36>=1,EW$36<=4,EU$36=31),\"平成\"&31&\"年\"&2,IF(AND(EW$36=5,EU$36=\"元\"),\"平成\"&31&\"年\"&2,IF(AND(EW$36>=6,EU$36=\"元\"),\"令和\"&2&\"年\"&2,IF((AND(EW$36>=1,EW$36<=5)),\"令和\"&EU$36&\"年\"&2,\"令和\"&EU$36+1&\"年\"&2)))))","v":"令和1年2"},{"$f":"IF(OR(EV92=\"\",EX$41=4),\"\",IF(AND(EW$36>=1,EW$36<=4,EU$36=31),\"平成\"&31&\"年\"&2,IF(AND(EW$36=5,EU$36=\"元\"),\"平成\"&31&\"年\"&2,IF(AND(EW$36>=6,EU$36=\"元\"),\"令和\"&2&\"年\"&2,IF((AND(EW$36>=1,EW$36<=5)),\"令和\"&EU$36&\"年\"&2,\"令和\"&EU$36+1&\"年\"&2)))))","v":"令和1年2"},null,null,null,{"$f":"IF(OR(FA92=\"\",FA$41=3),\"\",2)","v":2},{"$f":"IF(OR(FB92=\"\",FD$41=4),\"\",IF(AND(FC$36>=1,FC$36<=4,FA$36=31),\"平成\"&31&\"年\"&2,IF(AND(FC$36=5,FA$36=\"元\"),\"平成\"&31&\"年\"&2,IF(AND(FC$36>=6,FA$36=\"元\"),\"令和\"&2&\"年\"&2,IF((AND(FC$36>=1,FC$36<=5)),\"令和\"&FA$36&\"年\"&2,\"令和\"&FA$36+1&\"年\"&2)))))","v":"令和1年2"},{"$f":"IF(OR(FB92=\"\",FD$41=4),\"\",IF(AND(FC$36>=1,FC$36<=4,FA$36=31),\"平成\"&31&\"年\"&2,IF(AND(FC$36=5,FA$36=\"元\"),\"平成\"&31&\"年\"&2,IF(AND(FC$36>=6,FA$36=\"元\"),\"令和\"&2&\"年\"&2,IF((AND(FC$36>=1,FC$36<=5)),\"令和\"&FA$36&\"年\"&2,\"令和\"&FA$36+1&\"年\"&2)))))","v":"令和1年2"},null,null,null,{"$f":"IF(OR(FG92=\"\",FG$41=3),\"\",2)","v":2},{"$f":"IF(OR(FH92=\"\",FJ$41=4),\"\",IF(AND(FI$36>=1,FI$36<=4,FG$36=31),\"平成\"&31&\"年\"&2,IF(AND(FI$36=5,FG$36=\"元\"),\"平成\"&31&\"年\"&2,IF(AND(FI$36>=6,FG$36=\"元\"),\"令和\"&2&\"年\"&2,IF((AND(FI$36>=1,FI$36<=5)),\"令和\"&FG$36&\"年\"&2,\"令和\"&FG$36+1&\"年\"&2)))))","v":"令和1年2"},{"$f":"IF(OR(FH92=\"\",FJ$41=4),\"\",IF(AND(FI$36>=1,FI$36<=4,FG$36=31),\"平成\"&31&\"年\"&2,IF(AND(FI$36=5,FG$36=\"元\"),\"平成\"&31&\"年\"&2,IF(AND(FI$36>=6,FG$36=\"元\"),\"令和\"&2&\"年\"&2,IF((AND(FI$36>=1,FI$36<=5)),\"令和\"&FG$36&\"年\"&2,\"令和\"&FG$36+1&\"年\"&2)))))","v":"令和1年2"},null,null,null,{"$f":"IF(OR(FM92=\"\",FM$41=3),\"\",2)","v":2},{"$f":"IF(OR(FN92=\"\",FP$41=4),\"\",IF(AND(FO$36>=1,FO$36<=4,FM$36=31),\"平成\"&31&\"年\"&2,IF(AND(FO$36=5,FM$36=\"元\"),\"平成\"&31&\"年\"&2,IF(AND(FO$36>=6,FM$36=\"元\"),\"令和\"&2&\"年\"&2,IF((AND(FO$36>=1,FO$36<=5)),\"令和\"&FM$36&\"年\"&2,\"令和\"&FM$36+1&\"年\"&2)))))","v":"令和1年2"},{"$f":"IF(OR(FN92=\"\",FP$41=4),\"\",IF(AND(FO$36>=1,FO$36<=4,FM$36=31),\"平成\"&31&\"年\"&2,IF(AND(FO$36=5,FM$36=\"元\"),\"平成\"&31&\"年\"&2,IF(AND(FO$36>=6,FM$36=\"元\"),\"令和\"&2&\"年\"&2,IF((AND(FO$36>=1,FO$36<=5)),\"令和\"&FM$36&\"年\"&2,\"令和\"&FM$36+1&\"年\"&2)))))","v":"令和1年2"},null,null,null,{"$f":"IF(OR(FS92=\"\",FS$41=3),\"\",2)","v":2},{"$f":"IF(OR(FT92=\"\",FV$41=4),\"\",IF(AND(FU$36>=1,FU$36<=4,FS$36=31),\"平成\"&31&\"年\"&2,IF(AND(FU$36=5,FS$36=\"元\"),\"平成\"&31&\"年\"&2,IF(AND(FU$36>=6,FS$36=\"元\"),\"令和\"&2&\"年\"&2,IF((AND(FU$36>=1,FU$36<=5)),\"令和\"&FS$36&\"年\"&2,\"令和\"&FS$36+1&\"年\"&2)))))","v":"令和1年2"},{"$f":"IF(OR(FT92=\"\",FV$41=4),\"\",IF(AND(FU$36>=1,FU$36<=4,FS$36=31),\"平成\"&31&\"年\"&2,IF(AND(FU$36=5,FS$36=\"元\"),\"平成\"&31&\"年\"&2,IF(AND(FU$36>=6,FS$36=\"元\"),\"令和\"&2&\"年\"&2,IF((AND(FU$36>=1,FU$36<=5)),\"令和\"&FS$36&\"年\"&2,\"令和\"&FS$36+1&\"年\"&2)))))","v":"令和1年2"},null,null,null,{"$f":"IF(OR(FY92=\"\",FY$41=3),\"\",2)","v":2},{"$f":"IF(OR(FZ92=\"\",GB$41=4),\"\",IF(AND(GA$36>=1,GA$36<=4,FY$36=31),\"平成\"&31&\"年\"&2,IF(AND(GA$36=5,FY$36=\"元\"),\"平成\"&31&\"年\"&2,IF(AND(GA$36>=6,FY$36=\"元\"),\"令和\"&2&\"年\"&2,IF((AND(GA$36>=1,GA$36<=5)),\"令和\"&FY$36&\"年\"&2,\"令和\"&FY$36+1&\"年\"&2)))))","v":"令和1年2"},{"$f":"IF(OR(FZ92=\"\",GB$41=4),\"\",IF(AND(GA$36>=1,GA$36<=4,FY$36=31),\"平成\"&31&\"年\"&2,IF(AND(GA$36=5,FY$36=\"元\"),\"平成\"&31&\"年\"&2,IF(AND(GA$36>=6,FY$36=\"元\"),\"令和\"&2&\"年\"&2,IF((AND(GA$36>=1,GA$36<=5)),\"令和\"&FY$36&\"年\"&2,\"令和\"&FY$36+1&\"年\"&2)))))","v":"令和1年2"},null,null,null,{"$f":"IF(OR(GE92=\"\",GE$41=3),\"\",2)","v":2},{"$f":"IF(OR(GF92=\"\",GH$41=4),\"\",IF(AND(GG$36>=1,GG$36<=4,GE$36=31),\"平成\"&31&\"年\"&2,IF(AND(GG$36=5,GE$36=\"元\"),\"平成\"&31&\"年\"&2,IF(AND(GG$36>=6,GE$36=\"元\"),\"令和\"&2&\"年\"&2,IF((AND(GG$36>=1,GG$36<=5)),\"令和\"&GE$36&\"年\"&2,\"令和\"&GE$36+1&\"年\"&2)))))","v":"令和1年2"},{"$f":"IF(OR(GF92=\"\",GH$41=4),\"\",IF(AND(GG$36>=1,GG$36<=4,GE$36=31),\"平成\"&31&\"年\"&2,IF(AND(GG$36=5,GE$36=\"元\"),\"平成\"&31&\"年\"&2,IF(AND(GG$36>=6,GE$36=\"元\"),\"令和\"&2&\"年\"&2,IF((AND(GG$36>=1,GG$36<=5)),\"令和\"&GE$36&\"年\"&2,\"令和\"&GE$36+1&\"年\"&2)))))","v":"令和1年2"},null,null,null,{"$f":"IF(OR(GK92=\"\",GK$41=3),\"\",2)","v":2},{"$f":"IF(OR(GL92=\"\",GN$41=4),\"\",IF(AND(GM$36>=1,GM$36<=4,GK$36=31),\"平成\"&31&\"年\"&2,IF(AND(GM$36=5,GK$36=\"元\"),\"平成\"&31&\"年\"&2,IF(AND(GM$36>=6,GK$36=\"元\"),\"令和\"&2&\"年\"&2,IF((AND(GM$36>=1,GM$36<=5)),\"令和\"&GK$36&\"年\"&2,\"令和\"&GK$36+1&\"年\"&2)))))","v":"令和1年2"},{"$f":"IF(OR(GL92=\"\",GN$41=4),\"\",IF(AND(GM$36>=1,GM$36<=4,GK$36=31),\"平成\"&31&\"年\"&2,IF(AND(GM$36=5,GK$36=\"元\"),\"平成\"&31&\"年\"&2,IF(AND(GM$36>=6,GK$36=\"元\"),\"令和\"&2&\"年\"&2,IF((AND(GM$36>=1,GM$36<=5)),\"令和\"&GK$36&\"年\"&2,\"令和\"&GK$36+1&\"年\"&2)))))","v":"令和1年2"},null,null,null,{"$f":"IF(OR(GQ92=\"\",GQ$41=3),\"\",2)","v":2},{"$f":"IF(OR(GR92=\"\",GT$41=4),\"\",IF(AND(GS$36>=1,GS$36<=4,GQ$36=31),\"平成\"&31&\"年\"&2,IF(AND(GS$36=5,GQ$36=\"元\"),\"平成\"&31&\"年\"&2,IF(AND(GS$36>=6,GQ$36=\"元\"),\"令和\"&2&\"年\"&2,IF((AND(GS$36>=1,GS$36<=5)),\"令和\"&GQ$36&\"年\"&2,\"令和\"&GQ$36+1&\"年\"&2)))))","v":"令和1年2"},{"$f":"IF(OR(GR92=\"\",GT$41=4),\"\",IF(AND(GS$36>=1,GS$36<=4,GQ$36=31),\"平成\"&31&\"年\"&2,IF(AND(GS$36=5,GQ$36=\"元\"),\"平成\"&31&\"年\"&2,IF(AND(GS$36>=6,GQ$36=\"元\"),\"令和\"&2&\"年\"&2,IF((AND(GS$36>=1,GS$36<=5)),\"令和\"&GQ$36&\"年\"&2,\"令和\"&GQ$36+1&\"年\"&2)))))","v":"令和1年2"},null,null,null,{"$f":"IF(OR(GW92=\"\",GW$41=3),\"\",2)","v":2},{"$f":"IF(OR(GX92=\"\",GZ$41=4),\"\",IF(AND(GY$36>=1,GY$36<=4,GW$36=31),\"平成\"&31&\"年\"&2,IF(AND(GY$36=5,GW$36=\"元\"),\"平成\"&31&\"年\"&2,IF(AND(GY$36>=6,GW$36=\"元\"),\"令和\"&2&\"年\"&2,IF((AND(GY$36>=1,GY$36<=5)),\"令和\"&GW$36&\"年\"&2,\"令和\"&GW$36+1&\"年\"&2)))))","v":"令和1年2"},{"$f":"IF(OR(GX92=\"\",GZ$41=4),\"\",IF(AND(GY$36>=1,GY$36<=4,GW$36=31),\"平成\"&31&\"年\"&2,IF(AND(GY$36=5,GW$36=\"元\"),\"平成\"&31&\"年\"&2,IF(AND(GY$36>=6,GW$36=\"元\"),\"令和\"&2&\"年\"&2,IF((AND(GY$36>=1,GY$36<=5)),\"令和\"&GW$36&\"年\"&2,\"令和\"&GW$36+1&\"年\"&2)))))","v":"令和1年2"},null,null,null,{"$f":"IF(OR(HC92=\"\",HC$41=3),\"\",2)","v":2},{"$f":"IF(OR(HD92=\"\",HF$41=4),\"\",IF(AND(HE$36>=1,HE$36<=4,HC$36=31),\"平成\"&31&\"年\"&2,IF(AND(HE$36=5,HC$36=\"元\"),\"平成\"&31&\"年\"&2,IF(AND(HE$36>=6,HC$36=\"元\"),\"令和\"&2&\"年\"&2,IF((AND(HE$36>=1,HE$36<=5)),\"令和\"&HC$36&\"年\"&2,\"令和\"&HC$36+1&\"年\"&2)))))","v":"令和1年2"},{"$f":"IF(OR(HD92=\"\",HF$41=4),\"\",IF(AND(HE$36>=1,HE$36<=4,HC$36=31),\"平成\"&31&\"年\"&2,IF(AND(HE$36=5,HC$36=\"元\"),\"平成\"&31&\"年\"&2,IF(AND(HE$36>=6,HC$36=\"元\"),\"令和\"&2&\"年\"&2,IF((AND(HE$36>=1,HE$36<=5)),\"令和\"&HC$36&\"年\"&2,\"令和\"&HC$36+1&\"年\"&2)))))","v":"令和1年2"},null,null,null,{"$f":"IF(OR(HI92=\"\",HI$41=3),\"\",2)","v":2},{"$f":"IF(OR(HJ92=\"\",HL$41=4),\"\",IF(AND(HK$36>=1,HK$36<=4,HI$36=31),\"平成\"&31&\"年\"&2,IF(AND(HK$36=5,HI$36=\"元\"),\"平成\"&31&\"年\"&2,IF(AND(HK$36>=6,HI$36=\"元\"),\"令和\"&2&\"年\"&2,IF((AND(HK$36>=1,HK$36<=5)),\"令和\"&HI$36&\"年\"&2,\"令和\"&HI$36+1&\"年\"&2)))))","v":"令和1年2"},{"$f":"IF(OR(HJ92=\"\",HL$41=4),\"\",IF(AND(HK$36>=1,HK$36<=4,HI$36=31),\"平成\"&31&\"年\"&2,IF(AND(HK$36=5,HI$36=\"元\"),\"平成\"&31&\"年\"&2,IF(AND(HK$36>=6,HI$36=\"元\"),\"令和\"&2&\"年\"&2,IF((AND(HK$36>=1,HK$36<=5)),\"令和\"&HI$36&\"年\"&2,\"令和\"&HI$36+1&\"年\"&2)))))","v":"令和1年2"},null,null,null,{"$f":"IF(OR(HO92=\"\",HO$41=3),\"\",2)","v":2},{"$f":"IF(OR(HP92=\"\",HR$41=4),\"\",IF(AND(HQ$36>=1,HQ$36<=4,HO$36=31),\"平成\"&31&\"年\"&2,IF(AND(HQ$36=5,HO$36=\"元\"),\"平成\"&31&\"年\"&2,IF(AND(HQ$36>=6,HO$36=\"元\"),\"令和\"&2&\"年\"&2,IF((AND(HQ$36>=1,HQ$36<=5)),\"令和\"&HO$36&\"年\"&2,\"令和\"&HO$36+1&\"年\"&2)))))","v":"令和1年2"},{"$f":"IF(OR(HP92=\"\",HR$41=4),\"\",IF(AND(HQ$36>=1,HQ$36<=4,HO$36=31),\"平成\"&31&\"年\"&2,IF(AND(HQ$36=5,HO$36=\"元\"),\"平成\"&31&\"年\"&2,IF(AND(HQ$36>=6,HO$36=\"元\"),\"令和\"&2&\"年\"&2,IF((AND(HQ$36>=1,HQ$36<=5)),\"令和\"&HO$36&\"年\"&2,\"令和\"&HO$36+1&\"年\"&2)))))","v":"令和1年2"},null,null,null,{"$f":"IF(OR(HU92=\"\",HU$41=3),\"\",2)","v":2},{"$f":"IF(OR(HV92=\"\",HX$41=4),\"\",IF(AND(HW$36>=1,HW$36<=4,HU$36=31),\"平成\"&31&\"年\"&2,IF(AND(HW$36=5,HU$36=\"元\"),\"平成\"&31&\"年\"&2,IF(AND(HW$36>=6,HU$36=\"元\"),\"令和\"&2&\"年\"&2,IF((AND(HW$36>=1,HW$36<=5)),\"令和\"&HU$36&\"年\"&2,\"令和\"&HU$36+1&\"年\"&2)))))","v":"令和1年2"},{"$f":"IF(OR(HV92=\"\",HX$41=4),\"\",IF(AND(HW$36>=1,HW$36<=4,HU$36=31),\"平成\"&31&\"年\"&2,IF(AND(HW$36=5,HU$36=\"元\"),\"平成\"&31&\"年\"&2,IF(AND(HW$36>=6,HU$36=\"元\"),\"令和\"&2&\"年\"&2,IF((AND(HW$36>=1,HW$36<=5)),\"令和\"&HU$36&\"年\"&2,\"令和\"&HU$36+1&\"年\"&2)))))","v":"令和1年2"},null,null,null,{"$f":"IF(OR(IA92=\"\",IA$41=3),\"\",2)","v":2},{"$f":"IF(OR(IB92=\"\",ID$41=4),\"\",IF(AND(IC$36>=1,IC$36<=4,IA$36=31),\"平成\"&31&\"年\"&2,IF(AND(IC$36=5,IA$36=\"元\"),\"平成\"&31&\"年\"&2,IF(AND(IC$36>=6,IA$36=\"元\"),\"令和\"&2&\"年\"&2,IF((AND(IC$36>=1,IC$36<=5)),\"令和\"&IA$36&\"年\"&2,\"令和\"&IA$36+1&\"年\"&2)))))","v":"令和1年2"},{"$f":"IF(OR(IB92=\"\",ID$41=4),\"\",IF(AND(IC$36>=1,IC$36<=4,IA$36=31),\"平成\"&31&\"年\"&2,IF(AND(IC$36=5,IA$36=\"元\"),\"平成\"&31&\"年\"&2,IF(AND(IC$36>=6,IA$36=\"元\"),\"令和\"&2&\"年\"&2,IF((AND(IC$36>=1,IC$36<=5)),\"令和\"&IA$36&\"年\"&2,\"令和\"&IA$36+1&\"年\"&2)))))","v":"令和1年2"},null,null,null,{"$f":"IF(OR(IG92=\"\",IG$41=3),\"\",2)","v":2},{"$f":"IF(OR(IH92=\"\",IJ$41=4),\"\",IF(AND(II$36>=1,II$36<=4,IG$36=31),\"平成\"&31&\"年\"&2,IF(AND(II$36=5,IG$36=\"元\"),\"平成\"&31&\"年\"&2,IF(AND(II$36>=6,IG$36=\"元\"),\"令和\"&2&\"年\"&2,IF((AND(II$36>=1,II$36<=5)),\"令和\"&IG$36&\"年\"&2,\"令和\"&IG$36+1&\"年\"&2)))))","v":"令和1年2"},{"$f":"IF(OR(IH92=\"\",IJ$41=4),\"\",IF(AND(II$36>=1,II$36<=4,IG$36=31),\"平成\"&31&\"年\"&2,IF(AND(II$36=5,IG$36=\"元\"),\"平成\"&31&\"年\"&2,IF(AND(II$36>=6,IG$36=\"元\"),\"令和\"&2&\"年\"&2,IF((AND(II$36>=1,II$36<=5)),\"令和\"&IG$36&\"年\"&2,\"令和\"&IG$36+1&\"年\"&2)))))","v":"令和1年2"}]
[null,{"$f":"IF(AND(DQ21<>\"\",DQ25<>\"\",DS25<>\"\",DU25<>\"\"),DQ17,\"\")","v":""},"平",4,"平4",null,{"$f":"IF(OR(G93=\"\",G$41=4),\"\",3)","v":3},{"$f":"IF(OR(H93=\"\",J$41=4),\"\",IF(AND(I$36>=1,I$36<=4,G$36=31),\"平成\"&31&\"年\"&3,IF(AND(I$36=5,G$36=\"元\"),\"平成\"&31&\"年\"&3,IF(AND(I$36>=6,G$36=\"元\"),\"令和\"&2&\"年\"&3,IF((AND(I$36>=1,I$36<=5)),\"令和\"&G$36&\"年\"&3,\"令和\"&G$36+1&\"年\"&3)))))","v":"令和1年3"},{"$f":"IF(OR(H93=\"\",J$41=4),\"\",IF(AND(I$36>=1,I$36<=4,G$36=31),\"平成\"&31&\"年\"&3,IF(AND(I$36=5,G$36=\"元\"),\"平成\"&31&\"年\"&3,IF(AND(I$36>=6,G$36=\"元\"),\"令和\"&2&\"年\"&3,IF((AND(I$36>=1,I$36<=5)),\"令和\"&G$36&\"年\"&3,\"令和\"&G$36+1&\"年\"&3)))))","v":"令和1年3"},null,null,null,{"$f":"IF(OR(M93=\"\",M$41=4),\"\",3)","v":3},{"$f":"IF(OR(N93=\"\",P$41=4),\"\",IF(AND(O$36>=1,O$36<=4,M$36=31),\"平成\"&31&\"年\"&3,IF(AND(O$36=5,M$36=\"元\"),\"平成\"&31&\"年\"&3,IF(AND(O$36>=6,M$36=\"元\"),\"令和\"&2&\"年\"&3,IF((AND(O$36>=1,O$36<=5)),\"令和\"&M$36&\"年\"&3,\"令和\"&M$36+1&\"年\"&3)))))","v":"令和1年3"},{"$f":"IF(OR(N93=\"\",P$41=4),\"\",IF(AND(O$36>=1,O$36<=4,M$36=31),\"平成\"&31&\"年\"&3,IF(AND(O$36=5,M$36=\"元\"),\"平成\"&31&\"年\"&3,IF(AND(O$36>=6,M$36=\"元\"),\"令和\"&2&\"年\"&3,IF((AND(O$36>=1,O$36<=5)),\"令和\"&M$36&\"年\"&3,\"令和\"&M$36+1&\"年\"&3)))))","v":"令和1年3"},null,null,null,{"$f":"IF(OR(S93=\"\",S$41=4),\"\",3)","v":3},{"$f":"IF(OR(T93=\"\",V$41=4),\"\",IF(AND(U$36>=1,U$36<=4,S$36=31),\"平成\"&31&\"年\"&3,IF(AND(U$36=5,S$36=\"元\"),\"平成\"&31&\"年\"&3,IF(AND(U$36>=6,S$36=\"元\"),\"令和\"&2&\"年\"&3,IF((AND(U$36>=1,U$36<=5)),\"令和\"&S$36&\"年\"&3,\"令和\"&S$36+1&\"年\"&3)))))","v":"令和1年3"},{"$f":"IF(OR(T93=\"\",V$41=4),\"\",IF(AND(U$36>=1,U$36<=4,S$36=31),\"平成\"&31&\"年\"&3,IF(AND(U$36=5,S$36=\"元\"),\"平成\"&31&\"年\"&3,IF(AND(U$36>=6,S$36=\"元\"),\"令和\"&2&\"年\"&3,IF((AND(U$36>=1,U$36<=5)),\"令和\"&S$36&\"年\"&3,\"令和\"&S$36+1&\"年\"&3)))))","v":"令和1年3"},null,null,null,{"$f":"IF(OR(Y93=\"\",Y$41=4),\"\",3)","v":3},{"$f":"IF(OR(Z93=\"\",AB$41=4),\"\",IF(AND(AA$36>=1,AA$36<=4,Y$36=31),\"平成\"&31&\"年\"&3,IF(AND(AA$36=5,Y$36=\"元\"),\"平成\"&31&\"年\"&3,IF(AND(AA$36>=6,Y$36=\"元\"),\"令和\"&2&\"年\"&3,IF((AND(AA$36>=1,AA$36<=5)),\"令和\"&Y$36&\"年\"&3,\"令和\"&Y$36+1&\"年\"&3)))))","v":"令和1年3"},{"$f":"IF(OR(Z93=\"\",AB$41=4),\"\",IF(AND(AA$36>=1,AA$36<=4,Y$36=31),\"平成\"&31&\"年\"&3,IF(AND(AA$36=5,Y$36=\"元\"),\"平成\"&31&\"年\"&3,IF(AND(AA$36>=6,Y$36=\"元\"),\"令和\"&2&\"年\"&3,IF((AND(AA$36>=1,AA$36<=5)),\"令和\"&Y$36&\"年\"&3,\"令和\"&Y$36+1&\"年\"&3)))))","v":"令和1年3"},null,null,null,{"$f":"IF(OR(AE93=\"\",AE$41=4),\"\",3)","v":3},{"$f":"IF(OR(AF93=\"\",AH$41=4),\"\",IF(AND(AG$36>=1,AG$36<=4,AE$36=31),\"平成\"&31&\"年\"&3,IF(AND(AG$36=5,AE$36=\"元\"),\"平成\"&31&\"年\"&3,IF(AND(AG$36>=6,AE$36=\"元\"),\"令和\"&2&\"年\"&3,IF((AND(AG$36>=1,AG$36<=5)),\"令和\"&AE$36&\"年\"&3,\"令和\"&AE$36+1&\"年\"&3)))))","v":"令和1年3"},{"$f":"IF(OR(AF93=\"\",AH$41=4),\"\",IF(AND(AG$36>=1,AG$36<=4,AE$36=31),\"平成\"&31&\"年\"&3,IF(AND(AG$36=5,AE$36=\"元\"),\"平成\"&31&\"年\"&3,IF(AND(AG$36>=6,AE$36=\"元\"),\"令和\"&2&\"年\"&3,IF((AND(AG$36>=1,AG$36<=5)),\"令和\"&AE$36&\"年\"&3,\"令和\"&AE$36+1&\"年\"&3)))))","v":"令和1年3"},null,null,null,{"$f":"IF(OR(AK93=\"\",AK$41=4),\"\",3)","v":3},{"$f":"IF(OR(AL93=\"\",AN$41=4),\"\",IF(AND(AM$36>=1,AM$36<=4,AK$36=31),\"平成\"&31&\"年\"&3,IF(AND(AM$36=5,AK$36=\"元\"),\"平成\"&31&\"年\"&3,IF(AND(AM$36>=6,AK$36=\"元\"),\"令和\"&2&\"年\"&3,IF((AND(AM$36>=1,AM$36<=5)),\"令和\"&AK$36&\"年\"&3,\"令和\"&AK$36+1&\"年\"&3)))))","v":"令和1年3"},{"$f":"IF(OR(AL93=\"\",AN$41=4),\"\",IF(AND(AM$36>=1,AM$36<=4,AK$36=31),\"平成\"&31&\"年\"&3,IF(AND(AM$36=5,AK$36=\"元\"),\"平成\"&31&\"年\"&3,IF(AND(AM$36>=6,AK$36=\"元\"),\"令和\"&2&\"年\"&3,IF((AND(AM$36>=1,AM$36<=5)),\"令和\"&AK$36&\"年\"&3,\"令和\"&AK$36+1&\"年\"&3)))))","v":"令和1年3"},null,null,null,{"$f":"IF(OR(AQ93=\"\",AQ$41=4),\"\",3)","v":3},{"$f":"IF(OR(AR93=\"\",AT$41=4),\"\",IF(AND(AS$36>=1,AS$36<=4,AQ$36=31),\"平成\"&31&\"年\"&3,IF(AND(AS$36=5,AQ$36=\"元\"),\"平成\"&31&\"年\"&3,IF(AND(AS$36>=6,AQ$36=\"元\"),\"令和\"&2&\"年\"&3,IF((AND(AS$36>=1,AS$36<=5)),\"令和\"&AQ$36&\"年\"&3,\"令和\"&AQ$36+1&\"年\"&3)))))","v":"令和1年3"},{"$f":"IF(OR(AR93=\"\",AT$41=4),\"\",IF(AND(AS$36>=1,AS$36<=4,AQ$36=31),\"平成\"&31&\"年\"&3,IF(AND(AS$36=5,AQ$36=\"元\"),\"平成\"&31&\"年\"&3,IF(AND(AS$36>=6,AQ$36=\"元\"),\"令和\"&2&\"年\"&3,IF((AND(AS$36>=1,AS$36<=5)),\"令和\"&AQ$36&\"年\"&3,\"令和\"&AQ$36+1&\"年\"&3)))))","v":"令和1年3"},null,null,null,{"$f":"IF(OR(AW93=\"\",AW$41=4),\"\",3)","v":3},{"$f":"IF(OR(AX93=\"\",AZ$41=4),\"\",IF(AND(AY$36>=1,AY$36<=4,AW$36=31),\"平成\"&31&\"年\"&3,IF(AND(AY$36=5,AW$36=\"元\"),\"平成\"&31&\"年\"&3,IF(AND(AY$36>=6,AW$36=\"元\"),\"令和\"&2&\"年\"&3,IF((AND(AY$36>=1,AY$36<=5)),\"令和\"&AW$36&\"年\"&3,\"令和\"&AW$36+1&\"年\"&3)))))","v":"令和1年3"},{"$f":"IF(OR(AX93=\"\",AZ$41=4),\"\",IF(AND(AY$36>=1,AY$36<=4,AW$36=31),\"平成\"&31&\"年\"&3,IF(AND(AY$36=5,AW$36=\"元\"),\"平成\"&31&\"年\"&3,IF(AND(AY$36>=6,AW$36=\"元\"),\"令和\"&2&\"年\"&3,IF((AND(AY$36>=1,AY$36<=5)),\"令和\"&AW$36&\"年\"&3,\"令和\"&AW$36+1&\"年\"&3)))))","v":"令和1年3"},null,null,null,{"$f":"IF(OR(BC93=\"\",BC$41=4),\"\",3)","v":3},{"$f":"IF(OR(BD93=\"\",BF$41=4),\"\",IF(AND(BE$36>=1,BE$36<=4,BC$36=31),\"平成\"&31&\"年\"&3,IF(AND(BE$36=5,BC$36=\"元\"),\"平成\"&31&\"年\"&3,IF(AND(BE$36>=6,BC$36=\"元\"),\"令和\"&2&\"年\"&3,IF((AND(BE$36>=1,BE$36<=5)),\"令和\"&BC$36&\"年\"&3,\"令和\"&BC$36+1&\"年\"&3)))))","v":"令和1年3"},{"$f":"IF(OR(BD93=\"\",BF$41=4),\"\",IF(AND(BE$36>=1,BE$36<=4,BC$36=31),\"平成\"&31&\"年\"&3,IF(AND(BE$36=5,BC$36=\"元\"),\"平成\"&31&\"年\"&3,IF(AND(BE$36>=6,BC$36=\"元\"),\"令和\"&2&\"年\"&3,IF((AND(BE$36>=1,BE$36<=5)),\"令和\"&BC$36&\"年\"&3,\"令和\"&BC$36+1&\"年\"&3)))))","v":"令和1年3"},null,null,null,{"$f":"IF(OR(BI93=\"\",BI$41=4),\"\",3)","v":3},{"$f":"IF(OR(BJ93=\"\",BL$41=4),\"\",IF(AND(BK$36>=1,BK$36<=4,BI$36=31),\"平成\"&31&\"年\"&3,IF(AND(BK$36=5,BI$36=\"元\"),\"平成\"&31&\"年\"&3,IF(AND(BK$36>=6,BI$36=\"元\"),\"令和\"&2&\"年\"&3,IF((AND(BK$36>=1,BK$36<=5)),\"令和\"&BI$36&\"年\"&3,\"令和\"&BI$36+1&\"年\"&3)))))","v":"令和1年3"},{"$f":"IF(OR(BJ93=\"\",BL$41=4),\"\",IF(AND(BK$36>=1,BK$36<=4,BI$36=31),\"平成\"&31&\"年\"&3,IF(AND(BK$36=5,BI$36=\"元\"),\"平成\"&31&\"年\"&3,IF(AND(BK$36>=6,BI$36=\"元\"),\"令和\"&2&\"年\"&3,IF((AND(BK$36>=1,BK$36<=5)),\"令和\"&BI$36&\"年\"&3,\"令和\"&BI$36+1&\"年\"&3)))))","v":"令和1年3"},null,null,null,{"$f":"IF(OR(BO93=\"\",BO$41=4),\"\",3)","v":3},{"$f":"IF(OR(BP93=\"\",BR$41=4),\"\",IF(AND(BQ$36>=1,BQ$36<=4,BO$36=31),\"平成\"&31&\"年\"&3,IF(AND(BQ$36=5,BO$36=\"元\"),\"平成\"&31&\"年\"&3,IF(AND(BQ$36>=6,BO$36=\"元\"),\"令和\"&2&\"年\"&3,IF((AND(BQ$36>=1,BQ$36<=5)),\"令和\"&BO$36&\"年\"&3,\"令和\"&BO$36+1&\"年\"&3)))))","v":"令和1年3"},{"$f":"IF(OR(BP93=\"\",BR$41=4),\"\",IF(AND(BQ$36>=1,BQ$36<=4,BO$36=31),\"平成\"&31&\"年\"&3,IF(AND(BQ$36=5,BO$36=\"元\"),\"平成\"&31&\"年\"&3,IF(AND(BQ$36>=6,BO$36=\"元\"),\"令和\"&2&\"年\"&3,IF((AND(BQ$36>=1,BQ$36<=5)),\"令和\"&BO$36&\"年\"&3,\"令和\"&BO$36+1&\"年\"&3)))))","v":"令和1年3"},null,null,null,{"$f":"IF(OR(BU93=\"\",BU$41=4),\"\",3)","v":3},{"$f":"IF(OR(BV93=\"\",BX$41=4),\"\",IF(AND(BW$36>=1,BW$36<=4,BU$36=31),\"平成\"&31&\"年\"&3,IF(AND(BW$36=5,BU$36=\"元\"),\"平成\"&31&\"年\"&3,IF(AND(BW$36>=6,BU$36=\"元\"),\"令和\"&2&\"年\"&3,IF((AND(BW$36>=1,BW$36<=5)),\"令和\"&BU$36&\"年\"&3,\"令和\"&BU$36+1&\"年\"&3)))))","v":"令和1年3"},{"$f":"IF(OR(BV93=\"\",BX$41=4),\"\",IF(AND(BW$36>=1,BW$36<=4,BU$36=31),\"平成\"&31&\"年\"&3,IF(AND(BW$36=5,BU$36=\"元\"),\"平成\"&31&\"年\"&3,IF(AND(BW$36>=6,BU$36=\"元\"),\"令和\"&2&\"年\"&3,IF((AND(BW$36>=1,BW$36<=5)),\"令和\"&BU$36&\"年\"&3,\"令和\"&BU$36+1&\"年\"&3)))))","v":"令和1年3"},null,null,null,{"$f":"IF(OR(CA93=\"\",CA$41=4),\"\",3)","v":3},{"$f":"IF(OR(CB93=\"\",CD$41=4),\"\",IF(AND(CC$36>=1,CC$36<=4,CA$36=31),\"平成\"&31&\"年\"&3,IF(AND(CC$36=5,CA$36=\"元\"),\"平成\"&31&\"年\"&3,IF(AND(CC$36>=6,CA$36=\"元\"),\"令和\"&2&\"年\"&3,IF((AND(CC$36>=1,CC$36<=5)),\"令和\"&CA$36&\"年\"&3,\"令和\"&CA$36+1&\"年\"&3)))))","v":"令和1年3"},{"$f":"IF(OR(CB93=\"\",CD$41=4),\"\",IF(AND(CC$36>=1,CC$36<=4,CA$36=31),\"平成\"&31&\"年\"&3,IF(AND(CC$36=5,CA$36=\"元\"),\"平成\"&31&\"年\"&3,IF(AND(CC$36>=6,CA$36=\"元\"),\"令和\"&2&\"年\"&3,IF((AND(CC$36>=1,CC$36<=5)),\"令和\"&CA$36&\"年\"&3,\"令和\"&CA$36+1&\"年\"&3)))))","v":"令和1年3"},null,null,null,{"$f":"IF(OR(CG93=\"\",CG$41=4),\"\",3)","v":3},{"$f":"IF(OR(CH93=\"\",CJ$41=4),\"\",IF(AND(CI$36>=1,CI$36<=4,CG$36=31),\"平成\"&31&\"年\"&3,IF(AND(CI$36=5,CG$36=\"元\"),\"平成\"&31&\"年\"&3,IF(AND(CI$36>=6,CG$36=\"元\"),\"令和\"&2&\"年\"&3,IF((AND(CI$36>=1,CI$36<=5)),\"令和\"&CG$36&\"年\"&3,\"令和\"&CG$36+1&\"年\"&3)))))","v":"令和1年3"},{"$f":"IF(OR(CH93=\"\",CJ$41=4),\"\",IF(AND(CI$36>=1,CI$36<=4,CG$36=31),\"平成\"&31&\"年\"&3,IF(AND(CI$36=5,CG$36=\"元\"),\"平成\"&31&\"年\"&3,IF(AND(CI$36>=6,CG$36=\"元\"),\"令和\"&2&\"年\"&3,IF((AND(CI$36>=1,CI$36<=5)),\"令和\"&CG$36&\"年\"&3,\"令和\"&CG$36+1&\"年\"&3)))))","v":"令和1年3"},null,null,null,{"$f":"IF(OR(CM93=\"\",CM$41=4),\"\",3)","v":3},{"$f":"IF(OR(CN93=\"\",CP$41=4),\"\",IF(AND(CO$36>=1,CO$36<=4,CM$36=31),\"平成\"&31&\"年\"&3,IF(AND(CO$36=5,CM$36=\"元\"),\"平成\"&31&\"年\"&3,IF(AND(CO$36>=6,CM$36=\"元\"),\"令和\"&2&\"年\"&3,IF((AND(CO$36>=1,CO$36<=5)),\"令和\"&CM$36&\"年\"&3,\"令和\"&CM$36+1&\"年\"&3)))))","v":"令和1年3"},{"$f":"IF(OR(CN93=\"\",CP$41=4),\"\",IF(AND(CO$36>=1,CO$36<=4,CM$36=31),\"平成\"&31&\"年\"&3,IF(AND(CO$36=5,CM$36=\"元\"),\"平成\"&31&\"年\"&3,IF(AND(CO$36>=6,CM$36=\"元\"),\"令和\"&2&\"年\"&3,IF((AND(CO$36>=1,CO$36<=5)),\"令和\"&CM$36&\"年\"&3,\"令和\"&CM$36+1&\"年\"&3)))))","v":"令和1年3"},null,null,null,{"$f":"IF(OR(CS93=\"\",CS$41=4),\"\",3)","v":3},{"$f":"IF(OR(CT93=\"\",CV$41=4),\"\",IF(AND(CU$36>=1,CU$36<=4,CS$36=31),\"平成\"&31&\"年\"&3,IF(AND(CU$36=5,CS$36=\"元\"),\"平成\"&31&\"年\"&3,IF(AND(CU$36>=6,CS$36=\"元\"),\"令和\"&2&\"年\"&3,IF((AND(CU$36>=1,CU$36<=5)),\"令和\"&CS$36&\"年\"&3,\"令和\"&CS$36+1&\"年\"&3)))))","v":"令和1年3"},{"$f":"IF(OR(CT93=\"\",CV$41=4),\"\",IF(AND(CU$36>=1,CU$36<=4,CS$36=31),\"平成\"&31&\"年\"&3,IF(AND(CU$36=5,CS$36=\"元\"),\"平成\"&31&\"年\"&3,IF(AND(CU$36>=6,CS$36=\"元\"),\"令和\"&2&\"年\"&3,IF((AND(CU$36>=1,CU$36<=5)),\"令和\"&CS$36&\"年\"&3,\"令和\"&CS$36+1&\"年\"&3)))))","v":"令和1年3"},null,null,null,{"$f":"IF(OR(CY93=\"\",CY$41=4),\"\",3)","v":3},{"$f":"IF(OR(CZ93=\"\",DB$41=4),\"\",IF(AND(DA$36>=1,DA$36<=4,CY$36=31),\"平成\"&31&\"年\"&3,IF(AND(DA$36=5,CY$36=\"元\"),\"平成\"&31&\"年\"&3,IF(AND(DA$36>=6,CY$36=\"元\"),\"令和\"&2&\"年\"&3,IF((AND(DA$36>=1,DA$36<=5)),\"令和\"&CY$36&\"年\"&3,\"令和\"&CY$36+1&\"年\"&3)))))","v":"令和1年3"},{"$f":"IF(OR(CZ93=\"\",DB$41=4),\"\",IF(AND(DA$36>=1,DA$36<=4,CY$36=31),\"平成\"&31&\"年\"&3,IF(AND(DA$36=5,CY$36=\"元\"),\"平成\"&31&\"年\"&3,IF(AND(DA$36>=6,CY$36=\"元\"),\"令和\"&2&\"年\"&3,IF((AND(DA$36>=1,DA$36<=5)),\"令和\"&CY$36&\"年\"&3,\"令和\"&CY$36+1&\"年\"&3)))))","v":"令和1年3"},null,null,null,{"$f":"IF(OR(DE93=\"\",DE$41=4),\"\",3)","v":3},{"$f":"IF(OR(DF93=\"\",DH$41=4),\"\",IF(AND(DG$36>=1,DG$36<=4,DE$36=31),\"平成\"&31&\"年\"&3,IF(AND(DG$36=5,DE$36=\"元\"),\"平成\"&31&\"年\"&3,IF(AND(DG$36>=6,DE$36=\"元\"),\"令和\"&2&\"年\"&3,IF((AND(DG$36>=1,DG$36<=5)),\"令和\"&DE$36&\"年\"&3,\"令和\"&DE$36+1&\"年\"&3)))))","v":"令和1年3"},{"$f":"IF(OR(DF93=\"\",DH$41=4),\"\",IF(AND(DG$36>=1,DG$36<=4,DE$36=31),\"平成\"&31&\"年\"&3,IF(AND(DG$36=5,DE$36=\"元\"),\"平成\"&31&\"年\"&3,IF(AND(DG$36>=6,DE$36=\"元\"),\"令和\"&2&\"年\"&3,IF((AND(DG$36>=1,DG$36<=5)),\"令和\"&DE$36&\"年\"&3,\"令和\"&DE$36+1&\"年\"&3)))))","v":"令和1年3"},null,null,null,{"$f":"IF(OR(DK93=\"\",DK$41=4),\"\",3)","v":3},{"$f":"IF(OR(DL93=\"\",DN$41=4),\"\",IF(AND(DM$36>=1,DM$36<=4,DK$36=31),\"平成\"&31&\"年\"&3,IF(AND(DM$36=5,DK$36=\"元\"),\"平成\"&31&\"年\"&3,IF(AND(DM$36>=6,DK$36=\"元\"),\"令和\"&2&\"年\"&3,IF((AND(DM$36>=1,DM$36<=5)),\"令和\"&DK$36&\"年\"&3,\"令和\"&DK$36+1&\"年\"&3)))))","v":"令和1年3"},{"$f":"IF(OR(DL93=\"\",DN$41=4),\"\",IF(AND(DM$36>=1,DM$36<=4,DK$36=31),\"平成\"&31&\"年\"&3,IF(AND(DM$36=5,DK$36=\"元\"),\"平成\"&31&\"年\"&3,IF(AND(DM$36>=6,DK$36=\"元\"),\"令和\"&2&\"年\"&3,IF((AND(DM$36>=1,DM$36<=5)),\"令和\"&DK$36&\"年\"&3,\"令和\"&DK$36+1&\"年\"&3)))))","v":"令和1年3"},null,null,null,{"$f":"IF(OR(DQ93=\"\",DQ$41=4),\"\",3)","v":3},{"$f":"IF(OR(DR93=\"\",DT$41=4),\"\",IF(AND(DS$36>=1,DS$36<=4,DQ$36=31),\"平成\"&31&\"年\"&3,IF(AND(DS$36=5,DQ$36=\"元\"),\"平成\"&31&\"年\"&3,IF(AND(DS$36>=6,DQ$36=\"元\"),\"令和\"&2&\"年\"&3,IF((AND(DS$36>=1,DS$36<=5)),\"令和\"&DQ$36&\"年\"&3,\"令和\"&DQ$36+1&\"年\"&3)))))","v":"令和1年3"},{"$f":"IF(OR(DR93=\"\",DT$41=4),\"\",IF(AND(DS$36>=1,DS$36<=4,DQ$36=31),\"平成\"&31&\"年\"&3,IF(AND(DS$36=5,DQ$36=\"元\"),\"平成\"&31&\"年\"&3,IF(AND(DS$36>=6,DQ$36=\"元\"),\"令和\"&2&\"年\"&3,IF((AND(DS$36>=1,DS$36<=5)),\"令和\"&DQ$36&\"年\"&3,\"令和\"&DQ$36+1&\"年\"&3)))))","v":"令和1年3"},null,null,null,{"$f":"IF(OR(DW93=\"\",DW$41=4),\"\",3)","v":3},{"$f":"IF(OR(DX93=\"\",DZ$41=4),\"\",IF(AND(DY$36>=1,DY$36<=4,DW$36=31),\"平成\"&31&\"年\"&3,IF(AND(DY$36=5,DW$36=\"元\"),\"平成\"&31&\"年\"&3,IF(AND(DY$36>=6,DW$36=\"元\"),\"令和\"&2&\"年\"&3,IF((AND(DY$36>=1,DY$36<=5)),\"令和\"&DW$36&\"年\"&3,\"令和\"&DW$36+1&\"年\"&3)))))","v":"令和1年3"},{"$f":"IF(OR(DX93=\"\",DZ$41=4),\"\",IF(AND(DY$36>=1,DY$36<=4,DW$36=31),\"平成\"&31&\"年\"&3,IF(AND(DY$36=5,DW$36=\"元\"),\"平成\"&31&\"年\"&3,IF(AND(DY$36>=6,DW$36=\"元\"),\"令和\"&2&\"年\"&3,IF((AND(DY$36>=1,DY$36<=5)),\"令和\"&DW$36&\"年\"&3,\"令和\"&DW$36+1&\"年\"&3)))))","v":"令和1年3"},null,null,null,{"$f":"IF(OR(EC93=\"\",EC$41=4),\"\",3)","v":3},{"$f":"IF(OR(ED93=\"\",EF$41=4),\"\",IF(AND(EE$36>=1,EE$36<=4,EC$36=31),\"平成\"&31&\"年\"&3,IF(AND(EE$36=5,EC$36=\"元\"),\"平成\"&31&\"年\"&3,IF(AND(EE$36>=6,EC$36=\"元\"),\"令和\"&2&\"年\"&3,IF((AND(EE$36>=1,EE$36<=5)),\"令和\"&EC$36&\"年\"&3,\"令和\"&EC$36+1&\"年\"&3)))))","v":"令和1年3"},{"$f":"IF(OR(ED93=\"\",EF$41=4),\"\",IF(AND(EE$36>=1,EE$36<=4,EC$36=31),\"平成\"&31&\"年\"&3,IF(AND(EE$36=5,EC$36=\"元\"),\"平成\"&31&\"年\"&3,IF(AND(EE$36>=6,EC$36=\"元\"),\"令和\"&2&\"年\"&3,IF((AND(EE$36>=1,EE$36<=5)),\"令和\"&EC$36&\"年\"&3,\"令和\"&EC$36+1&\"年\"&3)))))","v":"令和1年3"},null,null,null,{"$f":"IF(OR(EI93=\"\",EI$41=4),\"\",3)","v":3},{"$f":"IF(OR(EJ93=\"\",EL$41=4),\"\",IF(AND(EK$36>=1,EK$36<=4,EI$36=31),\"平成\"&31&\"年\"&3,IF(AND(EK$36=5,EI$36=\"元\"),\"平成\"&31&\"年\"&3,IF(AND(EK$36>=6,EI$36=\"元\"),\"令和\"&2&\"年\"&3,IF((AND(EK$36>=1,EK$36<=5)),\"令和\"&EI$36&\"年\"&3,\"令和\"&EI$36+1&\"年\"&3)))))","v":"令和1年3"},{"$f":"IF(OR(EJ93=\"\",EL$41=4),\"\",IF(AND(EK$36>=1,EK$36<=4,EI$36=31),\"平成\"&31&\"年\"&3,IF(AND(EK$36=5,EI$36=\"元\"),\"平成\"&31&\"年\"&3,IF(AND(EK$36>=6,EI$36=\"元\"),\"令和\"&2&\"年\"&3,IF((AND(EK$36>=1,EK$36<=5)),\"令和\"&EI$36&\"年\"&3,\"令和\"&EI$36+1&\"年\"&3)))))","v":"令和1年3"},null,null,null,{"$f":"IF(OR(EO93=\"\",EO$41=4),\"\",3)","v":3},{"$f":"IF(OR(EP93=\"\",ER$41=4),\"\",IF(AND(EQ$36>=1,EQ$36<=4,EO$36=31),\"平成\"&31&\"年\"&3,IF(AND(EQ$36=5,EO$36=\"元\"),\"平成\"&31&\"年\"&3,IF(AND(EQ$36>=6,EO$36=\"元\"),\"令和\"&2&\"年\"&3,IF((AND(EQ$36>=1,EQ$36<=5)),\"令和\"&EO$36&\"年\"&3,\"令和\"&EO$36+1&\"年\"&3)))))","v":"令和1年3"},{"$f":"IF(OR(EP93=\"\",ER$41=4),\"\",IF(AND(EQ$36>=1,EQ$36<=4,EO$36=31),\"平成\"&31&\"年\"&3,IF(AND(EQ$36=5,EO$36=\"元\"),\"平成\"&31&\"年\"&3,IF(AND(EQ$36>=6,EO$36=\"元\"),\"令和\"&2&\"年\"&3,IF((AND(EQ$36>=1,EQ$36<=5)),\"令和\"&EO$36&\"年\"&3,\"令和\"&EO$36+1&\"年\"&3)))))","v":"令和1年3"},null,null,null,{"$f":"IF(OR(EU93=\"\",EU$41=4),\"\",3)","v":3},{"$f":"IF(OR(EV93=\"\",EX$41=4),\"\",IF(AND(EW$36>=1,EW$36<=4,EU$36=31),\"平成\"&31&\"年\"&3,IF(AND(EW$36=5,EU$36=\"元\"),\"平成\"&31&\"年\"&3,IF(AND(EW$36>=6,EU$36=\"元\"),\"令和\"&2&\"年\"&3,IF((AND(EW$36>=1,EW$36<=5)),\"令和\"&EU$36&\"年\"&3,\"令和\"&EU$36+1&\"年\"&3)))))","v":"令和1年3"},{"$f":"IF(OR(EV93=\"\",EX$41=4),\"\",IF(AND(EW$36>=1,EW$36<=4,EU$36=31),\"平成\"&31&\"年\"&3,IF(AND(EW$36=5,EU$36=\"元\"),\"平成\"&31&\"年\"&3,IF(AND(EW$36>=6,EU$36=\"元\"),\"令和\"&2&\"年\"&3,IF((AND(EW$36>=1,EW$36<=5)),\"令和\"&EU$36&\"年\"&3,\"令和\"&EU$36+1&\"年\"&3)))))","v":"令和1年3"},null,null,null,{"$f":"IF(OR(FA93=\"\",FA$41=4),\"\",3)","v":3},{"$f":"IF(OR(FB93=\"\",FD$41=4),\"\",IF(AND(FC$36>=1,FC$36<=4,FA$36=31),\"平成\"&31&\"年\"&3,IF(AND(FC$36=5,FA$36=\"元\"),\"平成\"&31&\"年\"&3,IF(AND(FC$36>=6,FA$36=\"元\"),\"令和\"&2&\"年\"&3,IF((AND(FC$36>=1,FC$36<=5)),\"令和\"&FA$36&\"年\"&3,\"令和\"&FA$36+1&\"年\"&3)))))","v":"令和1年3"},{"$f":"IF(OR(FB93=\"\",FD$41=4),\"\",IF(AND(FC$36>=1,FC$36<=4,FA$36=31),\"平成\"&31&\"年\"&3,IF(AND(FC$36=5,FA$36=\"元\"),\"平成\"&31&\"年\"&3,IF(AND(FC$36>=6,FA$36=\"元\"),\"令和\"&2&\"年\"&3,IF((AND(FC$36>=1,FC$36<=5)),\"令和\"&FA$36&\"年\"&3,\"令和\"&FA$36+1&\"年\"&3)))))","v":"令和1年3"},null,null,null,{"$f":"IF(OR(FG93=\"\",FG$41=4),\"\",3)","v":3},{"$f":"IF(OR(FH93=\"\",FJ$41=4),\"\",IF(AND(FI$36>=1,FI$36<=4,FG$36=31),\"平成\"&31&\"年\"&3,IF(AND(FI$36=5,FG$36=\"元\"),\"平成\"&31&\"年\"&3,IF(AND(FI$36>=6,FG$36=\"元\"),\"令和\"&2&\"年\"&3,IF((AND(FI$36>=1,FI$36<=5)),\"令和\"&FG$36&\"年\"&3,\"令和\"&FG$36+1&\"年\"&3)))))","v":"令和1年3"},{"$f":"IF(OR(FH93=\"\",FJ$41=4),\"\",IF(AND(FI$36>=1,FI$36<=4,FG$36=31),\"平成\"&31&\"年\"&3,IF(AND(FI$36=5,FG$36=\"元\"),\"平成\"&31&\"年\"&3,IF(AND(FI$36>=6,FG$36=\"元\"),\"令和\"&2&\"年\"&3,IF((AND(FI$36>=1,FI$36<=5)),\"令和\"&FG$36&\"年\"&3,\"令和\"&FG$36+1&\"年\"&3)))))","v":"令和1年3"},null,null,null,{"$f":"IF(OR(FM93=\"\",FM$41=4),\"\",3)","v":3},{"$f":"IF(OR(FN93=\"\",FP$41=4),\"\",IF(AND(FO$36>=1,FO$36<=4,FM$36=31),\"平成\"&31&\"年\"&3,IF(AND(FO$36=5,FM$36=\"元\"),\"平成\"&31&\"年\"&3,IF(AND(FO$36>=6,FM$36=\"元\"),\"令和\"&2&\"年\"&3,IF((AND(FO$36>=1,FO$36<=5)),\"令和\"&FM$36&\"年\"&3,\"令和\"&FM$36+1&\"年\"&3)))))","v":"令和1年3"},{"$f":"IF(OR(FN93=\"\",FP$41=4),\"\",IF(AND(FO$36>=1,FO$36<=4,FM$36=31),\"平成\"&31&\"年\"&3,IF(AND(FO$36=5,FM$36=\"元\"),\"平成\"&31&\"年\"&3,IF(AND(FO$36>=6,FM$36=\"元\"),\"令和\"&2&\"年\"&3,IF((AND(FO$36>=1,FO$36<=5)),\"令和\"&FM$36&\"年\"&3,\"令和\"&FM$36+1&\"年\"&3)))))","v":"令和1年3"},null,null,null,{"$f":"IF(OR(FS93=\"\",FS$41=4),\"\",3)","v":3},{"$f":"IF(OR(FT93=\"\",FV$41=4),\"\",IF(AND(FU$36>=1,FU$36<=4,FS$36=31),\"平成\"&31&\"年\"&3,IF(AND(FU$36=5,FS$36=\"元\"),\"平成\"&31&\"年\"&3,IF(AND(FU$36>=6,FS$36=\"元\"),\"令和\"&2&\"年\"&3,IF((AND(FU$36>=1,FU$36<=5)),\"令和\"&FS$36&\"年\"&3,\"令和\"&FS$36+1&\"年\"&3)))))","v":"令和1年3"},{"$f":"IF(OR(FT93=\"\",FV$41=4),\"\",IF(AND(FU$36>=1,FU$36<=4,FS$36=31),\"平成\"&31&\"年\"&3,IF(AND(FU$36=5,FS$36=\"元\"),\"平成\"&31&\"年\"&3,IF(AND(FU$36>=6,FS$36=\"元\"),\"令和\"&2&\"年\"&3,IF((AND(FU$36>=1,FU$36<=5)),\"令和\"&FS$36&\"年\"&3,\"令和\"&FS$36+1&\"年\"&3)))))","v":"令和1年3"},null,null,null,{"$f":"IF(OR(FY93=\"\",FY$41=4),\"\",3)","v":3},{"$f":"IF(OR(FZ93=\"\",GB$41=4),\"\",IF(AND(GA$36>=1,GA$36<=4,FY$36=31),\"平成\"&31&\"年\"&3,IF(AND(GA$36=5,FY$36=\"元\"),\"平成\"&31&\"年\"&3,IF(AND(GA$36>=6,FY$36=\"元\"),\"令和\"&2&\"年\"&3,IF((AND(GA$36>=1,GA$36<=5)),\"令和\"&FY$36&\"年\"&3,\"令和\"&FY$36+1&\"年\"&3)))))","v":"令和1年3"},{"$f":"IF(OR(FZ93=\"\",GB$41=4),\"\",IF(AND(GA$36>=1,GA$36<=4,FY$36=31),\"平成\"&31&\"年\"&3,IF(AND(GA$36=5,FY$36=\"元\"),\"平成\"&31&\"年\"&3,IF(AND(GA$36>=6,FY$36=\"元\"),\"令和\"&2&\"年\"&3,IF((AND(GA$36>=1,GA$36<=5)),\"令和\"&FY$36&\"年\"&3,\"令和\"&FY$36+1&\"年\"&3)))))","v":"令和1年3"},null,null,null,{"$f":"IF(OR(GE93=\"\",GE$41=4),\"\",3)","v":3},{"$f":"IF(OR(GF93=\"\",GH$41=4),\"\",IF(AND(GG$36>=1,GG$36<=4,GE$36=31),\"平成\"&31&\"年\"&3,IF(AND(GG$36=5,GE$36=\"元\"),\"平成\"&31&\"年\"&3,IF(AND(GG$36>=6,GE$36=\"元\"),\"令和\"&2&\"年\"&3,IF((AND(GG$36>=1,GG$36<=5)),\"令和\"&GE$36&\"年\"&3,\"令和\"&GE$36+1&\"年\"&3)))))","v":"令和1年3"},{"$f":"IF(OR(GF93=\"\",GH$41=4),\"\",IF(AND(GG$36>=1,GG$36<=4,GE$36=31),\"平成\"&31&\"年\"&3,IF(AND(GG$36=5,GE$36=\"元\"),\"平成\"&31&\"年\"&3,IF(AND(GG$36>=6,GE$36=\"元\"),\"令和\"&2&\"年\"&3,IF((AND(GG$36>=1,GG$36<=5)),\"令和\"&GE$36&\"年\"&3,\"令和\"&GE$36+1&\"年\"&3)))))","v":"令和1年3"},null,null,null,{"$f":"IF(OR(GK93=\"\",GK$41=4),\"\",3)","v":3},{"$f":"IF(OR(GL93=\"\",GN$41=4),\"\",IF(AND(GM$36>=1,GM$36<=4,GK$36=31),\"平成\"&31&\"年\"&3,IF(AND(GM$36=5,GK$36=\"元\"),\"平成\"&31&\"年\"&3,IF(AND(GM$36>=6,GK$36=\"元\"),\"令和\"&2&\"年\"&3,IF((AND(GM$36>=1,GM$36<=5)),\"令和\"&GK$36&\"年\"&3,\"令和\"&GK$36+1&\"年\"&3)))))","v":"令和1年3"},{"$f":"IF(OR(GL93=\"\",GN$41=4),\"\",IF(AND(GM$36>=1,GM$36<=4,GK$36=31),\"平成\"&31&\"年\"&3,IF(AND(GM$36=5,GK$36=\"元\"),\"平成\"&31&\"年\"&3,IF(AND(GM$36>=6,GK$36=\"元\"),\"令和\"&2&\"年\"&3,IF((AND(GM$36>=1,GM$36<=5)),\"令和\"&GK$36&\"年\"&3,\"令和\"&GK$36+1&\"年\"&3)))))","v":"令和1年3"},null,null,null,{"$f":"IF(OR(GQ93=\"\",GQ$41=4),\"\",3)","v":3},{"$f":"IF(OR(GR93=\"\",GT$41=4),\"\",IF(AND(GS$36>=1,GS$36<=4,GQ$36=31),\"平成\"&31&\"年\"&3,IF(AND(GS$36=5,GQ$36=\"元\"),\"平成\"&31&\"年\"&3,IF(AND(GS$36>=6,GQ$36=\"元\"),\"令和\"&2&\"年\"&3,IF((AND(GS$36>=1,GS$36<=5)),\"令和\"&GQ$36&\"年\"&3,\"令和\"&GQ$36+1&\"年\"&3)))))","v":"令和1年3"},{"$f":"IF(OR(GR93=\"\",GT$41=4),\"\",IF(AND(GS$36>=1,GS$36<=4,GQ$36=31),\"平成\"&31&\"年\"&3,IF(AND(GS$36=5,GQ$36=\"元\"),\"平成\"&31&\"年\"&3,IF(AND(GS$36>=6,GQ$36=\"元\"),\"令和\"&2&\"年\"&3,IF((AND(GS$36>=1,GS$36<=5)),\"令和\"&GQ$36&\"年\"&3,\"令和\"&GQ$36+1&\"年\"&3)))))","v":"令和1年3"},null,null,null,{"$f":"IF(OR(GW93=\"\",GW$41=4),\"\",3)","v":3},{"$f":"IF(OR(GX93=\"\",GZ$41=4),\"\",IF(AND(GY$36>=1,GY$36<=4,GW$36=31),\"平成\"&31&\"年\"&3,IF(AND(GY$36=5,GW$36=\"元\"),\"平成\"&31&\"年\"&3,IF(AND(GY$36>=6,GW$36=\"元\"),\"令和\"&2&\"年\"&3,IF((AND(GY$36>=1,GY$36<=5)),\"令和\"&GW$36&\"年\"&3,\"令和\"&GW$36+1&\"年\"&3)))))","v":"令和1年3"},{"$f":"IF(OR(GX93=\"\",GZ$41=4),\"\",IF(AND(GY$36>=1,GY$36<=4,GW$36=31),\"平成\"&31&\"年\"&3,IF(AND(GY$36=5,GW$36=\"元\"),\"平成\"&31&\"年\"&3,IF(AND(GY$36>=6,GW$36=\"元\"),\"令和\"&2&\"年\"&3,IF((AND(GY$36>=1,GY$36<=5)),\"令和\"&GW$36&\"年\"&3,\"令和\"&GW$36+1&\"年\"&3)))))","v":"令和1年3"},null,null,null,{"$f":"IF(OR(HC93=\"\",HC$41=4),\"\",3)","v":3},{"$f":"IF(OR(HD93=\"\",HF$41=4),\"\",IF(AND(HE$36>=1,HE$36<=4,HC$36=31),\"平成\"&31&\"年\"&3,IF(AND(HE$36=5,HC$36=\"元\"),\"平成\"&31&\"年\"&3,IF(AND(HE$36>=6,HC$36=\"元\"),\"令和\"&2&\"年\"&3,IF((AND(HE$36>=1,HE$36<=5)),\"令和\"&HC$36&\"年\"&3,\"令和\"&HC$36+1&\"年\"&3)))))","v":"令和1年3"},{"$f":"IF(OR(HD93=\"\",HF$41=4),\"\",IF(AND(HE$36>=1,HE$36<=4,HC$36=31),\"平成\"&31&\"年\"&3,IF(AND(HE$36=5,HC$36=\"元\"),\"平成\"&31&\"年\"&3,IF(AND(HE$36>=6,HC$36=\"元\"),\"令和\"&2&\"年\"&3,IF((AND(HE$36>=1,HE$36<=5)),\"令和\"&HC$36&\"年\"&3,\"令和\"&HC$36+1&\"年\"&3)))))","v":"令和1年3"},null,null,null,{"$f":"IF(OR(HI93=\"\",HI$41=4),\"\",3)","v":3},{"$f":"IF(OR(HJ93=\"\",HL$41=4),\"\",IF(AND(HK$36>=1,HK$36<=4,HI$36=31),\"平成\"&31&\"年\"&3,IF(AND(HK$36=5,HI$36=\"元\"),\"平成\"&31&\"年\"&3,IF(AND(HK$36>=6,HI$36=\"元\"),\"令和\"&2&\"年\"&3,IF((AND(HK$36>=1,HK$36<=5)),\"令和\"&HI$36&\"年\"&3,\"令和\"&HI$36+1&\"年\"&3)))))","v":"令和1年3"},{"$f":"IF(OR(HJ93=\"\",HL$41=4),\"\",IF(AND(HK$36>=1,HK$36<=4,HI$36=31),\"平成\"&31&\"年\"&3,IF(AND(HK$36=5,HI$36=\"元\"),\"平成\"&31&\"年\"&3,IF(AND(HK$36>=6,HI$36=\"元\"),\"令和\"&2&\"年\"&3,IF((AND(HK$36>=1,HK$36<=5)),\"令和\"&HI$36&\"年\"&3,\"令和\"&HI$36+1&\"年\"&3)))))","v":"令和1年3"},null,null,null,{"$f":"IF(OR(HO93=\"\",HO$41=4),\"\",3)","v":3},{"$f":"IF(OR(HP93=\"\",HR$41=4),\"\",IF(AND(HQ$36>=1,HQ$36<=4,HO$36=31),\"平成\"&31&\"年\"&3,IF(AND(HQ$36=5,HO$36=\"元\"),\"平成\"&31&\"年\"&3,IF(AND(HQ$36>=6,HO$36=\"元\"),\"令和\"&2&\"年\"&3,IF((AND(HQ$36>=1,HQ$36<=5)),\"令和\"&HO$36&\"年\"&3,\"令和\"&HO$36+1&\"年\"&3)))))","v":"令和1年3"},{"$f":"IF(OR(HP93=\"\",HR$41=4),\"\",IF(AND(HQ$36>=1,HQ$36<=4,HO$36=31),\"平成\"&31&\"年\"&3,IF(AND(HQ$36=5,HO$36=\"元\"),\"平成\"&31&\"年\"&3,IF(AND(HQ$36>=6,HO$36=\"元\"),\"令和\"&2&\"年\"&3,IF((AND(HQ$36>=1,HQ$36<=5)),\"令和\"&HO$36&\"年\"&3,\"令和\"&HO$36+1&\"年\"&3)))))","v":"令和1年3"},null,null,null,{"$f":"IF(OR(HU93=\"\",HU$41=4),\"\",3)","v":3},{"$f":"IF(OR(HV93=\"\",HX$41=4),\"\",IF(AND(HW$36>=1,HW$36<=4,HU$36=31),\"平成\"&31&\"年\"&3,IF(AND(HW$36=5,HU$36=\"元\"),\"平成\"&31&\"年\"&3,IF(AND(HW$36>=6,HU$36=\"元\"),\"令和\"&2&\"年\"&3,IF((AND(HW$36>=1,HW$36<=5)),\"令和\"&HU$36&\"年\"&3,\"令和\"&HU$36+1&\"年\"&3)))))","v":"令和1年3"},{"$f":"IF(OR(HV93=\"\",HX$41=4),\"\",IF(AND(HW$36>=1,HW$36<=4,HU$36=31),\"平成\"&31&\"年\"&3,IF(AND(HW$36=5,HU$36=\"元\"),\"平成\"&31&\"年\"&3,IF(AND(HW$36>=6,HU$36=\"元\"),\"令和\"&2&\"年\"&3,IF((AND(HW$36>=1,HW$36<=5)),\"令和\"&HU$36&\"年\"&3,\"令和\"&HU$36+1&\"年\"&3)))))","v":"令和1年3"},null,null,null,{"$f":"IF(OR(IA93=\"\",IA$41=4),\"\",3)","v":3},{"$f":"IF(OR(IB93=\"\",ID$41=4),\"\",IF(AND(IC$36>=1,IC$36<=4,IA$36=31),\"平成\"&31&\"年\"&3,IF(AND(IC$36=5,IA$36=\"元\"),\"平成\"&31&\"年\"&3,IF(AND(IC$36>=6,IA$36=\"元\"),\"令和\"&2&\"年\"&3,IF((AND(IC$36>=1,IC$36<=5)),\"令和\"&IA$36&\"年\"&3,\"令和\"&IA$36+1&\"年\"&3)))))","v":"令和1年3"},{"$f":"IF(OR(IB93=\"\",ID$41=4),\"\",IF(AND(IC$36>=1,IC$36<=4,IA$36=31),\"平成\"&31&\"年\"&3,IF(AND(IC$36=5,IA$36=\"元\"),\"平成\"&31&\"年\"&3,IF(AND(IC$36>=6,IA$36=\"元\"),\"令和\"&2&\"年\"&3,IF((AND(IC$36>=1,IC$36<=5)),\"令和\"&IA$36&\"年\"&3,\"令和\"&IA$36+1&\"年\"&3)))))","v":"令和1年3"},null,null,null,{"$f":"IF(OR(IG93=\"\",IG$41=4),\"\",3)","v":3},{"$f":"IF(OR(IH93=\"\",IJ$41=4),\"\",IF(AND(II$36>=1,II$36<=4,IG$36=31),\"平成\"&31&\"年\"&3,IF(AND(II$36=5,IG$36=\"元\"),\"平成\"&31&\"年\"&3,IF(AND(II$36>=6,IG$36=\"元\"),\"令和\"&2&\"年\"&3,IF((AND(II$36>=1,II$36<=5)),\"令和\"&IG$36&\"年\"&3,\"令和\"&IG$36+1&\"年\"&3)))))","v":"令和1年3"},{"$f":"IF(OR(IH93=\"\",IJ$41=4),\"\",IF(AND(II$36>=1,II$36<=4,IG$36=31),\"平成\"&31&\"年\"&3,IF(AND(II$36=5,IG$36=\"元\"),\"平成\"&31&\"年\"&3,IF(AND(II$36>=6,IG$36=\"元\"),\"令和\"&2&\"年\"&3,IF((AND(II$36>=1,II$36<=5)),\"令和\"&IG$36&\"年\"&3,\"令和\"&IG$36+1&\"年\"&3)))))","v":"令和1年3"}]
[null,{"$f":"IF(AND(DW21<>\"\",DW25<>\"\",DY25<>\"\",EA25<>\"\"),DW17,\"\")","v":""},"平",3,"平3",null,{"$f":"IF(OR(G94=\"\",G$41=5),\"\",4)","v":4},{"$f":"IF(OR(H94=\"\",J$41=4),\"\",IF(AND(I$36>=1,I$36<=4,G$36=31),\"平成\"&31&\"年\"&4,IF(AND(I$36=5,G$36=\"元\"),\"平成\"&31&\"年\"&4,IF(AND(I$36>=6,G$36=\"元\"),\"令和\"&2&\"年\"&4,IF((AND(I$36>=1,I$36<=5)),\"令和\"&G$36&\"年\"&4,\"令和\"&G$36+1&\"年\"&4)))))","v":"令和1年4"},{"$f":"IF(OR(H94=\"\",J$41=4),\"\",IF(AND(I$36>=1,I$36<=4,G$36=31),\"平成\"&31&\"年\"&4,IF(AND(I$36=5,G$36=\"元\"),\"平成\"&31&\"年\"&4,IF(AND(I$36>=6,G$36=\"元\"),\"令和\"&2&\"年\"&4,IF((AND(I$36>=1,I$36<=5)),\"令和\"&G$36&\"年\"&4,\"令和\"&G$36+1&\"年\"&4)))))","v":"令和1年4"},null,null,null,{"$f":"IF(OR(M94=\"\",M$41=5),\"\",4)","v":4},{"$f":"IF(OR(N94=\"\",P$41=4),\"\",IF(AND(O$36>=1,O$36<=4,M$36=31),\"平成\"&31&\"年\"&4,IF(AND(O$36=5,M$36=\"元\"),\"平成\"&31&\"年\"&4,IF(AND(O$36>=6,M$36=\"元\"),\"令和\"&2&\"年\"&4,IF((AND(O$36>=1,O$36<=5)),\"令和\"&M$36&\"年\"&4,\"令和\"&M$36+1&\"年\"&4)))))","v":"令和1年4"},{"$f":"IF(OR(N94=\"\",P$41=4),\"\",IF(AND(O$36>=1,O$36<=4,M$36=31),\"平成\"&31&\"年\"&4,IF(AND(O$36=5,M$36=\"元\"),\"平成\"&31&\"年\"&4,IF(AND(O$36>=6,M$36=\"元\"),\"令和\"&2&\"年\"&4,IF((AND(O$36>=1,O$36<=5)),\"令和\"&M$36&\"年\"&4,\"令和\"&M$36+1&\"年\"&4)))))","v":"令和1年4"},null,null,null,{"$f":"IF(OR(S94=\"\",S$41=5),\"\",4)","v":4},{"$f":"IF(OR(T94=\"\",V$41=4),\"\",IF(AND(U$36>=1,U$36<=4,S$36=31),\"平成\"&31&\"年\"&4,IF(AND(U$36=5,S$36=\"元\"),\"平成\"&31&\"年\"&4,IF(AND(U$36>=6,S$36=\"元\"),\"令和\"&2&\"年\"&4,IF((AND(U$36>=1,U$36<=5)),\"令和\"&S$36&\"年\"&4,\"令和\"&S$36+1&\"年\"&4)))))","v":"令和1年4"},{"$f":"IF(OR(T94=\"\",V$41=4),\"\",IF(AND(U$36>=1,U$36<=4,S$36=31),\"平成\"&31&\"年\"&4,IF(AND(U$36=5,S$36=\"元\"),\"平成\"&31&\"年\"&4,IF(AND(U$36>=6,S$36=\"元\"),\"令和\"&2&\"年\"&4,IF((AND(U$36>=1,U$36<=5)),\"令和\"&S$36&\"年\"&4,\"令和\"&S$36+1&\"年\"&4)))))","v":"令和1年4"},null,null,null,{"$f":"IF(OR(Y94=\"\",Y$41=5),\"\",4)","v":4},{"$f":"IF(OR(Z94=\"\",AB$41=4),\"\",IF(AND(AA$36>=1,AA$36<=4,Y$36=31),\"平成\"&31&\"年\"&4,IF(AND(AA$36=5,Y$36=\"元\"),\"平成\"&31&\"年\"&4,IF(AND(AA$36>=6,Y$36=\"元\"),\"令和\"&2&\"年\"&4,IF((AND(AA$36>=1,AA$36<=5)),\"令和\"&Y$36&\"年\"&4,\"令和\"&Y$36+1&\"年\"&4)))))","v":"令和1年4"},{"$f":"IF(OR(Z94=\"\",AB$41=4),\"\",IF(AND(AA$36>=1,AA$36<=4,Y$36=31),\"平成\"&31&\"年\"&4,IF(AND(AA$36=5,Y$36=\"元\"),\"平成\"&31&\"年\"&4,IF(AND(AA$36>=6,Y$36=\"元\"),\"令和\"&2&\"年\"&4,IF((AND(AA$36>=1,AA$36<=5)),\"令和\"&Y$36&\"年\"&4,\"令和\"&Y$36+1&\"年\"&4)))))","v":"令和1年4"},null,null,null,{"$f":"IF(OR(AE94=\"\",AE$41=5),\"\",4)","v":4},{"$f":"IF(OR(AF94=\"\",AH$41=4),\"\",IF(AND(AG$36>=1,AG$36<=4,AE$36=31),\"平成\"&31&\"年\"&4,IF(AND(AG$36=5,AE$36=\"元\"),\"平成\"&31&\"年\"&4,IF(AND(AG$36>=6,AE$36=\"元\"),\"令和\"&2&\"年\"&4,IF((AND(AG$36>=1,AG$36<=5)),\"令和\"&AE$36&\"年\"&4,\"令和\"&AE$36+1&\"年\"&4)))))","v":"令和1年4"},{"$f":"IF(OR(AF94=\"\",AH$41=4),\"\",IF(AND(AG$36>=1,AG$36<=4,AE$36=31),\"平成\"&31&\"年\"&4,IF(AND(AG$36=5,AE$36=\"元\"),\"平成\"&31&\"年\"&4,IF(AND(AG$36>=6,AE$36=\"元\"),\"令和\"&2&\"年\"&4,IF((AND(AG$36>=1,AG$36<=5)),\"令和\"&AE$36&\"年\"&4,\"令和\"&AE$36+1&\"年\"&4)))))","v":"令和1年4"},null,null,null,{"$f":"IF(OR(AK94=\"\",AK$41=5),\"\",4)","v":4},{"$f":"IF(OR(AL94=\"\",AN$41=4),\"\",IF(AND(AM$36>=1,AM$36<=4,AK$36=31),\"平成\"&31&\"年\"&4,IF(AND(AM$36=5,AK$36=\"元\"),\"平成\"&31&\"年\"&4,IF(AND(AM$36>=6,AK$36=\"元\"),\"令和\"&2&\"年\"&4,IF((AND(AM$36>=1,AM$36<=5)),\"令和\"&AK$36&\"年\"&4,\"令和\"&AK$36+1&\"年\"&4)))))","v":"令和1年4"},{"$f":"IF(OR(AL94=\"\",AN$41=4),\"\",IF(AND(AM$36>=1,AM$36<=4,AK$36=31),\"平成\"&31&\"年\"&4,IF(AND(AM$36=5,AK$36=\"元\"),\"平成\"&31&\"年\"&4,IF(AND(AM$36>=6,AK$36=\"元\"),\"令和\"&2&\"年\"&4,IF((AND(AM$36>=1,AM$36<=5)),\"令和\"&AK$36&\"年\"&4,\"令和\"&AK$36+1&\"年\"&4)))))","v":"令和1年4"},null,null,null,{"$f":"IF(OR(AQ94=\"\",AQ$41=5),\"\",4)","v":4},{"$f":"IF(OR(AR94=\"\",AT$41=4),\"\",IF(AND(AS$36>=1,AS$36<=4,AQ$36=31),\"平成\"&31&\"年\"&4,IF(AND(AS$36=5,AQ$36=\"元\"),\"平成\"&31&\"年\"&4,IF(AND(AS$36>=6,AQ$36=\"元\"),\"令和\"&2&\"年\"&4,IF((AND(AS$36>=1,AS$36<=5)),\"令和\"&AQ$36&\"年\"&4,\"令和\"&AQ$36+1&\"年\"&4)))))","v":"令和1年4"},{"$f":"IF(OR(AR94=\"\",AT$41=4),\"\",IF(AND(AS$36>=1,AS$36<=4,AQ$36=31),\"平成\"&31&\"年\"&4,IF(AND(AS$36=5,AQ$36=\"元\"),\"平成\"&31&\"年\"&4,IF(AND(AS$36>=6,AQ$36=\"元\"),\"令和\"&2&\"年\"&4,IF((AND(AS$36>=1,AS$36<=5)),\"令和\"&AQ$36&\"年\"&4,\"令和\"&AQ$36+1&\"年\"&4)))))","v":"令和1年4"},null,null,null,{"$f":"IF(OR(AW94=\"\",AW$41=5),\"\",4)","v":4},{"$f":"IF(OR(AX94=\"\",AZ$41=4),\"\",IF(AND(AY$36>=1,AY$36<=4,AW$36=31),\"平成\"&31&\"年\"&4,IF(AND(AY$36=5,AW$36=\"元\"),\"平成\"&31&\"年\"&4,IF(AND(AY$36>=6,AW$36=\"元\"),\"令和\"&2&\"年\"&4,IF((AND(AY$36>=1,AY$36<=5)),\"令和\"&AW$36&\"年\"&4,\"令和\"&AW$36+1&\"年\"&4)))))","v":"令和1年4"},{"$f":"IF(OR(AX94=\"\",AZ$41=4),\"\",IF(AND(AY$36>=1,AY$36<=4,AW$36=31),\"平成\"&31&\"年\"&4,IF(AND(AY$36=5,AW$36=\"元\"),\"平成\"&31&\"年\"&4,IF(AND(AY$36>=6,AW$36=\"元\"),\"令和\"&2&\"年\"&4,IF((AND(AY$36>=1,AY$36<=5)),\"令和\"&AW$36&\"年\"&4,\"令和\"&AW$36+1&\"年\"&4)))))","v":"令和1年4"},null,null,null,{"$f":"IF(OR(BC94=\"\",BC$41=5),\"\",4)","v":4},{"$f":"IF(OR(BD94=\"\",BF$41=4),\"\",IF(AND(BE$36>=1,BE$36<=4,BC$36=31),\"平成\"&31&\"年\"&4,IF(AND(BE$36=5,BC$36=\"元\"),\"平成\"&31&\"年\"&4,IF(AND(BE$36>=6,BC$36=\"元\"),\"令和\"&2&\"年\"&4,IF((AND(BE$36>=1,BE$36<=5)),\"令和\"&BC$36&\"年\"&4,\"令和\"&BC$36+1&\"年\"&4)))))","v":"令和1年4"},{"$f":"IF(OR(BD94=\"\",BF$41=4),\"\",IF(AND(BE$36>=1,BE$36<=4,BC$36=31),\"平成\"&31&\"年\"&4,IF(AND(BE$36=5,BC$36=\"元\"),\"平成\"&31&\"年\"&4,IF(AND(BE$36>=6,BC$36=\"元\"),\"令和\"&2&\"年\"&4,IF((AND(BE$36>=1,BE$36<=5)),\"令和\"&BC$36&\"年\"&4,\"令和\"&BC$36+1&\"年\"&4)))))","v":"令和1年4"},null,null,null,{"$f":"IF(OR(BI94=\"\",BI$41=5),\"\",4)","v":4},{"$f":"IF(OR(BJ94=\"\",BL$41=4),\"\",IF(AND(BK$36>=1,BK$36<=4,BI$36=31),\"平成\"&31&\"年\"&4,IF(AND(BK$36=5,BI$36=\"元\"),\"平成\"&31&\"年\"&4,IF(AND(BK$36>=6,BI$36=\"元\"),\"令和\"&2&\"年\"&4,IF((AND(BK$36>=1,BK$36<=5)),\"令和\"&BI$36&\"年\"&4,\"令和\"&BI$36+1&\"年\"&4)))))","v":"令和1年4"},{"$f":"IF(OR(BJ94=\"\",BL$41=4),\"\",IF(AND(BK$36>=1,BK$36<=4,BI$36=31),\"平成\"&31&\"年\"&4,IF(AND(BK$36=5,BI$36=\"元\"),\"平成\"&31&\"年\"&4,IF(AND(BK$36>=6,BI$36=\"元\"),\"令和\"&2&\"年\"&4,IF((AND(BK$36>=1,BK$36<=5)),\"令和\"&BI$36&\"年\"&4,\"令和\"&BI$36+1&\"年\"&4)))))","v":"令和1年4"},null,null,null,{"$f":"IF(OR(BO94=\"\",BO$41=5),\"\",4)","v":4},{"$f":"IF(OR(BP94=\"\",BR$41=4),\"\",IF(AND(BQ$36>=1,BQ$36<=4,BO$36=31),\"平成\"&31&\"年\"&4,IF(AND(BQ$36=5,BO$36=\"元\"),\"平成\"&31&\"年\"&4,IF(AND(BQ$36>=6,BO$36=\"元\"),\"令和\"&2&\"年\"&4,IF((AND(BQ$36>=1,BQ$36<=5)),\"令和\"&BO$36&\"年\"&4,\"令和\"&BO$36+1&\"年\"&4)))))","v":"令和1年4"},{"$f":"IF(OR(BP94=\"\",BR$41=4),\"\",IF(AND(BQ$36>=1,BQ$36<=4,BO$36=31),\"平成\"&31&\"年\"&4,IF(AND(BQ$36=5,BO$36=\"元\"),\"平成\"&31&\"年\"&4,IF(AND(BQ$36>=6,BO$36=\"元\"),\"令和\"&2&\"年\"&4,IF((AND(BQ$36>=1,BQ$36<=5)),\"令和\"&BO$36&\"年\"&4,\"令和\"&BO$36+1&\"年\"&4)))))","v":"令和1年4"},null,null,null,{"$f":"IF(OR(BU94=\"\",BU$41=5),\"\",4)","v":4},{"$f":"IF(OR(BV94=\"\",BX$41=4),\"\",IF(AND(BW$36>=1,BW$36<=4,BU$36=31),\"平成\"&31&\"年\"&4,IF(AND(BW$36=5,BU$36=\"元\"),\"平成\"&31&\"年\"&4,IF(AND(BW$36>=6,BU$36=\"元\"),\"令和\"&2&\"年\"&4,IF((AND(BW$36>=1,BW$36<=5)),\"令和\"&BU$36&\"年\"&4,\"令和\"&BU$36+1&\"年\"&4)))))","v":"令和1年4"},{"$f":"IF(OR(BV94=\"\",BX$41=4),\"\",IF(AND(BW$36>=1,BW$36<=4,BU$36=31),\"平成\"&31&\"年\"&4,IF(AND(BW$36=5,BU$36=\"元\"),\"平成\"&31&\"年\"&4,IF(AND(BW$36>=6,BU$36=\"元\"),\"令和\"&2&\"年\"&4,IF((AND(BW$36>=1,BW$36<=5)),\"令和\"&BU$36&\"年\"&4,\"令和\"&BU$36+1&\"年\"&4)))))","v":"令和1年4"},null,null,null,{"$f":"IF(OR(CA94=\"\",CA$41=5),\"\",4)","v":4},{"$f":"IF(OR(CB94=\"\",CD$41=4),\"\",IF(AND(CC$36>=1,CC$36<=4,CA$36=31),\"平成\"&31&\"年\"&4,IF(AND(CC$36=5,CA$36=\"元\"),\"平成\"&31&\"年\"&4,IF(AND(CC$36>=6,CA$36=\"元\"),\"令和\"&2&\"年\"&4,IF((AND(CC$36>=1,CC$36<=5)),\"令和\"&CA$36&\"年\"&4,\"令和\"&CA$36+1&\"年\"&4)))))","v":"令和1年4"},{"$f":"IF(OR(CB94=\"\",CD$41=4),\"\",IF(AND(CC$36>=1,CC$36<=4,CA$36=31),\"平成\"&31&\"年\"&4,IF(AND(CC$36=5,CA$36=\"元\"),\"平成\"&31&\"年\"&4,IF(AND(CC$36>=6,CA$36=\"元\"),\"令和\"&2&\"年\"&4,IF((AND(CC$36>=1,CC$36<=5)),\"令和\"&CA$36&\"年\"&4,\"令和\"&CA$36+1&\"年\"&4)))))","v":"令和1年4"},null,null,null,{"$f":"IF(OR(CG94=\"\",CG$41=5),\"\",4)","v":4},{"$f":"IF(OR(CH94=\"\",CJ$41=4),\"\",IF(AND(CI$36>=1,CI$36<=4,CG$36=31),\"平成\"&31&\"年\"&4,IF(AND(CI$36=5,CG$36=\"元\"),\"平成\"&31&\"年\"&4,IF(AND(CI$36>=6,CG$36=\"元\"),\"令和\"&2&\"年\"&4,IF((AND(CI$36>=1,CI$36<=5)),\"令和\"&CG$36&\"年\"&4,\"令和\"&CG$36+1&\"年\"&4)))))","v":"令和1年4"},{"$f":"IF(OR(CH94=\"\",CJ$41=4),\"\",IF(AND(CI$36>=1,CI$36<=4,CG$36=31),\"平成\"&31&\"年\"&4,IF(AND(CI$36=5,CG$36=\"元\"),\"平成\"&31&\"年\"&4,IF(AND(CI$36>=6,CG$36=\"元\"),\"令和\"&2&\"年\"&4,IF((AND(CI$36>=1,CI$36<=5)),\"令和\"&CG$36&\"年\"&4,\"令和\"&CG$36+1&\"年\"&4)))))","v":"令和1年4"},null,null,null,{"$f":"IF(OR(CM94=\"\",CM$41=5),\"\",4)","v":4},{"$f":"IF(OR(CN94=\"\",CP$41=4),\"\",IF(AND(CO$36>=1,CO$36<=4,CM$36=31),\"平成\"&31&\"年\"&4,IF(AND(CO$36=5,CM$36=\"元\"),\"平成\"&31&\"年\"&4,IF(AND(CO$36>=6,CM$36=\"元\"),\"令和\"&2&\"年\"&4,IF((AND(CO$36>=1,CO$36<=5)),\"令和\"&CM$36&\"年\"&4,\"令和\"&CM$36+1&\"年\"&4)))))","v":"令和1年4"},{"$f":"IF(OR(CN94=\"\",CP$41=4),\"\",IF(AND(CO$36>=1,CO$36<=4,CM$36=31),\"平成\"&31&\"年\"&4,IF(AND(CO$36=5,CM$36=\"元\"),\"平成\"&31&\"年\"&4,IF(AND(CO$36>=6,CM$36=\"元\"),\"令和\"&2&\"年\"&4,IF((AND(CO$36>=1,CO$36<=5)),\"令和\"&CM$36&\"年\"&4,\"令和\"&CM$36+1&\"年\"&4)))))","v":"令和1年4"},null,null,null,{"$f":"IF(OR(CS94=\"\",CS$41=5),\"\",4)","v":4},{"$f":"IF(OR(CT94=\"\",CV$41=4),\"\",IF(AND(CU$36>=1,CU$36<=4,CS$36=31),\"平成\"&31&\"年\"&4,IF(AND(CU$36=5,CS$36=\"元\"),\"平成\"&31&\"年\"&4,IF(AND(CU$36>=6,CS$36=\"元\"),\"令和\"&2&\"年\"&4,IF((AND(CU$36>=1,CU$36<=5)),\"令和\"&CS$36&\"年\"&4,\"令和\"&CS$36+1&\"年\"&4)))))","v":"令和1年4"},{"$f":"IF(OR(CT94=\"\",CV$41=4),\"\",IF(AND(CU$36>=1,CU$36<=4,CS$36=31),\"平成\"&31&\"年\"&4,IF(AND(CU$36=5,CS$36=\"元\"),\"平成\"&31&\"年\"&4,IF(AND(CU$36>=6,CS$36=\"元\"),\"令和\"&2&\"年\"&4,IF((AND(CU$36>=1,CU$36<=5)),\"令和\"&CS$36&\"年\"&4,\"令和\"&CS$36+1&\"年\"&4)))))","v":"令和1年4"},null,null,null,{"$f":"IF(OR(CY94=\"\",CY$41=5),\"\",4)","v":4},{"$f":"IF(OR(CZ94=\"\",DB$41=4),\"\",IF(AND(DA$36>=1,DA$36<=4,CY$36=31),\"平成\"&31&\"年\"&4,IF(AND(DA$36=5,CY$36=\"元\"),\"平成\"&31&\"年\"&4,IF(AND(DA$36>=6,CY$36=\"元\"),\"令和\"&2&\"年\"&4,IF((AND(DA$36>=1,DA$36<=5)),\"令和\"&CY$36&\"年\"&4,\"令和\"&CY$36+1&\"年\"&4)))))","v":"令和1年4"},{"$f":"IF(OR(CZ94=\"\",DB$41=4),\"\",IF(AND(DA$36>=1,DA$36<=4,CY$36=31),\"平成\"&31&\"年\"&4,IF(AND(DA$36=5,CY$36=\"元\"),\"平成\"&31&\"年\"&4,IF(AND(DA$36>=6,CY$36=\"元\"),\"令和\"&2&\"年\"&4,IF((AND(DA$36>=1,DA$36<=5)),\"令和\"&CY$36&\"年\"&4,\"令和\"&CY$36+1&\"年\"&4)))))","v":"令和1年4"},null,null,null,{"$f":"IF(OR(DE94=\"\",DE$41=5),\"\",4)","v":4},{"$f":"IF(OR(DF94=\"\",DH$41=4),\"\",IF(AND(DG$36>=1,DG$36<=4,DE$36=31),\"平成\"&31&\"年\"&4,IF(AND(DG$36=5,DE$36=\"元\"),\"平成\"&31&\"年\"&4,IF(AND(DG$36>=6,DE$36=\"元\"),\"令和\"&2&\"年\"&4,IF((AND(DG$36>=1,DG$36<=5)),\"令和\"&DE$36&\"年\"&4,\"令和\"&DE$36+1&\"年\"&4)))))","v":"令和1年4"},{"$f":"IF(OR(DF94=\"\",DH$41=4),\"\",IF(AND(DG$36>=1,DG$36<=4,DE$36=31),\"平成\"&31&\"年\"&4,IF(AND(DG$36=5,DE$36=\"元\"),\"平成\"&31&\"年\"&4,IF(AND(DG$36>=6,DE$36=\"元\"),\"令和\"&2&\"年\"&4,IF((AND(DG$36>=1,DG$36<=5)),\"令和\"&DE$36&\"年\"&4,\"令和\"&DE$36+1&\"年\"&4)))))","v":"令和1年4"},null,null,null,{"$f":"IF(OR(DK94=\"\",DK$41=5),\"\",4)","v":4},{"$f":"IF(OR(DL94=\"\",DN$41=4),\"\",IF(AND(DM$36>=1,DM$36<=4,DK$36=31),\"平成\"&31&\"年\"&4,IF(AND(DM$36=5,DK$36=\"元\"),\"平成\"&31&\"年\"&4,IF(AND(DM$36>=6,DK$36=\"元\"),\"令和\"&2&\"年\"&4,IF((AND(DM$36>=1,DM$36<=5)),\"令和\"&DK$36&\"年\"&4,\"令和\"&DK$36+1&\"年\"&4)))))","v":"令和1年4"},{"$f":"IF(OR(DL94=\"\",DN$41=4),\"\",IF(AND(DM$36>=1,DM$36<=4,DK$36=31),\"平成\"&31&\"年\"&4,IF(AND(DM$36=5,DK$36=\"元\"),\"平成\"&31&\"年\"&4,IF(AND(DM$36>=6,DK$36=\"元\"),\"令和\"&2&\"年\"&4,IF((AND(DM$36>=1,DM$36<=5)),\"令和\"&DK$36&\"年\"&4,\"令和\"&DK$36+1&\"年\"&4)))))","v":"令和1年4"},null,null,null,{"$f":"IF(OR(DQ94=\"\",DQ$41=5),\"\",4)","v":4},{"$f":"IF(OR(DR94=\"\",DT$41=4),\"\",IF(AND(DS$36>=1,DS$36<=4,DQ$36=31),\"平成\"&31&\"年\"&4,IF(AND(DS$36=5,DQ$36=\"元\"),\"平成\"&31&\"年\"&4,IF(AND(DS$36>=6,DQ$36=\"元\"),\"令和\"&2&\"年\"&4,IF((AND(DS$36>=1,DS$36<=5)),\"令和\"&DQ$36&\"年\"&4,\"令和\"&DQ$36+1&\"年\"&4)))))","v":"令和1年4"},{"$f":"IF(OR(DR94=\"\",DT$41=4),\"\",IF(AND(DS$36>=1,DS$36<=4,DQ$36=31),\"平成\"&31&\"年\"&4,IF(AND(DS$36=5,DQ$36=\"元\"),\"平成\"&31&\"年\"&4,IF(AND(DS$36>=6,DQ$36=\"元\"),\"令和\"&2&\"年\"&4,IF((AND(DS$36>=1,DS$36<=5)),\"令和\"&DQ$36&\"年\"&4,\"令和\"&DQ$36+1&\"年\"&4)))))","v":"令和1年4"},null,null,null,{"$f":"IF(OR(DW94=\"\",DW$41=5),\"\",4)","v":4},{"$f":"IF(OR(DX94=\"\",DZ$41=4),\"\",IF(AND(DY$36>=1,DY$36<=4,DW$36=31),\"平成\"&31&\"年\"&4,IF(AND(DY$36=5,DW$36=\"元\"),\"平成\"&31&\"年\"&4,IF(AND(DY$36>=6,DW$36=\"元\"),\"令和\"&2&\"年\"&4,IF((AND(DY$36>=1,DY$36<=5)),\"令和\"&DW$36&\"年\"&4,\"令和\"&DW$36+1&\"年\"&4)))))","v":"令和1年4"},{"$f":"IF(OR(DX94=\"\",DZ$41=4),\"\",IF(AND(DY$36>=1,DY$36<=4,DW$36=31),\"平成\"&31&\"年\"&4,IF(AND(DY$36=5,DW$36=\"元\"),\"平成\"&31&\"年\"&4,IF(AND(DY$36>=6,DW$36=\"元\"),\"令和\"&2&\"年\"&4,IF((AND(DY$36>=1,DY$36<=5)),\"令和\"&DW$36&\"年\"&4,\"令和\"&DW$36+1&\"年\"&4)))))","v":"令和1年4"},null,null,null,{"$f":"IF(OR(EC94=\"\",EC$41=5),\"\",4)","v":4},{"$f":"IF(OR(ED94=\"\",EF$41=4),\"\",IF(AND(EE$36>=1,EE$36<=4,EC$36=31),\"平成\"&31&\"年\"&4,IF(AND(EE$36=5,EC$36=\"元\"),\"平成\"&31&\"年\"&4,IF(AND(EE$36>=6,EC$36=\"元\"),\"令和\"&2&\"年\"&4,IF((AND(EE$36>=1,EE$36<=5)),\"令和\"&EC$36&\"年\"&4,\"令和\"&EC$36+1&\"年\"&4)))))","v":"令和1年4"},{"$f":"IF(OR(ED94=\"\",EF$41=4),\"\",IF(AND(EE$36>=1,EE$36<=4,EC$36=31),\"平成\"&31&\"年\"&4,IF(AND(EE$36=5,EC$36=\"元\"),\"平成\"&31&\"年\"&4,IF(AND(EE$36>=6,EC$36=\"元\"),\"令和\"&2&\"年\"&4,IF((AND(EE$36>=1,EE$36<=5)),\"令和\"&EC$36&\"年\"&4,\"令和\"&EC$36+1&\"年\"&4)))))","v":"令和1年4"},null,null,null,{"$f":"IF(OR(EI94=\"\",EI$41=5),\"\",4)","v":4},{"$f":"IF(OR(EJ94=\"\",EL$41=4),\"\",IF(AND(EK$36>=1,EK$36<=4,EI$36=31),\"平成\"&31&\"年\"&4,IF(AND(EK$36=5,EI$36=\"元\"),\"平成\"&31&\"年\"&4,IF(AND(EK$36>=6,EI$36=\"元\"),\"令和\"&2&\"年\"&4,IF((AND(EK$36>=1,EK$36<=5)),\"令和\"&EI$36&\"年\"&4,\"令和\"&EI$36+1&\"年\"&4)))))","v":"令和1年4"},{"$f":"IF(OR(EJ94=\"\",EL$41=4),\"\",IF(AND(EK$36>=1,EK$36<=4,EI$36=31),\"平成\"&31&\"年\"&4,IF(AND(EK$36=5,EI$36=\"元\"),\"平成\"&31&\"年\"&4,IF(AND(EK$36>=6,EI$36=\"元\"),\"令和\"&2&\"年\"&4,IF((AND(EK$36>=1,EK$36<=5)),\"令和\"&EI$36&\"年\"&4,\"令和\"&EI$36+1&\"年\"&4)))))","v":"令和1年4"},null,null,null,{"$f":"IF(OR(EO94=\"\",EO$41=5),\"\",4)","v":4},{"$f":"IF(OR(EP94=\"\",ER$41=4),\"\",IF(AND(EQ$36>=1,EQ$36<=4,EO$36=31),\"平成\"&31&\"年\"&4,IF(AND(EQ$36=5,EO$36=\"元\"),\"平成\"&31&\"年\"&4,IF(AND(EQ$36>=6,EO$36=\"元\"),\"令和\"&2&\"年\"&4,IF((AND(EQ$36>=1,EQ$36<=5)),\"令和\"&EO$36&\"年\"&4,\"令和\"&EO$36+1&\"年\"&4)))))","v":"令和1年4"},{"$f":"IF(OR(EP94=\"\",ER$41=4),\"\",IF(AND(EQ$36>=1,EQ$36<=4,EO$36=31),\"平成\"&31&\"年\"&4,IF(AND(EQ$36=5,EO$36=\"元\"),\"平成\"&31&\"年\"&4,IF(AND(EQ$36>=6,EO$36=\"元\"),\"令和\"&2&\"年\"&4,IF((AND(EQ$36>=1,EQ$36<=5)),\"令和\"&EO$36&\"年\"&4,\"令和\"&EO$36+1&\"年\"&4)))))","v":"令和1年4"},null,null,null,{"$f":"IF(OR(EU94=\"\",EU$41=5),\"\",4)","v":4},{"$f":"IF(OR(EV94=\"\",EX$41=4),\"\",IF(AND(EW$36>=1,EW$36<=4,EU$36=31),\"平成\"&31&\"年\"&4,IF(AND(EW$36=5,EU$36=\"元\"),\"平成\"&31&\"年\"&4,IF(AND(EW$36>=6,EU$36=\"元\"),\"令和\"&2&\"年\"&4,IF((AND(EW$36>=1,EW$36<=5)),\"令和\"&EU$36&\"年\"&4,\"令和\"&EU$36+1&\"年\"&4)))))","v":"令和1年4"},{"$f":"IF(OR(EV94=\"\",EX$41=4),\"\",IF(AND(EW$36>=1,EW$36<=4,EU$36=31),\"平成\"&31&\"年\"&4,IF(AND(EW$36=5,EU$36=\"元\"),\"平成\"&31&\"年\"&4,IF(AND(EW$36>=6,EU$36=\"元\"),\"令和\"&2&\"年\"&4,IF((AND(EW$36>=1,EW$36<=5)),\"令和\"&EU$36&\"年\"&4,\"令和\"&EU$36+1&\"年\"&4)))))","v":"令和1年4"},null,null,null,{"$f":"IF(OR(FA94=\"\",FA$41=5),\"\",4)","v":4},{"$f":"IF(OR(FB94=\"\",FD$41=4),\"\",IF(AND(FC$36>=1,FC$36<=4,FA$36=31),\"平成\"&31&\"年\"&4,IF(AND(FC$36=5,FA$36=\"元\"),\"平成\"&31&\"年\"&4,IF(AND(FC$36>=6,FA$36=\"元\"),\"令和\"&2&\"年\"&4,IF((AND(FC$36>=1,FC$36<=5)),\"令和\"&FA$36&\"年\"&4,\"令和\"&FA$36+1&\"年\"&4)))))","v":"令和1年4"},{"$f":"IF(OR(FB94=\"\",FD$41=4),\"\",IF(AND(FC$36>=1,FC$36<=4,FA$36=31),\"平成\"&31&\"年\"&4,IF(AND(FC$36=5,FA$36=\"元\"),\"平成\"&31&\"年\"&4,IF(AND(FC$36>=6,FA$36=\"元\"),\"令和\"&2&\"年\"&4,IF((AND(FC$36>=1,FC$36<=5)),\"令和\"&FA$36&\"年\"&4,\"令和\"&FA$36+1&\"年\"&4)))))","v":"令和1年4"},null,null,null,{"$f":"IF(OR(FG94=\"\",FG$41=5),\"\",4)","v":4},{"$f":"IF(OR(FH94=\"\",FJ$41=4),\"\",IF(AND(FI$36>=1,FI$36<=4,FG$36=31),\"平成\"&31&\"年\"&4,IF(AND(FI$36=5,FG$36=\"元\"),\"平成\"&31&\"年\"&4,IF(AND(FI$36>=6,FG$36=\"元\"),\"令和\"&2&\"年\"&4,IF((AND(FI$36>=1,FI$36<=5)),\"令和\"&FG$36&\"年\"&4,\"令和\"&FG$36+1&\"年\"&4)))))","v":"令和1年4"},{"$f":"IF(OR(FH94=\"\",FJ$41=4),\"\",IF(AND(FI$36>=1,FI$36<=4,FG$36=31),\"平成\"&31&\"年\"&4,IF(AND(FI$36=5,FG$36=\"元\"),\"平成\"&31&\"年\"&4,IF(AND(FI$36>=6,FG$36=\"元\"),\"令和\"&2&\"年\"&4,IF((AND(FI$36>=1,FI$36<=5)),\"令和\"&FG$36&\"年\"&4,\"令和\"&FG$36+1&\"年\"&4)))))","v":"令和1年4"},null,null,null,{"$f":"IF(OR(FM94=\"\",FM$41=5),\"\",4)","v":4},{"$f":"IF(OR(FN94=\"\",FP$41=4),\"\",IF(AND(FO$36>=1,FO$36<=4,FM$36=31),\"平成\"&31&\"年\"&4,IF(AND(FO$36=5,FM$36=\"元\"),\"平成\"&31&\"年\"&4,IF(AND(FO$36>=6,FM$36=\"元\"),\"令和\"&2&\"年\"&4,IF((AND(FO$36>=1,FO$36<=5)),\"令和\"&FM$36&\"年\"&4,\"令和\"&FM$36+1&\"年\"&4)))))","v":"令和1年4"},{"$f":"IF(OR(FN94=\"\",FP$41=4),\"\",IF(AND(FO$36>=1,FO$36<=4,FM$36=31),\"平成\"&31&\"年\"&4,IF(AND(FO$36=5,FM$36=\"元\"),\"平成\"&31&\"年\"&4,IF(AND(FO$36>=6,FM$36=\"元\"),\"令和\"&2&\"年\"&4,IF((AND(FO$36>=1,FO$36<=5)),\"令和\"&FM$36&\"年\"&4,\"令和\"&FM$36+1&\"年\"&4)))))","v":"令和1年4"},null,null,null,{"$f":"IF(OR(FS94=\"\",FS$41=5),\"\",4)","v":4},{"$f":"IF(OR(FT94=\"\",FV$41=4),\"\",IF(AND(FU$36>=1,FU$36<=4,FS$36=31),\"平成\"&31&\"年\"&4,IF(AND(FU$36=5,FS$36=\"元\"),\"平成\"&31&\"年\"&4,IF(AND(FU$36>=6,FS$36=\"元\"),\"令和\"&2&\"年\"&4,IF((AND(FU$36>=1,FU$36<=5)),\"令和\"&FS$36&\"年\"&4,\"令和\"&FS$36+1&\"年\"&4)))))","v":"令和1年4"},{"$f":"IF(OR(FT94=\"\",FV$41=4),\"\",IF(AND(FU$36>=1,FU$36<=4,FS$36=31),\"平成\"&31&\"年\"&4,IF(AND(FU$36=5,FS$36=\"元\"),\"平成\"&31&\"年\"&4,IF(AND(FU$36>=6,FS$36=\"元\"),\"令和\"&2&\"年\"&4,IF((AND(FU$36>=1,FU$36<=5)),\"令和\"&FS$36&\"年\"&4,\"令和\"&FS$36+1&\"年\"&4)))))","v":"令和1年4"},null,null,null,{"$f":"IF(OR(FY94=\"\",FY$41=5),\"\",4)","v":4},{"$f":"IF(OR(FZ94=\"\",GB$41=4),\"\",IF(AND(GA$36>=1,GA$36<=4,FY$36=31),\"平成\"&31&\"年\"&4,IF(AND(GA$36=5,FY$36=\"元\"),\"平成\"&31&\"年\"&4,IF(AND(GA$36>=6,FY$36=\"元\"),\"令和\"&2&\"年\"&4,IF((AND(GA$36>=1,GA$36<=5)),\"令和\"&FY$36&\"年\"&4,\"令和\"&FY$36+1&\"年\"&4)))))","v":"令和1年4"},{"$f":"IF(OR(FZ94=\"\",GB$41=4),\"\",IF(AND(GA$36>=1,GA$36<=4,FY$36=31),\"平成\"&31&\"年\"&4,IF(AND(GA$36=5,FY$36=\"元\"),\"平成\"&31&\"年\"&4,IF(AND(GA$36>=6,FY$36=\"元\"),\"令和\"&2&\"年\"&4,IF((AND(GA$36>=1,GA$36<=5)),\"令和\"&FY$36&\"年\"&4,\"令和\"&FY$36+1&\"年\"&4)))))","v":"令和1年4"},null,null,null,{"$f":"IF(OR(GE94=\"\",GE$41=5),\"\",4)","v":4},{"$f":"IF(OR(GF94=\"\",GH$41=4),\"\",IF(AND(GG$36>=1,GG$36<=4,GE$36=31),\"平成\"&31&\"年\"&4,IF(AND(GG$36=5,GE$36=\"元\"),\"平成\"&31&\"年\"&4,IF(AND(GG$36>=6,GE$36=\"元\"),\"令和\"&2&\"年\"&4,IF((AND(GG$36>=1,GG$36<=5)),\"令和\"&GE$36&\"年\"&4,\"令和\"&GE$36+1&\"年\"&4)))))","v":"令和1年4"},{"$f":"IF(OR(GF94=\"\",GH$41=4),\"\",IF(AND(GG$36>=1,GG$36<=4,GE$36=31),\"平成\"&31&\"年\"&4,IF(AND(GG$36=5,GE$36=\"元\"),\"平成\"&31&\"年\"&4,IF(AND(GG$36>=6,GE$36=\"元\"),\"令和\"&2&\"年\"&4,IF((AND(GG$36>=1,GG$36<=5)),\"令和\"&GE$36&\"年\"&4,\"令和\"&GE$36+1&\"年\"&4)))))","v":"令和1年4"},null,null,null,{"$f":"IF(OR(GK94=\"\",GK$41=5),\"\",4)","v":4},{"$f":"IF(OR(GL94=\"\",GN$41=4),\"\",IF(AND(GM$36>=1,GM$36<=4,GK$36=31),\"平成\"&31&\"年\"&4,IF(AND(GM$36=5,GK$36=\"元\"),\"平成\"&31&\"年\"&4,IF(AND(GM$36>=6,GK$36=\"元\"),\"令和\"&2&\"年\"&4,IF((AND(GM$36>=1,GM$36<=5)),\"令和\"&GK$36&\"年\"&4,\"令和\"&GK$36+1&\"年\"&4)))))","v":"令和1年4"},{"$f":"IF(OR(GL94=\"\",GN$41=4),\"\",IF(AND(GM$36>=1,GM$36<=4,GK$36=31),\"平成\"&31&\"年\"&4,IF(AND(GM$36=5,GK$36=\"元\"),\"平成\"&31&\"年\"&4,IF(AND(GM$36>=6,GK$36=\"元\"),\"令和\"&2&\"年\"&4,IF((AND(GM$36>=1,GM$36<=5)),\"令和\"&GK$36&\"年\"&4,\"令和\"&GK$36+1&\"年\"&4)))))","v":"令和1年4"},null,null,null,{"$f":"IF(OR(GQ94=\"\",GQ$41=5),\"\",4)","v":4},{"$f":"IF(OR(GR94=\"\",GT$41=4),\"\",IF(AND(GS$36>=1,GS$36<=4,GQ$36=31),\"平成\"&31&\"年\"&4,IF(AND(GS$36=5,GQ$36=\"元\"),\"平成\"&31&\"年\"&4,IF(AND(GS$36>=6,GQ$36=\"元\"),\"令和\"&2&\"年\"&4,IF((AND(GS$36>=1,GS$36<=5)),\"令和\"&GQ$36&\"年\"&4,\"令和\"&GQ$36+1&\"年\"&4)))))","v":"令和1年4"},{"$f":"IF(OR(GR94=\"\",GT$41=4),\"\",IF(AND(GS$36>=1,GS$36<=4,GQ$36=31),\"平成\"&31&\"年\"&4,IF(AND(GS$36=5,GQ$36=\"元\"),\"平成\"&31&\"年\"&4,IF(AND(GS$36>=6,GQ$36=\"元\"),\"令和\"&2&\"年\"&4,IF((AND(GS$36>=1,GS$36<=5)),\"令和\"&GQ$36&\"年\"&4,\"令和\"&GQ$36+1&\"年\"&4)))))","v":"令和1年4"},null,null,null,{"$f":"IF(OR(GW94=\"\",GW$41=5),\"\",4)","v":4},{"$f":"IF(OR(GX94=\"\",GZ$41=4),\"\",IF(AND(GY$36>=1,GY$36<=4,GW$36=31),\"平成\"&31&\"年\"&4,IF(AND(GY$36=5,GW$36=\"元\"),\"平成\"&31&\"年\"&4,IF(AND(GY$36>=6,GW$36=\"元\"),\"令和\"&2&\"年\"&4,IF((AND(GY$36>=1,GY$36<=5)),\"令和\"&GW$36&\"年\"&4,\"令和\"&GW$36+1&\"年\"&4)))))","v":"令和1年4"},{"$f":"IF(OR(GX94=\"\",GZ$41=4),\"\",IF(AND(GY$36>=1,GY$36<=4,GW$36=31),\"平成\"&31&\"年\"&4,IF(AND(GY$36=5,GW$36=\"元\"),\"平成\"&31&\"年\"&4,IF(AND(GY$36>=6,GW$36=\"元\"),\"令和\"&2&\"年\"&4,IF((AND(GY$36>=1,GY$36<=5)),\"令和\"&GW$36&\"年\"&4,\"令和\"&GW$36+1&\"年\"&4)))))","v":"令和1年4"},null,null,null,{"$f":"IF(OR(HC94=\"\",HC$41=5),\"\",4)","v":4},{"$f":"IF(OR(HD94=\"\",HF$41=4),\"\",IF(AND(HE$36>=1,HE$36<=4,HC$36=31),\"平成\"&31&\"年\"&4,IF(AND(HE$36=5,HC$36=\"元\"),\"平成\"&31&\"年\"&4,IF(AND(HE$36>=6,HC$36=\"元\"),\"令和\"&2&\"年\"&4,IF((AND(HE$36>=1,HE$36<=5)),\"令和\"&HC$36&\"年\"&4,\"令和\"&HC$36+1&\"年\"&4)))))","v":"令和1年4"},{"$f":"IF(OR(HD94=\"\",HF$41=4),\"\",IF(AND(HE$36>=1,HE$36<=4,HC$36=31),\"平成\"&31&\"年\"&4,IF(AND(HE$36=5,HC$36=\"元\"),\"平成\"&31&\"年\"&4,IF(AND(HE$36>=6,HC$36=\"元\"),\"令和\"&2&\"年\"&4,IF((AND(HE$36>=1,HE$36<=5)),\"令和\"&HC$36&\"年\"&4,\"令和\"&HC$36+1&\"年\"&4)))))","v":"令和1年4"},null,null,null,{"$f":"IF(OR(HI94=\"\",HI$41=5),\"\",4)","v":4},{"$f":"IF(OR(HJ94=\"\",HL$41=4),\"\",IF(AND(HK$36>=1,HK$36<=4,HI$36=31),\"平成\"&31&\"年\"&4,IF(AND(HK$36=5,HI$36=\"元\"),\"平成\"&31&\"年\"&4,IF(AND(HK$36>=6,HI$36=\"元\"),\"令和\"&2&\"年\"&4,IF((AND(HK$36>=1,HK$36<=5)),\"令和\"&HI$36&\"年\"&4,\"令和\"&HI$36+1&\"年\"&4)))))","v":"令和1年4"},{"$f":"IF(OR(HJ94=\"\",HL$41=4),\"\",IF(AND(HK$36>=1,HK$36<=4,HI$36=31),\"平成\"&31&\"年\"&4,IF(AND(HK$36=5,HI$36=\"元\"),\"平成\"&31&\"年\"&4,IF(AND(HK$36>=6,HI$36=\"元\"),\"令和\"&2&\"年\"&4,IF((AND(HK$36>=1,HK$36<=5)),\"令和\"&HI$36&\"年\"&4,\"令和\"&HI$36+1&\"年\"&4)))))","v":"令和1年4"},null,null,null,{"$f":"IF(OR(HO94=\"\",HO$41=5),\"\",4)","v":4},{"$f":"IF(OR(HP94=\"\",HR$41=4),\"\",IF(AND(HQ$36>=1,HQ$36<=4,HO$36=31),\"平成\"&31&\"年\"&4,IF(AND(HQ$36=5,HO$36=\"元\"),\"平成\"&31&\"年\"&4,IF(AND(HQ$36>=6,HO$36=\"元\"),\"令和\"&2&\"年\"&4,IF((AND(HQ$36>=1,HQ$36<=5)),\"令和\"&HO$36&\"年\"&4,\"令和\"&HO$36+1&\"年\"&4)))))","v":"令和1年4"},{"$f":"IF(OR(HP94=\"\",HR$41=4),\"\",IF(AND(HQ$36>=1,HQ$36<=4,HO$36=31),\"平成\"&31&\"年\"&4,IF(AND(HQ$36=5,HO$36=\"元\"),\"平成\"&31&\"年\"&4,IF(AND(HQ$36>=6,HO$36=\"元\"),\"令和\"&2&\"年\"&4,IF((AND(HQ$36>=1,HQ$36<=5)),\"令和\"&HO$36&\"年\"&4,\"令和\"&HO$36+1&\"年\"&4)))))","v":"令和1年4"},null,null,null,{"$f":"IF(OR(HU94=\"\",HU$41=5),\"\",4)","v":4},{"$f":"IF(OR(HV94=\"\",HX$41=4),\"\",IF(AND(HW$36>=1,HW$36<=4,HU$36=31),\"平成\"&31&\"年\"&4,IF(AND(HW$36=5,HU$36=\"元\"),\"平成\"&31&\"年\"&4,IF(AND(HW$36>=6,HU$36=\"元\"),\"令和\"&2&\"年\"&4,IF((AND(HW$36>=1,HW$36<=5)),\"令和\"&HU$36&\"年\"&4,\"令和\"&HU$36+1&\"年\"&4)))))","v":"令和1年4"},{"$f":"IF(OR(HV94=\"\",HX$41=4),\"\",IF(AND(HW$36>=1,HW$36<=4,HU$36=31),\"平成\"&31&\"年\"&4,IF(AND(HW$36=5,HU$36=\"元\"),\"平成\"&31&\"年\"&4,IF(AND(HW$36>=6,HU$36=\"元\"),\"令和\"&2&\"年\"&4,IF((AND(HW$36>=1,HW$36<=5)),\"令和\"&HU$36&\"年\"&4,\"令和\"&HU$36+1&\"年\"&4)))))","v":"令和1年4"},null,null,null,{"$f":"IF(OR(IA94=\"\",IA$41=5),\"\",4)","v":4},{"$f":"IF(OR(IB94=\"\",ID$41=4),\"\",IF(AND(IC$36>=1,IC$36<=4,IA$36=31),\"平成\"&31&\"年\"&4,IF(AND(IC$36=5,IA$36=\"元\"),\"平成\"&31&\"年\"&4,IF(AND(IC$36>=6,IA$36=\"元\"),\"令和\"&2&\"年\"&4,IF((AND(IC$36>=1,IC$36<=5)),\"令和\"&IA$36&\"年\"&4,\"令和\"&IA$36+1&\"年\"&4)))))","v":"令和1年4"},{"$f":"IF(OR(IB94=\"\",ID$41=4),\"\",IF(AND(IC$36>=1,IC$36<=4,IA$36=31),\"平成\"&31&\"年\"&4,IF(AND(IC$36=5,IA$36=\"元\"),\"平成\"&31&\"年\"&4,IF(AND(IC$36>=6,IA$36=\"元\"),\"令和\"&2&\"年\"&4,IF((AND(IC$36>=1,IC$36<=5)),\"令和\"&IA$36&\"年\"&4,\"令和\"&IA$36+1&\"年\"&4)))))","v":"令和1年4"},null,null,null,{"$f":"IF(OR(IG94=\"\",IG$41=5),\"\",4)","v":4},{"$f":"IF(OR(IH94=\"\",IJ$41=4),\"\",IF(AND(II$36>=1,II$36<=4,IG$36=31),\"平成\"&31&\"年\"&4,IF(AND(II$36=5,IG$36=\"元\"),\"平成\"&31&\"年\"&4,IF(AND(II$36>=6,IG$36=\"元\"),\"令和\"&2&\"年\"&4,IF((AND(II$36>=1,II$36<=5)),\"令和\"&IG$36&\"年\"&4,\"令和\"&IG$36+1&\"年\"&4)))))","v":"令和1年4"},{"$f":"IF(OR(IH94=\"\",IJ$41=4),\"\",IF(AND(II$36>=1,II$36<=4,IG$36=31),\"平成\"&31&\"年\"&4,IF(AND(II$36=5,IG$36=\"元\"),\"平成\"&31&\"年\"&4,IF(AND(II$36>=6,IG$36=\"元\"),\"令和\"&2&\"年\"&4,IF((AND(II$36>=1,II$36<=5)),\"令和\"&IG$36&\"年\"&4,\"令和\"&IG$36+1&\"年\"&4)))))","v":"令和1年4"}]
[null,{"$f":"IF(AND(EC21<>\"\",EC25<>\"\",EE25<>\"\",EG25<>\"\"),EC17,\"\")","v":""},"平",2,"平2",null,5,{"$f":"IF(AND(I$36>=1,I$36<=5,G$36=31),\"令和\"&\"元\"&\"年\"&5,IF(AND(I$36=5,G$36=\"元\"),\"令和元年 \"&5,IF(AND(I$36>=6,G$36=\"元\"),\"令和\"&2&\"年\"&5,(IF((AND(I$36>=1,I$36<=5)),\"令和\"&G$36&\"年\"&5,\"令和\"&G$36+1&\"年\"&5)))))","v":"令和1年5"},{"$f":"IF(AND(I$36>=1,I$36<=5,G$36=31),\"令和\"&\"元\"&\"年\"&5,IF(AND(I$36=5,G$36=\"元\"),\"令和元年 \"&5,IF(AND(I$36>=6,G$36=\"元\"),\"令和\"&2&\"年\"&5,(IF((AND(I$36>=1,I$36<=5)),\"令和\"&G$36&\"年\"&5,\"令和\"&G$36+1&\"年\"&5)))))","v":"令和1年5"},null,null,null,5,{"$f":"IF(AND(O$36>=1,O$36<=5,M$36=31),\"令和\"&\"元\"&\"年\"&5,IF(AND(O$36=5,M$36=\"元\"),\"令和元年 \"&5,IF(AND(O$36>=6,M$36=\"元\"),\"令和\"&2&\"年\"&5,(IF((AND(O$36>=1,O$36<=5)),\"令和\"&M$36&\"年\"&5,\"令和\"&M$36+1&\"年\"&5)))))","v":"令和1年5"},{"$f":"IF(AND(O$36>=1,O$36<=5,M$36=31),\"令和\"&\"元\"&\"年\"&5,IF(AND(O$36=5,M$36=\"元\"),\"令和元年 \"&5,IF(AND(O$36>=6,M$36=\"元\"),\"令和\"&2&\"年\"&5,(IF((AND(O$36>=1,O$36<=5)),\"令和\"&M$36&\"年\"&5,\"令和\"&M$36+1&\"年\"&5)))))","v":"令和1年5"},null,null,null,5,{"$f":"IF(AND(U$36>=1,U$36<=5,S$36=31),\"令和\"&\"元\"&\"年\"&5,IF(AND(U$36=5,S$36=\"元\"),\"令和元年 \"&5,IF(AND(U$36>=6,S$36=\"元\"),\"令和\"&2&\"年\"&5,(IF((AND(U$36>=1,U$36<=5)),\"令和\"&S$36&\"年\"&5,\"令和\"&S$36+1&\"年\"&5)))))","v":"令和1年5"},{"$f":"IF(AND(U$36>=1,U$36<=5,S$36=31),\"令和\"&\"元\"&\"年\"&5,IF(AND(U$36=5,S$36=\"元\"),\"令和元年 \"&5,IF(AND(U$36>=6,S$36=\"元\"),\"令和\"&2&\"年\"&5,(IF((AND(U$36>=1,U$36<=5)),\"令和\"&S$36&\"年\"&5,\"令和\"&S$36+1&\"年\"&5)))))","v":"令和1年5"},null,null,null,5,{"$f":"IF(AND(AA$36>=1,AA$36<=5,Y$36=31),\"令和\"&\"元\"&\"年\"&5,IF(AND(AA$36=5,Y$36=\"元\"),\"令和元年 \"&5,IF(AND(AA$36>=6,Y$36=\"元\"),\"令和\"&2&\"年\"&5,(IF((AND(AA$36>=1,AA$36<=5)),\"令和\"&Y$36&\"年\"&5,\"令和\"&Y$36+1&\"年\"&5)))))","v":"令和1年5"},{"$f":"IF(AND(AA$36>=1,AA$36<=5,Y$36=31),\"令和\"&\"元\"&\"年\"&5,IF(AND(AA$36=5,Y$36=\"元\"),\"令和元年 \"&5,IF(AND(AA$36>=6,Y$36=\"元\"),\"令和\"&2&\"年\"&5,(IF((AND(AA$36>=1,AA$36<=5)),\"令和\"&Y$36&\"年\"&5,\"令和\"&Y$36+1&\"年\"&5)))))","v":"令和1年5"},null,null,null,5,{"$f":"IF(AND(AG$36>=1,AG$36<=5,AE$36=31),\"令和\"&\"元\"&\"年\"&5,IF(AND(AG$36=5,AE$36=\"元\"),\"令和元年 \"&5,IF(AND(AG$36>=6,AE$36=\"元\"),\"令和\"&2&\"年\"&5,(IF((AND(AG$36>=1,AG$36<=5)),\"令和\"&AE$36&\"年\"&5,\"令和\"&AE$36+1&\"年\"&5)))))","v":"令和1年5"},{"$f":"IF(AND(AG$36>=1,AG$36<=5,AE$36=31),\"令和\"&\"元\"&\"年\"&5,IF(AND(AG$36=5,AE$36=\"元\"),\"令和元年 \"&5,IF(AND(AG$36>=6,AE$36=\"元\"),\"令和\"&2&\"年\"&5,(IF((AND(AG$36>=1,AG$36<=5)),\"令和\"&AE$36&\"年\"&5,\"令和\"&AE$36+1&\"年\"&5)))))","v":"令和1年5"},null,null,null,5,{"$f":"IF(AND(AM$36>=1,AM$36<=5,AK$36=31),\"令和\"&\"元\"&\"年\"&5,IF(AND(AM$36=5,AK$36=\"元\"),\"令和元年 \"&5,IF(AND(AM$36>=6,AK$36=\"元\"),\"令和\"&2&\"年\"&5,(IF((AND(AM$36>=1,AM$36<=5)),\"令和\"&AK$36&\"年\"&5,\"令和\"&AK$36+1&\"年\"&5)))))","v":"令和1年5"},{"$f":"IF(AND(AM$36>=1,AM$36<=5,AK$36=31),\"令和\"&\"元\"&\"年\"&5,IF(AND(AM$36=5,AK$36=\"元\"),\"令和元年 \"&5,IF(AND(AM$36>=6,AK$36=\"元\"),\"令和\"&2&\"年\"&5,(IF((AND(AM$36>=1,AM$36<=5)),\"令和\"&AK$36&\"年\"&5,\"令和\"&AK$36+1&\"年\"&5)))))","v":"令和1年5"},null,null,null,5,{"$f":"IF(AND(AS$36>=1,AS$36<=5,AQ$36=31),\"令和\"&\"元\"&\"年\"&5,IF(AND(AS$36=5,AQ$36=\"元\"),\"令和元年 \"&5,IF(AND(AS$36>=6,AQ$36=\"元\"),\"令和\"&2&\"年\"&5,(IF((AND(AS$36>=1,AS$36<=5)),\"令和\"&AQ$36&\"年\"&5,\"令和\"&AQ$36+1&\"年\"&5)))))","v":"令和1年5"},{"$f":"IF(AND(AS$36>=1,AS$36<=5,AQ$36=31),\"令和\"&\"元\"&\"年\"&5,IF(AND(AS$36=5,AQ$36=\"元\"),\"令和元年 \"&5,IF(AND(AS$36>=6,AQ$36=\"元\"),\"令和\"&2&\"年\"&5,(IF((AND(AS$36>=1,AS$36<=5)),\"令和\"&AQ$36&\"年\"&5,\"令和\"&AQ$36+1&\"年\"&5)))))","v":"令和1年5"},null,null,null,5,{"$f":"IF(AND(AY$36>=1,AY$36<=5,AW$36=31),\"令和\"&\"元\"&\"年\"&5,IF(AND(AY$36=5,AW$36=\"元\"),\"令和元年 \"&5,IF(AND(AY$36>=6,AW$36=\"元\"),\"令和\"&2&\"年\"&5,(IF((AND(AY$36>=1,AY$36<=5)),\"令和\"&AW$36&\"年\"&5,\"令和\"&AW$36+1&\"年\"&5)))))","v":"令和1年5"},{"$f":"IF(AND(AY$36>=1,AY$36<=5,AW$36=31),\"令和\"&\"元\"&\"年\"&5,IF(AND(AY$36=5,AW$36=\"元\"),\"令和元年 \"&5,IF(AND(AY$36>=6,AW$36=\"元\"),\"令和\"&2&\"年\"&5,(IF((AND(AY$36>=1,AY$36<=5)),\"令和\"&AW$36&\"年\"&5,\"令和\"&AW$36+1&\"年\"&5)))))","v":"令和1年5"},null,null,null,5,{"$f":"IF(AND(BE$36>=1,BE$36<=5,BC$36=31),\"令和\"&\"元\"&\"年\"&5,IF(AND(BE$36=5,BC$36=\"元\"),\"令和元年 \"&5,IF(AND(BE$36>=6,BC$36=\"元\"),\"令和\"&2&\"年\"&5,(IF((AND(BE$36>=1,BE$36<=5)),\"令和\"&BC$36&\"年\"&5,\"令和\"&BC$36+1&\"年\"&5)))))","v":"令和1年5"},{"$f":"IF(AND(BE$36>=1,BE$36<=5,BC$36=31),\"令和\"&\"元\"&\"年\"&5,IF(AND(BE$36=5,BC$36=\"元\"),\"令和元年 \"&5,IF(AND(BE$36>=6,BC$36=\"元\"),\"令和\"&2&\"年\"&5,(IF((AND(BE$36>=1,BE$36<=5)),\"令和\"&BC$36&\"年\"&5,\"令和\"&BC$36+1&\"年\"&5)))))","v":"令和1年5"},null,null,null,5,{"$f":"IF(AND(BK$36>=1,BK$36<=5,BI$36=31),\"令和\"&\"元\"&\"年\"&5,IF(AND(BK$36=5,BI$36=\"元\"),\"令和元年 \"&5,IF(AND(BK$36>=6,BI$36=\"元\"),\"令和\"&2&\"年\"&5,(IF((AND(BK$36>=1,BK$36<=5)),\"令和\"&BI$36&\"年\"&5,\"令和\"&BI$36+1&\"年\"&5)))))","v":"令和1年5"},{"$f":"IF(AND(BK$36>=1,BK$36<=5,BI$36=31),\"令和\"&\"元\"&\"年\"&5,IF(AND(BK$36=5,BI$36=\"元\"),\"令和元年 \"&5,IF(AND(BK$36>=6,BI$36=\"元\"),\"令和\"&2&\"年\"&5,(IF((AND(BK$36>=1,BK$36<=5)),\"令和\"&BI$36&\"年\"&5,\"令和\"&BI$36+1&\"年\"&5)))))","v":"令和1年5"},null,null,null,5,{"$f":"IF(AND(BQ$36>=1,BQ$36<=5,BO$36=31),\"令和\"&\"元\"&\"年\"&5,IF(AND(BQ$36=5,BO$36=\"元\"),\"令和元年 \"&5,IF(AND(BQ$36>=6,BO$36=\"元\"),\"令和\"&2&\"年\"&5,(IF((AND(BQ$36>=1,BQ$36<=5)),\"令和\"&BO$36&\"年\"&5,\"令和\"&BO$36+1&\"年\"&5)))))","v":"令和1年5"},{"$f":"IF(AND(BQ$36>=1,BQ$36<=5,BO$36=31),\"令和\"&\"元\"&\"年\"&5,IF(AND(BQ$36=5,BO$36=\"元\"),\"令和元年 \"&5,IF(AND(BQ$36>=6,BO$36=\"元\"),\"令和\"&2&\"年\"&5,(IF((AND(BQ$36>=1,BQ$36<=5)),\"令和\"&BO$36&\"年\"&5,\"令和\"&BO$36+1&\"年\"&5)))))","v":"令和1年5"},null,null,null,5,{"$f":"IF(AND(BW$36>=1,BW$36<=5,BU$36=31),\"令和\"&\"元\"&\"年\"&5,IF(AND(BW$36=5,BU$36=\"元\"),\"令和元年 \"&5,IF(AND(BW$36>=6,BU$36=\"元\"),\"令和\"&2&\"年\"&5,(IF((AND(BW$36>=1,BW$36<=5)),\"令和\"&BU$36&\"年\"&5,\"令和\"&BU$36+1&\"年\"&5)))))","v":"令和1年5"},{"$f":"IF(AND(BW$36>=1,BW$36<=5,BU$36=31),\"令和\"&\"元\"&\"年\"&5,IF(AND(BW$36=5,BU$36=\"元\"),\"令和元年 \"&5,IF(AND(BW$36>=6,BU$36=\"元\"),\"令和\"&2&\"年\"&5,(IF((AND(BW$36>=1,BW$36<=5)),\"令和\"&BU$36&\"年\"&5,\"令和\"&BU$36+1&\"年\"&5)))))","v":"令和1年5"},null,null,null,5,{"$f":"IF(AND(CC$36>=1,CC$36<=5,CA$36=31),\"令和\"&\"元\"&\"年\"&5,IF(AND(CC$36=5,CA$36=\"元\"),\"令和元年 \"&5,IF(AND(CC$36>=6,CA$36=\"元\"),\"令和\"&2&\"年\"&5,(IF((AND(CC$36>=1,CC$36<=5)),\"令和\"&CA$36&\"年\"&5,\"令和\"&CA$36+1&\"年\"&5)))))","v":"令和1年5"},{"$f":"IF(AND(CC$36>=1,CC$36<=5,CA$36=31),\"令和\"&\"元\"&\"年\"&5,IF(AND(CC$36=5,CA$36=\"元\"),\"令和元年 \"&5,IF(AND(CC$36>=6,CA$36=\"元\"),\"令和\"&2&\"年\"&5,(IF((AND(CC$36>=1,CC$36<=5)),\"令和\"&CA$36&\"年\"&5,\"令和\"&CA$36+1&\"年\"&5)))))","v":"令和1年5"},null,null,null,5,{"$f":"IF(AND(CI$36>=1,CI$36<=5,CG$36=31),\"令和\"&\"元\"&\"年\"&5,IF(AND(CI$36=5,CG$36=\"元\"),\"令和元年 \"&5,IF(AND(CI$36>=6,CG$36=\"元\"),\"令和\"&2&\"年\"&5,(IF((AND(CI$36>=1,CI$36<=5)),\"令和\"&CG$36&\"年\"&5,\"令和\"&CG$36+1&\"年\"&5)))))","v":"令和1年5"},{"$f":"IF(AND(CI$36>=1,CI$36<=5,CG$36=31),\"令和\"&\"元\"&\"年\"&5,IF(AND(CI$36=5,CG$36=\"元\"),\"令和元年 \"&5,IF(AND(CI$36>=6,CG$36=\"元\"),\"令和\"&2&\"年\"&5,(IF((AND(CI$36>=1,CI$36<=5)),\"令和\"&CG$36&\"年\"&5,\"令和\"&CG$36+1&\"年\"&5)))))","v":"令和1年5"},null,null,null,5,{"$f":"IF(AND(CO$36>=1,CO$36<=5,CM$36=31),\"令和\"&\"元\"&\"年\"&5,IF(AND(CO$36=5,CM$36=\"元\"),\"令和元年 \"&5,IF(AND(CO$36>=6,CM$36=\"元\"),\"令和\"&2&\"年\"&5,(IF((AND(CO$36>=1,CO$36<=5)),\"令和\"&CM$36&\"年\"&5,\"令和\"&CM$36+1&\"年\"&5)))))","v":"令和1年5"},{"$f":"IF(AND(CO$36>=1,CO$36<=5,CM$36=31),\"令和\"&\"元\"&\"年\"&5,IF(AND(CO$36=5,CM$36=\"元\"),\"令和元年 \"&5,IF(AND(CO$36>=6,CM$36=\"元\"),\"令和\"&2&\"年\"&5,(IF((AND(CO$36>=1,CO$36<=5)),\"令和\"&CM$36&\"年\"&5,\"令和\"&CM$36+1&\"年\"&5)))))","v":"令和1年5"},null,null,null,5,{"$f":"IF(AND(CU$36>=1,CU$36<=5,CS$36=31),\"令和\"&\"元\"&\"年\"&5,IF(AND(CU$36=5,CS$36=\"元\"),\"令和元年 \"&5,IF(AND(CU$36>=6,CS$36=\"元\"),\"令和\"&2&\"年\"&5,(IF((AND(CU$36>=1,CU$36<=5)),\"令和\"&CS$36&\"年\"&5,\"令和\"&CS$36+1&\"年\"&5)))))","v":"令和1年5"},{"$f":"IF(AND(CU$36>=1,CU$36<=5,CS$36=31),\"令和\"&\"元\"&\"年\"&5,IF(AND(CU$36=5,CS$36=\"元\"),\"令和元年 \"&5,IF(AND(CU$36>=6,CS$36=\"元\"),\"令和\"&2&\"年\"&5,(IF((AND(CU$36>=1,CU$36<=5)),\"令和\"&CS$36&\"年\"&5,\"令和\"&CS$36+1&\"年\"&5)))))","v":"令和1年5"},null,null,null,5,{"$f":"IF(AND(DA$36>=1,DA$36<=5,CY$36=31),\"令和\"&\"元\"&\"年\"&5,IF(AND(DA$36=5,CY$36=\"元\"),\"令和元年 \"&5,IF(AND(DA$36>=6,CY$36=\"元\"),\"令和\"&2&\"年\"&5,(IF((AND(DA$36>=1,DA$36<=5)),\"令和\"&CY$36&\"年\"&5,\"令和\"&CY$36+1&\"年\"&5)))))","v":"令和1年5"},{"$f":"IF(AND(DA$36>=1,DA$36<=5,CY$36=31),\"令和\"&\"元\"&\"年\"&5,IF(AND(DA$36=5,CY$36=\"元\"),\"令和元年 \"&5,IF(AND(DA$36>=6,CY$36=\"元\"),\"令和\"&2&\"年\"&5,(IF((AND(DA$36>=1,DA$36<=5)),\"令和\"&CY$36&\"年\"&5,\"令和\"&CY$36+1&\"年\"&5)))))","v":"令和1年5"},null,null,null,5,{"$f":"IF(AND(DG$36>=1,DG$36<=5,DE$36=31),\"令和\"&\"元\"&\"年\"&5,IF(AND(DG$36=5,DE$36=\"元\"),\"令和元年 \"&5,IF(AND(DG$36>=6,DE$36=\"元\"),\"令和\"&2&\"年\"&5,(IF((AND(DG$36>=1,DG$36<=5)),\"令和\"&DE$36&\"年\"&5,\"令和\"&DE$36+1&\"年\"&5)))))","v":"令和1年5"},{"$f":"IF(AND(DG$36>=1,DG$36<=5,DE$36=31),\"令和\"&\"元\"&\"年\"&5,IF(AND(DG$36=5,DE$36=\"元\"),\"令和元年 \"&5,IF(AND(DG$36>=6,DE$36=\"元\"),\"令和\"&2&\"年\"&5,(IF((AND(DG$36>=1,DG$36<=5)),\"令和\"&DE$36&\"年\"&5,\"令和\"&DE$36+1&\"年\"&5)))))","v":"令和1年5"},null,null,null,5,{"$f":"IF(AND(DM$36>=1,DM$36<=5,DK$36=31),\"令和\"&\"元\"&\"年\"&5,IF(AND(DM$36=5,DK$36=\"元\"),\"令和元年 \"&5,IF(AND(DM$36>=6,DK$36=\"元\"),\"令和\"&2&\"年\"&5,(IF((AND(DM$36>=1,DM$36<=5)),\"令和\"&DK$36&\"年\"&5,\"令和\"&DK$36+1&\"年\"&5)))))","v":"令和1年5"},{"$f":"IF(AND(DM$36>=1,DM$36<=5,DK$36=31),\"令和\"&\"元\"&\"年\"&5,IF(AND(DM$36=5,DK$36=\"元\"),\"令和元年 \"&5,IF(AND(DM$36>=6,DK$36=\"元\"),\"令和\"&2&\"年\"&5,(IF((AND(DM$36>=1,DM$36<=5)),\"令和\"&DK$36&\"年\"&5,\"令和\"&DK$36+1&\"年\"&5)))))","v":"令和1年5"},null,null,null,5,{"$f":"IF(AND(DS$36>=1,DS$36<=5,DQ$36=31),\"令和\"&\"元\"&\"年\"&5,IF(AND(DS$36=5,DQ$36=\"元\"),\"令和元年 \"&5,IF(AND(DS$36>=6,DQ$36=\"元\"),\"令和\"&2&\"年\"&5,(IF((AND(DS$36>=1,DS$36<=5)),\"令和\"&DQ$36&\"年\"&5,\"令和\"&DQ$36+1&\"年\"&5)))))","v":"令和1年5"},{"$f":"IF(AND(DS$36>=1,DS$36<=5,DQ$36=31),\"令和\"&\"元\"&\"年\"&5,IF(AND(DS$36=5,DQ$36=\"元\"),\"令和元年 \"&5,IF(AND(DS$36>=6,DQ$36=\"元\"),\"令和\"&2&\"年\"&5,(IF((AND(DS$36>=1,DS$36<=5)),\"令和\"&DQ$36&\"年\"&5,\"令和\"&DQ$36+1&\"年\"&5)))))","v":"令和1年5"},null,null,null,5,{"$f":"IF(AND(DY$36>=1,DY$36<=5,DW$36=31),\"令和\"&\"元\"&\"年\"&5,IF(AND(DY$36=5,DW$36=\"元\"),\"令和元年 \"&5,IF(AND(DY$36>=6,DW$36=\"元\"),\"令和\"&2&\"年\"&5,(IF((AND(DY$36>=1,DY$36<=5)),\"令和\"&DW$36&\"年\"&5,\"令和\"&DW$36+1&\"年\"&5)))))","v":"令和1年5"},{"$f":"IF(AND(DY$36>=1,DY$36<=5,DW$36=31),\"令和\"&\"元\"&\"年\"&5,IF(AND(DY$36=5,DW$36=\"元\"),\"令和元年 \"&5,IF(AND(DY$36>=6,DW$36=\"元\"),\"令和\"&2&\"年\"&5,(IF((AND(DY$36>=1,DY$36<=5)),\"令和\"&DW$36&\"年\"&5,\"令和\"&DW$36+1&\"年\"&5)))))","v":"令和1年5"},null,null,null,5,{"$f":"IF(AND(EE$36>=1,EE$36<=5,EC$36=31),\"令和\"&\"元\"&\"年\"&5,IF(AND(EE$36=5,EC$36=\"元\"),\"令和元年 \"&5,IF(AND(EE$36>=6,EC$36=\"元\"),\"令和\"&2&\"年\"&5,(IF((AND(EE$36>=1,EE$36<=5)),\"令和\"&EC$36&\"年\"&5,\"令和\"&EC$36+1&\"年\"&5)))))","v":"令和1年5"},{"$f":"IF(AND(EE$36>=1,EE$36<=5,EC$36=31),\"令和\"&\"元\"&\"年\"&5,IF(AND(EE$36=5,EC$36=\"元\"),\"令和元年 \"&5,IF(AND(EE$36>=6,EC$36=\"元\"),\"令和\"&2&\"年\"&5,(IF((AND(EE$36>=1,EE$36<=5)),\"令和\"&EC$36&\"年\"&5,\"令和\"&EC$36+1&\"年\"&5)))))","v":"令和1年5"},null,null,null,5,{"$f":"IF(AND(EK$36>=1,EK$36<=5,EI$36=31),\"令和\"&\"元\"&\"年\"&5,IF(AND(EK$36=5,EI$36=\"元\"),\"令和元年 \"&5,IF(AND(EK$36>=6,EI$36=\"元\"),\"令和\"&2&\"年\"&5,(IF((AND(EK$36>=1,EK$36<=5)),\"令和\"&EI$36&\"年\"&5,\"令和\"&EI$36+1&\"年\"&5)))))","v":"令和1年5"},{"$f":"IF(AND(EK$36>=1,EK$36<=5,EI$36=31),\"令和\"&\"元\"&\"年\"&5,IF(AND(EK$36=5,EI$36=\"元\"),\"令和元年 \"&5,IF(AND(EK$36>=6,EI$36=\"元\"),\"令和\"&2&\"年\"&5,(IF((AND(EK$36>=1,EK$36<=5)),\"令和\"&EI$36&\"年\"&5,\"令和\"&EI$36+1&\"年\"&5)))))","v":"令和1年5"},null,null,null,5,{"$f":"IF(AND(EQ$36>=1,EQ$36<=5,EO$36=31),\"令和\"&\"元\"&\"年\"&5,IF(AND(EQ$36=5,EO$36=\"元\"),\"令和元年 \"&5,IF(AND(EQ$36>=6,EO$36=\"元\"),\"令和\"&2&\"年\"&5,(IF((AND(EQ$36>=1,EQ$36<=5)),\"令和\"&EO$36&\"年\"&5,\"令和\"&EO$36+1&\"年\"&5)))))","v":"令和1年5"},{"$f":"IF(AND(EQ$36>=1,EQ$36<=5,EO$36=31),\"令和\"&\"元\"&\"年\"&5,IF(AND(EQ$36=5,EO$36=\"元\"),\"令和元年 \"&5,IF(AND(EQ$36>=6,EO$36=\"元\"),\"令和\"&2&\"年\"&5,(IF((AND(EQ$36>=1,EQ$36<=5)),\"令和\"&EO$36&\"年\"&5,\"令和\"&EO$36+1&\"年\"&5)))))","v":"令和1年5"},null,null,null,5,{"$f":"IF(AND(EW$36>=1,EW$36<=5,EU$36=31),\"令和\"&\"元\"&\"年\"&5,IF(AND(EW$36=5,EU$36=\"元\"),\"令和元年 \"&5,IF(AND(EW$36>=6,EU$36=\"元\"),\"令和\"&2&\"年\"&5,(IF((AND(EW$36>=1,EW$36<=5)),\"令和\"&EU$36&\"年\"&5,\"令和\"&EU$36+1&\"年\"&5)))))","v":"令和1年5"},{"$f":"IF(AND(EW$36>=1,EW$36<=5,EU$36=31),\"令和\"&\"元\"&\"年\"&5,IF(AND(EW$36=5,EU$36=\"元\"),\"令和元年 \"&5,IF(AND(EW$36>=6,EU$36=\"元\"),\"令和\"&2&\"年\"&5,(IF((AND(EW$36>=1,EW$36<=5)),\"令和\"&EU$36&\"年\"&5,\"令和\"&EU$36+1&\"年\"&5)))))","v":"令和1年5"},null,null,null,5,{"$f":"IF(AND(FC$36>=1,FC$36<=5,FA$36=31),\"令和\"&\"元\"&\"年\"&5,IF(AND(FC$36=5,FA$36=\"元\"),\"令和元年 \"&5,IF(AND(FC$36>=6,FA$36=\"元\"),\"令和\"&2&\"年\"&5,(IF((AND(FC$36>=1,FC$36<=5)),\"令和\"&FA$36&\"年\"&5,\"令和\"&FA$36+1&\"年\"&5)))))","v":"令和1年5"},{"$f":"IF(AND(FC$36>=1,FC$36<=5,FA$36=31),\"令和\"&\"元\"&\"年\"&5,IF(AND(FC$36=5,FA$36=\"元\"),\"令和元年 \"&5,IF(AND(FC$36>=6,FA$36=\"元\"),\"令和\"&2&\"年\"&5,(IF((AND(FC$36>=1,FC$36<=5)),\"令和\"&FA$36&\"年\"&5,\"令和\"&FA$36+1&\"年\"&5)))))","v":"令和1年5"},null,null,null,5,{"$f":"IF(AND(FI$36>=1,FI$36<=5,FG$36=31),\"令和\"&\"元\"&\"年\"&5,IF(AND(FI$36=5,FG$36=\"元\"),\"令和元年 \"&5,IF(AND(FI$36>=6,FG$36=\"元\"),\"令和\"&2&\"年\"&5,(IF((AND(FI$36>=1,FI$36<=5)),\"令和\"&FG$36&\"年\"&5,\"令和\"&FG$36+1&\"年\"&5)))))","v":"令和1年5"},{"$f":"IF(AND(FI$36>=1,FI$36<=5,FG$36=31),\"令和\"&\"元\"&\"年\"&5,IF(AND(FI$36=5,FG$36=\"元\"),\"令和元年 \"&5,IF(AND(FI$36>=6,FG$36=\"元\"),\"令和\"&2&\"年\"&5,(IF((AND(FI$36>=1,FI$36<=5)),\"令和\"&FG$36&\"年\"&5,\"令和\"&FG$36+1&\"年\"&5)))))","v":"令和1年5"},null,null,null,5,{"$f":"IF(AND(FO$36>=1,FO$36<=5,FM$36=31),\"令和\"&\"元\"&\"年\"&5,IF(AND(FO$36=5,FM$36=\"元\"),\"令和元年 \"&5,IF(AND(FO$36>=6,FM$36=\"元\"),\"令和\"&2&\"年\"&5,(IF((AND(FO$36>=1,FO$36<=5)),\"令和\"&FM$36&\"年\"&5,\"令和\"&FM$36+1&\"年\"&5)))))","v":"令和1年5"},{"$f":"IF(AND(FO$36>=1,FO$36<=5,FM$36=31),\"令和\"&\"元\"&\"年\"&5,IF(AND(FO$36=5,FM$36=\"元\"),\"令和元年 \"&5,IF(AND(FO$36>=6,FM$36=\"元\"),\"令和\"&2&\"年\"&5,(IF((AND(FO$36>=1,FO$36<=5)),\"令和\"&FM$36&\"年\"&5,\"令和\"&FM$36+1&\"年\"&5)))))","v":"令和1年5"},null,null,null,5,{"$f":"IF(AND(FU$36>=1,FU$36<=5,FS$36=31),\"令和\"&\"元\"&\"年\"&5,IF(AND(FU$36=5,FS$36=\"元\"),\"令和元年 \"&5,IF(AND(FU$36>=6,FS$36=\"元\"),\"令和\"&2&\"年\"&5,(IF((AND(FU$36>=1,FU$36<=5)),\"令和\"&FS$36&\"年\"&5,\"令和\"&FS$36+1&\"年\"&5)))))","v":"令和1年5"},{"$f":"IF(AND(FU$36>=1,FU$36<=5,FS$36=31),\"令和\"&\"元\"&\"年\"&5,IF(AND(FU$36=5,FS$36=\"元\"),\"令和元年 \"&5,IF(AND(FU$36>=6,FS$36=\"元\"),\"令和\"&2&\"年\"&5,(IF((AND(FU$36>=1,FU$36<=5)),\"令和\"&FS$36&\"年\"&5,\"令和\"&FS$36+1&\"年\"&5)))))","v":"令和1年5"},null,null,null,5,{"$f":"IF(AND(GA$36>=1,GA$36<=5,FY$36=31),\"令和\"&\"元\"&\"年\"&5,IF(AND(GA$36=5,FY$36=\"元\"),\"令和元年 \"&5,IF(AND(GA$36>=6,FY$36=\"元\"),\"令和\"&2&\"年\"&5,(IF((AND(GA$36>=1,GA$36<=5)),\"令和\"&FY$36&\"年\"&5,\"令和\"&FY$36+1&\"年\"&5)))))","v":"令和1年5"},{"$f":"IF(AND(GA$36>=1,GA$36<=5,FY$36=31),\"令和\"&\"元\"&\"年\"&5,IF(AND(GA$36=5,FY$36=\"元\"),\"令和元年 \"&5,IF(AND(GA$36>=6,FY$36=\"元\"),\"令和\"&2&\"年\"&5,(IF((AND(GA$36>=1,GA$36<=5)),\"令和\"&FY$36&\"年\"&5,\"令和\"&FY$36+1&\"年\"&5)))))","v":"令和1年5"},null,null,null,5,{"$f":"IF(AND(GG$36>=1,GG$36<=5,GE$36=31),\"令和\"&\"元\"&\"年\"&5,IF(AND(GG$36=5,GE$36=\"元\"),\"令和元年 \"&5,IF(AND(GG$36>=6,GE$36=\"元\"),\"令和\"&2&\"年\"&5,(IF((AND(GG$36>=1,GG$36<=5)),\"令和\"&GE$36&\"年\"&5,\"令和\"&GE$36+1&\"年\"&5)))))","v":"令和1年5"},{"$f":"IF(AND(GG$36>=1,GG$36<=5,GE$36=31),\"令和\"&\"元\"&\"年\"&5,IF(AND(GG$36=5,GE$36=\"元\"),\"令和元年 \"&5,IF(AND(GG$36>=6,GE$36=\"元\"),\"令和\"&2&\"年\"&5,(IF((AND(GG$36>=1,GG$36<=5)),\"令和\"&GE$36&\"年\"&5,\"令和\"&GE$36+1&\"年\"&5)))))","v":"令和1年5"},null,null,null,5,{"$f":"IF(AND(GM$36>=1,GM$36<=5,GK$36=31),\"令和\"&\"元\"&\"年\"&5,IF(AND(GM$36=5,GK$36=\"元\"),\"令和元年 \"&5,IF(AND(GM$36>=6,GK$36=\"元\"),\"令和\"&2&\"年\"&5,(IF((AND(GM$36>=1,GM$36<=5)),\"令和\"&GK$36&\"年\"&5,\"令和\"&GK$36+1&\"年\"&5)))))","v":"令和1年5"},{"$f":"IF(AND(GM$36>=1,GM$36<=5,GK$36=31),\"令和\"&\"元\"&\"年\"&5,IF(AND(GM$36=5,GK$36=\"元\"),\"令和元年 \"&5,IF(AND(GM$36>=6,GK$36=\"元\"),\"令和\"&2&\"年\"&5,(IF((AND(GM$36>=1,GM$36<=5)),\"令和\"&GK$36&\"年\"&5,\"令和\"&GK$36+1&\"年\"&5)))))","v":"令和1年5"},null,null,null,5,{"$f":"IF(AND(GS$36>=1,GS$36<=5,GQ$36=31),\"令和\"&\"元\"&\"年\"&5,IF(AND(GS$36=5,GQ$36=\"元\"),\"令和元年 \"&5,IF(AND(GS$36>=6,GQ$36=\"元\"),\"令和\"&2&\"年\"&5,(IF((AND(GS$36>=1,GS$36<=5)),\"令和\"&GQ$36&\"年\"&5,\"令和\"&GQ$36+1&\"年\"&5)))))","v":"令和1年5"},{"$f":"IF(AND(GS$36>=1,GS$36<=5,GQ$36=31),\"令和\"&\"元\"&\"年\"&5,IF(AND(GS$36=5,GQ$36=\"元\"),\"令和元年 \"&5,IF(AND(GS$36>=6,GQ$36=\"元\"),\"令和\"&2&\"年\"&5,(IF((AND(GS$36>=1,GS$36<=5)),\"令和\"&GQ$36&\"年\"&5,\"令和\"&GQ$36+1&\"年\"&5)))))","v":"令和1年5"},null,null,null,5,{"$f":"IF(AND(GY$36>=1,GY$36<=5,GW$36=31),\"令和\"&\"元\"&\"年\"&5,IF(AND(GY$36=5,GW$36=\"元\"),\"令和元年 \"&5,IF(AND(GY$36>=6,GW$36=\"元\"),\"令和\"&2&\"年\"&5,(IF((AND(GY$36>=1,GY$36<=5)),\"令和\"&GW$36&\"年\"&5,\"令和\"&GW$36+1&\"年\"&5)))))","v":"令和1年5"},{"$f":"IF(AND(GY$36>=1,GY$36<=5,GW$36=31),\"令和\"&\"元\"&\"年\"&5,IF(AND(GY$36=5,GW$36=\"元\"),\"令和元年 \"&5,IF(AND(GY$36>=6,GW$36=\"元\"),\"令和\"&2&\"年\"&5,(IF((AND(GY$36>=1,GY$36<=5)),\"令和\"&GW$36&\"年\"&5,\"令和\"&GW$36+1&\"年\"&5)))))","v":"令和1年5"},null,null,null,5,{"$f":"IF(AND(HE$36>=1,HE$36<=5,HC$36=31),\"令和\"&\"元\"&\"年\"&5,IF(AND(HE$36=5,HC$36=\"元\"),\"令和元年 \"&5,IF(AND(HE$36>=6,HC$36=\"元\"),\"令和\"&2&\"年\"&5,(IF((AND(HE$36>=1,HE$36<=5)),\"令和\"&HC$36&\"年\"&5,\"令和\"&HC$36+1&\"年\"&5)))))","v":"令和1年5"},{"$f":"IF(AND(HE$36>=1,HE$36<=5,HC$36=31),\"令和\"&\"元\"&\"年\"&5,IF(AND(HE$36=5,HC$36=\"元\"),\"令和元年 \"&5,IF(AND(HE$36>=6,HC$36=\"元\"),\"令和\"&2&\"年\"&5,(IF((AND(HE$36>=1,HE$36<=5)),\"令和\"&HC$36&\"年\"&5,\"令和\"&HC$36+1&\"年\"&5)))))","v":"令和1年5"},null,null,null,5,{"$f":"IF(AND(HK$36>=1,HK$36<=5,HI$36=31),\"令和\"&\"元\"&\"年\"&5,IF(AND(HK$36=5,HI$36=\"元\"),\"令和元年 \"&5,IF(AND(HK$36>=6,HI$36=\"元\"),\"令和\"&2&\"年\"&5,(IF((AND(HK$36>=1,HK$36<=5)),\"令和\"&HI$36&\"年\"&5,\"令和\"&HI$36+1&\"年\"&5)))))","v":"令和1年5"},{"$f":"IF(AND(HK$36>=1,HK$36<=5,HI$36=31),\"令和\"&\"元\"&\"年\"&5,IF(AND(HK$36=5,HI$36=\"元\"),\"令和元年 \"&5,IF(AND(HK$36>=6,HI$36=\"元\"),\"令和\"&2&\"年\"&5,(IF((AND(HK$36>=1,HK$36<=5)),\"令和\"&HI$36&\"年\"&5,\"令和\"&HI$36+1&\"年\"&5)))))","v":"令和1年5"},null,null,null,5,{"$f":"IF(AND(HQ$36>=1,HQ$36<=5,HO$36=31),\"令和\"&\"元\"&\"年\"&5,IF(AND(HQ$36=5,HO$36=\"元\"),\"令和元年 \"&5,IF(AND(HQ$36>=6,HO$36=\"元\"),\"令和\"&2&\"年\"&5,(IF((AND(HQ$36>=1,HQ$36<=5)),\"令和\"&HO$36&\"年\"&5,\"令和\"&HO$36+1&\"年\"&5)))))","v":"令和1年5"},{"$f":"IF(AND(HQ$36>=1,HQ$36<=5,HO$36=31),\"令和\"&\"元\"&\"年\"&5,IF(AND(HQ$36=5,HO$36=\"元\"),\"令和元年 \"&5,IF(AND(HQ$36>=6,HO$36=\"元\"),\"令和\"&2&\"年\"&5,(IF((AND(HQ$36>=1,HQ$36<=5)),\"令和\"&HO$36&\"年\"&5,\"令和\"&HO$36+1&\"年\"&5)))))","v":"令和1年5"},null,null,null,5,{"$f":"IF(AND(HW$36>=1,HW$36<=5,HU$36=31),\"令和\"&\"元\"&\"年\"&5,IF(AND(HW$36=5,HU$36=\"元\"),\"令和元年 \"&5,IF(AND(HW$36>=6,HU$36=\"元\"),\"令和\"&2&\"年\"&5,(IF((AND(HW$36>=1,HW$36<=5)),\"令和\"&HU$36&\"年\"&5,\"令和\"&HU$36+1&\"年\"&5)))))","v":"令和1年5"},{"$f":"IF(AND(HW$36>=1,HW$36<=5,HU$36=31),\"令和\"&\"元\"&\"年\"&5,IF(AND(HW$36=5,HU$36=\"元\"),\"令和元年 \"&5,IF(AND(HW$36>=6,HU$36=\"元\"),\"令和\"&2&\"年\"&5,(IF((AND(HW$36>=1,HW$36<=5)),\"令和\"&HU$36&\"年\"&5,\"令和\"&HU$36+1&\"年\"&5)))))","v":"令和1年5"},null,null,null,5,{"$f":"IF(AND(IC$36>=1,IC$36<=5,IA$36=31),\"令和\"&\"元\"&\"年\"&5,IF(AND(IC$36=5,IA$36=\"元\"),\"令和元年 \"&5,IF(AND(IC$36>=6,IA$36=\"元\"),\"令和\"&2&\"年\"&5,(IF((AND(IC$36>=1,IC$36<=5)),\"令和\"&IA$36&\"年\"&5,\"令和\"&IA$36+1&\"年\"&5)))))","v":"令和1年5"},{"$f":"IF(AND(IC$36>=1,IC$36<=5,IA$36=31),\"令和\"&\"元\"&\"年\"&5,IF(AND(IC$36=5,IA$36=\"元\"),\"令和元年 \"&5,IF(AND(IC$36>=6,IA$36=\"元\"),\"令和\"&2&\"年\"&5,(IF((AND(IC$36>=1,IC$36<=5)),\"令和\"&IA$36&\"年\"&5,\"令和\"&IA$36+1&\"年\"&5)))))","v":"令和1年5"},null,null,null,5,{"$f":"IF(AND(II$36>=1,II$36<=5,IG$36=31),\"令和\"&\"元\"&\"年\"&5,IF(AND(II$36=5,IG$36=\"元\"),\"令和元年 \"&5,IF(AND(II$36>=6,IG$36=\"元\"),\"令和\"&2&\"年\"&5,(IF((AND(II$36>=1,II$36<=5)),\"令和\"&IG$36&\"年\"&5,\"令和\"&IG$36+1&\"年\"&5)))))","v":"令和1年5"},{"$f":"IF(AND(II$36>=1,II$36<=5,IG$36=31),\"令和\"&\"元\"&\"年\"&5,IF(AND(II$36=5,IG$36=\"元\"),\"令和元年 \"&5,IF(AND(II$36>=6,IG$36=\"元\"),\"令和\"&2&\"年\"&5,(IF((AND(II$36>=1,II$36<=5)),\"令和\"&IG$36&\"年\"&5,\"令和\"&IG$36+1&\"年\"&5)))))","v":"令和1年5"}]
[null,{"$f":"IF(AND(EI21<>\"\",EI25<>\"\",EK25<>\"\",EM25<>\"\"),EI17,\"\")","v":""},"平",1,"平1",null,null,{"$f":"IF(AND(I$36>=1,I$36<=5,G41=\"\",J41=\"\",G$36=31),\"令和\"&\"元\"&\"年\"&6,IF(AND(I$36>=1,I$36<=5,G41=\"\",J41=\"\"),\"令和\"&G$36&\"年\"&6,\"\"))","v":""},{"$f":"IF(AND(I$36>=1,I$36<=5,G41=\"\",J41=\"\",G$36=31),\"令和\"&\"元\"&\"年\"&6,IF(AND(I$36>=1,I$36<=5,G41=\"\",J41=\"\"),\"令和\"&G$36&\"年\"&6,\"\"))","v":""},null,null,null,null,{"$f":"IF(AND(O$36>=1,O$36<=5,M41=\"\",P41=\"\",M$36=31),\"令和\"&\"元\"&\"年\"&6,IF(AND(O$36>=1,O$36<=5,M41=\"\",P41=\"\"),\"令和\"&M$36&\"年\"&6,\"\"))","v":""},{"$f":"IF(AND(O$36>=1,O$36<=5,M41=\"\",P41=\"\",M$36=31),\"令和\"&\"元\"&\"年\"&6,IF(AND(O$36>=1,O$36<=5,M41=\"\",P41=\"\"),\"令和\"&M$36&\"年\"&6,\"\"))","v":""},null,null,null,null,{"$f":"IF(AND(U$36>=1,U$36<=5,S41=\"\",V41=\"\",S$36=31),\"令和\"&\"元\"&\"年\"&6,IF(AND(U$36>=1,U$36<=5,S41=\"\",V41=\"\"),\"令和\"&S$36&\"年\"&6,\"\"))","v":""},{"$f":"IF(AND(U$36>=1,U$36<=5,S41=\"\",V41=\"\",S$36=31),\"令和\"&\"元\"&\"年\"&6,IF(AND(U$36>=1,U$36<=5,S41=\"\",V41=\"\"),\"令和\"&S$36&\"年\"&6,\"\"))","v":""},null,null,null,null,{"$f":"IF(AND(AA$36>=1,AA$36<=5,Y41=\"\",AB41=\"\",Y$36=31),\"令和\"&\"元\"&\"年\"&6,IF(AND(AA$36>=1,AA$36<=5,Y41=\"\",AB41=\"\"),\"令和\"&Y$36&\"年\"&6,\"\"))","v":""},{"$f":"IF(AND(AA$36>=1,AA$36<=5,Y41=\"\",AB41=\"\",Y$36=31),\"令和\"&\"元\"&\"年\"&6,IF(AND(AA$36>=1,AA$36<=5,Y41=\"\",AB41=\"\"),\"令和\"&Y$36&\"年\"&6,\"\"))","v":""},null,null,null,null,{"$f":"IF(AND(AG$36>=1,AG$36<=5,AE41=\"\",AH41=\"\",AE$36=31),\"令和\"&\"元\"&\"年\"&6,IF(AND(AG$36>=1,AG$36<=5,AE41=\"\",AH41=\"\"),\"令和\"&AE$36&\"年\"&6,\"\"))","v":""},{"$f":"IF(AND(AG$36>=1,AG$36<=5,AE41=\"\",AH41=\"\",AE$36=31),\"令和\"&\"元\"&\"年\"&6,IF(AND(AG$36>=1,AG$36<=5,AE41=\"\",AH41=\"\"),\"令和\"&AE$36&\"年\"&6,\"\"))","v":""},null,null,null,null,{"$f":"IF(AND(AM$36>=1,AM$36<=5,AK41=\"\",AN41=\"\",AK$36=31),\"令和\"&\"元\"&\"年\"&6,IF(AND(AM$36>=1,AM$36<=5,AK41=\"\",AN41=\"\"),\"令和\"&AK$36&\"年\"&6,\"\"))","v":""},{"$f":"IF(AND(AM$36>=1,AM$36<=5,AK41=\"\",AN41=\"\",AK$36=31),\"令和\"&\"元\"&\"年\"&6,IF(AND(AM$36>=1,AM$36<=5,AK41=\"\",AN41=\"\"),\"令和\"&AK$36&\"年\"&6,\"\"))","v":""},null,null,null,null,{"$f":"IF(AND(AS$36>=1,AS$36<=5,AQ41=\"\",AT41=\"\",AQ$36=31),\"令和\"&\"元\"&\"年\"&6,IF(AND(AS$36>=1,AS$36<=5,AQ41=\"\",AT41=\"\"),\"令和\"&AQ$36&\"年\"&6,\"\"))","v":""},{"$f":"IF(AND(AS$36>=1,AS$36<=5,AQ41=\"\",AT41=\"\",AQ$36=31),\"令和\"&\"元\"&\"年\"&6,IF(AND(AS$36>=1,AS$36<=5,AQ41=\"\",AT41=\"\"),\"令和\"&AQ$36&\"年\"&6,\"\"))","v":""},null,null,null,null,{"$f":"IF(AND(AY$36>=1,AY$36<=5,AW41=\"\",AZ41=\"\",AW$36=31),\"令和\"&\"元\"&\"年\"&6,IF(AND(AY$36>=1,AY$36<=5,AW41=\"\",AZ41=\"\"),\"令和\"&AW$36&\"年\"&6,\"\"))","v":""},{"$f":"IF(AND(AY$36>=1,AY$36<=5,AW41=\"\",AZ41=\"\",AW$36=31),\"令和\"&\"元\"&\"年\"&6,IF(AND(AY$36>=1,AY$36<=5,AW41=\"\",AZ41=\"\"),\"令和\"&AW$36&\"年\"&6,\"\"))","v":""},null,null,null,null,{"$f":"IF(AND(BE$36>=1,BE$36<=5,BC41=\"\",BF41=\"\",BC$36=31),\"令和\"&\"元\"&\"年\"&6,IF(AND(BE$36>=1,BE$36<=5,BC41=\"\",BF41=\"\"),\"令和\"&BC$36&\"年\"&6,\"\"))","v":""},{"$f":"IF(AND(BE$36>=1,BE$36<=5,BC41=\"\",BF41=\"\",BC$36=31),\"令和\"&\"元\"&\"年\"&6,IF(AND(BE$36>=1,BE$36<=5,BC41=\"\",BF41=\"\"),\"令和\"&BC$36&\"年\"&6,\"\"))","v":""},null,null,null,null,{"$f":"IF(AND(BK$36>=1,BK$36<=5,BI41=\"\",BL41=\"\",BI$36=31),\"令和\"&\"元\"&\"年\"&6,IF(AND(BK$36>=1,BK$36<=5,BI41=\"\",BL41=\"\"),\"令和\"&BI$36&\"年\"&6,\"\"))","v":""},{"$f":"IF(AND(BK$36>=1,BK$36<=5,BI41=\"\",BL41=\"\",BI$36=31),\"令和\"&\"元\"&\"年\"&6,IF(AND(BK$36>=1,BK$36<=5,BI41=\"\",BL41=\"\"),\"令和\"&BI$36&\"年\"&6,\"\"))","v":""},null,null,null,null,{"$f":"IF(AND(BQ$36>=1,BQ$36<=5,BO41=\"\",BR41=\"\",BO$36=31),\"令和\"&\"元\"&\"年\"&6,IF(AND(BQ$36>=1,BQ$36<=5,BO41=\"\",BR41=\"\"),\"令和\"&BO$36&\"年\"&6,\"\"))","v":""},{"$f":"IF(AND(BQ$36>=1,BQ$36<=5,BO41=\"\",BR41=\"\",BO$36=31),\"令和\"&\"元\"&\"年\"&6,IF(AND(BQ$36>=1,BQ$36<=5,BO41=\"\",BR41=\"\"),\"令和\"&BO$36&\"年\"&6,\"\"))","v":""},null,null,null,null,{"$f":"IF(AND(BW$36>=1,BW$36<=5,BU41=\"\",BX41=\"\",BU$36=31),\"令和\"&\"元\"&\"年\"&6,IF(AND(BW$36>=1,BW$36<=5,BU41=\"\",BX41=\"\"),\"令和\"&BU$36&\"年\"&6,\"\"))","v":""},{"$f":"IF(AND(BW$36>=1,BW$36<=5,BU41=\"\",BX41=\"\",BU$36=31),\"令和\"&\"元\"&\"年\"&6,IF(AND(BW$36>=1,BW$36<=5,BU41=\"\",BX41=\"\"),\"令和\"&BU$36&\"年\"&6,\"\"))","v":""},null,null,null,null,{"$f":"IF(AND(CC$36>=1,CC$36<=5,CA41=\"\",CD41=\"\",CA$36=31),\"令和\"&\"元\"&\"年\"&6,IF(AND(CC$36>=1,CC$36<=5,CA41=\"\",CD41=\"\"),\"令和\"&CA$36&\"年\"&6,\"\"))","v":""},{"$f":"IF(AND(CC$36>=1,CC$36<=5,CA41=\"\",CD41=\"\",CA$36=31),\"令和\"&\"元\"&\"年\"&6,IF(AND(CC$36>=1,CC$36<=5,CA41=\"\",CD41=\"\"),\"令和\"&CA$36&\"年\"&6,\"\"))","v":""},null,null,null,null,{"$f":"IF(AND(CI$36>=1,CI$36<=5,CG41=\"\",CJ41=\"\",CG$36=31),\"令和\"&\"元\"&\"年\"&6,IF(AND(CI$36>=1,CI$36<=5,CG41=\"\",CJ41=\"\"),\"令和\"&CG$36&\"年\"&6,\"\"))","v":""},{"$f":"IF(AND(CI$36>=1,CI$36<=5,CG41=\"\",CJ41=\"\",CG$36=31),\"令和\"&\"元\"&\"年\"&6,IF(AND(CI$36>=1,CI$36<=5,CG41=\"\",CJ41=\"\"),\"令和\"&CG$36&\"年\"&6,\"\"))","v":""},null,null,null,null,{"$f":"IF(AND(CO$36>=1,CO$36<=5,CM41=\"\",CP41=\"\",CM$36=31),\"令和\"&\"元\"&\"年\"&6,IF(AND(CO$36>=1,CO$36<=5,CM41=\"\",CP41=\"\"),\"令和\"&CM$36&\"年\"&6,\"\"))","v":""},{"$f":"IF(AND(CO$36>=1,CO$36<=5,CM41=\"\",CP41=\"\",CM$36=31),\"令和\"&\"元\"&\"年\"&6,IF(AND(CO$36>=1,CO$36<=5,CM41=\"\",CP41=\"\"),\"令和\"&CM$36&\"年\"&6,\"\"))","v":""},null,null,null,null,{"$f":"IF(AND(CU$36>=1,CU$36<=5,CS41=\"\",CV41=\"\",CS$36=31),\"令和\"&\"元\"&\"年\"&6,IF(AND(CU$36>=1,CU$36<=5,CS41=\"\",CV41=\"\"),\"令和\"&CS$36&\"年\"&6,\"\"))","v":""},{"$f":"IF(AND(CU$36>=1,CU$36<=5,CS41=\"\",CV41=\"\",CS$36=31),\"令和\"&\"元\"&\"年\"&6,IF(AND(CU$36>=1,CU$36<=5,CS41=\"\",CV41=\"\"),\"令和\"&CS$36&\"年\"&6,\"\"))","v":""},null,null,null,null,{"$f":"IF(AND(DA$36>=1,DA$36<=5,CY41=\"\",DB41=\"\",CY$36=31),\"令和\"&\"元\"&\"年\"&6,IF(AND(DA$36>=1,DA$36<=5,CY41=\"\",DB41=\"\"),\"令和\"&CY$36&\"年\"&6,\"\"))","v":""},{"$f":"IF(AND(DA$36>=1,DA$36<=5,CY41=\"\",DB41=\"\",CY$36=31),\"令和\"&\"元\"&\"年\"&6,IF(AND(DA$36>=1,DA$36<=5,CY41=\"\",DB41=\"\"),\"令和\"&CY$36&\"年\"&6,\"\"))","v":""},null,null,null,null,{"$f":"IF(AND(DG$36>=1,DG$36<=5,DE41=\"\",DH41=\"\",DE$36=31),\"令和\"&\"元\"&\"年\"&6,IF(AND(DG$36>=1,DG$36<=5,DE41=\"\",DH41=\"\"),\"令和\"&DE$36&\"年\"&6,\"\"))","v":""},{"$f":"IF(AND(DG$36>=1,DG$36<=5,DE41=\"\",DH41=\"\",DE$36=31),\"令和\"&\"元\"&\"年\"&6,IF(AND(DG$36>=1,DG$36<=5,DE41=\"\",DH41=\"\"),\"令和\"&DE$36&\"年\"&6,\"\"))","v":""},null,null,null,null,{"$f":"IF(AND(DM$36>=1,DM$36<=5,DK41=\"\",DN41=\"\",DK$36=31),\"令和\"&\"元\"&\"年\"&6,IF(AND(DM$36>=1,DM$36<=5,DK41=\"\",DN41=\"\"),\"令和\"&DK$36&\"年\"&6,\"\"))","v":""},{"$f":"IF(AND(DM$36>=1,DM$36<=5,DK41=\"\",DN41=\"\",DK$36=31),\"令和\"&\"元\"&\"年\"&6,IF(AND(DM$36>=1,DM$36<=5,DK41=\"\",DN41=\"\"),\"令和\"&DK$36&\"年\"&6,\"\"))","v":""},null,null,null,null,{"$f":"IF(AND(DS$36>=1,DS$36<=5,DQ41=\"\",DT41=\"\",DQ$36=31),\"令和\"&\"元\"&\"年\"&6,IF(AND(DS$36>=1,DS$36<=5,DQ41=\"\",DT41=\"\"),\"令和\"&DQ$36&\"年\"&6,\"\"))","v":""},{"$f":"IF(AND(DS$36>=1,DS$36<=5,DQ41=\"\",DT41=\"\",DQ$36=31),\"令和\"&\"元\"&\"年\"&6,IF(AND(DS$36>=1,DS$36<=5,DQ41=\"\",DT41=\"\"),\"令和\"&DQ$36&\"年\"&6,\"\"))","v":""},null,null,null,null,{"$f":"IF(AND(DY$36>=1,DY$36<=5,DW41=\"\",DZ41=\"\",DW$36=31),\"令和\"&\"元\"&\"年\"&6,IF(AND(DY$36>=1,DY$36<=5,DW41=\"\",DZ41=\"\"),\"令和\"&DW$36&\"年\"&6,\"\"))","v":""},{"$f":"IF(AND(DY$36>=1,DY$36<=5,DW41=\"\",DZ41=\"\",DW$36=31),\"令和\"&\"元\"&\"年\"&6,IF(AND(DY$36>=1,DY$36<=5,DW41=\"\",DZ41=\"\"),\"令和\"&DW$36&\"年\"&6,\"\"))","v":""},null,null,null,null,{"$f":"IF(AND(EE$36>=1,EE$36<=5,EC41=\"\",EF41=\"\",EC$36=31),\"令和\"&\"元\"&\"年\"&6,IF(AND(EE$36>=1,EE$36<=5,EC41=\"\",EF41=\"\"),\"令和\"&EC$36&\"年\"&6,\"\"))","v":""},{"$f":"IF(AND(EE$36>=1,EE$36<=5,EC41=\"\",EF41=\"\",EC$36=31),\"令和\"&\"元\"&\"年\"&6,IF(AND(EE$36>=1,EE$36<=5,EC41=\"\",EF41=\"\"),\"令和\"&EC$36&\"年\"&6,\"\"))","v":""},null,null,null,null,{"$f":"IF(AND(EK$36>=1,EK$36<=5,EI41=\"\",EL41=\"\",EI$36=31),\"令和\"&\"元\"&\"年\"&6,IF(AND(EK$36>=1,EK$36<=5,EI41=\"\",EL41=\"\"),\"令和\"&EI$36&\"年\"&6,\"\"))","v":""},{"$f":"IF(AND(EK$36>=1,EK$36<=5,EI41=\"\",EL41=\"\",EI$36=31),\"令和\"&\"元\"&\"年\"&6,IF(AND(EK$36>=1,EK$36<=5,EI41=\"\",EL41=\"\"),\"令和\"&EI$36&\"年\"&6,\"\"))","v":""},null,null,null,null,{"$f":"IF(AND(EQ$36>=1,EQ$36<=5,EO41=\"\",ER41=\"\",EO$36=31),\"令和\"&\"元\"&\"年\"&6,IF(AND(EQ$36>=1,EQ$36<=5,EO41=\"\",ER41=\"\"),\"令和\"&EO$36&\"年\"&6,\"\"))","v":""},{"$f":"IF(AND(EQ$36>=1,EQ$36<=5,EO41=\"\",ER41=\"\",EO$36=31),\"令和\"&\"元\"&\"年\"&6,IF(AND(EQ$36>=1,EQ$36<=5,EO41=\"\",ER41=\"\"),\"令和\"&EO$36&\"年\"&6,\"\"))","v":""},null,null,null,null,{"$f":"IF(AND(EW$36>=1,EW$36<=5,EU41=\"\",EX41=\"\",EU$36=31),\"令和\"&\"元\"&\"年\"&6,IF(AND(EW$36>=1,EW$36<=5,EU41=\"\",EX41=\"\"),\"令和\"&EU$36&\"年\"&6,\"\"))","v":""},{"$f":"IF(AND(EW$36>=1,EW$36<=5,EU41=\"\",EX41=\"\",EU$36=31),\"令和\"&\"元\"&\"年\"&6,IF(AND(EW$36>=1,EW$36<=5,EU41=\"\",EX41=\"\"),\"令和\"&EU$36&\"年\"&6,\"\"))","v":""},null,null,null,null,{"$f":"IF(AND(FC$36>=1,FC$36<=5,FA41=\"\",FD41=\"\",FA$36=31),\"令和\"&\"元\"&\"年\"&6,IF(AND(FC$36>=1,FC$36<=5,FA41=\"\",FD41=\"\"),\"令和\"&FA$36&\"年\"&6,\"\"))","v":""},{"$f":"IF(AND(FC$36>=1,FC$36<=5,FA41=\"\",FD41=\"\",FA$36=31),\"令和\"&\"元\"&\"年\"&6,IF(AND(FC$36>=1,FC$36<=5,FA41=\"\",FD41=\"\"),\"令和\"&FA$36&\"年\"&6,\"\"))","v":""},null,null,null,null,{"$f":"IF(AND(FI$36>=1,FI$36<=5,FG41=\"\",FJ41=\"\",FG$36=31),\"令和\"&\"元\"&\"年\"&6,IF(AND(FI$36>=1,FI$36<=5,FG41=\"\",FJ41=\"\"),\"令和\"&FG$36&\"年\"&6,\"\"))","v":""},{"$f":"IF(AND(FI$36>=1,FI$36<=5,FG41=\"\",FJ41=\"\",FG$36=31),\"令和\"&\"元\"&\"年\"&6,IF(AND(FI$36>=1,FI$36<=5,FG41=\"\",FJ41=\"\"),\"令和\"&FG$36&\"年\"&6,\"\"))","v":""},null,null,null,null,{"$f":"IF(AND(FO$36>=1,FO$36<=5,FM41=\"\",FP41=\"\",FM$36=31),\"令和\"&\"元\"&\"年\"&6,IF(AND(FO$36>=1,FO$36<=5,FM41=\"\",FP41=\"\"),\"令和\"&FM$36&\"年\"&6,\"\"))","v":""},{"$f":"IF(AND(FO$36>=1,FO$36<=5,FM41=\"\",FP41=\"\",FM$36=31),\"令和\"&\"元\"&\"年\"&6,IF(AND(FO$36>=1,FO$36<=5,FM41=\"\",FP41=\"\"),\"令和\"&FM$36&\"年\"&6,\"\"))","v":""},null,null,null,null,{"$f":"IF(AND(FU$36>=1,FU$36<=5,FS41=\"\",FV41=\"\",FS$36=31),\"令和\"&\"元\"&\"年\"&6,IF(AND(FU$36>=1,FU$36<=5,FS41=\"\",FV41=\"\"),\"令和\"&FS$36&\"年\"&6,\"\"))","v":""},{"$f":"IF(AND(FU$36>=1,FU$36<=5,FS41=\"\",FV41=\"\",FS$36=31),\"令和\"&\"元\"&\"年\"&6,IF(AND(FU$36>=1,FU$36<=5,FS41=\"\",FV41=\"\"),\"令和\"&FS$36&\"年\"&6,\"\"))","v":""},null,null,null,null,{"$f":"IF(AND(GA$36>=1,GA$36<=5,FY41=\"\",GB41=\"\",FY$36=31),\"令和\"&\"元\"&\"年\"&6,IF(AND(GA$36>=1,GA$36<=5,FY41=\"\",GB41=\"\"),\"令和\"&FY$36&\"年\"&6,\"\"))","v":""},{"$f":"IF(AND(GA$36>=1,GA$36<=5,FY41=\"\",GB41=\"\",FY$36=31),\"令和\"&\"元\"&\"年\"&6,IF(AND(GA$36>=1,GA$36<=5,FY41=\"\",GB41=\"\"),\"令和\"&FY$36&\"年\"&6,\"\"))","v":""},null,null,null,null,{"$f":"IF(AND(GG$36>=1,GG$36<=5,GE41=\"\",GH41=\"\",GE$36=31),\"令和\"&\"元\"&\"年\"&6,IF(AND(GG$36>=1,GG$36<=5,GE41=\"\",GH41=\"\"),\"令和\"&GE$36&\"年\"&6,\"\"))","v":""},{"$f":"IF(AND(GG$36>=1,GG$36<=5,GE41=\"\",GH41=\"\",GE$36=31),\"令和\"&\"元\"&\"年\"&6,IF(AND(GG$36>=1,GG$36<=5,GE41=\"\",GH41=\"\"),\"令和\"&GE$36&\"年\"&6,\"\"))","v":""},null,null,null,null,{"$f":"IF(AND(GM$36>=1,GM$36<=5,GK41=\"\",GN41=\"\",GK$36=31),\"令和\"&\"元\"&\"年\"&6,IF(AND(GM$36>=1,GM$36<=5,GK41=\"\",GN41=\"\"),\"令和\"&GK$36&\"年\"&6,\"\"))","v":""},{"$f":"IF(AND(GM$36>=1,GM$36<=5,GK41=\"\",GN41=\"\",GK$36=31),\"令和\"&\"元\"&\"年\"&6,IF(AND(GM$36>=1,GM$36<=5,GK41=\"\",GN41=\"\"),\"令和\"&GK$36&\"年\"&6,\"\"))","v":""},null,null,null,null,{"$f":"IF(AND(GS$36>=1,GS$36<=5,GQ41=\"\",GT41=\"\",GQ$36=31),\"令和\"&\"元\"&\"年\"&6,IF(AND(GS$36>=1,GS$36<=5,GQ41=\"\",GT41=\"\"),\"令和\"&GQ$36&\"年\"&6,\"\"))","v":""},{"$f":"IF(AND(GS$36>=1,GS$36<=5,GQ41=\"\",GT41=\"\",GQ$36=31),\"令和\"&\"元\"&\"年\"&6,IF(AND(GS$36>=1,GS$36<=5,GQ41=\"\",GT41=\"\"),\"令和\"&GQ$36&\"年\"&6,\"\"))","v":""},null,null,null,null,{"$f":"IF(AND(GY$36>=1,GY$36<=5,GW41=\"\",GZ41=\"\",GW$36=31),\"令和\"&\"元\"&\"年\"&6,IF(AND(GY$36>=1,GY$36<=5,GW41=\"\",GZ41=\"\"),\"令和\"&GW$36&\"年\"&6,\"\"))","v":""},{"$f":"IF(AND(GY$36>=1,GY$36<=5,GW41=\"\",GZ41=\"\",GW$36=31),\"令和\"&\"元\"&\"年\"&6,IF(AND(GY$36>=1,GY$36<=5,GW41=\"\",GZ41=\"\"),\"令和\"&GW$36&\"年\"&6,\"\"))","v":""},null,null,null,null,{"$f":"IF(AND(HE$36>=1,HE$36<=5,HC41=\"\",HF41=\"\",HC$36=31),\"令和\"&\"元\"&\"年\"&6,IF(AND(HE$36>=1,HE$36<=5,HC41=\"\",HF41=\"\"),\"令和\"&HC$36&\"年\"&6,\"\"))","v":""},{"$f":"IF(AND(HE$36>=1,HE$36<=5,HC41=\"\",HF41=\"\",HC$36=31),\"令和\"&\"元\"&\"年\"&6,IF(AND(HE$36>=1,HE$36<=5,HC41=\"\",HF41=\"\"),\"令和\"&HC$36&\"年\"&6,\"\"))","v":""},null,null,null,null,{"$f":"IF(AND(HK$36>=1,HK$36<=5,HI41=\"\",HL41=\"\",HI$36=31),\"令和\"&\"元\"&\"年\"&6,IF(AND(HK$36>=1,HK$36<=5,HI41=\"\",HL41=\"\"),\"令和\"&HI$36&\"年\"&6,\"\"))","v":""},{"$f":"IF(AND(HK$36>=1,HK$36<=5,HI41=\"\",HL41=\"\",HI$36=31),\"令和\"&\"元\"&\"年\"&6,IF(AND(HK$36>=1,HK$36<=5,HI41=\"\",HL41=\"\"),\"令和\"&HI$36&\"年\"&6,\"\"))","v":""},null,null,null,null,{"$f":"IF(AND(HQ$36>=1,HQ$36<=5,HO41=\"\",HR41=\"\",HO$36=31),\"令和\"&\"元\"&\"年\"&6,IF(AND(HQ$36>=1,HQ$36<=5,HO41=\"\",HR41=\"\"),\"令和\"&HO$36&\"年\"&6,\"\"))","v":""},{"$f":"IF(AND(HQ$36>=1,HQ$36<=5,HO41=\"\",HR41=\"\",HO$36=31),\"令和\"&\"元\"&\"年\"&6,IF(AND(HQ$36>=1,HQ$36<=5,HO41=\"\",HR41=\"\"),\"令和\"&HO$36&\"年\"&6,\"\"))","v":""},null,null,null,null,{"$f":"IF(AND(HW$36>=1,HW$36<=5,HU41=\"\",HX41=\"\",HU$36=31),\"令和\"&\"元\"&\"年\"&6,IF(AND(HW$36>=1,HW$36<=5,HU41=\"\",HX41=\"\"),\"令和\"&HU$36&\"年\"&6,\"\"))","v":""},{"$f":"IF(AND(HW$36>=1,HW$36<=5,HU41=\"\",HX41=\"\",HU$36=31),\"令和\"&\"元\"&\"年\"&6,IF(AND(HW$36>=1,HW$36<=5,HU41=\"\",HX41=\"\"),\"令和\"&HU$36&\"年\"&6,\"\"))","v":""},null,null,null,null,{"$f":"IF(AND(IC$36>=1,IC$36<=5,IA41=\"\",ID41=\"\",IA$36=31),\"令和\"&\"元\"&\"年\"&6,IF(AND(IC$36>=1,IC$36<=5,IA41=\"\",ID41=\"\"),\"令和\"&IA$36&\"年\"&6,\"\"))","v":""},{"$f":"IF(AND(IC$36>=1,IC$36<=5,IA41=\"\",ID41=\"\",IA$36=31),\"令和\"&\"元\"&\"年\"&6,IF(AND(IC$36>=1,IC$36<=5,IA41=\"\",ID41=\"\"),\"令和\"&IA$36&\"年\"&6,\"\"))","v":""},null,null,null,null,{"$f":"IF(AND(II$36>=1,II$36<=5,IG41=\"\",IJ41=\"\",IG$36=31),\"令和\"&\"元\"&\"年\"&6,IF(AND(II$36>=1,II$36<=5,IG41=\"\",IJ41=\"\"),\"令和\"&IG$36&\"年\"&6,\"\"))","v":""},{"$f":"IF(AND(II$36>=1,II$36<=5,IG41=\"\",IJ41=\"\",IG$36=31),\"令和\"&\"元\"&\"年\"&6,IF(AND(II$36>=1,II$36<=5,IG41=\"\",IJ41=\"\"),\"令和\"&IG$36&\"年\"&6,\"\"))","v":""}]
[null,{"$f":"IF(AND(EO21<>\"\",EO25<>\"\",EQ25<>\"\",ES25<>\"\"),EO17,\"\")","v":""},"昭",64,"昭64"]
[null,{"$f":"IF(AND(EU21<>\"\",EU25<>\"\",EW25<>\"\",EY25<>\"\"),EU17,\"\")","v":""},"昭",63,"昭63",null,"異動年月日テーブル"]
[null,{"$f":"IF(AND(FA21<>\"\",FA25<>\"\",FC25<>\"\",FE25<>\"\"),FA17,\"\")","v":""},"昭",62,"昭62",null,"令和",null,6]
[null,{"$f":"IF(AND(FG21<>\"\",FG25<>\"\",FI25<>\"\",FK25<>\"\"),FG17,\"\")","v":""},"昭",61,"昭61",null,"令和",null,7]
[null,{"$f":"IF(AND(FM21<>\"\",FM25<>\"\",FO25<>\"\",FQ25<>\"\"),FM17,\"\")","v":""},"昭",60,"昭60",null,"令和"]
[null,{"$f":"IF(AND(FS21<>\"\",FS25<>\"\",FU25<>\"\",FW25<>\"\"),FS17,\"\")","v":""},"昭",59,"昭59"]
[null,{"$f":"IF(AND(FY21<>\"\",FY25<>\"\",GA25<>\"\",GC25<>\"\"),FY17,\"\")","v":""},"昭",58,"昭58"]
[null,{"$f":"IF(AND(GE21<>\"\",GE25<>\"\",GG25<>\"\",GI25<>\"\"),GE17,\"\")","v":""},"昭",57,"昭57"]
[null,{"$f":"IF(AND(GK21<>\"\",GK25<>\"\",GM25<>\"\",GO25<>\"\"),GK17,\"\")","v":""},"昭",56,"昭56"]
[null,{"$f":"IF(AND(GQ21<>\"\",GQ25<>\"\",GS25<>\"\",GU25<>\"\"),GQ17,\"\")","v":""},"昭",55,"昭55"]
[null,{"$f":"IF(AND(GW21<>\"\",GW25<>\"\",GY25<>\"\",HA25<>\"\"),GW17,\"\")","v":""},"昭",54,"昭54"]
[null,{"$f":"IF(AND(HC21<>\"\",HC25<>\"\",HE25<>\"\",HG25<>\"\"),HC17,\"\")","v":""},"昭",53,"昭53"]
[null,{"$f":"IF(AND(HI21<>\"\",HI25<>\"\",HK25<>\"\",HM25<>\"\"),HI17,\"\")","v":""},"昭",52,"昭52"]
[null,{"$f":"IF(AND(HO21<>\"\",HO25<>\"\",HQ25<>\"\",HS25<>\"\"),HO17,\"\")","v":""},"昭",51,"昭51"]
[null,{"$f":"IF(AND(HU21<>\"\",HU25<>\"\",HW25<>\"\",HY25<>\"\"),HU17,\"\")","v":""},"昭",50,"昭50"]
[null,{"$f":"IF(AND(IA21<>\"\",IA25<>\"\",IC25<>\"\",IE25<>\"\"),IA17,\"\")","v":""},"昭",49,"昭49"]
[null,{"$f":"IF(AND(IG21<>\"\",IG25<>\"\",II25<>\"\",IK25<>\"\"),IG17,\"\")","v":""},"昭",48,"昭48"]
[null,null,"昭",47,"昭47"]
[null,null,"昭",46,"昭46"]
[null,null,"昭",45,"昭45"]
[null,null,"昭",44,"昭44"]
[null,null,"昭",43,"昭43"]
[null,null,"昭",42,"昭42"]
[null,null,"昭",41,"昭41"]
[null,null,"昭",40,"昭40"]
[null,null,"昭",39,"昭39"]
[null,null,"昭",38,"昭38"]
[null,null,"昭",37,"昭37"]
[null,null,"昭",36,"昭36"]
[null,null,"昭",35,"昭35"]
[null,null,"昭",34,"昭34"]
[null,null,"昭",33,"昭33"]
[null,null,"昭",32,"昭32"]
[null,null,"昭",31,"昭31"]
[null,null,"昭",30,"昭30"]
[null,null,"昭",29,"昭29"]
[null,null,"昭",28,"昭28"]
[null,null,"昭",27,"昭27"]
[null,null,"昭",26,"昭26"]
[null,null,"昭",25,"昭25"]
[null,null,"昭",24,"昭24"]
[null,null,"昭",23,"昭23"]
[null,null,"昭",22,"昭22"]
[null,null,"昭",21,"昭21"]
[]
[null,null,"提出年月日テーブル"]
[null,null,"令和",null,6]
[null,null,"令和",null,7]

{"sheet":"異動届出書（印刷用）","index":1,"n_rows":113,"n_cols":270,"rows_kept":113,"cut":false,"hidden":false,"merged":[[6,0,6,11],[23,41,25,47],[50,196,53,198],[45,199,56,213],[50,230,53,232],[57,234,58,253],[45,233,56,253],[68,226,70,232],[68,243,70,253],[28,226,33,253],[33,180,37,182],[33,183,37,215],[34,64,37,87],[14,7,117,8],[14,9,117,10],[14,11,117,12],[14,15,117,16],[34,113,37,117],[34,118,37,122],[34,123,37,127],[34,128,37,132],[43,130,44,169],[41,186,44,220],[27,28,29,37],[14,189,17,212],[14,213,17,253],[23,21,25,40],[27,21,29,27],[32,28,34,37],[32,38,34,40],[32,42,34,51],[32,52,34,54],[34,103,37,107],[34,133,37,137],[27,38,29,40],[14,255,115,257],[18,57,37,60],[18,61,37,63],[18,64,26,66],[18,67,20,69],[18,226,23,253],[21,67,26,175],[22,180,27,182],[22,183,27,215],[24,220,27,225],[24,226,27,253],[18,101,20,175],[18,176,37,179],[18,180,21,182],[18,183,21,215],[18,220,23,225],[28,220,33,225],[34,98,37,102],[27,64,33,66],[27,67,33,175],[28,180,32,182],[48,170,52,176],[45,49,46,64],[49,104,52,109],[2,0,2,18],[6,26,6,66],[71,193,72,253],[73,193,74,253],[65,193,66,253],[74,173,78,177],[74,178,78,182],[74,183,78,187],[74,188,78,192],[74,29,80,31],[74,123,80,127],[74,128,78,132],[74,133,78,137],[74,138,78,142],[65,160,69,192],[68,123,73,153],[70,157,73,159],[65,29,73,31],[65,32,67,34],[65,66,67,122],[11,248,13,253],[13,0,13,1],[13,7,13,8],[13,11,13,12],[45,186,48,196],[45,160,47,169],[34,220,37,225],[49,222,54,228],[34,226,37,253],[32,216,37,219],[34,108,37,112],[65,123,67,153],[65,154,73,156],[51,110,52,129],[38,110,39,129],[68,32,73,122],[45,140,47,149],[45,150,47,159],[49,80,52,85],[49,86,52,91],[49,92,52,97],[49,98,52,103],[45,65,48,76],[45,77,48,79],[45,80,48,91],[45,92,48,94],[45,95,48,106],[45,107,48,109],[6,12,6,16],[6,17,6,25],[38,130,39,149],[19,70,20,80],[19,81,20,82],[19,83,20,100],[34,143,37,147],[34,148,37,152],[34,153,37,175],[38,84,44,87],[40,110,50,129],[38,32,40,83],[45,45,48,48],[49,68,52,73],[13,17,13,18],[14,17,117,18],[14,64,16,92],[41,88,44,109],[47,49,48,64],[49,23,52,37],[99,23,102,27],[99,28,102,32],[34,138,37,142],[38,23,40,31],[35,49,37,55],[45,35,48,44],[11,0,11,18],[11,64,13,92],[11,95,16,164],[53,26,56,31],[53,32,56,109],[11,45,12,62],[13,45,14,62],[15,45,16,62],[49,74,52,79],[45,32,48,34],[41,32,44,83],[65,20,80,28],[70,160,73,168],[67,204,67,225],[68,204,70,225],[18,216,21,219],[22,216,27,219],[28,216,31,219],[38,150,39,169],[38,170,44,185],[40,150,42,169],[48,150,50,159],[48,160,50,169],[34,88,37,92],[34,93,37,97],[40,130,42,149],[48,130,50,139],[48,140,50,149],[45,130,47,139],[28,183,32,215],[38,88,40,109],[38,186,40,220],[45,221,48,231],[49,187,54,194],[41,23,44,31],[57,195,60,219],[56,176,59,177],[70,171,73,180],[55,171,59,175],[49,38,52,43],[49,44,52,49],[49,50,52,55],[49,56,52,61],[49,62,52,67],[48,177,52,182],[48,183,52,185],[67,193,70,203],[70,169,73,170],[57,32,60,109],[62,20,64,253],[38,20,60,22],[38,222,44,253],[45,23,48,31],[53,23,60,25],[55,179,59,183],[56,184,59,185],[68,233,70,242],[70,183,73,192],[57,26,60,31],[53,110,60,129],[51,130,52,149],[53,130,60,149],[51,150,52,169],[53,150,60,169],[77,32,80,122],[79,128,80,192],[74,143,78,147],[74,148,78,152],[74,153,78,157],[74,158,78,162],[74,163,78,167],[74,168,78,172],[57,186,60,194],[66,35,67,45],[66,46,67,47],[66,48,67,65],[108,137,108,175],[80,193,80,212],[78,213,80,220],[78,221,80,231],[75,193,77,212],[74,40,76,122],[74,32,76,39],[78,193,79,212],[65,157,69,159],[108,176,108,214],[108,215,108,253],[75,213,77,253],[78,232,80,253],[70,181,73,182],[101,245,102,253],[102,172,105,175],[102,188,105,191],[103,227,106,244],[99,34,103,139],[94,20,96,139],[95,153,106,157],[95,158,100,170],[95,177,100,186],[95,193,100,226],[82,20,84,253],[85,33,92,110],[85,111,92,126],[85,127,86,158],[103,245,106,253],[105,20,107,47],[87,127,92,158],[87,190,90,200],[95,245,96,253],[96,172,99,175],[96,188,99,191],[97,20,98,32],[97,34,98,139],[97,227,100,244],[86,159,92,189],[86,201,92,253],[95,227,96,244],[101,158,106,170],[101,177,106,186],[101,193,106,226],[101,227,102,244],[97,245,100,253],[113,20,115,58],[113,59,115,97],[113,98,115,136],[113,137,115,175],[113,176,115,214],[113,215,115,253],[88,28,92,32],[85,20,87,32],[112,215,112,253],[109,20,111,58],[109,59,111,97],[88,23,91,27],[108,20,108,58],[108,59,108,97],[108,98,108,136],[112,20,112,58],[109,137,111,175],[112,59,112,97],[112,98,112,136],[112,137,112,175],[112,176,112,214],[109,98,111,136],[109,176,111,214],[109,215,111,253]]}
["給与所得者異動届出書(印刷用)"]
[]
["印刷方法"]
["印刷する対象者について、、「異動届出書(印刷用)」シートの入力番号欄に「入力用」シートの「入力番号」を入力いただくと該当者が表示されます。"]
["記載内容に誤りがないかご確認のうえ、片面印刷で印刷して、１枚提出してください。"]
[]
["入力番号",null,null,null,null,null,null,null,null,null,null,null,1,null,null,null,null,"氏名",null,null,null,null,null,null,null,null,{"$f":"IF(IF(M7<>\"\",HLOOKUP($M$7,入力用!$G$17:$IL$73,5,FALSE),\"\")=0,\"\",IF(M7<>\"\",HLOOKUP($M$7,入力用!$G$17:$IL$73,5,FALSE),\"\"))","v":""},null,null,null,null,null,null,null,null,null,null,null,null,null,null,null,null,null,null,null,null,null,null,null,null,null,null,null,null,null,null,null,null,null,null,null,null,null,null,null,null,"（入力番号の入力がなければ、入力「シート」の内容が反映されません。）"]
[null,null,null,null,null,null,null,null,null,null,null,null,1,null,2,3,4,5,6,7,8,9,10,11,12,13,14,15,16,17,18,19,20,21,22,23,24,25,26,27,28,29,30,31,32,33,34,35,36,37,38,39,40]
[null,null,null,null,null,null,null,null,null,null,null,null,{"$f":"IF(HLOOKUP(M8,入力用!$G$17:$IL$73,5,FALSE)=0,\"\",M8)","v":""},null,{"$f":"IF(HLOOKUP(O8,入力用!$G$17:$IL$73,5,FALSE)=0,\"\",O8)","v":""},{"$f":"IF(HLOOKUP(P8,入力用!$G$17:$IL$73,5,FALSE)=0,\"\",P8)","v":""},{"$f":"IF(HLOOKUP(Q8,入力用!$G$17:$IL$73,5,FALSE)=0,\"\",Q8)","v":""},{"$f":"IF(HLOOKUP(R8,入力用!$G$17:$IL$73,5,FALSE)=0,\"\",R8)","v":""},{"$f":"IF(HLOOKUP(S8,入力用!$G$17:$IL$73,5,FALSE)=0,\"\",S8)","v":""},{"$f":"IF(HLOOKUP(T8,入力用!$G$17:$IL$73,5,FALSE)=0,\"\",T8)","v":""},{"$f":"IF(HLOOKUP(U8,入力用!$G$17:$IL$73,5,FALSE)=0,\"\",U8)","v":""},{"$f":"IF(HLOOKUP(V8,入力用!$G$17:$IL$73,5,FALSE)=0,\"\",V8)","v":""},{"$f":"IF(HLOOKUP(W8,入力用!$G$17:$IL$73,5,FALSE)=0,\"\",W8)","v":""},{"$f":"IF(HLOOKUP(X8,入力用!$G$17:$IL$73,5,FALSE)=0,\"\",X8)","v":""},{"$f":"IF(HLOOKUP(Y8,入力用!$G$17:$IL$73,5,FALSE)=0,\"\",Y8)","v":""},{"$f":"IF(HLOOKUP(Z8,入力用!$G$17:$IL$73,5,FALSE)=0,\"\",Z8)","v":""},{"$f":"IF(HLOOKUP(AA8,入力用!$G$17:$IL$73,5,FALSE)=0,\"\",AA8)","v":""},{"$f":"IF(HLOOKUP(AB8,入力用!$G$17:$IL$73,5,FALSE)=0,\"\",AB8)","v":""},{"$f":"IF(HLOOKUP(AC8,入力用!$G$17:$IL$73,5,FALSE)=0,\"\",AC8)","v":""},{"$f":"IF(HLOOKUP(AD8,入力用!$G$17:$IL$73,5,FALSE)=0,\"\",AD8)","v":""},{"$f":"IF(HLOOKUP(AE8,入力用!$G$17:$IL$73,5,FALSE)=0,\"\",AE8)","v":""},{"$f":"IF(HLOOKUP(AF8,入力用!$G$17:$IL$73,5,FALSE)=0,\"\",AF8)","v":""},{"$f":"IF(HLOOKUP(AG8,入力用!$G$17:$IL$73,5,FALSE)=0,\"\",AG8)","v":""},{"$f":"IF(HLOOKUP(AH8,入力用!$G$17:$IL$73,5,FALSE)=0,\"\",AH8)","v":""},{"$f":"IF(HLOOKUP(AI8,入力用!$G$17:$IL$73,5,FALSE)=0,\"\",AI8)","v":""},{"$f":"IF(HLOOKUP(AJ8,入力用!$G$17:$IL$73,5,FALSE)=0,\"\",AJ8)","v":""},{"$f":"IF(HLOOKUP(AK8,入力用!$G$17:$IL$73,5,FALSE)=0,\"\",AK8)","v":""},{"$f":"IF(HLOOKUP(AL8,入力用!$G$17:$IL$73,5,FALSE)=0,\"\",AL8)","v":""},{"$f":"IF(HLOOKUP(AM8,入力用!$G$17:$IL$73,5,FALSE)=0,\"\",AM8)","v":""},{"$f":"IF(HLOOKUP(AN8,入力用!$G$17:$IL$73,5,FALSE)=0,\"\",AN8)","v":""},{"$f":"IF(HLOOKUP(AO8,入力用!$G$17:$IL$73,5,FALSE)=0,\"\",AO8)","v":""},{"$f":"IF(HLOOKUP(AP8,入力用!$G$17:$IL$73,5,FALSE)=0,\"\",AP8)","v":""},{"$f":"IF(HLOOKUP(AQ8,入力用!$G$17:$IL$73,5,FALSE)=0,\"\",AQ8)","v":""},{"$f":"IF(HLOOKUP(AR8,入力用!$G$17:$IL$73,5,FALSE)=0,\"\",AR8)","v":""},{"$f":"IF(HLOOKUP(AS8,入力用!$G$17:$IL$73,5,FALSE)=0,\"\",AS8)","v":""},{"$f":"IF(HLOOKUP(AT8,入力用!$G$17:$IL$73,5,FALSE)=0,\"\",AT8)","v":""},{"$f":"IF(HLOOKUP(AU8,入力用!$G$17:$IL$73,5,FALSE)=0,\"\",AU8)","v":""},{"$f":"IF(HLOOKUP(AV8,入力用!$G$17:$IL$73,5,FALSE)=0,\"\",AV8)","v":""},{"$f":"IF(HLOOKUP(AW8,入力用!$G$17:$IL$73,5,FALSE)=0,\"\",AW8)","v":""},{"$f":"IF(HLOOKUP(AX8,入力用!$G$17:$IL$73,5,FALSE)=0,\"\",AX8)","v":""},{"$f":"IF(HLOOKUP(AY8,入力用!$G$17:$IL$73,5,FALSE)=0,\"\",AY8)","v":""},{"$f":"IF(HLOOKUP(AZ8,入力用!$G$17:$IL$73,5,FALSE)=0,\"\",AZ8)","v":""},{"$f":"IF(HLOOKUP(BA8,入力用!$G$17:$IL$73,5,FALSE)=0,\"\",BA8)","v":""}]
[]
[]
["注意事項等",null,null,null,null,null,null,null,null,null,null,null,null,null,null,null,null,null,null,null,null,null,null,null,null,null,null,null,null,null,null,null,null,null,null,null,null,null,null,null,null,null,null,null,null,null,null,null,null,null,null,null,null,null,null,null,null,null,null,null,null,null,null,null,"給与支払報告",null,null,null,null,null,null,null,null,null,null,null,null,null,null,null,null,null,null,null,null,null,null,null,null,null,null,null,null,null,null,"に係る給与所得者異動届出書"]
[]
[null,null,null,null,null,null,null,3,null,null,null,2,null,null,null,null,null,1]
[null,null,null,null,null,null,null,"給与所得者本人が国外に出国されるなどの場合は、納税管理人の届出が必要となります。詳しくは、市町村へお問い合わせください。",null,null,null,"機械読み取りを行う場合がありますので、太枠内へ記入してください。訂正する場合は二重線で抹消してください。",null,null,null,"した場合にご提出いただく用紙です。提出期限は、該当の従業員等の異動があった月の翌月10日までです。従業員等の住所変更のみの場合は、提出不要です。",null,"本書は、特別徴収の(個人の市町村民税・道府県民税（住民税）・森林環境税（国税）を給与差引している又は特別徴収の給与支払報告書を提出した)従業員等が、異動（退職・転勤等）",null,null,null,null,null,null,null,null,null,null,null,null,null,null,null,null,null,null,null,null,null,null,null,null,null,null,null,null,null,null,null,null,null,null,null,null,null,null,null,null,null,null,null,null,null,null,"特　別　徴　収",null,null,null,null,null,null,null,null,null,null,null,null,null,null,null,null,null,null,null,null,null,null,null,null,null,null,null,null,null,null,null,null,null,null,null,null,null,null,null,null,null,null,null,null,null,null,null,null,null,null,null,null,null,null,null,null,null,null,null,null,null,null,null,null,null,null,null,null,null,null,null,null,null,null,null,null,null,null,null,null,null,null,null,null,null,null,null,null,null,null,null,null,null,null,null,null,null,null,null,null,null,null,null,null,null,null,null,null,null,null,null,null,null,null,null,null,null,null,null,null,null,null,null,null,"整理番号",null,null,null,null,null,null,null,null,null,null,null,null,null,null,null,null,null,null,null,null,null,null,null,null,null,null,null,null,null,null,null,null,null,null,null,null,null,null,null,null,null,null,null,null,null,null,null,null,null,null,null,null,null,null,null,null,null,null,null,null,null,null,null,null,null,"\n　　　特別徴収指定番号及び宛名番号は、特別徴収税額決定・変更通知書（特別徴収義務者用）をご確認ください。"]
[]
[]
[]
[null,null,null,null,null,null,null,null,null,null,null,null,null,null,null,null,null,null,null,null,null,null,null,null,null,null,null,null,null,null,null,null,null,null,null,null,null,null,null,null,null,null,null,null,null,null,null,null,null,null,null,null,null,null,null,null,null,"給　与　支　払　者",null,null,null,"(特別徴収義務者)",null,null,"所　在　地",null,null,"〒",null,null,null,null,null,null,null,null,null,null,null,null,null,null,null,null,null,null,null,null,null,null,null,null,null,null,null,null,null,null,null,null,null,null,null,null,null,null,null,null,null,null,null,null,null,null,null,null,null,null,null,null,null,null,null,null,null,null,null,null,null,null,null,null,null,null,null,null,null,null,null,null,null,null,null,null,null,null,null,null,null,null,null,null,null,null,null,null,null,null,null,null,null,null,null,null,null,null,null,null,null,null,null,null,null,null,null,null,"担当者",null,null,null,"課係",null,null,{"$f":"IF(入力用!$G$15<>\"\",入力用!$G$15,\"\")","v":""},null,null,null,null,null,null,null,null,null,null,null,null,null,null,null,null,null,null,null,null,null,null,null,null,null,null,null,null,null,null,null,null,{"$f":"IF($HI$29<>\"\",$HI$29-1,\"\")","v":""},null,null,null,"特別徴収\n指定番号",null,null,null,null,null,{"$f":"HS29","v":""}]
[null,null,null,null,null,null,null,null,null,null,null,null,null,null,null,null,null,null,null,null,null,null,null,null,null,null,null,null,null,null,null,null,null,null,null,null,null,null,null,null,null,null,null,null,null,null,null,null,null,null,null,null,null,null,null,null,null,null,null,null,null,null,null,null,null,null,null,null,null,null,{"$f":"IF(入力用!$G$10<>\"\",入力用!$G$10&入力用!$H$10&入力用!$I$10,\"\")","v":""},null,null,null,null,null,null,null,null,null,null,"-",null,{"$f":"IF(入力用!$K$10<>\"\",入力用!$K$10&入力用!$L$10&入力用!$M$10&入力用!$N$10,\"\")","v":""}]
[]
[null,null,null,null,null,null,null,null,null,null,null,null,null,null,null,null,null,null,null,null,null,null,null,null,null,null,null,null,null,null,null,null,null,null,null,null,null,null,null,null,null,null,null,null,null,null,null,null,null,null,null,null,null,null,null,null,null,null,null,null,null,null,null,null,null,null,null,{"$f":"IF(入力用!$G$12<>\"\",入力用!$G$12,\"\")","v":""}]
[null,null,null,null,null,null,null,null,null,null,null,null,null,null,null,null,null,null,null,null,null,null,null,null,null,null,null,null,null,null,null,null,null,null,null,null,null,null,null,null,null,null,null,null,null,null,null,null,null,null,null,null,null,null,null,null,null,null,null,null,null,null,null,null,null,null,null,null,null,null,null,null,null,null,null,null,null,null,null,null,null,null,null,null,null,null,null,null,null,null,null,null,null,null,null,null,null,null,null,null,null,null,null,null,null,null,null,null,null,null,null,null,null,null,null,null,null,null,null,null,null,null,null,null,null,null,null,null,null,null,null,null,null,null,null,null,null,null,null,null,null,null,null,null,null,null,null,null,null,null,null,null,null,null,null,null,null,null,null,null,null,null,null,null,null,null,null,null,null,null,null,null,null,null,null,null,null,null,null,null,"氏　名",null,null,{"$f":"IF(入力用!$M$15<>\"\",入力用!$M$15,\"\")","v":""},null,null,null,null,null,null,null,null,null,null,null,null,null,null,null,null,null,null,null,null,null,null,null,null,null,null,null,null,null,null,null,null,"年度"]
[null,null,null,null,null,null,null,null,null,null,null,null,null,null,null,null,null,null,null,null,null,{"$f":"IF($M$7<>\"\",HLOOKUP(TEXT($M$7&1,\"#,##0\")*1,入力用!$B$18:$IL$73,10,FALSE),\"\")","v":"大阪市"},null,null,null,null,null,null,null,null,null,null,null,null,null,null,null,null,null,null,null,"長"]
[null,null,null,null,null,null,null,null,null,null,null,null,null,null,null,null,null,null,null,null,null,null,null,null,null,null,null,null,null,null,null,null,null,null,null,null,null,null,null,null,null,null,null,null,null,null,null,null,null,null,null,null,null,null,null,null,null,null,null,null,null,null,null,null,null,null,null,null,null,null,null,null,null,null,null,null,null,null,null,null,null,null,null,null,null,null,null,null,null,null,null,null,null,null,null,null,null,null,null,null,null,null,null,null,null,null,null,null,null,null,null,null,null,null,null,null,null,null,null,null,null,null,null,null,null,null,null,null,null,null,null,null,null,null,null,null,null,null,null,null,null,null,null,null,null,null,null,null,null,null,null,null,null,null,null,null,null,null,null,null,null,null,null,null,null,null,null,null,null,null,null,null,null,null,null,null,null,null,null,null,null,null,null,null,null,null,null,null,null,null,null,null,null,null,null,null,null,null,null,null,null,null,null,null,null,null,null,null,null,null,null,null,null,null,null,null,null,null,null,null,"宛名\n番号",null,null,null,null,null,{"$f":"HS35","v":""}]
[]
[]
[null,null,null,null,null,null,null,null,null,null,null,null,null,null,null,null,null,null,null,null,null,"令和",null,null,null,null,null,null,{"$f":"IF(入力用!$G$8<>\"\",入力用!$G$8,\"\")","v":""},null,null,null,null,null,null,null,null,null,"年",null,null,null,null,null,null,null,null,null,null,null,null,null,null,null,null,null,null,null,null,null,null,null,null,null,"名　称",null,null,{"$f":"IF(入力用!$G$11<>\"\",入力用!$G$11,\"\")","v":""}]
[null,null,null,null,null,null,null,null,null,null,null,null,null,null,null,null,null,null,null,null,null,null,null,null,null,null,null,null,null,null,null,null,null,null,null,null,null,null,null,null,null,null,null,null,null,null,null,null,null,null,null,null,null,null,null,null,null,null,null,null,null,null,null,null,null,null,null,null,null,null,null,null,null,null,null,null,null,null,null,null,null,null,null,null,null,null,null,null,null,null,null,null,null,null,null,null,null,null,null,null,null,null,null,null,null,null,null,null,null,null,null,null,null,null,null,null,null,null,null,null,null,null,null,null,null,null,null,null,null,null,null,null,null,null,null,null,null,null,null,null,null,null,null,null,null,null,null,null,null,null,null,null,null,null,null,null,null,null,null,null,null,null,null,null,null,null,null,null,null,null,null,null,null,null,null,null,null,null,null,null,"電話番号",null,null,{"$f":"IF(入力用!$S$15<>\"\",入力用!$S$15,\"\")&IF(入力用!$S$15<>\"\",\"-\",\"\")&IF(入力用!$V$15<>\"\",入力用!$V$15,\"\")&IF(入力用!$S$15<>\"\",\"-\",\"\")&IF(入力用!$Y$15<>\"\",入力用!$Y$15,\"\")","v":""},null,null,null,null,null,null,null,null,null,null,null,null,null,null,null,null,null,null,null,null,null,null,null,null,null,null,null,null,null,null,null,null,{"$f":"IF($FV$49<>\"\",$FV$49,\"\")","v":""},null,null,null,"特別徴収\n指定番号",null,null,null,null,null,{"$f":"IF(OR(入力用!$G$9<>\"\",入力用!$H$9<>\"\",入力用!$I$9<>\"\",入力用!$J$9<>\"\",入力用!$K$9<>\"\",入力用!$L$9<>\"\"),入力用!$G$9&入力用!$H$9&入力用!$I$9&入力用!$J$9&入力用!$K$9&入力用!$L$9,\"\")","v":""}]
[]
[]
[]
[null,null,null,null,null,null,null,null,null,null,null,null,null,null,null,null,null,null,null,null,null,null,null,null,null,null,null,null,{"$f":"IF(入力用!$I$8<>\"\",入力用!$I$8,\"\")","v":""},null,null,null,null,null,null,null,null,null,"月",null,null,null,{"$f":"IF(入力用!$K$8<>\"\",入力用!$K$8,\"\")","v":""},null,null,null,null,null,null,null,null,null,"日",null,null,null,null,null,null,null,null,null,null,null,null,null,null,null,null,null,null,null,null,null,null,null,null,null,null,null,null,null,null,null,null,null,null,null,null,null,null,null,null,null,null,null,null,null,null,null,null,null,null,null,null,null,null,null,null,null,null,null,null,null,null,null,null,null,null,null,null,null,null,null,null,null,null,null,null,null,null,null,null,null,null,null,null,null,null,null,null,null,null,null,null,null,null,null,null,null,null,null,null,null,null,null,null,null,null,null,null,null,null,null,null,null,null,null,null,null,null,null,null,null,null,null,null,null,null,null,null,null,null,null,null,null,null,null,null,null,null,null,null,null,null,null,null,null,null,null,null,null,null,null,null,null,null,null,null,null,null,null,null,null,null,null,"年度"]
[null,null,null,null,null,null,null,null,null,null,null,null,null,null,null,null,null,null,null,null,null,null,null,null,null,null,null,null,null,null,null,null,null,null,null,null,null,null,null,null,null,null,null,null,null,null,null,null,null,null,null,null,null,null,null,null,null,null,null,null,null,null,null,null,null,null,null,null,null,null,null,null,null,null,null,null,null,null,null,null,null,null,null,null,null,null,null,null,null,null,null,null,null,null,null,null,null,null,null,null,null,null,null,null,null,null,null,null,null,null,null,null,null,null,null,null,null,null,null,null,null,null,null,null,null,null,null,null,null,null,null,null,null,null,null,null,null,null,null,null,null,null,null,null,null,null,null,null,null,null,null,null,null,null,null,null,null,null,null,null,null,null,null,null,null,null,null,null,null,null,null,null,null,null,null,null,null,null,null,null,"内線",null,null,{"$f":"IF(入力用!$AA$15<>\"\",入力用!$AA$15,\"\")","v":""}]
[null,null,null,null,null,null,null,null,null,null,null,null,null,null,null,null,null,null,null,null,null,null,null,null,null,null,null,null,null,null,null,null,null,null,null,null,null,null,null,null,null,null,null,null,null,null,null,null,null,null,null,null,null,null,null,null,null,null,null,null,null,null,null,null,"個人番号又は法人番号\n（右詰めでご記入ください）",null,null,null,null,null,null,null,null,null,null,null,null,null,null,null,null,null,null,null,null,null,null,null,{"$f":"IF(入力用!$G$13<>\"\",入力用!$G$13,\"\")","v":""},null,null,null,null,{"$f":"IF(入力用!$H$13<>\"\",入力用!$H$13,\"\")","v":""},null,null,null,null,{"$f":"IF(入力用!$I$13<>\"\",入力用!$I$13,\"\")","v":""},null,null,null,null,{"$f":"IF(入力用!$J$13<>\"\",入力用!$J$13,\"\")","v":""},null,null,null,null,{"$f":"IF(入力用!$K$13<>\"\",入力用!$K$13,\"\")","v":""},null,null,null,null,{"$f":"IF(入力用!$L$13<>\"\",入力用!$L$13,\"\")","v":""},null,null,null,null,{"$f":"IF(入力用!$M$13<>\"\",入力用!$M$13,\"\")","v":""},null,null,null,null,{"$f":"IF(入力用!$N$13<>\"\",入力用!$N$13,\"\")","v":""},null,null,null,null,{"$f":"IF(入力用!$O$13<>\"\",入力用!$O$13,\"\")","v":""},null,null,null,null,{"$f":"IF(入力用!$P$13<>\"\",入力用!$P$13,\"\")","v":""},null,null,null,null,{"$f":"IF(入力用!$Q$13<>\"\",入力用!$Q$13,\"\")","v":""},null,null,null,null,{"$f":"IF(入力用!$R$13<>\"\",入力用!$R$13,\"\")","v":""},null,null,null,null,{"$f":"IF(入力用!$S$13<>\"\",入力用!$S$13,\"\")","v":""},null,null,null,null,null,null,null,null,null,null,null,null,null,null,null,null,null,null,null,null,null,null,null,null,null,null,null,null,null,null,null,null,null,null,null,null,null,null,null,null,null,null,null,null,null,null,null,null,null,null,null,null,null,null,null,null,null,null,null,null,null,null,null,null,null,null,null,null,null,null,null,"宛名\n番号",null,null,null,null,null,{"$f":"+IF($M$7<>\"\",IF(HLOOKUP($M$7,入力用!$B$17:$IL$73,3,FALSE)<>\"\",HLOOKUP($M$7,入力用!$B$17:$IL$73,3,FALSE),\"\"),\"\")","v":""}]
[null,null,null,null,null,null,null,null,null,null,null,null,null,null,null,null,null,null,null,null,null,null,null,null,null,null,null,null,null,null,null,null,null,null,null,null,null,null,null,null,null,null,null,null,null,null,null,null,null,"提出"]
[]
[]
[null,null,null,null,null,null,null,null,null,null,null,null,null,null,null,null,null,null,null,null,"給　与　所　得　者",null,null,"フリガナ",null,null,null,null,null,null,null,null,{"$f":"+IF($M$7<>\"\",IF(HLOOKUP($M$7,入力用!$B$17:$IL$73,4,FALSE)<>\"\",HLOOKUP($M$7,入力用!$B$17:$IL$73,4,FALSE),\"\"),\"\")","v":""},null,null,null,null,null,null,null,null,null,null,null,null,null,null,null,null,null,null,null,null,null,null,null,null,null,null,null,null,null,null,null,null,null,null,null,null,null,null,null,null,null,null,null,null,null,null,null,null,null,null,null,"新 姓",null,null,null,{"$f":"+IF($M$7<>\"\",IF(HLOOKUP($M$7,入力用!$B$17:$IL$73,6,FALSE)<>\"\",HLOOKUP($M$7,入力用!$B$17:$IL$73,6,FALSE),\"\"),\"\")","v":""},null,null,null,null,null,null,null,null,null,null,null,null,null,null,null,null,null,null,null,null,null,"（ア）",null,null,null,null,null,null,null,null,null,null,null,null,null,null,null,null,null,null,null,"（イ）",null,null,null,null,null,null,null,null,null,null,null,null,null,null,null,null,null,null,null,"（ウ）",null,null,null,null,null,null,null,null,null,null,null,null,null,null,null,null,null,null,null,"異動年月日",null,null,null,null,null,null,null,null,null,null,null,null,null,null,null,"異動の事由",null,null,null,null,null,null,null,null,null,null,null,null,null,null,null,null,null,null,null,null,null,null,null,null,null,null,null,null,null,null,null,null,null,null,null,"異動後の未徴収\n税額の徴収方法",null,null,null,null,null,null,null,null,null,null,null,null,null,null,null,null,null,null,null,null,null,null,null,null,null,null,null,null,null,null,null,null,null,null,null,null,null,null,null,null,null,null,null,"元号コード反映用"]
[null,null,null,null,null,null,null,null,null,null,null,null,null,null,null,null,null,null,null,null,null,null,null,null,null,null,null,null,null,null,null,null,null,null,null,null,null,null,null,null,null,null,null,null,null,null,null,null,null,null,null,null,null,null,null,null,null,null,null,null,null,null,null,null,null,null,null,null,null,null,null,null,null,null,null,null,null,null,null,null,null,null,null,null,null,null,null,null,null,null,null,null,null,null,null,null,null,null,null,null,null,null,null,null,null,null,null,null,null,null,null,null,null,null,null,null,null,null,null,null,null,null,null,null,null,null,null,null,null,null,null,null,null,null,null,null,null,null,null,null,null,null,null,null,null,null,null,null,null,null,null,null,null,null,null,null,null,null,null,null,null,null,null,null,null,null,null,null,null,null,null,null,null,null,null,null,null,null,null,null,null,null,null,null,null,null,null,null,null,null,null,null,null,null,null,null,null,null,null,null,null,null,null,null,null,null,null,null,null,null,null,null,null,null,null,null,null,null,null,null,null,null,null,null,null,null,null,null,null,null,null,null,null,null,null,null,null,null,null,null,null,null,null,null,null,null,null,null,null,null,null,null,null,null,null,null,null,null,null,null,null,null,null,null,null,null,{"$f":"+IF($M$7<>\"\",IF(HLOOKUP(TEXT($M$7&1,\"#,##0\")*1,入力用!$B$18:$IL$73,7,FALSE)<>\"\",HLOOKUP(TEXT($M$7&1,\"#,##0\")*1,入力用!$B$18:$IL$73,7,FALSE),\"\"),\"\")","v":""}]
[null,null,null,null,null,null,null,null,null,null,null,null,null,null,null,null,null,null,null,null,null,null,null,null,null,null,null,null,null,null,null,null,null,null,null,null,null,null,null,null,null,null,null,null,null,null,null,null,null,null,null,null,null,null,null,null,null,null,null,null,null,null,null,null,null,null,null,null,null,null,null,null,null,null,null,null,null,null,null,null,null,null,null,null,null,null,null,null,null,null,null,null,null,null,null,null,null,null,null,null,null,null,null,null,null,null,null,null,null,null,"特別徴収税額\n（年税額）\n",null,null,null,null,null,null,null,null,null,null,null,null,null,null,null,null,null,null,null,"徴収済税額",null,null,null,null,null,null,null,null,null,null,null,null,null,null,null,null,null,null,null,"未徴収税額\n（ア）－（イ）",null,null,null,null,null,null,null,null,null,null,null,null,null,null,null,null,null,null,null,null,null,null,null,null,null,null,null,null,null,null,null,null,null,null,null,null,null,null,null,null,null,null,null,null,null,null,null,null,null,null,null,null,null,null,null,null,null,null,null,null,null,null,null,null,null,null,null,null,null,null,null,null,null,null,null,null,null,null,null,null,null,null,null,null,null,null,null,null,null,null,null,null,null,null,null,null,null,null,null,null,null,null,null,null,null,null,null,null,null,null,null,null,null,null,null,"平成",4]
[null,null,null,null,null,null,null,null,null,null,null,null,null,null,null,null,null,null,null,null,null,null,null,"氏　名",null,null,null,null,null,null,null,null,{"$f":"+IF($M$7<>\"\",IF(HLOOKUP($M$7,入力用!$B$17:$IL$73,5,FALSE)<>\"\",HLOOKUP($M$7,入力用!$B$17:$IL$73,5,FALSE),\"\"),\"\")","v":""},null,null,null,null,null,null,null,null,null,null,null,null,null,null,null,null,null,null,null,null,null,null,null,null,null,null,null,null,null,null,null,null,null,null,null,null,null,null,null,null,null,null,null,null,null,null,null,null,null,null,null,null,null,null,null,{"$f":"+IF($M$7<>\"\",IF(HLOOKUP($M$7,入力用!$B$17:$IL$73,7,FALSE)<>\"\",HLOOKUP($M$7,入力用!$B$17:$IL$73,7,FALSE),\"\"),\"\")","v":""},null,null,null,null,null,null,null,null,null,null,null,null,null,null,null,null,null,null,null,null,null,null,null,null,null,null,null,null,null,null,null,null,null,null,null,null,null,null,null,null,null,null,null,null,null,null,null,null,null,null,null,null,null,null,null,null,null,null,null,null,null,null,null,null,null,null,null,null,null,null,null,null,null,null,null,null,null,null,null,null,null,null,null,null,null,null,null,null,null,null,null,null,null,null,null,null,null,"※事業主及び従業員の希望のみによる\n普通徴収への切替はできません。",null,null,null,null,null,null,null,null,null,null,null,null,null,null,null,null,null,null,null,null,null,null,null,null,null,null,null,null,null,null,null,null,null,null,null,null,null,null,null,null,null,null,null,null,null,null,null,null,null,null,null,null,null,null,null,null,null,null,null,null,null,null,null,null,null,null,null,null,null,null,null,null,null,null,null,null,null,null,null,"昭和",3]
[null,null,null,null,null,null,null,null,null,null,null,null,null,null,null,null,null,null,null,null,null,null,null,null,null,null,null,null,null,null,null,null,null,null,null,null,null,null,null,null,null,null,null,null,null,null,null,null,null,null,null,null,null,null,null,null,null,null,null,null,null,null,null,null,null,null,null,null,null,null,null,null,null,null,null,null,null,null,null,null,null,null,null,null,null,null,null,null,null,null,null,null,null,null,null,null,null,null,null,null,null,null,null,null,null,null,null,null,null,null,null,null,null,null,null,null,null,null,null,null,null,null,null,null,null,null,null,null,null,null,null,null,null,null,null,null,null,null,null,null,null,null,null,null,null,null,null,null,null,null,null,null,null,null,null,null,null,null,null,null,null,null,null,null,null,null,null,null,null,null,null,null,null,null,null,null,null,null,null,null,null,null,null,null,null,null,null,null,null,null,null,null,null,null,null,null,null,null,null,null,null,null,null,null,null,null,null,null,null,null,null,null,null,null,null,null,null,null,null,null,null,null,null,null,null,null,null,null,null,null,null,null,null,null,null,null,null,null,null,null,null,null,null,null,null,null,null,null,null,null,null,null,null,null,null,null,null,null,null,null,null,null,null,null,null,null,"大正",2]
[null,null,null,null,null,null,null,null,null,null,null,null,null,null,null,null,null,null,null,null,null,null,null,null,null,null,null,null,null,null,null,null,null,null,null,null,null,null,null,null,null,null,null,null,null,null,null,null,null,null,null,null,null,null,null,null,null,null,null,null,null,null,null,null,null,null,null,null,null,null,null,null,null,null,null,null,null,null,null,null,null,null,null,null,null,null,null,null,null,null,null,null,null,null,null,null,null,null,null,null,null,null,null,null,null,null,null,null,null,null,null,null,null,null,null,null,null,null,null,null,null,null,null,null,null,null,null,null,null,null,"例）11月10日納期限分の場合→10月分",null,null,null,null,null,null,null,null,null,null,null,null,null,null,null,null,null,null,null,null,null,null,null,null,null,null,null,null,null,null,null,null,null,null,null,null,null,null,null,null,null,null,null,null,null,null,null,null,null,null,null,null,null,null,null,null,null,null,null,null,null,null,null,null,null,null,null,null,null,null,null,null,null,null,null,null,null,null,null,null,null,null,null,null,null,null,null,null,null,null,null,null,null,null,null,null,null,null,null,null,null,null,null,null,null,null,null,null,null,null,null,null,null,null,null,null,null,null,null,null,null,null,null,null,null,null,null,null,null,null,null,null,null,null,null,"明治",1]
[]
[null,null,null,null,null,null,null,null,null,null,null,null,null,null,null,null,null,null,null,null,null,null,null,"生年月日",null,null,null,null,null,null,null,null,"元号",null,null,{"$f":"+IF($M$7<>\"\",IF($JG$40<>\"\",VLOOKUP($JG$40,$JG$41:$JH$44,2,FALSE),\"\"),\"\")","v":""},null,null,null,null,null,null,null,null,null,"←",null,null,null,"1.明治 2.大正",null,null,null,null,null,null,null,null,null,null,null,null,null,null,null,{"$f":"IF($M$7<>\"\",IF(HLOOKUP(TEXT($M$7&1,\"#,##0\")*1,入力用!$B$18:$IL$73,8,FALSE)<>\"\",HLOOKUP(TEXT($M$7&1,\"#,##0\")*1,入力用!$B$18:$IL$73,8,FALSE),\"\"),\"\")","v":""},null,null,null,null,null,null,null,null,null,null,null,"年",null,null,{"$f":"IF($M$7<>\"\",IF(HLOOKUP(TEXT($M$7&3,\"#,##0\")*1,入力用!$B$18:$IL$73,8,FALSE)<>\"\",HLOOKUP(TEXT($M$7&3,\"#,##0\")*1,入力用!$B$18:$IL$73,8,FALSE),\"\"),\"\")","v":""},null,null,null,null,null,null,null,null,null,null,null,"月",null,null,{"$f":"+IF($M$7<>\"\",IF(HLOOKUP(TEXT($M$7&5,\"#,##0\")*1,入力用!$B$18:$IL$73,8,FALSE)<>\"\",HLOOKUP(TEXT($M$7&5,\"#,##0\")*1,入力用!$B$18:$IL$73,8,FALSE),\"\"),\"\")","v":""},null,null,null,null,null,null,null,null,null,null,null,"日",null,null,null,null,null,null,null,null,null,null,null,null,null,null,null,null,null,null,null,null,null,null,{"$f":"+IF($M$7<>\"\",IF(HLOOKUP(TEXT($M$7&1,\"#,##0\")*1,入力用!$B$18:$IL$73,24,FALSE)<>\"\",HLOOKUP(TEXT($M$7&1,\"#,##0\")*1,入力用!$B$18:$IL$73,24,FALSE),\"\"),\"\")","v":""},null,null,null,null,null,null,null,null,null,"月分から",null,null,null,null,null,null,null,null,null,{"$f":"IF(AND(EA49<>\"\",EA49<>5),IF(EA49=12,1,EA49+1),\"\")","v":""},null,null,null,null,null,null,null,null,null,"月分から",null,null,null,null,null,null,null,null,null,null,null,null,null,null,null,null,null,null,null,null,null,null,null,null,null,"\n番号を記入",null,null,null,null,null,null,null,null,null,null,null,null,"1.転勤・転籍\n2.退職\n3.死亡\n4.休職\n5.長欠\n6.支払少額\n7.支払不定期\n8.その他",null,null,null,null,null,null,null,null,null,null,null,null,null,null,null,null,null,null,null,null,null,"\n番号を記入",null,null,null,null,null,null,null,null,null,null,null,"\n 1⃣　特別徴収継続\n\n 2⃣　一括徴収\n\n 3⃣　普通徴収"]
[]
[null,null,null,null,null,null,null,null,null,null,null,null,null,null,null,null,null,null,null,null,null,null,null,null,null,null,null,null,null,null,null,null,null,null,null,null,null,null,null,null,null,null,null,null,null,null,null,null,null,"3.昭和 4.平成 "]
[null,null,null,null,null,null,null,null,null,null,null,null,null,null,null,null,null,null,null,null,null,null,null,null,null,null,null,null,null,null,null,null,null,null,null,null,null,null,null,null,null,null,null,null,null,null,null,null,null,null,null,null,null,null,null,null,null,null,null,null,null,null,null,null,null,null,null,null,null,null,null,null,null,null,null,null,null,null,null,null,null,null,null,null,null,null,null,null,null,null,null,null,null,null,null,null,null,null,null,null,null,null,null,null,null,null,null,null,null,null,null,null,null,null,null,null,null,null,null,null,null,null,null,null,null,null,null,null,null,null,{"$f":"+IF($M$7<>\"\",IF(HLOOKUP(TEXT($M$7&4,\"#,##0\")*1,入力用!$B$18:$IL$73,24,FALSE)<>\"\",HLOOKUP(TEXT($M$7&4,\"#,##0\")*1,入力用!$B$18:$IL$73,24,FALSE),\"\"),\"\")","v":""},null,null,null,null,null,null,null,null,null,"月分まで",null,null,null,null,null,null,null,null,null,{"$f":"IF(EU46<>\"\",5,\"\")","v":""},null,null,null,null,null,null,null,null,null,"月分まで",null,null,null,null,null,null,null,null,null,"令和",null,null,null,null,null,null,{"$f":"+IF($M$7<>\"\",IF(HLOOKUP(TEXT($M$7&1,\"#,##0\")*1,入力用!$B$18:$IL$73,19,FALSE)<>\"\",HLOOKUP(TEXT($M$7&1,\"#,##0\")*1,入力用!$B$18:$IL$73,19,FALSE),\"\"),\"\")","v":""},null,null,null,null,null,"年"]
[null,null,null,null,null,null,null,null,null,null,null,null,null,null,null,null,null,null,null,null,null,null,null,"個人番号",null,null,null,null,null,null,null,null,null,null,null,null,null,null,{"$f":"+IF($M$7<>\"\",IF(HLOOKUP(TEXT($M$7&1,\"#,##0\")*1,入力用!$B$18:$IL$73,9,FALSE)<>\"\",MID(HLOOKUP(TEXT($M$7&1,\"#,##0\")*1,入力用!$B$18:$IL$73,9,FALSE),1,1),\"\"),\"\")","v":""},null,null,null,null,null,{"$f":"+IF($M$7<>\"\",IF(HLOOKUP(TEXT($M$7&1,\"#,##0\")*1,入力用!$B$18:$IL$73,9,FALSE)<>\"\",MID(HLOOKUP(TEXT($M$7&1,\"#,##0\")*1,入力用!$B$18:$IL$73,9,FALSE),2,1),\"\"),\"\")","v":""},null,null,null,null,null,{"$f":"+IF($M$7<>\"\",IF(HLOOKUP(TEXT($M$7&1,\"#,##0\")*1,入力用!$B$18:$IL$73,9,FALSE)<>\"\",MID(HLOOKUP(TEXT($M$7&1,\"#,##0\")*1,入力用!$B$18:$IL$73,9,FALSE),3,1),\"\"),\"\")","v":""},null,null,null,null,null,{"$f":"+IF($M$7<>\"\",IF(HLOOKUP(TEXT($M$7&1,\"#,##0\")*1,入力用!$B$18:$IL$73,9,FALSE)<>\"\",MID(HLOOKUP(TEXT($M$7&1,\"#,##0\")*1,入力用!$B$18:$IL$73,9,FALSE),4,1),\"\"),\"\")","v":""},null,null,null,null,null,{"$f":"+IF($M$7<>\"\",IF(HLOOKUP(TEXT($M$7&1,\"#,##0\")*1,入力用!$B$18:$IL$73,9,FALSE)<>\"\",MID(HLOOKUP(TEXT($M$7&1,\"#,##0\")*1,入力用!$B$18:$IL$73,9,FALSE),5,1),\"\"),\"\")","v":""},null,null,null,null,null,{"$f":"+IF($M$7<>\"\",IF(HLOOKUP(TEXT($M$7&1,\"#,##0\")*1,入力用!$B$18:$IL$73,9,FALSE)<>\"\",MID(HLOOKUP(TEXT($M$7&1,\"#,##0\")*1,入力用!$B$18:$IL$73,9,FALSE),6,1),\"\"),\"\")","v":""},null,null,null,null,null,{"$f":"+IF($M$7<>\"\",IF(HLOOKUP(TEXT($M$7&1,\"#,##0\")*1,入力用!$B$18:$IL$73,9,FALSE)<>\"\",MID(HLOOKUP(TEXT($M$7&1,\"#,##0\")*1,入力用!$B$18:$IL$73,9,FALSE),7,1),\"\"),\"\")","v":""},null,null,null,null,null,{"$f":"+IF($M$7<>\"\",IF(HLOOKUP(TEXT($M$7&1,\"#,##0\")*1,入力用!$B$18:$IL$73,9,FALSE)<>\"\",MID(HLOOKUP(TEXT($M$7&1,\"#,##0\")*1,入力用!$B$18:$IL$73,9,FALSE),8,1),\"\"),\"\")","v":""},null,null,null,null,null,{"$f":"+IF($M$7<>\"\",IF(HLOOKUP(TEXT($M$7&1,\"#,##0\")*1,入力用!$B$18:$IL$73,9,FALSE)<>\"\",MID(HLOOKUP(TEXT($M$7&1,\"#,##0\")*1,入力用!$B$18:$IL$73,9,FALSE),9,1),\"\"),\"\")","v":""},null,null,null,null,null,{"$f":"+IF($M$7<>\"\",IF(HLOOKUP(TEXT($M$7&1,\"#,##0\")*1,入力用!$B$18:$IL$73,9,FALSE)<>\"\",MID(HLOOKUP(TEXT($M$7&1,\"#,##0\")*1,入力用!$B$18:$IL$73,9,FALSE),10,1),\"\"),\"\")","v":""},null,null,null,null,null,{"$f":"+IF($M$7<>\"\",IF(HLOOKUP(TEXT($M$7&1,\"#,##0\")*1,入力用!$B$18:$IL$73,9,FALSE)<>\"\",MID(HLOOKUP(TEXT($M$7&1,\"#,##0\")*1,入力用!$B$18:$IL$73,9,FALSE),11,1),\"\"),\"\")","v":""},null,null,null,null,null,{"$f":"+IF($M$7<>\"\",IF(HLOOKUP(TEXT($M$7&1,\"#,##0\")*1,入力用!$B$18:$IL$73,9,FALSE)<>\"\",MID(HLOOKUP(TEXT($M$7&1,\"#,##0\")*1,入力用!$B$18:$IL$73,9,FALSE),12,1),\"\"),\"\")","v":""},null,null,null,null,null,null,null,null,null,null,null,null,null,null,null,null,null,null,null,null,null,null,null,null,null,null,null,null,null,null,null,null,null,null,null,null,null,null,null,null,null,null,null,null,null,null,null,null,null,null,null,null,null,null,null,null,null,null,null,null,null,null,null,null,null,null,null,null,null,null,null,null,null,null,null,null,null,null,null,null,null,null,{"$f":"+IF($M$7<>\"\",IF($JG$65<>\"\",VLOOKUP($JG$65,$JG$66:$JH$73,2,FALSE),\"\"),\"\")","v":""},null,null,null,null,null,null,null,null,null,null,null,null,null,null,null,null,null,null,null,null,null,null,null,null,null,null,null,null,null,null,null,null,null,null,{"$f":"+IF($M$7<>\"\",IF($JG$52<>\"\",VLOOKUP($JG$52,$JG$53:$JJ$56,2,FALSE),\"\"),\"\")","v":""}]
[null,null,null,null,null,null,null,null,null,null,null,null,null,null,null,null,null,null,null,null,null,null,null,null,null,null,null,null,null,null,null,null,null,null,null,null,null,null,null,null,null,null,null,null,null,null,null,null,null,null,null,null,null,null,null,null,null,null,null,null,null,null,null,null,null,null,null,null,null,null,null,null,null,null,null,null,null,null,null,null,null,null,null,null,null,null,null,null,null,null,null,null,null,null,null,null,null,null,null,null,null,null,null,null,null,null,null,null,null,null,null,null,null,null,null,null,null,null,null,null,null,null,null,null,null,null,null,null,null,null,null,null,null,null,null,null,null,null,null,null,null,null,null,null,null,null,null,null,null,null,null,null,null,null,null,null,null,null,null,null,null,null,null,null,null,null,null,null,null,null,null,null,null,null,null,null,null,null,null,null,null,null,null,null,null,null,null,null,null,null,null,null,null,null,null,null,"←",null,null,null,null,null,null,null,null,null,null,null,null,null,null,null,null,null,null,null,null,null,null,null,null,null,null,null,null,null,null,null,null,null,"←",null,null,null,null,null,null,null,null,null,null,null,null,null,null,null,null,null,null,null,null,null,null,null,null,null,null,null,null,null,null,null,null,null,null,null,"税額の徴収方法用"]
[null,null,null,null,null,null,null,null,null,null,null,null,null,null,null,null,null,null,null,null,null,null,null,null,null,null,null,null,null,null,null,null,null,null,null,null,null,null,null,null,null,null,null,null,null,null,null,null,null,null,null,null,null,null,null,null,null,null,null,null,null,null,null,null,null,null,null,null,null,null,null,null,null,null,null,null,null,null,null,null,null,null,null,null,null,null,null,null,null,null,null,null,null,null,null,null,null,null,null,null,null,null,null,null,null,null,null,null,null,null,"円",null,null,null,null,null,null,null,null,null,null,null,null,null,null,null,null,null,null,null,"円",null,null,null,null,null,null,null,null,null,null,null,null,null,null,null,null,null,null,null,"円",null,null,null,null,null,null,null,null,null,null,null,null,null,null,null,null,null,null,null,null,null,null,null,null,null,null,null,null,null,null,null,null,null,null,null,null,null,null,null,null,null,null,null,null,null,null,null,null,null,null,null,null,null,null,null,null,null,null,null,null,null,null,null,null,null,null,null,null,null,null,null,null,null,null,null,null,null,null,null,null,null,null,null,null,null,null,null,null,null,null,null,null,null,null,null,null,null,null,null,null,null,null,null,null,null,null,null,null,null,null,null,null,null,null,null,{"$f":"+IF($M$7<>\"\",IF(HLOOKUP(TEXT($M$7&1,\"#,##0\")*1,入力用!$B$18:$IL$73,28,FALSE)<>\"\",HLOOKUP(TEXT($M$7&1,\"#,##0\")*1,入力用!$B$18:$IL$73,28,FALSE),\"\"),\"\")","v":""}]
[null,null,null,null,null,null,null,null,null,null,null,null,null,null,null,null,null,null,null,null,null,null,null,null,null,null,null,null,null,null,null,null,null,null,null,null,null,null,null,null,null,null,null,null,null,null,null,null,null,null,null,null,null,null,null,null,null,null,null,null,null,null,null,null,null,null,null,null,null,null,null,null,null,null,null,null,null,null,null,null,null,null,null,null,null,null,null,null,null,null,null,null,null,null,null,null,null,null,null,null,null,null,null,null,null,null,null,null,null,null,null,null,null,null,null,null,null,null,null,null,null,null,null,null,null,null,null,null,null,null,null,null,null,null,null,null,null,null,null,null,null,null,null,null,null,null,null,null,null,null,null,null,null,null,null,null,null,null,null,null,null,null,null,null,null,null,null,null,null,null,null,null,null,null,null,null,null,null,null,null,null,null,null,null,null,null,null,null,null,null,null,null,null,null,null,null,null,null,null,null,null,null,null,null,null,null,null,null,null,null,null,null,null,null,null,null,null,null,null,null,null,null,null,null,null,null,null,null,null,null,null,null,null,null,null,null,null,null,null,null,null,null,null,null,null,null,null,null,null,null,null,null,null,null,null,null,null,null,null,null,null,null,null,null,null,null,"一括徴収",2,2,"2.異動年月日が1月1日以降でかつ特別徴収の継続の希望がないため。"]
[null,null,null,null,null,null,null,null,null,null,null,null,null,null,null,null,null,null,null,null,null,null,null,"住　　所",null,null,"1月1日\n現在",null,null,null,null,null,{"$f":"+IF($M$7<>\"\",HLOOKUP(TEXT($M$7&1,\"#,##0\")*1,入力用!$B$18:$IL$73,10,FALSE)&HLOOKUP(TEXT($M$7&4,\"#,##0\")*1,入力用!$B$18:$IL$73,10,FALSE)&HLOOKUP(TEXT($M$7&6,\"#,##0\")*1,入力用!$B$18:$IL$73,10,FALSE)&HLOOKUP(TEXT($M$7&1,\"#,##0\")*1,入力用!$B$18:$IL$73,11,FALSE)&HLOOKUP(TEXT($M$7&1,\"#,##0\")*1,入力用!$B$18:$IL$73,12,FALSE)&HLOOKUP(TEXT($M$7&1,\"#,##0\")*1,入力用!$B$18:$IL$73,13,FALSE),\"\")","v":"大阪市区"},null,null,null,null,null,null,null,null,null,null,null,null,null,null,null,null,null,null,null,null,null,null,null,null,null,null,null,null,null,null,null,null,null,null,null,null,null,null,null,null,null,null,null,null,null,null,null,null,null,null,null,null,null,null,null,null,null,null,null,null,null,null,null,null,null,null,null,null,null,null,null,null,null,null,null,null,null,{"$f":"+IF($M$7<>\"\",IF(HLOOKUP(TEXT($M$7&1,\"#,##0\")*1,入力用!$B$18:$IL$73,22,FALSE)<>\"\",HLOOKUP(TEXT($M$7&1,\"#,##0\")*1,入力用!$B$18:$IL$73,22,FALSE),\"\"),\"\")","v":""},null,null,null,null,null,null,null,null,null,null,null,null,null,null,null,null,null,null,null,{"$f":"+IF($M$7<>\"\",IF(HLOOKUP(TEXT($M$7&1,\"#,##0\")*1,入力用!$B$18:$IL$73,23,FALSE)<>\"\",HLOOKUP(TEXT($M$7&1,\"#,##0\")*1,入力用!$B$18:$IL$73,23,FALSE),\"\"),\"\")","v":""},null,null,null,null,null,null,null,null,null,null,null,null,null,null,null,null,null,null,null,{"$f":"+IF(AND($M$7<>\"\",DG54<>\"\"),DG54-EA54,\"\")","v":""},null,null,null,null,null,null,null,null,null,null,null,null,null,null,null,null,null,null,null,null,null,null,null,null,null,null,null,null,null,null,null,null,null,null,null,null,null,null,null,null,null,null,null,null,null,null,null,null,null,null,null,null,null,null,null,null,null,null,null,null,null,null,null,null,null,null,null,null,null,null,null,null,null,null,null,null,null,null,null,null,null,null,null,null,null,null,null,null,null,null,null,null,null,null,null,null,null,null,null,null,null,null,null,null,null,null,null,null,null,null,null,null,null,null,null,"一括徴収(本人希望)",2,1,"1.異動年月日が12月31日以前でかつ本人からの申出があったため。"]
[null,null,null,null,null,null,null,null,null,null,null,null,null,null,null,null,null,null,null,null,null,null,null,null,null,null,null,null,null,null,null,null,null,null,null,null,null,null,null,null,null,null,null,null,null,null,null,null,null,null,null,null,null,null,null,null,null,null,null,null,null,null,null,null,null,null,null,null,null,null,null,null,null,null,null,null,null,null,null,null,null,null,null,null,null,null,null,null,null,null,null,null,null,null,null,null,null,null,null,null,null,null,null,null,null,null,null,null,null,null,null,null,null,null,null,null,null,null,null,null,null,null,null,null,null,null,null,null,null,null,null,null,null,null,null,null,null,null,null,null,null,null,null,null,null,null,null,null,null,null,null,null,null,null,null,null,null,null,null,null,null,null,null,null,null,null,null,null,null,null,null,null,null,null,null,null,null,null,null,null,null,null,null,null,null,null,null,null,null,null,null,null,null,null,null,null,null,null,null,null,null,null,null,null,null,null,null,null,null,null,null,null,null,null,null,null,null,null,null,null,null,null,null,null,null,null,null,null,null,null,null,null,null,null,null,null,null,null,null,null,null,null,null,null,null,null,null,null,null,null,null,null,null,null,null,null,null,null,null,null,null,null,null,null,null,null,"特別徴収継続(転勤・転籍)",1,null,"　"]
[null,null,null,null,null,null,null,null,null,null,null,null,null,null,null,null,null,null,null,null,null,null,null,null,null,null,null,null,null,null,null,null,null,null,null,null,null,null,null,null,null,null,null,null,null,null,null,null,null,null,null,null,null,null,null,null,null,null,null,null,null,null,null,null,null,null,null,null,null,null,null,null,null,null,null,null,null,null,null,null,null,null,null,null,null,null,null,null,null,null,null,null,null,null,null,null,null,null,null,null,null,null,null,null,null,null,null,null,null,null,null,null,null,null,null,null,null,null,null,null,null,null,null,null,null,null,null,null,null,null,null,null,null,null,null,null,null,null,null,null,null,null,null,null,null,null,null,null,null,null,null,null,null,null,null,null,null,null,null,null,null,null,null,null,null,null,null,null,null,null,null,{"$f":"+IF($M$7<>\"\",IF(HLOOKUP(TEXT($M$7&3,\"#,##0\")*1,入力用!$B$18:$IL$73,19,FALSE)<>\"\",HLOOKUP(TEXT($M$7&3,\"#,##0\")*1,入力用!$B$18:$IL$73,19,FALSE),\"\"),\"\")","v":""},null,null,null,null,null,null,null,{"$f":"+IF($M$7<>\"\",IF(HLOOKUP(TEXT($M$7&5,\"#,##0\")*1,入力用!$B$18:$IL$73,19,FALSE)<>\"\",HLOOKUP(TEXT($M$7&5,\"#,##0\")*1,入力用!$B$18:$IL$73,19,FALSE),\"\"),\"\")","v":""},null,null,null,null,null,null,null,null,null,null,null,null,null,null,null,null,null,null,null,null,null,null,null,null,null,null,null,null,null,null,null,null,null,null,null,null,null,null,null,null,null,null,null,null,null,null,null,null,null,null,null,null,null,null,null,null,null,null,null,null,null,null,null,null,null,null,null,null,null,null,null,null,null,null,null,null,null,null,null,null,null,null,null,null,null,null,"普通徴収(本人が納付)",3,{"$f":"+IF($M$7<>\"\",IF($JG$58<>\"\",VLOOKUP($JG$58,$JG$59:$JI$61,2,FALSE),\"\"),\"\")","v":""},{"$f":"+IF($M$7<>\"\",IF($JG$58<>\"\",VLOOKUP($JG$58,$JG$59:$JI$61,3,FALSE),\"\"),\"\")","v":""}]
[null,null,null,null,null,null,null,null,null,null,null,null,null,null,null,null,null,null,null,null,null,null,null,null,null,null,null,null,null,null,null,null,null,null,null,null,null,null,null,null,null,null,null,null,null,null,null,null,null,null,null,null,null,null,null,null,null,null,null,null,null,null,null,null,null,null,null,null,null,null,null,null,null,null,null,null,null,null,null,null,null,null,null,null,null,null,null,null,null,null,null,null,null,null,null,null,null,null,null,null,null,null,null,null,null,null,null,null,null,null,null,null,null,null,null,null,null,null,null,null,null,null,null,null,null,null,null,null,null,null,null,null,null,null,null,null,null,null,null,null,null,null,null,null,null,null,null,null,null,null,null,null,null,null,null,null,null,null,null,null,null,null,null,null,null,null,null,null,null,null,null,null,null,null,null,null,"月",null,null,null,null,null,null,null,"日"]
[null,null,null,null,null,null,null,null,null,null,null,null,null,null,null,null,null,null,null,null,null,null,null,null,null,null,"異動後",null,null,null,null,null,{"$f":"+IF($M$7<>\"\",IF(HLOOKUP(TEXT($M$7&1,\"#,##0\")*1,入力用!$B$18:$IL$73,14,FALSE)&HLOOKUP(TEXT($M$7&1,\"#,##0\")*1,入力用!$B$18:$IL$73,16,FALSE)&HLOOKUP(TEXT($M$7&1,\"#,##0\")*1,入力用!$B$18:$IL$73,17,FALSE)&HLOOKUP(TEXT($M$7&1,\"#,##0\")*1,入力用!$B$18:$IL$73,18,FALSE)&HLOOKUP(TEXT($M$7&1,\"#,##0\")*1,入力用!$B$18:$IL$73,19,FALSE)<>\"\",HLOOKUP(TEXT($M$7&1,\"#,##0\")*1,入力用!$B$18:$IL$73,14,FALSE)&HLOOKUP(TEXT($M$7&1,\"#,##0\")*1,入力用!$B$18:$IL$73,15,FALSE)&HLOOKUP(TEXT($M$7&1,\"#,##0\")*1,入力用!$B$18:$IL$73,16,FALSE)&HLOOKUP(TEXT($M$7&1,\"#,##0\")*1,入力用!$B$18:$IL$73,17,FALSE)&HLOOKUP(TEXT($M$7&1,\"#,##0\")*1,入力用!$B$18:$IL$73,18,FALSE),\"\"),\"\")","v":""},null,null,null,null,null,null,null,null,null,null,null,null,null,null,null,null,null,null,null,null,null,null,null,null,null,null,null,null,null,null,null,null,null,null,null,null,null,null,null,null,null,null,null,null,null,null,null,null,null,null,null,null,null,null,null,null,null,null,null,null,null,null,null,null,null,null,null,null,null,null,null,null,null,null,null,null,null,null,null,null,null,null,null,null,null,null,null,null,null,null,null,null,null,null,null,null,null,null,null,null,null,null,null,null,null,null,null,null,null,null,null,null,null,null,null,null,null,null,null,null,null,null,null,null,null,null,null,null,null,null,null,null,null,null,null,null,null,null,null,null,null,null,null,null,null,null,null,null,null,null,null,null,null,"8.その他の\n理由を右欄\nへ記入",null,null,null,null,null,null,null,null,{"$f":"+IF($M$7<>\"\",IF(HLOOKUP(TEXT($M$7&1,\"#,##0\")*1,入力用!$B$18:$IL$73,21,FALSE)<>\"\",HLOOKUP(TEXT($M$7&1,\"#,##0\")*1,入力用!$B$18:$IL$73,21,FALSE),\"\"),\"\")","v":""},null,null,null,null,null,null,null,null,null,null,null,null,null,null,null,null,null,null,null,null,null,null,null,null,null,null,null,null,null,null,null,null,null,null,null,null,null,null,"  （本人が納付）",null,null,null,null,null,null,null,null,null,null,null,null,null,null,null,null,null,null,null,null,null,null,null,null,null,null,null,null,null,null,null,{"$f":"+IF($M$7<>\"\",IF(HLOOKUP(TEXT($M$7&1,\"#,##0\")*1,入力用!$B$18:$IL$73,29,FALSE)<>\"\",HLOOKUP(TEXT($M$7&1,\"#,##0\")*1,入力用!$B$18:$IL$73,29,FALSE),\"\"),\"\")","v":""}]
[null,null,null,null,null,null,null,null,null,null,null,null,null,null,null,null,null,null,null,null,null,null,null,null,null,null,null,null,null,null,null,null,null,null,null,null,null,null,null,null,null,null,null,null,null,null,null,null,null,null,null,null,null,null,null,null,null,null,null,null,null,null,null,null,null,null,null,null,null,null,null,null,null,null,null,null,null,null,null,null,null,null,null,null,null,null,null,null,null,null,null,null,null,null,null,null,null,null,null,null,null,null,null,null,null,null,null,null,null,null,null,null,null,null,null,null,null,null,null,null,null,null,null,null,null,null,null,null,null,null,null,null,null,null,null,null,null,null,null,null,null,null,null,null,null,null,null,null,null,null,null,null,null,null,null,null,null,null,null,null,null,null,null,null,null,null,null,null,null,null,null,null,null,null,null,null,null,null,null,null,null,null,null,null,null,null,null,null,null,null,null,null,null,null,null,null,null,null,null,null,null,null,null,null,null,null,null,null,null,null,null,null,null,null,null,null,null,null,null,null,null,null,null,null,null,null,null,null,null,null,null,null,null,null,null,null,null,null,null,null,null,null,null,null,null,null,null,null,null,null,null,null,null,null,null,null,null,null,null,null,null,null,null,null,null,null,"一括徴収の本人申出がないため",1,"1.異動年月日が6月1日から12月31日でかつ本人からの申出がないため。"]
[null,null,null,null,null,null,null,null,null,null,null,null,null,null,null,null,null,null,null,null,null,null,null,null,null,null,null,null,null,null,null,null,null,null,null,null,null,null,null,null,null,null,null,null,null,null,null,null,null,null,null,null,null,null,null,null,null,null,null,null,null,null,null,null,null,null,null,null,null,null,null,null,null,null,null,null,null,null,null,null,null,null,null,null,null,null,null,null,null,null,null,null,null,null,null,null,null,null,null,null,null,null,null,null,null,null,null,null,null,null,null,null,null,null,null,null,null,null,null,null,null,null,null,null,null,null,null,null,null,null,null,null,null,null,null,null,null,null,null,null,null,null,null,null,null,null,null,null,null,null,null,null,null,null,null,null,null,null,null,null,null,null,null,null,null,null,null,null,null,null,null,null,null,null,null,null,null,null,null,null,null,null,null,null,null,null,null,null,null,null,null,null,null,null,null,null,null,null,null,null,null,null,null,null,null,null,null,null,null,null,null,null,null,null,null,null,null,null,null,null,null,null,null,null,null,null,null,null,null,null,null,null,null,null,null,null,null,null,null,null,null,null,null,null,null,null,null,null,null,null,null,null,null,null,null,null,null,null,null,null,null,null,null,null,null,null,"給与及び退職手当等から未徴収税額を一括徴収できないため",2,"2.異動年月日が1月1日から4月30日でかつ給与及び退職手当等から未徴収税額(ウ)を一括徴収できないため。"]
[null,null,null,null,null,null,null,null,null,null,null,null,null,null,null,null,null,null,null,null,null,null,null,null,null,null,null,null,null,null,null,null,null,null,null,null,null,null,null,null,null,null,null,null,null,null,null,null,null,null,null,null,null,null,null,null,null,null,null,null,null,null,null,null,null,null,null,null,null,null,null,null,null,null,null,null,null,null,null,null,null,null,null,null,null,null,null,null,null,null,null,null,null,null,null,null,null,null,null,null,null,null,null,null,null,null,null,null,null,null,null,null,null,null,null,null,null,null,null,null,null,null,null,null,null,null,null,null,null,null,null,null,null,null,null,null,null,null,null,null,null,null,null,null,null,null,null,null,null,null,null,null,null,null,null,null,null,null,null,null,null,null,null,null,null,null,null,null,null,null,null,null,null,null,null,null,null,null,null,null,null,null,null,null,null,null,null,null,null,null,null,null,null,null,null,null,null,null,null,null,null,null,null,null,null,null,null,null,null,null,null,null,null,null,null,null,null,null,null,null,null,null,null,null,null,null,null,null,null,null,null,null,null,null,null,null,null,null,null,null,null,null,null,null,null,null,null,null,null,null,null,null,null,null,null,null,null,null,null,null,null,null,null,null,null,null,"死亡による退職のため",3,"3.死亡による退職のため。"]
[]
[null,null,null,null,null,null,null,null,null,null,null,null,null,null,null,null,null,null,null,null," 1⃣ 特別徴収継続の場合（給与所得者が、新しい勤務先で特別徴収を希望する場合に記入してください。）"]
[null,null,null,null,null,null,null,null,null,null,null,null,null,null,null,null,null,null,null,null,null,null,null,null,null,null,null,null,null,null,null,null,null,null,null,null,null,null,null,null,null,null,null,null,null,null,null,null,null,null,null,null,null,null,null,null,null,null,null,null,null,null,null,null,null,null,null,null,null,null,null,null,null,null,null,null,null,null,null,null,null,null,null,null,null,null,null,null,null,null,null,null,null,null,null,null,null,null,null,null,null,null,null,null,null,null,null,null,null,null,null,null,null,null,null,null,null,null,null,null,null,null,null,null,null,null,null,null,null,null,null,null,null,null,null,null,null,null,null,null,null,null,null,null,null,null,null,null,null,null,null,null,null,null,null,null,null,null,null,null,null,null,null,null,null,null,null,null,null,null,null,null,null,null,null,null,null,null,null,null,null,null,null,null,null,null,null,null,null,null,null,null,null,null,null,null,null,null,null,null,null,null,null,null,null,null,null,null,null,null,null,null,null,null,null,null,null,null,null,null,null,null,null,null,null,null,null,null,null,null,null,null,null,null,null,null,null,null,null,null,null,null,null,null,null,null,null,null,null,null,null,null,null,null,null,null,null,null,null,null,null,null,null,null,null,null,"退職理由番号反映用"]
[null,null,null,null,null,null,null,null,null,null,null,null,null,null,null,null,null,null,null,null,null,null,null,null,null,null,null,null,null,null,null,null,null,null,null,null,null,null,null,null,null,null,null,null,null,null,null,null,null,null,null,null,null,null,null,null,null,null,null,null,null,null,null,null,null,null,null,null,null,null,null,null,null,null,null,null,null,null,null,null,null,null,null,null,null,null,null,null,null,null,null,null,null,null,null,null,null,null,null,null,null,null,null,null,null,null,null,null,null,null,null,null,null,null,null,null,null,null,null,null,null,null,null,null,null,null,null,null,null,null,null,null,null,null,null,null,null,null,null,null,null,null,null,null,null,null,null,null,null,null,null,null,null,null,null,null,null,null,null,null,null,null,null,null,null,null,null,null,null,null,null,null,null,null,null,null,null,null,null,null,null,null,null,null,null,null,null,null,null,null,null,null,null,null,null,null,null,null,null,null,null,null,null,null,null,null,null,null,null,null,null,null,null,null,null,null,null,null,null,null,null,null,null,null,null,null,null,null,null,null,null,null,null,null,null,null,null,null,null,null,null,null,null,null,null,null,null,null,null,null,null,null,null,null,null,null,null,null,null,null,null,null,null,null,null,null,{"$f":"+IF($M$7<>\"\",IF(HLOOKUP(TEXT($M$7&1,\"#,##0\")*1,入力用!$B$18:$IL$73,20,FALSE)<>\"\",HLOOKUP(TEXT($M$7&1,\"#,##0\")*1,入力用!$B$18:$IL$73,20,FALSE),\"\"),\"\")","v":""}]
[null,null,null,null,null,null,null,null,null,null,null,null,null,null,null,null,null,null,null,null,"新しい\n勤務先\n(特別\n徴収義\n務者)",null,null,null,null,null,null,null,null,"所在地",null,null,"〒",null,null,null,null,null,null,null,null,null,null,null,null,null,null,null,null,null,null,null,null,null,null,null,null,null,null,null,null,null,null,null,null,null,null,null,null,null,null,null,null,null,null,null,null,null,null,null,null,null,null,null,null,null,null,null,null,null,null,null,null,null,null,null,null,null,null,null,null,null,null,null,null,null,null,null,null,null,null,null,null,null,null,null,null,null,null,null,null,null,null,"特別徴収指定番号",null,null,null,null,null,null,null,null,null,null,null,null,null,null,null,null,null,null,null,null,null,null,null,null,null,null,null,null,null,null,"担 当 者",null,null,"氏　名",null,null,{"$f":"+IF($M$7<>\"\",IF((HLOOKUP(TEXT($M$7&1,\"#,##0\")*1,入力用!$B$18:$IL$77,42,FALSE)&HLOOKUP(TEXT($M$7&1,\"#,##0\")*1,入力用!$B$18:$IL$77,42,FALSE))<>\"\",(HLOOKUP(TEXT($M$7&1,\"#,##0\")*1,入力用!$B$18:$IL$77,42,FALSE)&\"　\"&HLOOKUP(TEXT($M$7&1,\"#,##0\")*1,入力用!$B$18:$IL$77,43,FALSE)),\"\"),\"\")","v":""},null,null,null,null,null,null,null,null,null,null,null,null,null,null,null,null,null,null,null,null,null,null,null,null,null,null,null,null,null,null,null,null," 新しい勤務先へは、",null,null,null,null,null,null,null,null,null,null,null,null,null,null,null,null,null,null,null,null,null,null,null,null,null,null,null,null,null,null,null,null,null,null,null,null,null,null,null,null,null,null,null,null,null,null,null,null,null,null,null,null,null,null,null,null,null,null,null,null,null,null,null,null,null,null,null,null,null,null,null,null,"1　転勤・転籍",1]
[null,null,null,null,null,null,null,null,null,null,null,null,null,null,null,null,null,null,null,null,null,null,null,null,null,null,null,null,null,null,null,null,null,null,null,{"$f":"+IF($M$7<>\"\",IF(HLOOKUP(TEXT($M$7&1,\"#,##0\")*1,入力用!$B$18:$IL$73,36,FALSE)<>\"\",HLOOKUP(TEXT($M$7&1,\"#,##0\")*1,入力用!$B$18:$IL$73,36,FALSE),\"\"),\"\")","v":""},null,null,null,null,null,null,null,null,null,null,"-",null,{"$f":"+IF($M$7<>\"\",IF(HLOOKUP(TEXT($M$7&4,\"#,##0\")*1,入力用!$B$18:$IL$73,36,FALSE)<>\"\",HLOOKUP(TEXT($M$7&4,\"#,##0\")*1,入力用!$B$18:$IL$73,36,FALSE),\"\"),\"\")","v":""},null,null,null,null,null,null,null,null,null,null,null,null,null,null,null,null,null,null,null,null,null,null,null,null,null,null,null,null,null,null,null,null,null,null,null,null,null,null,null,null,null,null,null,null,null,null,null,null,null,null,null,null,null,null,null,null,null,null,null,null,null,null,null,null,null,null,null,null,null,null,null,null,null,null,null,null,null,null,null,null,null,null,null,null,null,null,null,null,null,null,null,null,null,null,null,null,null,null,null,null,null,null,null,null,null,null,null,null,null,null,null,null,null,null,null,null,null,null,null,null,null,null,null,null,null,null,null,null,null,null,null,null,null,null,null,null,null,null,null,null,null,null,null,null,null,null,null,null,null,null,null,null,null,null,null,null,null,null,null,null,null,null,null,null,null,null,null,null,null,null,null,null,null,null,null,null,null,null,null,null,null,null,null,null,null,null,null,null,null,null,null,null,null,null,null,null,null,null,null,null,null,null,null,null,null,null,null,null,null,null,null,null,null,null,null,null,null,"2　退職",2]
[null,null,null,null,null,null,null,null,null,null,null,null,null,null,null,null,null,null,null,null,null,null,null,null,null,null,null,null,null,null,null,null,null,null,null,null,null,null,null,null,null,null,null,null,null,null,null,null,null,null,null,null,null,null,null,null,null,null,null,null,null,null,null,null,null,null,null,null,null,null,null,null,null,null,null,null,null,null,null,null,null,null,null,null,null,null,null,null,null,null,null,null,null,null,null,null,null,null,null,null,null,null,null,null,null,null,null,null,null,null,null,null,null,null,null,null,null,null,null,null,null,null,null,null,null,null,null,null,null,null,null,null,null,null,null,null,null,null,null,null,null,null,null,null,null,null,null,null,null,null,null,null,null,null,null,null,null,null,null,null,null,null,null,null,null,null,null,null,null,null,null,null,null,null,null,null,null,null,null,null,null,null,null,null,null,null,null,null,null,null,null,null,null,"月割額",null,null,null,null,null,null,null,null,null,null,"円",null,null,null,null,null,null,null,null,null,null,null,null,null,null,null,null,null,null,null,null,null,null,null,null,null,null,null,null,null,null,null,null,null,null,null,null,null,null,null,null,null,null,null,null,null,null,null,null,null,null,null,null,null,null,null,null,null,null,null,null,null,"3　死亡",3]
[null,null,null,null,null,null,null,null,null,null,null,null,null,null,null,null,null,null,null,null,null,null,null,null,null,null,null,null,null,null,null,null,{"$f":"+IF($M$7<>\"\",IF(HLOOKUP(TEXT($M$7&1,\"#,##0\")*1,入力用!$B$18:$IL$73,37,FALSE)&HLOOKUP(TEXT($M$7&1,\"#,##0\")*1,入力用!$B$18:$IL$73,38,FALSE)&HLOOKUP(TEXT($M$7&1,\"#,##0\")*1,入力用!$B$18:$IL$73,39,FALSE)&HLOOKUP(TEXT($M$7&1,\"#,##0\")*1,入力用!$B$18:$IL$73,40,FALSE)&HLOOKUP(TEXT($M$7&1,\"#,##0\")*1,入力用!$B$18:$IL$73,41,FALSE)<>\"\",HLOOKUP(TEXT($M$7&1,\"#,##0\")*1,入力用!$B$18:$IL$73,37,FALSE)&HLOOKUP(TEXT($M$7&1,\"#,##0\")*1,入力用!$B$18:$IL$73,38,FALSE)&HLOOKUP(TEXT($M$7&1,\"#,##0\")*1,入力用!$B$18:$IL$73,39,FALSE)&HLOOKUP(TEXT($M$7&1,\"#,##0\")*1,入力用!$B$18:$IL$73,40,FALSE)&HLOOKUP(TEXT($M$7&1,\"#,##0\")*1,入力用!$B$18:$IL$73,41,FALSE),\"\"),\"\")","v":""},null,null,null,null,null,null,null,null,null,null,null,null,null,null,null,null,null,null,null,null,null,null,null,null,null,null,null,null,null,null,null,null,null,null,null,null,null,null,null,null,null,null,null,null,null,null,null,null,null,null,null,null,null,null,null,null,null,null,null,null,null,null,null,null,null,null,null,null,null,null,null,null,null,null,null,null,null,null,null,null,null,null,null,null,null,null,null,null,null,null,{"$f":"+IF($M$7<>\"\",IF((HLOOKUP(TEXT($M$7&1,\"#,##0\")*1,入力用!$B$18:$IL$73,32,FALSE)&HLOOKUP(TEXT($M$7&2,\"#,##0\")*1,入力用!$B$18:$IL$73,32,FALSE)&HLOOKUP(TEXT($M$7&3,\"#,##0\")*1,入力用!$B$18:$IL$73,32,FALSE)&HLOOKUP(TEXT($M$7&4,\"#,##0\")*1,入力用!$B$18:$IL$73,32,FALSE)&HLOOKUP(TEXT($M$7&5,\"#,##0\")*1,入力用!$B$18:$IL$73,32,FALSE)&HLOOKUP(TEXT($M$7&6,\"#,##0\")*1,入力用!$B$18:$IL$73,31,FALSE))<>\"\",(HLOOKUP(TEXT($M$7&1,\"#,##0\")*1,入力用!$B$18:$IL$73,32,FALSE)&HLOOKUP(TEXT($M$7&2,\"#,##0\")*1,入力用!$B$18:$IL$73,32,FALSE)&HLOOKUP(TEXT($M$7&3,\"#,##0\")*1,入力用!$B$18:$IL$73,32,FALSE)&HLOOKUP(TEXT($M$7&4,\"#,##0\")*1,入力用!$B$18:$IL$73,32,FALSE)&HLOOKUP(TEXT($M$7&5,\"#,##0\")*1,入力用!$B$18:$IL$73,32,FALSE)&HLOOKUP(TEXT($M$7&6,\"#,##0\")*1,入力用!$B$18:$IL$73,32,FALSE)),\"\"),\"\")","v":""},null,null,null,null,null,null,null,null,null,null,null,null,null,null,null,null,null,null,null,null,null,null,null,null,null,null,null,null,null,null,null,null,null,null,null,null,null,null,null,null,null,null,null,null,null,null,null,null,null,null,null,null,null,null,null,null,null,null,null,null,null,null,null,null,null,null,null,null,null,null,null,null,null,null,null,null,null,null,null,null,{"$f":"+IF($M$7<>\"\",IF(HLOOKUP(TEXT($M$7&1,\"#,##0\")*1,入力用!$B$18:$IL$73,46,FALSE)<>\"\",HLOOKUP(TEXT($M$7&1,\"#,##0\")*1,入力用!$B$18:$IL$73,46,FALSE),\"\"),\"\")","v":""},null,null,null,null,null,null,null,null,null,null,null,null,null,null,null,null,null,null,null,null,null,"を",null,null,null,null,null,null,{"$f":"+IF($M$7<>\"\",IF(HLOOKUP(TEXT($M$7&1,\"#,##0\")*1,入力用!$B$18:$IL$73,47,FALSE)<>\"\",HLOOKUP(TEXT($M$7&1,\"#,##0\")*1,入力用!$B$18:$IL$73,47,FALSE),\"\"),\"\")","v":""},null,null,null,null,null,null,null,null,null,"  月分",null,null,null,null,null,null,null,null,null,null,null,null,null,null,null,null,null,null,null,null,null,null,"4　休職",4]
[null,null,null,null,null,null,null,null,null,null,null,null,null,null,null,null,null,null,null,null,null,null,null,null,null,null,null,null,null,null,null,null,null,null,null,null,null,null,null,null,null,null,null,null,null,null,null,null,null,null,null,null,null,null,null,null,null,null,null,null,null,null,null,null,null,null,null,null,null,null,null,null,null,null,null,null,null,null,null,null,null,null,null,null,null,null,null,null,null,null,null,null,null,null,null,null,null,null,null,null,null,null,null,null,null,null,null,null,null,null,null,null,null,null,null,null,null,null,null,null,null,null,null,null,null,null,null,null,null,null,null,null,null,null,null,null,null,null,null,null,null,null,null,null,null,null,null,null,null,null,null,null,null,null,null,null,null,null,null,null,null,null,null,null,null,null,null,null,null,null,null,null,null,null,null,null,null,null,null,null,null,null,null,null,null,null,null,null,null,null,null,null,null,null,null,null,null,null,null,null,null,null,null,null,null,null,null,null,null,null,null,null,null,null,null,null,null,null,null,null,null,null,null,null,null,null,null,null,null,null,null,null,null,null,null,null,null,null,null,null,null,null,null,null,null,null,null,null,null,null,null,null,null,null,null,null,null,null,null,null,null,null,null,null,null,null,"5　長欠",5]
[null,null,null,null,null,null,null,null,null,null,null,null,null,null,null,null,null,null,null,null,null,null,null,null,null,null,null,null,null,null,null,null,null,null,null,null,null,null,null,null,null,null,null,null,null,null,null,null,null,null,null,null,null,null,null,null,null,null,null,null,null,null,null,null,null,null,null,null,null,null,null,null,null,null,null,null,null,null,null,null,null,null,null,null,null,null,null,null,null,null,null,null,null,null,null,null,null,null,null,null,null,null,null,null,null,null,null,null,null,null,null,null,null,null,null,null,null,null,null,null,null,null,null,null,null,null,null,null,null,null,null,null,null,null,null,null,null,null,null,null,null,null,null,null,null,null,null,null,null,null,null,null,null,null,null,null,null,"電話",null,null,{"$f":"+IF($M$7<>\"\",IF(HLOOKUP(TEXT($M$7&1,\"#,##0\")*1,入力用!$B$18:$IL$73,44,FALSE)<>\"\",HLOOKUP(TEXT($M$7&1,\"#,##0\")*1,入力用!$B$18:$IL$73,44,FALSE),\"\"),\"\")","v":""},null,null,null,null,null,null,null,null,"-",null,{"$f":"+IF($M$7<>\"\",IF(HLOOKUP(TEXT($M$7&3,\"#,##0\")*1,入力用!$B$18:$IL$73,44,FALSE)<>\"\",HLOOKUP(TEXT($M$7&3,\"#,##0\")*1,入力用!$B$18:$IL$73,44,FALSE),\"\"),\"\")","v":""},null,null,null,null,null,null,null,null,null,"-",null,{"$f":"+IF($M$7<>\"\",IF(HLOOKUP(TEXT($M$7&5,\"#,##0\")*1,入力用!$B$18:$IL$73,44,FALSE)<>\"\",HLOOKUP(TEXT($M$7&5,\"#,##0\")*1,入力用!$B$18:$IL$73,44,FALSE),\"\"),\"\")","v":""},null,null,null,null,null,null,null,null,null,null,null,null,null,null,null,null,null,null,null,null,null,null,null,null,null,null,null,null,null,null,null,null,null,null,null,null,null,null,null,null,null,null,null,null,null,null,null,null,null,null,null,null,null,null,null,null,null,null,null,null,null,null,null,null,null,null,null,null,null,null,null,null,null,null,null,null,null,null,null,null,null,null,"6　支払少額",6]
[null,null,null,null,null,null,null,null,null,null,null,null,null,null,null,null,null,null,null,null,null,null,null,null,null,null,null,null,null,null,null,null,null,null,null,null,null,null,null,null,null,null,null,null,null,null,null,null,null,null,null,null,null,null,null,null,null,null,null,null,null,null,null,null,null,null,null,null,null,null,null,null,null,null,null,null,null,null,null,null,null,null,null,null,null,null,null,null,null,null,null,null,null,null,null,null,null,null,null,null,null,null,null,null,null,null,null,null,null,null,null,null,null,null,null,null,null,null,null,null,null,null,null,null,null,null,null,null,null,null,null,null,null,null,null,null,null,null,null,null,null,null,null,null,null,null,null,null,null,null,null,null,null,null,null,null,null,null,null,null,null,null,null,null,null,null,null,null,null,null,null,null,null,null,null,null,null,null,null,null,null,null,null,null,null,null,null,null,null,null,null,null,null,"（翌月10日納期限）から徴収し、納入するよう連絡済みです。",null,null,null,null,null,null,null,null,null,null,null,null,null,null,null,null,null,null,null,null,null,null,null,null,null,null,null,null,null,null,null,null,null,null,null,null,null,null,null,null,null,null,null,null,null,null,null,null,null,null,null,null,null,null,null,null,null,null,null,null,null,null,null,null,null,null,null,null,null,null,null,null,"7　支払不定期",7]
[null,null,null,null,null,null,null,null,null,null,null,null,null,null,null,null,null,null,null,null,null,null,null,null,null,null,null,null,null,null,null,null,null,null,null,null,null,null,null,null,null,null,null,null,null,null,null,null,null,null,null,null,null,null,null,null,null,null,null,null,null,null,null,null,null,null,null,null,null,null,null,null,null,null,null,null,null,null,null,null,null,null,null,null,null,null,null,null,null,null,null,null,null,null,null,null,null,null,null,null,null,null,null,null,null,null,null,null,null,null,null,null,null,null,null,null,null,null,null,null,null,null,null,null,null,null,null,null,null,null,null,null,null,null,null,null,null,null,null,null,null,null,null,null,null,null,null,null,null,null,null,null,null,null,null,null,null,null,null,null,null,null,null,null,null,null,null,null,null,null,null,null,null,null,null,null,null,null,null,null,null,null,null,null,null,null,null,null,null,null,null,null,null,null,null,null,null,null,null,null,null,null,null,null,null,null,null,null,null,null,null,null,null,null,null,null,null,null,null,null,null,null,null,null,null,null,null,null,null,null,null,null,null,null,null,null,null,null,null,null,null,null,null,null,null,null,null,null,null,null,null,null,null,null,null,null,null,null,null,null,null,null,null,null,null,null,"8　その他",8]
[null,null,null,null,null,null,null,null,null,null,null,null,null,null,null,null,null,null,null,null,null,null,null,null,null,null,null,null,null,null,null,null,null,null,null,null,null,null,null,null,null,null,null,null,null,null,null,null,null,null,null,null,null,null,null,null,null,null,null,null,null,null,null,null,null,null,null,null,null,null,null,null,null,null,null,null,null,null,null,null,null,null,null,null,null,null,null,null,null,null,null,null,null,null,null,null,null,null,null,null,null,null,null,null,null,null,null,null,null,null,null,null,null,null,null,null,null,null,null,null,null,null,null,null,null,null,null,null,null,null,null,null,null,null,null,null,null,null,null,null,null,null,null,null,null,null,null,null,null,null,null,null,null,null,null,null,null,null,null,null,null,null,null,null,null,null,null,null,null,null,null,null,null,null,null,null,null,null,null,null,null,null,null,null,null,null,null,null,null,null,null,null,null,"※新しい勤務先へ月割額をお伝えください。"]
[null,null,null,null,null,null,null,null,null,null,null,null,null,null,null,null,null,null,null,null,null,null,null,null,null,null,null,null,null,"名称",null,null,"フリ\nガナ",null,null,null,null,null,null,null,{"$f":"+IF($M$7<>\"\",IF(HLOOKUP(TEXT($M$7&1,\"#,##0\")*1,入力用!$B$18:$IL$73,33,FALSE)<>\"\",HLOOKUP(TEXT($M$7&1,\"#,##0\")*1,入力用!$B$18:$IL$73,33,FALSE),\"\"),\"\")","v":""},null,null,null,null,null,null,null,null,null,null,null,null,null,null,null,null,null,null,null,null,null,null,null,null,null,null,null,null,null,null,null,null,null,null,null,null,null,null,null,null,null,null,null,null,null,null,null,null,null,null,null,null,null,null,null,null,null,null,null,null,null,null,null,null,null,null,null,null,null,null,null,null,null,null,null,null,null,null,null,null,null,null,"法人\n番号",null,null,null,null,{"$f":"+IF($M$7<>\"\",IF(HLOOKUP(TEXT($M$7&1,\"#,##0\")*1,入力用!$B$18:$IL$73,35,FALSE)<>\"\",MID(HLOOKUP(TEXT($M$7&1,\"#,##0\")*1,入力用!$B$18:$IL$73,35,FALSE),1,1),\"\"),\"\")","v":""},null,null,null,null,{"$f":"+IF($M$7<>\"\",IF(HLOOKUP(TEXT($M$7&1,\"#,##0\")*1,入力用!$B$18:$IL$73,35,FALSE)<>\"\",MID(HLOOKUP(TEXT($M$7&1,\"#,##0\")*1,入力用!$B$18:$IL$73,35,FALSE),2,1),\"\"),\"\")","v":""},null,null,null,null,{"$f":"+IF($M$7<>\"\",IF(HLOOKUP(TEXT($M$7&1,\"#,##0\")*1,入力用!$B$18:$IL$73,35,FALSE)<>\"\",MID(HLOOKUP(TEXT($M$7&1,\"#,##0\")*1,入力用!$B$18:$IL$73,35,FALSE),3,1),\"\"),\"\")","v":""},null,null,null,null,{"$f":"+IF($M$7<>\"\",IF(HLOOKUP(TEXT($M$7&1,\"#,##0\")*1,入力用!$B$18:$IL$73,35,FALSE)<>\"\",MID(HLOOKUP(TEXT($M$7&1,\"#,##0\")*1,入力用!$B$18:$IL$73,35,FALSE),4,1),\"\"),\"\")","v":""},null,null,null,null,{"$f":"+IF($M$7<>\"\",IF(HLOOKUP(TEXT($M$7&1,\"#,##0\")*1,入力用!$B$18:$IL$73,35,FALSE)<>\"\",MID(HLOOKUP(TEXT($M$7&1,\"#,##0\")*1,入力用!$B$18:$IL$73,35,FALSE),5,1),\"\"),\"\")","v":""},null,null,null,null,{"$f":"+IF($M$7<>\"\",IF(HLOOKUP(TEXT($M$7&1,\"#,##0\")*1,入力用!$B$18:$IL$73,35,FALSE)<>\"\",MID(HLOOKUP(TEXT($M$7&1,\"#,##0\")*1,入力用!$B$18:$IL$73,35,FALSE),6,1),\"\"),\"\")","v":""},null,null,null,null,{"$f":"+IF($M$7<>\"\",IF(HLOOKUP(TEXT($M$7&1,\"#,##0\")*1,入力用!$B$18:$IL$73,35,FALSE)<>\"\",MID(HLOOKUP(TEXT($M$7&1,\"#,##0\")*1,入力用!$B$18:$IL$73,35,FALSE),7,1),\"\"),\"\")","v":""},null,null,null,null,{"$f":"+IF($M$7<>\"\",IF(HLOOKUP(TEXT($M$7&1,\"#,##0\")*1,入力用!$B$18:$IL$73,35,FALSE)<>\"\",MID(HLOOKUP(TEXT($M$7&1,\"#,##0\")*1,入力用!$B$18:$IL$73,35,FALSE),8,1),\"\"),\"\")","v":""},null,null,null,null,{"$f":"+IF($M$7<>\"\",IF(HLOOKUP(TEXT($M$7&1,\"#,##0\")*1,入力用!$B$18:$IL$73,35,FALSE)<>\"\",MID(HLOOKUP(TEXT($M$7&1,\"#,##0\")*1,入力用!$B$18:$IL$73,35,FALSE),9,1),\"\"),\"\")","v":""},null,null,null,null,{"$f":"+IF($M$7<>\"\",IF(HLOOKUP(TEXT($M$7&1,\"#,##0\")*1,入力用!$B$18:$IL$73,35,FALSE)<>\"\",MID(HLOOKUP(TEXT($M$7&1,\"#,##0\")*1,入力用!$B$18:$IL$73,35,FALSE),10,1),\"\"),\"\")","v":""},null,null,null,null,{"$f":"+IF($M$7<>\"\",IF(HLOOKUP(TEXT($M$7&1,\"#,##0\")*1,入力用!$B$18:$IL$73,35,FALSE)<>\"\",MID(HLOOKUP(TEXT($M$7&1,\"#,##0\")*1,入力用!$B$18:$IL$73,35,FALSE),11,1),\"\"),\"\")","v":""},null,null,null,null,{"$f":"+IF($M$7<>\"\",IF(HLOOKUP(TEXT($M$7&1,\"#,##0\")*1,入力用!$B$18:$IL$73,35,FALSE)<>\"\",MID(HLOOKUP(TEXT($M$7&1,\"#,##0\")*1,入力用!$B$18:$IL$73,35,FALSE),12,1),\"\"),\"\")","v":""},null,null,null,null,{"$f":"+IF($M$7<>\"\",IF(HLOOKUP(TEXT($M$7&1,\"#,##0\")*1,入力用!$B$18:$IL$73,35,FALSE)<>\"\",MID(HLOOKUP(TEXT($M$7&1,\"#,##0\")*1,入力用!$B$18:$IL$73,35,FALSE),13,1),\"\"),\"\")","v":""},null,null,null,null,null,null,null,null,null,null,null,null,null,null,null,null,null,null,null,null,null,null,null,null,null,null,null,null,null,null,null,null,null,null,null,null,null,null,null,null,null,null,null,null,null,null,null,null,null,null,null,null,null,null,null,null,null,null,null,null,null,null,null,null,null,null,null,null,null,null,null,null,null,null,null,null,null,"納入書の要否反映用"]
[null,null,null,null,null,null,null,null,null,null,null,null,null,null,null,null,null,null,null,null,null,null,null,null,null,null,null,null,null,null,null,null,null,null,null,null,null,null,null,null,null,null,null,null,null,null,null,null,null,null,null,null,null,null,null,null,null,null,null,null,null,null,null,null,null,null,null,null,null,null,null,null,null,null,null,null,null,null,null,null,null,null,null,null,null,null,null,null,null,null,null,null,null,null,null,null,null,null,null,null,null,null,null,null,null,null,null,null,null,null,null,null,null,null,null,null,null,null,null,null,null,null,null,null,null,null,null,null,null,null,null,null,null,null,null,null,null,null,null,null,null,null,null,null,null,null,null,null,null,null,null,null,null,null,null,null,null,null,null,null,null,null,null,null,null,null,null,null,null,null,null,null,null,null,null,null,null,null,null,null,null,null,null,null,null,null,null,null,null,null,null,null,null,"受給者番号",null,null,null,null,null,null,null,null,null,null,null,null,null,null,null,null,null,null,null,{"$f":"+IF($M$7<>\"\",IF(HLOOKUP(TEXT($M$7&1,\"#,##0\")*1,入力用!$B$18:$IL$73,48,FALSE)<>\"\",HLOOKUP(TEXT($M$7&1,\"#,##0\")*1,入力用!$B$18:$IL$73,48,FALSE),\"\"),\"\")","v":""},null,null,null,null,null,null,null,null,null,null,null,null,null,null,null,null,null,null,null,null,null,null,null,null,null,null,null,null,null,null,null,null,null,null,null,null,null,null,null,null,null,null,null,null,null,null,null,null,null,null,null,null,{"$f":"+IF($M$7<>\"\",IF(HLOOKUP(TEXT($M$7&1,\"#,##0\")*1,入力用!$B$18:$IL$73,20,FALSE)<>\"\",HLOOKUP(TEXT($M$7&1,\"#,##0\")*1,入力用!$B$18:$IL$73,49,FALSE),\"\"),\"\")","v":""}]
[null,null,null,null,null,null,null,null,null,null,null,null,null,null,null,null,null,null,null,null,null,null,null,null,null,null,null,null,null,null,null,null,null,null,null,null,null,null,null,null,null,null,null,null,null,null,null,null,null,null,null,null,null,null,null,null,null,null,null,null,null,null,null,null,null,null,null,null,null,null,null,null,null,null,null,null,null,null,null,null,null,null,null,null,null,null,null,null,null,null,null,null,null,null,null,null,null,null,null,null,null,null,null,null,null,null,null,null,null,null,null,null,null,null,null,null,null,null,null,null,null,null,null,null,null,null,null,null,null,null,null,null,null,null,null,null,null,null,null,null,null,null,null,null,null,null,null,null,null,null,null,null,null,null,null,null,null,null,null,null,null,null,null,null,null,null,null,null,null,null,null,null,null,null,null,null,null,null,null,null,null,null,null,null,null,null,null,null,null,null,null,null,null,null,null,null,null,null,null,null,null,null,null,null,null,null,null,null,null,null,null,null,null,null,null,null,null,null,null,null,null,null,null,null,null,null,null,null,null,null,null,null,null,null,null,null,null,null,null,null,null,null,null,null,null,null,null,null,null,null,null,null,null,null,null,null,null,null,null,null,null,null,null,null,null,null,"1　必要",1,null,"１　必要"]
[null,null,null,null,null,null,null,null,null,null,null,null,null,null,null,null,null,null,null,null,null,null,null,null,null,null,null,null,null,null,null,null,{"$f":"+IF($M$7<>\"\",IF(HLOOKUP(TEXT($M$7&1,\"#,##0\")*1,入力用!$B$18:$IL$73,34,FALSE)<>\"\",HLOOKUP(TEXT($M$7&1,\"#,##0\")*1,入力用!$B$18:$IL$73,34,FALSE),\"\"),\"\")","v":""},null,null,null,null,null,null,null,null,null,null,null,null,null,null,null,null,null,null,null,null,null,null,null,null,null,null,null,null,null,null,null,null,null,null,null,null,null,null,null,null,null,null,null,null,null,null,null,null,null,null,null,null,null,null,null,null,null,null,null,null,null,null,null,null,null,null,null,null,null,null,null,null,null,null,null,null,null,null,null,null,null,null,null,null,null,null,null,null,null,null,null,null,null,null,null,null,null,null,null,null,null,null,null,null,null,null,null,null,null,null,null,null,null,null,null,null,null,null,null,null,null,null,null,null,null,null,null,null,null,null,null,null,null,null,null,null,null,null,null,null,null,null,null,null,null,null,null,null,null,null,null,null,null,null,null,null,null,null,null,null,null,null,null,null,null,null,null,null,null,null,null,null,null,null,null,null,null,null,null,null,null,null,null,null,null,null,null,null,null,null,null,null,null,null,null,null,null,null,null,null,null,null,null,null,null,null,null,null,null,null,null,null,null,null,null,null,null,null,null,null,null,null,null,null,null,null,null,null,null,null,null,null,null,"2　不要",2,null,"２　不要"]
[null,null,null,null,null,null,null,null,null,null,null,null,null,null,null,null,null,null,null,null,null,null,null,null,null,null,null,null,null,null,null,null,null,null,null,null,null,null,null,null,null,null,null,null,null,null,null,null,null,null,null,null,null,null,null,null,null,null,null,null,null,null,null,null,null,null,null,null,null,null,null,null,null,null,null,null,null,null,null,null,null,null,null,null,null,null,null,null,null,null,null,null,null,null,null,null,null,null,null,null,null,null,null,null,null,null,null,null,null,null,null,null,null,null,null,null,null,null,null,null,null,null,null,null,null,null,null,null,null,null,null,null,null,null,null,null,null,null,null,null,null,null,null,null,null,null,null,null,null,null,null,null,null,null,null,null,null,null,null,null,null,null,null,null,null,null,null,null,null,null,null,null,null,null,null,null,null,null,null,null,null,null,null,null,null,null,null,null,null,null,null,null,null,"納入書の要否",null,null,null,null,null,null,null,null,null,null,null,null,null,null,null,null,null,null,null,{"$f":"+IF($M$7<>\"\",LEFT(IF(HLOOKUP(TEXT($M$7&1,\"#,##0\")*1,入力用!$B$18:$IL$73,49,FALSE)<>\"\",HLOOKUP(TEXT($M$7&1,\"#,##0\")*1,入力用!$B$18:$IL$73,49,FALSE),\"\"),1),\"\")","v":""},null,null,null,null,null,null,null,"番号を記入\n←",null,null,null,null,null,null,null,null,null,null," 1⃣　必要　2⃣　不要"]
[null,null,null,null,null,null,null,null,null,null,null,null,null,null,null,null,null,null,null,null,null,null,null,null,null,null,null,null,null,null,null,null,null,null,null,null,null,null,null,null,null,null,null,null,null,null,null,null,null,null,null,null,null,null,null,null,null,null,null,null,null,null,null,null,null,null,null,null,null,null,null,null,null,null,null,null,null,null,null,null,null,null,null,null,null,null,null,null,null,null,null,null,null,null,null,null,null,null,null,null,null,null,null,null,null,null,null,null,null,null,null,null,null,null,null,null,null,null,null,null,null,null,null,null,null,null,null,null,"※新しい勤務先が法人の場合は、ご確認の上記入してください。",null,null,null,null,null,null,null,null,null,null,null,null,null,null,null,null,null,null,null,null,null,null,null,null,null,null,null,null,null,null,null,null,null,null,null,null,null,null,null,null,null,null,null,null,null,null,null,null,null,null,null,null,null,null,null,null,null,null,null,null,null,null,null,null,null,null,null,null,null,null,null,null,null,null,null,null,null,null,null,null,null,null,null,null,null,null,null,null,null,null,null,null,null,null,null,null,null,null,null,null,null,null,null,null,null,null,null,null,null,null,null,null,null,null,null,null,null,null,null,null,null,null,null,null,null,null,null,null,null,null,null,null,null,null,null,null,null,"一括徴収の場合の徴収予定付月反映用"]
[null,null,null,null,null,null,null,null,null,null,null,null,null,null,null,null,null,null,null,null,null,null,null,null,null,null,null,null,null,null,null,null,null,null,null,null,null,null,null,null,null,null,null,null,null,null,null,null,null,null,null,null,null,null,null,null,null,null,null,null,null,null,null,null,null,null,null,null,null,null,null,null,null,null,null,null,null,null,null,null,null,null,null,null,null,null,null,null,null,null,null,null,null,null,null,null,null,null,null,null,null,null,null,null,null,null,null,null,null,null,null,null,null,null,null,null,null,null,null,null,null,null,null,null,null,null,null,null,null,null,null,null,null,null,null,null,null,null,null,null,null,null,null,null,null,null,null,null,null,null,null,null,null,null,null,null,null,null,null,null,null,null,null,null,null,null,null,null,null,null,null,null,null,null,null,null,null,null,null,null,null,null,null,null,null,null,null,null,null,null,null,null,null,"（新規の場合のみ記載）",null,null,null,null,null,null,null,null,null,null,null,null,null,null,null,null,null,null,null,null,null,null,null,null,null,null,null,null,null,null,null,null,null,null,null,null,null,null,null,null,null,null,null,null,null,null,null,null,null,null,null,null,null,null,null,null,null,null,null,null,null,null,null,null,null,null,null,null,null,null,null,null,{"$f":"+IF($M$7<>\"\",IF(HLOOKUP(TEXT($M$7&1,\"#,##0\")*1,入力用!$B$18:$IL$73,31,FALSE)<>\"\",HLOOKUP(TEXT($M$7&1,\"#,##0\")*1,入力用!$B$18:$IL$73,31,FALSE),\"\"),\"\")","v":""}]
[]
[null,null,null,null,null,null,null,null,null,null,null,null,null,null,null,null,null,null,null,null," 2⃣ 一括徴収の場合（未徴収税額を一括徴収する場合に記入してください。）"]
[]
[]
[null,null,null,null,null,null,null,null,null,null,null,null,null,null,null,null,null,null,null,null,"番号を記入",null,null,null,null,null,null,null,null,null,null,null,null,"\n1.異動年月日が12月31日以前でかつ本人からの申出があったため。\n\n2.異動年月日が1月1日以降でかつ特別徴収の継続の希望がないため。\n",null,null,null,null,null,null,null,null,null,null,null,null,null,null,null,null,null,null,null,null,null,null,null,null,null,null,null,null,null,null,null,null,null,null,null,null,null,null,null,null,null,null,null,null,null,null,null,null,null,null,null,null,null,null,null,null,null,null,null,null,null,null,null,null,null,null,null,null,null,null,null,null,null,null,null,null,null,"徴収予定額((ウ)と同額)を右欄に記入",null,null,null,null,null,null,null,null,null,null,null,null,null,null,null,"円"]
[null,null,null,null,null,null,null,null,null,null,null,null,null,null,null,null,null,null,null,null,null,null,null,null,null,null,null,null,null,null,null,null,null,null,null,null,null,null,null,null,null,null,null,null,null,null,null,null,null,null,null,null,null,null,null,null,null,null,null,null,null,null,null,null,null,null,null,null,null,null,null,null,null,null,null,null,null,null,null,null,null,null,null,null,null,null,null,null,null,null,null,null,null,null,null,null,null,null,null,null,null,null,null,null,null,null,null,null,null,null,null,null,null,null,null,null,null,null,null,null,null,null,null,null,null,null,null,null,null,null,null,null,null,null,null,null,null,null,null,null,null,null,null,null,null,null,null,null,null,null,null,null,null,null,null,null,null,null,null," 左記の一括徴収した税額は、",null,null,null,null,null,null,null,null,null,null,null,null,null,null,null,null,null,null,null,null,null,null,null,null,null,null,null,null,null,null,null,null,null,null,null,null,null,null,null,null,null,"月分（翌月10日納期限）で納入します。"]
[null,null,null,null,null,null,null,null,null,null,null,null,null,null,null,null,null,null,null,null,null,null,null,null,null,null,null,null,null,null,null,null,null,null,null,null,null,null,null,null,null,null,null,null,null,null,null,null,null,null,null,null,null,null,null,null,null,null,null,null,null,null,null,null,null,null,null,null,null,null,null,null,null,null,null,null,null,null,null,null,null,null,null,null,null,null,null,null,null,null,null,null,null,null,null,null,null,null,null,null,null,null,null,null,null,null,null,null,null,null,null,null,null,null,null,null,null,null,null,null,null,null,null,null,null,null,null,{"$f":"+IF($M$7<>\"\",IF(HLOOKUP(TEXT($M$7&1,\"#,##0\")*1,入力用!$B$18:$IL$73,30,FALSE)<>\"\",HLOOKUP(TEXT($M$7&1,\"#,##0\")*1,入力用!$B$18:$IL$73,30,FALSE),\"\"),\"\")","v":""},null,null,null,null,null,null,null,null,null,null,null,null,null,null,null,null,null,null,null,null,null,null,null,null,null,null,null,null,null,null,null,null,null,null,null,null,null,null,null,null,null,null,null,null,null,null,null,null,null,null,null,null,null,null,null,null,null,null,null,null,null,null,{"$f":"IF($JG$81<>\"\",IF($FV$49<>\"\",RIGHT($JG$81,LEN($JG$81)-4),RIGHT($JG$81,LEN($JG$81)-3)),\"\")","v":""}]
[null,null,null,null,null,null,null,null,null,null,null,null,null,null,null,null,null,null,null,null,"　　1　異動年月日が12月31日以前でかつ本人からの申出があったため。\n　　2　異動年月日が1月1日以降でかつ特別徴収の継続の希望がないため。",null,null,{"$f":"+IF($M$7<>\"\",LEFT(IF(AND($JG$52<>\"\",OR($JG$52=$JG$53,$JG$52=$JG$54)),VLOOKUP($JG$52,$JG$53:$JJ$56,4,FALSE),\"\"),1),\"\")","v":""},null,null,null,null,"←"]
[]
[]
[]
[]
[]
[null,null,null,null,null,null,null,null,null,null,null,null,null,null,null,null,null,null,null,null," 3⃣ 普通徴収の（一括徴収しない）場合 ( 1⃣  及び2⃣　に当てはまらない場合に記入してください.)"]
[null,null,null,null,null,null,null,null,null,null,null,null,null,null,null,null,null,null,null,null,null,null,null,null,null,null,null,null,null,null,null,null,null,null,null,null,null,null,null,null,null,null,null,null,null,null,null,null,null,null,null,null,null,null,null,null,null,null,null,null,null,null,null,null,null,null,null,null,null,null,null,null,null,null,null,null,null,null,null,null,null,null,null,null,null,null,null,null,null,null,null,null,null,null,null,null,null,null,null,null,null,null,null,null,null,null,null,null,null,null,null,null,null,null,null,null,null,null,null,null,null,null,null,null,null,null,null,null,null,null,null,null,null,null,null,null,null,null,null,null,null,null,null,null,null,null,null,null,null,null,null,null,null,"旧特別徴収処理欄",null,null,null,null,{"$f":"IF(HI19<>\"\",HI19&HI23,\"　年度\")","v":"　年度"},null,null,null,null,null,null,null,null,null,null,null,null,null,null,null,null,null,null,"月分以降の\n月割額は",null,null,null,null,null,null,null,null,null,"　　1　特別徴収義務者を変更\n　　2　普通徴収切替\n　　3　一括徴収\n　　4　その他",null,null,null,null,null,"　　1　特別徴収義務者を変更\n　　2　普通徴収切替\n　　3　一括徴収\n　　4　その他",null,null,null,null,null,null,null,null,null,null,null,null,null,null,null,null,null,null,null,null,null,null,null,null,null,null,null,null,null,null,null,null,null,"入力者",null,null,null,null,null,null,null,null,null,null,null,null,null,null,null,null,null,"点検"]
[]
[null,null,null,null,null,null,null,null,null,null,null,null,null,null,null,null,null,null,null,null,"  番号を記入",null,null,null,null,null,null,null,null,null,null,null,null,null,"異動年月日が1月1日～4月30日の場合は、原則、一括徴収してください。"]
[]
[null,null,null,null,null,null,null,null,null,null,null,null,null,null,null,null,null,null,null,null,null,null,null,{"$f":"IF($M$7<>\"\",LEFT(IF(AND($JG$52<>\"\",AND($JG$52<>$JG$53,$JG$52<>$JG$54)),VLOOKUP($JG$52,$JG$55:$JJ$56,4,FALSE),\"\"),1),\"\")","v":""},null,null,null,null,"←",null,null,null,null,null,"1.異動年月日が6月1日～12月31日でかつ本人からの申出がないため。\n2.異動年月日が1月1日～4月30日でかつ給与及び退職手当等から未徴収税額(ウ)を一括徴収できないため。\n3.死亡による退職のため。"]
[null,null,null,null,null,null,null,null,null,null,null,null,null,null,null,null,null,null,null,null,"　　1　異動年月日が12月31日以前でかつ本人からの申出があったため。\n　　2　異動年月日が1月1日以降でかつ特別徴収の継続の希望がないため。"]
[null,null,null,null,null,null,null,null,null,null,null,null,null,null,null,null,null,null,null,null,null,null,null,null,null,null,null,null,null,null,null,null,null,null,null,null,null,null,null,null,null,null,null,null,null,null,null,null,null,null,null,null,null,null,null,null,null,null,null,null,null,null,null,null,null,null,null,null,null,null,null,null,null,null,null,null,null,null,null,null,null,null,null,null,null,null,null,null,null,null,null,null,null,null,null,null,null,null,null,null,null,null,null,null,null,null,null,null,null,null,null,null,null,null,null,null,null,null,null,null,null,null,null,null,null,null,null,null,null,null,null,null,null,null,null,null,null,null,null,null,null,null,null,null,null,null,null,null,null,null,null,null,null,null,null,null,null,null,{"$f":"IF(HI29<>\"\",HI29&HI33,\"　年度\")","v":"　年度"},null,null,null,null,null,null,null,null,null,null,null,null,null,null,null,null,null,null,"月分以降の月割額は",null,null,null,null,null,null,null,null,null,"　　1　特別徴収義務者を変更\n　　2　普通徴収切替\n　　3　一括徴収\n　　4　その他",null,null,null,null,null,"　　1　特別徴収義務者を変更\n　　2　普通徴収切替\n　　3　一括徴収\n　　4　その他",null,null,null,null,null,null,null,null,null,null,null,null,null,null,null,null,null,null,null,null,null,null,null,null,null,null,null,null,null,null,null,null,null,"入力者",null,null,null,null,null,null,null,null,null,null,null,null,null,null,null,null,null,"点検"]
[]
[]
[]
[null,null,null,null,null,null,null,null,null,null,null,null,null,null,null,null,null,null,null,null,"市町村処理欄"]
[]
[]
[null,null,null,null,null,null,null,null,null,null,null,null,null,null,null,null,null,null,null,null,"A",null,null,null,null,null,null,null,null,null,null,null,null,null,null,null,null,null,null,null,null,null,null,null,null,null,null,null,null,null,null,null,null,null,null,null,null,null,null,"B",null,null,null,null,null,null,null,null,null,null,null,null,null,null,null,null,null,null,null,null,null,null,null,null,null,null,null,null,null,null,null,null,null,null,null,null,null,null,"C",null,null,null,null,null,null,null,null,null,null,null,null,null,null,null,null,null,null,null,null,null,null,null,null,null,null,null,null,null,null,null,null,null,null,null,null,null,null,"D",null,null,null,null,null,null,null,null,null,null,null,null,null,null,null,null,null,null,null,null,null,null,null,null,null,null,null,null,null,null,null,null,null,null,null,null,null,null,"E",null,null,null,null,null,null,null,null,null,null,null,null,null,null,null,null,null,null,null,null,null,null,null,null,null,null,null,null,null,null,null,null,null,null,null,null,null,null,"F"]
[]
[]
[]
[null,null,null,null,null,null,null,null,null,null,null,null,null,null,null,null,null,null,null,null,"G",null,null,null,null,null,null,null,null,null,null,null,null,null,null,null,null,null,null,null,null,null,null,null,null,null,null,null,null,null,null,null,null,null,null,null,null,null,null,"H",null,null,null,null,null,null,null,null,null,null,null,null,null,null,null,null,null,null,null,null,null,null,null,null,null,null,null,null,null,null,null,null,null,null,null,null,null,null,"I",null,null,null,null,null,null,null,null,null,null,null,null,null,null,null,null,null,null,null,null,null,null,null,null,null,null,null,null,null,null,null,null,null,null,null,null,null,null,"J",null,null,null,null,null,null,null,null,null,null,null,null,null,null,null,null,null,null,null,null,null,null,null,null,null,null,null,null,null,null,null,null,null,null,null,null,null,null,"K",null,null,null,null,null,null,null,null,null,null,null,null,null,null,null,null,null,null,null,null,null,null,null,null,null,null,null,null,null,null,null,null,null,null,null,null,null,null,"L"]